{"text_format":"1","workbook":"xlsx","n_sheets":9,"sheets":["Simulador Valora","Tabla Valora","Exclusivo Bco Carta Bienvenida","Oferta Vinculante","Carat_Pre_VA","Simulador Pagos Oportunos","Tabla Pagos Oportunos","Carat_Pre_PO","RECAS"],"not_rendered":{"charts":0,"images":7,"macros":1,"external_links":0,"defined_names":11,"comments":3,"pivot_tables":0},"unopened":[],"bounds":{"document_bytes":16777216,"sheet_cells":100000,"rows_first":2000,"rows_last":500,"rows_between":2000,"halvings":0,"cell_chars":16384,"cell_head_chars":4096},"cells_cut":0,"cells_raw":0,"read":"whole","date_system":"1900"}

{"sheet":"Simulador Valora","index":0,"n_rows":92,"n_cols":76,"rows_kept":92,"cut":false,"hidden":false,"merged":[[74,73,75,74],[4,2,4,15],[9,2,9,4],[9,9,9,12],[38,4,38,15],[62,4,62,5],[62,10,62,11],[62,14,62,15],[42,4,42,5],[42,9,42,10],[42,12,42,13],[42,14,42,15],[2,2,2,15],[3,2,3,15],[35,2,35,15],[36,2,36,15],[12,2,12,4],[15,2,15,4],[12,9,12,12],[15,9,15,12]]}
[null,null,null,null,null,null,null,null,null,null,null,null,null,null,null,null,null,null,".",null,null,null,null,null,null,null,null,null,null,null,null,null,null,null,null,null,null,null,null,null,null,null,null,null,null,null,null,null,null,null,null,null,null,null,null,null,null,null,null,null,null,null,null,null,null,null,null,null,null,null,null,null,null,null,null,"."]
[]
[null,null,"SIMULADOR CREDITO HIPOTECARIO",null,null,null,null,null,null,null,null,null,null,null,null,null,null,null,null,null,null,null,null,{"$f":"IF(AN76=1,0,5)","v":0}]
[null,null,"FINANCIAMIENTO PARA ADQUISICION EN PREVENTA SCOTIABANK"]
[null,null,"VALORA"]
[]
[null,null,{"$f":"TODAY()","v":"2025-04-10"}]
[]
[null,null,"Lugar",null,null,null,"Sucursal",null,null,"Sucursal"]
[null,null,null,null,null,null,"Princiapl"]
[]
[null,null,"Nombre del cliente / Conyuge en su caso.",null,null,null,null,null,null,"Ejecutivo que le atendió"]
[null,null,null,null,null,null,null,null,null,null,null,null,null,null,null,null,null,null,null,null,null,null,null,null,null,null,null,null,null,null,null,null,null,null,null,null,null,null,null,null,null,null,null,null,null,null,null,"."]
[]
[null,null,"Telefonos del cliente",null,null,null,null,null,null,"Teléfonos del ejecutivo"]
[]
[]
[null,null,"Paso 1",null,null,null,null,null,null,{"$f":"IF(AN76=1,\"Paso 4\",\"\")","v":"Paso 4"},null,null,null,null,{"$f":"IF(AN76=1,\"Paso 7\",\"Paso 6\")","v":"Paso 7"}]
[null,null,"Escoja su base de cálculo",null,null,null,null,null,null,{"$f":"IF(AN76=1,\"Escoja la opción de su interés:\",\"\")","v":"Escoja la opción de su interés:"},null,null,null,null,"Con Apoyo Infonavit:"]
[null,null,"Campaña"]
[null,null,"Paso 2"]
[null,null,"Escriba los datos solicitados:",null,null,null,null,null,null,{"$f":"IF(AN76=1,\"Comisión Manual por Apertura\",\"\")","v":"Comisión Manual por Apertura"},null,null,null,null,{"$f":"IF(AND(AD46=1,AH45=2),\"Paso 8\",\"\")","v":"Paso 8"}]
[null,null,null,null,{"$f":"IF(AD46=1,\"Valor proyectado del inmueble\",\"Ingresos brutos mensuales\")","v":"Valor proyectado del inmueble"},{"$f":"IF($AD$46=1,\"(valor final)\",IF($C$23=\"\",\"\",IF($C$23<$Y$72,\"menores al mínimo\",\"\")))","v":"(valor final)"},null,null,null,null,null,null,null,null,{"$f":"IF(AND(AD46=1,AH45=2),\"Teclee su sueldo bruto:\",\"\")","v":"Teclee su sueldo bruto:"}]
[null,null,null,null,{"$f":"IF(AD46=1,\"Enganche\",\"\")","v":"Enganche"},null,null,null,null,{"$f":"IF(AN76=1,\"Paso 5\",\"Paso 4\")","v":"Paso 5"}]
[null,null,{"$f":"IFERROR(IF(AND($AD$46=1,$C$24/$C$23<1-(IF(X41=1,$AQ$72,IF(X41=2,$AL$72,$AG$72)))),\"Se requiere un enganche mínimo del \"&IF(X41=1,1-$AQ$72,IF(X41=2,1-$AL$72,1-$AG$72))*100&\"%\",\" \"),\"\")","v":""},null,null,null,null,null,null,"Escoja el plazo y la tasa aplicable:"]
[null,null,"Paso 3",null,null,null,null,null,null,"Plazo 10 años                Plazo 15 años            Plazo 20 años"]
[null,null,"El cliente opta por seguros externos"]
[null,null,{"$f":"IF(AND(AD46=1,C23=0,C24=0),\"\",IF(AND(AD46=1,C24>=C23),\"El enganche es más alto o igual que el valor del inmueble\",\"\"))","v":""},null,null,null,null,null,null,{"$f":"IF(AN76=1,\"Paso 6\",\"Paso 5\")","v":"Paso 6"}]
[null,null,{"$f":"IF(C23=\"\",\"\",\"Línea máxima a otorgar puede ser menor por perfil del cliente\")","v":""},null,null,null,null,null,null,"Actividad Económica"]
[null,null,{"$f":"IF(AND(AD46=2,C23<$Y$72,C23>0),\"Los ingresos mínimos requeridos son $\"&TEXT($Y$72,\"#,##0\"),\"\")","v":""}]
[null,null,{"$f":"IF(OR(C23=0,C24=0),\"\",IF($AD$46=1,IF(($C$23-$C$24)>$C$23*IF(AC85=1,$AT$67,$AU$67),\"Para el monto solicitado el porcentaje máximo de financiamiento es del \"&TEXT(IF(X41=1,$AQ$72,IF(X41=2,$AL$72,$AG$72)),\"#,##0%\"),\"\"),\"\"))","v":""}]
[]
[null,null,null,null,"Valor Destructible del Inmueble (si conoce el dato)",null,null,null,null,{"$f":"IF(AND(AD46=2,C23>0,T36=1),\"Revisar los valores mínimos de vivienda para cada plaza\",IF(AND(C23=0,C24=0),\"\",IF(AND(AD46=1,C23<500000),\"Revisar los valores mínimos de vivienda para cada plaza\",\"\")))","v":""}]
[null,null,null,null,null,null,null,null,null,null,null,null,null,null,null,null,null,null,null,null,null,null,null,null,null,null,null,"maximo monto",{"$f":"MAX(F49:P49)","v":0}]
[null,null,null,null,null,null,null,null,null,null,null,null,null,null,null,null,null,null,null,null,null,null,null,null,null,null,null,"LTV",{"$f":"IFERROR(O49/O47,0)","v":0},{"$f":"IFERROR(K49/K47,0)","v":0},{"$f":"IFERROR(E49/E47,0)","v":0}]
[null,null,"SIMULADOR CREDITO HIPOTECARIO",null,null,null,null,null,null,null,null,null,null,null,null,null,null,null,null,{"$f":"IF(OR(O47<500000,K47<500000,E47<500000),1,0)","v":1}]
[null,null,"FINANCIAMIENTO PARA ADQUISICION EN PREVENTA SCOTIABANK"]
[null,null,null,null,null,null,null,null,null,null,null,null,null,null,null,null,null,null,null,{"$f":"IF(OR(O49<250000,E49<250000,K49<250000),1,0)","v":1}]
[null,null,null,null,"VALORA",null,null,null,null,null,null,null,null,null,null,null,null,null,null,null,null,null,null,null,null,null,null,null,"Calculo de credito construcción"]
[null,null,null,null,null,null,null,null,null,null,null,null,null,null,null,null,null,null,null,null,null,null,null,null,null,{"$f":"450+750","v":1200},null,null,{"$f":"(C23+C24)*0.5","v":0},null,{"$f":"IF(AND(AD46=1,C23>0,C24>0),C23-AC43,\"\")","v":""},null,"capital invertido"]
[null,null,"Plazo",null,"10 AÑOS",null,"20 AÑOS",null,null,null,"15 AÑOS",null,null,null,"20 AÑOS",null,null,null,null,null,"Esquemas","Plazo",null,1,null,null,null,null,{"$f":"C23*0.75","v":0}]
[null,null,null,null,null,null,null,null,null,null,null,null,null,null,null,null,null,null,null,null,null,"Tasa Fija Pago Red 15",null,null,null,null,null,null,{"$f":"IF(AC40<AC41,AC40,AC41)","v":0},null,{"$f":"IFERROR(IF((C25+C24)<((C23+C24)*0.5),\"Se necesita mayor capital invertido\",\"\"),0)","v":0},null,null,1]
[null,null,"Tasa de Interés",null,{"$f":"IF($AN$76=1,BD76,IF($AN$76=3,BJ76,IF($AN$76=4,BP76,\"Error\")))","v":"Mínima 12.00% y \nMáxima 14.00%"},null,null,null,null,{"$f":"IF($AN$76=1,BD76,IF($AN$76=3,BJ76,IF($AN$76=4,BP76,\"Error\")))","v":"Mínima 12.00% y \nMáxima 14.00%"},null,null,null,null,{"$f":"IF($AN$76=1,BD76,IF($AN$76=3,BJ76,IF($AN$76=4,BP76,\"Error\")))","v":"Mínima 12.00% y \nMáxima 14.00%"},null,null,null,null,null,{"$f":"IFERROR(O49/O47,0)","v":0},"Pagos reducidos 20 años",null,null,null,null,null,null,{"$f":"IFERROR(IF(C25+AC42<=C23,AC42,IF(C25>C23,0,IF(AC42+C25>C23,C23-C25,\"\"))),0)","v":0},1,null,null,null,null,null,null,null,null,"C/apoyo","S/apoyo","Independiente"]
[null,null,"% máximo de financiamiento",null,{"$f":"TEXT($AQ$72,\"#,##0%\")&IF($AC$85=2,\"\",IF($AH$45=1,\" sin apoyo\",\" con apoyo\"))","v":"95% con apoyo"},null,0.8,null,null,null,{"$f":"TEXT($AL$72,\"#,##0%\")&IF($AC$85=2,\"\",IF($AH$45=1,\" sin apoyo\",\" con apoyo\"))","v":"95% con apoyo"},null,null,null,{"$f":"TEXT($AG$72,\"#,##0%\")&IF($AC$85=2,\"\",IF($AH$45=1,\" sin apoyo\",\" con apoyo\"))","v":"95% con apoyo"},null,null,null,null,null,null,"Pago 9.9",null,null,"Cambio de etiqueta",{"$f":"IF(AD46=1,\"Valor del inmueble\",\"Ingresos Brutos Mensuales\")","v":"Valor del inmueble"},{"$f":"IF($C$24>0,$C$23-$C$24,$C$23-$C$23*$Y$46)","v":0},null,null,null,null,null,"Apoyo Infonavit",null,null,null,null,1,0.95,0.95,0.9]
[null,null,null,null,null,null,null,null,null,null,null,null,null,null,null,null,null,null,null,null,null,"Tasa 1234",null,null,null,null,null,null,null,null,null,0.05,"NO",2,{"$f":"IF(AC85=1,IF(AH45=1,IF(AG66=1,AN44,IF(AG66=2,AN45,IF(AG66=3,AN46,IF(AG66=4,AN47,IF(AG66=5,AN48,\"NA\"))))),IF(AG66=1,AM44,IF(AG66=2,AM45,IF(AG66=3,AM46,IF(AG66=4,AM47,IF(AG66=5,AM48,\"NA\")))))),IF(AG66=1,AO44,IF(AG66=2,AO45,IF(AG66=3,AO46,IF(AG66=4,AO47,IF(AG66=5,AO48,\"NA\"))))))","v":0.95},null,null,2,0.95,0.95,0.9]
[null,null,null,null,null,null,null,null,null,null,null,null,null,null,null,null,null,null,null,null,"Adquisición",1,null,"% de enganche",{"$f":"IF(IF(C23=0,0,IF(C24>0,C24,IF(C24/C23>1,0,C24/C23)))>0,IF(C23=0,0,IF(C24>0,C24,IF(C24/C23>1,0,C24/C23))),IF($AH$45=1,$AF$45,$AF$46))","v":0.05},{"$f":"IF(V46=2,\" \",\"Monto a Financiar\")","v":"Monto a Financiar"},null,"Pago por mil","Por Valor del Inmueble",1,1,0.05,"SI",null,{"$f":"IF(AC85=1,IF(AH45=1,IF(AG66=1,AN44,IF(AG66=2,AN45,IF(AG66=3,AN46,IF(AG66=4,AN47,IF(AG66=5,AN48,\"NA\"))))),IF(AG66=1,AM44,IF(AG66=2,AM45,IF(AG66=3,AM46,IF(AG66=4,AM47,IF(AG66=5,AM48,\"NA\")))))),IF(AG66=2,AO44,IF(AG66=1,AO45,IF(AG66=3,AO46,IF(AG66=4,AO47,IF(AG66=5,AO48,\"NA\"))))))","v":0.95},1,null,3,0.95,0.9,0.85]
[null,null,"Valor de la vivienda",null,{"$f":"IF($AD$46=1,$C$23,E49/$AQ$72)","v":0},null,{"$f":"IF($AD$46=1,$C$23,G49/0.75)","v":0},null,null,null,{"$f":"IF($AD$46=1,$C$23,K49/$AL$72)","v":0},null,null,null,{"$f":"IF($AD$46=1,$C$23,O49/$AG$72)","v":0},null,null,null,null,null,"Pasivo Hipotecario",null,"Cambio de pasivo o adquisi",null,{"$f":"IF(AND(V46=1,AD46=1),\"Enganche\",IF(AND(V46=2,AD46=1),\"Saldo actual\",\"\"))","v":"Enganche"},{"$f":"IF($X$41=1,O49,IF($X$41=2,K49,IF($X$41=3,E49,E49)))","v":0},null,{"$f":"IF($X$41=1,AG68,IF($X$41=2,AL68,IF($X$41=3,AQ68,0)))","v":10.36},"Por Ingresos",null,null,null,null,null,null,null,null,4,0.85,0.85,0.75]
[null,null,null,null,null,null,null,null,null,null,null,null,null,null,null,null,null,null,null,null,null,null,null,null,null,null,null,null,null,null,null,null,"Ingresos",{"$f":"IFERROR(IF(AND(AH45=2,AD46=1),O24,C23),0)","v":0},null,null,null,"R",0.85,0.85,0.75]
[null,null,"Monto del crédito",null,{"$f":"AB62","v":0},null,{"$f":"Y62","v":0},null,null,null,{"$f":"AD62","v":0},null,null,null,{"$f":"AE62","v":0},null,null,null,null,null,null,null,"Pag Red 10.90",null,"Pag Red 10.90",null,"Pagos oportunos","Pagos oportunos",null,"Pagos oportunos","Pagos oportunos","Pagos oportunos"]
[null,null,null,null,null,null,null,null,null,null,null,null,null,null,null,null,null,null,null,"Plazo",null,null,15,null,20,null,7,10,null,15,20,30]
[null,null,"Erogación inicial",null,{"$f":"IF($AD$46=1,E49/1000*$AQ$68,$C$23*$AQ$73)","v":0},null,{"$f":"IF($AD$46=1,G49/1000*Y52,$C$23/3.33)","v":0},null,null,null,{"$f":"IF($AD$46=1,K49/1000*AL68,$C$23*$AL$73)","v":0},null,null,null,{"$f":"IF($AD$46=1,O49/1000*AG68,$C$23*$AG$73)","v":0}]
[null,null,null,null,null,null,null,null,null,null,null,null,null,null,null,null,null,null,null,"Pago x mil",null,null,{"$f":"AG68","v":10.36},null,9.76,null,17.22,13.87,null,11.47,10.44,null,null,null,{"$f":"IF(X41=1,O51,IF(X41=2,K51,E51))","v":0}]
[null,null,"Seguro de vida",null,{"$f":"E49*IF($AC$81=1,0,$Y$75)","v":0},null,{"$f":"+G49*0.0005","v":0},null,null,null,{"$f":"K49*IF($AC$81=1,0,$Y$75)","v":0},null,null,null,{"$f":"O49*IF($AC$81=1,0,$Y$75)","v":0}]
[null,null,null,null,null,null,null,null,null,null,null,null,null,null,null,null,null,null,null,"Incremento anual ",null,null,null,null,null,null,0,0,null,0,0,0,null,null,{"$f":"IF(X41=1,O59,IF(X41=2,K59,E59))","v":0.02}]
[null,null,"Seguro de daños",null,{"$f":"IF($C$33>0,$C$33,E47)*IF($AC$81=1,0,$Y$76)","v":0},null,{"$f":"G47*0.0003016","v":0},null,null,null,{"$f":"IF($C$33>0,$C$33,K47)*IF($AC$81=1,0,$Y$76)","v":0},null,null,null,{"$f":"IF($C$33>0,$C$33,O47)*IF($AC$81=1,0,$Y$76)","v":0},null,null,null,null,"Tasa de int.",null,null,null,null,null,null,0.11,0.11,null,0.11,0.11,0]
[null,null,null,null,null,null,null,null,null,null,null,null,null,null,null,null,null,null,null,null,null,null,"VAL 20 AÑOS",null,null,null,"VAL 7 AÑOS","VAL 10 AÑOS",null,"VAL 15 AÑOS","VAL 20 AÑOS"]
[null,null,"Total mensualidad inicial",null,{"$f":"E55+E53+E51","v":0},null,{"$f":"G55+G53+G51","v":0},null,null,null,{"$f":"K55+K53+K51","v":0},null,null,null,{"$f":"O55+O53+O51","v":0},null,null,null,null,"Monto a financiar adquisición",null,null,{"$f":"IF(AND($AH$45=1,$AD$46=1,$Y$46>=0.1),IF($C$24>0,$C$23-$C$24,$C$23-$C$23*$Y$46),IF(AND($AH$45=2,$AD$46=1,$Y$46>=0.05),IF($C$24>0,$C$23-$C$24,$C$23-$C$23*$Y$46),IF($AD$46=2,$O$51/W52*1000,0)))","v":0},null,{"$f":"IF(AND($AD$46=1,$Y$46>=0.2),$C$23-$C$24,IF($AD$46=2,G51/Y52*1000,0))","v":0},null,{"$f":"IF(AND($AH$45=1,$AD$46=1,$Y$46>=$AF$45),IF($C$24>0,$C$23-$C$24,$C$23-$C$23*$Y$46),IF(AND($AH$45=2,$AD$46=1,$Y$46>=$AF$46),IF($C$24>0,$C$23-$C$24,$C$23-$C$23*$Y$46),IF($AD$46=2,$E$51/AA52*1000,0)))","v":0},{"$f":"IF($AD$46=1,IF($C$24>0,$C$23-$C$24,$C$23-$C$23*(1-$AQ$72)),$E$51/$AQ$68*1000)","v":0},null,{"$f":"IF($AD$46=1,IF($C$24>0,$C$23-$C$24,$C$23-$C$23*(1-$AL$72)),$K$51/$AL$68*1000)","v":0},{"$f":"IF($AD$46=1,IF($C$24>0,$C$23-$C$24,$C$23-$C$23*(1-$AG$72)),$K$51/$AG$68*1000)","v":0},{"$f":"IF(AND($AD$46=1,$Y$46>=0.2),$C$23-$C$24,IF($AD$46=2,#REF!/AF52*1000,0))","v":0}]
[null,null,null,null,null,null,null,null,null,null,null,null,null,null,null,null,null,null,null,"Monto a financiar adquisición",null,null,{"$f":"IF(W57>4000000,4000000,W57)","v":0},null,{"$f":"IF(Y57>4000000,4000000,Y57)","v":0},null,{"$f":"IF(AA57>4000000,4000000,AA57)","v":0},{"$f":"IF(AB57>4000000,4000000,AB57)","v":0},null,{"$f":"IF(AD57>4000000,4000000,AD57)","v":0},{"$f":"IF(AE57>4000000,4000000,AE57)","v":0},{"$f":"IF(AF57>4000000,4000000,AF57)","v":0},null,null,null,null,null,null,null,null,null,null,null,null,null,null,"Rango",{"$f":"VLOOKUP($X$41,$AU$59:$AX$61,2,0)","v":136571.4558857143},{"$f":"VLOOKUP($X$41,$AU$59:$AX$61,3,0)","v":152100.02340000001},{"$f":"VLOOKUP($X$41,$AU$59:$AX$61,4,0)","v":177542.88445714288}]
[null,null,"Incremento anual del pago",null,{"$f":"AQ69","v":0.02},null,{"$f":"Y54","v":0},null,null,null,{"$f":"AL69","v":0.02},null,null,null,{"$f":"AG69","v":0.02},null,null,null,null,"erogación adquisición",null,null,{"$f":"W58/1000*W52","v":0},null,{"$f":"Y58/1000*Y52","v":0},null,{"$f":"AA58/1000*AA52","v":0},{"$f":"AB58/1000*AQ68","v":0},null,{"$f":"AD58/1000*AL68","v":0},{"$f":"AE58/1000*AG68","v":0},{"$f":"AF58/1000*AF52","v":0},null,null,null,null,null,null,null,null,null,null,null,null,null,null,1,136571.4558857143,152100.02340000001,177542.88445714288]
[null,null,null,null,null,null,null,null,null,null,null,null,null,null,null,null,null,null,null,"Monto a financiar pasivo",null,null,{"$f":"IF(AND($AD$46=1,$Y$46>=0.2),#REF!,IF($AD$46=2,$O$51/W52*1000,0))","v":0},null,{"$f":"IF(AND($AD$46=1,$Y$46>=0.2),#REF!,IF($AD$46=2,#REF!/Y52*1000,0))","v":0},null,{"$f":"IF(AND($AD$46=1,$Y$46>=0.25),#REF!,IF($AD$46=2,#REF!/AA52*1000,0))","v":0},{"$f":"IF(AND($AD$46=1,$Y$46>=0.25),#REF!,IF($AD$46=2,#REF!/AB52*1000,0))","v":0},null,{"$f":"IF(AND($AD$46=1,$Y$46>=0.2),#REF!,IF($AD$46=2,$G$51/AD52*1000,0))","v":0},{"$f":"IF(AND($AD$46=1,$Y$46>=0.2),#REF!,IF($AD$46=2,#REF!/AE52*1000,0))","v":0},{"$f":"IF(AND($AD$46=1,$Y$46>=0.2),#REF!,IF($AD$46=2,#REF!/AF52*1000,0))","v":0},null,null,null,null,null,null,null,null,null,null,null,null,null,null,2,108000.02160000001,119340.00149174996,140400.02160000004]
[null,null,"Ingresos brutos por comprobar",null,{"$f":"IF(AND($AD$46=1,E49/1000*AQ68/$AQ$73>$Y$72),E49/1000*AQ68/$AQ$73,IF(AND($AD$46=1,E49/1000*AQ68/$AQ$73<$Y$72),$Y$72,$C$23))","v":10000},null,{"$f":"IF(AND($AD$46=1,G51*3.33>$Y$72),G51*3.33,IF(AND($AD$46=1,G51*3.33<$Y$72),$Y$72,$C$23))","v":10000},null,null,null,{"$f":"IF(AND($AD$46=1,K49/1000*AL68/$AL$73>$Y$72),K49/1000*AL68/$AL$73,IF(AND($AD$46=1,K49/1000*AL68/$AL$73<$Y$72),$Y$72,$C$23))","v":10000},null,null,null,{"$f":"IF(AND($AD$46=1,O49/1000*AG68/$AG$73>$Y$72),O49/1000*AG68/$AG$73,IF(AND($AD$46=1,O49/1000*AG68/$AG$73<$Y$72),$Y$72,$C$23))","v":10000},null,null,null,null,"Monto a financiar pasivo",null,null,{"$f":"IF(W60>4000000,4000000,W60)","v":0},null,{"$f":"IF(Y60>4000000,4000000,Y60)","v":0},null,{"$f":"IF(AA60>4000000,4000000,AA60)","v":0},{"$f":"IF(AB60>4000000,4000000,AB60)","v":0},null,{"$f":"IF(AD60>4000000,4000000,AD60)","v":0},{"$f":"IF(AE60>4000000,4000000,AE60)","v":0},{"$f":"IF(AF60>4000000,4000000,AF60)","v":0},null,null,null,null,null,null,null,null,null,null,null,null,null,null,3,94971.447565714305,123462.8761371429,123462.8761371429]
[null,null,null,null,null,null,null,null,null,null,null,null,null,null,null,null,null,null,null,"Decsisión de monto a financiar",null,null,{"$f":"IF(AND($AH$45=2,$AD$46=1,$C$23<0),0,IF(AND($AD$46=2,$C$23<$Y$72),0,W57))","v":0},null,{"$f":"IF(AND($AH$45=2,$AD$46=1,$C$23<0),0,IF(AND($AD$46=2,$C$23<$Y$72),0,Y57))","v":0},null,{"$f":"IF(AND($AH$45=2,$AD$46=1,$C$23<0),0,IF(AND($AD$46=2,$C$23<$Y$72),0,AA57))","v":0},{"$f":"IF(AND($AH$45=2,$AD$46=1,$C$23<0),0,IF(AND($AD$46=2,$C$23<$Y$72),0,AB57))","v":0},null,{"$f":"IF(AND($AH$45=2,$AD$46=1,$C$23<0),0,IF(AND($AD$46=2,$C$23<$Y$72),0,AD57))","v":0},{"$f":"IF(AND($AH$45=2,$AD$46=1,$C$23<0),0,IF(AND($AD$46=2,$C$23<$Y$72),0,AE57))","v":0},{"$f":"IF(AND($AH$45=2,$AD$46=1,$C$23<0),0,IF(AND($AD$46=2,$C$23<$Y$72),0,AF57))","v":0}]
[null,null,"Comisión por apertura",null,{"$f":"IF(OR(AN76=3,AN76=4),0,IF($V$66=1,E49*MIN(1%,M22),0))","v":0},null,{"$f":"IF($V$66=1,G49*0.025,0)","v":0},null,null,null,{"$f":"IF(OR(AN76=3,AN76=4),0,IF($V$66=1,K49*MIN(1%,M22),0))","v":0},null,null,null,{"$f":"IF(OR(AN76=3,AN76=4),0,IF($V$66=1,O49*MIN(1%,M22),0))","v":0},null,null,null,null,null,null,null,null,null,null,null,null,null,null,null,null,null,null,null,null,null,null,null,null,null,null,null,null,null,null,null,null,5000000,6500000,8000000]
[null,null,null,null,null,null,null,null,null,null,null,null,null,null,null,null,null,null,null,"Frontera","NO",null,null,null,null,null,null,null,null,null,null,null,null,null,null,null,null,null,null,null,null,null,null,null,null,null,null,1,2,3]
[null,null,{"$f":"\"Avalúo   \"&IF(OR(AND($AD$46=1,$C$23>$U$91),AND($AD$46=2,E47>$U$91)),\"'Favor de Cotizar.' - Val. apróx.\",\"\")","v":"Avalúo   "},null,{"$f":"IF(AN76=3,0,IFERROR(IF(AND($AD$46=1,$C$23<=$U$91),VLOOKUP($C$23,$T$71:$V$92,3),IF(AND($AD$46=2,E47<=$U$91),VLOOKUP(E47,$T$71:$V$92,3),$V$92)),0))","v":0},null,{"$f":"IF(AND($AD$46=1,$C$23<=21000000),VLOOKUP($C$23,$T$71:$V$101,3),IF(AND($AD$46=2,G47<=21000000),VLOOKUP(G47,$T$71:$V$101,3),\"Cotización especial\"))","v":{"$error":"#N/A"}},null,null,null,{"$f":"IF(AN76=3,0,IFERROR(IF(AND($AD$46=1,$C$23<=$U$91),VLOOKUP($C$23,$T$71:$V$92,3),IF(AND($AD$46=2,K47<=$U$91),VLOOKUP(K47,$T$71:$V$92,3),$V$92)),0))","v":0},null,null,null,{"$f":"IF(AN76=3,0,IFERROR(IF(AND($AD$46=1,$C$23<=$U$91),VLOOKUP($C$23,$T$71:$V$92,3),IF(AND($AD$46=2,O47<=$U$91),VLOOKUP(O47,$T$71:$V$92,3),$V$92)),0))","v":0},null,null,null,null,"IVA","SI",1,{"$f":"IF(V65=1,1.16,1.16)","v":1.1599999999999999},null,null,null,null,null,null,null,null,null,null,null,null,null,null,null,null,null,null,null,null,null,"Aforo para créditos <= $5'000,000  Valora y Pagos Oportunos",null,null,"Aforo p/créd > $5'000,000  VA y PO",null,null,null,null,null,null,null,1,null,null,null,null,null,3,null,null,null,null,null,4]
[null,null,null,null,null,null,null,null,null,null,null,null,null,null,null,null,null,null,null,"Comisión de apertura",null,1,{"$f":"IF(AN76=1,\"Comisión por apertura \"&TEXT($Y$82,\"##.00%\")&\" y comisión por prepago 0%\",\"Comisión por apertura 0% y comisión por prepago 0% \")","v":"Comisión por apertura 1.00% y comisión por prepago 0%"},null,null,null,null,null,null,"Tasas Valora 20 años",null,null,{"$f":"AQ66","v":1},null,"Tasas Valora 15 años",null,null,{"$f":"AQ66","v":1},null,"Tasas Valora 10 años",null,null,1,null,"Emp. con apoyo","Emp. Sin apoyo","Independientes","<= $6.5mdp","<= $8mdp","> $8 mdp","PTI",null,null,null,null,"VALORA","ppm 20","ppm 15","ppm 10","Inc. Anual",null,"VALORA 15","ppm 20","ppm 15","ppm 10","Inc. Anual",null,"VALORA 10","ppm 20","ppm 15","ppm 10","Inc. Anual"]
[null,null,"Dictamen técnico",null,{"$f":"IF(E47*$Y$85>$Z$85,$Z$85,E47*$Y$85)","v":0},null,{"$f":"IF(G49*0.01<4500,4500,IF(G49*0.01>12000,12000,G49*0.01))","v":4500},null,null,null,{"$f":"IF(K47*$Y$85>$Z$85,$Z$85,K47*$Y$85)","v":0},null,null,null,{"$f":"IF(O47*$Y$85>$Z$85,$Z$85,O47*$Y$85)","v":0},null,null,null,null,"Comisión por prepago",null,{"$f":"IF(V66=2,3%,\"NO APLICA\")","v":"NO APLICA"},{"$f":"IF(AN76=1,\"Comisión por apertura 0% y comisión por prepago 3% más IVA\",\"\")","v":"Comisión por apertura 0% y comisión por prepago 3% más IVA"},null,null,null,null,"1+",1,{"$f":"IF(IF($AN$76=1,BD67,IF($AN$76=3,BJ67,IF($AN$76=4,BP67,\"\")))=0,\"\",IF($AN$76=1,BD67,IF($AN$76=3,BJ67,IF($AN$76=4,BP67,\"\"))))","v":0.12},{"$f":"IF(IF($AN$76=1,BE67,IF($AN$76=3,BK67,IF($AN$76=4,BQ67,\"\")))=0,\"\",IF($AN$76=1,BE67,IF($AN$76=3,BK67,IF($AN$76=4,BQ67,\"\"))))","v":10.36},{"$f":"IF(IF($AN$76=1,BH67,IF($AN$76=3,BN67,IF($AN$76=4,BT67,\"\")))=0,\"\",IF($AN$76=1,BH67,IF($AN$76=3,BN67,IF($AN$76=4,BT67,\"\"))))","v":0.02},{"$f":"AG66","v":1},1,{"$f":"AD67","v":0.12},{"$f":"IF(IF($AN$76=1,BF67,IF($AN$76=3,BL67,IF($AN$76=4,BR67,\"\")))=0,\"\",IF($AN$76=1,BF67,IF($AN$76=3,BL67,IF($AN$76=4,BR67,\"\"))))","v":11.32},{"$f":"AF67","v":0.02},{"$f":"AL66","v":1},1,{"$f":"AI67","v":0.12},{"$f":"IF(IF($AN$76=1,BG67,IF($AN$76=3,BM67,IF($AN$76=4,BS67,\"\")))=0,\"\",IF($AN$76=1,BG67,IF($AN$76=3,BM67,IF($AN$76=4,BS67,\"\"))))","v":13.63},{"$f":"AF67","v":0.02},{"$f":"AQ66","v":1},null,0.95,0.95,0.9,0.8,0.8,0.65,{"$f":"IF(AC85=1,IF(AH45=2,65%,55%),55%)","v":0.65},null,null,null,1,0.12,10.36,11.32,13.63,0.02,"1+,2+,3+,4+,R",9.7500000000000003E-2,8.5399999999999991,9.64,12.12,2.5999999999999999E-2,"1,2,3,4,R,\nEA",0.1075,9.3000000000000007,10.33,12.75,2.4E-2]
[null,null,null,null,null,null,null,null,null,null,null,null,null,null,null,null,null,null,null,"Com Aut Dif",250,250,250,250,250,null,null,1,2,{"$f":"IF(IF($AN$76=1,BD68,IF($AN$76=3,BJ68,IF($AN$76=4,BP68,\"\")))=0,\"\",IF($AN$76=1,BD68,IF($AN$76=3,BJ68,IF($AN$76=4,BP68,\"\"))))","v":0.125},{"$f":"IF(IF($AN$76=1,BE68,IF($AN$76=3,BK68,IF($AN$76=4,BQ68,\"\")))=0,\"\",IF($AN$76=1,BE68,IF($AN$76=3,BK68,IF($AN$76=4,BQ68,\"\"))))","v":10.84},{"$f":"IF(IF($AN$76=1,BH68,IF($AN$76=3,BN68,IF($AN$76=4,BT68,\"\")))=0,\"\",IF($AN$76=1,BH68,IF($AN$76=3,BN68,IF($AN$76=4,BT68,\"\"))))","v":1.7000000000000001E-2},{"$f":"VLOOKUP(AG67,AC67:AF73,3,0)","v":10.36},2,{"$f":"AD68","v":0.125},{"$f":"IF(IF($AN$76=1,BF68,IF($AN$76=3,BL68,IF($AN$76=4,BR68,\"\")))=0,\"\",IF($AN$76=1,BF68,IF($AN$76=3,BL68,IF($AN$76=4,BR68,\"\"))))","v":11.78},{"$f":"AF68","v":1.7000000000000001E-2},{"$f":"VLOOKUP(AL67,AH67:AK73,3,0)","v":11.32},2,{"$f":"AI68","v":0.125},{"$f":"IF(IF($AN$76=1,BG68,IF($AN$76=3,BM68,IF($AN$76=4,BS68,\"\")))=0,\"\",IF($AN$76=1,BG68,IF($AN$76=3,BM68,IF($AN$76=4,BS68,\"\"))))","v":14.06},{"$f":"AF68","v":1.7000000000000001E-2},{"$f":"VLOOKUP(AQ67,AM67:AP73,3,0)","v":13.63},null,0.95,0.95,0.9,0.8,0.8,0.65,{"$f":"IF(AC85=1,IF(AH45=2,65%,55%),55%)","v":0.65},null,null,null,2,0.125,10.84,11.78,14.06,1.7000000000000001E-2]
[null,null,"Comisión por pagos anticipados",null,{"$f":"$V$67","v":"NO APLICA"},null,{"$f":"$V$67","v":"NO APLICA"},null,null,null,{"$f":"$V$67","v":"NO APLICA"},null,null,null,{"$f":"$V$67","v":"NO APLICA"},null,null,null,null,"Avalúo",{"$f":"IFERROR(IF(C23<$U$91,VLOOKUP(C23,$T$71:$V$92,3),\"Cotización especial\"),0)","v":0},null,null,null,null,null,null,2,3,0.13,11.28,1.4E-2,{"$f":"VLOOKUP(AG67,AC67:AF73,4,0)","v":0.02},3,0.13,12.22,1.4E-2,{"$f":"VLOOKUP(AL67,AH67:AK73,4,0)","v":0.02},3,0.13,14.5,1.4E-2,{"$f":"VLOOKUP(AQ67,AM67:AP73,4,0)","v":0.02},null,0.95,0.9,0.85,0.8,0.8,0.65,{"$f":"IF(AC85=1,IF(AH45=2,65%,55%),55%)","v":0.65},null,null,null,3,0.13,11.28,12.22,14.5,1.4E-2]
[null,null,null,null,null,null,null,null,null,null,null,null,null,null,null,null,null,null,null,"Mayor a","Hasta a","Importe",null,null,null,null,null,3,4,0.13500000000000001,11.7,1.0999999999999999E-2,{"$f":"VLOOKUP(AG67,AC67:AF73,2,0)","v":0.12},4,0.13500000000000001,12.63,1.0999999999999999E-2,{"$f":"VLOOKUP(AL67,AH67:AK73,2,0)","v":0.12},4,0.13500000000000001,14.9,1.0999999999999999E-2,{"$f":"VLOOKUP(AQ67,AM67:AP73,2,0)","v":0.12},null,0.85,0.85,0.75,0.7,0.7,0.55000000000000004,{"$f":"IF(AC85=1,IF(AH45=2,65%,55%),55%)","v":0.65},null,null,null,4,0.13500000000000001,11.7,12.63,14.9,1.0999999999999999E-2]
[null,null,null,null,null,null,null,null,null,null,null,null,null,null,null,null,null,null,null,0.01,500000,1900,null,"Aforo","Ingresos Mínimos","RPI",null,4,5,0.14000000000000001,12.13,7.0000000000000001E-3,{"$f":"VLOOKUP(AG67,AC67:AF73,3,0)","v":10.36},5,0.14000000000000001,13.04,7.0000000000000001E-3,{"$f":"VLOOKUP(AL67,AH67:AK73,3,0)","v":11.32},5,0.14000000000000001,15.3,7.0000000000000001E-3,{"$f":"VLOOKUP(AQ67,AM67:AP73,3,0)","v":13.63},null,0.85,0.85,0.75,0.65,0.55000000000000004,0.55000000000000004,{"$f":"IF(AC85=1,IF(AH45=2,65%,55%),55%)","v":0.65},null,null,null,"R",0.14000000000000001,12.13,13.04,15.3,7.0000000000000001E-3]
[null,null,"Ver tabla de amortización",null,null,null,null,null,null,null,null,null,null,null,null,null,null,null,null,500001,1000000,3300,null,{"$f":"IF(AH45=1,AI45,AI46)","v":0.95},10000,0.5,null,"R",6,null,null,null,{"$f":"AI45","v":0.95},6,null,null,null,{"$f":"AI45","v":0.95},6,null,null,null,{"$f":"AI45","v":0.95},null,0.8,0.7,0.5,0.5,0.5,0.5,{"$f":"IF(AC85=1,IF(AH45=2,65%,55%),55%)","v":0.65},null,null,null,"Piso",0.12,null,null,null,null,"Piso",9.7500000000000003E-2,null,null,null,null,"Piso",0.1075]
[null,null,"Observaciones:",null,null,null,null,null,null,null,null,null,null,null,null,null,null,null,null,1000001,1500000,4500,null,null,null,null,null,null,null,null,null,null,{"$f":"AY67","v":0.65},null,null,null,null,{"$f":"AY67","v":0.65},null,null,null,null,{"$f":"AY67","v":0.65},null,null,null,null,null,null,null,null,null,null,null,"Techo",0.14000000000000001,null,null,null,null,"Techo",0.11749999999999999,null,null,null,null,"Techo",0.1275]
[null,null,"-No se incluyen los gastos notariales, los cuales se pagaran al momento de la firma del crédito",null,null,null,null,null,null,null,null,null,null,null,null,null,null,null,null,1500001,2000000,5750,null,"Seguros",null,null,null,"Valor del inmueble",{"$f":"IF($X$41=1,O47,IF($X$41=2,K47,E47))","v":0},null,null,null,null,null,null,null,null,null,null,null,null,null,null,null,null,null,null,{"$f":"IF($AD$46=2,IF($C$23>AX58,3,IF($C$23>AW58,2,IF($C$23>AV58,1,0))),IF($C$23>AX63,3,IF($C$23>AW63,2,IF($C$23>AV63,1,0))))","v":0}]
[null,null,"-  El crédito solicitado dependerá de la capacidad de pago de cada cliente",null,null,null,null,null,null,null,null,null,null,null,null,null,null,null,null,2000001,2500000,7000,null,"Vida",5.9999999999999995E-4,{"$f":"Y75","v":5.9999999999999995E-4},null,"Pago por mil",{"$f":"IF($X$41=1,AG68,IF($X$41=2,AL68,AQ68))","v":10.36}]
[null,null,"-  Para obtener la tasa del 8.75% en el plazo de 10, 15 o 20 años, el porcentaje máximo de financiamiento deberá ser del 65%, ",null,null,null,null,null,null,null,null,null,null,null,null,null,null,null,null,2500001,3000000,8200,null,"Daños",3.1E-4,{"$f":"Y76","v":3.1E-4},null,"Plazo",{"$f":"IF($X$41=1,\"20 Años\",IF($X$41=2,\"15 Años\",\"10 Años\"))","v":"20 Años"},null,null,null,null,null,null,null,null,null,null,1,"Tasa",null,null,null,null,null,null,null,null,null,null,null,null,null,null,"Mínima 12.00% y \nMáxima 14.00%",null,null,null,null,null,"Mínima 9.75% y \nMáxima 11.75%",null,null,null,null,null,"Mínima 10.75% y \nMáxima 12.75%"]
[null,null,"-  Scotiabank se reserva el derecho de solicitar información adicional y/o restringir parámetros de enganche, monto, plazo o tasa en función de las características específicas ",null,null,null,null,null,null,null,null,null,null,null,null,null,null,null,null,3000001,4000000,11000,null,null,null,null,null,"Tasa",{"$f":"IF($X$41=1,AG70,IF($X$41=2,AL70,AQ70))","v":0.12},null,null,"CALCULO PARA EL IMPORTE MAXIMO DE APORTACION PATRONAL",null,null,null,null,null,null,null,"Ninguna",{"$f":"IF(IF(AN76=1,BD72,IF(AN76=3,BJ72,IF(AN76=4,BP72,\"\")))=0,\"\",IF(AN76=1,BD72,IF(AN76=3,BJ72,IF(AN76=4,BP72,\"\"))))","v":0.12}]
[null,null,"    del solicitante y del inmueble objeto de la operación.",null,null,null,null,null,null,null,null,null,null,null,null,null,null,null,null,4000001,5000000,13900,null,null,null,null,null,"Monto Crédito",{"$f":"IF($X$41=1,O49,IF($X$41=2,K49,E49))","v":0},null,null,"Salario diario nominal (UMA enero 2024)",null,108.57]
[null,null,"-  En caso de que aplique, la comisión por pagos anticipados causa I.V.A.",null,null,null,null,null,null,null,null,null,null,null,null,null,null,null,null,5000001,6000000,15500,null,null,null,null,null,null,null,null,null,"Tope de aportación patronal",null,25,null,null,null,null,null,"Premium"]
[null,null,"- Esta cotización tiene carácter informativo, Scotiabank se reserva el derecho de cambiar cualquier condición sin previo aviso.",null,null,null,null,null,null,null,null,null,null,null,null,null,null,null,null,6000001,7000000,19000,null,null,null,null,null,"Contratación de Seguros",null,null,null,"Aportación patronal",null,{"$f":"+AH78*AH79","v":2714.25},null,null,null,null,null,"Vinculación"]
[null,null,"- Este documento NO implica que el crédito ha sido autorizado, ni establece obligación alguna para Scotiabank.",null,null,null,null,null,null,null,null,null,null,null,null,null,null,null,null,7000001,8000000,20000,null,"Comisión por aut difer =",1,null,null,"SI ",2,null,null,"Aportación Patronal 5%",null,{"$f":"AH80*AG82","v":135.71250000000001}]
[null,null,"- Para los esquemas de \"Pagos Oportunos\" y \"Valora\" se deberá cumplir con las reglas establecidas en los programas para la disminución de la tasa de interés",null,null,null,null,null,null,null,null,null,null,null,null,null,null,null,null,8000001,9000000,20100,null,"Comisión por Apertura =",{"$f":"IFERROR(IF($M$22<>\"\",$M$22,1%),0)","v":0.01},null,null,"NO",null,null,null,null,0.05]
[null,null,null,null,null,null,null,null,null,null,null,null,null,null,"v2025.04",null,null,null,null,9000001,10000000,22500,null,"Comisión por Prepago =",0.03,null,null,null,null,null,null,"No. de días del bimestre (promedio 60 días)",null,60.8]
[null,null,null,null,null,null,null,null,null,null,null,null,null,null,null,null,null,null,null,10000001,11000000,27000,null,"Avalúo",1E-3,null,null,"Actividad Económca",null,null,null,"Aportación Patronal bimestral",null,{"$f":"+AH81*AH83","v":8251.32}]
[null,null,null,null,null,null,null,null,null,null,null,null,null,null,null,null,null,null,null,11000001,12000000,28000,null,"Dictamen técnico",0.01,18000,null,"Empleado",1,null,null,"Incremento anual promedio para las aportaciones = ",null,0.03]
[null,null,null,null,null,null,null,null,null,null,null,null,null,null,null,null,null,null,null,12000001,13000000,30000,null,null,null,"Máximo",null,{"$f":"IF($AH$45=2,\"\",\"Independiente\")","v":""}]
[null,null,null,null,null,null,null,null,null,null,null,null,null,null,null,null,null,null,null,13000001,14000000,32000,null,null,null,"Ya no hay minimo"]
[null,null,null,null,null,null,null,null,null,null,null,null,null,null,null,null,null,null,null,14000001,15000000,34000]
[null,null,null,null,null,null,null,null,null,null,null,null,null,null,null,null,null,null,null,15000001,20000000,37000]
[null,null,null,null,null,null,null,null,null,null,null,null,null,null,null,null,null,null,null,20000001,25000000,39000]
[null,null,null,null,null,null,null,null,null,null,null,null,null,null,null,null,null,null,null,25000001,30000000,40000]
[null,null,null,null,null,null,null,null,null,null,null,null,null,null,null,null,null,null,null,30000001,30000000,40000]

{"sheet":"Tabla Valora","index":1,"n_rows":260,"n_cols":68,"rows_kept":260,"cut":false,"hidden":false,"merged":[[0,0,0,26],[2,0,2,26],[5,1,5,5],[5,23,5,25],[3,0,3,26],[1,0,1,26]]}
["Scotiabank Inverlat, S.A., Institución de Banca Múltiple, Grupo Financiero Scotiabank Inverlat",null,null,null,null,null,null,null,null,null,null,null,null,null,null,null,null,null,null,null,null,null,null,null,null,null,null,"-",null,null,null,null,null,null,null,null,null,null,null,null,null,null,null,null,null,null,null,null,null,null,null,null,null,null,null,null,null,null,null,null,null,null,null,null,null,null,null,"-"]
["SIMULADOR CREDITO HIPOTECARIO"]
["FINANCIAMIENTO PARA ADQUISICION EN PREVENTA SCOTIABANK",null,null,null,null,null,null,null,null,null,null,null,null,null,null,null,null,null,null,null,null,null,null,null,null,null,null,null,null,null,null,null,null,null,"Comision por apertura",null,{"$f":"IF('Simulador Valora'!$X$41=1,'Simulador Valora'!O63,IF('Simulador Valora'!$X$41=2,'Simulador Valora'!K63,'Simulador Valora'!E63))","v":0},null,2]
[{"$f":"IF('Simulador Valora'!X41=1,\"VALORA 20 AÑOS\",IF('Simulador Valora'!X41=2,\"VALORA 15 AÑOS\",\"VALORA 10 AÑOS\"))","v":"VALORA 20 AÑOS"},null,null,null,null,null,null,null,null,null,null,null,null,null,null,null,null,null,null,null,null,null,null,null,null,null,null,null,"Piso",null,null,null,null,null,"Avalúo",null,{"$f":"IF('Simulador Valora'!$X$41=1,'Simulador Valora'!O65,IF('Simulador Valora'!$X$41=2,'Simulador Valora'!K65,'Simulador Valora'!E65))","v":0},null,"Disminución de plazo"]
[null,null,null,null,null,null,null,null,null,null,null,null,null,"Observaciones",null,null,null,null,null,null,null,null,null,null,null,null,null,null,{"$f":"'Simulador Valora'!AO77","v":0.12},null,null,null,null,null,"Dictámen Técnico",null,{"$f":"IF('Simulador Valora'!$X$41=1,'Simulador Valora'!O67,IF('Simulador Valora'!$X$41=2,'Simulador Valora'!K67,'Simulador Valora'!E67))","v":0},null,"Disminución de pago"]
[null,"Teclear los datos con las celdas en blanco",null,null,null,null,null,null,null,null,null,null,null,"- La comisión por prepagos causa IVA y en la corrida ya lo incluye",null,null,null,null,null,null,null,null,null,{"$f":"'Simulador Valora'!C7","v":"2025-04-10"},null,null,null,null,{"$f":"'Simulador Valora'!AO77","v":0.12}]
[null,"Período",null,"Monto",null,"Erogación",null,null,null,null,null,null,null,"- El escenario que se presenta en la tabla de amortización siempre es considerando que se paga de manera puntual.",null,null,null,null,null,null,null,null,null,null,null,null,null,null,null,null,null,null,null,null,"Total",null,{"$f":"SUM(AK3:AK5)","v":0}]
[null,1,null,{"$f":"'Simulador Valora'!$AC$78","v":0},null,{"$f":"(D8/1000)*'Simulador Valora'!AB47","v":0},null,"Linea máxima de crédito",null,null,null,null,null,"- Esta cotización tiene carácter informativo, Scotiabank se reserva el derecho de cambiar cualquier condición sin previo aviso."]
[null,null,null,null,null,{"$f":"IF(B9>12,((D9+D8)/1000*'Simulador Valora'!AB47*Z29)+((D9+D8)/1000*'Simulador Valora'!AB47),(D9+D8)/1000*'Simulador Valora'!AB47)","v":0},null,{"$f":"'Simulador Valora'!AC78","v":0},null,null,null,null,null,"- Este documento NO implica que el crédito ha sido autorizado, ni establece obligación alguna para Scotiabank.",null,null,null,null,null,null,null,null,null,null,null,null,null,null,null,null,null,null,null,null,null,null,{"$f":"AK12*12","v":0}]
[null,null,null,{"$f":"IF('Simulador Valora'!AC78-D8-D9<0,0,'Simulador Valora'!AC78-D8-D9)","v":0},null,{"$f":"IF(B10>12,((D10+D9+D8)/1000*'Simulador Valora'!AB47*Z29)+((D10+D9+D8)/1000*'Simulador Valora'!AB47),(D10+D9+D8)/1000*'Simulador Valora'!AB47)","v":0},null,{"$f":"IF((D9+D8)>H9,\"Se excede de la línea autorizada\",\"\")","v":""},null,null,null,null,null,"- Para los esquemas \"Pagos Oportunos\" y \"Valora\" se deberá cumplir con las reglas establecidas en los programas ",null,null,null,null,null,null,null,null,null,null,null,null,null,null,null,null,null,null,null,null,null,null,"TIR"]
[null,null,null,null,null,null,null,null,null,null,null,null,null,"  para la disminución de la tasa de interés.",null,null,null,null,null,null,null,null,null,null,null,null,null,null,null,null,null,null,null,null,null,null,{"$f":"((1+AK12)^12)-1","v":0}]
[null,null,null,null,null,null,null,null,null,null,null,null,null,null,null,null,null,null,null,null,null,null,null,null,null,null,null,{"$f":"IFERROR(IRR(AB16:AB256,0),0)","v":0},{"$f":"AB12*12","v":0},{"$f":"((1+AB12)^12)-1","v":0},null,null,null,null,null,null,{"$f":"IFERROR(IRR(AK13:AK256,0),0)","v":0}]
[null,null,null,null,null,null,null,"El crédito se liquida",null,{"$f":"AQ16","v":0},"Años",null,null,"- CAT =.",null,{"$f":"AK11","v":0},"\"Para fines informativos de comparación exclusivamente sin IVA\"",null,null,null,null,null,null,null,null,null,null,null,null,null,null,null,null,null,null,null,{"$f":"AK7-H9","v":0}]
[null,null,null,null,null,null,null,"por pago puntual en:",null,{"$f":"AR16","v":0},"Meses",null,null,"- En caso de anticipos a capital escoja la opción:"]
[]
["Período","Saldo Inicial",null,"Erogación",null,"Interés",null,"Amortización",null,"Aportación Bimestral",null,"Prepagos a capital",null,"Comisión por prepagos",null,"Tasa aplicada",null,"Saldo Final",null,"Seguro de vida y desempleo",null,"Seguro de daños",null,"Pago Mensual",null,"Inc. Pago",null,{"$f":"AK7-H9","v":0},"Tasa Aplic.","Saldo Inicial","Erogación","Interés","Amortización","Saldo Final","Seguros","Incremento Pago","Pago Mensual","factor de pago",null,"años","meses",{"$f":"SUM(AP17:AP256)","v":1},{"$f":"SUM(AQ17:AQ256)","v":0},{"$f":"SUM(AR17:AR256)","v":0},"Plazo","Fecha","Dias",null,"Año actual","Mes actual","Día actual","Dia/corte","sumar"]
[1,{"$f":"IFERROR(VLOOKUP(A17,$B$8:$F$10,3,FALSE),0)","v":0},null,{"$f":"F8","v":0},null,{"$f":"IF(B17=0,0,P17/360*AU17*B17)","v":0},null,{"$f":"D17-F17","v":0},null,null,null,null,null,{"$f":"IF('Simulador Valora'!$V$66=1,0,L17*'Simulador Valora'!$O$69*'Simulador Valora'!$W$65)","v":0},null,{"$f":"IF(B17=0,0,AC17)","v":0},null,{"$f":"B17-H17-J17-L17+N17","v":0},null,{"$f":"IF(B17<=0,0,B17*IF('Simulador Valora'!$AC$81=1,0,'Simulador Valora'!$Y$75))","v":0},null,{"$f":"IF(B17<=0,0,IF('Simulador Valora'!$X$41=1,'Simulador Valora'!$O$55,IF('Simulador Valora'!$X$41=2,'Simulador Valora'!$K$55,'Simulador Valora'!$E$55)))","v":0},null,{"$f":"IF(B17<=0,0,(D17+L17+T17+V17))","v":0},null,null,null,{"$f":"X17","v":0},{"$f":"IF('Simulador Valora'!$X$41=1,'Simulador Valora'!$AG$70,IF('Simulador Valora'!$X$41=2,'Simulador Valora'!$AL$70,'Simulador Valora'!$AQ$70))","v":0.12},{"$f":"IFERROR(VLOOKUP(A17,$B$8:$F$10,3,FALSE),0)","v":0},{"$f":"(AD17/1000)*'Simulador Valora'!AB47","v":0},{"$f":"IFERROR(AC17/360*AU17*AD17,0)","v":0},{"$f":"+AE17-AF17","v":0},{"$f":"+AD17-AG17","v":0},{"$f":"IF(AD17<=0,0,AD17*IF('Simulador Valora'!$AC$81=1,0,'Simulador Valora'!$Y$75))+IF(AD17<=0,0,IF('Simulador Valora'!$X$41=1,'Simulador Valora'!$O$55,IF('Simulador Valora'!$X$41=2,'Simulador Valora'!$K$55,'Simulador Valora'!$E$55)))","v":0},null,{"$f":"IF(AD17<=0,0,AE17+AI17)","v":0},{"$f":"IFERROR(AE17/AD17,0)","v":0},null,0,{"$f":"IF(B17=0,0,1)","v":0},{"$f":"+IF(R17<=0,IF(R16>0,+A17,0),0)","v":1},{"$f":"+IF(AP17>0,+AN17,0)","v":0},{"$f":"+IF(AP17>0,+AO17,0)","v":0},{"$f":"IF('Simulador Valora'!$X$41=3,120,IF('Simulador Valora'!$X$41=2,180,240))","v":240},{"$f":"IF(AD17=0,\"\",DATE(AW17,AX17+BA17,AZ17))","v":""},{"$f":"IFERROR(DAY(DATE(YEAR(AT17),MONTH(AT17)+1,0)),0)","v":0},1,{"$f":"IFERROR(YEAR('Simulador Valora'!C7),YEAR('Simulador Valora'!C7))","v":2025},{"$f":"IFERROR(MONTH('Simulador Valora'!C7),MONTH('Simulador Valora'!C7))","v":4},{"$f":"IFERROR(DAY('Simulador Valora'!C7),DAY('Simulador Valora'!C7))","v":10},{"$f":"IF(AND(DAY('Simulador Valora'!C7)>=3,DAY('Simulador Valora'!C7)<=16),3,17)","v":3},{"$f":"IF(AY17>AZ17,1,0)","v":1}]
[2,{"$f":"IF(R17<0,0,IF(A18=$B$9,R17+$D$9,IF(A18=$B$10,R17+$D$10,R17)))","v":0},null,{"$f":"IF(B18+F18-D17<=0,B18+F18,IF(A18=$B$9,$F$9,IF(A18=$B$10,$F$10,IF(AND('Simulador Valora'!$AH$45=2,L17=0),D17*(1+Z18),IF($AM$3=2,B18*AL18,D17*(1+Z18))))))","v":0},null,0,null,{"$f":"D18-F18","v":0},null,{"$f":"IF(B18=0,0,IF('Simulador Valora'!$AH$45=1,0,IF('Simulador Valora'!$AH$48*'Simulador Valora'!$AG$82*2>'Simulador Valora'!$AH$84,'Simulador Valora'!$AH$84,IF(B18=0,0,'Simulador Valora'!$AH$48*'Simulador Valora'!$AG$82*2))))","v":0},null,null,null,{"$f":"IF('Simulador Valora'!$V$66=1,0,L18*'Simulador Valora'!$O$69*'Simulador Valora'!$W$65)","v":0},null,{"$f":"IF(B18=0,0,AC18)","v":0},null,{"$f":"B18-H18-J18-L18+N18","v":0},null,{"$f":"IF(B18<=0,0,B18*IF('Simulador Valora'!$AC$81=1,0,'Simulador Valora'!$Y$75))","v":0},null,{"$f":"IF(B18<=0,0,IF('Simulador Valora'!$X$41=1,'Simulador Valora'!$O$55,IF('Simulador Valora'!$X$41=2,'Simulador Valora'!$K$55,'Simulador Valora'!$E$55)))","v":0},null,{"$f":"IF(B18<=0,0,(D18+L18+T18+V18))","v":0},null,null,null,{"$f":"X18","v":0},{"$f":"IF('Simulador Valora'!$X$41=1,'Simulador Valora'!$AG$70,IF('Simulador Valora'!$X$41=2,'Simulador Valora'!$AL$70,'Simulador Valora'!$AQ$70))","v":0.12},{"$f":"IF(AH17<0,0,IF($A18=$B$9,AH17+$D$9,IF($A18=$B$10,AH17+$D$10,AH17)))","v":0},{"$f":"IF(AD18+AF18-AE17<=0,AD18+AF18,IF($A18=$B$9,$F$9,IF($A18=$B$10,$F$10,AE17*(1+Z18))))","v":0},0,{"$f":"+AE18-AF18","v":0},{"$f":"+AD18-AG18","v":0},{"$f":"IF(AD18<=0,0,AD18*IF('Simulador Valora'!$AC$81=1,0,'Simulador Valora'!$Y$75))+IF(AD18<=0,0,IF('Simulador Valora'!$X$41=1,'Simulador Valora'!$O$55,IF('Simulador Valora'!$X$41=2,'Simulador Valora'!$K$55,'Simulador Valora'!$E$55)))","v":0},null,0,0,null,0,2,0,{"$f":"+IF(AP18>0,+AN18,0)","v":0},{"$f":"+IF(AP18>0,+AO18,0)","v":0},{"$f":"IFERROR(IF(AC18<=0.01,0,AS17-1),0)","v":239},{"$f":"IF(AD18=0,\"\",DATE(YEAR(AT17),MONTH(AT17)+1,1))","v":""},{"$f":"IFERROR(DAY(DATE(YEAR(AT18),MONTH(AT18)+1,0)),0)","v":0},2]
[3,0,null,{"$f":"IF(B19+F19-D18<=0,B19+F19,IF(A19=$B$9,$F$9,IF(A19=$B$10,$F$10,IF(AND('Simulador Valora'!$AH$45=2,L18=0),D18*(1+Z19),IF($AM$3=2,B19*AL19,D18*(1+Z19))))))","v":0},null,0,null,{"$f":"D19-F19","v":0},null,null,null,null,null,{"$f":"IF('Simulador Valora'!$V$66=1,0,L19*'Simulador Valora'!$O$69*'Simulador Valora'!$W$65)","v":0},null,0,null,0,null,{"$f":"IF(B19<=0,0,B19*IF('Simulador Valora'!$AC$81=1,0,'Simulador Valora'!$Y$75))","v":0},null,{"$f":"IF(B19<=0,0,IF('Simulador Valora'!$X$41=1,'Simulador Valora'!$O$55,IF('Simulador Valora'!$X$41=2,'Simulador Valora'!$K$55,'Simulador Valora'!$E$55)))","v":0},null,0,null,null,null,0,{"$f":"IF('Simulador Valora'!$X$41=1,'Simulador Valora'!$AG$70,IF('Simulador Valora'!$X$41=2,'Simulador Valora'!$AL$70,'Simulador Valora'!$AQ$70))","v":0.12},{"$f":"IF(AH18<0,0,IF($A19=$B$9,AH18+$D$9,IF($A19=$B$10,AH18+$D$10,AH18)))","v":0},{"$f":"IF(AD19+AF19-AE18<=0,AD19+AF19,IF($A19=$B$9,$F$9,IF($A19=$B$10,$F$10,AE18*(1+Z19))))","v":0},0,{"$f":"+AE19-AF19","v":0},0,{"$f":"IF(AD19<=0,0,AD19*IF('Simulador Valora'!$AC$81=1,0,'Simulador Valora'!$Y$75))+IF(AD19<=0,0,IF('Simulador Valora'!$X$41=1,'Simulador Valora'!$O$55,IF('Simulador Valora'!$X$41=2,'Simulador Valora'!$K$55,'Simulador Valora'!$E$55)))","v":0},null,0,0,null,0,3,0,0,0,238,{"$f":"IF(AD19=0,\"\",DATE(YEAR(AT18),MONTH(AT18)+1,1))","v":""},0,3,"Días/Mes",30.4375,{"$f":"SUM(AU77:AU256)","v":0},{"$f":"IF(AS77=0,0,AY19/AS77)","v":0}]
[4,0,null,{"$f":"IF(B20+F20-D19<=0,B20+F20,IF(A20=$B$9,$F$9,IF(A20=$B$10,$F$10,IF(AND('Simulador Valora'!$AH$45=2,L19=0),D19*(1+Z20),IF($AM$3=2,B20*AL20,D19*(1+Z20))))))","v":0},null,0,null,0,null,{"$f":"IF(B20-H20=0,0,J18)","v":0},null,null,null,{"$f":"IF('Simulador Valora'!$V$66=1,0,L20*'Simulador Valora'!$O$69*'Simulador Valora'!$W$65)","v":0},null,0,null,0,null,{"$f":"IF(B20<=0,0,B20*IF('Simulador Valora'!$AC$81=1,0,'Simulador Valora'!$Y$75))","v":0},null,{"$f":"IF(B20<=0,0,IF('Simulador Valora'!$X$41=1,'Simulador Valora'!$O$55,IF('Simulador Valora'!$X$41=2,'Simulador Valora'!$K$55,'Simulador Valora'!$E$55)))","v":0},null,0,null,null,null,0,{"$f":"IF('Simulador Valora'!$X$41=1,'Simulador Valora'!$AG$70,IF('Simulador Valora'!$X$41=2,'Simulador Valora'!$AL$70,'Simulador Valora'!$AQ$70))","v":0.12},0,0,0,0,0,{"$f":"IF(AD20<=0,0,AD20*IF('Simulador Valora'!$AC$81=1,0,'Simulador Valora'!$Y$75))+IF(AD20<=0,0,IF('Simulador Valora'!$X$41=1,'Simulador Valora'!$O$55,IF('Simulador Valora'!$X$41=2,'Simulador Valora'!$K$55,'Simulador Valora'!$E$55)))","v":0},null,0,0,null,0,4,0,0,0,237,"",0,4,null,"Interés mensual = Sdo inicial x tasa / 360 x # días del mes"]
[5,0,null,{"$f":"IF(B21+F21-D20<=0,B21+F21,IF(A21=$B$9,$F$9,IF(A21=$B$10,$F$10,IF(AND('Simulador Valora'!$AH$45=2,L20=0),D20*(1+Z21),IF($AM$3=2,B21*AL21,D20*(1+Z21))))))","v":0},null,0,null,0,null,null,null,null,null,{"$f":"IF('Simulador Valora'!$V$66=1,0,L21*'Simulador Valora'!$O$69*'Simulador Valora'!$W$65)","v":0},null,0,null,0,null,{"$f":"IF(B21<=0,0,B21*IF('Simulador Valora'!$AC$81=1,0,'Simulador Valora'!$Y$75))","v":0},null,{"$f":"IF(B21<=0,0,IF('Simulador Valora'!$X$41=1,'Simulador Valora'!$O$55,IF('Simulador Valora'!$X$41=2,'Simulador Valora'!$K$55,'Simulador Valora'!$E$55)))","v":0},null,0,null,null,null,0,{"$f":"IF('Simulador Valora'!$X$41=1,'Simulador Valora'!$AG$70,IF('Simulador Valora'!$X$41=2,'Simulador Valora'!$AL$70,'Simulador Valora'!$AQ$70))","v":0.12},0,0,0,0,0,{"$f":"IF(AD21<=0,0,AD21*IF('Simulador Valora'!$AC$81=1,0,'Simulador Valora'!$Y$75))+IF(AD21<=0,0,IF('Simulador Valora'!$X$41=1,'Simulador Valora'!$O$55,IF('Simulador Valora'!$X$41=2,'Simulador Valora'!$K$55,'Simulador Valora'!$E$55)))","v":0},null,0,0,null,0,5,0,0,0,236,"",0,5]
[6,0,null,{"$f":"IF(B22+F22-D21<=0,B22+F22,IF(A22=$B$9,$F$9,IF(A22=$B$10,$F$10,IF(AND('Simulador Valora'!$AH$45=2,L21=0),D21*(1+Z22),IF($AM$3=2,B22*AL22,D21*(1+Z22))))))","v":0},null,0,null,0,null,{"$f":"IF(B22-H22=0,0,J20)","v":0},null,null,null,{"$f":"IF('Simulador Valora'!$V$66=1,0,L22*'Simulador Valora'!$O$69*'Simulador Valora'!$W$65)","v":0},null,0,null,0,null,{"$f":"IF(B22<=0,0,B22*IF('Simulador Valora'!$AC$81=1,0,'Simulador Valora'!$Y$75))","v":0},null,{"$f":"IF(B22<=0,0,IF('Simulador Valora'!$X$41=1,'Simulador Valora'!$O$55,IF('Simulador Valora'!$X$41=2,'Simulador Valora'!$K$55,'Simulador Valora'!$E$55)))","v":0},null,0,null,null,null,0,{"$f":"IF('Simulador Valora'!$X$41=1,'Simulador Valora'!$AG$70,IF('Simulador Valora'!$X$41=2,'Simulador Valora'!$AL$70,'Simulador Valora'!$AQ$70))","v":0.12},0,0,0,0,0,{"$f":"IF(AD22<=0,0,AD22*IF('Simulador Valora'!$AC$81=1,0,'Simulador Valora'!$Y$75))+IF(AD22<=0,0,IF('Simulador Valora'!$X$41=1,'Simulador Valora'!$O$55,IF('Simulador Valora'!$X$41=2,'Simulador Valora'!$K$55,'Simulador Valora'!$E$55)))","v":0},null,0,0,null,0,6,0,0,0,235,"",0,6]
[7,0,null,{"$f":"IF(B23+F23-D22<=0,B23+F23,IF(A23=$B$9,$F$9,IF(A23=$B$10,$F$10,IF(AND('Simulador Valora'!$AH$45=2,L22=0),D22*(1+Z23),IF($AM$3=2,B23*AL23,D22*(1+Z23))))))","v":0},null,0,null,0,null,null,null,null,null,{"$f":"IF('Simulador Valora'!$V$66=1,0,L23*'Simulador Valora'!$O$69*'Simulador Valora'!$W$65)","v":0},null,0,null,0,null,{"$f":"IF(B23<=0,0,B23*IF('Simulador Valora'!$AC$81=1,0,'Simulador Valora'!$Y$75))","v":0},null,{"$f":"IF(B23<=0,0,IF('Simulador Valora'!$X$41=1,'Simulador Valora'!$O$55,IF('Simulador Valora'!$X$41=2,'Simulador Valora'!$K$55,'Simulador Valora'!$E$55)))","v":0},null,0,null,null,null,0,{"$f":"IF('Simulador Valora'!$X$41=1,'Simulador Valora'!$AG$70,IF('Simulador Valora'!$X$41=2,'Simulador Valora'!$AL$70,'Simulador Valora'!$AQ$70))","v":0.12},0,0,0,0,0,{"$f":"IF(AD23<=0,0,AD23*IF('Simulador Valora'!$AC$81=1,0,'Simulador Valora'!$Y$75))+IF(AD23<=0,0,IF('Simulador Valora'!$X$41=1,'Simulador Valora'!$O$55,IF('Simulador Valora'!$X$41=2,'Simulador Valora'!$K$55,'Simulador Valora'!$E$55)))","v":0},null,0,0,null,0,7,0,0,0,234,"",0,7]
[8,0,null,{"$f":"IF(B24+F24-D23<=0,B24+F24,IF(A24=$B$9,$F$9,IF(A24=$B$10,$F$10,IF(AND('Simulador Valora'!$AH$45=2,L23=0),D23*(1+Z24),IF($AM$3=2,B24*AL24,D23*(1+Z24))))))","v":0},null,0,null,0,null,{"$f":"IF(B24-H24=0,0,J22)","v":0},null,null,null,{"$f":"IF('Simulador Valora'!$V$66=1,0,L24*'Simulador Valora'!$O$69*'Simulador Valora'!$W$65)","v":0},null,0,null,0,null,{"$f":"IF(B24<=0,0,B24*IF('Simulador Valora'!$AC$81=1,0,'Simulador Valora'!$Y$75))","v":0},null,{"$f":"IF(B24<=0,0,IF('Simulador Valora'!$X$41=1,'Simulador Valora'!$O$55,IF('Simulador Valora'!$X$41=2,'Simulador Valora'!$K$55,'Simulador Valora'!$E$55)))","v":0},null,0,null,null,null,0,{"$f":"IF('Simulador Valora'!$X$41=1,'Simulador Valora'!$AG$70,IF('Simulador Valora'!$X$41=2,'Simulador Valora'!$AL$70,'Simulador Valora'!$AQ$70))","v":0.12},0,0,0,0,0,{"$f":"IF(AD24<=0,0,AD24*IF('Simulador Valora'!$AC$81=1,0,'Simulador Valora'!$Y$75))+IF(AD24<=0,0,IF('Simulador Valora'!$X$41=1,'Simulador Valora'!$O$55,IF('Simulador Valora'!$X$41=2,'Simulador Valora'!$K$55,'Simulador Valora'!$E$55)))","v":0},null,0,0,null,0,8,0,0,0,233,"",0,8]
[9,0,null,{"$f":"IF(B25+F25-D24<=0,B25+F25,IF(A25=$B$9,$F$9,IF(A25=$B$10,$F$10,IF(AND('Simulador Valora'!$AH$45=2,L24=0),D24*(1+Z25),IF($AM$3=2,B25*AL25,D24*(1+Z25))))))","v":0},null,0,null,0,null,null,null,null,null,{"$f":"IF('Simulador Valora'!$V$66=1,0,L25*'Simulador Valora'!$O$69*'Simulador Valora'!$W$65)","v":0},null,0,null,0,null,{"$f":"IF(B25<=0,0,B25*IF('Simulador Valora'!$AC$81=1,0,'Simulador Valora'!$Y$75))","v":0},null,{"$f":"IF(B25<=0,0,IF('Simulador Valora'!$X$41=1,'Simulador Valora'!$O$55,IF('Simulador Valora'!$X$41=2,'Simulador Valora'!$K$55,'Simulador Valora'!$E$55)))","v":0},null,0,null,null,null,0,{"$f":"IF('Simulador Valora'!$X$41=1,'Simulador Valora'!$AG$70,IF('Simulador Valora'!$X$41=2,'Simulador Valora'!$AL$70,'Simulador Valora'!$AQ$70))","v":0.12},0,0,0,0,0,{"$f":"IF(AD25<=0,0,AD25*IF('Simulador Valora'!$AC$81=1,0,'Simulador Valora'!$Y$75))+IF(AD25<=0,0,IF('Simulador Valora'!$X$41=1,'Simulador Valora'!$O$55,IF('Simulador Valora'!$X$41=2,'Simulador Valora'!$K$55,'Simulador Valora'!$E$55)))","v":0},null,0,0,null,0,9,0,0,0,232,"",0,9]
[10,0,null,{"$f":"IF(B26+F26-D25<=0,B26+F26,IF(A26=$B$9,$F$9,IF(A26=$B$10,$F$10,IF(AND('Simulador Valora'!$AH$45=2,L25=0),D25*(1+Z26),IF($AM$3=2,B26*AL26,D25*(1+Z26))))))","v":0},null,0,null,0,null,{"$f":"IF(B26-H26=0,0,J24)","v":0},null,null,null,{"$f":"IF('Simulador Valora'!$V$66=1,0,L26*'Simulador Valora'!$O$69*'Simulador Valora'!$W$65)","v":0},null,0,null,0,null,{"$f":"IF(B26<=0,0,B26*IF('Simulador Valora'!$AC$81=1,0,'Simulador Valora'!$Y$75))","v":0},null,{"$f":"IF(B26<=0,0,IF('Simulador Valora'!$X$41=1,'Simulador Valora'!$O$55,IF('Simulador Valora'!$X$41=2,'Simulador Valora'!$K$55,'Simulador Valora'!$E$55)))","v":0},null,0,null,null,null,0,{"$f":"IF('Simulador Valora'!$X$41=1,'Simulador Valora'!$AG$70,IF('Simulador Valora'!$X$41=2,'Simulador Valora'!$AL$70,'Simulador Valora'!$AQ$70))","v":0.12},0,0,0,0,0,{"$f":"IF(AD26<=0,0,AD26*IF('Simulador Valora'!$AC$81=1,0,'Simulador Valora'!$Y$75))+IF(AD26<=0,0,IF('Simulador Valora'!$X$41=1,'Simulador Valora'!$O$55,IF('Simulador Valora'!$X$41=2,'Simulador Valora'!$K$55,'Simulador Valora'!$E$55)))","v":0},null,0,0,null,0,10,0,0,0,231,"",0,10]
[11,0,null,{"$f":"IF(B27+F27-D26<=0,B27+F27,IF(A27=$B$9,$F$9,IF(A27=$B$10,$F$10,IF(AND('Simulador Valora'!$AH$45=2,L26=0),D26*(1+Z27),IF($AM$3=2,B27*AL27,D26*(1+Z27))))))","v":0},null,0,null,0,null,null,null,null,null,{"$f":"IF('Simulador Valora'!$V$66=1,0,L27*'Simulador Valora'!$O$69*'Simulador Valora'!$W$65)","v":0},null,0,null,0,null,{"$f":"IF(B27<=0,0,B27*IF('Simulador Valora'!$AC$81=1,0,'Simulador Valora'!$Y$75))","v":0},null,{"$f":"IF(B27<=0,0,IF('Simulador Valora'!$X$41=1,'Simulador Valora'!$O$55,IF('Simulador Valora'!$X$41=2,'Simulador Valora'!$K$55,'Simulador Valora'!$E$55)))","v":0},null,0,null,null,null,0,{"$f":"IF('Simulador Valora'!$X$41=1,'Simulador Valora'!$AG$70,IF('Simulador Valora'!$X$41=2,'Simulador Valora'!$AL$70,'Simulador Valora'!$AQ$70))","v":0.12},0,0,0,0,0,{"$f":"IF(AD27<=0,0,AD27*IF('Simulador Valora'!$AC$81=1,0,'Simulador Valora'!$Y$75))+IF(AD27<=0,0,IF('Simulador Valora'!$X$41=1,'Simulador Valora'!$O$55,IF('Simulador Valora'!$X$41=2,'Simulador Valora'!$K$55,'Simulador Valora'!$E$55)))","v":0},null,0,0,null,0,11,0,0,0,230,"",0,11]
[12,0,null,{"$f":"IF(B28+F28-D27<=0,B28+F28,IF(A28=$B$9,$F$9,IF(A28=$B$10,$F$10,IF(AND('Simulador Valora'!$AH$45=2,L27=0),D27*(1+Z28),IF($AM$3=2,B28*AL28,D27*(1+Z28))))))","v":0},null,0,null,0,null,{"$f":"IF(B28-H28=0,0,J26)","v":0},null,null,null,{"$f":"IF('Simulador Valora'!$V$66=1,0,L28*'Simulador Valora'!$O$69*'Simulador Valora'!$W$65)","v":0},null,0,null,0,null,{"$f":"IF(B28<=0,0,B28*IF('Simulador Valora'!$AC$81=1,0,'Simulador Valora'!$Y$75))","v":0},null,{"$f":"IF(B28<=0,0,IF('Simulador Valora'!$X$41=1,'Simulador Valora'!$O$55,IF('Simulador Valora'!$X$41=2,'Simulador Valora'!$K$55,'Simulador Valora'!$E$55)))","v":0},null,0,null,null,null,0,{"$f":"IF('Simulador Valora'!$X$41=1,'Simulador Valora'!$AG$70,IF('Simulador Valora'!$X$41=2,'Simulador Valora'!$AL$70,'Simulador Valora'!$AQ$70))","v":0.12},0,0,0,0,0,{"$f":"IF(AD28<=0,0,AD28*IF('Simulador Valora'!$AC$81=1,0,'Simulador Valora'!$Y$75))+IF(AD28<=0,0,IF('Simulador Valora'!$X$41=1,'Simulador Valora'!$O$55,IF('Simulador Valora'!$X$41=2,'Simulador Valora'!$K$55,'Simulador Valora'!$E$55)))","v":0},null,0,0,null,1,0,0,0,0,229,"",0,12]
[13,0,null,{"$f":"IF(B29+F29-D28<=0,B29+F29,IF(A29=$B$9,$F$9,IF(A29=$B$10,$F$10,IF(AND('Simulador Valora'!$AH$45=2,L28=0),D28*(1+Z29),IF($AM$3=2,B29*AL29,D28*(1+Z29))))))","v":0},null,0,null,0,null,null,null,null,null,{"$f":"IF('Simulador Valora'!$V$66=1,0,L29*'Simulador Valora'!$O$69*'Simulador Valora'!$W$65)","v":0},null,0,null,0,null,{"$f":"IF(B29<=0,0,B29*IF('Simulador Valora'!$AC$81=1,0,'Simulador Valora'!$Y$75))","v":0},null,{"$f":"IF(B29<=0,0,IF('Simulador Valora'!$X$41=1,'Simulador Valora'!$O$55,IF('Simulador Valora'!$X$41=2,'Simulador Valora'!$K$55,'Simulador Valora'!$E$55)))","v":0},null,0,null,{"$f":"IF(B29<=0,0,'Simulador Valora'!$AI$54)","v":0},null,0,{"$f":"IF('Simulador Valora'!$X$41=1,'Simulador Valora'!$AG$70,IF('Simulador Valora'!$X$41=2,'Simulador Valora'!$AL$70,'Simulador Valora'!$AQ$70))","v":0.12},0,0,0,0,0,{"$f":"IF(AD29<=0,0,AD29*IF('Simulador Valora'!$AC$81=1,0,'Simulador Valora'!$Y$75))+IF(AD29<=0,0,IF('Simulador Valora'!$X$41=1,'Simulador Valora'!$O$55,IF('Simulador Valora'!$X$41=2,'Simulador Valora'!$K$55,'Simulador Valora'!$E$55)))","v":0},{"$f":"IF(B29<=0,0,'Simulador Valora'!$AI$54)","v":0},0,0,null,1,1,0,0,0,228,"",0,13]
[14,0,null,{"$f":"IF(B30+F30-D29<=0,B30+F30,IF(A30=$B$9,$F$9,IF(A30=$B$10,$F$10,IF(AND('Simulador Valora'!$AH$45=2,L29=0),D29*(1+Z30),IF($AM$3=2,B30*AL30,D29*(1+Z30))))))","v":0},null,0,null,0,null,{"$f":"IF(B30-H30=0,0,J28*(1+(3%)))","v":0},null,null,null,{"$f":"IF('Simulador Valora'!$V$66=1,0,L30*'Simulador Valora'!$O$69*'Simulador Valora'!$W$65)","v":0},null,0,null,0,null,{"$f":"IF(B30<=0,0,B30*IF('Simulador Valora'!$AC$81=1,0,'Simulador Valora'!$Y$75))","v":0},null,{"$f":"IF(B30<=0,0,IF('Simulador Valora'!$X$41=1,'Simulador Valora'!$O$55,IF('Simulador Valora'!$X$41=2,'Simulador Valora'!$K$55,'Simulador Valora'!$E$55)))","v":0},null,0,null,null,null,0,{"$f":"IF('Simulador Valora'!$X$41=1,'Simulador Valora'!$AG$70,IF('Simulador Valora'!$X$41=2,'Simulador Valora'!$AL$70,'Simulador Valora'!$AQ$70))","v":0.12},0,0,0,0,0,{"$f":"IF(AD30<=0,0,AD30*IF('Simulador Valora'!$AC$81=1,0,'Simulador Valora'!$Y$75))+IF(AD30<=0,0,IF('Simulador Valora'!$X$41=1,'Simulador Valora'!$O$55,IF('Simulador Valora'!$X$41=2,'Simulador Valora'!$K$55,'Simulador Valora'!$E$55)))","v":0},null,0,0,null,1,2,0,0,0,227,"",0,14]
[15,0,null,{"$f":"IF(B31+F31-D30<=0,B31+F31,IF(A31=$B$9,$F$9,IF(A31=$B$10,$F$10,IF(AND('Simulador Valora'!$AH$45=2,L30=0),D30*(1+Z31),IF($AM$3=2,B31*AL31,D30*(1+Z31))))))","v":0},null,0,null,0,null,null,null,null,null,{"$f":"IF('Simulador Valora'!$V$66=1,0,L31*'Simulador Valora'!$O$69*'Simulador Valora'!$W$65)","v":0},null,0,null,0,null,{"$f":"IF(B31<=0,0,B31*IF('Simulador Valora'!$AC$81=1,0,'Simulador Valora'!$Y$75))","v":0},null,{"$f":"IF(B31<=0,0,IF('Simulador Valora'!$X$41=1,'Simulador Valora'!$O$55,IF('Simulador Valora'!$X$41=2,'Simulador Valora'!$K$55,'Simulador Valora'!$E$55)))","v":0},null,0,null,null,null,0,{"$f":"IF('Simulador Valora'!$X$41=1,'Simulador Valora'!$AG$70,IF('Simulador Valora'!$X$41=2,'Simulador Valora'!$AL$70,'Simulador Valora'!$AQ$70))","v":0.12},0,0,0,0,0,{"$f":"IF(AD31<=0,0,AD31*IF('Simulador Valora'!$AC$81=1,0,'Simulador Valora'!$Y$75))+IF(AD31<=0,0,IF('Simulador Valora'!$X$41=1,'Simulador Valora'!$O$55,IF('Simulador Valora'!$X$41=2,'Simulador Valora'!$K$55,'Simulador Valora'!$E$55)))","v":0},null,0,0,null,1,3,0,0,0,226,"",0,15]
[16,0,null,{"$f":"IF(B32+F32-D31<=0,B32+F32,IF(A32=$B$9,$F$9,IF(A32=$B$10,$F$10,IF(AND('Simulador Valora'!$AH$45=2,L31=0),D31*(1+Z32),IF($AM$3=2,B32*AL32,D31*(1+Z32))))))","v":0},null,0,null,0,null,{"$f":"IF(B32-H32=0,0,J30)","v":0},null,null,null,{"$f":"IF('Simulador Valora'!$V$66=1,0,L32*'Simulador Valora'!$O$69*'Simulador Valora'!$W$65)","v":0},null,0,null,0,null,{"$f":"IF(B32<=0,0,B32*IF('Simulador Valora'!$AC$81=1,0,'Simulador Valora'!$Y$75))","v":0},null,{"$f":"IF(B32<=0,0,IF('Simulador Valora'!$X$41=1,'Simulador Valora'!$O$55,IF('Simulador Valora'!$X$41=2,'Simulador Valora'!$K$55,'Simulador Valora'!$E$55)))","v":0},null,0,null,null,null,0,{"$f":"IF('Simulador Valora'!$X$41=1,'Simulador Valora'!$AG$70,IF('Simulador Valora'!$X$41=2,'Simulador Valora'!$AL$70,'Simulador Valora'!$AQ$70))","v":0.12},0,0,0,0,0,{"$f":"IF(AD32<=0,0,AD32*IF('Simulador Valora'!$AC$81=1,0,'Simulador Valora'!$Y$75))+IF(AD32<=0,0,IF('Simulador Valora'!$X$41=1,'Simulador Valora'!$O$55,IF('Simulador Valora'!$X$41=2,'Simulador Valora'!$K$55,'Simulador Valora'!$E$55)))","v":0},null,0,0,null,1,4,0,0,0,225,"",0,16]
[17,0,null,{"$f":"IF(B33+F33-D32<=0,B33+F33,IF(A33=$B$9,$F$9,IF(A33=$B$10,$F$10,IF(AND('Simulador Valora'!$AH$45=2,L32=0),D32*(1+Z33),IF($AM$3=2,B33*AL33,D32*(1+Z33))))))","v":0},null,0,null,0,null,null,null,null,null,{"$f":"IF('Simulador Valora'!$V$66=1,0,L33*'Simulador Valora'!$O$69*'Simulador Valora'!$W$65)","v":0},null,0,null,0,null,{"$f":"IF(B33<=0,0,B33*IF('Simulador Valora'!$AC$81=1,0,'Simulador Valora'!$Y$75))","v":0},null,{"$f":"IF(B33<=0,0,IF('Simulador Valora'!$X$41=1,'Simulador Valora'!$O$55,IF('Simulador Valora'!$X$41=2,'Simulador Valora'!$K$55,'Simulador Valora'!$E$55)))","v":0},null,0,null,null,null,0,{"$f":"IF('Simulador Valora'!$X$41=1,'Simulador Valora'!$AG$70,IF('Simulador Valora'!$X$41=2,'Simulador Valora'!$AL$70,'Simulador Valora'!$AQ$70))","v":0.12},0,0,0,0,0,{"$f":"IF(AD33<=0,0,AD33*IF('Simulador Valora'!$AC$81=1,0,'Simulador Valora'!$Y$75))+IF(AD33<=0,0,IF('Simulador Valora'!$X$41=1,'Simulador Valora'!$O$55,IF('Simulador Valora'!$X$41=2,'Simulador Valora'!$K$55,'Simulador Valora'!$E$55)))","v":0},null,0,0,null,1,5,0,0,0,224,"",0,17]
[18,0,null,{"$f":"IF(B34+F34-D33<=0,B34+F34,IF(A34=$B$9,$F$9,IF(A34=$B$10,$F$10,IF(AND('Simulador Valora'!$AH$45=2,L33=0),D33*(1+Z34),IF($AM$3=2,B34*AL34,D33*(1+Z34))))))","v":0},null,0,null,0,null,{"$f":"IF(B34-H34=0,0,J32)","v":0},null,null,null,{"$f":"IF('Simulador Valora'!$V$66=1,0,L34*'Simulador Valora'!$O$69*'Simulador Valora'!$W$65)","v":0},null,0,null,0,null,{"$f":"IF(B34<=0,0,B34*IF('Simulador Valora'!$AC$81=1,0,'Simulador Valora'!$Y$75))","v":0},null,{"$f":"IF(B34<=0,0,IF('Simulador Valora'!$X$41=1,'Simulador Valora'!$O$55,IF('Simulador Valora'!$X$41=2,'Simulador Valora'!$K$55,'Simulador Valora'!$E$55)))","v":0},null,0,null,null,null,0,{"$f":"IF('Simulador Valora'!$X$41=1,'Simulador Valora'!$AG$70,IF('Simulador Valora'!$X$41=2,'Simulador Valora'!$AL$70,'Simulador Valora'!$AQ$70))","v":0.12},0,0,0,0,0,{"$f":"IF(AD34<=0,0,AD34*IF('Simulador Valora'!$AC$81=1,0,'Simulador Valora'!$Y$75))+IF(AD34<=0,0,IF('Simulador Valora'!$X$41=1,'Simulador Valora'!$O$55,IF('Simulador Valora'!$X$41=2,'Simulador Valora'!$K$55,'Simulador Valora'!$E$55)))","v":0},null,0,0,null,1,6,0,0,0,223,"",0,18]
[19,0,null,{"$f":"IF(B35+F35-D34<=0,B35+F35,IF(A35=$B$9,$F$9,IF(A35=$B$10,$F$10,IF(AND('Simulador Valora'!$AH$45=2,L34=0),D34*(1+Z35),IF($AM$3=2,B35*AL35,D34*(1+Z35))))))","v":0},null,0,null,0,null,null,null,null,null,{"$f":"IF('Simulador Valora'!$V$66=1,0,L35*'Simulador Valora'!$O$69*'Simulador Valora'!$W$65)","v":0},null,0,null,0,null,{"$f":"IF(B35<=0,0,B35*IF('Simulador Valora'!$AC$81=1,0,'Simulador Valora'!$Y$75))","v":0},null,{"$f":"IF(B35<=0,0,IF('Simulador Valora'!$X$41=1,'Simulador Valora'!$O$55,IF('Simulador Valora'!$X$41=2,'Simulador Valora'!$K$55,'Simulador Valora'!$E$55)))","v":0},null,0,null,null,null,0,{"$f":"IF('Simulador Valora'!$X$41=1,'Simulador Valora'!$AG$70,IF('Simulador Valora'!$X$41=2,'Simulador Valora'!$AL$70,'Simulador Valora'!$AQ$70))","v":0.12},0,0,0,0,0,{"$f":"IF(AD35<=0,0,AD35*IF('Simulador Valora'!$AC$81=1,0,'Simulador Valora'!$Y$75))+IF(AD35<=0,0,IF('Simulador Valora'!$X$41=1,'Simulador Valora'!$O$55,IF('Simulador Valora'!$X$41=2,'Simulador Valora'!$K$55,'Simulador Valora'!$E$55)))","v":0},null,0,0,null,1,7,0,0,0,222,"",0,19]
[20,0,null,{"$f":"IF(B36+F36-D35<=0,B36+F36,IF(A36=$B$9,$F$9,IF(A36=$B$10,$F$10,IF(AND('Simulador Valora'!$AH$45=2,L35=0),D35*(1+Z36),IF($AM$3=2,B36*AL36,D35*(1+Z36))))))","v":0},null,0,null,0,null,{"$f":"IF(B36-H36=0,0,J34)","v":0},null,null,null,{"$f":"IF('Simulador Valora'!$V$66=1,0,L36*'Simulador Valora'!$O$69*'Simulador Valora'!$W$65)","v":0},null,0,null,0,null,{"$f":"IF(B36<=0,0,B36*IF('Simulador Valora'!$AC$81=1,0,'Simulador Valora'!$Y$75))","v":0},null,{"$f":"IF(B36<=0,0,IF('Simulador Valora'!$X$41=1,'Simulador Valora'!$O$55,IF('Simulador Valora'!$X$41=2,'Simulador Valora'!$K$55,'Simulador Valora'!$E$55)))","v":0},null,0,null,null,null,0,{"$f":"IF('Simulador Valora'!$X$41=1,'Simulador Valora'!$AG$70,IF('Simulador Valora'!$X$41=2,'Simulador Valora'!$AL$70,'Simulador Valora'!$AQ$70))","v":0.12},0,0,0,0,0,{"$f":"IF(AD36<=0,0,AD36*IF('Simulador Valora'!$AC$81=1,0,'Simulador Valora'!$Y$75))+IF(AD36<=0,0,IF('Simulador Valora'!$X$41=1,'Simulador Valora'!$O$55,IF('Simulador Valora'!$X$41=2,'Simulador Valora'!$K$55,'Simulador Valora'!$E$55)))","v":0},null,0,0,null,1,8,0,0,0,221,"",0,20]
[21,0,null,{"$f":"IF(B37+F37-D36<=0,B37+F37,IF(A37=$B$9,$F$9,IF(A37=$B$10,$F$10,IF(AND('Simulador Valora'!$AH$45=2,L36=0),D36*(1+Z37),IF($AM$3=2,B37*AL37,D36*(1+Z37))))))","v":0},null,0,null,0,null,null,null,null,null,{"$f":"IF('Simulador Valora'!$V$66=1,0,L37*'Simulador Valora'!$O$69*'Simulador Valora'!$W$65)","v":0},null,0,null,0,null,{"$f":"IF(B37<=0,0,B37*IF('Simulador Valora'!$AC$81=1,0,'Simulador Valora'!$Y$75))","v":0},null,{"$f":"IF(B37<=0,0,IF('Simulador Valora'!$X$41=1,'Simulador Valora'!$O$55,IF('Simulador Valora'!$X$41=2,'Simulador Valora'!$K$55,'Simulador Valora'!$E$55)))","v":0},null,0,null,null,null,0,{"$f":"IF('Simulador Valora'!$X$41=1,'Simulador Valora'!$AG$70,IF('Simulador Valora'!$X$41=2,'Simulador Valora'!$AL$70,'Simulador Valora'!$AQ$70))","v":0.12},0,0,0,0,0,{"$f":"IF(AD37<=0,0,AD37*IF('Simulador Valora'!$AC$81=1,0,'Simulador Valora'!$Y$75))+IF(AD37<=0,0,IF('Simulador Valora'!$X$41=1,'Simulador Valora'!$O$55,IF('Simulador Valora'!$X$41=2,'Simulador Valora'!$K$55,'Simulador Valora'!$E$55)))","v":0},null,0,0,null,1,9,0,0,0,220,"",0,21]
[22,0,null,{"$f":"IF(B38+F38-D37<=0,B38+F38,IF(A38=$B$9,$F$9,IF(A38=$B$10,$F$10,IF(AND('Simulador Valora'!$AH$45=2,L37=0),D37*(1+Z38),IF($AM$3=2,B38*AL38,D37*(1+Z38))))))","v":0},null,0,null,0,null,{"$f":"IF(B38-H38=0,0,J36)","v":0},null,null,null,{"$f":"IF('Simulador Valora'!$V$66=1,0,L38*'Simulador Valora'!$O$69*'Simulador Valora'!$W$65)","v":0},null,0,null,0,null,{"$f":"IF(B38<=0,0,B38*IF('Simulador Valora'!$AC$81=1,0,'Simulador Valora'!$Y$75))","v":0},null,{"$f":"IF(B38<=0,0,IF('Simulador Valora'!$X$41=1,'Simulador Valora'!$O$55,IF('Simulador Valora'!$X$41=2,'Simulador Valora'!$K$55,'Simulador Valora'!$E$55)))","v":0},null,0,null,null,null,0,{"$f":"IF('Simulador Valora'!$X$41=1,'Simulador Valora'!$AG$70,IF('Simulador Valora'!$X$41=2,'Simulador Valora'!$AL$70,'Simulador Valora'!$AQ$70))","v":0.12},0,0,0,0,0,{"$f":"IF(AD38<=0,0,AD38*IF('Simulador Valora'!$AC$81=1,0,'Simulador Valora'!$Y$75))+IF(AD38<=0,0,IF('Simulador Valora'!$X$41=1,'Simulador Valora'!$O$55,IF('Simulador Valora'!$X$41=2,'Simulador Valora'!$K$55,'Simulador Valora'!$E$55)))","v":0},null,0,0,null,1,10,0,0,0,219,"",0,22]
[23,0,null,{"$f":"IF(B39+F39-D38<=0,B39+F39,IF(A39=$B$9,$F$9,IF(A39=$B$10,$F$10,IF(AND('Simulador Valora'!$AH$45=2,L38=0),D38*(1+Z39),IF($AM$3=2,B39*AL39,D38*(1+Z39))))))","v":0},null,0,null,0,null,null,null,null,null,{"$f":"IF('Simulador Valora'!$V$66=1,0,L39*'Simulador Valora'!$O$69*'Simulador Valora'!$W$65)","v":0},null,0,null,0,null,{"$f":"IF(B39<=0,0,B39*IF('Simulador Valora'!$AC$81=1,0,'Simulador Valora'!$Y$75))","v":0},null,{"$f":"IF(B39<=0,0,IF('Simulador Valora'!$X$41=1,'Simulador Valora'!$O$55,IF('Simulador Valora'!$X$41=2,'Simulador Valora'!$K$55,'Simulador Valora'!$E$55)))","v":0},null,0,null,null,null,0,{"$f":"IF('Simulador Valora'!$X$41=1,'Simulador Valora'!$AG$70,IF('Simulador Valora'!$X$41=2,'Simulador Valora'!$AL$70,'Simulador Valora'!$AQ$70))","v":0.12},0,0,0,0,0,{"$f":"IF(AD39<=0,0,AD39*IF('Simulador Valora'!$AC$81=1,0,'Simulador Valora'!$Y$75))+IF(AD39<=0,0,IF('Simulador Valora'!$X$41=1,'Simulador Valora'!$O$55,IF('Simulador Valora'!$X$41=2,'Simulador Valora'!$K$55,'Simulador Valora'!$E$55)))","v":0},null,0,0,null,1,11,0,0,0,218,"",0,23]
[24,0,null,{"$f":"IF(B40+F40-D39<=0,B40+F40,IF(A40=$B$9,$F$9,IF(A40=$B$10,$F$10,IF(AND('Simulador Valora'!$AH$45=2,L39=0),D39*(1+Z40),IF($AM$3=2,B40*AL40,D39*(1+Z40))))))","v":0},null,0,null,0,null,{"$f":"IF(B40-H40=0,0,J38)","v":0},null,null,null,{"$f":"IF('Simulador Valora'!$V$66=1,0,L40*'Simulador Valora'!$O$69*'Simulador Valora'!$W$65)","v":0},null,0,null,0,null,{"$f":"IF(B40<=0,0,B40*IF('Simulador Valora'!$AC$81=1,0,'Simulador Valora'!$Y$75))","v":0},null,{"$f":"IF(B40<=0,0,IF('Simulador Valora'!$X$41=1,'Simulador Valora'!$O$55,IF('Simulador Valora'!$X$41=2,'Simulador Valora'!$K$55,'Simulador Valora'!$E$55)))","v":0},null,0,null,null,null,0,{"$f":"IF('Simulador Valora'!$X$41=1,'Simulador Valora'!$AG$70,IF('Simulador Valora'!$X$41=2,'Simulador Valora'!$AL$70,'Simulador Valora'!$AQ$70))","v":0.12},0,0,0,0,0,{"$f":"IF(AD40<=0,0,AD40*IF('Simulador Valora'!$AC$81=1,0,'Simulador Valora'!$Y$75))+IF(AD40<=0,0,IF('Simulador Valora'!$X$41=1,'Simulador Valora'!$O$55,IF('Simulador Valora'!$X$41=2,'Simulador Valora'!$K$55,'Simulador Valora'!$E$55)))","v":0},null,0,0,null,2,0,0,0,0,217,"",0,24]
[25,0,null,{"$f":"IF(B41+F41-D40<=0,B41+F41,IF(A41=$B$9,$F$9,IF(A41=$B$10,$F$10,IF(AND('Simulador Valora'!$AH$45=2,L40=0),D40*(1+Z41),IF($AM$3=2,B41*AL41,D40*(1+Z41))))))","v":0},null,0,null,0,null,null,null,null,null,{"$f":"IF('Simulador Valora'!$V$66=1,0,L41*'Simulador Valora'!$O$69*'Simulador Valora'!$W$65)","v":0},null,0,null,0,null,{"$f":"IF(B41<=0,0,B41*IF('Simulador Valora'!$AC$81=1,0,'Simulador Valora'!$Y$75))","v":0},null,{"$f":"IF(B41<=0,0,IF('Simulador Valora'!$X$41=1,'Simulador Valora'!$O$55,IF('Simulador Valora'!$X$41=2,'Simulador Valora'!$K$55,'Simulador Valora'!$E$55)))","v":0},null,0,null,{"$f":"IF(B41<=0,0,'Simulador Valora'!$AI$54)","v":0},null,0,{"$f":"IF('Simulador Valora'!$X$41=1,'Simulador Valora'!$AG$70,IF('Simulador Valora'!$X$41=2,'Simulador Valora'!$AL$70,'Simulador Valora'!$AQ$70))","v":0.12},0,0,0,0,0,{"$f":"IF(AD41<=0,0,AD41*IF('Simulador Valora'!$AC$81=1,0,'Simulador Valora'!$Y$75))+IF(AD41<=0,0,IF('Simulador Valora'!$X$41=1,'Simulador Valora'!$O$55,IF('Simulador Valora'!$X$41=2,'Simulador Valora'!$K$55,'Simulador Valora'!$E$55)))","v":0},{"$f":"IF(AC41<=0,0,$AJ$29)","v":0},0,0,null,2,1,0,0,0,216,"",0,25]
[26,0,null,{"$f":"IF(B42+F42-D41<=0,B42+F42,IF(A42=$B$9,$F$9,IF(A42=$B$10,$F$10,IF(AND('Simulador Valora'!$AH$45=2,L41=0),D41*(1+Z42),IF($AM$3=2,B42*AL42,D41*(1+Z42))))))","v":0},null,0,null,0,null,{"$f":"IF(B42-H42=0,0,J40*(1+(3%)))","v":0},null,null,null,{"$f":"IF('Simulador Valora'!$V$66=1,0,L42*'Simulador Valora'!$O$69*'Simulador Valora'!$W$65)","v":0},null,0,null,0,null,{"$f":"IF(B42<=0,0,B42*IF('Simulador Valora'!$AC$81=1,0,'Simulador Valora'!$Y$75))","v":0},null,{"$f":"IF(B42<=0,0,IF('Simulador Valora'!$X$41=1,'Simulador Valora'!$O$55,IF('Simulador Valora'!$X$41=2,'Simulador Valora'!$K$55,'Simulador Valora'!$E$55)))","v":0},null,0,null,null,null,0,{"$f":"IF('Simulador Valora'!$X$41=1,'Simulador Valora'!$AG$70,IF('Simulador Valora'!$X$41=2,'Simulador Valora'!$AL$70,'Simulador Valora'!$AQ$70))","v":0.12},0,0,0,0,0,{"$f":"IF(AD42<=0,0,AD42*IF('Simulador Valora'!$AC$81=1,0,'Simulador Valora'!$Y$75))+IF(AD42<=0,0,IF('Simulador Valora'!$X$41=1,'Simulador Valora'!$O$55,IF('Simulador Valora'!$X$41=2,'Simulador Valora'!$K$55,'Simulador Valora'!$E$55)))","v":0},null,0,0,null,2,2,0,0,0,215,"",0,26]
[27,0,null,{"$f":"IF(B43+F43-D42<=0,B43+F43,IF(A43=$B$9,$F$9,IF(A43=$B$10,$F$10,IF(AND('Simulador Valora'!$AH$45=2,L42=0),D42*(1+Z43),IF($AM$3=2,B43*AL43,D42*(1+Z43))))))","v":0},null,0,null,0,null,null,null,null,null,{"$f":"IF('Simulador Valora'!$V$66=1,0,L43*'Simulador Valora'!$O$69*'Simulador Valora'!$W$65)","v":0},null,0,null,0,null,{"$f":"IF(B43<=0,0,B43*IF('Simulador Valora'!$AC$81=1,0,'Simulador Valora'!$Y$75))","v":0},null,{"$f":"IF(B43<=0,0,IF('Simulador Valora'!$X$41=1,'Simulador Valora'!$O$55,IF('Simulador Valora'!$X$41=2,'Simulador Valora'!$K$55,'Simulador Valora'!$E$55)))","v":0},null,0,null,null,null,0,{"$f":"IF('Simulador Valora'!$X$41=1,'Simulador Valora'!$AG$70,IF('Simulador Valora'!$X$41=2,'Simulador Valora'!$AL$70,'Simulador Valora'!$AQ$70))","v":0.12},0,0,0,0,0,{"$f":"IF(AD43<=0,0,AD43*IF('Simulador Valora'!$AC$81=1,0,'Simulador Valora'!$Y$75))+IF(AD43<=0,0,IF('Simulador Valora'!$X$41=1,'Simulador Valora'!$O$55,IF('Simulador Valora'!$X$41=2,'Simulador Valora'!$K$55,'Simulador Valora'!$E$55)))","v":0},null,0,0,null,2,3,0,0,0,214,"",0,27]
[28,0,null,{"$f":"IF(B44+F44-D43<=0,B44+F44,IF(A44=$B$9,$F$9,IF(A44=$B$10,$F$10,IF(AND('Simulador Valora'!$AH$45=2,L43=0),D43*(1+Z44),IF($AM$3=2,B44*AL44,D43*(1+Z44))))))","v":0},null,0,null,0,null,{"$f":"IF(B44-H44=0,0,J42)","v":0},null,null,null,{"$f":"IF('Simulador Valora'!$V$66=1,0,L44*'Simulador Valora'!$O$69*'Simulador Valora'!$W$65)","v":0},null,0,null,0,null,{"$f":"IF(B44<=0,0,B44*IF('Simulador Valora'!$AC$81=1,0,'Simulador Valora'!$Y$75))","v":0},null,{"$f":"IF(B44<=0,0,IF('Simulador Valora'!$X$41=1,'Simulador Valora'!$O$55,IF('Simulador Valora'!$X$41=2,'Simulador Valora'!$K$55,'Simulador Valora'!$E$55)))","v":0},null,0,null,null,null,0,{"$f":"IF('Simulador Valora'!$X$41=1,'Simulador Valora'!$AG$70,IF('Simulador Valora'!$X$41=2,'Simulador Valora'!$AL$70,'Simulador Valora'!$AQ$70))","v":0.12},0,0,0,0,0,{"$f":"IF(AD44<=0,0,AD44*IF('Simulador Valora'!$AC$81=1,0,'Simulador Valora'!$Y$75))+IF(AD44<=0,0,IF('Simulador Valora'!$X$41=1,'Simulador Valora'!$O$55,IF('Simulador Valora'!$X$41=2,'Simulador Valora'!$K$55,'Simulador Valora'!$E$55)))","v":0},null,0,0,null,2,4,0,0,0,213,"",0,28]
[29,0,null,{"$f":"IF(B45+F45-D44<=0,B45+F45,IF(A45=$B$9,$F$9,IF(A45=$B$10,$F$10,IF(AND('Simulador Valora'!$AH$45=2,L44=0),D44*(1+Z45),IF($AM$3=2,B45*AL45,D44*(1+Z45))))))","v":0},null,0,null,0,null,null,null,null,null,{"$f":"IF('Simulador Valora'!$V$66=1,0,L45*'Simulador Valora'!$O$69*'Simulador Valora'!$W$65)","v":0},null,0,null,0,null,{"$f":"IF(B45<=0,0,B45*IF('Simulador Valora'!$AC$81=1,0,'Simulador Valora'!$Y$75))","v":0},null,{"$f":"IF(B45<=0,0,IF('Simulador Valora'!$X$41=1,'Simulador Valora'!$O$55,IF('Simulador Valora'!$X$41=2,'Simulador Valora'!$K$55,'Simulador Valora'!$E$55)))","v":0},null,0,null,null,null,0,{"$f":"IF('Simulador Valora'!$X$41=1,'Simulador Valora'!$AG$70,IF('Simulador Valora'!$X$41=2,'Simulador Valora'!$AL$70,'Simulador Valora'!$AQ$70))","v":0.12},0,0,0,0,0,{"$f":"IF(AD45<=0,0,AD45*IF('Simulador Valora'!$AC$81=1,0,'Simulador Valora'!$Y$75))+IF(AD45<=0,0,IF('Simulador Valora'!$X$41=1,'Simulador Valora'!$O$55,IF('Simulador Valora'!$X$41=2,'Simulador Valora'!$K$55,'Simulador Valora'!$E$55)))","v":0},null,0,0,null,2,5,0,0,0,212,"",0,29]
[30,0,null,{"$f":"IF(B46+F46-D45<=0,B46+F46,IF(A46=$B$9,$F$9,IF(A46=$B$10,$F$10,IF(AND('Simulador Valora'!$AH$45=2,L45=0),D45*(1+Z46),IF($AM$3=2,B46*AL46,D45*(1+Z46))))))","v":0},null,0,null,0,null,{"$f":"IF(B46-H46=0,0,J44)","v":0},null,null,null,{"$f":"IF('Simulador Valora'!$V$66=1,0,L46*'Simulador Valora'!$O$69*'Simulador Valora'!$W$65)","v":0},null,0,null,0,null,{"$f":"IF(B46<=0,0,B46*IF('Simulador Valora'!$AC$81=1,0,'Simulador Valora'!$Y$75))","v":0},null,{"$f":"IF(B46<=0,0,IF('Simulador Valora'!$X$41=1,'Simulador Valora'!$O$55,IF('Simulador Valora'!$X$41=2,'Simulador Valora'!$K$55,'Simulador Valora'!$E$55)))","v":0},null,0,null,null,null,0,{"$f":"IF('Simulador Valora'!$X$41=1,'Simulador Valora'!$AG$70,IF('Simulador Valora'!$X$41=2,'Simulador Valora'!$AL$70,'Simulador Valora'!$AQ$70))","v":0.12},0,0,0,0,0,{"$f":"IF(AD46<=0,0,AD46*IF('Simulador Valora'!$AC$81=1,0,'Simulador Valora'!$Y$75))+IF(AD46<=0,0,IF('Simulador Valora'!$X$41=1,'Simulador Valora'!$O$55,IF('Simulador Valora'!$X$41=2,'Simulador Valora'!$K$55,'Simulador Valora'!$E$55)))","v":0},null,0,0,null,2,6,0,0,0,211,"",0,30]
[31,0,null,{"$f":"IF(B47+F47-D46<=0,B47+F47,IF(A47=$B$9,$F$9,IF(A47=$B$10,$F$10,IF(AND('Simulador Valora'!$AH$45=2,L46=0),D46*(1+Z47),IF($AM$3=2,B47*AL47,D46*(1+Z47))))))","v":0},null,0,null,0,null,null,null,null,null,{"$f":"IF('Simulador Valora'!$V$66=1,0,L47*'Simulador Valora'!$O$69*'Simulador Valora'!$W$65)","v":0},null,0,null,0,null,{"$f":"IF(B47<=0,0,B47*IF('Simulador Valora'!$AC$81=1,0,'Simulador Valora'!$Y$75))","v":0},null,{"$f":"IF(B47<=0,0,IF('Simulador Valora'!$X$41=1,'Simulador Valora'!$O$55,IF('Simulador Valora'!$X$41=2,'Simulador Valora'!$K$55,'Simulador Valora'!$E$55)))","v":0},null,0,null,null,null,0,{"$f":"IF('Simulador Valora'!$X$41=1,'Simulador Valora'!$AG$70,IF('Simulador Valora'!$X$41=2,'Simulador Valora'!$AL$70,'Simulador Valora'!$AQ$70))","v":0.12},0,0,0,0,0,{"$f":"IF(AD47<=0,0,AD47*IF('Simulador Valora'!$AC$81=1,0,'Simulador Valora'!$Y$75))+IF(AD47<=0,0,IF('Simulador Valora'!$X$41=1,'Simulador Valora'!$O$55,IF('Simulador Valora'!$X$41=2,'Simulador Valora'!$K$55,'Simulador Valora'!$E$55)))","v":0},null,0,0,null,2,7,0,0,0,210,"",0,31]
[32,0,null,{"$f":"IF(B48+F48-D47<=0,B48+F48,IF(A48=$B$9,$F$9,IF(A48=$B$10,$F$10,IF(AND('Simulador Valora'!$AH$45=2,L47=0),D47*(1+Z48),IF($AM$3=2,B48*AL48,D47*(1+Z48))))))","v":0},null,0,null,0,null,{"$f":"IF(B48-H48=0,0,J46)","v":0},null,null,null,{"$f":"IF('Simulador Valora'!$V$66=1,0,L48*'Simulador Valora'!$O$69*'Simulador Valora'!$W$65)","v":0},null,0,null,0,null,{"$f":"IF(B48<=0,0,B48*IF('Simulador Valora'!$AC$81=1,0,'Simulador Valora'!$Y$75))","v":0},null,{"$f":"IF(B48<=0,0,IF('Simulador Valora'!$X$41=1,'Simulador Valora'!$O$55,IF('Simulador Valora'!$X$41=2,'Simulador Valora'!$K$55,'Simulador Valora'!$E$55)))","v":0},null,0,null,null,null,0,{"$f":"IF('Simulador Valora'!$X$41=1,'Simulador Valora'!$AG$70,IF('Simulador Valora'!$X$41=2,'Simulador Valora'!$AL$70,'Simulador Valora'!$AQ$70))","v":0.12},0,0,0,0,0,{"$f":"IF(AD48<=0,0,AD48*IF('Simulador Valora'!$AC$81=1,0,'Simulador Valora'!$Y$75))+IF(AD48<=0,0,IF('Simulador Valora'!$X$41=1,'Simulador Valora'!$O$55,IF('Simulador Valora'!$X$41=2,'Simulador Valora'!$K$55,'Simulador Valora'!$E$55)))","v":0},null,0,0,null,2,8,0,0,0,209,"",0,32]
[33,0,null,{"$f":"IF(B49+F49-D48<=0,B49+F49,IF(A49=$B$9,$F$9,IF(A49=$B$10,$F$10,IF(AND('Simulador Valora'!$AH$45=2,L48=0),D48*(1+Z49),IF($AM$3=2,B49*AL49,D48*(1+Z49))))))","v":0},null,0,null,0,null,null,null,null,null,{"$f":"IF('Simulador Valora'!$V$66=1,0,L49*'Simulador Valora'!$O$69*'Simulador Valora'!$W$65)","v":0},null,0,null,0,null,{"$f":"IF(B49<=0,0,B49*IF('Simulador Valora'!$AC$81=1,0,'Simulador Valora'!$Y$75))","v":0},null,{"$f":"IF(B49<=0,0,IF('Simulador Valora'!$X$41=1,'Simulador Valora'!$O$55,IF('Simulador Valora'!$X$41=2,'Simulador Valora'!$K$55,'Simulador Valora'!$E$55)))","v":0},null,0,null,null,null,0,{"$f":"IF('Simulador Valora'!$X$41=1,'Simulador Valora'!$AG$70,IF('Simulador Valora'!$X$41=2,'Simulador Valora'!$AL$70,'Simulador Valora'!$AQ$70))","v":0.12},0,0,0,0,0,{"$f":"IF(AD49<=0,0,AD49*IF('Simulador Valora'!$AC$81=1,0,'Simulador Valora'!$Y$75))+IF(AD49<=0,0,IF('Simulador Valora'!$X$41=1,'Simulador Valora'!$O$55,IF('Simulador Valora'!$X$41=2,'Simulador Valora'!$K$55,'Simulador Valora'!$E$55)))","v":0},null,0,0,null,2,9,0,0,0,208,"",0,33]
[34,0,null,{"$f":"IF(B50+F50-D49<=0,B50+F50,IF(A50=$B$9,$F$9,IF(A50=$B$10,$F$10,IF(AND('Simulador Valora'!$AH$45=2,L49=0),D49*(1+Z50),IF($AM$3=2,B50*AL50,D49*(1+Z50))))))","v":0},null,0,null,0,null,{"$f":"IF(B50-H50=0,0,J48)","v":0},null,null,null,{"$f":"IF('Simulador Valora'!$V$66=1,0,L50*'Simulador Valora'!$O$69*'Simulador Valora'!$W$65)","v":0},null,0,null,0,null,{"$f":"IF(B50<=0,0,B50*IF('Simulador Valora'!$AC$81=1,0,'Simulador Valora'!$Y$75))","v":0},null,{"$f":"IF(B50<=0,0,IF('Simulador Valora'!$X$41=1,'Simulador Valora'!$O$55,IF('Simulador Valora'!$X$41=2,'Simulador Valora'!$K$55,'Simulador Valora'!$E$55)))","v":0},null,0,null,null,null,0,{"$f":"IF('Simulador Valora'!$X$41=1,'Simulador Valora'!$AG$70,IF('Simulador Valora'!$X$41=2,'Simulador Valora'!$AL$70,'Simulador Valora'!$AQ$70))","v":0.12},0,0,0,0,0,{"$f":"IF(AD50<=0,0,AD50*IF('Simulador Valora'!$AC$81=1,0,'Simulador Valora'!$Y$75))+IF(AD50<=0,0,IF('Simulador Valora'!$X$41=1,'Simulador Valora'!$O$55,IF('Simulador Valora'!$X$41=2,'Simulador Valora'!$K$55,'Simulador Valora'!$E$55)))","v":0},null,0,0,null,2,10,0,0,0,{"$f":"IFERROR(IF(AC50<=0.01,0,AS49-1),0)","v":207},"",0,34]
[35,0,null,{"$f":"IF(B51+F51-D50<=0,B51+F51,IF(A51=$B$9,$F$9,IF(A51=$B$10,$F$10,IF(AND('Simulador Valora'!$AH$45=2,L50=0),D50*(1+Z51),IF($AM$3=2,B51*AL51,D50*(1+Z51))))))","v":0},null,0,null,0,null,null,null,null,null,{"$f":"IF('Simulador Valora'!$V$66=1,0,L51*'Simulador Valora'!$O$69*'Simulador Valora'!$W$65)","v":0},null,0,null,0,null,{"$f":"IF(B51<=0,0,B51*IF('Simulador Valora'!$AC$81=1,0,'Simulador Valora'!$Y$75))","v":0},null,{"$f":"IF(B51<=0,0,IF('Simulador Valora'!$X$41=1,'Simulador Valora'!$O$55,IF('Simulador Valora'!$X$41=2,'Simulador Valora'!$K$55,'Simulador Valora'!$E$55)))","v":0},null,0,null,null,null,0,{"$f":"IF('Simulador Valora'!$X$41=1,'Simulador Valora'!$AG$70,IF('Simulador Valora'!$X$41=2,'Simulador Valora'!$AL$70,'Simulador Valora'!$AQ$70))","v":0.12},0,0,0,0,0,{"$f":"IF(AD51<=0,0,AD51*IF('Simulador Valora'!$AC$81=1,0,'Simulador Valora'!$Y$75))+IF(AD51<=0,0,IF('Simulador Valora'!$X$41=1,'Simulador Valora'!$O$55,IF('Simulador Valora'!$X$41=2,'Simulador Valora'!$K$55,'Simulador Valora'!$E$55)))","v":0},null,0,0,null,2,11,0,0,0,206,"",0,35]
[36,0,null,{"$f":"IF(B52+F52-D51<=0,B52+F52,IF(A52=$B$9,$F$9,IF(A52=$B$10,$F$10,IF(AND('Simulador Valora'!$AH$45=2,L51=0),D51*(1+Z52),IF($AM$3=2,B52*AL52,D51*(1+Z52))))))","v":0},null,0,null,0,null,{"$f":"IF(B52-H52=0,0,J50)","v":0},null,null,null,{"$f":"IF('Simulador Valora'!$V$66=1,0,L52*'Simulador Valora'!$O$69*'Simulador Valora'!$W$65)","v":0},null,0,null,0,null,{"$f":"IF(B52<=0,0,B52*IF('Simulador Valora'!$AC$81=1,0,'Simulador Valora'!$Y$75))","v":0},null,{"$f":"IF(B52<=0,0,IF('Simulador Valora'!$X$41=1,'Simulador Valora'!$O$55,IF('Simulador Valora'!$X$41=2,'Simulador Valora'!$K$55,'Simulador Valora'!$E$55)))","v":0},null,0,null,null,null,0,{"$f":"IF('Simulador Valora'!$X$41=1,'Simulador Valora'!$AG$70,IF('Simulador Valora'!$X$41=2,'Simulador Valora'!$AL$70,'Simulador Valora'!$AQ$70))","v":0.12},0,0,0,0,0,{"$f":"IF(AD52<=0,0,AD52*IF('Simulador Valora'!$AC$81=1,0,'Simulador Valora'!$Y$75))+IF(AD52<=0,0,IF('Simulador Valora'!$X$41=1,'Simulador Valora'!$O$55,IF('Simulador Valora'!$X$41=2,'Simulador Valora'!$K$55,'Simulador Valora'!$E$55)))","v":0},null,0,0,null,3,0,0,0,0,205,"",0,36]
[37,0,null,{"$f":"IF(B53+F53-D52<=0,B53+F53,IF(A53=$B$9,$F$9,IF(A53=$B$10,$F$10,IF(AND('Simulador Valora'!$AH$45=2,L52=0),D52*(1+Z53),IF($AM$3=2,B53*AL53,D52*(1+Z53))))))","v":0},null,0,null,0,null,null,null,null,null,{"$f":"IF('Simulador Valora'!$V$66=1,0,L53*'Simulador Valora'!$O$69*'Simulador Valora'!$W$65)","v":0},null,0,null,0,null,{"$f":"IF(B53<=0,0,B53*IF('Simulador Valora'!$AC$81=1,0,'Simulador Valora'!$Y$75))","v":0},null,{"$f":"IF(B53<=0,0,IF('Simulador Valora'!$X$41=1,'Simulador Valora'!$O$55,IF('Simulador Valora'!$X$41=2,'Simulador Valora'!$K$55,'Simulador Valora'!$E$55)))","v":0},null,0,null,{"$f":"IF(B53<=0,0,'Simulador Valora'!$AI$54)","v":0},null,0,{"$f":"IF(AC52=$AC$6,AC52,IF(AC52-0.25%<=$AC$6,$AC$6,AC52-0.25%))","v":0.12},0,0,0,0,0,{"$f":"IF(AD53<=0,0,AD53*IF('Simulador Valora'!$AC$81=1,0,'Simulador Valora'!$Y$75))+IF(AD53<=0,0,IF('Simulador Valora'!$X$41=1,'Simulador Valora'!$O$55,IF('Simulador Valora'!$X$41=2,'Simulador Valora'!$K$55,'Simulador Valora'!$E$55)))","v":0},{"$f":"IF(AC53<=0,0,$AJ$29)","v":0},0,0,null,3,1,0,0,0,204,"",0,37]
[38,0,null,{"$f":"IF(B54+F54-D53<=0,B54+F54,IF(A54=$B$9,$F$9,IF(A54=$B$10,$F$10,IF(AND('Simulador Valora'!$AH$45=2,L53=0),D53*(1+Z54),IF($AM$3=2,B54*AL54,D53*(1+Z54))))))","v":0},null,0,null,0,null,{"$f":"IF(B54-H54=0,0,J52*(1+(3%)))","v":0},null,null,null,{"$f":"IF('Simulador Valora'!$V$66=1,0,L54*'Simulador Valora'!$O$69*'Simulador Valora'!$W$65)","v":0},null,0,null,0,null,{"$f":"IF(B54<=0,0,B54*IF('Simulador Valora'!$AC$81=1,0,'Simulador Valora'!$Y$75))","v":0},null,{"$f":"IF(B54<=0,0,IF('Simulador Valora'!$X$41=1,'Simulador Valora'!$O$55,IF('Simulador Valora'!$X$41=2,'Simulador Valora'!$K$55,'Simulador Valora'!$E$55)))","v":0},null,0,null,null,null,0,{"$f":"AC53","v":0.12},0,0,0,0,0,{"$f":"IF(AD54<=0,0,AD54*IF('Simulador Valora'!$AC$81=1,0,'Simulador Valora'!$Y$75))+IF(AD54<=0,0,IF('Simulador Valora'!$X$41=1,'Simulador Valora'!$O$55,IF('Simulador Valora'!$X$41=2,'Simulador Valora'!$K$55,'Simulador Valora'!$E$55)))","v":0},null,0,0,null,3,2,0,0,0,203,"",0,38]
[39,0,null,{"$f":"IF(B55+F55-D54<=0,B55+F55,IF(A55=$B$9,$F$9,IF(A55=$B$10,$F$10,IF(AND('Simulador Valora'!$AH$45=2,L54=0),D54*(1+Z55),IF($AM$3=2,B55*AL55,D54*(1+Z55))))))","v":0},null,0,null,0,null,null,null,null,null,{"$f":"IF('Simulador Valora'!$V$66=1,0,L55*'Simulador Valora'!$O$69*'Simulador Valora'!$W$65)","v":0},null,0,null,0,null,{"$f":"IF(B55<=0,0,B55*IF('Simulador Valora'!$AC$81=1,0,'Simulador Valora'!$Y$75))","v":0},null,{"$f":"IF(B55<=0,0,IF('Simulador Valora'!$X$41=1,'Simulador Valora'!$O$55,IF('Simulador Valora'!$X$41=2,'Simulador Valora'!$K$55,'Simulador Valora'!$E$55)))","v":0},null,0,null,null,null,0,{"$f":"AC54","v":0.12},0,0,0,0,0,{"$f":"IF(AD55<=0,0,AD55*IF('Simulador Valora'!$AC$81=1,0,'Simulador Valora'!$Y$75))+IF(AD55<=0,0,IF('Simulador Valora'!$X$41=1,'Simulador Valora'!$O$55,IF('Simulador Valora'!$X$41=2,'Simulador Valora'!$K$55,'Simulador Valora'!$E$55)))","v":0},null,0,0,null,3,3,0,0,0,202,"",0,39]
[40,0,null,{"$f":"IF(B56+F56-D55<=0,B56+F56,IF(A56=$B$9,$F$9,IF(A56=$B$10,$F$10,IF(AND('Simulador Valora'!$AH$45=2,L55=0),D55*(1+Z56),IF($AM$3=2,B56*AL56,D55*(1+Z56))))))","v":0},null,0,null,0,null,{"$f":"IF(B56-H56=0,0,J54)","v":0},null,null,null,{"$f":"IF('Simulador Valora'!$V$66=1,0,L56*'Simulador Valora'!$O$69*'Simulador Valora'!$W$65)","v":0},null,0,null,0,null,{"$f":"IF(B56<=0,0,B56*IF('Simulador Valora'!$AC$81=1,0,'Simulador Valora'!$Y$75))","v":0},null,{"$f":"IF(B56<=0,0,IF('Simulador Valora'!$X$41=1,'Simulador Valora'!$O$55,IF('Simulador Valora'!$X$41=2,'Simulador Valora'!$K$55,'Simulador Valora'!$E$55)))","v":0},null,0,null,null,null,0,0.12,0,0,0,0,0,{"$f":"IF(AD56<=0,0,AD56*IF('Simulador Valora'!$AC$81=1,0,'Simulador Valora'!$Y$75))+IF(AD56<=0,0,IF('Simulador Valora'!$X$41=1,'Simulador Valora'!$O$55,IF('Simulador Valora'!$X$41=2,'Simulador Valora'!$K$55,'Simulador Valora'!$E$55)))","v":0},null,0,0,null,3,4,0,0,0,201,"",0,40]
[41,0,null,{"$f":"IF(B57+F57-D56<=0,B57+F57,IF(A57=$B$9,$F$9,IF(A57=$B$10,$F$10,IF(AND('Simulador Valora'!$AH$45=2,L56=0),D56*(1+Z57),IF($AM$3=2,B57*AL57,D56*(1+Z57))))))","v":0},null,0,null,0,null,null,null,null,null,{"$f":"IF('Simulador Valora'!$V$66=1,0,L57*'Simulador Valora'!$O$69*'Simulador Valora'!$W$65)","v":0},null,0,null,0,null,{"$f":"IF(B57<=0,0,B57*IF('Simulador Valora'!$AC$81=1,0,'Simulador Valora'!$Y$75))","v":0},null,{"$f":"IF(B57<=0,0,IF('Simulador Valora'!$X$41=1,'Simulador Valora'!$O$55,IF('Simulador Valora'!$X$41=2,'Simulador Valora'!$K$55,'Simulador Valora'!$E$55)))","v":0},null,0,null,null,null,0,0.12,0,0,0,0,0,{"$f":"IF(AD57<=0,0,AD57*IF('Simulador Valora'!$AC$81=1,0,'Simulador Valora'!$Y$75))+IF(AD57<=0,0,IF('Simulador Valora'!$X$41=1,'Simulador Valora'!$O$55,IF('Simulador Valora'!$X$41=2,'Simulador Valora'!$K$55,'Simulador Valora'!$E$55)))","v":0},null,0,0,null,3,5,0,0,0,200,"",0,41]
[42,0,null,{"$f":"IF(B58+F58-D57<=0,B58+F58,IF(A58=$B$9,$F$9,IF(A58=$B$10,$F$10,IF(AND('Simulador Valora'!$AH$45=2,L57=0),D57*(1+Z58),IF($AM$3=2,B58*AL58,D57*(1+Z58))))))","v":0},null,0,null,0,null,{"$f":"IF(B58-H58=0,0,J56)","v":0},null,null,null,{"$f":"IF('Simulador Valora'!$V$66=1,0,L58*'Simulador Valora'!$O$69*'Simulador Valora'!$W$65)","v":0},null,0,null,0,null,{"$f":"IF(B58<=0,0,B58*IF('Simulador Valora'!$AC$81=1,0,'Simulador Valora'!$Y$75))","v":0},null,{"$f":"IF(B58<=0,0,IF('Simulador Valora'!$X$41=1,'Simulador Valora'!$O$55,IF('Simulador Valora'!$X$41=2,'Simulador Valora'!$K$55,'Simulador Valora'!$E$55)))","v":0},null,0,null,null,null,0,0.12,0,0,0,0,0,{"$f":"IF(AD58<=0,0,AD58*IF('Simulador Valora'!$AC$81=1,0,'Simulador Valora'!$Y$75))+IF(AD58<=0,0,IF('Simulador Valora'!$X$41=1,'Simulador Valora'!$O$55,IF('Simulador Valora'!$X$41=2,'Simulador Valora'!$K$55,'Simulador Valora'!$E$55)))","v":0},null,0,0,null,3,6,0,0,0,199,"",0,42]
[43,0,null,{"$f":"IF(B59+F59-D58<=0,B59+F59,IF(A59=$B$9,$F$9,IF(A59=$B$10,$F$10,IF(AND('Simulador Valora'!$AH$45=2,L58=0),D58*(1+Z59),IF($AM$3=2,B59*AL59,D58*(1+Z59))))))","v":0},null,0,null,0,null,null,null,null,null,{"$f":"IF('Simulador Valora'!$V$66=1,0,L59*'Simulador Valora'!$O$69*'Simulador Valora'!$W$65)","v":0},null,0,null,0,null,{"$f":"IF(B59<=0,0,B59*IF('Simulador Valora'!$AC$81=1,0,'Simulador Valora'!$Y$75))","v":0},null,{"$f":"IF(B59<=0,0,IF('Simulador Valora'!$X$41=1,'Simulador Valora'!$O$55,IF('Simulador Valora'!$X$41=2,'Simulador Valora'!$K$55,'Simulador Valora'!$E$55)))","v":0},null,0,null,null,null,0,0.12,0,0,0,0,0,{"$f":"IF(AD59<=0,0,AD59*IF('Simulador Valora'!$AC$81=1,0,'Simulador Valora'!$Y$75))+IF(AD59<=0,0,IF('Simulador Valora'!$X$41=1,'Simulador Valora'!$O$55,IF('Simulador Valora'!$X$41=2,'Simulador Valora'!$K$55,'Simulador Valora'!$E$55)))","v":0},null,0,0,null,3,7,0,0,0,198,"",0,43]
[44,0,null,{"$f":"IF(B60+F60-D59<=0,B60+F60,IF(A60=$B$9,$F$9,IF(A60=$B$10,$F$10,IF(AND('Simulador Valora'!$AH$45=2,L59=0),D59*(1+Z60),IF($AM$3=2,B60*AL60,D59*(1+Z60))))))","v":0},null,0,null,0,null,{"$f":"IF(B60-H60=0,0,J58)","v":0},null,null,null,{"$f":"IF('Simulador Valora'!$V$66=1,0,L60*'Simulador Valora'!$O$69*'Simulador Valora'!$W$65)","v":0},null,0,null,0,null,{"$f":"IF(B60<=0,0,B60*IF('Simulador Valora'!$AC$81=1,0,'Simulador Valora'!$Y$75))","v":0},null,{"$f":"IF(B60<=0,0,IF('Simulador Valora'!$X$41=1,'Simulador Valora'!$O$55,IF('Simulador Valora'!$X$41=2,'Simulador Valora'!$K$55,'Simulador Valora'!$E$55)))","v":0},null,0,null,null,null,0,0.12,0,0,0,0,0,{"$f":"IF(AD60<=0,0,AD60*IF('Simulador Valora'!$AC$81=1,0,'Simulador Valora'!$Y$75))+IF(AD60<=0,0,IF('Simulador Valora'!$X$41=1,'Simulador Valora'!$O$55,IF('Simulador Valora'!$X$41=2,'Simulador Valora'!$K$55,'Simulador Valora'!$E$55)))","v":0},null,0,0,null,3,8,0,0,0,197,"",0,44]
[45,0,null,{"$f":"IF(B61+F61-D60<=0,B61+F61,IF(A61=$B$9,$F$9,IF(A61=$B$10,$F$10,IF(AND('Simulador Valora'!$AH$45=2,L60=0),D60*(1+Z61),IF($AM$3=2,B61*AL61,D60*(1+Z61))))))","v":0},null,0,null,0,null,null,null,null,null,{"$f":"IF('Simulador Valora'!$V$66=1,0,L61*'Simulador Valora'!$O$69*'Simulador Valora'!$W$65)","v":0},null,0,null,0,null,{"$f":"IF(B61<=0,0,B61*IF('Simulador Valora'!$AC$81=1,0,'Simulador Valora'!$Y$75))","v":0},null,{"$f":"IF(B61<=0,0,IF('Simulador Valora'!$X$41=1,'Simulador Valora'!$O$55,IF('Simulador Valora'!$X$41=2,'Simulador Valora'!$K$55,'Simulador Valora'!$E$55)))","v":0},null,0,null,null,null,0,0.12,0,0,0,0,0,{"$f":"IF(AD61<=0,0,AD61*IF('Simulador Valora'!$AC$81=1,0,'Simulador Valora'!$Y$75))+IF(AD61<=0,0,IF('Simulador Valora'!$X$41=1,'Simulador Valora'!$O$55,IF('Simulador Valora'!$X$41=2,'Simulador Valora'!$K$55,'Simulador Valora'!$E$55)))","v":0},null,0,0,null,3,9,0,0,0,196,"",0,45]
[46,0,null,{"$f":"IF(B62+F62-D61<=0,B62+F62,IF(A62=$B$9,$F$9,IF(A62=$B$10,$F$10,IF(AND('Simulador Valora'!$AH$45=2,L61=0),D61*(1+Z62),IF($AM$3=2,B62*AL62,D61*(1+Z62))))))","v":0},null,0,null,0,null,{"$f":"IF(B62-H62=0,0,J60)","v":0},null,null,null,{"$f":"IF('Simulador Valora'!$V$66=1,0,L62*'Simulador Valora'!$O$69*'Simulador Valora'!$W$65)","v":0},null,0,null,0,null,{"$f":"IF(B62<=0,0,B62*IF('Simulador Valora'!$AC$81=1,0,'Simulador Valora'!$Y$75))","v":0},null,{"$f":"IF(B62<=0,0,IF('Simulador Valora'!$X$41=1,'Simulador Valora'!$O$55,IF('Simulador Valora'!$X$41=2,'Simulador Valora'!$K$55,'Simulador Valora'!$E$55)))","v":0},null,0,null,null,null,0,0.12,0,0,0,0,0,{"$f":"IF(AD62<=0,0,AD62*IF('Simulador Valora'!$AC$81=1,0,'Simulador Valora'!$Y$75))+IF(AD62<=0,0,IF('Simulador Valora'!$X$41=1,'Simulador Valora'!$O$55,IF('Simulador Valora'!$X$41=2,'Simulador Valora'!$K$55,'Simulador Valora'!$E$55)))","v":0},null,0,0,null,3,10,0,0,0,195,"",0,46]
[47,0,null,{"$f":"IF(B63+F63-D62<=0,B63+F63,IF(A63=$B$9,$F$9,IF(A63=$B$10,$F$10,IF(AND('Simulador Valora'!$AH$45=2,L62=0),D62*(1+Z63),IF($AM$3=2,B63*AL63,D62*(1+Z63))))))","v":0},null,0,null,0,null,null,null,null,null,{"$f":"IF('Simulador Valora'!$V$66=1,0,L63*'Simulador Valora'!$O$69*'Simulador Valora'!$W$65)","v":0},null,0,null,0,null,{"$f":"IF(B63<=0,0,B63*IF('Simulador Valora'!$AC$81=1,0,'Simulador Valora'!$Y$75))","v":0},null,{"$f":"IF(B63<=0,0,IF('Simulador Valora'!$X$41=1,'Simulador Valora'!$O$55,IF('Simulador Valora'!$X$41=2,'Simulador Valora'!$K$55,'Simulador Valora'!$E$55)))","v":0},null,0,null,null,null,0,0.12,0,0,0,0,0,{"$f":"IF(AD63<=0,0,AD63*IF('Simulador Valora'!$AC$81=1,0,'Simulador Valora'!$Y$75))+IF(AD63<=0,0,IF('Simulador Valora'!$X$41=1,'Simulador Valora'!$O$55,IF('Simulador Valora'!$X$41=2,'Simulador Valora'!$K$55,'Simulador Valora'!$E$55)))","v":0},null,0,0,null,3,11,0,0,0,194,"",0,47]
[48,0,null,{"$f":"IF(B64+F64-D63<=0,B64+F64,IF(A64=$B$9,$F$9,IF(A64=$B$10,$F$10,IF(AND('Simulador Valora'!$AH$45=2,L63=0),D63*(1+Z64),IF($AM$3=2,B64*AL64,D63*(1+Z64))))))","v":0},null,0,null,0,null,{"$f":"IF(B64-H64=0,0,J62)","v":0},null,null,null,{"$f":"IF('Simulador Valora'!$V$66=1,0,L64*'Simulador Valora'!$O$69*'Simulador Valora'!$W$65)","v":0},null,0,null,0,null,{"$f":"IF(B64<=0,0,B64*IF('Simulador Valora'!$AC$81=1,0,'Simulador Valora'!$Y$75))","v":0},null,{"$f":"IF(B64<=0,0,IF('Simulador Valora'!$X$41=1,'Simulador Valora'!$O$55,IF('Simulador Valora'!$X$41=2,'Simulador Valora'!$K$55,'Simulador Valora'!$E$55)))","v":0},null,0,null,null,null,0,0.12,0,0,0,0,0,{"$f":"IF(AD64<=0,0,AD64*IF('Simulador Valora'!$AC$81=1,0,'Simulador Valora'!$Y$75))+IF(AD64<=0,0,IF('Simulador Valora'!$X$41=1,'Simulador Valora'!$O$55,IF('Simulador Valora'!$X$41=2,'Simulador Valora'!$K$55,'Simulador Valora'!$E$55)))","v":0},null,0,0,null,4,0,0,0,0,193,"",0,48]
[49,0,null,{"$f":"IF(B65+F65-D64<=0,B65+F65,IF(A65=$B$9,$F$9,IF(A65=$B$10,$F$10,IF(AND('Simulador Valora'!$AH$45=2,L64=0),D64*(1+Z65),IF($AM$3=2,B65*AL65,D64*(1+Z65))))))","v":0},null,0,null,0,null,null,null,null,null,{"$f":"IF('Simulador Valora'!$V$66=1,0,L65*'Simulador Valora'!$O$69*'Simulador Valora'!$W$65)","v":0},null,0,null,0,null,{"$f":"IF(B65<=0,0,B65*IF('Simulador Valora'!$AC$81=1,0,'Simulador Valora'!$Y$75))","v":0},null,{"$f":"IF(B65<=0,0,IF('Simulador Valora'!$X$41=1,'Simulador Valora'!$O$55,IF('Simulador Valora'!$X$41=2,'Simulador Valora'!$K$55,'Simulador Valora'!$E$55)))","v":0},null,0,null,{"$f":"IF(B65<=0,0,'Simulador Valora'!$AI$54)","v":0},null,0,{"$f":"IF(AC64=$AC$6,AC64,IF(AC64-0.25%<=$AC$6,$AC$6,AC64-0.25%))","v":0.12},0,0,0,0,0,{"$f":"IF(AD65<=0,0,AD65*IF('Simulador Valora'!$AC$81=1,0,'Simulador Valora'!$Y$75))+IF(AD65<=0,0,IF('Simulador Valora'!$X$41=1,'Simulador Valora'!$O$55,IF('Simulador Valora'!$X$41=2,'Simulador Valora'!$K$55,'Simulador Valora'!$E$55)))","v":0},{"$f":"IF(AC65<=0,0,$AJ$29)","v":0},0,0,null,4,1,0,0,0,192,"",0,49]
[50,0,null,{"$f":"IF(B66+F66-D65<=0,B66+F66,IF(A66=$B$9,$F$9,IF(A66=$B$10,$F$10,IF(AND('Simulador Valora'!$AH$45=2,L65=0),D65*(1+Z66),IF($AM$3=2,B66*AL66,D65*(1+Z66))))))","v":0},null,0,null,0,null,{"$f":"IF(B66-H66=0,0,J64*(1+(3%)))","v":0},null,null,null,{"$f":"IF('Simulador Valora'!$V$66=1,0,L66*'Simulador Valora'!$O$69*'Simulador Valora'!$W$65)","v":0},null,0,null,0,null,{"$f":"IF(B66<=0,0,B66*IF('Simulador Valora'!$AC$81=1,0,'Simulador Valora'!$Y$75))","v":0},null,{"$f":"IF(B66<=0,0,IF('Simulador Valora'!$X$41=1,'Simulador Valora'!$O$55,IF('Simulador Valora'!$X$41=2,'Simulador Valora'!$K$55,'Simulador Valora'!$E$55)))","v":0},null,0,null,null,null,0,{"$f":"AC65","v":0.12},0,0,0,0,0,{"$f":"IF(AD66<=0,0,AD66*IF('Simulador Valora'!$AC$81=1,0,'Simulador Valora'!$Y$75))+IF(AD66<=0,0,IF('Simulador Valora'!$X$41=1,'Simulador Valora'!$O$55,IF('Simulador Valora'!$X$41=2,'Simulador Valora'!$K$55,'Simulador Valora'!$E$55)))","v":0},null,0,0,null,4,2,0,0,0,191,"",0,50]
[51,0,null,{"$f":"IF(B67+F67-D66<=0,B67+F67,IF(A67=$B$9,$F$9,IF(A67=$B$10,$F$10,IF(AND('Simulador Valora'!$AH$45=2,L66=0),D66*(1+Z67),IF($AM$3=2,B67*AL67,D66*(1+Z67))))))","v":0},null,0,null,0,null,null,null,null,null,{"$f":"IF('Simulador Valora'!$V$66=1,0,L67*'Simulador Valora'!$O$69*'Simulador Valora'!$W$65)","v":0},null,0,null,0,null,{"$f":"IF(B67<=0,0,B67*IF('Simulador Valora'!$AC$81=1,0,'Simulador Valora'!$Y$75))","v":0},null,{"$f":"IF(B67<=0,0,IF('Simulador Valora'!$X$41=1,'Simulador Valora'!$O$55,IF('Simulador Valora'!$X$41=2,'Simulador Valora'!$K$55,'Simulador Valora'!$E$55)))","v":0},null,0,null,null,null,0,{"$f":"AC66","v":0.12},0,0,0,0,0,{"$f":"IF(AD67<=0,0,AD67*IF('Simulador Valora'!$AC$81=1,0,'Simulador Valora'!$Y$75))+IF(AD67<=0,0,IF('Simulador Valora'!$X$41=1,'Simulador Valora'!$O$55,IF('Simulador Valora'!$X$41=2,'Simulador Valora'!$K$55,'Simulador Valora'!$E$55)))","v":0},null,0,0,null,4,3,0,0,0,190,"",0,51]
[52,0,null,{"$f":"IF(B68+F68-D67<=0,B68+F68,IF(A68=$B$9,$F$9,IF(A68=$B$10,$F$10,IF(AND('Simulador Valora'!$AH$45=2,L67=0),D67*(1+Z68),IF($AM$3=2,B68*AL68,D67*(1+Z68))))))","v":0},null,0,null,0,null,{"$f":"IF(B68-H68=0,0,J66)","v":0},null,null,null,{"$f":"IF('Simulador Valora'!$V$66=1,0,L68*'Simulador Valora'!$O$69*'Simulador Valora'!$W$65)","v":0},null,0,null,0,null,{"$f":"IF(B68<=0,0,B68*IF('Simulador Valora'!$AC$81=1,0,'Simulador Valora'!$Y$75))","v":0},null,{"$f":"IF(B68<=0,0,IF('Simulador Valora'!$X$41=1,'Simulador Valora'!$O$55,IF('Simulador Valora'!$X$41=2,'Simulador Valora'!$K$55,'Simulador Valora'!$E$55)))","v":0},null,0,null,null,null,0,0.12,0,0,0,0,0,{"$f":"IF(AD68<=0,0,AD68*IF('Simulador Valora'!$AC$81=1,0,'Simulador Valora'!$Y$75))+IF(AD68<=0,0,IF('Simulador Valora'!$X$41=1,'Simulador Valora'!$O$55,IF('Simulador Valora'!$X$41=2,'Simulador Valora'!$K$55,'Simulador Valora'!$E$55)))","v":0},null,0,0,null,4,4,0,0,0,189,"",0,52]
[53,0,null,{"$f":"IF(B69+F69-D68<=0,B69+F69,IF(A69=$B$9,$F$9,IF(A69=$B$10,$F$10,IF(AND('Simulador Valora'!$AH$45=2,L68=0),D68*(1+Z69),IF($AM$3=2,B69*AL69,D68*(1+Z69))))))","v":0},null,0,null,0,null,null,null,null,null,{"$f":"IF('Simulador Valora'!$V$66=1,0,L69*'Simulador Valora'!$O$69*'Simulador Valora'!$W$65)","v":0},null,0,null,0,null,{"$f":"IF(B69<=0,0,B69*IF('Simulador Valora'!$AC$81=1,0,'Simulador Valora'!$Y$75))","v":0},null,{"$f":"IF(B69<=0,0,IF('Simulador Valora'!$X$41=1,'Simulador Valora'!$O$55,IF('Simulador Valora'!$X$41=2,'Simulador Valora'!$K$55,'Simulador Valora'!$E$55)))","v":0},null,0,null,null,null,0,0.12,0,0,0,0,0,{"$f":"IF(AD69<=0,0,AD69*IF('Simulador Valora'!$AC$81=1,0,'Simulador Valora'!$Y$75))+IF(AD69<=0,0,IF('Simulador Valora'!$X$41=1,'Simulador Valora'!$O$55,IF('Simulador Valora'!$X$41=2,'Simulador Valora'!$K$55,'Simulador Valora'!$E$55)))","v":0},null,0,0,null,4,5,0,0,0,188,"",0,53]
[54,0,null,{"$f":"IF(B70+F70-D69<=0,B70+F70,IF(A70=$B$9,$F$9,IF(A70=$B$10,$F$10,IF(AND('Simulador Valora'!$AH$45=2,L69=0),D69*(1+Z70),IF($AM$3=2,B70*AL70,D69*(1+Z70))))))","v":0},null,0,null,0,null,{"$f":"IF(B70-H70=0,0,J68)","v":0},null,null,null,{"$f":"IF('Simulador Valora'!$V$66=1,0,L70*'Simulador Valora'!$O$69*'Simulador Valora'!$W$65)","v":0},null,0,null,0,null,{"$f":"IF(B70<=0,0,B70*IF('Simulador Valora'!$AC$81=1,0,'Simulador Valora'!$Y$75))","v":0},null,{"$f":"IF(B70<=0,0,IF('Simulador Valora'!$X$41=1,'Simulador Valora'!$O$55,IF('Simulador Valora'!$X$41=2,'Simulador Valora'!$K$55,'Simulador Valora'!$E$55)))","v":0},null,0,null,null,null,0,0.12,0,0,0,0,0,{"$f":"IF(AD70<=0,0,AD70*IF('Simulador Valora'!$AC$81=1,0,'Simulador Valora'!$Y$75))+IF(AD70<=0,0,IF('Simulador Valora'!$X$41=1,'Simulador Valora'!$O$55,IF('Simulador Valora'!$X$41=2,'Simulador Valora'!$K$55,'Simulador Valora'!$E$55)))","v":0},null,0,0,null,4,6,0,0,0,187,"",0,54]
[55,0,null,{"$f":"IF(B71+F71-D70<=0,B71+F71,IF(A71=$B$9,$F$9,IF(A71=$B$10,$F$10,IF(AND('Simulador Valora'!$AH$45=2,L70=0),D70*(1+Z71),IF($AM$3=2,B71*AL71,D70*(1+Z71))))))","v":0},null,0,null,0,null,null,null,null,null,{"$f":"IF('Simulador Valora'!$V$66=1,0,L71*'Simulador Valora'!$O$69*'Simulador Valora'!$W$65)","v":0},null,0,null,0,null,{"$f":"IF(B71<=0,0,B71*IF('Simulador Valora'!$AC$81=1,0,'Simulador Valora'!$Y$75))","v":0},null,{"$f":"IF(B71<=0,0,IF('Simulador Valora'!$X$41=1,'Simulador Valora'!$O$55,IF('Simulador Valora'!$X$41=2,'Simulador Valora'!$K$55,'Simulador Valora'!$E$55)))","v":0},null,0,null,null,null,0,0.12,0,0,0,0,0,{"$f":"IF(AD71<=0,0,AD71*IF('Simulador Valora'!$AC$81=1,0,'Simulador Valora'!$Y$75))+IF(AD71<=0,0,IF('Simulador Valora'!$X$41=1,'Simulador Valora'!$O$55,IF('Simulador Valora'!$X$41=2,'Simulador Valora'!$K$55,'Simulador Valora'!$E$55)))","v":0},null,0,0,null,4,7,0,0,0,186,"",0,55]
[56,0,null,{"$f":"IF(B72+F72-D71<=0,B72+F72,IF(A72=$B$9,$F$9,IF(A72=$B$10,$F$10,IF(AND('Simulador Valora'!$AH$45=2,L71=0),D71*(1+Z72),IF($AM$3=2,B72*AL72,D71*(1+Z72))))))","v":0},null,0,null,0,null,{"$f":"IF(B72-H72=0,0,J70)","v":0},null,null,null,{"$f":"IF('Simulador Valora'!$V$66=1,0,L72*'Simulador Valora'!$O$69*'Simulador Valora'!$W$65)","v":0},null,0,null,0,null,{"$f":"IF(B72<=0,0,B72*IF('Simulador Valora'!$AC$81=1,0,'Simulador Valora'!$Y$75))","v":0},null,{"$f":"IF(B72<=0,0,IF('Simulador Valora'!$X$41=1,'Simulador Valora'!$O$55,IF('Simulador Valora'!$X$41=2,'Simulador Valora'!$K$55,'Simulador Valora'!$E$55)))","v":0},null,0,null,null,null,0,0.12,0,0,0,0,0,{"$f":"IF(AD72<=0,0,AD72*IF('Simulador Valora'!$AC$81=1,0,'Simulador Valora'!$Y$75))+IF(AD72<=0,0,IF('Simulador Valora'!$X$41=1,'Simulador Valora'!$O$55,IF('Simulador Valora'!$X$41=2,'Simulador Valora'!$K$55,'Simulador Valora'!$E$55)))","v":0},null,0,0,null,4,8,0,0,0,185,"",0,56]
[57,0,null,{"$f":"IF(B73+F73-D72<=0,B73+F73,IF(A73=$B$9,$F$9,IF(A73=$B$10,$F$10,IF(AND('Simulador Valora'!$AH$45=2,L72=0),D72*(1+Z73),IF($AM$3=2,B73*AL73,D72*(1+Z73))))))","v":0},null,0,null,0,null,null,null,null,null,{"$f":"IF('Simulador Valora'!$V$66=1,0,L73*'Simulador Valora'!$O$69*'Simulador Valora'!$W$65)","v":0},null,0,null,0,null,{"$f":"IF(B73<=0,0,B73*IF('Simulador Valora'!$AC$81=1,0,'Simulador Valora'!$Y$75))","v":0},null,{"$f":"IF(B73<=0,0,IF('Simulador Valora'!$X$41=1,'Simulador Valora'!$O$55,IF('Simulador Valora'!$X$41=2,'Simulador Valora'!$K$55,'Simulador Valora'!$E$55)))","v":0},null,0,null,null,null,0,0.12,0,0,0,0,0,{"$f":"IF(AD73<=0,0,AD73*IF('Simulador Valora'!$AC$81=1,0,'Simulador Valora'!$Y$75))+IF(AD73<=0,0,IF('Simulador Valora'!$X$41=1,'Simulador Valora'!$O$55,IF('Simulador Valora'!$X$41=2,'Simulador Valora'!$K$55,'Simulador Valora'!$E$55)))","v":0},null,0,0,null,4,9,0,0,0,184,"",0,57]
[58,0,null,{"$f":"IF(B74+F74-D73<=0,B74+F74,IF(A74=$B$9,$F$9,IF(A74=$B$10,$F$10,IF(AND('Simulador Valora'!$AH$45=2,L73=0),D73*(1+Z74),IF($AM$3=2,B74*AL74,D73*(1+Z74))))))","v":0},null,0,null,0,null,{"$f":"IF(B74-H74=0,0,J72)","v":0},null,null,null,{"$f":"IF('Simulador Valora'!$V$66=1,0,L74*'Simulador Valora'!$O$69*'Simulador Valora'!$W$65)","v":0},null,0,null,0,null,{"$f":"IF(B74<=0,0,B74*IF('Simulador Valora'!$AC$81=1,0,'Simulador Valora'!$Y$75))","v":0},null,{"$f":"IF(B74<=0,0,IF('Simulador Valora'!$X$41=1,'Simulador Valora'!$O$55,IF('Simulador Valora'!$X$41=2,'Simulador Valora'!$K$55,'Simulador Valora'!$E$55)))","v":0},null,0,null,null,null,0,0.12,0,0,0,0,0,{"$f":"IF(AD74<=0,0,AD74*IF('Simulador Valora'!$AC$81=1,0,'Simulador Valora'!$Y$75))+IF(AD74<=0,0,IF('Simulador Valora'!$X$41=1,'Simulador Valora'!$O$55,IF('Simulador Valora'!$X$41=2,'Simulador Valora'!$K$55,'Simulador Valora'!$E$55)))","v":0},null,0,0,null,4,10,0,0,0,183,"",0,58]
[59,0,null,{"$f":"IF(B75+F75-D74<=0,B75+F75,IF(A75=$B$9,$F$9,IF(A75=$B$10,$F$10,IF(AND('Simulador Valora'!$AH$45=2,L74=0),D74*(1+Z75),IF($AM$3=2,B75*AL75,D74*(1+Z75))))))","v":0},null,0,null,0,null,null,null,null,null,{"$f":"IF('Simulador Valora'!$V$66=1,0,L75*'Simulador Valora'!$O$69*'Simulador Valora'!$W$65)","v":0},null,0,null,0,null,{"$f":"IF(B75<=0,0,B75*IF('Simulador Valora'!$AC$81=1,0,'Simulador Valora'!$Y$75))","v":0},null,{"$f":"IF(B75<=0,0,IF('Simulador Valora'!$X$41=1,'Simulador Valora'!$O$55,IF('Simulador Valora'!$X$41=2,'Simulador Valora'!$K$55,'Simulador Valora'!$E$55)))","v":0},null,0,null,null,null,0,0.12,0,0,0,0,0,{"$f":"IF(AD75<=0,0,AD75*IF('Simulador Valora'!$AC$81=1,0,'Simulador Valora'!$Y$75))+IF(AD75<=0,0,IF('Simulador Valora'!$X$41=1,'Simulador Valora'!$O$55,IF('Simulador Valora'!$X$41=2,'Simulador Valora'!$K$55,'Simulador Valora'!$E$55)))","v":0},null,0,0,null,4,11,0,0,0,{"$f":"IFERROR(IF(AC77<=0.01,0,AS74-1),0)","v":182},"",0,59]
[60,0,null,{"$f":"IF(B76+F76-D75<=0,B76+F76,IF(A76=$B$9,$F$9,IF(A76=$B$10,$F$10,IF(AND('Simulador Valora'!$AH$45=2,L75=0),D75*(1+Z76),IF($AM$3=2,B76*AL76,D75*(1+Z76))))))","v":0},null,0,null,0,null,{"$f":"IF(B76-H76=0,0,J74)","v":0},null,null,null,{"$f":"IF('Simulador Valora'!$V$66=1,0,L76*'Simulador Valora'!$O$69*'Simulador Valora'!$W$65)","v":0},null,0,null,0,null,{"$f":"IF(B76<=0,0,B76*IF('Simulador Valora'!$AC$81=1,0,'Simulador Valora'!$Y$75))","v":0},null,{"$f":"IF(B76<=0,0,IF('Simulador Valora'!$X$41=1,'Simulador Valora'!$O$55,IF('Simulador Valora'!$X$41=2,'Simulador Valora'!$K$55,'Simulador Valora'!$E$55)))","v":0},null,0,null,null,null,0,0.12,0,0,0,0,0,{"$f":"IF(AD76<=0,0,AD76*IF('Simulador Valora'!$AC$81=1,0,'Simulador Valora'!$Y$75))+IF(AD76<=0,0,IF('Simulador Valora'!$X$41=1,'Simulador Valora'!$O$55,IF('Simulador Valora'!$X$41=2,'Simulador Valora'!$K$55,'Simulador Valora'!$E$55)))","v":0},null,0,0,null,5,0,0,0,0,{"$f":"IFERROR(IF(AC76<=0.01,0,AS75-1),0)","v":181},"",0,60]
[61,0,null,{"$f":"IF(B77+F77-D76<=0,B77+F77,IF(A77=$B$9,$F$9,IF(A77=$B$10,$F$10,IF(AND('Simulador Valora'!$AH$45=2,L76=0),D76*(1+Z77),IF($AM$3=2,B77*AL77,D76*(1+Z77))))))","v":0},null,0,null,0,null,null,null,null,null,{"$f":"IF('Simulador Valora'!$V$66=1,0,L77*'Simulador Valora'!$O$69*'Simulador Valora'!$W$65)","v":0},null,0,null,0,null,{"$f":"IF(B77<=0,0,B77*IF('Simulador Valora'!$AC$81=1,0,'Simulador Valora'!$Y$75))","v":0},null,{"$f":"IF(B77<=0,0,IF('Simulador Valora'!$X$41=1,'Simulador Valora'!$O$55,IF('Simulador Valora'!$X$41=2,'Simulador Valora'!$K$55,'Simulador Valora'!$E$55)))","v":0},null,0,null,{"$f":"IF(B77<=0,0,'Simulador Valora'!$AI$54)","v":0},null,0,{"$f":"IF(AC76=$AC$6,AC76,IF(AC76=$AC$5,AC76,AC76-0.25%))","v":0.12},0,0,0,0,0,{"$f":"IF(AD77<=0,0,AD77*IF('Simulador Valora'!$AC$81=1,0,'Simulador Valora'!$Y$75))+IF(AD77<=0,0,IF('Simulador Valora'!$X$41=1,'Simulador Valora'!$O$55,IF('Simulador Valora'!$X$41=2,'Simulador Valora'!$K$55,'Simulador Valora'!$E$55)))","v":0},{"$f":"IF(AC77<=0,0,$AJ$29)","v":0},0,0,null,5,1,0,0,0,180,"",0,61]
[62,0,null,{"$f":"IF(B78+F78-D77<=0,B78+F78,IF(A78=$B$9,$F$9,IF(A78=$B$10,$F$10,IF(AND('Simulador Valora'!$AH$45=2,L77=0),D77*(1+Z78),IF($AM$3=2,B78*AL78,D77*(1+Z78))))))","v":0},null,0,null,0,null,{"$f":"IF(B78-H78=0,0,J76*(1+(3%)))","v":0},null,null,null,{"$f":"IF('Simulador Valora'!$V$66=1,0,L78*'Simulador Valora'!$O$69*'Simulador Valora'!$W$65)","v":0},null,0,null,0,null,{"$f":"IF(B78<=0,0,B78*IF('Simulador Valora'!$AC$81=1,0,'Simulador Valora'!$Y$75))","v":0},null,{"$f":"IF(B78<=0,0,IF('Simulador Valora'!$X$41=1,'Simulador Valora'!$O$55,IF('Simulador Valora'!$X$41=2,'Simulador Valora'!$K$55,'Simulador Valora'!$E$55)))","v":0},null,0,null,null,null,0,{"$f":"AC77","v":0.12},0,0,0,0,0,{"$f":"IF(AD78<=0,0,AD78*IF('Simulador Valora'!$AC$81=1,0,'Simulador Valora'!$Y$75))+IF(AD78<=0,0,IF('Simulador Valora'!$X$41=1,'Simulador Valora'!$O$55,IF('Simulador Valora'!$X$41=2,'Simulador Valora'!$K$55,'Simulador Valora'!$E$55)))","v":0},null,0,0,null,5,2,0,0,0,179,"",0,62]
[63,0,null,{"$f":"IF(B79+F79-D78<=0,B79+F79,IF(A79=$B$9,$F$9,IF(A79=$B$10,$F$10,IF(AND('Simulador Valora'!$AH$45=2,L78=0),D78*(1+Z79),IF($AM$3=2,B79*AL79,D78*(1+Z79))))))","v":0},null,0,null,0,null,null,null,null,null,{"$f":"IF('Simulador Valora'!$V$66=1,0,L79*'Simulador Valora'!$O$69*'Simulador Valora'!$W$65)","v":0},null,0,null,0,null,{"$f":"IF(B79<=0,0,B79*IF('Simulador Valora'!$AC$81=1,0,'Simulador Valora'!$Y$75))","v":0},null,{"$f":"IF(B79<=0,0,IF('Simulador Valora'!$X$41=1,'Simulador Valora'!$O$55,IF('Simulador Valora'!$X$41=2,'Simulador Valora'!$K$55,'Simulador Valora'!$E$55)))","v":0},null,0,null,null,null,0,{"$f":"AC78","v":0.12},0,0,0,0,0,{"$f":"IF(AD79<=0,0,AD79*IF('Simulador Valora'!$AC$81=1,0,'Simulador Valora'!$Y$75))+IF(AD79<=0,0,IF('Simulador Valora'!$X$41=1,'Simulador Valora'!$O$55,IF('Simulador Valora'!$X$41=2,'Simulador Valora'!$K$55,'Simulador Valora'!$E$55)))","v":0},null,0,0,null,5,3,0,0,0,178,"",0,63]
[64,0,null,{"$f":"IF(B80+F80-D79<=0,B80+F80,IF(A80=$B$9,$F$9,IF(A80=$B$10,$F$10,IF(AND('Simulador Valora'!$AH$45=2,L79=0),D79*(1+Z80),IF($AM$3=2,B80*AL80,D79*(1+Z80))))))","v":0},null,0,null,0,null,{"$f":"IF(B80-H80=0,0,J78)","v":0},null,null,null,{"$f":"IF('Simulador Valora'!$V$66=1,0,L80*'Simulador Valora'!$O$69*'Simulador Valora'!$W$65)","v":0},null,0,null,0,null,{"$f":"IF(B80<=0,0,B80*IF('Simulador Valora'!$AC$81=1,0,'Simulador Valora'!$Y$75))","v":0},null,{"$f":"IF(B80<=0,0,IF('Simulador Valora'!$X$41=1,'Simulador Valora'!$O$55,IF('Simulador Valora'!$X$41=2,'Simulador Valora'!$K$55,'Simulador Valora'!$E$55)))","v":0},null,0,null,null,null,0,0.12,0,0,0,0,0,{"$f":"IF(AD80<=0,0,AD80*IF('Simulador Valora'!$AC$81=1,0,'Simulador Valora'!$Y$75))+IF(AD80<=0,0,IF('Simulador Valora'!$X$41=1,'Simulador Valora'!$O$55,IF('Simulador Valora'!$X$41=2,'Simulador Valora'!$K$55,'Simulador Valora'!$E$55)))","v":0},null,0,0,null,5,4,0,0,0,177,"",0,64]
[65,0,null,{"$f":"IF(B81+F81-D80<=0,B81+F81,IF(A81=$B$9,$F$9,IF(A81=$B$10,$F$10,IF(AND('Simulador Valora'!$AH$45=2,L80=0),D80*(1+Z81),IF($AM$3=2,B81*AL81,D80*(1+Z81))))))","v":0},null,{"$f":"IF(B81=0,0,P81/360*AU81*B81)","v":0},null,0,null,null,null,null,null,{"$f":"IF('Simulador Valora'!$V$66=1,0,L81*'Simulador Valora'!$O$69*'Simulador Valora'!$W$65)","v":0},null,0,null,0,null,{"$f":"IF(B81<=0,0,B81*IF('Simulador Valora'!$AC$81=1,0,'Simulador Valora'!$Y$75))","v":0},null,{"$f":"IF(B81<=0,0,IF('Simulador Valora'!$X$41=1,'Simulador Valora'!$O$55,IF('Simulador Valora'!$X$41=2,'Simulador Valora'!$K$55,'Simulador Valora'!$E$55)))","v":0},null,0,null,null,null,0,0.12,0,0,{"$f":"IFERROR(AC81/360*AU81*AD81,0)","v":0},0,0,{"$f":"IF(AD81<=0,0,AD81*IF('Simulador Valora'!$AC$81=1,0,'Simulador Valora'!$Y$75))+IF(AD81<=0,0,IF('Simulador Valora'!$X$41=1,'Simulador Valora'!$O$55,IF('Simulador Valora'!$X$41=2,'Simulador Valora'!$K$55,'Simulador Valora'!$E$55)))","v":0},null,{"$f":"IF(AD81<=0,0,AE81+AI81)","v":0},{"$f":"IFERROR(AE81/AD81,0)","v":0},null,5,5,{"$f":"+IF(R81<=0,IF(R80>0,+A81,0),0)","v":0},0,0,176,"",0,65]
[66,{"$f":"IF(R81<0,0,IF(A82=$B$9,R81+$D$9,IF(A82=$B$10,R81+$D$10,R81)))","v":0},null,{"$f":"IF(B82+F82-D81<=0,B82+F82,IF(A82=$B$9,$F$9,IF(A82=$B$10,$F$10,IF(AND('Simulador Valora'!$AH$45=2,L81=0),D81*(1+Z82),IF($AM$3=2,B82*AL82,D81*(1+Z82))))))","v":0},null,0,null,0,null,{"$f":"IF(B82-H82=0,0,J80)","v":0},null,null,null,{"$f":"IF('Simulador Valora'!$V$66=1,0,L82*'Simulador Valora'!$O$69*'Simulador Valora'!$W$65)","v":0},null,{"$f":"IF(B82=0,0,AC82)","v":0},null,{"$f":"B82-H82-J82-L82+N82","v":0},null,{"$f":"IF(B82<=0,0,B82*IF('Simulador Valora'!$AC$81=1,0,'Simulador Valora'!$Y$75))","v":0},null,{"$f":"IF(B82<=0,0,IF('Simulador Valora'!$X$41=1,'Simulador Valora'!$O$55,IF('Simulador Valora'!$X$41=2,'Simulador Valora'!$K$55,'Simulador Valora'!$E$55)))","v":0},null,{"$f":"IF(B82<=0,0,(D82+L82+T82+V82))","v":0},null,null,null,{"$f":"X82","v":0},0.12,0,0,0,0,{"$f":"+AD82-AG82","v":0},{"$f":"IF(AD82<=0,0,AD82*IF('Simulador Valora'!$AC$81=1,0,'Simulador Valora'!$Y$75))+IF(AD82<=0,0,IF('Simulador Valora'!$X$41=1,'Simulador Valora'!$O$55,IF('Simulador Valora'!$X$41=2,'Simulador Valora'!$K$55,'Simulador Valora'!$E$55)))","v":0},null,0,0,null,5,6,0,{"$f":"+IF(AP82>0,+AN82,0)","v":0},{"$f":"+IF(AP82>0,+AO82,0)","v":0},175,"",{"$f":"IFERROR(DAY(DATE(YEAR(AT82),MONTH(AT82)+1,0)),0)","v":0},66]
[67,0,null,{"$f":"IF(B83+F83-D82<=0,B83+F83,IF(A83=$B$9,$F$9,IF(A83=$B$10,$F$10,IF(AND('Simulador Valora'!$AH$45=2,L82=0),D82*(1+Z83),IF($AM$3=2,B83*AL83,D82*(1+Z83))))))","v":0},null,0,null,{"$f":"D83-F83","v":0},null,null,null,null,null,{"$f":"IF('Simulador Valora'!$V$66=1,0,L83*'Simulador Valora'!$O$69*'Simulador Valora'!$W$65)","v":0},null,0,null,0,null,{"$f":"IF(B83<=0,0,B83*IF('Simulador Valora'!$AC$81=1,0,'Simulador Valora'!$Y$75))","v":0},null,{"$f":"IF(B83<=0,0,IF('Simulador Valora'!$X$41=1,'Simulador Valora'!$O$55,IF('Simulador Valora'!$X$41=2,'Simulador Valora'!$K$55,'Simulador Valora'!$E$55)))","v":0},null,0,null,null,null,0,0.12,{"$f":"IF(AH82<0,0,IF($A83=$B$9,AH82+$D$9,IF($A83=$B$10,AH82+$D$10,AH82)))","v":0},{"$f":"IF(AD83+AF83-AE82<=0,AD83+AF83,IF($A83=$B$9,$F$9,IF($A83=$B$10,$F$10,AE82*(1+Z83))))","v":0},0,{"$f":"+AE83-AF83","v":0},0,{"$f":"IF(AD83<=0,0,AD83*IF('Simulador Valora'!$AC$81=1,0,'Simulador Valora'!$Y$75))+IF(AD83<=0,0,IF('Simulador Valora'!$X$41=1,'Simulador Valora'!$O$55,IF('Simulador Valora'!$X$41=2,'Simulador Valora'!$K$55,'Simulador Valora'!$E$55)))","v":0},null,0,0,null,5,7,0,0,0,174,{"$f":"IF(AD83=0,\"\",DATE(YEAR(AT82),MONTH(AT82)+1,1))","v":""},0,67]
[68,0,null,{"$f":"IF(B84+F84-D83<=0,B84+F84,IF(A84=$B$9,$F$9,IF(A84=$B$10,$F$10,IF(AND('Simulador Valora'!$AH$45=2,L83=0),D83*(1+Z84),IF($AM$3=2,B84*AL84,D83*(1+Z84))))))","v":0},null,0,null,0,null,{"$f":"IF(B84-H84=0,0,J82)","v":0},null,null,null,{"$f":"IF('Simulador Valora'!$V$66=1,0,L84*'Simulador Valora'!$O$69*'Simulador Valora'!$W$65)","v":0},null,0,null,0,null,{"$f":"IF(B84<=0,0,B84*IF('Simulador Valora'!$AC$81=1,0,'Simulador Valora'!$Y$75))","v":0},null,{"$f":"IF(B84<=0,0,IF('Simulador Valora'!$X$41=1,'Simulador Valora'!$O$55,IF('Simulador Valora'!$X$41=2,'Simulador Valora'!$K$55,'Simulador Valora'!$E$55)))","v":0},null,0,null,null,null,0,0.12,0,0,0,0,0,{"$f":"IF(AD84<=0,0,AD84*IF('Simulador Valora'!$AC$81=1,0,'Simulador Valora'!$Y$75))+IF(AD84<=0,0,IF('Simulador Valora'!$X$41=1,'Simulador Valora'!$O$55,IF('Simulador Valora'!$X$41=2,'Simulador Valora'!$K$55,'Simulador Valora'!$E$55)))","v":0},null,0,0,null,5,8,0,0,0,173,"",0,68]
[69,0,null,{"$f":"IF(B85+F85-D84<=0,B85+F85,IF(A85=$B$9,$F$9,IF(A85=$B$10,$F$10,IF(AND('Simulador Valora'!$AH$45=2,L84=0),D84*(1+Z85),IF($AM$3=2,B85*AL85,D84*(1+Z85))))))","v":0},null,0,null,0,null,null,null,null,null,{"$f":"IF('Simulador Valora'!$V$66=1,0,L85*'Simulador Valora'!$O$69*'Simulador Valora'!$W$65)","v":0},null,0,null,0,null,{"$f":"IF(B85<=0,0,B85*IF('Simulador Valora'!$AC$81=1,0,'Simulador Valora'!$Y$75))","v":0},null,{"$f":"IF(B85<=0,0,IF('Simulador Valora'!$X$41=1,'Simulador Valora'!$O$55,IF('Simulador Valora'!$X$41=2,'Simulador Valora'!$K$55,'Simulador Valora'!$E$55)))","v":0},null,0,null,null,null,0,0.12,0,0,0,0,0,{"$f":"IF(AD85<=0,0,AD85*IF('Simulador Valora'!$AC$81=1,0,'Simulador Valora'!$Y$75))+IF(AD85<=0,0,IF('Simulador Valora'!$X$41=1,'Simulador Valora'!$O$55,IF('Simulador Valora'!$X$41=2,'Simulador Valora'!$K$55,'Simulador Valora'!$E$55)))","v":0},null,0,0,null,5,9,0,0,0,172,"",0,69]
[70,0,null,{"$f":"IF(B86+F86-D85<=0,B86+F86,IF(A86=$B$9,$F$9,IF(A86=$B$10,$F$10,IF(AND('Simulador Valora'!$AH$45=2,L85=0),D85*(1+Z86),IF($AM$3=2,B86*AL86,D85*(1+Z86))))))","v":0},null,0,null,0,null,{"$f":"IF(B86-H86=0,0,J84)","v":0},null,null,null,{"$f":"IF('Simulador Valora'!$V$66=1,0,L86*'Simulador Valora'!$O$69*'Simulador Valora'!$W$65)","v":0},null,0,null,0,null,{"$f":"IF(B86<=0,0,B86*IF('Simulador Valora'!$AC$81=1,0,'Simulador Valora'!$Y$75))","v":0},null,{"$f":"IF(B86<=0,0,IF('Simulador Valora'!$X$41=1,'Simulador Valora'!$O$55,IF('Simulador Valora'!$X$41=2,'Simulador Valora'!$K$55,'Simulador Valora'!$E$55)))","v":0},null,0,null,null,null,0,0.12,0,0,0,0,0,{"$f":"IF(AD86<=0,0,AD86*IF('Simulador Valora'!$AC$81=1,0,'Simulador Valora'!$Y$75))+IF(AD86<=0,0,IF('Simulador Valora'!$X$41=1,'Simulador Valora'!$O$55,IF('Simulador Valora'!$X$41=2,'Simulador Valora'!$K$55,'Simulador Valora'!$E$55)))","v":0},null,0,0,null,5,10,0,0,0,171,"",0,70]
[71,0,null,{"$f":"IF(B87+F87-D86<=0,B87+F87,IF(A87=$B$9,$F$9,IF(A87=$B$10,$F$10,IF(AND('Simulador Valora'!$AH$45=2,L86=0),D86*(1+Z87),IF($AM$3=2,B87*AL87,D86*(1+Z87))))))","v":0},null,0,null,0,null,null,null,null,null,{"$f":"IF('Simulador Valora'!$V$66=1,0,L87*'Simulador Valora'!$O$69*'Simulador Valora'!$W$65)","v":0},null,0,null,0,null,{"$f":"IF(B87<=0,0,B87*IF('Simulador Valora'!$AC$81=1,0,'Simulador Valora'!$Y$75))","v":0},null,{"$f":"IF(B87<=0,0,IF('Simulador Valora'!$X$41=1,'Simulador Valora'!$O$55,IF('Simulador Valora'!$X$41=2,'Simulador Valora'!$K$55,'Simulador Valora'!$E$55)))","v":0},null,0,null,null,null,0,0.12,0,0,0,0,0,{"$f":"IF(AD87<=0,0,AD87*IF('Simulador Valora'!$AC$81=1,0,'Simulador Valora'!$Y$75))+IF(AD87<=0,0,IF('Simulador Valora'!$X$41=1,'Simulador Valora'!$O$55,IF('Simulador Valora'!$X$41=2,'Simulador Valora'!$K$55,'Simulador Valora'!$E$55)))","v":0},null,0,0,null,5,11,0,0,0,170,"",0,71]
[72,0,null,{"$f":"IF(B88+F88-D87<=0,B88+F88,IF(A88=$B$9,$F$9,IF(A88=$B$10,$F$10,IF(AND('Simulador Valora'!$AH$45=2,L87=0),D87*(1+Z88),IF($AM$3=2,B88*AL88,D87*(1+Z88))))))","v":0},null,0,null,0,null,{"$f":"IF(B88-H88=0,0,J86)","v":0},null,null,null,{"$f":"IF('Simulador Valora'!$V$66=1,0,L88*'Simulador Valora'!$O$69*'Simulador Valora'!$W$65)","v":0},null,0,null,0,null,{"$f":"IF(B88<=0,0,B88*IF('Simulador Valora'!$AC$81=1,0,'Simulador Valora'!$Y$75))","v":0},null,{"$f":"IF(B88<=0,0,IF('Simulador Valora'!$X$41=1,'Simulador Valora'!$O$55,IF('Simulador Valora'!$X$41=2,'Simulador Valora'!$K$55,'Simulador Valora'!$E$55)))","v":0},null,0,null,null,null,0,0.12,0,0,0,0,0,{"$f":"IF(AD88<=0,0,AD88*IF('Simulador Valora'!$AC$81=1,0,'Simulador Valora'!$Y$75))+IF(AD88<=0,0,IF('Simulador Valora'!$X$41=1,'Simulador Valora'!$O$55,IF('Simulador Valora'!$X$41=2,'Simulador Valora'!$K$55,'Simulador Valora'!$E$55)))","v":0},null,0,0,null,6,0,0,0,0,169,"",0,72]
[73,0,null,{"$f":"IF(B89+F89-D88<=0,B89+F89,IF(A89=$B$9,$F$9,IF(A89=$B$10,$F$10,IF(AND('Simulador Valora'!$AH$45=2,L88=0),D88*(1+Z89),IF($AM$3=2,B89*AL89,D88*(1+Z89))))))","v":0},null,0,null,0,null,null,null,null,null,{"$f":"IF('Simulador Valora'!$V$66=1,0,L89*'Simulador Valora'!$O$69*'Simulador Valora'!$W$65)","v":0},null,0,null,0,null,{"$f":"IF(B89<=0,0,B89*IF('Simulador Valora'!$AC$81=1,0,'Simulador Valora'!$Y$75))","v":0},null,{"$f":"IF(B89<=0,0,IF('Simulador Valora'!$X$41=1,'Simulador Valora'!$O$55,IF('Simulador Valora'!$X$41=2,'Simulador Valora'!$K$55,'Simulador Valora'!$E$55)))","v":0},null,0,null,{"$f":"IF(B89<=0,0,'Simulador Valora'!$AI$54)","v":0},null,0,{"$f":"IF(AC88=$AC$6,AC88,IF(AC88=$AC$5,AC88,AC88-0.25%))","v":0.12},0,0,0,0,0,{"$f":"IF(AD89<=0,0,AD89*IF('Simulador Valora'!$AC$81=1,0,'Simulador Valora'!$Y$75))+IF(AD89<=0,0,IF('Simulador Valora'!$X$41=1,'Simulador Valora'!$O$55,IF('Simulador Valora'!$X$41=2,'Simulador Valora'!$K$55,'Simulador Valora'!$E$55)))","v":0},{"$f":"IF(AC89<=0,0,$AJ$29)","v":0},0,0,null,6,1,0,0,0,168,"",0,73]
[74,0,null,{"$f":"IF(B90+F90-D89<=0,B90+F90,IF(A90=$B$9,$F$9,IF(A90=$B$10,$F$10,IF(AND('Simulador Valora'!$AH$45=2,L89=0),D89*(1+Z90),IF($AM$3=2,B90*AL90,D89*(1+Z90))))))","v":0},null,0,null,0,null,{"$f":"IF(B90-H90=0,0,J88*(1+(3%)))","v":0},null,null,null,{"$f":"IF('Simulador Valora'!$V$66=1,0,L90*'Simulador Valora'!$O$69*'Simulador Valora'!$W$65)","v":0},null,0,null,0,null,{"$f":"IF(B90<=0,0,B90*IF('Simulador Valora'!$AC$81=1,0,'Simulador Valora'!$Y$75))","v":0},null,{"$f":"IF(B90<=0,0,IF('Simulador Valora'!$X$41=1,'Simulador Valora'!$O$55,IF('Simulador Valora'!$X$41=2,'Simulador Valora'!$K$55,'Simulador Valora'!$E$55)))","v":0},null,0,null,null,null,0,{"$f":"AC89","v":0.12},0,0,0,0,0,{"$f":"IF(AD90<=0,0,AD90*IF('Simulador Valora'!$AC$81=1,0,'Simulador Valora'!$Y$75))+IF(AD90<=0,0,IF('Simulador Valora'!$X$41=1,'Simulador Valora'!$O$55,IF('Simulador Valora'!$X$41=2,'Simulador Valora'!$K$55,'Simulador Valora'!$E$55)))","v":0},null,0,0,null,6,2,0,0,0,167,"",0,74]
[75,0,null,{"$f":"IF(B91+F91-D90<=0,B91+F91,IF(A91=$B$9,$F$9,IF(A91=$B$10,$F$10,IF(AND('Simulador Valora'!$AH$45=2,L90=0),D90*(1+Z91),IF($AM$3=2,B91*AL91,D90*(1+Z91))))))","v":0},null,0,null,0,null,null,null,null,null,{"$f":"IF('Simulador Valora'!$V$66=1,0,L91*'Simulador Valora'!$O$69*'Simulador Valora'!$W$65)","v":0},null,0,null,0,null,{"$f":"IF(B91<=0,0,B91*IF('Simulador Valora'!$AC$81=1,0,'Simulador Valora'!$Y$75))","v":0},null,{"$f":"IF(B91<=0,0,IF('Simulador Valora'!$X$41=1,'Simulador Valora'!$O$55,IF('Simulador Valora'!$X$41=2,'Simulador Valora'!$K$55,'Simulador Valora'!$E$55)))","v":0},null,0,null,null,null,0,{"$f":"AC90","v":0.12},0,0,0,0,0,{"$f":"IF(AD91<=0,0,AD91*IF('Simulador Valora'!$AC$81=1,0,'Simulador Valora'!$Y$75))+IF(AD91<=0,0,IF('Simulador Valora'!$X$41=1,'Simulador Valora'!$O$55,IF('Simulador Valora'!$X$41=2,'Simulador Valora'!$K$55,'Simulador Valora'!$E$55)))","v":0},null,0,0,null,6,3,0,0,0,166,"",0,75]
[76,0,null,{"$f":"IF(B92+F92-D91<=0,B92+F92,IF(A92=$B$9,$F$9,IF(A92=$B$10,$F$10,IF(AND('Simulador Valora'!$AH$45=2,L91=0),D91*(1+Z92),IF($AM$3=2,B92*AL92,D91*(1+Z92))))))","v":0},null,0,null,0,null,{"$f":"IF(B92-H92=0,0,J90)","v":0},null,null,null,{"$f":"IF('Simulador Valora'!$V$66=1,0,L92*'Simulador Valora'!$O$69*'Simulador Valora'!$W$65)","v":0},null,0,null,0,null,{"$f":"IF(B92<=0,0,B92*IF('Simulador Valora'!$AC$81=1,0,'Simulador Valora'!$Y$75))","v":0},null,{"$f":"IF(B92<=0,0,IF('Simulador Valora'!$X$41=1,'Simulador Valora'!$O$55,IF('Simulador Valora'!$X$41=2,'Simulador Valora'!$K$55,'Simulador Valora'!$E$55)))","v":0},null,0,null,null,null,0,0.12,0,0,0,0,0,{"$f":"IF(AD92<=0,0,AD92*IF('Simulador Valora'!$AC$81=1,0,'Simulador Valora'!$Y$75))+IF(AD92<=0,0,IF('Simulador Valora'!$X$41=1,'Simulador Valora'!$O$55,IF('Simulador Valora'!$X$41=2,'Simulador Valora'!$K$55,'Simulador Valora'!$E$55)))","v":0},null,0,0,null,6,4,0,0,0,165,"",0,76]
[77,0,null,{"$f":"IF(B93+F93-D92<=0,B93+F93,IF(A93=$B$9,$F$9,IF(A93=$B$10,$F$10,IF(AND('Simulador Valora'!$AH$45=2,L92=0),D92*(1+Z93),IF($AM$3=2,B93*AL93,D92*(1+Z93))))))","v":0},null,0,null,0,null,null,null,null,null,{"$f":"IF('Simulador Valora'!$V$66=1,0,L93*'Simulador Valora'!$O$69*'Simulador Valora'!$W$65)","v":0},null,0,null,0,null,{"$f":"IF(B93<=0,0,B93*IF('Simulador Valora'!$AC$81=1,0,'Simulador Valora'!$Y$75))","v":0},null,{"$f":"IF(B93<=0,0,IF('Simulador Valora'!$X$41=1,'Simulador Valora'!$O$55,IF('Simulador Valora'!$X$41=2,'Simulador Valora'!$K$55,'Simulador Valora'!$E$55)))","v":0},null,0,null,null,null,0,0.12,0,0,0,0,0,{"$f":"IF(AD93<=0,0,AD93*IF('Simulador Valora'!$AC$81=1,0,'Simulador Valora'!$Y$75))+IF(AD93<=0,0,IF('Simulador Valora'!$X$41=1,'Simulador Valora'!$O$55,IF('Simulador Valora'!$X$41=2,'Simulador Valora'!$K$55,'Simulador Valora'!$E$55)))","v":0},null,0,0,null,6,5,0,0,0,164,"",0,77]
[78,0,null,{"$f":"IF(B94+F94-D93<=0,B94+F94,IF(A94=$B$9,$F$9,IF(A94=$B$10,$F$10,IF(AND('Simulador Valora'!$AH$45=2,L93=0),D93*(1+Z94),IF($AM$3=2,B94*AL94,D93*(1+Z94))))))","v":0},null,0,null,0,null,{"$f":"IF(B94-H94=0,0,J92)","v":0},null,null,null,{"$f":"IF('Simulador Valora'!$V$66=1,0,L94*'Simulador Valora'!$O$69*'Simulador Valora'!$W$65)","v":0},null,0,null,0,null,{"$f":"IF(B94<=0,0,B94*IF('Simulador Valora'!$AC$81=1,0,'Simulador Valora'!$Y$75))","v":0},null,{"$f":"IF(B94<=0,0,IF('Simulador Valora'!$X$41=1,'Simulador Valora'!$O$55,IF('Simulador Valora'!$X$41=2,'Simulador Valora'!$K$55,'Simulador Valora'!$E$55)))","v":0},null,0,null,null,null,0,0.12,0,0,0,0,0,{"$f":"IF(AD94<=0,0,AD94*IF('Simulador Valora'!$AC$81=1,0,'Simulador Valora'!$Y$75))+IF(AD94<=0,0,IF('Simulador Valora'!$X$41=1,'Simulador Valora'!$O$55,IF('Simulador Valora'!$X$41=2,'Simulador Valora'!$K$55,'Simulador Valora'!$E$55)))","v":0},null,0,0,null,6,6,0,0,0,163,"",0,78]
[79,0,null,{"$f":"IF(B95+F95-D94<=0,B95+F95,IF(A95=$B$9,$F$9,IF(A95=$B$10,$F$10,IF(AND('Simulador Valora'!$AH$45=2,L94=0),D94*(1+Z95),IF($AM$3=2,B95*AL95,D94*(1+Z95))))))","v":0},null,0,null,0,null,null,null,null,null,{"$f":"IF('Simulador Valora'!$V$66=1,0,L95*'Simulador Valora'!$O$69*'Simulador Valora'!$W$65)","v":0},null,0,null,0,null,{"$f":"IF(B95<=0,0,B95*IF('Simulador Valora'!$AC$81=1,0,'Simulador Valora'!$Y$75))","v":0},null,{"$f":"IF(B95<=0,0,IF('Simulador Valora'!$X$41=1,'Simulador Valora'!$O$55,IF('Simulador Valora'!$X$41=2,'Simulador Valora'!$K$55,'Simulador Valora'!$E$55)))","v":0},null,0,null,null,null,0,0.12,0,0,0,0,0,{"$f":"IF(AD95<=0,0,AD95*IF('Simulador Valora'!$AC$81=1,0,'Simulador Valora'!$Y$75))+IF(AD95<=0,0,IF('Simulador Valora'!$X$41=1,'Simulador Valora'!$O$55,IF('Simulador Valora'!$X$41=2,'Simulador Valora'!$K$55,'Simulador Valora'!$E$55)))","v":0},null,0,0,null,6,7,0,0,0,162,"",0,79]
[80,0,null,{"$f":"IF(B96+F96-D95<=0,B96+F96,IF(A96=$B$9,$F$9,IF(A96=$B$10,$F$10,IF(AND('Simulador Valora'!$AH$45=2,L95=0),D95*(1+Z96),IF($AM$3=2,B96*AL96,D95*(1+Z96))))))","v":0},null,0,null,0,null,{"$f":"IF(B96-H96=0,0,J94)","v":0},null,null,null,{"$f":"IF('Simulador Valora'!$V$66=1,0,L96*'Simulador Valora'!$O$69*'Simulador Valora'!$W$65)","v":0},null,0,null,0,null,{"$f":"IF(B96<=0,0,B96*IF('Simulador Valora'!$AC$81=1,0,'Simulador Valora'!$Y$75))","v":0},null,{"$f":"IF(B96<=0,0,IF('Simulador Valora'!$X$41=1,'Simulador Valora'!$O$55,IF('Simulador Valora'!$X$41=2,'Simulador Valora'!$K$55,'Simulador Valora'!$E$55)))","v":0},null,0,null,null,null,0,0.12,0,0,0,0,0,{"$f":"IF(AD96<=0,0,AD96*IF('Simulador Valora'!$AC$81=1,0,'Simulador Valora'!$Y$75))+IF(AD96<=0,0,IF('Simulador Valora'!$X$41=1,'Simulador Valora'!$O$55,IF('Simulador Valora'!$X$41=2,'Simulador Valora'!$K$55,'Simulador Valora'!$E$55)))","v":0},null,0,0,null,6,8,0,0,0,161,"",0,80]
[81,0,null,{"$f":"IF(B97+F97-D96<=0,B97+F97,IF(A97=$B$9,$F$9,IF(A97=$B$10,$F$10,IF(AND('Simulador Valora'!$AH$45=2,L96=0),D96*(1+Z97),IF($AM$3=2,B97*AL97,D96*(1+Z97))))))","v":0},null,0,null,0,null,null,null,null,null,{"$f":"IF('Simulador Valora'!$V$66=1,0,L97*'Simulador Valora'!$O$69*'Simulador Valora'!$W$65)","v":0},null,0,null,0,null,{"$f":"IF(B97<=0,0,B97*IF('Simulador Valora'!$AC$81=1,0,'Simulador Valora'!$Y$75))","v":0},null,{"$f":"IF(B97<=0,0,IF('Simulador Valora'!$X$41=1,'Simulador Valora'!$O$55,IF('Simulador Valora'!$X$41=2,'Simulador Valora'!$K$55,'Simulador Valora'!$E$55)))","v":0},null,0,null,null,null,0,0.12,0,0,0,0,0,{"$f":"IF(AD97<=0,0,AD97*IF('Simulador Valora'!$AC$81=1,0,'Simulador Valora'!$Y$75))+IF(AD97<=0,0,IF('Simulador Valora'!$X$41=1,'Simulador Valora'!$O$55,IF('Simulador Valora'!$X$41=2,'Simulador Valora'!$K$55,'Simulador Valora'!$E$55)))","v":0},null,0,0,null,6,9,0,0,0,160,"",0,81]
[82,0,null,{"$f":"IF(B98+F98-D97<=0,B98+F98,IF(A98=$B$9,$F$9,IF(A98=$B$10,$F$10,IF(AND('Simulador Valora'!$AH$45=2,L97=0),D97*(1+Z98),IF($AM$3=2,B98*AL98,D97*(1+Z98))))))","v":0},null,0,null,0,null,{"$f":"IF(B98-H98=0,0,J96)","v":0},null,null,null,{"$f":"IF('Simulador Valora'!$V$66=1,0,L98*'Simulador Valora'!$O$69*'Simulador Valora'!$W$65)","v":0},null,0,null,0,null,{"$f":"IF(B98<=0,0,B98*IF('Simulador Valora'!$AC$81=1,0,'Simulador Valora'!$Y$75))","v":0},null,{"$f":"IF(B98<=0,0,IF('Simulador Valora'!$X$41=1,'Simulador Valora'!$O$55,IF('Simulador Valora'!$X$41=2,'Simulador Valora'!$K$55,'Simulador Valora'!$E$55)))","v":0},null,0,null,null,null,0,0.12,0,0,0,0,0,{"$f":"IF(AD98<=0,0,AD98*IF('Simulador Valora'!$AC$81=1,0,'Simulador Valora'!$Y$75))+IF(AD98<=0,0,IF('Simulador Valora'!$X$41=1,'Simulador Valora'!$O$55,IF('Simulador Valora'!$X$41=2,'Simulador Valora'!$K$55,'Simulador Valora'!$E$55)))","v":0},null,0,0,null,6,10,0,0,0,159,"",0,82]
[83,0,null,{"$f":"IF(B99+F99-D98<=0,B99+F99,IF(A99=$B$9,$F$9,IF(A99=$B$10,$F$10,IF(AND('Simulador Valora'!$AH$45=2,L98=0),D98*(1+Z99),IF($AM$3=2,B99*AL99,D98*(1+Z99))))))","v":0},null,0,null,0,null,null,null,null,null,{"$f":"IF('Simulador Valora'!$V$66=1,0,L99*'Simulador Valora'!$O$69*'Simulador Valora'!$W$65)","v":0},null,0,null,0,null,{"$f":"IF(B99<=0,0,B99*IF('Simulador Valora'!$AC$81=1,0,'Simulador Valora'!$Y$75))","v":0},null,{"$f":"IF(B99<=0,0,IF('Simulador Valora'!$X$41=1,'Simulador Valora'!$O$55,IF('Simulador Valora'!$X$41=2,'Simulador Valora'!$K$55,'Simulador Valora'!$E$55)))","v":0},null,0,null,null,null,0,0.12,0,0,0,0,0,{"$f":"IF(AD99<=0,0,AD99*IF('Simulador Valora'!$AC$81=1,0,'Simulador Valora'!$Y$75))+IF(AD99<=0,0,IF('Simulador Valora'!$X$41=1,'Simulador Valora'!$O$55,IF('Simulador Valora'!$X$41=2,'Simulador Valora'!$K$55,'Simulador Valora'!$E$55)))","v":0},null,0,0,null,6,11,0,0,0,158,"",0,83]
[84,0,null,{"$f":"IF(B100+F100-D99<=0,B100+F100,IF(A100=$B$9,$F$9,IF(A100=$B$10,$F$10,IF(AND('Simulador Valora'!$AH$45=2,L99=0),D99*(1+Z100),IF($AM$3=2,B100*AL100,D99*(1+Z100))))))","v":0},null,0,null,0,null,{"$f":"IF(B100-H100=0,0,J98)","v":0},null,null,null,{"$f":"IF('Simulador Valora'!$V$66=1,0,L100*'Simulador Valora'!$O$69*'Simulador Valora'!$W$65)","v":0},null,0,null,0,null,{"$f":"IF(B100<=0,0,B100*IF('Simulador Valora'!$AC$81=1,0,'Simulador Valora'!$Y$75))","v":0},null,{"$f":"IF(B100<=0,0,IF('Simulador Valora'!$X$41=1,'Simulador Valora'!$O$55,IF('Simulador Valora'!$X$41=2,'Simulador Valora'!$K$55,'Simulador Valora'!$E$55)))","v":0},null,0,null,null,null,0,0.12,0,0,0,0,0,{"$f":"IF(AD100<=0,0,AD100*IF('Simulador Valora'!$AC$81=1,0,'Simulador Valora'!$Y$75))+IF(AD100<=0,0,IF('Simulador Valora'!$X$41=1,'Simulador Valora'!$O$55,IF('Simulador Valora'!$X$41=2,'Simulador Valora'!$K$55,'Simulador Valora'!$E$55)))","v":0},null,0,0,null,7,0,0,0,0,157,"",0,84]
[85,0,null,{"$f":"IF(B101+F101-D100<=0,B101+F101,IF(A101=$B$9,$F$9,IF(A101=$B$10,$F$10,IF(AND('Simulador Valora'!$AH$45=2,L100=0),D100*(1+Z101),IF($AM$3=2,B101*AL101,D100*(1+Z101))))))","v":0},null,0,null,0,null,null,null,null,null,{"$f":"IF('Simulador Valora'!$V$66=1,0,L101*'Simulador Valora'!$O$69*'Simulador Valora'!$W$65)","v":0},null,0,null,0,null,{"$f":"IF(B101<=0,0,B101*IF('Simulador Valora'!$AC$81=1,0,'Simulador Valora'!$Y$75))","v":0},null,{"$f":"IF(B101<=0,0,IF('Simulador Valora'!$X$41=1,'Simulador Valora'!$O$55,IF('Simulador Valora'!$X$41=2,'Simulador Valora'!$K$55,'Simulador Valora'!$E$55)))","v":0},null,0,null,{"$f":"IF(B101<=0,0,'Simulador Valora'!$AI$54)","v":0},null,0,{"$f":"IF(AC100=$AC$6,AC100,IF(AC100=$AC$5,AC100,AC100-0.25%))","v":0.12},0,0,0,0,0,{"$f":"IF(AD101<=0,0,AD101*IF('Simulador Valora'!$AC$81=1,0,'Simulador Valora'!$Y$75))+IF(AD101<=0,0,IF('Simulador Valora'!$X$41=1,'Simulador Valora'!$O$55,IF('Simulador Valora'!$X$41=2,'Simulador Valora'!$K$55,'Simulador Valora'!$E$55)))","v":0},{"$f":"IF(AC101<=0,0,$AJ$29)","v":0},0,0,null,7,1,0,0,0,156,"",0,85]
[86,0,null,{"$f":"IF(B102+F102-D101<=0,B102+F102,IF(A102=$B$9,$F$9,IF(A102=$B$10,$F$10,IF(AND('Simulador Valora'!$AH$45=2,L101=0),D101*(1+Z102),IF($AM$3=2,B102*AL102,D101*(1+Z102))))))","v":0},null,0,null,0,null,{"$f":"IF(B102-H102=0,0,J100*(1+(3%)))","v":0},null,null,null,{"$f":"IF('Simulador Valora'!$V$66=1,0,L102*'Simulador Valora'!$O$69*'Simulador Valora'!$W$65)","v":0},null,0,null,0,null,{"$f":"IF(B102<=0,0,B102*IF('Simulador Valora'!$AC$81=1,0,'Simulador Valora'!$Y$75))","v":0},null,{"$f":"IF(B102<=0,0,IF('Simulador Valora'!$X$41=1,'Simulador Valora'!$O$55,IF('Simulador Valora'!$X$41=2,'Simulador Valora'!$K$55,'Simulador Valora'!$E$55)))","v":0},null,0,null,null,null,0,{"$f":"AC101","v":0.12},0,0,0,0,0,{"$f":"IF(AD102<=0,0,AD102*IF('Simulador Valora'!$AC$81=1,0,'Simulador Valora'!$Y$75))+IF(AD102<=0,0,IF('Simulador Valora'!$X$41=1,'Simulador Valora'!$O$55,IF('Simulador Valora'!$X$41=2,'Simulador Valora'!$K$55,'Simulador Valora'!$E$55)))","v":0},null,0,0,null,7,2,0,0,0,155,"",0,86]
[87,0,null,{"$f":"IF(B103+F103-D102<=0,B103+F103,IF(A103=$B$9,$F$9,IF(A103=$B$10,$F$10,IF(AND('Simulador Valora'!$AH$45=2,L102=0),D102*(1+Z103),IF($AM$3=2,B103*AL103,D102*(1+Z103))))))","v":0},null,0,null,0,null,null,null,null,null,{"$f":"IF('Simulador Valora'!$V$66=1,0,L103*'Simulador Valora'!$O$69*'Simulador Valora'!$W$65)","v":0},null,0,null,0,null,{"$f":"IF(B103<=0,0,B103*IF('Simulador Valora'!$AC$81=1,0,'Simulador Valora'!$Y$75))","v":0},null,{"$f":"IF(B103<=0,0,IF('Simulador Valora'!$X$41=1,'Simulador Valora'!$O$55,IF('Simulador Valora'!$X$41=2,'Simulador Valora'!$K$55,'Simulador Valora'!$E$55)))","v":0},null,0,null,null,null,0,{"$f":"AC102","v":0.12},0,0,0,0,0,{"$f":"IF(AD103<=0,0,AD103*IF('Simulador Valora'!$AC$81=1,0,'Simulador Valora'!$Y$75))+IF(AD103<=0,0,IF('Simulador Valora'!$X$41=1,'Simulador Valora'!$O$55,IF('Simulador Valora'!$X$41=2,'Simulador Valora'!$K$55,'Simulador Valora'!$E$55)))","v":0},null,0,0,null,7,3,0,0,0,154,"",0,87]
[88,0,null,{"$f":"IF(B104+F104-D103<=0,B104+F104,IF(A104=$B$9,$F$9,IF(A104=$B$10,$F$10,IF(AND('Simulador Valora'!$AH$45=2,L103=0),D103*(1+Z104),IF($AM$3=2,B104*AL104,D103*(1+Z104))))))","v":0},null,0,null,0,null,{"$f":"IF(B104-H104=0,0,J102)","v":0},null,null,null,{"$f":"IF('Simulador Valora'!$V$66=1,0,L104*'Simulador Valora'!$O$69*'Simulador Valora'!$W$65)","v":0},null,0,null,0,null,{"$f":"IF(B104<=0,0,B104*IF('Simulador Valora'!$AC$81=1,0,'Simulador Valora'!$Y$75))","v":0},null,{"$f":"IF(B104<=0,0,IF('Simulador Valora'!$X$41=1,'Simulador Valora'!$O$55,IF('Simulador Valora'!$X$41=2,'Simulador Valora'!$K$55,'Simulador Valora'!$E$55)))","v":0},null,0,null,null,null,0,0.12,0,0,0,0,0,{"$f":"IF(AD104<=0,0,AD104*IF('Simulador Valora'!$AC$81=1,0,'Simulador Valora'!$Y$75))+IF(AD104<=0,0,IF('Simulador Valora'!$X$41=1,'Simulador Valora'!$O$55,IF('Simulador Valora'!$X$41=2,'Simulador Valora'!$K$55,'Simulador Valora'!$E$55)))","v":0},null,0,0,null,7,4,0,0,0,153,"",0,88]
[89,0,null,{"$f":"IF(B105+F105-D104<=0,B105+F105,IF(A105=$B$9,$F$9,IF(A105=$B$10,$F$10,IF(AND('Simulador Valora'!$AH$45=2,L104=0),D104*(1+Z105),IF($AM$3=2,B105*AL105,D104*(1+Z105))))))","v":0},null,0,null,0,null,null,null,null,null,{"$f":"IF('Simulador Valora'!$V$66=1,0,L105*'Simulador Valora'!$O$69*'Simulador Valora'!$W$65)","v":0},null,0,null,0,null,{"$f":"IF(B105<=0,0,B105*IF('Simulador Valora'!$AC$81=1,0,'Simulador Valora'!$Y$75))","v":0},null,{"$f":"IF(B105<=0,0,IF('Simulador Valora'!$X$41=1,'Simulador Valora'!$O$55,IF('Simulador Valora'!$X$41=2,'Simulador Valora'!$K$55,'Simulador Valora'!$E$55)))","v":0},null,0,null,null,null,0,0.12,0,0,0,0,0,{"$f":"IF(AD105<=0,0,AD105*IF('Simulador Valora'!$AC$81=1,0,'Simulador Valora'!$Y$75))+IF(AD105<=0,0,IF('Simulador Valora'!$X$41=1,'Simulador Valora'!$O$55,IF('Simulador Valora'!$X$41=2,'Simulador Valora'!$K$55,'Simulador Valora'!$E$55)))","v":0},null,0,0,null,7,5,0,0,0,152,"",0,89]
[90,0,null,{"$f":"IF(B106+F106-D105<=0,B106+F106,IF(A106=$B$9,$F$9,IF(A106=$B$10,$F$10,IF(AND('Simulador Valora'!$AH$45=2,L105=0),D105*(1+Z106),IF($AM$3=2,B106*AL106,D105*(1+Z106))))))","v":0},null,0,null,0,null,{"$f":"IF(B106-H106=0,0,J104)","v":0},null,null,null,{"$f":"IF('Simulador Valora'!$V$66=1,0,L106*'Simulador Valora'!$O$69*'Simulador Valora'!$W$65)","v":0},null,0,null,0,null,{"$f":"IF(B106<=0,0,B106*IF('Simulador Valora'!$AC$81=1,0,'Simulador Valora'!$Y$75))","v":0},null,{"$f":"IF(B106<=0,0,IF('Simulador Valora'!$X$41=1,'Simulador Valora'!$O$55,IF('Simulador Valora'!$X$41=2,'Simulador Valora'!$K$55,'Simulador Valora'!$E$55)))","v":0},null,0,null,null,null,0,0.12,0,0,0,0,0,{"$f":"IF(AD106<=0,0,AD106*IF('Simulador Valora'!$AC$81=1,0,'Simulador Valora'!$Y$75))+IF(AD106<=0,0,IF('Simulador Valora'!$X$41=1,'Simulador Valora'!$O$55,IF('Simulador Valora'!$X$41=2,'Simulador Valora'!$K$55,'Simulador Valora'!$E$55)))","v":0},null,0,0,null,7,6,0,0,0,151,"",0,90]
[91,0,null,{"$f":"IF(B107+F107-D106<=0,B107+F107,IF(A107=$B$9,$F$9,IF(A107=$B$10,$F$10,IF(AND('Simulador Valora'!$AH$45=2,L106=0),D106*(1+Z107),IF($AM$3=2,B107*AL107,D106*(1+Z107))))))","v":0},null,0,null,0,null,null,null,null,null,{"$f":"IF('Simulador Valora'!$V$66=1,0,L107*'Simulador Valora'!$O$69*'Simulador Valora'!$W$65)","v":0},null,0,null,0,null,{"$f":"IF(B107<=0,0,B107*IF('Simulador Valora'!$AC$81=1,0,'Simulador Valora'!$Y$75))","v":0},null,{"$f":"IF(B107<=0,0,IF('Simulador Valora'!$X$41=1,'Simulador Valora'!$O$55,IF('Simulador Valora'!$X$41=2,'Simulador Valora'!$K$55,'Simulador Valora'!$E$55)))","v":0},null,0,null,null,null,0,0.12,0,0,0,0,0,{"$f":"IF(AD107<=0,0,AD107*IF('Simulador Valora'!$AC$81=1,0,'Simulador Valora'!$Y$75))+IF(AD107<=0,0,IF('Simulador Valora'!$X$41=1,'Simulador Valora'!$O$55,IF('Simulador Valora'!$X$41=2,'Simulador Valora'!$K$55,'Simulador Valora'!$E$55)))","v":0},null,0,0,null,7,7,0,0,0,150,"",0,91]
[92,0,null,{"$f":"IF(B108+F108-D107<=0,B108+F108,IF(A108=$B$9,$F$9,IF(A108=$B$10,$F$10,IF(AND('Simulador Valora'!$AH$45=2,L107=0),D107*(1+Z108),IF($AM$3=2,B108*AL108,D107*(1+Z108))))))","v":0},null,0,null,0,null,{"$f":"IF(B108-H108=0,0,J106)","v":0},null,null,null,{"$f":"IF('Simulador Valora'!$V$66=1,0,L108*'Simulador Valora'!$O$69*'Simulador Valora'!$W$65)","v":0},null,0,null,0,null,{"$f":"IF(B108<=0,0,B108*IF('Simulador Valora'!$AC$81=1,0,'Simulador Valora'!$Y$75))","v":0},null,{"$f":"IF(B108<=0,0,IF('Simulador Valora'!$X$41=1,'Simulador Valora'!$O$55,IF('Simulador Valora'!$X$41=2,'Simulador Valora'!$K$55,'Simulador Valora'!$E$55)))","v":0},null,0,null,null,null,0,0.12,0,0,0,0,0,{"$f":"IF(AD108<=0,0,AD108*IF('Simulador Valora'!$AC$81=1,0,'Simulador Valora'!$Y$75))+IF(AD108<=0,0,IF('Simulador Valora'!$X$41=1,'Simulador Valora'!$O$55,IF('Simulador Valora'!$X$41=2,'Simulador Valora'!$K$55,'Simulador Valora'!$E$55)))","v":0},null,0,0,null,7,8,0,0,0,{"$f":"IFERROR(IF(AC108<=0.01,0,AS107-1),0)","v":149},"",0,92]
[93,0,null,{"$f":"IF(B109+F109-D108<=0,B109+F109,IF(A109=$B$9,$F$9,IF(A109=$B$10,$F$10,IF(AND('Simulador Valora'!$AH$45=2,L108=0),D108*(1+Z109),IF($AM$3=2,B109*AL109,D108*(1+Z109))))))","v":0},null,0,null,0,null,null,null,null,null,{"$f":"IF('Simulador Valora'!$V$66=1,0,L109*'Simulador Valora'!$O$69*'Simulador Valora'!$W$65)","v":0},null,0,null,0,null,{"$f":"IF(B109<=0,0,B109*IF('Simulador Valora'!$AC$81=1,0,'Simulador Valora'!$Y$75))","v":0},null,{"$f":"IF(B109<=0,0,IF('Simulador Valora'!$X$41=1,'Simulador Valora'!$O$55,IF('Simulador Valora'!$X$41=2,'Simulador Valora'!$K$55,'Simulador Valora'!$E$55)))","v":0},null,0,null,null,null,0,0.12,0,0,0,0,0,{"$f":"IF(AD109<=0,0,AD109*IF('Simulador Valora'!$AC$81=1,0,'Simulador Valora'!$Y$75))+IF(AD109<=0,0,IF('Simulador Valora'!$X$41=1,'Simulador Valora'!$O$55,IF('Simulador Valora'!$X$41=2,'Simulador Valora'!$K$55,'Simulador Valora'!$E$55)))","v":0},null,0,0,null,7,9,0,0,0,148,"",0,93]
[94,0,null,{"$f":"IF(B110+F110-D109<=0,B110+F110,IF(A110=$B$9,$F$9,IF(A110=$B$10,$F$10,IF(AND('Simulador Valora'!$AH$45=2,L109=0),D109*(1+Z110),IF($AM$3=2,B110*AL110,D109*(1+Z110))))))","v":0},null,0,null,0,null,{"$f":"IF(B110-H110=0,0,J108)","v":0},null,null,null,{"$f":"IF('Simulador Valora'!$V$66=1,0,L110*'Simulador Valora'!$O$69*'Simulador Valora'!$W$65)","v":0},null,0,null,0,null,{"$f":"IF(B110<=0,0,B110*IF('Simulador Valora'!$AC$81=1,0,'Simulador Valora'!$Y$75))","v":0},null,{"$f":"IF(B110<=0,0,IF('Simulador Valora'!$X$41=1,'Simulador Valora'!$O$55,IF('Simulador Valora'!$X$41=2,'Simulador Valora'!$K$55,'Simulador Valora'!$E$55)))","v":0},null,0,null,null,null,0,0.12,0,0,0,0,0,{"$f":"IF(AD110<=0,0,AD110*IF('Simulador Valora'!$AC$81=1,0,'Simulador Valora'!$Y$75))+IF(AD110<=0,0,IF('Simulador Valora'!$X$41=1,'Simulador Valora'!$O$55,IF('Simulador Valora'!$X$41=2,'Simulador Valora'!$K$55,'Simulador Valora'!$E$55)))","v":0},null,0,0,null,7,10,0,0,0,147,"",0,94]
[95,0,null,{"$f":"IF(B111+F111-D110<=0,B111+F111,IF(A111=$B$9,$F$9,IF(A111=$B$10,$F$10,IF(AND('Simulador Valora'!$AH$45=2,L110=0),D110*(1+Z111),IF($AM$3=2,B111*AL111,D110*(1+Z111))))))","v":0},null,0,null,0,null,null,null,null,null,{"$f":"IF('Simulador Valora'!$V$66=1,0,L111*'Simulador Valora'!$O$69*'Simulador Valora'!$W$65)","v":0},null,0,null,0,null,{"$f":"IF(B111<=0,0,B111*IF('Simulador Valora'!$AC$81=1,0,'Simulador Valora'!$Y$75))","v":0},null,{"$f":"IF(B111<=0,0,IF('Simulador Valora'!$X$41=1,'Simulador Valora'!$O$55,IF('Simulador Valora'!$X$41=2,'Simulador Valora'!$K$55,'Simulador Valora'!$E$55)))","v":0},null,0,null,null,null,0,0.12,0,0,0,0,0,{"$f":"IF(AD111<=0,0,AD111*IF('Simulador Valora'!$AC$81=1,0,'Simulador Valora'!$Y$75))+IF(AD111<=0,0,IF('Simulador Valora'!$X$41=1,'Simulador Valora'!$O$55,IF('Simulador Valora'!$X$41=2,'Simulador Valora'!$K$55,'Simulador Valora'!$E$55)))","v":0},null,0,0,null,7,11,0,0,0,146,"",0,95]
[96,0,null,{"$f":"IF(B112+F112-D111<=0,B112+F112,IF(A112=$B$9,$F$9,IF(A112=$B$10,$F$10,IF(AND('Simulador Valora'!$AH$45=2,L111=0),D111*(1+Z112),IF($AM$3=2,B112*AL112,D111*(1+Z112))))))","v":0},null,0,null,0,null,{"$f":"IF(B112-H112=0,0,J110)","v":0},null,null,null,{"$f":"IF('Simulador Valora'!$V$66=1,0,L112*'Simulador Valora'!$O$69*'Simulador Valora'!$W$65)","v":0},null,0,null,0,null,{"$f":"IF(B112<=0,0,B112*IF('Simulador Valora'!$AC$81=1,0,'Simulador Valora'!$Y$75))","v":0},null,{"$f":"IF(B112<=0,0,IF('Simulador Valora'!$X$41=1,'Simulador Valora'!$O$55,IF('Simulador Valora'!$X$41=2,'Simulador Valora'!$K$55,'Simulador Valora'!$E$55)))","v":0},null,0,null,null,null,0,0.12,0,0,0,0,0,{"$f":"IF(AD112<=0,0,AD112*IF('Simulador Valora'!$AC$81=1,0,'Simulador Valora'!$Y$75))+IF(AD112<=0,0,IF('Simulador Valora'!$X$41=1,'Simulador Valora'!$O$55,IF('Simulador Valora'!$X$41=2,'Simulador Valora'!$K$55,'Simulador Valora'!$E$55)))","v":0},null,0,0,null,8,0,0,0,0,145,"",0,96]
[97,0,null,{"$f":"IF(B113+F113-D112<=0,B113+F113,IF(A113=$B$9,$F$9,IF(A113=$B$10,$F$10,IF(AND('Simulador Valora'!$AH$45=2,L112=0),D112*(1+Z113),IF($AM$3=2,B113*AL113,D112*(1+Z113))))))","v":0},null,0,null,0,null,null,null,null,null,{"$f":"IF('Simulador Valora'!$V$66=1,0,L113*'Simulador Valora'!$O$69*'Simulador Valora'!$W$65)","v":0},null,0,null,0,null,{"$f":"IF(B113<=0,0,B113*IF('Simulador Valora'!$AC$81=1,0,'Simulador Valora'!$Y$75))","v":0},null,{"$f":"IF(B113<=0,0,IF('Simulador Valora'!$X$41=1,'Simulador Valora'!$O$55,IF('Simulador Valora'!$X$41=2,'Simulador Valora'!$K$55,'Simulador Valora'!$E$55)))","v":0},null,0,null,{"$f":"IF(B113<=0,0,'Simulador Valora'!$AI$54)","v":0},null,0,{"$f":"IF(AC112=$AC$6,AC112,IF(AC112=$AC$5,AC112,AC112-0.25%))","v":0.12},0,0,0,0,0,{"$f":"IF(AD113<=0,0,AD113*IF('Simulador Valora'!$AC$81=1,0,'Simulador Valora'!$Y$75))+IF(AD113<=0,0,IF('Simulador Valora'!$X$41=1,'Simulador Valora'!$O$55,IF('Simulador Valora'!$X$41=2,'Simulador Valora'!$K$55,'Simulador Valora'!$E$55)))","v":0},{"$f":"IF(AC113<=0,0,$AJ$29)","v":0},0,0,null,8,1,0,0,0,144,"",0,97]
[98,0,null,{"$f":"IF(B114+F114-D113<=0,B114+F114,IF(A114=$B$9,$F$9,IF(A114=$B$10,$F$10,IF(AND('Simulador Valora'!$AH$45=2,L113=0),D113*(1+Z114),IF($AM$3=2,B114*AL114,D113*(1+Z114))))))","v":0},null,0,null,0,null,{"$f":"IF(B114-H114=0,0,J112*(1+(3%)))","v":0},null,null,null,{"$f":"IF('Simulador Valora'!$V$66=1,0,L114*'Simulador Valora'!$O$69*'Simulador Valora'!$W$65)","v":0},null,0,null,0,null,{"$f":"IF(B114<=0,0,B114*IF('Simulador Valora'!$AC$81=1,0,'Simulador Valora'!$Y$75))","v":0},null,{"$f":"IF(B114<=0,0,IF('Simulador Valora'!$X$41=1,'Simulador Valora'!$O$55,IF('Simulador Valora'!$X$41=2,'Simulador Valora'!$K$55,'Simulador Valora'!$E$55)))","v":0},null,0,null,null,null,0,{"$f":"AC113","v":0.12},0,0,0,0,0,{"$f":"IF(AD114<=0,0,AD114*IF('Simulador Valora'!$AC$81=1,0,'Simulador Valora'!$Y$75))+IF(AD114<=0,0,IF('Simulador Valora'!$X$41=1,'Simulador Valora'!$O$55,IF('Simulador Valora'!$X$41=2,'Simulador Valora'!$K$55,'Simulador Valora'!$E$55)))","v":0},null,0,0,null,8,2,0,0,0,143,"",0,98]
[99,0,null,{"$f":"IF(B115+F115-D114<=0,B115+F115,IF(A115=$B$9,$F$9,IF(A115=$B$10,$F$10,IF(AND('Simulador Valora'!$AH$45=2,L114=0),D114*(1+Z115),IF($AM$3=2,B115*AL115,D114*(1+Z115))))))","v":0},null,0,null,0,null,null,null,null,null,{"$f":"IF('Simulador Valora'!$V$66=1,0,L115*'Simulador Valora'!$O$69*'Simulador Valora'!$W$65)","v":0},null,0,null,0,null,{"$f":"IF(B115<=0,0,B115*IF('Simulador Valora'!$AC$81=1,0,'Simulador Valora'!$Y$75))","v":0},null,{"$f":"IF(B115<=0,0,IF('Simulador Valora'!$X$41=1,'Simulador Valora'!$O$55,IF('Simulador Valora'!$X$41=2,'Simulador Valora'!$K$55,'Simulador Valora'!$E$55)))","v":0},null,0,null,null,null,0,{"$f":"AC114","v":0.12},0,0,0,0,0,{"$f":"IF(AD115<=0,0,AD115*IF('Simulador Valora'!$AC$81=1,0,'Simulador Valora'!$Y$75))+IF(AD115<=0,0,IF('Simulador Valora'!$X$41=1,'Simulador Valora'!$O$55,IF('Simulador Valora'!$X$41=2,'Simulador Valora'!$K$55,'Simulador Valora'!$E$55)))","v":0},null,0,0,null,8,3,0,0,0,142,"",0,99]
[100,0,null,{"$f":"IF(B116+F116-D115<=0,B116+F116,IF(A116=$B$9,$F$9,IF(A116=$B$10,$F$10,IF(AND('Simulador Valora'!$AH$45=2,L115=0),D115*(1+Z116),IF($AM$3=2,B116*AL116,D115*(1+Z116))))))","v":0},null,0,null,0,null,{"$f":"IF(B116-H116=0,0,J114)","v":0},null,null,null,{"$f":"IF('Simulador Valora'!$V$66=1,0,L116*'Simulador Valora'!$O$69*'Simulador Valora'!$W$65)","v":0},null,0,null,0,null,{"$f":"IF(B116<=0,0,B116*IF('Simulador Valora'!$AC$81=1,0,'Simulador Valora'!$Y$75))","v":0},null,{"$f":"IF(B116<=0,0,IF('Simulador Valora'!$X$41=1,'Simulador Valora'!$O$55,IF('Simulador Valora'!$X$41=2,'Simulador Valora'!$K$55,'Simulador Valora'!$E$55)))","v":0},null,0,null,null,null,0,0.12,0,0,0,0,0,{"$f":"IF(AD116<=0,0,AD116*IF('Simulador Valora'!$AC$81=1,0,'Simulador Valora'!$Y$75))+IF(AD116<=0,0,IF('Simulador Valora'!$X$41=1,'Simulador Valora'!$O$55,IF('Simulador Valora'!$X$41=2,'Simulador Valora'!$K$55,'Simulador Valora'!$E$55)))","v":0},null,0,0,null,8,4,0,0,0,141,"",0,100]
[101,0,null,{"$f":"IF(B117+F117-D116<=0,B117+F117,IF(A117=$B$9,$F$9,IF(A117=$B$10,$F$10,IF(AND('Simulador Valora'!$AH$45=2,L116=0),D116*(1+Z117),IF($AM$3=2,B117*AL117,D116*(1+Z117))))))","v":0},null,0,null,0,null,null,null,null,null,{"$f":"IF('Simulador Valora'!$V$66=1,0,L117*'Simulador Valora'!$O$69*'Simulador Valora'!$W$65)","v":0},null,0,null,0,null,{"$f":"IF(B117<=0,0,B117*IF('Simulador Valora'!$AC$81=1,0,'Simulador Valora'!$Y$75))","v":0},null,{"$f":"IF(B117<=0,0,IF('Simulador Valora'!$X$41=1,'Simulador Valora'!$O$55,IF('Simulador Valora'!$X$41=2,'Simulador Valora'!$K$55,'Simulador Valora'!$E$55)))","v":0},null,0,null,null,null,0,0.12,0,0,0,0,0,{"$f":"IF(AD117<=0,0,AD117*IF('Simulador Valora'!$AC$81=1,0,'Simulador Valora'!$Y$75))+IF(AD117<=0,0,IF('Simulador Valora'!$X$41=1,'Simulador Valora'!$O$55,IF('Simulador Valora'!$X$41=2,'Simulador Valora'!$K$55,'Simulador Valora'!$E$55)))","v":0},null,0,0,null,8,5,0,0,0,140,"",0,101]
[102,0,null,{"$f":"IF(B118+F118-D117<=0,B118+F118,IF(A118=$B$9,$F$9,IF(A118=$B$10,$F$10,IF(AND('Simulador Valora'!$AH$45=2,L117=0),D117*(1+Z118),IF($AM$3=2,B118*AL118,D117*(1+Z118))))))","v":0},null,0,null,0,null,{"$f":"IF(B118-H118=0,0,J116)","v":0},null,null,null,{"$f":"IF('Simulador Valora'!$V$66=1,0,L118*'Simulador Valora'!$O$69*'Simulador Valora'!$W$65)","v":0},null,0,null,0,null,{"$f":"IF(B118<=0,0,B118*IF('Simulador Valora'!$AC$81=1,0,'Simulador Valora'!$Y$75))","v":0},null,{"$f":"IF(B118<=0,0,IF('Simulador Valora'!$X$41=1,'Simulador Valora'!$O$55,IF('Simulador Valora'!$X$41=2,'Simulador Valora'!$K$55,'Simulador Valora'!$E$55)))","v":0},null,0,null,null,null,0,0.12,0,0,0,0,0,{"$f":"IF(AD118<=0,0,AD118*IF('Simulador Valora'!$AC$81=1,0,'Simulador Valora'!$Y$75))+IF(AD118<=0,0,IF('Simulador Valora'!$X$41=1,'Simulador Valora'!$O$55,IF('Simulador Valora'!$X$41=2,'Simulador Valora'!$K$55,'Simulador Valora'!$E$55)))","v":0},null,0,0,null,8,6,0,0,0,139,"",0,102]
[103,0,null,{"$f":"IF(B119+F119-D118<=0,B119+F119,IF(A119=$B$9,$F$9,IF(A119=$B$10,$F$10,IF(AND('Simulador Valora'!$AH$45=2,L118=0),D118*(1+Z119),IF($AM$3=2,B119*AL119,D118*(1+Z119))))))","v":0},null,0,null,0,null,null,null,null,null,{"$f":"IF('Simulador Valora'!$V$66=1,0,L119*'Simulador Valora'!$O$69*'Simulador Valora'!$W$65)","v":0},null,0,null,0,null,{"$f":"IF(B119<=0,0,B119*IF('Simulador Valora'!$AC$81=1,0,'Simulador Valora'!$Y$75))","v":0},null,{"$f":"IF(B119<=0,0,IF('Simulador Valora'!$X$41=1,'Simulador Valora'!$O$55,IF('Simulador Valora'!$X$41=2,'Simulador Valora'!$K$55,'Simulador Valora'!$E$55)))","v":0},null,0,null,null,null,0,0.12,0,0,0,0,0,{"$f":"IF(AD119<=0,0,AD119*IF('Simulador Valora'!$AC$81=1,0,'Simulador Valora'!$Y$75))+IF(AD119<=0,0,IF('Simulador Valora'!$X$41=1,'Simulador Valora'!$O$55,IF('Simulador Valora'!$X$41=2,'Simulador Valora'!$K$55,'Simulador Valora'!$E$55)))","v":0},null,0,0,null,8,7,0,0,0,138,"",0,103]
[104,0,null,{"$f":"IF(B120+F120-D119<=0,B120+F120,IF(A120=$B$9,$F$9,IF(A120=$B$10,$F$10,IF(AND('Simulador Valora'!$AH$45=2,L119=0),D119*(1+Z120),IF($AM$3=2,B120*AL120,D119*(1+Z120))))))","v":0},null,0,null,0,null,{"$f":"IF(B120-H120=0,0,J118)","v":0},null,null,null,{"$f":"IF('Simulador Valora'!$V$66=1,0,L120*'Simulador Valora'!$O$69*'Simulador Valora'!$W$65)","v":0},null,0,null,0,null,{"$f":"IF(B120<=0,0,B120*IF('Simulador Valora'!$AC$81=1,0,'Simulador Valora'!$Y$75))","v":0},null,{"$f":"IF(B120<=0,0,IF('Simulador Valora'!$X$41=1,'Simulador Valora'!$O$55,IF('Simulador Valora'!$X$41=2,'Simulador Valora'!$K$55,'Simulador Valora'!$E$55)))","v":0},null,0,null,null,null,0,0.12,0,0,0,0,0,{"$f":"IF(AD120<=0,0,AD120*IF('Simulador Valora'!$AC$81=1,0,'Simulador Valora'!$Y$75))+IF(AD120<=0,0,IF('Simulador Valora'!$X$41=1,'Simulador Valora'!$O$55,IF('Simulador Valora'!$X$41=2,'Simulador Valora'!$K$55,'Simulador Valora'!$E$55)))","v":0},null,0,0,null,8,8,0,0,0,137,"",0,104]
[105,0,null,{"$f":"IF(B121+F121-D120<=0,B121+F121,IF(A121=$B$9,$F$9,IF(A121=$B$10,$F$10,IF(AND('Simulador Valora'!$AH$45=2,L120=0),D120*(1+Z121),IF($AM$3=2,B121*AL121,D120*(1+Z121))))))","v":0},null,0,null,0,null,null,null,null,null,{"$f":"IF('Simulador Valora'!$V$66=1,0,L121*'Simulador Valora'!$O$69*'Simulador Valora'!$W$65)","v":0},null,0,null,0,null,{"$f":"IF(B121<=0,0,B121*IF('Simulador Valora'!$AC$81=1,0,'Simulador Valora'!$Y$75))","v":0},null,{"$f":"IF(B121<=0,0,IF('Simulador Valora'!$X$41=1,'Simulador Valora'!$O$55,IF('Simulador Valora'!$X$41=2,'Simulador Valora'!$K$55,'Simulador Valora'!$E$55)))","v":0},null,0,null,null,null,0,0.12,0,0,0,0,0,{"$f":"IF(AD121<=0,0,AD121*IF('Simulador Valora'!$AC$81=1,0,'Simulador Valora'!$Y$75))+IF(AD121<=0,0,IF('Simulador Valora'!$X$41=1,'Simulador Valora'!$O$55,IF('Simulador Valora'!$X$41=2,'Simulador Valora'!$K$55,'Simulador Valora'!$E$55)))","v":0},null,0,0,null,8,9,0,0,0,136,"",0,105]
[106,0,null,{"$f":"IF(B122+F122-D121<=0,B122+F122,IF(A122=$B$9,$F$9,IF(A122=$B$10,$F$10,IF(AND('Simulador Valora'!$AH$45=2,L121=0),D121*(1+Z122),IF($AM$3=2,B122*AL122,D121*(1+Z122))))))","v":0},null,0,null,0,null,{"$f":"IF(B122-H122=0,0,J120)","v":0},null,null,null,{"$f":"IF('Simulador Valora'!$V$66=1,0,L122*'Simulador Valora'!$O$69*'Simulador Valora'!$W$65)","v":0},null,0,null,0,null,{"$f":"IF(B122<=0,0,B122*IF('Simulador Valora'!$AC$81=1,0,'Simulador Valora'!$Y$75))","v":0},null,{"$f":"IF(B122<=0,0,IF('Simulador Valora'!$X$41=1,'Simulador Valora'!$O$55,IF('Simulador Valora'!$X$41=2,'Simulador Valora'!$K$55,'Simulador Valora'!$E$55)))","v":0},null,0,null,null,null,0,0.12,0,0,0,0,0,{"$f":"IF(AD122<=0,0,AD122*IF('Simulador Valora'!$AC$81=1,0,'Simulador Valora'!$Y$75))+IF(AD122<=0,0,IF('Simulador Valora'!$X$41=1,'Simulador Valora'!$O$55,IF('Simulador Valora'!$X$41=2,'Simulador Valora'!$K$55,'Simulador Valora'!$E$55)))","v":0},null,0,0,null,8,10,0,0,0,135,"",0,106]
[107,0,null,{"$f":"IF(B123+F123-D122<=0,B123+F123,IF(A123=$B$9,$F$9,IF(A123=$B$10,$F$10,IF(AND('Simulador Valora'!$AH$45=2,L122=0),D122*(1+Z123),IF($AM$3=2,B123*AL123,D122*(1+Z123))))))","v":0},null,0,null,0,null,null,null,null,null,{"$f":"IF('Simulador Valora'!$V$66=1,0,L123*'Simulador Valora'!$O$69*'Simulador Valora'!$W$65)","v":0},null,0,null,0,null,{"$f":"IF(B123<=0,0,B123*IF('Simulador Valora'!$AC$81=1,0,'Simulador Valora'!$Y$75))","v":0},null,{"$f":"IF(B123<=0,0,IF('Simulador Valora'!$X$41=1,'Simulador Valora'!$O$55,IF('Simulador Valora'!$X$41=2,'Simulador Valora'!$K$55,'Simulador Valora'!$E$55)))","v":0},null,0,null,null,null,0,0.12,0,0,0,0,0,{"$f":"IF(AD123<=0,0,AD123*IF('Simulador Valora'!$AC$81=1,0,'Simulador Valora'!$Y$75))+IF(AD123<=0,0,IF('Simulador Valora'!$X$41=1,'Simulador Valora'!$O$55,IF('Simulador Valora'!$X$41=2,'Simulador Valora'!$K$55,'Simulador Valora'!$E$55)))","v":0},null,0,0,null,8,11,0,0,0,134,"",0,107]
[108,0,null,{"$f":"IF(B124+F124-D123<=0,B124+F124,IF(A124=$B$9,$F$9,IF(A124=$B$10,$F$10,IF(AND('Simulador Valora'!$AH$45=2,L123=0),D123*(1+Z124),IF($AM$3=2,B124*AL124,D123*(1+Z124))))))","v":0},null,0,null,0,null,{"$f":"IF(B124-H124=0,0,J122)","v":0},null,null,null,{"$f":"IF('Simulador Valora'!$V$66=1,0,L124*'Simulador Valora'!$O$69*'Simulador Valora'!$W$65)","v":0},null,0,null,0,null,{"$f":"IF(B124<=0,0,B124*IF('Simulador Valora'!$AC$81=1,0,'Simulador Valora'!$Y$75))","v":0},null,{"$f":"IF(B124<=0,0,IF('Simulador Valora'!$X$41=1,'Simulador Valora'!$O$55,IF('Simulador Valora'!$X$41=2,'Simulador Valora'!$K$55,'Simulador Valora'!$E$55)))","v":0},null,0,null,null,null,0,0.12,0,0,0,0,0,{"$f":"IF(AD124<=0,0,AD124*IF('Simulador Valora'!$AC$81=1,0,'Simulador Valora'!$Y$75))+IF(AD124<=0,0,IF('Simulador Valora'!$X$41=1,'Simulador Valora'!$O$55,IF('Simulador Valora'!$X$41=2,'Simulador Valora'!$K$55,'Simulador Valora'!$E$55)))","v":0},null,0,0,null,9,0,0,0,0,133,"",0,108]
[109,0,null,{"$f":"IF(B125+F125-D124<=0,B125+F125,IF(A125=$B$9,$F$9,IF(A125=$B$10,$F$10,IF(AND('Simulador Valora'!$AH$45=2,L124=0),D124*(1+Z125),IF($AM$3=2,B125*AL125,D124*(1+Z125))))))","v":0},null,0,null,0,null,null,null,null,null,{"$f":"IF('Simulador Valora'!$V$66=1,0,L125*'Simulador Valora'!$O$69*'Simulador Valora'!$W$65)","v":0},null,0,null,0,null,{"$f":"IF(B125<=0,0,B125*IF('Simulador Valora'!$AC$81=1,0,'Simulador Valora'!$Y$75))","v":0},null,{"$f":"IF(B125<=0,0,IF('Simulador Valora'!$X$41=1,'Simulador Valora'!$O$55,IF('Simulador Valora'!$X$41=2,'Simulador Valora'!$K$55,'Simulador Valora'!$E$55)))","v":0},null,0,null,{"$f":"IF(B125<=0,0,'Simulador Valora'!$AI$54)","v":0},null,0,{"$f":"IF(AC124=$AC$6,AC124,IF(AC124=$AC$5,AC124,AC124-0.25%))","v":0.12},0,0,0,0,0,{"$f":"IF(AD125<=0,0,AD125*IF('Simulador Valora'!$AC$81=1,0,'Simulador Valora'!$Y$75))+IF(AD125<=0,0,IF('Simulador Valora'!$X$41=1,'Simulador Valora'!$O$55,IF('Simulador Valora'!$X$41=2,'Simulador Valora'!$K$55,'Simulador Valora'!$E$55)))","v":0},{"$f":"IF(AC125<=0,0,$AJ$29)","v":0},0,0,null,9,1,0,0,0,132,"",0,109]
[110,0,null,{"$f":"IF(B126+F126-D125<=0,B126+F126,IF(A126=$B$9,$F$9,IF(A126=$B$10,$F$10,IF(AND('Simulador Valora'!$AH$45=2,L125=0),D125*(1+Z126),IF($AM$3=2,B126*AL126,D125*(1+Z126))))))","v":0},null,0,null,0,null,{"$f":"IF(B126-H126=0,0,J124*(1+(3%)))","v":0},null,null,null,{"$f":"IF('Simulador Valora'!$V$66=1,0,L126*'Simulador Valora'!$O$69*'Simulador Valora'!$W$65)","v":0},null,0,null,0,null,{"$f":"IF(B126<=0,0,B126*IF('Simulador Valora'!$AC$81=1,0,'Simulador Valora'!$Y$75))","v":0},null,{"$f":"IF(B126<=0,0,IF('Simulador Valora'!$X$41=1,'Simulador Valora'!$O$55,IF('Simulador Valora'!$X$41=2,'Simulador Valora'!$K$55,'Simulador Valora'!$E$55)))","v":0},null,0,null,null,null,0,{"$f":"AC125","v":0.12},0,0,0,0,0,{"$f":"IF(AD126<=0,0,AD126*IF('Simulador Valora'!$AC$81=1,0,'Simulador Valora'!$Y$75))+IF(AD126<=0,0,IF('Simulador Valora'!$X$41=1,'Simulador Valora'!$O$55,IF('Simulador Valora'!$X$41=2,'Simulador Valora'!$K$55,'Simulador Valora'!$E$55)))","v":0},null,0,0,null,9,2,0,0,0,131,"",0,110]
[111,0,null,{"$f":"IF(B127+F127-D126<=0,B127+F127,IF(A127=$B$9,$F$9,IF(A127=$B$10,$F$10,IF(AND('Simulador Valora'!$AH$45=2,L126=0),D126*(1+Z127),IF($AM$3=2,B127*AL127,D126*(1+Z127))))))","v":0},null,0,null,0,null,null,null,null,null,{"$f":"IF('Simulador Valora'!$V$66=1,0,L127*'Simulador Valora'!$O$69*'Simulador Valora'!$W$65)","v":0},null,0,null,0,null,{"$f":"IF(B127<=0,0,B127*IF('Simulador Valora'!$AC$81=1,0,'Simulador Valora'!$Y$75))","v":0},null,{"$f":"IF(B127<=0,0,IF('Simulador Valora'!$X$41=1,'Simulador Valora'!$O$55,IF('Simulador Valora'!$X$41=2,'Simulador Valora'!$K$55,'Simulador Valora'!$E$55)))","v":0},null,0,null,null,null,0,{"$f":"AC126","v":0.12},0,0,0,0,0,{"$f":"IF(AD127<=0,0,AD127*IF('Simulador Valora'!$AC$81=1,0,'Simulador Valora'!$Y$75))+IF(AD127<=0,0,IF('Simulador Valora'!$X$41=1,'Simulador Valora'!$O$55,IF('Simulador Valora'!$X$41=2,'Simulador Valora'!$K$55,'Simulador Valora'!$E$55)))","v":0},null,0,0,null,9,3,0,0,0,130,"",0,111]
[112,0,null,{"$f":"IF(B128+F128-D127<=0,B128+F128,IF(A128=$B$9,$F$9,IF(A128=$B$10,$F$10,IF(AND('Simulador Valora'!$AH$45=2,L127=0),D127*(1+Z128),IF($AM$3=2,B128*AL128,D127*(1+Z128))))))","v":0},null,0,null,0,null,{"$f":"IF(B128-H128=0,0,J126)","v":0},null,null,null,{"$f":"IF('Simulador Valora'!$V$66=1,0,L128*'Simulador Valora'!$O$69*'Simulador Valora'!$W$65)","v":0},null,0,null,0,null,{"$f":"IF(B128<=0,0,B128*IF('Simulador Valora'!$AC$81=1,0,'Simulador Valora'!$Y$75))","v":0},null,{"$f":"IF(B128<=0,0,IF('Simulador Valora'!$X$41=1,'Simulador Valora'!$O$55,IF('Simulador Valora'!$X$41=2,'Simulador Valora'!$K$55,'Simulador Valora'!$E$55)))","v":0},null,0,null,null,null,0,0.12,0,0,0,0,0,{"$f":"IF(AD128<=0,0,AD128*IF('Simulador Valora'!$AC$81=1,0,'Simulador Valora'!$Y$75))+IF(AD128<=0,0,IF('Simulador Valora'!$X$41=1,'Simulador Valora'!$O$55,IF('Simulador Valora'!$X$41=2,'Simulador Valora'!$K$55,'Simulador Valora'!$E$55)))","v":0},null,0,0,null,9,4,0,0,0,129,"",0,112]
[113,0,null,{"$f":"IF(B129+F129-D128<=0,B129+F129,IF(A129=$B$9,$F$9,IF(A129=$B$10,$F$10,IF(AND('Simulador Valora'!$AH$45=2,L128=0),D128*(1+Z129),IF($AM$3=2,B129*AL129,D128*(1+Z129))))))","v":0},null,0,null,0,null,null,null,null,null,{"$f":"IF('Simulador Valora'!$V$66=1,0,L129*'Simulador Valora'!$O$69*'Simulador Valora'!$W$65)","v":0},null,0,null,0,null,{"$f":"IF(B129<=0,0,B129*IF('Simulador Valora'!$AC$81=1,0,'Simulador Valora'!$Y$75))","v":0},null,{"$f":"IF(B129<=0,0,IF('Simulador Valora'!$X$41=1,'Simulador Valora'!$O$55,IF('Simulador Valora'!$X$41=2,'Simulador Valora'!$K$55,'Simulador Valora'!$E$55)))","v":0},null,0,null,null,null,0,0.12,0,0,0,0,0,{"$f":"IF(AD129<=0,0,AD129*IF('Simulador Valora'!$AC$81=1,0,'Simulador Valora'!$Y$75))+IF(AD129<=0,0,IF('Simulador Valora'!$X$41=1,'Simulador Valora'!$O$55,IF('Simulador Valora'!$X$41=2,'Simulador Valora'!$K$55,'Simulador Valora'!$E$55)))","v":0},null,0,0,null,9,5,0,0,0,128,"",0,113]
[114,0,null,{"$f":"IF(B130+F130-D129<=0,B130+F130,IF(A130=$B$9,$F$9,IF(A130=$B$10,$F$10,IF(AND('Simulador Valora'!$AH$45=2,L129=0),D129*(1+Z130),IF($AM$3=2,B130*AL130,D129*(1+Z130))))))","v":0},null,0,null,0,null,{"$f":"IF(B130-H130=0,0,J128)","v":0},null,null,null,{"$f":"IF('Simulador Valora'!$V$66=1,0,L130*'Simulador Valora'!$O$69*'Simulador Valora'!$W$65)","v":0},null,0,null,0,null,{"$f":"IF(B130<=0,0,B130*IF('Simulador Valora'!$AC$81=1,0,'Simulador Valora'!$Y$75))","v":0},null,{"$f":"IF(B130<=0,0,IF('Simulador Valora'!$X$41=1,'Simulador Valora'!$O$55,IF('Simulador Valora'!$X$41=2,'Simulador Valora'!$K$55,'Simulador Valora'!$E$55)))","v":0},null,0,null,null,null,0,0.12,0,0,0,0,0,{"$f":"IF(AD130<=0,0,AD130*IF('Simulador Valora'!$AC$81=1,0,'Simulador Valora'!$Y$75))+IF(AD130<=0,0,IF('Simulador Valora'!$X$41=1,'Simulador Valora'!$O$55,IF('Simulador Valora'!$X$41=2,'Simulador Valora'!$K$55,'Simulador Valora'!$E$55)))","v":0},null,0,0,null,9,6,0,0,0,127,"",0,114]
[115,0,null,{"$f":"IF(B131+F131-D130<=0,B131+F131,IF(A131=$B$9,$F$9,IF(A131=$B$10,$F$10,IF(AND('Simulador Valora'!$AH$45=2,L130=0),D130*(1+Z131),IF($AM$3=2,B131*AL131,D130*(1+Z131))))))","v":0},null,0,null,0,null,null,null,null,null,{"$f":"IF('Simulador Valora'!$V$66=1,0,L131*'Simulador Valora'!$O$69*'Simulador Valora'!$W$65)","v":0},null,0,null,0,null,{"$f":"IF(B131<=0,0,B131*IF('Simulador Valora'!$AC$81=1,0,'Simulador Valora'!$Y$75))","v":0},null,{"$f":"IF(B131<=0,0,IF('Simulador Valora'!$X$41=1,'Simulador Valora'!$O$55,IF('Simulador Valora'!$X$41=2,'Simulador Valora'!$K$55,'Simulador Valora'!$E$55)))","v":0},null,0,null,null,null,0,0.12,0,0,0,0,0,{"$f":"IF(AD131<=0,0,AD131*IF('Simulador Valora'!$AC$81=1,0,'Simulador Valora'!$Y$75))+IF(AD131<=0,0,IF('Simulador Valora'!$X$41=1,'Simulador Valora'!$O$55,IF('Simulador Valora'!$X$41=2,'Simulador Valora'!$K$55,'Simulador Valora'!$E$55)))","v":0},null,0,0,null,9,7,0,0,0,126,"",0,115]
[116,0,null,{"$f":"IF(B132+F132-D131<=0,B132+F132,IF(A132=$B$9,$F$9,IF(A132=$B$10,$F$10,IF(AND('Simulador Valora'!$AH$45=2,L131=0),D131*(1+Z132),IF($AM$3=2,B132*AL132,D131*(1+Z132))))))","v":0},null,0,null,0,null,{"$f":"IF(B132-H132=0,0,J130)","v":0},null,null,null,{"$f":"IF('Simulador Valora'!$V$66=1,0,L132*'Simulador Valora'!$O$69*'Simulador Valora'!$W$65)","v":0},null,0,null,0,null,{"$f":"IF(B132<=0,0,B132*IF('Simulador Valora'!$AC$81=1,0,'Simulador Valora'!$Y$75))","v":0},null,{"$f":"IF(B132<=0,0,IF('Simulador Valora'!$X$41=1,'Simulador Valora'!$O$55,IF('Simulador Valora'!$X$41=2,'Simulador Valora'!$K$55,'Simulador Valora'!$E$55)))","v":0},null,0,null,null,null,0,0.12,0,0,0,0,0,{"$f":"IF(AD132<=0,0,AD132*IF('Simulador Valora'!$AC$81=1,0,'Simulador Valora'!$Y$75))+IF(AD132<=0,0,IF('Simulador Valora'!$X$41=1,'Simulador Valora'!$O$55,IF('Simulador Valora'!$X$41=2,'Simulador Valora'!$K$55,'Simulador Valora'!$E$55)))","v":0},null,0,0,null,9,8,0,0,0,125,"",0,116]
[117,0,null,{"$f":"IF(B133+F133-D132<=0,B133+F133,IF(A133=$B$9,$F$9,IF(A133=$B$10,$F$10,IF(AND('Simulador Valora'!$AH$45=2,L132=0),D132*(1+Z133),IF($AM$3=2,B133*AL133,D132*(1+Z133))))))","v":0},null,0,null,0,null,null,null,null,null,{"$f":"IF('Simulador Valora'!$V$66=1,0,L133*'Simulador Valora'!$O$69*'Simulador Valora'!$W$65)","v":0},null,0,null,0,null,{"$f":"IF(B133<=0,0,B133*IF('Simulador Valora'!$AC$81=1,0,'Simulador Valora'!$Y$75))","v":0},null,{"$f":"IF(B133<=0,0,IF('Simulador Valora'!$X$41=1,'Simulador Valora'!$O$55,IF('Simulador Valora'!$X$41=2,'Simulador Valora'!$K$55,'Simulador Valora'!$E$55)))","v":0},null,0,null,null,null,0,0.12,0,0,0,0,0,{"$f":"IF(AD133<=0,0,AD133*IF('Simulador Valora'!$AC$81=1,0,'Simulador Valora'!$Y$75))+IF(AD133<=0,0,IF('Simulador Valora'!$X$41=1,'Simulador Valora'!$O$55,IF('Simulador Valora'!$X$41=2,'Simulador Valora'!$K$55,'Simulador Valora'!$E$55)))","v":0},null,0,0,null,9,9,0,0,0,124,"",0,117]
[118,0,null,{"$f":"IF(B134+F134-D133<=0,B134+F134,IF(A134=$B$9,$F$9,IF(A134=$B$10,$F$10,IF(AND('Simulador Valora'!$AH$45=2,L133=0),D133*(1+Z134),IF($AM$3=2,B134*AL134,D133*(1+Z134))))))","v":0},null,0,null,0,null,{"$f":"IF(B134-H134=0,0,J132)","v":0},null,null,null,{"$f":"IF('Simulador Valora'!$V$66=1,0,L134*'Simulador Valora'!$O$69*'Simulador Valora'!$W$65)","v":0},null,0,null,0,null,{"$f":"IF(B134<=0,0,B134*IF('Simulador Valora'!$AC$81=1,0,'Simulador Valora'!$Y$75))","v":0},null,{"$f":"IF(B134<=0,0,IF('Simulador Valora'!$X$41=1,'Simulador Valora'!$O$55,IF('Simulador Valora'!$X$41=2,'Simulador Valora'!$K$55,'Simulador Valora'!$E$55)))","v":0},null,0,null,null,null,0,0.12,0,0,0,0,0,{"$f":"IF(AD134<=0,0,AD134*IF('Simulador Valora'!$AC$81=1,0,'Simulador Valora'!$Y$75))+IF(AD134<=0,0,IF('Simulador Valora'!$X$41=1,'Simulador Valora'!$O$55,IF('Simulador Valora'!$X$41=2,'Simulador Valora'!$K$55,'Simulador Valora'!$E$55)))","v":0},null,0,0,null,9,10,0,0,0,123,"",0,118]
[119,0,null,{"$f":"IF(B135+F135-D134<=0,B135+F135,IF(A135=$B$9,$F$9,IF(A135=$B$10,$F$10,IF(AND('Simulador Valora'!$AH$45=2,L134=0),D134*(1+Z135),IF($AM$3=2,B135*AL135,D134*(1+Z135))))))","v":0},null,0,null,0,null,null,null,null,null,{"$f":"IF('Simulador Valora'!$V$66=1,0,L135*'Simulador Valora'!$O$69*'Simulador Valora'!$W$65)","v":0},null,0,null,0,null,{"$f":"IF(B135<=0,0,B135*IF('Simulador Valora'!$AC$81=1,0,'Simulador Valora'!$Y$75))","v":0},null,{"$f":"IF(B135<=0,0,IF('Simulador Valora'!$X$41=1,'Simulador Valora'!$O$55,IF('Simulador Valora'!$X$41=2,'Simulador Valora'!$K$55,'Simulador Valora'!$E$55)))","v":0},null,0,null,null,null,0,0.12,0,0,0,0,0,{"$f":"IF(AD135<=0,0,AD135*IF('Simulador Valora'!$AC$81=1,0,'Simulador Valora'!$Y$75))+IF(AD135<=0,0,IF('Simulador Valora'!$X$41=1,'Simulador Valora'!$O$55,IF('Simulador Valora'!$X$41=2,'Simulador Valora'!$K$55,'Simulador Valora'!$E$55)))","v":0},null,0,0,null,9,11,0,0,0,122,"",0,119]
[120,0,null,{"$f":"IF(B136+F136-D135<=0,B136+F136,IF(A136=$B$9,$F$9,IF(A136=$B$10,$F$10,IF(AND('Simulador Valora'!$AH$45=2,L135=0),D135*(1+Z136),IF($AM$3=2,B136*AL136,D135*(1+Z136))))))","v":0},null,0,null,0,null,{"$f":"IF(B136-H136=0,0,J134)","v":0},null,null,null,{"$f":"IF('Simulador Valora'!$V$66=1,0,L136*'Simulador Valora'!$O$69*'Simulador Valora'!$W$65)","v":0},null,0,null,0,null,{"$f":"IF(B136<=0,0,B136*IF('Simulador Valora'!$AC$81=1,0,'Simulador Valora'!$Y$75))","v":0},null,{"$f":"IF(B136<=0,0,IF('Simulador Valora'!$X$41=1,'Simulador Valora'!$O$55,IF('Simulador Valora'!$X$41=2,'Simulador Valora'!$K$55,'Simulador Valora'!$E$55)))","v":0},null,0,null,null,null,0,0.12,0,0,0,0,0,{"$f":"IF(AD136<=0,0,AD136*IF('Simulador Valora'!$AC$81=1,0,'Simulador Valora'!$Y$75))+IF(AD136<=0,0,IF('Simulador Valora'!$X$41=1,'Simulador Valora'!$O$55,IF('Simulador Valora'!$X$41=2,'Simulador Valora'!$K$55,'Simulador Valora'!$E$55)))","v":0},null,0,0,null,10,0,0,0,0,121,"",0,120]
[121,0,null,{"$f":"IF(B137+F137-D136<=0,B137+F137,IF(A137=$B$9,$F$9,IF(A137=$B$10,$F$10,IF(AND('Simulador Valora'!$AH$45=2,L136=0),D136*(1+Z137),IF($AM$3=2,B137*AL137,D136*(1+Z137))))))","v":0},null,0,null,0,null,null,null,null,null,{"$f":"IF('Simulador Valora'!$V$66=1,0,L137*'Simulador Valora'!$O$69*'Simulador Valora'!$W$65)","v":0},null,0,null,0,null,{"$f":"IF(B137<=0,0,B137*IF('Simulador Valora'!$AC$81=1,0,'Simulador Valora'!$Y$75))","v":0},null,{"$f":"IF(B137<=0,0,IF('Simulador Valora'!$X$41=1,'Simulador Valora'!$O$55,IF('Simulador Valora'!$X$41=2,'Simulador Valora'!$K$55,'Simulador Valora'!$E$55)))","v":0},null,0,null,{"$f":"IF(B137<=0,0,'Simulador Valora'!$AI$54)","v":0},null,0,{"$f":"IF(AC136=$AC$6,AC136,IF(AC136=$AC$5,AC136,AC136-0.25%))","v":0.12},0,0,0,0,0,{"$f":"IF(AD137<=0,0,AD137*IF('Simulador Valora'!$AC$81=1,0,'Simulador Valora'!$Y$75))+IF(AD137<=0,0,IF('Simulador Valora'!$X$41=1,'Simulador Valora'!$O$55,IF('Simulador Valora'!$X$41=2,'Simulador Valora'!$K$55,'Simulador Valora'!$E$55)))","v":0},{"$f":"IF(AC137<=0,0,$AJ$29)","v":0},0,0,null,10,1,0,0,0,120,"",0,121]
[122,0,null,{"$f":"IF(B138+F138-D137<=0,B138+F138,IF(A138=$B$9,$F$9,IF(A138=$B$10,$F$10,IF(AND('Simulador Valora'!$AH$45=2,L137=0),D137*(1+Z138),IF($AM$3=2,B138*AL138,D137*(1+Z138))))))","v":0},null,0,null,0,null,{"$f":"IF(B138-H138=0,0,J136*(1+(3%)))","v":0},null,null,null,{"$f":"IF('Simulador Valora'!$V$66=1,0,L138*'Simulador Valora'!$O$69*'Simulador Valora'!$W$65)","v":0},null,0,null,0,null,{"$f":"IF(B138<=0,0,B138*IF('Simulador Valora'!$AC$81=1,0,'Simulador Valora'!$Y$75))","v":0},null,{"$f":"IF(B138<=0,0,IF('Simulador Valora'!$X$41=1,'Simulador Valora'!$O$55,IF('Simulador Valora'!$X$41=2,'Simulador Valora'!$K$55,'Simulador Valora'!$E$55)))","v":0},null,0,null,null,null,0,{"$f":"AC137","v":0.12},0,0,0,0,0,{"$f":"IF(AD138<=0,0,AD138*IF('Simulador Valora'!$AC$81=1,0,'Simulador Valora'!$Y$75))+IF(AD138<=0,0,IF('Simulador Valora'!$X$41=1,'Simulador Valora'!$O$55,IF('Simulador Valora'!$X$41=2,'Simulador Valora'!$K$55,'Simulador Valora'!$E$55)))","v":0},null,0,0,null,10,2,0,0,0,119,"",0,122]
[123,0,null,{"$f":"IF(B139+F139-D138<=0,B139+F139,IF(A139=$B$9,$F$9,IF(A139=$B$10,$F$10,IF(AND('Simulador Valora'!$AH$45=2,L138=0),D138*(1+Z139),IF($AM$3=2,B139*AL139,D138*(1+Z139))))))","v":0},null,0,null,0,null,null,null,null,null,{"$f":"IF('Simulador Valora'!$V$66=1,0,L139*'Simulador Valora'!$O$69*'Simulador Valora'!$W$65)","v":0},null,0,null,0,null,{"$f":"IF(B139<=0,0,B139*IF('Simulador Valora'!$AC$81=1,0,'Simulador Valora'!$Y$75))","v":0},null,{"$f":"IF(B139<=0,0,IF('Simulador Valora'!$X$41=1,'Simulador Valora'!$O$55,IF('Simulador Valora'!$X$41=2,'Simulador Valora'!$K$55,'Simulador Valora'!$E$55)))","v":0},null,0,null,null,null,0,{"$f":"AC138","v":0.12},0,0,0,0,0,{"$f":"IF(AD139<=0,0,AD139*IF('Simulador Valora'!$AC$81=1,0,'Simulador Valora'!$Y$75))+IF(AD139<=0,0,IF('Simulador Valora'!$X$41=1,'Simulador Valora'!$O$55,IF('Simulador Valora'!$X$41=2,'Simulador Valora'!$K$55,'Simulador Valora'!$E$55)))","v":0},null,0,0,null,10,3,0,0,0,118,"",0,123]
[124,0,null,{"$f":"IF(B140+F140-D139<=0,B140+F140,IF(A140=$B$9,$F$9,IF(A140=$B$10,$F$10,IF(AND('Simulador Valora'!$AH$45=2,L139=0),D139*(1+Z140),IF($AM$3=2,B140*AL140,D139*(1+Z140))))))","v":0},null,0,null,0,null,{"$f":"IF(B140-H140=0,0,J138)","v":0},null,null,null,{"$f":"IF('Simulador Valora'!$V$66=1,0,L140*'Simulador Valora'!$O$69*'Simulador Valora'!$W$65)","v":0},null,0,null,0,null,{"$f":"IF(B140<=0,0,B140*IF('Simulador Valora'!$AC$81=1,0,'Simulador Valora'!$Y$75))","v":0},null,{"$f":"IF(B140<=0,0,IF('Simulador Valora'!$X$41=1,'Simulador Valora'!$O$55,IF('Simulador Valora'!$X$41=2,'Simulador Valora'!$K$55,'Simulador Valora'!$E$55)))","v":0},null,0,null,null,null,0,0.12,0,0,0,0,0,{"$f":"IF(AD140<=0,0,AD140*IF('Simulador Valora'!$AC$81=1,0,'Simulador Valora'!$Y$75))+IF(AD140<=0,0,IF('Simulador Valora'!$X$41=1,'Simulador Valora'!$O$55,IF('Simulador Valora'!$X$41=2,'Simulador Valora'!$K$55,'Simulador Valora'!$E$55)))","v":0},null,0,0,null,10,4,0,0,0,{"$f":"IFERROR(IF(AC140<=0.01,0,AS139-1),0)","v":117},"",0,124]
[125,0,null,{"$f":"IF(B141+F141-D140<=0,B141+F141,IF(A141=$B$9,$F$9,IF(A141=$B$10,$F$10,IF(AND('Simulador Valora'!$AH$45=2,L140=0),D140*(1+Z141),IF($AM$3=2,B141*AL141,D140*(1+Z141))))))","v":0},null,0,null,0,null,null,null,null,null,{"$f":"IF('Simulador Valora'!$V$66=1,0,L141*'Simulador Valora'!$O$69*'Simulador Valora'!$W$65)","v":0},null,0,null,0,null,{"$f":"IF(B141<=0,0,B141*IF('Simulador Valora'!$AC$81=1,0,'Simulador Valora'!$Y$75))","v":0},null,{"$f":"IF(B141<=0,0,IF('Simulador Valora'!$X$41=1,'Simulador Valora'!$O$55,IF('Simulador Valora'!$X$41=2,'Simulador Valora'!$K$55,'Simulador Valora'!$E$55)))","v":0},null,0,null,null,null,0,0.12,0,0,0,0,0,{"$f":"IF(AD141<=0,0,AD141*IF('Simulador Valora'!$AC$81=1,0,'Simulador Valora'!$Y$75))+IF(AD141<=0,0,IF('Simulador Valora'!$X$41=1,'Simulador Valora'!$O$55,IF('Simulador Valora'!$X$41=2,'Simulador Valora'!$K$55,'Simulador Valora'!$E$55)))","v":0},null,0,0,null,10,5,0,0,0,116,"",0,125]
[126,0,null,{"$f":"IF(B142+F142-D141<=0,B142+F142,IF(A142=$B$9,$F$9,IF(A142=$B$10,$F$10,IF(AND('Simulador Valora'!$AH$45=2,L141=0),D141*(1+Z142),IF($AM$3=2,B142*AL142,D141*(1+Z142))))))","v":0},null,0,null,0,null,{"$f":"IF(B142-H142=0,0,J140)","v":0},null,null,null,{"$f":"IF('Simulador Valora'!$V$66=1,0,L142*'Simulador Valora'!$O$69*'Simulador Valora'!$W$65)","v":0},null,0,null,0,null,{"$f":"IF(B142<=0,0,B142*IF('Simulador Valora'!$AC$81=1,0,'Simulador Valora'!$Y$75))","v":0},null,{"$f":"IF(B142<=0,0,IF('Simulador Valora'!$X$41=1,'Simulador Valora'!$O$55,IF('Simulador Valora'!$X$41=2,'Simulador Valora'!$K$55,'Simulador Valora'!$E$55)))","v":0},null,0,null,null,null,0,0.12,0,0,0,0,0,{"$f":"IF(AD142<=0,0,AD142*IF('Simulador Valora'!$AC$81=1,0,'Simulador Valora'!$Y$75))+IF(AD142<=0,0,IF('Simulador Valora'!$X$41=1,'Simulador Valora'!$O$55,IF('Simulador Valora'!$X$41=2,'Simulador Valora'!$K$55,'Simulador Valora'!$E$55)))","v":0},null,0,0,null,10,6,0,0,0,115,"",0,126]
[127,0,null,{"$f":"IF(B143+F143-D142<=0,B143+F143,IF(A143=$B$9,$F$9,IF(A143=$B$10,$F$10,IF(AND('Simulador Valora'!$AH$45=2,L142=0),D142*(1+Z143),IF($AM$3=2,B143*AL143,D142*(1+Z143))))))","v":0},null,0,null,0,null,null,null,null,null,{"$f":"IF('Simulador Valora'!$V$66=1,0,L143*'Simulador Valora'!$O$69*'Simulador Valora'!$W$65)","v":0},null,0,null,0,null,{"$f":"IF(B143<=0,0,B143*IF('Simulador Valora'!$AC$81=1,0,'Simulador Valora'!$Y$75))","v":0},null,{"$f":"IF(B143<=0,0,IF('Simulador Valora'!$X$41=1,'Simulador Valora'!$O$55,IF('Simulador Valora'!$X$41=2,'Simulador Valora'!$K$55,'Simulador Valora'!$E$55)))","v":0},null,0,null,null,null,0,0.12,0,0,0,0,0,{"$f":"IF(AD143<=0,0,AD143*IF('Simulador Valora'!$AC$81=1,0,'Simulador Valora'!$Y$75))+IF(AD143<=0,0,IF('Simulador Valora'!$X$41=1,'Simulador Valora'!$O$55,IF('Simulador Valora'!$X$41=2,'Simulador Valora'!$K$55,'Simulador Valora'!$E$55)))","v":0},null,0,0,null,10,7,0,0,0,114,"",0,127]
[128,0,null,{"$f":"IF(B144+F144-D143<=0,B144+F144,IF(A144=$B$9,$F$9,IF(A144=$B$10,$F$10,IF(AND('Simulador Valora'!$AH$45=2,L143=0),D143*(1+Z144),IF($AM$3=2,B144*AL144,D143*(1+Z144))))))","v":0},null,0,null,0,null,{"$f":"IF(B144-H144=0,0,J142)","v":0},null,null,null,{"$f":"IF('Simulador Valora'!$V$66=1,0,L144*'Simulador Valora'!$O$69*'Simulador Valora'!$W$65)","v":0},null,0,null,0,null,{"$f":"IF(B144<=0,0,B144*IF('Simulador Valora'!$AC$81=1,0,'Simulador Valora'!$Y$75))","v":0},null,{"$f":"IF(B144<=0,0,IF('Simulador Valora'!$X$41=1,'Simulador Valora'!$O$55,IF('Simulador Valora'!$X$41=2,'Simulador Valora'!$K$55,'Simulador Valora'!$E$55)))","v":0},null,0,null,null,null,0,0.12,0,0,0,0,0,{"$f":"IF(AD144<=0,0,AD144*IF('Simulador Valora'!$AC$81=1,0,'Simulador Valora'!$Y$75))+IF(AD144<=0,0,IF('Simulador Valora'!$X$41=1,'Simulador Valora'!$O$55,IF('Simulador Valora'!$X$41=2,'Simulador Valora'!$K$55,'Simulador Valora'!$E$55)))","v":0},null,0,0,null,10,8,0,0,0,113,"",0,128]
[129,0,null,{"$f":"IF(B145+F145-D144<=0,B145+F145,IF(A145=$B$9,$F$9,IF(A145=$B$10,$F$10,IF(AND('Simulador Valora'!$AH$45=2,L144=0),D144*(1+Z145),IF($AM$3=2,B145*AL145,D144*(1+Z145))))))","v":0},null,{"$f":"IF(B145=0,0,P145/360*AU145*B145)","v":0},null,0,null,null,null,null,null,{"$f":"IF('Simulador Valora'!$V$66=1,0,L145*'Simulador Valora'!$O$69*'Simulador Valora'!$W$65)","v":0},null,0,null,0,null,{"$f":"IF(B145<=0,0,B145*IF('Simulador Valora'!$AC$81=1,0,'Simulador Valora'!$Y$75))","v":0},null,{"$f":"IF(B145<=0,0,IF('Simulador Valora'!$X$41=1,'Simulador Valora'!$O$55,IF('Simulador Valora'!$X$41=2,'Simulador Valora'!$K$55,'Simulador Valora'!$E$55)))","v":0},null,0,null,null,null,0,0.12,0,0,{"$f":"IFERROR(AC145/360*AU145*AD145,0)","v":0},0,0,{"$f":"IF(AD145<=0,0,AD145*IF('Simulador Valora'!$AC$81=1,0,'Simulador Valora'!$Y$75))+IF(AD145<=0,0,IF('Simulador Valora'!$X$41=1,'Simulador Valora'!$O$55,IF('Simulador Valora'!$X$41=2,'Simulador Valora'!$K$55,'Simulador Valora'!$E$55)))","v":0},null,{"$f":"IF(AD145<=0,0,AE145+AI145)","v":0},{"$f":"IFERROR(AE145/AD145,0)","v":0},null,10,9,{"$f":"+IF(R145<=0,IF(R144>0,+A145,0),0)","v":0},0,0,112,"",0,129]
[130,{"$f":"IF(R145<0,0,IF(A146=$B$9,R145+$D$9,IF(A146=$B$10,R145+$D$10,R145)))","v":0},null,{"$f":"IF(B146+F146-D145<=0,B146+F146,IF(A146=$B$9,$F$9,IF(A146=$B$10,$F$10,IF(AND('Simulador Valora'!$AH$45=2,L145=0),D145*(1+Z146),IF($AM$3=2,B146*AL146,D145*(1+Z146))))))","v":0},null,0,null,0,null,{"$f":"IF(B146-H146=0,0,J144)","v":0},null,null,null,{"$f":"IF('Simulador Valora'!$V$66=1,0,L146*'Simulador Valora'!$O$69*'Simulador Valora'!$W$65)","v":0},null,{"$f":"IF(B146=0,0,AC146)","v":0},null,{"$f":"B146-H146-J146-L146+N146","v":0},null,{"$f":"IF(B146<=0,0,B146*IF('Simulador Valora'!$AC$81=1,0,'Simulador Valora'!$Y$75))","v":0},null,{"$f":"IF(B146<=0,0,IF('Simulador Valora'!$X$41=1,'Simulador Valora'!$O$55,IF('Simulador Valora'!$X$41=2,'Simulador Valora'!$K$55,'Simulador Valora'!$E$55)))","v":0},null,{"$f":"IF(B146<=0,0,(D146+L146+T146+V146))","v":0},null,null,null,{"$f":"X146","v":0},0.12,0,0,0,0,{"$f":"+AD146-AG146","v":0},{"$f":"IF(AD146<=0,0,AD146*IF('Simulador Valora'!$AC$81=1,0,'Simulador Valora'!$Y$75))+IF(AD146<=0,0,IF('Simulador Valora'!$X$41=1,'Simulador Valora'!$O$55,IF('Simulador Valora'!$X$41=2,'Simulador Valora'!$K$55,'Simulador Valora'!$E$55)))","v":0},null,0,0,null,10,10,0,{"$f":"+IF(AP146>0,+AN146,0)","v":0},{"$f":"+IF(AP146>0,+AO146,0)","v":0},111,"",{"$f":"IFERROR(DAY(DATE(YEAR(AT146),MONTH(AT146)+1,0)),0)","v":0},130]
[131,0,null,{"$f":"IF(B147+F147-D146<=0,B147+F147,IF(A147=$B$9,$F$9,IF(A147=$B$10,$F$10,IF(AND('Simulador Valora'!$AH$45=2,L146=0),D146*(1+Z147),IF($AM$3=2,B147*AL147,D146*(1+Z147))))))","v":0},null,0,null,{"$f":"D147-F147","v":0},null,null,null,null,null,{"$f":"IF('Simulador Valora'!$V$66=1,0,L147*'Simulador Valora'!$O$69*'Simulador Valora'!$W$65)","v":0},null,0,null,0,null,{"$f":"IF(B147<=0,0,B147*IF('Simulador Valora'!$AC$81=1,0,'Simulador Valora'!$Y$75))","v":0},null,{"$f":"IF(B147<=0,0,IF('Simulador Valora'!$X$41=1,'Simulador Valora'!$O$55,IF('Simulador Valora'!$X$41=2,'Simulador Valora'!$K$55,'Simulador Valora'!$E$55)))","v":0},null,0,null,null,null,0,0.12,{"$f":"IF(AH146<0,0,IF($A147=$B$9,AH146+$D$9,IF($A147=$B$10,AH146+$D$10,AH146)))","v":0},{"$f":"IF(AD147+AF147-AE146<=0,AD147+AF147,IF($A147=$B$9,$F$9,IF($A147=$B$10,$F$10,AE146*(1+Z147))))","v":0},0,{"$f":"+AE147-AF147","v":0},0,{"$f":"IF(AD147<=0,0,AD147*IF('Simulador Valora'!$AC$81=1,0,'Simulador Valora'!$Y$75))+IF(AD147<=0,0,IF('Simulador Valora'!$X$41=1,'Simulador Valora'!$O$55,IF('Simulador Valora'!$X$41=2,'Simulador Valora'!$K$55,'Simulador Valora'!$E$55)))","v":0},null,0,0,null,10,11,0,0,0,110,{"$f":"IF(AD147=0,\"\",DATE(YEAR(AT146),MONTH(AT146)+1,1))","v":""},0,131]
[132,0,null,{"$f":"IF(B148+F148-D147<=0,B148+F148,IF(A148=$B$9,$F$9,IF(A148=$B$10,$F$10,IF(AND('Simulador Valora'!$AH$45=2,L147=0),D147*(1+Z148),IF($AM$3=2,B148*AL148,D147*(1+Z148))))))","v":0},null,0,null,0,null,{"$f":"IF(B148-H148=0,0,J146)","v":0},null,null,null,{"$f":"IF('Simulador Valora'!$V$66=1,0,L148*'Simulador Valora'!$O$69*'Simulador Valora'!$W$65)","v":0},null,0,null,0,null,{"$f":"IF(B148<=0,0,B148*IF('Simulador Valora'!$AC$81=1,0,'Simulador Valora'!$Y$75))","v":0},null,{"$f":"IF(B148<=0,0,IF('Simulador Valora'!$X$41=1,'Simulador Valora'!$O$55,IF('Simulador Valora'!$X$41=2,'Simulador Valora'!$K$55,'Simulador Valora'!$E$55)))","v":0},null,0,null,null,null,0,0.12,0,0,0,0,0,{"$f":"IF(AD148<=0,0,AD148*IF('Simulador Valora'!$AC$81=1,0,'Simulador Valora'!$Y$75))+IF(AD148<=0,0,IF('Simulador Valora'!$X$41=1,'Simulador Valora'!$O$55,IF('Simulador Valora'!$X$41=2,'Simulador Valora'!$K$55,'Simulador Valora'!$E$55)))","v":0},null,0,0,null,11,0,0,0,0,109,"",0,132]
[133,0,null,{"$f":"IF(B149+F149-D148<=0,B149+F149,IF(A149=$B$9,$F$9,IF(A149=$B$10,$F$10,IF(AND('Simulador Valora'!$AH$45=2,L148=0),D148*(1+Z149),IF($AM$3=2,B149*AL149,D148*(1+Z149))))))","v":0},null,0,null,0,null,null,null,null,null,{"$f":"IF('Simulador Valora'!$V$66=1,0,L149*'Simulador Valora'!$O$69*'Simulador Valora'!$W$65)","v":0},null,0,null,0,null,{"$f":"IF(B149<=0,0,B149*IF('Simulador Valora'!$AC$81=1,0,'Simulador Valora'!$Y$75))","v":0},null,{"$f":"IF(B149<=0,0,IF('Simulador Valora'!$X$41=1,'Simulador Valora'!$O$55,IF('Simulador Valora'!$X$41=2,'Simulador Valora'!$K$55,'Simulador Valora'!$E$55)))","v":0},null,0,null,{"$f":"IF(B149<=0,0,'Simulador Valora'!$AI$54)","v":0},null,0,{"$f":"IF(AC148=$AC$6,AC148,IF(AC148=$AC$5,AC148,AC148-0.25%))","v":0.12},0,0,0,0,0,{"$f":"IF(AD149<=0,0,AD149*IF('Simulador Valora'!$AC$81=1,0,'Simulador Valora'!$Y$75))+IF(AD149<=0,0,IF('Simulador Valora'!$X$41=1,'Simulador Valora'!$O$55,IF('Simulador Valora'!$X$41=2,'Simulador Valora'!$K$55,'Simulador Valora'!$E$55)))","v":0},{"$f":"IF(AC149<=0,0,$AJ$29)","v":0},0,0,null,11,1,0,0,0,108,"",0,133]
[134,0,null,{"$f":"IF(B150+F150-D149<=0,B150+F150,IF(A150=$B$9,$F$9,IF(A150=$B$10,$F$10,IF(AND('Simulador Valora'!$AH$45=2,L149=0),D149*(1+Z150),IF($AM$3=2,B150*AL150,D149*(1+Z150))))))","v":0},null,0,null,0,null,{"$f":"IF(B150-H150=0,0,J148*(1+(3%)))","v":0},null,null,null,{"$f":"IF('Simulador Valora'!$V$66=1,0,L150*'Simulador Valora'!$O$69*'Simulador Valora'!$W$65)","v":0},null,0,null,0,null,{"$f":"IF(B150<=0,0,B150*IF('Simulador Valora'!$AC$81=1,0,'Simulador Valora'!$Y$75))","v":0},null,{"$f":"IF(B150<=0,0,IF('Simulador Valora'!$X$41=1,'Simulador Valora'!$O$55,IF('Simulador Valora'!$X$41=2,'Simulador Valora'!$K$55,'Simulador Valora'!$E$55)))","v":0},null,0,null,null,null,0,{"$f":"AC149","v":0.12},0,0,0,0,0,{"$f":"IF(AD150<=0,0,AD150*IF('Simulador Valora'!$AC$81=1,0,'Simulador Valora'!$Y$75))+IF(AD150<=0,0,IF('Simulador Valora'!$X$41=1,'Simulador Valora'!$O$55,IF('Simulador Valora'!$X$41=2,'Simulador Valora'!$K$55,'Simulador Valora'!$E$55)))","v":0},null,0,0,null,11,2,0,0,0,107,"",0,134]
[135,0,null,{"$f":"IF(B151+F151-D150<=0,B151+F151,IF(A151=$B$9,$F$9,IF(A151=$B$10,$F$10,IF(AND('Simulador Valora'!$AH$45=2,L150=0),D150*(1+Z151),IF($AM$3=2,B151*AL151,D150*(1+Z151))))))","v":0},null,0,null,0,null,null,null,null,null,{"$f":"IF('Simulador Valora'!$V$66=1,0,L151*'Simulador Valora'!$O$69*'Simulador Valora'!$W$65)","v":0},null,0,null,0,null,{"$f":"IF(B151<=0,0,B151*IF('Simulador Valora'!$AC$81=1,0,'Simulador Valora'!$Y$75))","v":0},null,{"$f":"IF(B151<=0,0,IF('Simulador Valora'!$X$41=1,'Simulador Valora'!$O$55,IF('Simulador Valora'!$X$41=2,'Simulador Valora'!$K$55,'Simulador Valora'!$E$55)))","v":0},null,0,null,null,null,0,{"$f":"AC150","v":0.12},0,0,0,0,0,{"$f":"IF(AD151<=0,0,AD151*IF('Simulador Valora'!$AC$81=1,0,'Simulador Valora'!$Y$75))+IF(AD151<=0,0,IF('Simulador Valora'!$X$41=1,'Simulador Valora'!$O$55,IF('Simulador Valora'!$X$41=2,'Simulador Valora'!$K$55,'Simulador Valora'!$E$55)))","v":0},null,0,0,null,11,3,0,0,0,106,"",0,135]
[136,0,null,{"$f":"IF(B152+F152-D151<=0,B152+F152,IF(A152=$B$9,$F$9,IF(A152=$B$10,$F$10,IF(AND('Simulador Valora'!$AH$45=2,L151=0),D151*(1+Z152),IF($AM$3=2,B152*AL152,D151*(1+Z152))))))","v":0},null,0,null,0,null,{"$f":"IF(B152-H152=0,0,J150)","v":0},null,null,null,{"$f":"IF('Simulador Valora'!$V$66=1,0,L152*'Simulador Valora'!$O$69*'Simulador Valora'!$W$65)","v":0},null,0,null,0,null,{"$f":"IF(B152<=0,0,B152*IF('Simulador Valora'!$AC$81=1,0,'Simulador Valora'!$Y$75))","v":0},null,{"$f":"IF(B152<=0,0,IF('Simulador Valora'!$X$41=1,'Simulador Valora'!$O$55,IF('Simulador Valora'!$X$41=2,'Simulador Valora'!$K$55,'Simulador Valora'!$E$55)))","v":0},null,0,null,null,null,0,0.12,0,0,0,0,0,{"$f":"IF(AD152<=0,0,AD152*IF('Simulador Valora'!$AC$81=1,0,'Simulador Valora'!$Y$75))+IF(AD152<=0,0,IF('Simulador Valora'!$X$41=1,'Simulador Valora'!$O$55,IF('Simulador Valora'!$X$41=2,'Simulador Valora'!$K$55,'Simulador Valora'!$E$55)))","v":0},null,0,0,null,11,4,0,0,0,105,"",0,136]
[137,0,null,{"$f":"IF(B153+F153-D152<=0,B153+F153,IF(A153=$B$9,$F$9,IF(A153=$B$10,$F$10,IF(AND('Simulador Valora'!$AH$45=2,L152=0),D152*(1+Z153),IF($AM$3=2,B153*AL153,D152*(1+Z153))))))","v":0},null,0,null,0,null,null,null,null,null,{"$f":"IF('Simulador Valora'!$V$66=1,0,L153*'Simulador Valora'!$O$69*'Simulador Valora'!$W$65)","v":0},null,0,null,0,null,{"$f":"IF(B153<=0,0,B153*IF('Simulador Valora'!$AC$81=1,0,'Simulador Valora'!$Y$75))","v":0},null,{"$f":"IF(B153<=0,0,IF('Simulador Valora'!$X$41=1,'Simulador Valora'!$O$55,IF('Simulador Valora'!$X$41=2,'Simulador Valora'!$K$55,'Simulador Valora'!$E$55)))","v":0},null,0,null,null,null,0,0.12,0,0,0,0,0,{"$f":"IF(AD153<=0,0,AD153*IF('Simulador Valora'!$AC$81=1,0,'Simulador Valora'!$Y$75))+IF(AD153<=0,0,IF('Simulador Valora'!$X$41=1,'Simulador Valora'!$O$55,IF('Simulador Valora'!$X$41=2,'Simulador Valora'!$K$55,'Simulador Valora'!$E$55)))","v":0},null,0,0,null,11,5,0,0,0,104,"",0,137]
[138,0,null,{"$f":"IF(B154+F154-D153<=0,B154+F154,IF(A154=$B$9,$F$9,IF(A154=$B$10,$F$10,IF(AND('Simulador Valora'!$AH$45=2,L153=0),D153*(1+Z154),IF($AM$3=2,B154*AL154,D153*(1+Z154))))))","v":0},null,0,null,0,null,{"$f":"IF(B154-H154=0,0,J152)","v":0},null,null,null,{"$f":"IF('Simulador Valora'!$V$66=1,0,L154*'Simulador Valora'!$O$69*'Simulador Valora'!$W$65)","v":0},null,0,null,0,null,{"$f":"IF(B154<=0,0,B154*IF('Simulador Valora'!$AC$81=1,0,'Simulador Valora'!$Y$75))","v":0},null,{"$f":"IF(B154<=0,0,IF('Simulador Valora'!$X$41=1,'Simulador Valora'!$O$55,IF('Simulador Valora'!$X$41=2,'Simulador Valora'!$K$55,'Simulador Valora'!$E$55)))","v":0},null,0,null,null,null,0,0.12,0,0,0,0,0,{"$f":"IF(AD154<=0,0,AD154*IF('Simulador Valora'!$AC$81=1,0,'Simulador Valora'!$Y$75))+IF(AD154<=0,0,IF('Simulador Valora'!$X$41=1,'Simulador Valora'!$O$55,IF('Simulador Valora'!$X$41=2,'Simulador Valora'!$K$55,'Simulador Valora'!$E$55)))","v":0},null,0,0,null,11,6,0,0,0,103,"",0,138]
[139,0,null,{"$f":"IF(B155+F155-D154<=0,B155+F155,IF(A155=$B$9,$F$9,IF(A155=$B$10,$F$10,IF(AND('Simulador Valora'!$AH$45=2,L154=0),D154*(1+Z155),IF($AM$3=2,B155*AL155,D154*(1+Z155))))))","v":0},null,0,null,0,null,null,null,null,null,{"$f":"IF('Simulador Valora'!$V$66=1,0,L155*'Simulador Valora'!$O$69*'Simulador Valora'!$W$65)","v":0},null,0,null,0,null,{"$f":"IF(B155<=0,0,B155*IF('Simulador Valora'!$AC$81=1,0,'Simulador Valora'!$Y$75))","v":0},null,{"$f":"IF(B155<=0,0,IF('Simulador Valora'!$X$41=1,'Simulador Valora'!$O$55,IF('Simulador Valora'!$X$41=2,'Simulador Valora'!$K$55,'Simulador Valora'!$E$55)))","v":0},null,0,null,null,null,0,0.12,0,0,0,0,0,{"$f":"IF(AD155<=0,0,AD155*IF('Simulador Valora'!$AC$81=1,0,'Simulador Valora'!$Y$75))+IF(AD155<=0,0,IF('Simulador Valora'!$X$41=1,'Simulador Valora'!$O$55,IF('Simulador Valora'!$X$41=2,'Simulador Valora'!$K$55,'Simulador Valora'!$E$55)))","v":0},null,0,0,null,11,7,0,0,0,102,"",0,139]
[140,0,null,{"$f":"IF(B156+F156-D155<=0,B156+F156,IF(A156=$B$9,$F$9,IF(A156=$B$10,$F$10,IF(AND('Simulador Valora'!$AH$45=2,L155=0),D155*(1+Z156),IF($AM$3=2,B156*AL156,D155*(1+Z156))))))","v":0},null,0,null,0,null,{"$f":"IF(B156-H156=0,0,J154)","v":0},null,null,null,{"$f":"IF('Simulador Valora'!$V$66=1,0,L156*'Simulador Valora'!$O$69*'Simulador Valora'!$W$65)","v":0},null,0,null,0,null,{"$f":"IF(B156<=0,0,B156*IF('Simulador Valora'!$AC$81=1,0,'Simulador Valora'!$Y$75))","v":0},null,{"$f":"IF(B156<=0,0,IF('Simulador Valora'!$X$41=1,'Simulador Valora'!$O$55,IF('Simulador Valora'!$X$41=2,'Simulador Valora'!$K$55,'Simulador Valora'!$E$55)))","v":0},null,0,null,null,null,0,0.12,0,0,0,0,0,{"$f":"IF(AD156<=0,0,AD156*IF('Simulador Valora'!$AC$81=1,0,'Simulador Valora'!$Y$75))+IF(AD156<=0,0,IF('Simulador Valora'!$X$41=1,'Simulador Valora'!$O$55,IF('Simulador Valora'!$X$41=2,'Simulador Valora'!$K$55,'Simulador Valora'!$E$55)))","v":0},null,0,0,null,11,8,0,0,0,101,"",0,140]
[141,0,null,{"$f":"IF(B157+F157-D156<=0,B157+F157,IF(A157=$B$9,$F$9,IF(A157=$B$10,$F$10,IF(AND('Simulador Valora'!$AH$45=2,L156=0),D156*(1+Z157),IF($AM$3=2,B157*AL157,D156*(1+Z157))))))","v":0},null,0,null,0,null,null,null,null,null,{"$f":"IF('Simulador Valora'!$V$66=1,0,L157*'Simulador Valora'!$O$69*'Simulador Valora'!$W$65)","v":0},null,0,null,0,null,{"$f":"IF(B157<=0,0,B157*IF('Simulador Valora'!$AC$81=1,0,'Simulador Valora'!$Y$75))","v":0},null,{"$f":"IF(B157<=0,0,IF('Simulador Valora'!$X$41=1,'Simulador Valora'!$O$55,IF('Simulador Valora'!$X$41=2,'Simulador Valora'!$K$55,'Simulador Valora'!$E$55)))","v":0},null,0,null,null,null,0,0.12,0,0,0,0,0,{"$f":"IF(AD157<=0,0,AD157*IF('Simulador Valora'!$AC$81=1,0,'Simulador Valora'!$Y$75))+IF(AD157<=0,0,IF('Simulador Valora'!$X$41=1,'Simulador Valora'!$O$55,IF('Simulador Valora'!$X$41=2,'Simulador Valora'!$K$55,'Simulador Valora'!$E$55)))","v":0},null,0,0,null,11,9,0,0,0,100,"",0,141]
[142,0,null,{"$f":"IF(B158+F158-D157<=0,B158+F158,IF(A158=$B$9,$F$9,IF(A158=$B$10,$F$10,IF(AND('Simulador Valora'!$AH$45=2,L157=0),D157*(1+Z158),IF($AM$3=2,B158*AL158,D157*(1+Z158))))))","v":0},null,0,null,0,null,{"$f":"IF(B158-H158=0,0,J156)","v":0},null,null,null,{"$f":"IF('Simulador Valora'!$V$66=1,0,L158*'Simulador Valora'!$O$69*'Simulador Valora'!$W$65)","v":0},null,0,null,0,null,{"$f":"IF(B158<=0,0,B158*IF('Simulador Valora'!$AC$81=1,0,'Simulador Valora'!$Y$75))","v":0},null,{"$f":"IF(B158<=0,0,IF('Simulador Valora'!$X$41=1,'Simulador Valora'!$O$55,IF('Simulador Valora'!$X$41=2,'Simulador Valora'!$K$55,'Simulador Valora'!$E$55)))","v":0},null,0,null,null,null,0,0.12,0,0,0,0,0,{"$f":"IF(AD158<=0,0,AD158*IF('Simulador Valora'!$AC$81=1,0,'Simulador Valora'!$Y$75))+IF(AD158<=0,0,IF('Simulador Valora'!$X$41=1,'Simulador Valora'!$O$55,IF('Simulador Valora'!$X$41=2,'Simulador Valora'!$K$55,'Simulador Valora'!$E$55)))","v":0},null,0,0,null,11,10,0,0,0,99,"",0,142]
[143,0,null,{"$f":"IF(B159+F159-D158<=0,B159+F159,IF(A159=$B$9,$F$9,IF(A159=$B$10,$F$10,IF(AND('Simulador Valora'!$AH$45=2,L158=0),D158*(1+Z159),IF($AM$3=2,B159*AL159,D158*(1+Z159))))))","v":0},null,0,null,0,null,null,null,null,null,{"$f":"IF('Simulador Valora'!$V$66=1,0,L159*'Simulador Valora'!$O$69*'Simulador Valora'!$W$65)","v":0},null,0,null,0,null,{"$f":"IF(B159<=0,0,B159*IF('Simulador Valora'!$AC$81=1,0,'Simulador Valora'!$Y$75))","v":0},null,{"$f":"IF(B159<=0,0,IF('Simulador Valora'!$X$41=1,'Simulador Valora'!$O$55,IF('Simulador Valora'!$X$41=2,'Simulador Valora'!$K$55,'Simulador Valora'!$E$55)))","v":0},null,0,null,null,null,0,0.12,0,0,0,0,0,{"$f":"IF(AD159<=0,0,AD159*IF('Simulador Valora'!$AC$81=1,0,'Simulador Valora'!$Y$75))+IF(AD159<=0,0,IF('Simulador Valora'!$X$41=1,'Simulador Valora'!$O$55,IF('Simulador Valora'!$X$41=2,'Simulador Valora'!$K$55,'Simulador Valora'!$E$55)))","v":0},null,0,0,null,11,11,0,0,0,98,"",0,143]
[144,0,null,{"$f":"IF(B160+F160-D159<=0,B160+F160,IF(A160=$B$9,$F$9,IF(A160=$B$10,$F$10,IF(AND('Simulador Valora'!$AH$45=2,L159=0),D159*(1+Z160),IF($AM$3=2,B160*AL160,D159*(1+Z160))))))","v":0},null,0,null,0,null,{"$f":"IF(B160-H160=0,0,J158)","v":0},null,null,null,{"$f":"IF('Simulador Valora'!$V$66=1,0,L160*'Simulador Valora'!$O$69*'Simulador Valora'!$W$65)","v":0},null,0,null,0,null,{"$f":"IF(B160<=0,0,B160*IF('Simulador Valora'!$AC$81=1,0,'Simulador Valora'!$Y$75))","v":0},null,{"$f":"IF(B160<=0,0,IF('Simulador Valora'!$X$41=1,'Simulador Valora'!$O$55,IF('Simulador Valora'!$X$41=2,'Simulador Valora'!$K$55,'Simulador Valora'!$E$55)))","v":0},null,0,null,null,null,0,0.12,0,0,0,0,0,{"$f":"IF(AD160<=0,0,AD160*IF('Simulador Valora'!$AC$81=1,0,'Simulador Valora'!$Y$75))+IF(AD160<=0,0,IF('Simulador Valora'!$X$41=1,'Simulador Valora'!$O$55,IF('Simulador Valora'!$X$41=2,'Simulador Valora'!$K$55,'Simulador Valora'!$E$55)))","v":0},null,0,0,null,12,0,0,0,0,97,"",0,144]
[145,0,null,{"$f":"IF(B161+F161-D160<=0,B161+F161,IF(A161=$B$9,$F$9,IF(A161=$B$10,$F$10,IF(AND('Simulador Valora'!$AH$45=2,L160=0),D160*(1+Z161),IF($AM$3=2,B161*AL161,D160*(1+Z161))))))","v":0},null,0,null,0,null,null,null,null,null,{"$f":"IF('Simulador Valora'!$V$66=1,0,L161*'Simulador Valora'!$O$69*'Simulador Valora'!$W$65)","v":0},null,0,null,0,null,{"$f":"IF(B161<=0,0,B161*IF('Simulador Valora'!$AC$81=1,0,'Simulador Valora'!$Y$75))","v":0},null,{"$f":"IF(B161<=0,0,IF('Simulador Valora'!$X$41=1,'Simulador Valora'!$O$55,IF('Simulador Valora'!$X$41=2,'Simulador Valora'!$K$55,'Simulador Valora'!$E$55)))","v":0},null,0,null,{"$f":"IF(B161<=0,0,'Simulador Valora'!$AI$54)","v":0},null,0,{"$f":"IF(AC160=$AC$6,AC160,IF(AC160=$AC$5,AC160,AC160-0.25%))","v":0.12},0,0,0,0,0,{"$f":"IF(AD161<=0,0,AD161*IF('Simulador Valora'!$AC$81=1,0,'Simulador Valora'!$Y$75))+IF(AD161<=0,0,IF('Simulador Valora'!$X$41=1,'Simulador Valora'!$O$55,IF('Simulador Valora'!$X$41=2,'Simulador Valora'!$K$55,'Simulador Valora'!$E$55)))","v":0},{"$f":"IF(AC161<=0,0,$AJ$29)","v":0},0,0,null,12,1,0,0,0,96,"",0,145]
[146,0,null,{"$f":"IF(B162+F162-D161<=0,B162+F162,IF(A162=$B$9,$F$9,IF(A162=$B$10,$F$10,IF(AND('Simulador Valora'!$AH$45=2,L161=0),D161*(1+Z162),IF($AM$3=2,B162*AL162,D161*(1+Z162))))))","v":0},null,0,null,0,null,{"$f":"IF(B162-H162=0,0,J160*(1+(3%)))","v":0},null,null,null,{"$f":"IF('Simulador Valora'!$V$66=1,0,L162*'Simulador Valora'!$O$69*'Simulador Valora'!$W$65)","v":0},null,0,null,0,null,{"$f":"IF(B162<=0,0,B162*IF('Simulador Valora'!$AC$81=1,0,'Simulador Valora'!$Y$75))","v":0},null,{"$f":"IF(B162<=0,0,IF('Simulador Valora'!$X$41=1,'Simulador Valora'!$O$55,IF('Simulador Valora'!$X$41=2,'Simulador Valora'!$K$55,'Simulador Valora'!$E$55)))","v":0},null,0,null,null,null,0,{"$f":"AC161","v":0.12},0,0,0,0,0,{"$f":"IF(AD162<=0,0,AD162*IF('Simulador Valora'!$AC$81=1,0,'Simulador Valora'!$Y$75))+IF(AD162<=0,0,IF('Simulador Valora'!$X$41=1,'Simulador Valora'!$O$55,IF('Simulador Valora'!$X$41=2,'Simulador Valora'!$K$55,'Simulador Valora'!$E$55)))","v":0},null,0,0,null,12,2,0,0,0,95,"",0,146]
[147,0,null,{"$f":"IF(B163+F163-D162<=0,B163+F163,IF(A163=$B$9,$F$9,IF(A163=$B$10,$F$10,IF(AND('Simulador Valora'!$AH$45=2,L162=0),D162*(1+Z163),IF($AM$3=2,B163*AL163,D162*(1+Z163))))))","v":0},null,0,null,0,null,null,null,null,null,{"$f":"IF('Simulador Valora'!$V$66=1,0,L163*'Simulador Valora'!$O$69*'Simulador Valora'!$W$65)","v":0},null,0,null,0,null,{"$f":"IF(B163<=0,0,B163*IF('Simulador Valora'!$AC$81=1,0,'Simulador Valora'!$Y$75))","v":0},null,{"$f":"IF(B163<=0,0,IF('Simulador Valora'!$X$41=1,'Simulador Valora'!$O$55,IF('Simulador Valora'!$X$41=2,'Simulador Valora'!$K$55,'Simulador Valora'!$E$55)))","v":0},null,0,null,null,null,0,{"$f":"AC162","v":0.12},0,0,0,0,0,{"$f":"IF(AD163<=0,0,AD163*IF('Simulador Valora'!$AC$81=1,0,'Simulador Valora'!$Y$75))+IF(AD163<=0,0,IF('Simulador Valora'!$X$41=1,'Simulador Valora'!$O$55,IF('Simulador Valora'!$X$41=2,'Simulador Valora'!$K$55,'Simulador Valora'!$E$55)))","v":0},null,0,0,null,12,3,0,0,0,94,"",0,147]
[148,0,null,{"$f":"IF(B164+F164-D163<=0,B164+F164,IF(A164=$B$9,$F$9,IF(A164=$B$10,$F$10,IF(AND('Simulador Valora'!$AH$45=2,L163=0),D163*(1+Z164),IF($AM$3=2,B164*AL164,D163*(1+Z164))))))","v":0},null,0,null,0,null,{"$f":"IF(B164-H164=0,0,J162)","v":0},null,null,null,{"$f":"IF('Simulador Valora'!$V$66=1,0,L164*'Simulador Valora'!$O$69*'Simulador Valora'!$W$65)","v":0},null,0,null,0,null,{"$f":"IF(B164<=0,0,B164*IF('Simulador Valora'!$AC$81=1,0,'Simulador Valora'!$Y$75))","v":0},null,{"$f":"IF(B164<=0,0,IF('Simulador Valora'!$X$41=1,'Simulador Valora'!$O$55,IF('Simulador Valora'!$X$41=2,'Simulador Valora'!$K$55,'Simulador Valora'!$E$55)))","v":0},null,0,null,null,null,0,0.12,0,0,0,0,0,{"$f":"IF(AD164<=0,0,AD164*IF('Simulador Valora'!$AC$81=1,0,'Simulador Valora'!$Y$75))+IF(AD164<=0,0,IF('Simulador Valora'!$X$41=1,'Simulador Valora'!$O$55,IF('Simulador Valora'!$X$41=2,'Simulador Valora'!$K$55,'Simulador Valora'!$E$55)))","v":0},null,0,0,null,12,4,0,0,0,93,"",0,148]
[149,0,null,{"$f":"IF(B165+F165-D164<=0,B165+F165,IF(A165=$B$9,$F$9,IF(A165=$B$10,$F$10,IF(AND('Simulador Valora'!$AH$45=2,L164=0),D164*(1+Z165),IF($AM$3=2,B165*AL165,D164*(1+Z165))))))","v":0},null,0,null,0,null,null,null,null,null,{"$f":"IF('Simulador Valora'!$V$66=1,0,L165*'Simulador Valora'!$O$69*'Simulador Valora'!$W$65)","v":0},null,0,null,0,null,{"$f":"IF(B165<=0,0,B165*IF('Simulador Valora'!$AC$81=1,0,'Simulador Valora'!$Y$75))","v":0},null,{"$f":"IF(B165<=0,0,IF('Simulador Valora'!$X$41=1,'Simulador Valora'!$O$55,IF('Simulador Valora'!$X$41=2,'Simulador Valora'!$K$55,'Simulador Valora'!$E$55)))","v":0},null,0,null,null,null,0,0.12,0,0,0,0,0,{"$f":"IF(AD165<=0,0,AD165*IF('Simulador Valora'!$AC$81=1,0,'Simulador Valora'!$Y$75))+IF(AD165<=0,0,IF('Simulador Valora'!$X$41=1,'Simulador Valora'!$O$55,IF('Simulador Valora'!$X$41=2,'Simulador Valora'!$K$55,'Simulador Valora'!$E$55)))","v":0},null,0,0,null,12,5,0,0,0,92,"",0,149]
[150,0,null,{"$f":"IF(B166+F166-D165<=0,B166+F166,IF(A166=$B$9,$F$9,IF(A166=$B$10,$F$10,IF(AND('Simulador Valora'!$AH$45=2,L165=0),D165*(1+Z166),IF($AM$3=2,B166*AL166,D165*(1+Z166))))))","v":0},null,0,null,0,null,{"$f":"IF(B166-H166=0,0,J164)","v":0},null,null,null,{"$f":"IF('Simulador Valora'!$V$66=1,0,L166*'Simulador Valora'!$O$69*'Simulador Valora'!$W$65)","v":0},null,0,null,0,null,{"$f":"IF(B166<=0,0,B166*IF('Simulador Valora'!$AC$81=1,0,'Simulador Valora'!$Y$75))","v":0},null,{"$f":"IF(B166<=0,0,IF('Simulador Valora'!$X$41=1,'Simulador Valora'!$O$55,IF('Simulador Valora'!$X$41=2,'Simulador Valora'!$K$55,'Simulador Valora'!$E$55)))","v":0},null,0,null,null,null,0,0.12,0,0,0,0,0,{"$f":"IF(AD166<=0,0,AD166*IF('Simulador Valora'!$AC$81=1,0,'Simulador Valora'!$Y$75))+IF(AD166<=0,0,IF('Simulador Valora'!$X$41=1,'Simulador Valora'!$O$55,IF('Simulador Valora'!$X$41=2,'Simulador Valora'!$K$55,'Simulador Valora'!$E$55)))","v":0},null,0,0,null,12,6,0,0,0,91,"",0,150]
[151,0,null,{"$f":"IF(B167+F167-D166<=0,B167+F167,IF(A167=$B$9,$F$9,IF(A167=$B$10,$F$10,IF(AND('Simulador Valora'!$AH$45=2,L166=0),D166*(1+Z167),IF($AM$3=2,B167*AL167,D166*(1+Z167))))))","v":0},null,0,null,0,null,null,null,null,null,{"$f":"IF('Simulador Valora'!$V$66=1,0,L167*'Simulador Valora'!$O$69*'Simulador Valora'!$W$65)","v":0},null,0,null,0,null,{"$f":"IF(B167<=0,0,B167*IF('Simulador Valora'!$AC$81=1,0,'Simulador Valora'!$Y$75))","v":0},null,{"$f":"IF(B167<=0,0,IF('Simulador Valora'!$X$41=1,'Simulador Valora'!$O$55,IF('Simulador Valora'!$X$41=2,'Simulador Valora'!$K$55,'Simulador Valora'!$E$55)))","v":0},null,0,null,null,null,0,0.12,0,0,0,0,0,{"$f":"IF(AD167<=0,0,AD167*IF('Simulador Valora'!$AC$81=1,0,'Simulador Valora'!$Y$75))+IF(AD167<=0,0,IF('Simulador Valora'!$X$41=1,'Simulador Valora'!$O$55,IF('Simulador Valora'!$X$41=2,'Simulador Valora'!$K$55,'Simulador Valora'!$E$55)))","v":0},null,0,0,null,12,7,0,0,0,90,"",0,151]
[152,0,null,{"$f":"IF(B168+F168-D167<=0,B168+F168,IF(A168=$B$9,$F$9,IF(A168=$B$10,$F$10,IF(AND('Simulador Valora'!$AH$45=2,L167=0),D167*(1+Z168),IF($AM$3=2,B168*AL168,D167*(1+Z168))))))","v":0},null,0,null,0,null,{"$f":"IF(B168-H168=0,0,J166)","v":0},null,null,null,{"$f":"IF('Simulador Valora'!$V$66=1,0,L168*'Simulador Valora'!$O$69*'Simulador Valora'!$W$65)","v":0},null,0,null,0,null,{"$f":"IF(B168<=0,0,B168*IF('Simulador Valora'!$AC$81=1,0,'Simulador Valora'!$Y$75))","v":0},null,{"$f":"IF(B168<=0,0,IF('Simulador Valora'!$X$41=1,'Simulador Valora'!$O$55,IF('Simulador Valora'!$X$41=2,'Simulador Valora'!$K$55,'Simulador Valora'!$E$55)))","v":0},null,0,null,null,null,0,0.12,0,0,0,0,0,{"$f":"IF(AD168<=0,0,AD168*IF('Simulador Valora'!$AC$81=1,0,'Simulador Valora'!$Y$75))+IF(AD168<=0,0,IF('Simulador Valora'!$X$41=1,'Simulador Valora'!$O$55,IF('Simulador Valora'!$X$41=2,'Simulador Valora'!$K$55,'Simulador Valora'!$E$55)))","v":0},null,0,0,null,12,8,0,0,0,89,"",0,152]
[153,0,null,{"$f":"IF(B169+F169-D168<=0,B169+F169,IF(A169=$B$9,$F$9,IF(A169=$B$10,$F$10,IF(AND('Simulador Valora'!$AH$45=2,L168=0),D168*(1+Z169),IF($AM$3=2,B169*AL169,D168*(1+Z169))))))","v":0},null,0,null,0,null,null,null,null,null,{"$f":"IF('Simulador Valora'!$V$66=1,0,L169*'Simulador Valora'!$O$69*'Simulador Valora'!$W$65)","v":0},null,0,null,0,null,{"$f":"IF(B169<=0,0,B169*IF('Simulador Valora'!$AC$81=1,0,'Simulador Valora'!$Y$75))","v":0},null,{"$f":"IF(B169<=0,0,IF('Simulador Valora'!$X$41=1,'Simulador Valora'!$O$55,IF('Simulador Valora'!$X$41=2,'Simulador Valora'!$K$55,'Simulador Valora'!$E$55)))","v":0},null,0,null,null,null,0,0.12,0,0,0,0,0,{"$f":"IF(AD169<=0,0,AD169*IF('Simulador Valora'!$AC$81=1,0,'Simulador Valora'!$Y$75))+IF(AD169<=0,0,IF('Simulador Valora'!$X$41=1,'Simulador Valora'!$O$55,IF('Simulador Valora'!$X$41=2,'Simulador Valora'!$K$55,'Simulador Valora'!$E$55)))","v":0},null,0,0,null,12,9,0,0,0,88,"",0,153]
[154,0,null,{"$f":"IF(B170+F170-D169<=0,B170+F170,IF(A170=$B$9,$F$9,IF(A170=$B$10,$F$10,IF(AND('Simulador Valora'!$AH$45=2,L169=0),D169*(1+Z170),IF($AM$3=2,B170*AL170,D169*(1+Z170))))))","v":0},null,0,null,0,null,{"$f":"IF(B170-H170=0,0,J168)","v":0},null,null,null,{"$f":"IF('Simulador Valora'!$V$66=1,0,L170*'Simulador Valora'!$O$69*'Simulador Valora'!$W$65)","v":0},null,0,null,0,null,{"$f":"IF(B170<=0,0,B170*IF('Simulador Valora'!$AC$81=1,0,'Simulador Valora'!$Y$75))","v":0},null,{"$f":"IF(B170<=0,0,IF('Simulador Valora'!$X$41=1,'Simulador Valora'!$O$55,IF('Simulador Valora'!$X$41=2,'Simulador Valora'!$K$55,'Simulador Valora'!$E$55)))","v":0},null,0,null,null,null,0,0.12,0,0,0,0,0,{"$f":"IF(AD170<=0,0,AD170*IF('Simulador Valora'!$AC$81=1,0,'Simulador Valora'!$Y$75))+IF(AD170<=0,0,IF('Simulador Valora'!$X$41=1,'Simulador Valora'!$O$55,IF('Simulador Valora'!$X$41=2,'Simulador Valora'!$K$55,'Simulador Valora'!$E$55)))","v":0},null,0,0,null,12,10,0,0,0,87,"",0,154]
[155,0,null,{"$f":"IF(B171+F171-D170<=0,B171+F171,IF(A171=$B$9,$F$9,IF(A171=$B$10,$F$10,IF(AND('Simulador Valora'!$AH$45=2,L170=0),D170*(1+Z171),IF($AM$3=2,B171*AL171,D170*(1+Z171))))))","v":0},null,0,null,0,null,null,null,null,null,{"$f":"IF('Simulador Valora'!$V$66=1,0,L171*'Simulador Valora'!$O$69*'Simulador Valora'!$W$65)","v":0},null,0,null,0,null,{"$f":"IF(B171<=0,0,B171*IF('Simulador Valora'!$AC$81=1,0,'Simulador Valora'!$Y$75))","v":0},null,{"$f":"IF(B171<=0,0,IF('Simulador Valora'!$X$41=1,'Simulador Valora'!$O$55,IF('Simulador Valora'!$X$41=2,'Simulador Valora'!$K$55,'Simulador Valora'!$E$55)))","v":0},null,0,null,null,null,0,0.12,0,0,0,0,0,{"$f":"IF(AD171<=0,0,AD171*IF('Simulador Valora'!$AC$81=1,0,'Simulador Valora'!$Y$75))+IF(AD171<=0,0,IF('Simulador Valora'!$X$41=1,'Simulador Valora'!$O$55,IF('Simulador Valora'!$X$41=2,'Simulador Valora'!$K$55,'Simulador Valora'!$E$55)))","v":0},null,0,0,null,12,11,0,0,0,86,"",0,155]
[156,0,null,{"$f":"IF(B172+F172-D171<=0,B172+F172,IF(A172=$B$9,$F$9,IF(A172=$B$10,$F$10,IF(AND('Simulador Valora'!$AH$45=2,L171=0),D171*(1+Z172),IF($AM$3=2,B172*AL172,D171*(1+Z172))))))","v":0},null,0,null,0,null,{"$f":"IF(B172-H172=0,0,J170)","v":0},null,null,null,{"$f":"IF('Simulador Valora'!$V$66=1,0,L172*'Simulador Valora'!$O$69*'Simulador Valora'!$W$65)","v":0},null,0,null,0,null,{"$f":"IF(B172<=0,0,B172*IF('Simulador Valora'!$AC$81=1,0,'Simulador Valora'!$Y$75))","v":0},null,{"$f":"IF(B172<=0,0,IF('Simulador Valora'!$X$41=1,'Simulador Valora'!$O$55,IF('Simulador Valora'!$X$41=2,'Simulador Valora'!$K$55,'Simulador Valora'!$E$55)))","v":0},null,0,null,null,null,0,0.12,0,0,0,0,0,{"$f":"IF(AD172<=0,0,AD172*IF('Simulador Valora'!$AC$81=1,0,'Simulador Valora'!$Y$75))+IF(AD172<=0,0,IF('Simulador Valora'!$X$41=1,'Simulador Valora'!$O$55,IF('Simulador Valora'!$X$41=2,'Simulador Valora'!$K$55,'Simulador Valora'!$E$55)))","v":0},null,0,0,null,13,0,0,0,0,{"$f":"IFERROR(IF(AC172<=0.01,0,AS171-1),0)","v":85},"",0,156]
[157,0,null,{"$f":"IF(B173+F173-D172<=0,B173+F173,IF(A173=$B$9,$F$9,IF(A173=$B$10,$F$10,IF(AND('Simulador Valora'!$AH$45=2,L172=0),D172*(1+Z173),IF($AM$3=2,B173*AL173,D172*(1+Z173))))))","v":0},null,0,null,0,null,null,null,null,null,{"$f":"IF('Simulador Valora'!$V$66=1,0,L173*'Simulador Valora'!$O$69*'Simulador Valora'!$W$65)","v":0},null,0,null,0,null,{"$f":"IF(B173<=0,0,B173*IF('Simulador Valora'!$AC$81=1,0,'Simulador Valora'!$Y$75))","v":0},null,{"$f":"IF(B173<=0,0,IF('Simulador Valora'!$X$41=1,'Simulador Valora'!$O$55,IF('Simulador Valora'!$X$41=2,'Simulador Valora'!$K$55,'Simulador Valora'!$E$55)))","v":0},null,0,null,{"$f":"IF(B173<=0,0,'Simulador Valora'!$AI$54)","v":0},null,0,{"$f":"IF(AC172=$AC$6,AC172,IF(AC172=$AC$5,AC172,AC172-0.25%))","v":0.12},0,0,0,0,0,{"$f":"IF(AD173<=0,0,AD173*IF('Simulador Valora'!$AC$81=1,0,'Simulador Valora'!$Y$75))+IF(AD173<=0,0,IF('Simulador Valora'!$X$41=1,'Simulador Valora'!$O$55,IF('Simulador Valora'!$X$41=2,'Simulador Valora'!$K$55,'Simulador Valora'!$E$55)))","v":0},{"$f":"IF(AC173<=0,0,$AJ$29)","v":0},0,0,null,13,1,0,0,0,84,"",0,157]
[158,0,null,{"$f":"IF(B174+F174-D173<=0,B174+F174,IF(A174=$B$9,$F$9,IF(A174=$B$10,$F$10,IF(AND('Simulador Valora'!$AH$45=2,L173=0),D173*(1+Z174),IF($AM$3=2,B174*AL174,D173*(1+Z174))))))","v":0},null,0,null,0,null,{"$f":"IF(B174-H174=0,0,J172*(1+(3%)))","v":0},null,null,null,{"$f":"IF('Simulador Valora'!$V$66=1,0,L174*'Simulador Valora'!$O$69*'Simulador Valora'!$W$65)","v":0},null,0,null,0,null,{"$f":"IF(B174<=0,0,B174*IF('Simulador Valora'!$AC$81=1,0,'Simulador Valora'!$Y$75))","v":0},null,{"$f":"IF(B174<=0,0,IF('Simulador Valora'!$X$41=1,'Simulador Valora'!$O$55,IF('Simulador Valora'!$X$41=2,'Simulador Valora'!$K$55,'Simulador Valora'!$E$55)))","v":0},null,0,null,null,null,0,{"$f":"AC173","v":0.12},0,0,0,0,0,{"$f":"IF(AD174<=0,0,AD174*IF('Simulador Valora'!$AC$81=1,0,'Simulador Valora'!$Y$75))+IF(AD174<=0,0,IF('Simulador Valora'!$X$41=1,'Simulador Valora'!$O$55,IF('Simulador Valora'!$X$41=2,'Simulador Valora'!$K$55,'Simulador Valora'!$E$55)))","v":0},null,0,0,null,13,2,0,0,0,83,"",0,158]
[159,0,null,{"$f":"IF(B175+F175-D174<=0,B175+F175,IF(A175=$B$9,$F$9,IF(A175=$B$10,$F$10,IF(AND('Simulador Valora'!$AH$45=2,L174=0),D174*(1+Z175),IF($AM$3=2,B175*AL175,D174*(1+Z175))))))","v":0},null,0,null,0,null,null,null,null,null,{"$f":"IF('Simulador Valora'!$V$66=1,0,L175*'Simulador Valora'!$O$69*'Simulador Valora'!$W$65)","v":0},null,0,null,0,null,{"$f":"IF(B175<=0,0,B175*IF('Simulador Valora'!$AC$81=1,0,'Simulador Valora'!$Y$75))","v":0},null,{"$f":"IF(B175<=0,0,IF('Simulador Valora'!$X$41=1,'Simulador Valora'!$O$55,IF('Simulador Valora'!$X$41=2,'Simulador Valora'!$K$55,'Simulador Valora'!$E$55)))","v":0},null,0,null,null,null,0,{"$f":"AC174","v":0.12},0,0,0,0,0,{"$f":"IF(AD175<=0,0,AD175*IF('Simulador Valora'!$AC$81=1,0,'Simulador Valora'!$Y$75))+IF(AD175<=0,0,IF('Simulador Valora'!$X$41=1,'Simulador Valora'!$O$55,IF('Simulador Valora'!$X$41=2,'Simulador Valora'!$K$55,'Simulador Valora'!$E$55)))","v":0},null,0,0,null,13,3,0,0,0,82,"",0,159]
[160,0,null,{"$f":"IF(B176+F176-D175<=0,B176+F176,IF(A176=$B$9,$F$9,IF(A176=$B$10,$F$10,IF(AND('Simulador Valora'!$AH$45=2,L175=0),D175*(1+Z176),IF($AM$3=2,B176*AL176,D175*(1+Z176))))))","v":0},null,0,null,0,null,{"$f":"IF(B176-H176=0,0,J174)","v":0},null,null,null,{"$f":"IF('Simulador Valora'!$V$66=1,0,L176*'Simulador Valora'!$O$69*'Simulador Valora'!$W$65)","v":0},null,0,null,0,null,{"$f":"IF(B176<=0,0,B176*IF('Simulador Valora'!$AC$81=1,0,'Simulador Valora'!$Y$75))","v":0},null,{"$f":"IF(B176<=0,0,IF('Simulador Valora'!$X$41=1,'Simulador Valora'!$O$55,IF('Simulador Valora'!$X$41=2,'Simulador Valora'!$K$55,'Simulador Valora'!$E$55)))","v":0},null,0,null,null,null,0,0.12,0,0,0,0,0,{"$f":"IF(AD176<=0,0,AD176*IF('Simulador Valora'!$AC$81=1,0,'Simulador Valora'!$Y$75))+IF(AD176<=0,0,IF('Simulador Valora'!$X$41=1,'Simulador Valora'!$O$55,IF('Simulador Valora'!$X$41=2,'Simulador Valora'!$K$55,'Simulador Valora'!$E$55)))","v":0},null,0,0,null,13,4,0,0,0,81,"",0,160]
[161,0,null,{"$f":"IF(B177+F177-D176<=0,B177+F177,IF(A177=$B$9,$F$9,IF(A177=$B$10,$F$10,IF(AND('Simulador Valora'!$AH$45=2,L176=0),D176*(1+Z177),IF($AM$3=2,B177*AL177,D176*(1+Z177))))))","v":0},null,0,null,0,null,null,null,null,null,{"$f":"IF('Simulador Valora'!$V$66=1,0,L177*'Simulador Valora'!$O$69*'Simulador Valora'!$W$65)","v":0},null,0,null,0,null,{"$f":"IF(B177<=0,0,B177*IF('Simulador Valora'!$AC$81=1,0,'Simulador Valora'!$Y$75))","v":0},null,{"$f":"IF(B177<=0,0,IF('Simulador Valora'!$X$41=1,'Simulador Valora'!$O$55,IF('Simulador Valora'!$X$41=2,'Simulador Valora'!$K$55,'Simulador Valora'!$E$55)))","v":0},null,0,null,null,null,0,0.12,0,0,0,0,0,{"$f":"IF(AD177<=0,0,AD177*IF('Simulador Valora'!$AC$81=1,0,'Simulador Valora'!$Y$75))+IF(AD177<=0,0,IF('Simulador Valora'!$X$41=1,'Simulador Valora'!$O$55,IF('Simulador Valora'!$X$41=2,'Simulador Valora'!$K$55,'Simulador Valora'!$E$55)))","v":0},null,0,0,null,13,5,0,0,0,80,"",0,161]
[162,0,null,{"$f":"IF(B178+F178-D177<=0,B178+F178,IF(A178=$B$9,$F$9,IF(A178=$B$10,$F$10,IF(AND('Simulador Valora'!$AH$45=2,L177=0),D177*(1+Z178),IF($AM$3=2,B178*AL178,D177*(1+Z178))))))","v":0},null,0,null,0,null,{"$f":"IF(B178-H178=0,0,J176)","v":0},null,null,null,{"$f":"IF('Simulador Valora'!$V$66=1,0,L178*'Simulador Valora'!$O$69*'Simulador Valora'!$W$65)","v":0},null,0,null,0,null,{"$f":"IF(B178<=0,0,B178*IF('Simulador Valora'!$AC$81=1,0,'Simulador Valora'!$Y$75))","v":0},null,{"$f":"IF(B178<=0,0,IF('Simulador Valora'!$X$41=1,'Simulador Valora'!$O$55,IF('Simulador Valora'!$X$41=2,'Simulador Valora'!$K$55,'Simulador Valora'!$E$55)))","v":0},null,0,null,null,null,0,0.12,0,0,0,0,0,{"$f":"IF(AD178<=0,0,AD178*IF('Simulador Valora'!$AC$81=1,0,'Simulador Valora'!$Y$75))+IF(AD178<=0,0,IF('Simulador Valora'!$X$41=1,'Simulador Valora'!$O$55,IF('Simulador Valora'!$X$41=2,'Simulador Valora'!$K$55,'Simulador Valora'!$E$55)))","v":0},null,0,0,null,13,6,0,0,0,79,"",0,162]
[163,0,null,{"$f":"IF(B179+F179-D178<=0,B179+F179,IF(A179=$B$9,$F$9,IF(A179=$B$10,$F$10,IF(AND('Simulador Valora'!$AH$45=2,L178=0),D178*(1+Z179),IF($AM$3=2,B179*AL179,D178*(1+Z179))))))","v":0},null,0,null,0,null,null,null,null,null,{"$f":"IF('Simulador Valora'!$V$66=1,0,L179*'Simulador Valora'!$O$69*'Simulador Valora'!$W$65)","v":0},null,0,null,0,null,{"$f":"IF(B179<=0,0,B179*IF('Simulador Valora'!$AC$81=1,0,'Simulador Valora'!$Y$75))","v":0},null,{"$f":"IF(B179<=0,0,IF('Simulador Valora'!$X$41=1,'Simulador Valora'!$O$55,IF('Simulador Valora'!$X$41=2,'Simulador Valora'!$K$55,'Simulador Valora'!$E$55)))","v":0},null,0,null,null,null,0,0.12,0,0,0,0,0,{"$f":"IF(AD179<=0,0,AD179*IF('Simulador Valora'!$AC$81=1,0,'Simulador Valora'!$Y$75))+IF(AD179<=0,0,IF('Simulador Valora'!$X$41=1,'Simulador Valora'!$O$55,IF('Simulador Valora'!$X$41=2,'Simulador Valora'!$K$55,'Simulador Valora'!$E$55)))","v":0},null,0,0,null,13,7,0,0,0,78,"",0,163]
[164,0,null,{"$f":"IF(B180+F180-D179<=0,B180+F180,IF(A180=$B$9,$F$9,IF(A180=$B$10,$F$10,IF(AND('Simulador Valora'!$AH$45=2,L179=0),D179*(1+Z180),IF($AM$3=2,B180*AL180,D179*(1+Z180))))))","v":0},null,0,null,0,null,{"$f":"IF(B180-H180=0,0,J178)","v":0},null,null,null,{"$f":"IF('Simulador Valora'!$V$66=1,0,L180*'Simulador Valora'!$O$69*'Simulador Valora'!$W$65)","v":0},null,0,null,0,null,{"$f":"IF(B180<=0,0,B180*IF('Simulador Valora'!$AC$81=1,0,'Simulador Valora'!$Y$75))","v":0},null,{"$f":"IF(B180<=0,0,IF('Simulador Valora'!$X$41=1,'Simulador Valora'!$O$55,IF('Simulador Valora'!$X$41=2,'Simulador Valora'!$K$55,'Simulador Valora'!$E$55)))","v":0},null,0,null,null,null,0,0.12,0,0,0,0,0,{"$f":"IF(AD180<=0,0,AD180*IF('Simulador Valora'!$AC$81=1,0,'Simulador Valora'!$Y$75))+IF(AD180<=0,0,IF('Simulador Valora'!$X$41=1,'Simulador Valora'!$O$55,IF('Simulador Valora'!$X$41=2,'Simulador Valora'!$K$55,'Simulador Valora'!$E$55)))","v":0},null,0,0,null,13,8,0,0,0,77,"",0,164]
[165,0,null,{"$f":"IF(B181+F181-D180<=0,B181+F181,IF(A181=$B$9,$F$9,IF(A181=$B$10,$F$10,IF(AND('Simulador Valora'!$AH$45=2,L180=0),D180*(1+Z181),IF($AM$3=2,B181*AL181,D180*(1+Z181))))))","v":0},null,0,null,0,null,null,null,null,null,{"$f":"IF('Simulador Valora'!$V$66=1,0,L181*'Simulador Valora'!$O$69*'Simulador Valora'!$W$65)","v":0},null,0,null,0,null,{"$f":"IF(B181<=0,0,B181*IF('Simulador Valora'!$AC$81=1,0,'Simulador Valora'!$Y$75))","v":0},null,{"$f":"IF(B181<=0,0,IF('Simulador Valora'!$X$41=1,'Simulador Valora'!$O$55,IF('Simulador Valora'!$X$41=2,'Simulador Valora'!$K$55,'Simulador Valora'!$E$55)))","v":0},null,0,null,null,null,0,0.12,0,0,0,0,0,{"$f":"IF(AD181<=0,0,AD181*IF('Simulador Valora'!$AC$81=1,0,'Simulador Valora'!$Y$75))+IF(AD181<=0,0,IF('Simulador Valora'!$X$41=1,'Simulador Valora'!$O$55,IF('Simulador Valora'!$X$41=2,'Simulador Valora'!$K$55,'Simulador Valora'!$E$55)))","v":0},null,0,0,null,13,9,0,0,0,76,"",0,165]
[166,0,null,{"$f":"IF(B182+F182-D181<=0,B182+F182,IF(A182=$B$9,$F$9,IF(A182=$B$10,$F$10,IF(AND('Simulador Valora'!$AH$45=2,L181=0),D181*(1+Z182),IF($AM$3=2,B182*AL182,D181*(1+Z182))))))","v":0},null,0,null,0,null,{"$f":"IF(B182-H182=0,0,J180)","v":0},null,null,null,{"$f":"IF('Simulador Valora'!$V$66=1,0,L182*'Simulador Valora'!$O$69*'Simulador Valora'!$W$65)","v":0},null,0,null,0,null,{"$f":"IF(B182<=0,0,B182*IF('Simulador Valora'!$AC$81=1,0,'Simulador Valora'!$Y$75))","v":0},null,{"$f":"IF(B182<=0,0,IF('Simulador Valora'!$X$41=1,'Simulador Valora'!$O$55,IF('Simulador Valora'!$X$41=2,'Simulador Valora'!$K$55,'Simulador Valora'!$E$55)))","v":0},null,0,null,null,null,0,0.12,0,0,0,0,0,{"$f":"IF(AD182<=0,0,AD182*IF('Simulador Valora'!$AC$81=1,0,'Simulador Valora'!$Y$75))+IF(AD182<=0,0,IF('Simulador Valora'!$X$41=1,'Simulador Valora'!$O$55,IF('Simulador Valora'!$X$41=2,'Simulador Valora'!$K$55,'Simulador Valora'!$E$55)))","v":0},null,0,0,null,13,10,0,0,0,75,"",0,166]
[167,0,null,{"$f":"IF(B183+F183-D182<=0,B183+F183,IF(A183=$B$9,$F$9,IF(A183=$B$10,$F$10,IF(AND('Simulador Valora'!$AH$45=2,L182=0),D182*(1+Z183),IF($AM$3=2,B183*AL183,D182*(1+Z183))))))","v":0},null,0,null,0,null,null,null,null,null,{"$f":"IF('Simulador Valora'!$V$66=1,0,L183*'Simulador Valora'!$O$69*'Simulador Valora'!$W$65)","v":0},null,0,null,0,null,{"$f":"IF(B183<=0,0,B183*IF('Simulador Valora'!$AC$81=1,0,'Simulador Valora'!$Y$75))","v":0},null,{"$f":"IF(B183<=0,0,IF('Simulador Valora'!$X$41=1,'Simulador Valora'!$O$55,IF('Simulador Valora'!$X$41=2,'Simulador Valora'!$K$55,'Simulador Valora'!$E$55)))","v":0},null,0,null,null,null,0,0.12,0,0,0,0,0,{"$f":"IF(AD183<=0,0,AD183*IF('Simulador Valora'!$AC$81=1,0,'Simulador Valora'!$Y$75))+IF(AD183<=0,0,IF('Simulador Valora'!$X$41=1,'Simulador Valora'!$O$55,IF('Simulador Valora'!$X$41=2,'Simulador Valora'!$K$55,'Simulador Valora'!$E$55)))","v":0},null,0,0,null,13,11,0,0,0,74,"",0,167]
[168,0,null,{"$f":"IF(B184+F184-D183<=0,B184+F184,IF(A184=$B$9,$F$9,IF(A184=$B$10,$F$10,IF(AND('Simulador Valora'!$AH$45=2,L183=0),D183*(1+Z184),IF($AM$3=2,B184*AL184,D183*(1+Z184))))))","v":0},null,0,null,0,null,{"$f":"IF(B184-H184=0,0,J182)","v":0},null,null,null,{"$f":"IF('Simulador Valora'!$V$66=1,0,L184*'Simulador Valora'!$O$69*'Simulador Valora'!$W$65)","v":0},null,0,null,0,null,{"$f":"IF(B184<=0,0,B184*IF('Simulador Valora'!$AC$81=1,0,'Simulador Valora'!$Y$75))","v":0},null,{"$f":"IF(B184<=0,0,IF('Simulador Valora'!$X$41=1,'Simulador Valora'!$O$55,IF('Simulador Valora'!$X$41=2,'Simulador Valora'!$K$55,'Simulador Valora'!$E$55)))","v":0},null,0,null,null,null,0,0.12,0,0,0,0,0,{"$f":"IF(AD184<=0,0,AD184*IF('Simulador Valora'!$AC$81=1,0,'Simulador Valora'!$Y$75))+IF(AD184<=0,0,IF('Simulador Valora'!$X$41=1,'Simulador Valora'!$O$55,IF('Simulador Valora'!$X$41=2,'Simulador Valora'!$K$55,'Simulador Valora'!$E$55)))","v":0},null,0,0,null,14,0,0,0,0,73,"",0,168]
[169,0,null,{"$f":"IF(B185+F185-D184<=0,B185+F185,IF(A185=$B$9,$F$9,IF(A185=$B$10,$F$10,IF(AND('Simulador Valora'!$AH$45=2,L184=0),D184*(1+Z185),IF($AM$3=2,B185*AL185,D184*(1+Z185))))))","v":0},null,0,null,0,null,null,null,null,null,{"$f":"IF('Simulador Valora'!$V$66=1,0,L185*'Simulador Valora'!$O$69*'Simulador Valora'!$W$65)","v":0},null,0,null,0,null,{"$f":"IF(B185<=0,0,B185*IF('Simulador Valora'!$AC$81=1,0,'Simulador Valora'!$Y$75))","v":0},null,{"$f":"IF(B185<=0,0,IF('Simulador Valora'!$X$41=1,'Simulador Valora'!$O$55,IF('Simulador Valora'!$X$41=2,'Simulador Valora'!$K$55,'Simulador Valora'!$E$55)))","v":0},null,0,null,{"$f":"IF(B185<=0,0,'Simulador Valora'!$AI$54)","v":0},null,0,{"$f":"IF(AC184=$AC$6,AC184,IF(AC184=$AC$5,AC184,AC184-0.25%))","v":0.12},0,0,0,0,0,{"$f":"IF(AD185<=0,0,AD185*IF('Simulador Valora'!$AC$81=1,0,'Simulador Valora'!$Y$75))+IF(AD185<=0,0,IF('Simulador Valora'!$X$41=1,'Simulador Valora'!$O$55,IF('Simulador Valora'!$X$41=2,'Simulador Valora'!$K$55,'Simulador Valora'!$E$55)))","v":0},{"$f":"IF(AC185<=0,0,$AJ$29)","v":0},0,0,null,14,1,0,0,0,72,"",0,169]
[170,0,null,{"$f":"IF(B186+F186-D185<=0,B186+F186,IF(A186=$B$9,$F$9,IF(A186=$B$10,$F$10,IF(AND('Simulador Valora'!$AH$45=2,L185=0),D185*(1+Z186),IF($AM$3=2,B186*AL186,D185*(1+Z186))))))","v":0},null,0,null,0,null,{"$f":"IF(B186-H186=0,0,J184*(1+(3%)))","v":0},null,null,null,{"$f":"IF('Simulador Valora'!$V$66=1,0,L186*'Simulador Valora'!$O$69*'Simulador Valora'!$W$65)","v":0},null,0,null,0,null,{"$f":"IF(B186<=0,0,B186*IF('Simulador Valora'!$AC$81=1,0,'Simulador Valora'!$Y$75))","v":0},null,{"$f":"IF(B186<=0,0,IF('Simulador Valora'!$X$41=1,'Simulador Valora'!$O$55,IF('Simulador Valora'!$X$41=2,'Simulador Valora'!$K$55,'Simulador Valora'!$E$55)))","v":0},null,0,null,null,null,0,{"$f":"AC185","v":0.12},0,0,0,0,0,{"$f":"IF(AD186<=0,0,AD186*IF('Simulador Valora'!$AC$81=1,0,'Simulador Valora'!$Y$75))+IF(AD186<=0,0,IF('Simulador Valora'!$X$41=1,'Simulador Valora'!$O$55,IF('Simulador Valora'!$X$41=2,'Simulador Valora'!$K$55,'Simulador Valora'!$E$55)))","v":0},null,0,0,null,14,2,0,0,0,71,"",0,170]
[171,0,null,{"$f":"IF(B187+F187-D186<=0,B187+F187,IF(A187=$B$9,$F$9,IF(A187=$B$10,$F$10,IF(AND('Simulador Valora'!$AH$45=2,L186=0),D186*(1+Z187),IF($AM$3=2,B187*AL187,D186*(1+Z187))))))","v":0},null,0,null,0,null,null,null,null,null,{"$f":"IF('Simulador Valora'!$V$66=1,0,L187*'Simulador Valora'!$O$69*'Simulador Valora'!$W$65)","v":0},null,0,null,0,null,{"$f":"IF(B187<=0,0,B187*IF('Simulador Valora'!$AC$81=1,0,'Simulador Valora'!$Y$75))","v":0},null,{"$f":"IF(B187<=0,0,IF('Simulador Valora'!$X$41=1,'Simulador Valora'!$O$55,IF('Simulador Valora'!$X$41=2,'Simulador Valora'!$K$55,'Simulador Valora'!$E$55)))","v":0},null,0,null,null,null,0,{"$f":"AC186","v":0.12},0,0,0,0,0,{"$f":"IF(AD187<=0,0,AD187*IF('Simulador Valora'!$AC$81=1,0,'Simulador Valora'!$Y$75))+IF(AD187<=0,0,IF('Simulador Valora'!$X$41=1,'Simulador Valora'!$O$55,IF('Simulador Valora'!$X$41=2,'Simulador Valora'!$K$55,'Simulador Valora'!$E$55)))","v":0},null,0,0,null,14,3,0,0,0,70,"",0,171]
[172,0,null,{"$f":"IF(B188+F188-D187<=0,B188+F188,IF(A188=$B$9,$F$9,IF(A188=$B$10,$F$10,IF(AND('Simulador Valora'!$AH$45=2,L187=0),D187*(1+Z188),IF($AM$3=2,B188*AL188,D187*(1+Z188))))))","v":0},null,0,null,0,null,{"$f":"IF(B188-H188=0,0,J186)","v":0},null,null,null,{"$f":"IF('Simulador Valora'!$V$66=1,0,L188*'Simulador Valora'!$O$69*'Simulador Valora'!$W$65)","v":0},null,0,null,0,null,{"$f":"IF(B188<=0,0,B188*IF('Simulador Valora'!$AC$81=1,0,'Simulador Valora'!$Y$75))","v":0},null,{"$f":"IF(B188<=0,0,IF('Simulador Valora'!$X$41=1,'Simulador Valora'!$O$55,IF('Simulador Valora'!$X$41=2,'Simulador Valora'!$K$55,'Simulador Valora'!$E$55)))","v":0},null,0,null,null,null,0,0.12,0,0,0,0,0,{"$f":"IF(AD188<=0,0,AD188*IF('Simulador Valora'!$AC$81=1,0,'Simulador Valora'!$Y$75))+IF(AD188<=0,0,IF('Simulador Valora'!$X$41=1,'Simulador Valora'!$O$55,IF('Simulador Valora'!$X$41=2,'Simulador Valora'!$K$55,'Simulador Valora'!$E$55)))","v":0},null,0,0,null,14,4,0,0,0,69,"",0,172]
[173,0,null,{"$f":"IF(B189+F189-D188<=0,B189+F189,IF(A189=$B$9,$F$9,IF(A189=$B$10,$F$10,IF(AND('Simulador Valora'!$AH$45=2,L188=0),D188*(1+Z189),IF($AM$3=2,B189*AL189,D188*(1+Z189))))))","v":0},null,0,null,0,null,null,null,null,null,{"$f":"IF('Simulador Valora'!$V$66=1,0,L189*'Simulador Valora'!$O$69*'Simulador Valora'!$W$65)","v":0},null,0,null,0,null,{"$f":"IF(B189<=0,0,B189*IF('Simulador Valora'!$AC$81=1,0,'Simulador Valora'!$Y$75))","v":0},null,{"$f":"IF(B189<=0,0,IF('Simulador Valora'!$X$41=1,'Simulador Valora'!$O$55,IF('Simulador Valora'!$X$41=2,'Simulador Valora'!$K$55,'Simulador Valora'!$E$55)))","v":0},null,0,null,null,null,0,0.12,0,0,0,0,0,{"$f":"IF(AD189<=0,0,AD189*IF('Simulador Valora'!$AC$81=1,0,'Simulador Valora'!$Y$75))+IF(AD189<=0,0,IF('Simulador Valora'!$X$41=1,'Simulador Valora'!$O$55,IF('Simulador Valora'!$X$41=2,'Simulador Valora'!$K$55,'Simulador Valora'!$E$55)))","v":0},null,0,0,null,14,5,0,0,0,68,"",0,173]
[174,0,null,{"$f":"IF(B190+F190-D189<=0,B190+F190,IF(A190=$B$9,$F$9,IF(A190=$B$10,$F$10,IF(AND('Simulador Valora'!$AH$45=2,L189=0),D189*(1+Z190),IF($AM$3=2,B190*AL190,D189*(1+Z190))))))","v":0},null,0,null,0,null,{"$f":"IF(B190-H190=0,0,J188)","v":0},null,null,null,{"$f":"IF('Simulador Valora'!$V$66=1,0,L190*'Simulador Valora'!$O$69*'Simulador Valora'!$W$65)","v":0},null,0,null,0,null,{"$f":"IF(B190<=0,0,B190*IF('Simulador Valora'!$AC$81=1,0,'Simulador Valora'!$Y$75))","v":0},null,{"$f":"IF(B190<=0,0,IF('Simulador Valora'!$X$41=1,'Simulador Valora'!$O$55,IF('Simulador Valora'!$X$41=2,'Simulador Valora'!$K$55,'Simulador Valora'!$E$55)))","v":0},null,0,null,null,null,0,0.12,0,0,0,0,0,{"$f":"IF(AD190<=0,0,AD190*IF('Simulador Valora'!$AC$81=1,0,'Simulador Valora'!$Y$75))+IF(AD190<=0,0,IF('Simulador Valora'!$X$41=1,'Simulador Valora'!$O$55,IF('Simulador Valora'!$X$41=2,'Simulador Valora'!$K$55,'Simulador Valora'!$E$55)))","v":0},null,0,0,null,14,6,0,0,0,67,"",0,174]
[175,0,null,{"$f":"IF(B191+F191-D190<=0,B191+F191,IF(A191=$B$9,$F$9,IF(A191=$B$10,$F$10,IF(AND('Simulador Valora'!$AH$45=2,L190=0),D190*(1+Z191),IF($AM$3=2,B191*AL191,D190*(1+Z191))))))","v":0},null,0,null,0,null,null,null,null,null,{"$f":"IF('Simulador Valora'!$V$66=1,0,L191*'Simulador Valora'!$O$69*'Simulador Valora'!$W$65)","v":0},null,0,null,0,null,{"$f":"IF(B191<=0,0,B191*IF('Simulador Valora'!$AC$81=1,0,'Simulador Valora'!$Y$75))","v":0},null,{"$f":"IF(B191<=0,0,IF('Simulador Valora'!$X$41=1,'Simulador Valora'!$O$55,IF('Simulador Valora'!$X$41=2,'Simulador Valora'!$K$55,'Simulador Valora'!$E$55)))","v":0},null,0,null,null,null,0,0.12,0,0,0,0,0,{"$f":"IF(AD191<=0,0,AD191*IF('Simulador Valora'!$AC$81=1,0,'Simulador Valora'!$Y$75))+IF(AD191<=0,0,IF('Simulador Valora'!$X$41=1,'Simulador Valora'!$O$55,IF('Simulador Valora'!$X$41=2,'Simulador Valora'!$K$55,'Simulador Valora'!$E$55)))","v":0},null,0,0,null,14,7,0,0,0,66,"",0,175]
[176,0,null,{"$f":"IF(B192+F192-D191<=0,B192+F192,IF(A192=$B$9,$F$9,IF(A192=$B$10,$F$10,IF(AND('Simulador Valora'!$AH$45=2,L191=0),D191*(1+Z192),IF($AM$3=2,B192*AL192,D191*(1+Z192))))))","v":0},null,0,null,0,null,{"$f":"IF(B192-H192=0,0,J190)","v":0},null,null,null,{"$f":"IF('Simulador Valora'!$V$66=1,0,L192*'Simulador Valora'!$O$69*'Simulador Valora'!$W$65)","v":0},null,0,null,0,null,{"$f":"IF(B192<=0,0,B192*IF('Simulador Valora'!$AC$81=1,0,'Simulador Valora'!$Y$75))","v":0},null,{"$f":"IF(B192<=0,0,IF('Simulador Valora'!$X$41=1,'Simulador Valora'!$O$55,IF('Simulador Valora'!$X$41=2,'Simulador Valora'!$K$55,'Simulador Valora'!$E$55)))","v":0},null,0,null,null,null,0,0.12,0,0,0,0,0,{"$f":"IF(AD192<=0,0,AD192*IF('Simulador Valora'!$AC$81=1,0,'Simulador Valora'!$Y$75))+IF(AD192<=0,0,IF('Simulador Valora'!$X$41=1,'Simulador Valora'!$O$55,IF('Simulador Valora'!$X$41=2,'Simulador Valora'!$K$55,'Simulador Valora'!$E$55)))","v":0},null,0,0,null,14,8,0,0,0,65,"",0,176]
[177,0,null,{"$f":"IF(B193+F193-D192<=0,B193+F193,IF(A193=$B$9,$F$9,IF(A193=$B$10,$F$10,IF(AND('Simulador Valora'!$AH$45=2,L192=0),D192*(1+Z193),IF($AM$3=2,B193*AL193,D192*(1+Z193))))))","v":0},null,0,null,0,null,null,null,null,null,{"$f":"IF('Simulador Valora'!$V$66=1,0,L193*'Simulador Valora'!$O$69*'Simulador Valora'!$W$65)","v":0},null,0,null,0,null,{"$f":"IF(B193<=0,0,B193*IF('Simulador Valora'!$AC$81=1,0,'Simulador Valora'!$Y$75))","v":0},null,{"$f":"IF(B193<=0,0,IF('Simulador Valora'!$X$41=1,'Simulador Valora'!$O$55,IF('Simulador Valora'!$X$41=2,'Simulador Valora'!$K$55,'Simulador Valora'!$E$55)))","v":0},null,0,null,null,null,0,0.12,0,0,0,0,0,{"$f":"IF(AD193<=0,0,AD193*IF('Simulador Valora'!$AC$81=1,0,'Simulador Valora'!$Y$75))+IF(AD193<=0,0,IF('Simulador Valora'!$X$41=1,'Simulador Valora'!$O$55,IF('Simulador Valora'!$X$41=2,'Simulador Valora'!$K$55,'Simulador Valora'!$E$55)))","v":0},null,0,0,null,14,9,0,0,0,64,"",0,177]
[178,0,null,{"$f":"IF(B194+F194-D193<=0,B194+F194,IF(A194=$B$9,$F$9,IF(A194=$B$10,$F$10,IF(AND('Simulador Valora'!$AH$45=2,L193=0),D193*(1+Z194),IF($AM$3=2,B194*AL194,D193*(1+Z194))))))","v":0},null,0,null,0,null,{"$f":"IF(B194-H194=0,0,J192)","v":0},null,null,null,{"$f":"IF('Simulador Valora'!$V$66=1,0,L194*'Simulador Valora'!$O$69*'Simulador Valora'!$W$65)","v":0},null,0,null,0,null,{"$f":"IF(B194<=0,0,B194*IF('Simulador Valora'!$AC$81=1,0,'Simulador Valora'!$Y$75))","v":0},null,{"$f":"IF(B194<=0,0,IF('Simulador Valora'!$X$41=1,'Simulador Valora'!$O$55,IF('Simulador Valora'!$X$41=2,'Simulador Valora'!$K$55,'Simulador Valora'!$E$55)))","v":0},null,0,null,null,null,0,0.12,0,0,0,0,0,{"$f":"IF(AD194<=0,0,AD194*IF('Simulador Valora'!$AC$81=1,0,'Simulador Valora'!$Y$75))+IF(AD194<=0,0,IF('Simulador Valora'!$X$41=1,'Simulador Valora'!$O$55,IF('Simulador Valora'!$X$41=2,'Simulador Valora'!$K$55,'Simulador Valora'!$E$55)))","v":0},null,0,0,null,14,10,0,0,0,63,"",0,178]
[179,0,null,{"$f":"IF(B195+F195-D194<=0,B195+F195,IF(A195=$B$9,$F$9,IF(A195=$B$10,$F$10,IF(AND('Simulador Valora'!$AH$45=2,L194=0),D194*(1+Z195),IF($AM$3=2,B195*AL195,D194*(1+Z195))))))","v":0},null,0,null,0,null,null,null,null,null,{"$f":"IF('Simulador Valora'!$V$66=1,0,L195*'Simulador Valora'!$O$69*'Simulador Valora'!$W$65)","v":0},null,0,null,0,null,{"$f":"IF(B195<=0,0,B195*IF('Simulador Valora'!$AC$81=1,0,'Simulador Valora'!$Y$75))","v":0},null,{"$f":"IF(B195<=0,0,IF('Simulador Valora'!$X$41=1,'Simulador Valora'!$O$55,IF('Simulador Valora'!$X$41=2,'Simulador Valora'!$K$55,'Simulador Valora'!$E$55)))","v":0},null,0,null,null,null,0,0.12,0,0,0,0,0,{"$f":"IF(AD195<=0,0,AD195*IF('Simulador Valora'!$AC$81=1,0,'Simulador Valora'!$Y$75))+IF(AD195<=0,0,IF('Simulador Valora'!$X$41=1,'Simulador Valora'!$O$55,IF('Simulador Valora'!$X$41=2,'Simulador Valora'!$K$55,'Simulador Valora'!$E$55)))","v":0},null,0,0,null,14,11,0,0,0,62,"",0,179]
[180,0,null,{"$f":"IF(B196+F196-D195<=0,B196+F196,IF(A196=$B$9,$F$9,IF(A196=$B$10,$F$10,IF(AND('Simulador Valora'!$AH$45=2,L195=0),D195*(1+Z196),IF($AM$3=2,B196*AL196,D195*(1+Z196))))))","v":0},null,0,null,0,null,{"$f":"IF(B196-H196=0,0,J194)","v":0},null,null,null,{"$f":"IF('Simulador Valora'!$V$66=1,0,L196*'Simulador Valora'!$O$69*'Simulador Valora'!$W$65)","v":0},null,0,null,0,null,{"$f":"IF(B196<=0,0,B196*IF('Simulador Valora'!$AC$81=1,0,'Simulador Valora'!$Y$75))","v":0},null,{"$f":"IF(B196<=0,0,IF('Simulador Valora'!$X$41=1,'Simulador Valora'!$O$55,IF('Simulador Valora'!$X$41=2,'Simulador Valora'!$K$55,'Simulador Valora'!$E$55)))","v":0},null,0,null,null,null,0,0.12,0,0,0,0,0,{"$f":"IF(AD196<=0,0,AD196*IF('Simulador Valora'!$AC$81=1,0,'Simulador Valora'!$Y$75))+IF(AD196<=0,0,IF('Simulador Valora'!$X$41=1,'Simulador Valora'!$O$55,IF('Simulador Valora'!$X$41=2,'Simulador Valora'!$K$55,'Simulador Valora'!$E$55)))","v":0},null,0,0,null,15,0,0,0,0,61,"",0,180]
[181,0,null,{"$f":"IF(B197+F197-D196<=0,B197+F197,IF(A197=$B$9,$F$9,IF(A197=$B$10,$F$10,IF(AND('Simulador Valora'!$AH$45=2,L196=0),D196*(1+Z197),IF($AM$3=2,B197*AL197,D196*(1+Z197))))))","v":0},null,0,null,0,null,null,null,null,null,{"$f":"IF('Simulador Valora'!$V$66=1,0,L197*'Simulador Valora'!$O$69*'Simulador Valora'!$W$65)","v":0},null,0,null,0,null,{"$f":"IF(B197<=0,0,B197*IF('Simulador Valora'!$AC$81=1,0,'Simulador Valora'!$Y$75))","v":0},null,{"$f":"IF(B197<=0,0,IF('Simulador Valora'!$X$41=1,'Simulador Valora'!$O$55,IF('Simulador Valora'!$X$41=2,'Simulador Valora'!$K$55,'Simulador Valora'!$E$55)))","v":0},null,0,null,{"$f":"IF(B197<=0,0,'Simulador Valora'!$AI$54)","v":0},null,0,{"$f":"IF(AC196=$AC$6,AC196,IF(AC196=$AC$5,AC196,AC196-0.25%))","v":0.12},0,0,0,0,0,{"$f":"IF(AD197<=0,0,AD197*IF('Simulador Valora'!$AC$81=1,0,'Simulador Valora'!$Y$75))+IF(AD197<=0,0,IF('Simulador Valora'!$X$41=1,'Simulador Valora'!$O$55,IF('Simulador Valora'!$X$41=2,'Simulador Valora'!$K$55,'Simulador Valora'!$E$55)))","v":0},{"$f":"IF(AC197<=0,0,$AJ$29)","v":0},0,0,null,15,1,0,0,0,60,"",0,181]
[182,0,null,{"$f":"IF(B198+F198-D197<=0,B198+F198,IF(A198=$B$9,$F$9,IF(A198=$B$10,$F$10,IF(AND('Simulador Valora'!$AH$45=2,L197=0),D197*(1+Z198),IF($AM$3=2,B198*AL198,D197*(1+Z198))))))","v":0},null,0,null,0,null,{"$f":"IF(B198-H198=0,0,J196*(1+(3%)))","v":0},null,null,null,{"$f":"IF('Simulador Valora'!$V$66=1,0,L198*'Simulador Valora'!$O$69*'Simulador Valora'!$W$65)","v":0},null,0,null,0,null,{"$f":"IF(B198<=0,0,B198*IF('Simulador Valora'!$AC$81=1,0,'Simulador Valora'!$Y$75))","v":0},null,{"$f":"IF(B198<=0,0,IF('Simulador Valora'!$X$41=1,'Simulador Valora'!$O$55,IF('Simulador Valora'!$X$41=2,'Simulador Valora'!$K$55,'Simulador Valora'!$E$55)))","v":0},null,0,null,null,null,0,{"$f":"AC197","v":0.12},0,0,0,0,0,{"$f":"IF(AD198<=0,0,AD198*IF('Simulador Valora'!$AC$81=1,0,'Simulador Valora'!$Y$75))+IF(AD198<=0,0,IF('Simulador Valora'!$X$41=1,'Simulador Valora'!$O$55,IF('Simulador Valora'!$X$41=2,'Simulador Valora'!$K$55,'Simulador Valora'!$E$55)))","v":0},null,0,0,null,15,2,0,0,0,59,"",0,182]
[183,0,null,{"$f":"IF(B199+F199-D198<=0,B199+F199,IF(A199=$B$9,$F$9,IF(A199=$B$10,$F$10,IF(AND('Simulador Valora'!$AH$45=2,L198=0),D198*(1+Z199),IF($AM$3=2,B199*AL199,D198*(1+Z199))))))","v":0},null,0,null,0,null,null,null,null,null,{"$f":"IF('Simulador Valora'!$V$66=1,0,L199*'Simulador Valora'!$O$69*'Simulador Valora'!$W$65)","v":0},null,0,null,0,null,{"$f":"IF(B199<=0,0,B199*IF('Simulador Valora'!$AC$81=1,0,'Simulador Valora'!$Y$75))","v":0},null,{"$f":"IF(B199<=0,0,IF('Simulador Valora'!$X$41=1,'Simulador Valora'!$O$55,IF('Simulador Valora'!$X$41=2,'Simulador Valora'!$K$55,'Simulador Valora'!$E$55)))","v":0},null,0,null,null,null,0,{"$f":"AC198","v":0.12},0,0,0,0,0,{"$f":"IF(AD199<=0,0,AD199*IF('Simulador Valora'!$AC$81=1,0,'Simulador Valora'!$Y$75))+IF(AD199<=0,0,IF('Simulador Valora'!$X$41=1,'Simulador Valora'!$O$55,IF('Simulador Valora'!$X$41=2,'Simulador Valora'!$K$55,'Simulador Valora'!$E$55)))","v":0},null,0,0,null,15,3,0,0,0,58,"",0,183]
[184,0,null,{"$f":"IF(B200+F200-D199<=0,B200+F200,IF(A200=$B$9,$F$9,IF(A200=$B$10,$F$10,IF(AND('Simulador Valora'!$AH$45=2,L199=0),D199*(1+Z200),IF($AM$3=2,B200*AL200,D199*(1+Z200))))))","v":0},null,0,null,0,null,{"$f":"IF(B200-H200=0,0,J198)","v":0},null,null,null,{"$f":"IF('Simulador Valora'!$V$66=1,0,L200*'Simulador Valora'!$O$69*'Simulador Valora'!$W$65)","v":0},null,0,null,0,null,{"$f":"IF(B200<=0,0,B200*IF('Simulador Valora'!$AC$81=1,0,'Simulador Valora'!$Y$75))","v":0},null,{"$f":"IF(B200<=0,0,IF('Simulador Valora'!$X$41=1,'Simulador Valora'!$O$55,IF('Simulador Valora'!$X$41=2,'Simulador Valora'!$K$55,'Simulador Valora'!$E$55)))","v":0},null,0,null,null,null,0,0.12,0,0,0,0,0,{"$f":"IF(AD200<=0,0,AD200*IF('Simulador Valora'!$AC$81=1,0,'Simulador Valora'!$Y$75))+IF(AD200<=0,0,IF('Simulador Valora'!$X$41=1,'Simulador Valora'!$O$55,IF('Simulador Valora'!$X$41=2,'Simulador Valora'!$K$55,'Simulador Valora'!$E$55)))","v":0},null,0,0,null,15,4,0,0,0,57,"",0,184]
[185,0,null,{"$f":"IF(B201+F201-D200<=0,B201+F201,IF(A201=$B$9,$F$9,IF(A201=$B$10,$F$10,IF(AND('Simulador Valora'!$AH$45=2,L200=0),D200*(1+Z201),IF($AM$3=2,B201*AL201,D200*(1+Z201))))))","v":0},null,0,null,0,null,null,null,null,null,{"$f":"IF('Simulador Valora'!$V$66=1,0,L201*'Simulador Valora'!$O$69*'Simulador Valora'!$W$65)","v":0},null,0,null,0,null,{"$f":"IF(B201<=0,0,B201*IF('Simulador Valora'!$AC$81=1,0,'Simulador Valora'!$Y$75))","v":0},null,{"$f":"IF(B201<=0,0,IF('Simulador Valora'!$X$41=1,'Simulador Valora'!$O$55,IF('Simulador Valora'!$X$41=2,'Simulador Valora'!$K$55,'Simulador Valora'!$E$55)))","v":0},null,0,null,null,null,0,0.12,0,0,0,0,0,{"$f":"IF(AD201<=0,0,AD201*IF('Simulador Valora'!$AC$81=1,0,'Simulador Valora'!$Y$75))+IF(AD201<=0,0,IF('Simulador Valora'!$X$41=1,'Simulador Valora'!$O$55,IF('Simulador Valora'!$X$41=2,'Simulador Valora'!$K$55,'Simulador Valora'!$E$55)))","v":0},null,0,0,null,15,5,0,0,0,56,"",0,185]
[186,0,null,{"$f":"IF(B202+F202-D201<=0,B202+F202,IF(A202=$B$9,$F$9,IF(A202=$B$10,$F$10,IF(AND('Simulador Valora'!$AH$45=2,L201=0),D201*(1+Z202),IF($AM$3=2,B202*AL202,D201*(1+Z202))))))","v":0},null,0,null,0,null,{"$f":"IF(B202-H202=0,0,J200)","v":0},null,null,null,{"$f":"IF('Simulador Valora'!$V$66=1,0,L202*'Simulador Valora'!$O$69*'Simulador Valora'!$W$65)","v":0},null,0,null,0,null,{"$f":"IF(B202<=0,0,B202*IF('Simulador Valora'!$AC$81=1,0,'Simulador Valora'!$Y$75))","v":0},null,{"$f":"IF(B202<=0,0,IF('Simulador Valora'!$X$41=1,'Simulador Valora'!$O$55,IF('Simulador Valora'!$X$41=2,'Simulador Valora'!$K$55,'Simulador Valora'!$E$55)))","v":0},null,0,null,null,null,0,0.12,0,0,0,0,0,{"$f":"IF(AD202<=0,0,AD202*IF('Simulador Valora'!$AC$81=1,0,'Simulador Valora'!$Y$75))+IF(AD202<=0,0,IF('Simulador Valora'!$X$41=1,'Simulador Valora'!$O$55,IF('Simulador Valora'!$X$41=2,'Simulador Valora'!$K$55,'Simulador Valora'!$E$55)))","v":0},null,0,0,null,15,6,0,0,0,55,"",0,186]
[187,0,null,{"$f":"IF(B203+F203-D202<=0,B203+F203,IF(A203=$B$9,$F$9,IF(A203=$B$10,$F$10,IF(AND('Simulador Valora'!$AH$45=2,L202=0),D202*(1+Z203),IF($AM$3=2,B203*AL203,D202*(1+Z203))))))","v":0},null,0,null,0,null,null,null,null,null,{"$f":"IF('Simulador Valora'!$V$66=1,0,L203*'Simulador Valora'!$O$69*'Simulador Valora'!$W$65)","v":0},null,0,null,0,null,{"$f":"IF(B203<=0,0,B203*IF('Simulador Valora'!$AC$81=1,0,'Simulador Valora'!$Y$75))","v":0},null,{"$f":"IF(B203<=0,0,IF('Simulador Valora'!$X$41=1,'Simulador Valora'!$O$55,IF('Simulador Valora'!$X$41=2,'Simulador Valora'!$K$55,'Simulador Valora'!$E$55)))","v":0},null,0,null,null,null,0,0.12,0,0,0,0,0,{"$f":"IF(AD203<=0,0,AD203*IF('Simulador Valora'!$AC$81=1,0,'Simulador Valora'!$Y$75))+IF(AD203<=0,0,IF('Simulador Valora'!$X$41=1,'Simulador Valora'!$O$55,IF('Simulador Valora'!$X$41=2,'Simulador Valora'!$K$55,'Simulador Valora'!$E$55)))","v":0},null,0,0,null,15,7,0,0,0,54,"",0,187]
[188,0,null,{"$f":"IF(B204+F204-D203<=0,B204+F204,IF(A204=$B$9,$F$9,IF(A204=$B$10,$F$10,IF(AND('Simulador Valora'!$AH$45=2,L203=0),D203*(1+Z204),IF($AM$3=2,B204*AL204,D203*(1+Z204))))))","v":0},null,0,null,0,null,{"$f":"IF(B204-H204=0,0,J202)","v":0},null,null,null,{"$f":"IF('Simulador Valora'!$V$66=1,0,L204*'Simulador Valora'!$O$69*'Simulador Valora'!$W$65)","v":0},null,0,null,0,null,{"$f":"IF(B204<=0,0,B204*IF('Simulador Valora'!$AC$81=1,0,'Simulador Valora'!$Y$75))","v":0},null,{"$f":"IF(B204<=0,0,IF('Simulador Valora'!$X$41=1,'Simulador Valora'!$O$55,IF('Simulador Valora'!$X$41=2,'Simulador Valora'!$K$55,'Simulador Valora'!$E$55)))","v":0},null,0,null,null,null,0,0.12,0,0,0,0,0,{"$f":"IF(AD204<=0,0,AD204*IF('Simulador Valora'!$AC$81=1,0,'Simulador Valora'!$Y$75))+IF(AD204<=0,0,IF('Simulador Valora'!$X$41=1,'Simulador Valora'!$O$55,IF('Simulador Valora'!$X$41=2,'Simulador Valora'!$K$55,'Simulador Valora'!$E$55)))","v":0},null,0,0,null,15,8,0,0,0,{"$f":"IFERROR(IF(AC204<=0.01,0,AS203-1),0)","v":53},"",0,188]
[189,0,null,{"$f":"IF(B205+F205-D204<=0,B205+F205,IF(A205=$B$9,$F$9,IF(A205=$B$10,$F$10,IF(AND('Simulador Valora'!$AH$45=2,L204=0),D204*(1+Z205),IF($AM$3=2,B205*AL205,D204*(1+Z205))))))","v":0},null,0,null,0,null,null,null,null,null,{"$f":"IF('Simulador Valora'!$V$66=1,0,L205*'Simulador Valora'!$O$69*'Simulador Valora'!$W$65)","v":0},null,0,null,0,null,{"$f":"IF(B205<=0,0,B205*IF('Simulador Valora'!$AC$81=1,0,'Simulador Valora'!$Y$75))","v":0},null,{"$f":"IF(B205<=0,0,IF('Simulador Valora'!$X$41=1,'Simulador Valora'!$O$55,IF('Simulador Valora'!$X$41=2,'Simulador Valora'!$K$55,'Simulador Valora'!$E$55)))","v":0},null,0,null,null,null,0,0.12,0,0,0,0,0,{"$f":"IF(AD205<=0,0,AD205*IF('Simulador Valora'!$AC$81=1,0,'Simulador Valora'!$Y$75))+IF(AD205<=0,0,IF('Simulador Valora'!$X$41=1,'Simulador Valora'!$O$55,IF('Simulador Valora'!$X$41=2,'Simulador Valora'!$K$55,'Simulador Valora'!$E$55)))","v":0},null,0,0,null,15,9,0,0,0,52,"",0,189]
[190,0,null,{"$f":"IF(B206+F206-D205<=0,B206+F206,IF(A206=$B$9,$F$9,IF(A206=$B$10,$F$10,IF(AND('Simulador Valora'!$AH$45=2,L205=0),D205*(1+Z206),IF($AM$3=2,B206*AL206,D205*(1+Z206))))))","v":0},null,0,null,0,null,{"$f":"IF(B206-H206=0,0,J204)","v":0},null,null,null,{"$f":"IF('Simulador Valora'!$V$66=1,0,L206*'Simulador Valora'!$O$69*'Simulador Valora'!$W$65)","v":0},null,0,null,0,null,{"$f":"IF(B206<=0,0,B206*IF('Simulador Valora'!$AC$81=1,0,'Simulador Valora'!$Y$75))","v":0},null,{"$f":"IF(B206<=0,0,IF('Simulador Valora'!$X$41=1,'Simulador Valora'!$O$55,IF('Simulador Valora'!$X$41=2,'Simulador Valora'!$K$55,'Simulador Valora'!$E$55)))","v":0},null,0,null,null,null,0,0.12,0,0,0,0,0,{"$f":"IF(AD206<=0,0,AD206*IF('Simulador Valora'!$AC$81=1,0,'Simulador Valora'!$Y$75))+IF(AD206<=0,0,IF('Simulador Valora'!$X$41=1,'Simulador Valora'!$O$55,IF('Simulador Valora'!$X$41=2,'Simulador Valora'!$K$55,'Simulador Valora'!$E$55)))","v":0},null,0,0,null,15,10,0,0,0,51,"",0,190]
[191,0,null,{"$f":"IF(B207+F207-D206<=0,B207+F207,IF(A207=$B$9,$F$9,IF(A207=$B$10,$F$10,IF(AND('Simulador Valora'!$AH$45=2,L206=0),D206*(1+Z207),IF($AM$3=2,B207*AL207,D206*(1+Z207))))))","v":0},null,0,null,0,null,null,null,null,null,{"$f":"IF('Simulador Valora'!$V$66=1,0,L207*'Simulador Valora'!$O$69*'Simulador Valora'!$W$65)","v":0},null,0,null,0,null,{"$f":"IF(B207<=0,0,B207*IF('Simulador Valora'!$AC$81=1,0,'Simulador Valora'!$Y$75))","v":0},null,{"$f":"IF(B207<=0,0,IF('Simulador Valora'!$X$41=1,'Simulador Valora'!$O$55,IF('Simulador Valora'!$X$41=2,'Simulador Valora'!$K$55,'Simulador Valora'!$E$55)))","v":0},null,0,null,null,null,0,0.12,0,0,0,0,0,{"$f":"IF(AD207<=0,0,AD207*IF('Simulador Valora'!$AC$81=1,0,'Simulador Valora'!$Y$75))+IF(AD207<=0,0,IF('Simulador Valora'!$X$41=1,'Simulador Valora'!$O$55,IF('Simulador Valora'!$X$41=2,'Simulador Valora'!$K$55,'Simulador Valora'!$E$55)))","v":0},null,0,0,null,15,11,0,0,0,50,"",0,191]
[192,0,null,{"$f":"IF(B208+F208-D207<=0,B208+F208,IF(A208=$B$9,$F$9,IF(A208=$B$10,$F$10,IF(AND('Simulador Valora'!$AH$45=2,L207=0),D207*(1+Z208),IF($AM$3=2,B208*AL208,D207*(1+Z208))))))","v":0},null,0,null,0,null,{"$f":"IF(B208-H208=0,0,J206)","v":0},null,null,null,{"$f":"IF('Simulador Valora'!$V$66=1,0,L208*'Simulador Valora'!$O$69*'Simulador Valora'!$W$65)","v":0},null,0,null,0,null,{"$f":"IF(B208<=0,0,B208*IF('Simulador Valora'!$AC$81=1,0,'Simulador Valora'!$Y$75))","v":0},null,{"$f":"IF(B208<=0,0,IF('Simulador Valora'!$X$41=1,'Simulador Valora'!$O$55,IF('Simulador Valora'!$X$41=2,'Simulador Valora'!$K$55,'Simulador Valora'!$E$55)))","v":0},null,0,null,null,null,0,0.12,0,0,0,0,0,{"$f":"IF(AD208<=0,0,AD208*IF('Simulador Valora'!$AC$81=1,0,'Simulador Valora'!$Y$75))+IF(AD208<=0,0,IF('Simulador Valora'!$X$41=1,'Simulador Valora'!$O$55,IF('Simulador Valora'!$X$41=2,'Simulador Valora'!$K$55,'Simulador Valora'!$E$55)))","v":0},null,0,0,null,16,0,0,0,0,49,"",0,192]
[193,0,null,{"$f":"IF(B209+F209-D208<=0,B209+F209,IF(A209=$B$9,$F$9,IF(A209=$B$10,$F$10,IF(AND('Simulador Valora'!$AH$45=2,L208=0),D208*(1+Z209),IF($AM$3=2,B209*AL209,D208*(1+Z209))))))","v":0},null,{"$f":"IF(B209=0,0,P209/360*AU209*B209)","v":0},null,0,null,null,null,null,null,{"$f":"IF('Simulador Valora'!$V$66=1,0,L209*'Simulador Valora'!$O$69*'Simulador Valora'!$W$65)","v":0},null,0,null,0,null,{"$f":"IF(B209<=0,0,B209*IF('Simulador Valora'!$AC$81=1,0,'Simulador Valora'!$Y$75))","v":0},null,{"$f":"IF(B209<=0,0,IF('Simulador Valora'!$X$41=1,'Simulador Valora'!$O$55,IF('Simulador Valora'!$X$41=2,'Simulador Valora'!$K$55,'Simulador Valora'!$E$55)))","v":0},null,0,null,{"$f":"IF(B209<=0,0,'Simulador Valora'!$AI$54)","v":0},null,0,{"$f":"IF(AC208=$AC$6,AC208,IF(AC208=$AC$5,AC208,AC208-0.25%))","v":0.12},0,0,{"$f":"IFERROR(AC209/360*AU209*AD209,0)","v":0},0,0,{"$f":"IF(AD209<=0,0,AD209*IF('Simulador Valora'!$AC$81=1,0,'Simulador Valora'!$Y$75))+IF(AD209<=0,0,IF('Simulador Valora'!$X$41=1,'Simulador Valora'!$O$55,IF('Simulador Valora'!$X$41=2,'Simulador Valora'!$K$55,'Simulador Valora'!$E$55)))","v":0},{"$f":"IF(AC209<=0,0,$AJ$29)","v":0},{"$f":"IF(AD209<=0,0,AE209+AI209)","v":0},{"$f":"IFERROR(AE209/AD209,0)","v":0},null,16,1,{"$f":"+IF(R209<=0,IF(R208>0,+A209,0),0)","v":0},0,0,48,"",0,193]
[194,{"$f":"IF(R209<0,0,IF(A210=$B$9,R209+$D$9,IF(A210=$B$10,R209+$D$10,R209)))","v":0},null,{"$f":"IF(B210+F210-D209<=0,B210+F210,IF(A210=$B$9,$F$9,IF(A210=$B$10,$F$10,IF(AND('Simulador Valora'!$AH$45=2,L209=0),D209*(1+Z210),IF($AM$3=2,B210*AL210,D209*(1+Z210))))))","v":0},null,0,null,0,null,{"$f":"IF(B210-H210=0,0,J208*(1+(3%)))","v":0},null,null,null,{"$f":"IF('Simulador Valora'!$V$66=1,0,L210*'Simulador Valora'!$O$69*'Simulador Valora'!$W$65)","v":0},null,{"$f":"IF(B210=0,0,AC210)","v":0},null,{"$f":"B210-H210-J210-L210+N210","v":0},null,{"$f":"IF(B210<=0,0,B210*IF('Simulador Valora'!$AC$81=1,0,'Simulador Valora'!$Y$75))","v":0},null,{"$f":"IF(B210<=0,0,IF('Simulador Valora'!$X$41=1,'Simulador Valora'!$O$55,IF('Simulador Valora'!$X$41=2,'Simulador Valora'!$K$55,'Simulador Valora'!$E$55)))","v":0},null,{"$f":"IF(B210<=0,0,(D210+L210+T210+V210))","v":0},null,null,null,{"$f":"X210","v":0},{"$f":"AC209","v":0.12},0,0,0,0,{"$f":"+AD210-AG210","v":0},{"$f":"IF(AD210<=0,0,AD210*IF('Simulador Valora'!$AC$81=1,0,'Simulador Valora'!$Y$75))+IF(AD210<=0,0,IF('Simulador Valora'!$X$41=1,'Simulador Valora'!$O$55,IF('Simulador Valora'!$X$41=2,'Simulador Valora'!$K$55,'Simulador Valora'!$E$55)))","v":0},null,0,0,null,16,2,0,{"$f":"+IF(AP210>0,+AN210,0)","v":0},{"$f":"+IF(AP210>0,+AO210,0)","v":0},47,"",{"$f":"IFERROR(DAY(DATE(YEAR(AT210),MONTH(AT210)+1,0)),0)","v":0},194]
[195,0,null,{"$f":"IF(B211+F211-D210<=0,B211+F211,IF(A211=$B$9,$F$9,IF(A211=$B$10,$F$10,IF(AND('Simulador Valora'!$AH$45=2,L210=0),D210*(1+Z211),IF($AM$3=2,B211*AL211,D210*(1+Z211))))))","v":0},null,0,null,{"$f":"D211-F211","v":0},null,null,null,null,null,{"$f":"IF('Simulador Valora'!$V$66=1,0,L211*'Simulador Valora'!$O$69*'Simulador Valora'!$W$65)","v":0},null,0,null,0,null,{"$f":"IF(B211<=0,0,B211*IF('Simulador Valora'!$AC$81=1,0,'Simulador Valora'!$Y$75))","v":0},null,{"$f":"IF(B211<=0,0,IF('Simulador Valora'!$X$41=1,'Simulador Valora'!$O$55,IF('Simulador Valora'!$X$41=2,'Simulador Valora'!$K$55,'Simulador Valora'!$E$55)))","v":0},null,0,null,null,null,0,{"$f":"AC210","v":0.12},{"$f":"IF(AH210<0,0,IF($A211=$B$9,AH210+$D$9,IF($A211=$B$10,AH210+$D$10,AH210)))","v":0},{"$f":"IF(AD211+AF211-AE210<=0,AD211+AF211,IF($A211=$B$9,$F$9,IF($A211=$B$10,$F$10,AE210*(1+Z211))))","v":0},0,{"$f":"+AE211-AF211","v":0},0,{"$f":"IF(AD211<=0,0,AD211*IF('Simulador Valora'!$AC$81=1,0,'Simulador Valora'!$Y$75))+IF(AD211<=0,0,IF('Simulador Valora'!$X$41=1,'Simulador Valora'!$O$55,IF('Simulador Valora'!$X$41=2,'Simulador Valora'!$K$55,'Simulador Valora'!$E$55)))","v":0},null,0,0,null,16,3,0,0,0,46,{"$f":"IF(AD211=0,\"\",DATE(YEAR(AT210),MONTH(AT210)+1,1))","v":""},0,195]
[196,0,null,{"$f":"IF(B212+F212-D211<=0,B212+F212,IF(A212=$B$9,$F$9,IF(A212=$B$10,$F$10,IF(AND('Simulador Valora'!$AH$45=2,L211=0),D211*(1+Z212),IF($AM$3=2,B212*AL212,D211*(1+Z212))))))","v":0},null,0,null,0,null,{"$f":"IF(B212-H212=0,0,J210)","v":0},null,null,null,{"$f":"IF('Simulador Valora'!$V$66=1,0,L212*'Simulador Valora'!$O$69*'Simulador Valora'!$W$65)","v":0},null,0,null,0,null,{"$f":"IF(B212<=0,0,B212*IF('Simulador Valora'!$AC$81=1,0,'Simulador Valora'!$Y$75))","v":0},null,{"$f":"IF(B212<=0,0,IF('Simulador Valora'!$X$41=1,'Simulador Valora'!$O$55,IF('Simulador Valora'!$X$41=2,'Simulador Valora'!$K$55,'Simulador Valora'!$E$55)))","v":0},null,0,null,null,null,0,0.12,0,0,0,0,0,{"$f":"IF(AD212<=0,0,AD212*IF('Simulador Valora'!$AC$81=1,0,'Simulador Valora'!$Y$75))+IF(AD212<=0,0,IF('Simulador Valora'!$X$41=1,'Simulador Valora'!$O$55,IF('Simulador Valora'!$X$41=2,'Simulador Valora'!$K$55,'Simulador Valora'!$E$55)))","v":0},null,0,0,null,16,4,0,0,0,45,"",0,196]
[197,0,null,{"$f":"IF(B213+F213-D212<=0,B213+F213,IF(A213=$B$9,$F$9,IF(A213=$B$10,$F$10,IF(AND('Simulador Valora'!$AH$45=2,L212=0),D212*(1+Z213),IF($AM$3=2,B213*AL213,D212*(1+Z213))))))","v":0},null,0,null,0,null,null,null,null,null,{"$f":"IF('Simulador Valora'!$V$66=1,0,L213*'Simulador Valora'!$O$69*'Simulador Valora'!$W$65)","v":0},null,0,null,0,null,{"$f":"IF(B213<=0,0,B213*IF('Simulador Valora'!$AC$81=1,0,'Simulador Valora'!$Y$75))","v":0},null,{"$f":"IF(B213<=0,0,IF('Simulador Valora'!$X$41=1,'Simulador Valora'!$O$55,IF('Simulador Valora'!$X$41=2,'Simulador Valora'!$K$55,'Simulador Valora'!$E$55)))","v":0},null,0,null,null,null,0,0.12,0,0,0,0,0,{"$f":"IF(AD213<=0,0,AD213*IF('Simulador Valora'!$AC$81=1,0,'Simulador Valora'!$Y$75))+IF(AD213<=0,0,IF('Simulador Valora'!$X$41=1,'Simulador Valora'!$O$55,IF('Simulador Valora'!$X$41=2,'Simulador Valora'!$K$55,'Simulador Valora'!$E$55)))","v":0},null,0,0,null,16,5,0,0,0,44,"",0,197]
[198,0,null,{"$f":"IF(B214+F214-D213<=0,B214+F214,IF(A214=$B$9,$F$9,IF(A214=$B$10,$F$10,IF(AND('Simulador Valora'!$AH$45=2,L213=0),D213*(1+Z214),IF($AM$3=2,B214*AL214,D213*(1+Z214))))))","v":0},null,0,null,0,null,{"$f":"IF(B214-H214=0,0,J212)","v":0},null,null,null,{"$f":"IF('Simulador Valora'!$V$66=1,0,L214*'Simulador Valora'!$O$69*'Simulador Valora'!$W$65)","v":0},null,0,null,0,null,{"$f":"IF(B214<=0,0,B214*IF('Simulador Valora'!$AC$81=1,0,'Simulador Valora'!$Y$75))","v":0},null,{"$f":"IF(B214<=0,0,IF('Simulador Valora'!$X$41=1,'Simulador Valora'!$O$55,IF('Simulador Valora'!$X$41=2,'Simulador Valora'!$K$55,'Simulador Valora'!$E$55)))","v":0},null,0,null,null,null,0,0.12,0,0,0,0,0,{"$f":"IF(AD214<=0,0,AD214*IF('Simulador Valora'!$AC$81=1,0,'Simulador Valora'!$Y$75))+IF(AD214<=0,0,IF('Simulador Valora'!$X$41=1,'Simulador Valora'!$O$55,IF('Simulador Valora'!$X$41=2,'Simulador Valora'!$K$55,'Simulador Valora'!$E$55)))","v":0},null,0,0,null,16,6,0,0,0,43,"",0,198]
[199,0,null,{"$f":"IF(B215+F215-D214<=0,B215+F215,IF(A215=$B$9,$F$9,IF(A215=$B$10,$F$10,IF(AND('Simulador Valora'!$AH$45=2,L214=0),D214*(1+Z215),IF($AM$3=2,B215*AL215,D214*(1+Z215))))))","v":0},null,0,null,0,null,null,null,null,null,{"$f":"IF('Simulador Valora'!$V$66=1,0,L215*'Simulador Valora'!$O$69*'Simulador Valora'!$W$65)","v":0},null,0,null,0,null,{"$f":"IF(B215<=0,0,B215*IF('Simulador Valora'!$AC$81=1,0,'Simulador Valora'!$Y$75))","v":0},null,{"$f":"IF(B215<=0,0,IF('Simulador Valora'!$X$41=1,'Simulador Valora'!$O$55,IF('Simulador Valora'!$X$41=2,'Simulador Valora'!$K$55,'Simulador Valora'!$E$55)))","v":0},null,0,null,null,null,0,0.12,0,0,0,0,0,{"$f":"IF(AD215<=0,0,AD215*IF('Simulador Valora'!$AC$81=1,0,'Simulador Valora'!$Y$75))+IF(AD215<=0,0,IF('Simulador Valora'!$X$41=1,'Simulador Valora'!$O$55,IF('Simulador Valora'!$X$41=2,'Simulador Valora'!$K$55,'Simulador Valora'!$E$55)))","v":0},null,0,0,null,16,7,0,0,0,42,"",0,199]
[200,0,null,{"$f":"IF(B216+F216-D215<=0,B216+F216,IF(A216=$B$9,$F$9,IF(A216=$B$10,$F$10,IF(AND('Simulador Valora'!$AH$45=2,L215=0),D215*(1+Z216),IF($AM$3=2,B216*AL216,D215*(1+Z216))))))","v":0},null,0,null,0,null,{"$f":"IF(B216-H216=0,0,J214)","v":0},null,null,null,{"$f":"IF('Simulador Valora'!$V$66=1,0,L216*'Simulador Valora'!$O$69*'Simulador Valora'!$W$65)","v":0},null,0,null,0,null,{"$f":"IF(B216<=0,0,B216*IF('Simulador Valora'!$AC$81=1,0,'Simulador Valora'!$Y$75))","v":0},null,{"$f":"IF(B216<=0,0,IF('Simulador Valora'!$X$41=1,'Simulador Valora'!$O$55,IF('Simulador Valora'!$X$41=2,'Simulador Valora'!$K$55,'Simulador Valora'!$E$55)))","v":0},null,0,null,null,null,0,0.12,0,0,0,0,0,{"$f":"IF(AD216<=0,0,AD216*IF('Simulador Valora'!$AC$81=1,0,'Simulador Valora'!$Y$75))+IF(AD216<=0,0,IF('Simulador Valora'!$X$41=1,'Simulador Valora'!$O$55,IF('Simulador Valora'!$X$41=2,'Simulador Valora'!$K$55,'Simulador Valora'!$E$55)))","v":0},null,0,0,null,16,8,0,0,0,41,"",0,200]
[201,0,null,{"$f":"IF(B217+F217-D216<=0,B217+F217,IF(A217=$B$9,$F$9,IF(A217=$B$10,$F$10,IF(AND('Simulador Valora'!$AH$45=2,L216=0),D216*(1+Z217),IF($AM$3=2,B217*AL217,D216*(1+Z217))))))","v":0},null,0,null,0,null,null,null,null,null,{"$f":"IF('Simulador Valora'!$V$66=1,0,L217*'Simulador Valora'!$O$69*'Simulador Valora'!$W$65)","v":0},null,0,null,0,null,{"$f":"IF(B217<=0,0,B217*IF('Simulador Valora'!$AC$81=1,0,'Simulador Valora'!$Y$75))","v":0},null,{"$f":"IF(B217<=0,0,IF('Simulador Valora'!$X$41=1,'Simulador Valora'!$O$55,IF('Simulador Valora'!$X$41=2,'Simulador Valora'!$K$55,'Simulador Valora'!$E$55)))","v":0},null,0,null,null,null,0,0.12,0,0,0,0,0,{"$f":"IF(AD217<=0,0,AD217*IF('Simulador Valora'!$AC$81=1,0,'Simulador Valora'!$Y$75))+IF(AD217<=0,0,IF('Simulador Valora'!$X$41=1,'Simulador Valora'!$O$55,IF('Simulador Valora'!$X$41=2,'Simulador Valora'!$K$55,'Simulador Valora'!$E$55)))","v":0},null,0,0,null,16,9,0,0,0,40,"",0,201]
[202,0,null,{"$f":"IF(B218+F218-D217<=0,B218+F218,IF(A218=$B$9,$F$9,IF(A218=$B$10,$F$10,IF(AND('Simulador Valora'!$AH$45=2,L217=0),D217*(1+Z218),IF($AM$3=2,B218*AL218,D217*(1+Z218))))))","v":0},null,0,null,0,null,{"$f":"IF(B218-H218=0,0,J216)","v":0},null,null,null,{"$f":"IF('Simulador Valora'!$V$66=1,0,L218*'Simulador Valora'!$O$69*'Simulador Valora'!$W$65)","v":0},null,0,null,0,null,{"$f":"IF(B218<=0,0,B218*IF('Simulador Valora'!$AC$81=1,0,'Simulador Valora'!$Y$75))","v":0},null,{"$f":"IF(B218<=0,0,IF('Simulador Valora'!$X$41=1,'Simulador Valora'!$O$55,IF('Simulador Valora'!$X$41=2,'Simulador Valora'!$K$55,'Simulador Valora'!$E$55)))","v":0},null,0,null,null,null,0,0.12,0,0,0,0,0,{"$f":"IF(AD218<=0,0,AD218*IF('Simulador Valora'!$AC$81=1,0,'Simulador Valora'!$Y$75))+IF(AD218<=0,0,IF('Simulador Valora'!$X$41=1,'Simulador Valora'!$O$55,IF('Simulador Valora'!$X$41=2,'Simulador Valora'!$K$55,'Simulador Valora'!$E$55)))","v":0},null,0,0,null,16,10,0,0,0,39,"",0,202]
[203,0,null,{"$f":"IF(B219+F219-D218<=0,B219+F219,IF(A219=$B$9,$F$9,IF(A219=$B$10,$F$10,IF(AND('Simulador Valora'!$AH$45=2,L218=0),D218*(1+Z219),IF($AM$3=2,B219*AL219,D218*(1+Z219))))))","v":0},null,0,null,0,null,null,null,null,null,{"$f":"IF('Simulador Valora'!$V$66=1,0,L219*'Simulador Valora'!$O$69*'Simulador Valora'!$W$65)","v":0},null,0,null,0,null,{"$f":"IF(B219<=0,0,B219*IF('Simulador Valora'!$AC$81=1,0,'Simulador Valora'!$Y$75))","v":0},null,{"$f":"IF(B219<=0,0,IF('Simulador Valora'!$X$41=1,'Simulador Valora'!$O$55,IF('Simulador Valora'!$X$41=2,'Simulador Valora'!$K$55,'Simulador Valora'!$E$55)))","v":0},null,0,null,null,null,0,0.12,0,0,0,0,0,{"$f":"IF(AD219<=0,0,AD219*IF('Simulador Valora'!$AC$81=1,0,'Simulador Valora'!$Y$75))+IF(AD219<=0,0,IF('Simulador Valora'!$X$41=1,'Simulador Valora'!$O$55,IF('Simulador Valora'!$X$41=2,'Simulador Valora'!$K$55,'Simulador Valora'!$E$55)))","v":0},null,0,0,null,16,11,0,0,0,38,"",0,203]
[204,0,null,{"$f":"IF(B220+F220-D219<=0,B220+F220,IF(A220=$B$9,$F$9,IF(A220=$B$10,$F$10,IF(AND('Simulador Valora'!$AH$45=2,L219=0),D219*(1+Z220),IF($AM$3=2,B220*AL220,D219*(1+Z220))))))","v":0},null,0,null,0,null,{"$f":"IF(B220-H220=0,0,J218)","v":0},null,null,null,{"$f":"IF('Simulador Valora'!$V$66=1,0,L220*'Simulador Valora'!$O$69*'Simulador Valora'!$W$65)","v":0},null,0,null,0,null,{"$f":"IF(B220<=0,0,B220*IF('Simulador Valora'!$AC$81=1,0,'Simulador Valora'!$Y$75))","v":0},null,{"$f":"IF(B220<=0,0,IF('Simulador Valora'!$X$41=1,'Simulador Valora'!$O$55,IF('Simulador Valora'!$X$41=2,'Simulador Valora'!$K$55,'Simulador Valora'!$E$55)))","v":0},null,0,null,null,null,0,0.12,0,0,0,0,0,{"$f":"IF(AD220<=0,0,AD220*IF('Simulador Valora'!$AC$81=1,0,'Simulador Valora'!$Y$75))+IF(AD220<=0,0,IF('Simulador Valora'!$X$41=1,'Simulador Valora'!$O$55,IF('Simulador Valora'!$X$41=2,'Simulador Valora'!$K$55,'Simulador Valora'!$E$55)))","v":0},null,0,0,null,17,0,0,0,0,37,"",0,204]
[205,0,null,{"$f":"IF(B221+F221-D220<=0,B221+F221,IF(A221=$B$9,$F$9,IF(A221=$B$10,$F$10,IF(AND('Simulador Valora'!$AH$45=2,L220=0),D220*(1+Z221),IF($AM$3=2,B221*AL221,D220*(1+Z221))))))","v":0},null,0,null,0,null,null,null,null,null,{"$f":"IF('Simulador Valora'!$V$66=1,0,L221*'Simulador Valora'!$O$69*'Simulador Valora'!$W$65)","v":0},null,0,null,0,null,{"$f":"IF(B221<=0,0,B221*IF('Simulador Valora'!$AC$81=1,0,'Simulador Valora'!$Y$75))","v":0},null,{"$f":"IF(B221<=0,0,IF('Simulador Valora'!$X$41=1,'Simulador Valora'!$O$55,IF('Simulador Valora'!$X$41=2,'Simulador Valora'!$K$55,'Simulador Valora'!$E$55)))","v":0},null,0,null,{"$f":"IF(B221<=0,0,'Simulador Valora'!$AI$54)","v":0},null,0,{"$f":"IF(AC220=$AC$6,AC220,IF(AC220=$AC$5,AC220,AC220-0.25%))","v":0.12},0,0,0,0,0,{"$f":"IF(AD221<=0,0,AD221*IF('Simulador Valora'!$AC$81=1,0,'Simulador Valora'!$Y$75))+IF(AD221<=0,0,IF('Simulador Valora'!$X$41=1,'Simulador Valora'!$O$55,IF('Simulador Valora'!$X$41=2,'Simulador Valora'!$K$55,'Simulador Valora'!$E$55)))","v":0},{"$f":"IF(AC221<=0,0,$AJ$29)","v":0},0,0,null,17,1,0,0,0,36,"",0,205]
[206,0,null,{"$f":"IF(B222+F222-D221<=0,B222+F222,IF(A222=$B$9,$F$9,IF(A222=$B$10,$F$10,IF(AND('Simulador Valora'!$AH$45=2,L221=0),D221*(1+Z222),IF($AM$3=2,B222*AL222,D221*(1+Z222))))))","v":0},null,0,null,0,null,{"$f":"IF(B222-H222=0,0,J220*(1+(3%)))","v":0},null,null,null,{"$f":"IF('Simulador Valora'!$V$66=1,0,L222*'Simulador Valora'!$O$69*'Simulador Valora'!$W$65)","v":0},null,0,null,0,null,{"$f":"IF(B222<=0,0,B222*IF('Simulador Valora'!$AC$81=1,0,'Simulador Valora'!$Y$75))","v":0},null,{"$f":"IF(B222<=0,0,IF('Simulador Valora'!$X$41=1,'Simulador Valora'!$O$55,IF('Simulador Valora'!$X$41=2,'Simulador Valora'!$K$55,'Simulador Valora'!$E$55)))","v":0},null,0,null,null,null,0,{"$f":"AC221","v":0.12},0,0,0,0,0,{"$f":"IF(AD222<=0,0,AD222*IF('Simulador Valora'!$AC$81=1,0,'Simulador Valora'!$Y$75))+IF(AD222<=0,0,IF('Simulador Valora'!$X$41=1,'Simulador Valora'!$O$55,IF('Simulador Valora'!$X$41=2,'Simulador Valora'!$K$55,'Simulador Valora'!$E$55)))","v":0},null,0,0,null,17,2,0,0,0,35,"",0,206]
[207,0,null,{"$f":"IF(B223+F223-D222<=0,B223+F223,IF(A223=$B$9,$F$9,IF(A223=$B$10,$F$10,IF(AND('Simulador Valora'!$AH$45=2,L222=0),D222*(1+Z223),IF($AM$3=2,B223*AL223,D222*(1+Z223))))))","v":0},null,0,null,0,null,null,null,null,null,{"$f":"IF('Simulador Valora'!$V$66=1,0,L223*'Simulador Valora'!$O$69*'Simulador Valora'!$W$65)","v":0},null,0,null,0,null,{"$f":"IF(B223<=0,0,B223*IF('Simulador Valora'!$AC$81=1,0,'Simulador Valora'!$Y$75))","v":0},null,{"$f":"IF(B223<=0,0,IF('Simulador Valora'!$X$41=1,'Simulador Valora'!$O$55,IF('Simulador Valora'!$X$41=2,'Simulador Valora'!$K$55,'Simulador Valora'!$E$55)))","v":0},null,0,null,null,null,0,{"$f":"AC222","v":0.12},0,0,0,0,0,{"$f":"IF(AD223<=0,0,AD223*IF('Simulador Valora'!$AC$81=1,0,'Simulador Valora'!$Y$75))+IF(AD223<=0,0,IF('Simulador Valora'!$X$41=1,'Simulador Valora'!$O$55,IF('Simulador Valora'!$X$41=2,'Simulador Valora'!$K$55,'Simulador Valora'!$E$55)))","v":0},null,0,0,null,17,3,0,0,0,34,"",0,207]
[208,0,null,{"$f":"IF(B224+F224-D223<=0,B224+F224,IF(A224=$B$9,$F$9,IF(A224=$B$10,$F$10,IF(AND('Simulador Valora'!$AH$45=2,L223=0),D223*(1+Z224),IF($AM$3=2,B224*AL224,D223*(1+Z224))))))","v":0},null,0,null,0,null,{"$f":"IF(B224-H224=0,0,J222)","v":0},null,null,null,{"$f":"IF('Simulador Valora'!$V$66=1,0,L224*'Simulador Valora'!$O$69*'Simulador Valora'!$W$65)","v":0},null,0,null,0,null,{"$f":"IF(B224<=0,0,B224*IF('Simulador Valora'!$AC$81=1,0,'Simulador Valora'!$Y$75))","v":0},null,{"$f":"IF(B224<=0,0,IF('Simulador Valora'!$X$41=1,'Simulador Valora'!$O$55,IF('Simulador Valora'!$X$41=2,'Simulador Valora'!$K$55,'Simulador Valora'!$E$55)))","v":0},null,0,null,null,null,0,0.12,0,0,0,0,0,{"$f":"IF(AD224<=0,0,AD224*IF('Simulador Valora'!$AC$81=1,0,'Simulador Valora'!$Y$75))+IF(AD224<=0,0,IF('Simulador Valora'!$X$41=1,'Simulador Valora'!$O$55,IF('Simulador Valora'!$X$41=2,'Simulador Valora'!$K$55,'Simulador Valora'!$E$55)))","v":0},null,0,0,null,17,4,0,0,0,33,"",0,208]
[209,0,null,{"$f":"IF(B225+F225-D224<=0,B225+F225,IF(A225=$B$9,$F$9,IF(A225=$B$10,$F$10,IF(AND('Simulador Valora'!$AH$45=2,L224=0),D224*(1+Z225),IF($AM$3=2,B225*AL225,D224*(1+Z225))))))","v":0},null,0,null,0,null,null,null,null,null,{"$f":"IF('Simulador Valora'!$V$66=1,0,L225*'Simulador Valora'!$O$69*'Simulador Valora'!$W$65)","v":0},null,0,null,0,null,{"$f":"IF(B225<=0,0,B225*IF('Simulador Valora'!$AC$81=1,0,'Simulador Valora'!$Y$75))","v":0},null,{"$f":"IF(B225<=0,0,IF('Simulador Valora'!$X$41=1,'Simulador Valora'!$O$55,IF('Simulador Valora'!$X$41=2,'Simulador Valora'!$K$55,'Simulador Valora'!$E$55)))","v":0},null,0,null,null,null,0,0.12,0,0,0,0,0,{"$f":"IF(AD225<=0,0,AD225*IF('Simulador Valora'!$AC$81=1,0,'Simulador Valora'!$Y$75))+IF(AD225<=0,0,IF('Simulador Valora'!$X$41=1,'Simulador Valora'!$O$55,IF('Simulador Valora'!$X$41=2,'Simulador Valora'!$K$55,'Simulador Valora'!$E$55)))","v":0},null,0,0,null,17,5,0,0,0,32,"",0,209]
[210,0,null,{"$f":"IF(B226+F226-D225<=0,B226+F226,IF(A226=$B$9,$F$9,IF(A226=$B$10,$F$10,IF(AND('Simulador Valora'!$AH$45=2,L225=0),D225*(1+Z226),IF($AM$3=2,B226*AL226,D225*(1+Z226))))))","v":0},null,0,null,0,null,{"$f":"IF(B226-H226=0,0,J224)","v":0},null,null,null,{"$f":"IF('Simulador Valora'!$V$66=1,0,L226*'Simulador Valora'!$O$69*'Simulador Valora'!$W$65)","v":0},null,0,null,0,null,{"$f":"IF(B226<=0,0,B226*IF('Simulador Valora'!$AC$81=1,0,'Simulador Valora'!$Y$75))","v":0},null,{"$f":"IF(B226<=0,0,IF('Simulador Valora'!$X$41=1,'Simulador Valora'!$O$55,IF('Simulador Valora'!$X$41=2,'Simulador Valora'!$K$55,'Simulador Valora'!$E$55)))","v":0},null,0,null,null,null,0,0.12,0,0,0,0,0,{"$f":"IF(AD226<=0,0,AD226*IF('Simulador Valora'!$AC$81=1,0,'Simulador Valora'!$Y$75))+IF(AD226<=0,0,IF('Simulador Valora'!$X$41=1,'Simulador Valora'!$O$55,IF('Simulador Valora'!$X$41=2,'Simulador Valora'!$K$55,'Simulador Valora'!$E$55)))","v":0},null,0,0,null,17,6,0,0,0,31,"",0,210]
[211,0,null,{"$f":"IF(B227+F227-D226<=0,B227+F227,IF(A227=$B$9,$F$9,IF(A227=$B$10,$F$10,IF(AND('Simulador Valora'!$AH$45=2,L226=0),D226*(1+Z227),IF($AM$3=2,B227*AL227,D226*(1+Z227))))))","v":0},null,0,null,0,null,null,null,null,null,{"$f":"IF('Simulador Valora'!$V$66=1,0,L227*'Simulador Valora'!$O$69*'Simulador Valora'!$W$65)","v":0},null,0,null,0,null,{"$f":"IF(B227<=0,0,B227*IF('Simulador Valora'!$AC$81=1,0,'Simulador Valora'!$Y$75))","v":0},null,{"$f":"IF(B227<=0,0,IF('Simulador Valora'!$X$41=1,'Simulador Valora'!$O$55,IF('Simulador Valora'!$X$41=2,'Simulador Valora'!$K$55,'Simulador Valora'!$E$55)))","v":0},null,0,null,null,null,0,0.12,0,0,0,0,0,{"$f":"IF(AD227<=0,0,AD227*IF('Simulador Valora'!$AC$81=1,0,'Simulador Valora'!$Y$75))+IF(AD227<=0,0,IF('Simulador Valora'!$X$41=1,'Simulador Valora'!$O$55,IF('Simulador Valora'!$X$41=2,'Simulador Valora'!$K$55,'Simulador Valora'!$E$55)))","v":0},null,0,0,null,17,7,0,0,0,30,"",0,211]
[212,0,null,{"$f":"IF(B228+F228-D227<=0,B228+F228,IF(A228=$B$9,$F$9,IF(A228=$B$10,$F$10,IF(AND('Simulador Valora'!$AH$45=2,L227=0),D227*(1+Z228),IF($AM$3=2,B228*AL228,D227*(1+Z228))))))","v":0},null,0,null,0,null,{"$f":"IF(B228-H228=0,0,J226)","v":0},null,null,null,{"$f":"IF('Simulador Valora'!$V$66=1,0,L228*'Simulador Valora'!$O$69*'Simulador Valora'!$W$65)","v":0},null,0,null,0,null,{"$f":"IF(B228<=0,0,B228*IF('Simulador Valora'!$AC$81=1,0,'Simulador Valora'!$Y$75))","v":0},null,{"$f":"IF(B228<=0,0,IF('Simulador Valora'!$X$41=1,'Simulador Valora'!$O$55,IF('Simulador Valora'!$X$41=2,'Simulador Valora'!$K$55,'Simulador Valora'!$E$55)))","v":0},null,0,null,null,null,0,0.12,0,0,0,0,0,{"$f":"IF(AD228<=0,0,AD228*IF('Simulador Valora'!$AC$81=1,0,'Simulador Valora'!$Y$75))+IF(AD228<=0,0,IF('Simulador Valora'!$X$41=1,'Simulador Valora'!$O$55,IF('Simulador Valora'!$X$41=2,'Simulador Valora'!$K$55,'Simulador Valora'!$E$55)))","v":0},null,0,0,null,17,8,0,0,0,29,"",0,212]
[213,0,null,{"$f":"IF(B229+F229-D228<=0,B229+F229,IF(A229=$B$9,$F$9,IF(A229=$B$10,$F$10,IF(AND('Simulador Valora'!$AH$45=2,L228=0),D228*(1+Z229),IF($AM$3=2,B229*AL229,D228*(1+Z229))))))","v":0},null,0,null,0,null,null,null,null,null,{"$f":"IF('Simulador Valora'!$V$66=1,0,L229*'Simulador Valora'!$O$69*'Simulador Valora'!$W$65)","v":0},null,0,null,0,null,{"$f":"IF(B229<=0,0,B229*IF('Simulador Valora'!$AC$81=1,0,'Simulador Valora'!$Y$75))","v":0},null,{"$f":"IF(B229<=0,0,IF('Simulador Valora'!$X$41=1,'Simulador Valora'!$O$55,IF('Simulador Valora'!$X$41=2,'Simulador Valora'!$K$55,'Simulador Valora'!$E$55)))","v":0},null,0,null,null,null,0,0.12,0,0,0,0,0,{"$f":"IF(AD229<=0,0,AD229*IF('Simulador Valora'!$AC$81=1,0,'Simulador Valora'!$Y$75))+IF(AD229<=0,0,IF('Simulador Valora'!$X$41=1,'Simulador Valora'!$O$55,IF('Simulador Valora'!$X$41=2,'Simulador Valora'!$K$55,'Simulador Valora'!$E$55)))","v":0},null,0,0,null,17,9,0,0,0,28,"",0,213]
[214,0,null,{"$f":"IF(B230+F230-D229<=0,B230+F230,IF(A230=$B$9,$F$9,IF(A230=$B$10,$F$10,IF(AND('Simulador Valora'!$AH$45=2,L229=0),D229*(1+Z230),IF($AM$3=2,B230*AL230,D229*(1+Z230))))))","v":0},null,0,null,0,null,{"$f":"IF(B230-H230=0,0,J228)","v":0},null,null,null,{"$f":"IF('Simulador Valora'!$V$66=1,0,L230*'Simulador Valora'!$O$69*'Simulador Valora'!$W$65)","v":0},null,0,null,0,null,{"$f":"IF(B230<=0,0,B230*IF('Simulador Valora'!$AC$81=1,0,'Simulador Valora'!$Y$75))","v":0},null,{"$f":"IF(B230<=0,0,IF('Simulador Valora'!$X$41=1,'Simulador Valora'!$O$55,IF('Simulador Valora'!$X$41=2,'Simulador Valora'!$K$55,'Simulador Valora'!$E$55)))","v":0},null,0,null,null,null,0,0.12,0,0,0,0,0,{"$f":"IF(AD230<=0,0,AD230*IF('Simulador Valora'!$AC$81=1,0,'Simulador Valora'!$Y$75))+IF(AD230<=0,0,IF('Simulador Valora'!$X$41=1,'Simulador Valora'!$O$55,IF('Simulador Valora'!$X$41=2,'Simulador Valora'!$K$55,'Simulador Valora'!$E$55)))","v":0},null,0,0,null,17,10,0,0,0,27,"",0,214]
[215,0,null,{"$f":"IF(B231+F231-D230<=0,B231+F231,IF(A231=$B$9,$F$9,IF(A231=$B$10,$F$10,IF(AND('Simulador Valora'!$AH$45=2,L230=0),D230*(1+Z231),IF($AM$3=2,B231*AL231,D230*(1+Z231))))))","v":0},null,0,null,0,null,null,null,null,null,{"$f":"IF('Simulador Valora'!$V$66=1,0,L231*'Simulador Valora'!$O$69*'Simulador Valora'!$W$65)","v":0},null,0,null,0,null,{"$f":"IF(B231<=0,0,B231*IF('Simulador Valora'!$AC$81=1,0,'Simulador Valora'!$Y$75))","v":0},null,{"$f":"IF(B231<=0,0,IF('Simulador Valora'!$X$41=1,'Simulador Valora'!$O$55,IF('Simulador Valora'!$X$41=2,'Simulador Valora'!$K$55,'Simulador Valora'!$E$55)))","v":0},null,0,null,null,null,0,0.12,0,0,0,0,0,{"$f":"IF(AD231<=0,0,AD231*IF('Simulador Valora'!$AC$81=1,0,'Simulador Valora'!$Y$75))+IF(AD231<=0,0,IF('Simulador Valora'!$X$41=1,'Simulador Valora'!$O$55,IF('Simulador Valora'!$X$41=2,'Simulador Valora'!$K$55,'Simulador Valora'!$E$55)))","v":0},null,0,0,null,17,11,0,0,0,26,"",0,215]
[216,0,null,{"$f":"IF(B232+F232-D231<=0,B232+F232,IF(A232=$B$9,$F$9,IF(A232=$B$10,$F$10,IF(AND('Simulador Valora'!$AH$45=2,L231=0),D231*(1+Z232),IF($AM$3=2,B232*AL232,D231*(1+Z232))))))","v":0},null,0,null,0,null,{"$f":"IF(B232-H232=0,0,J230)","v":0},null,null,null,{"$f":"IF('Simulador Valora'!$V$66=1,0,L232*'Simulador Valora'!$O$69*'Simulador Valora'!$W$65)","v":0},null,0,null,0,null,{"$f":"IF(B232<=0,0,B232*IF('Simulador Valora'!$AC$81=1,0,'Simulador Valora'!$Y$75))","v":0},null,{"$f":"IF(B232<=0,0,IF('Simulador Valora'!$X$41=1,'Simulador Valora'!$O$55,IF('Simulador Valora'!$X$41=2,'Simulador Valora'!$K$55,'Simulador Valora'!$E$55)))","v":0},null,0,null,null,null,0,0.12,0,0,0,0,0,{"$f":"IF(AD232<=0,0,AD232*IF('Simulador Valora'!$AC$81=1,0,'Simulador Valora'!$Y$75))+IF(AD232<=0,0,IF('Simulador Valora'!$X$41=1,'Simulador Valora'!$O$55,IF('Simulador Valora'!$X$41=2,'Simulador Valora'!$K$55,'Simulador Valora'!$E$55)))","v":0},null,0,0,null,18,0,0,0,0,25,"",0,216]
[217,0,null,{"$f":"IF(B233+F233-D232<=0,B233+F233,IF(A233=$B$9,$F$9,IF(A233=$B$10,$F$10,IF(AND('Simulador Valora'!$AH$45=2,L232=0),D232*(1+Z233),IF($AM$3=2,B233*AL233,D232*(1+Z233))))))","v":0},null,0,null,0,null,null,null,null,null,{"$f":"IF('Simulador Valora'!$V$66=1,0,L233*'Simulador Valora'!$O$69*'Simulador Valora'!$W$65)","v":0},null,0,null,0,null,{"$f":"IF(B233<=0,0,B233*IF('Simulador Valora'!$AC$81=1,0,'Simulador Valora'!$Y$75))","v":0},null,{"$f":"IF(B233<=0,0,IF('Simulador Valora'!$X$41=1,'Simulador Valora'!$O$55,IF('Simulador Valora'!$X$41=2,'Simulador Valora'!$K$55,'Simulador Valora'!$E$55)))","v":0},null,0,null,{"$f":"IF(B233<=0,0,'Simulador Valora'!$AI$54)","v":0},null,0,{"$f":"IF(AC232=$AC$6,AC232,IF(AC232=$AC$5,AC232,AC232-0.25%))","v":0.12},0,0,0,0,0,{"$f":"IF(AD233<=0,0,AD233*IF('Simulador Valora'!$AC$81=1,0,'Simulador Valora'!$Y$75))+IF(AD233<=0,0,IF('Simulador Valora'!$X$41=1,'Simulador Valora'!$O$55,IF('Simulador Valora'!$X$41=2,'Simulador Valora'!$K$55,'Simulador Valora'!$E$55)))","v":0},{"$f":"IF(AC233<=0,0,$AJ$29)","v":0},0,0,null,18,1,0,0,0,24,"",0,217]
[218,0,null,{"$f":"IF(B234+F234-D233<=0,B234+F234,IF(A234=$B$9,$F$9,IF(A234=$B$10,$F$10,IF(AND('Simulador Valora'!$AH$45=2,L233=0),D233*(1+Z234),IF($AM$3=2,B234*AL234,D233*(1+Z234))))))","v":0},null,0,null,0,null,{"$f":"IF(B234-H234=0,0,J232*(1+(3%)))","v":0},null,null,null,{"$f":"IF('Simulador Valora'!$V$66=1,0,L234*'Simulador Valora'!$O$69*'Simulador Valora'!$W$65)","v":0},null,0,null,0,null,{"$f":"IF(B234<=0,0,B234*IF('Simulador Valora'!$AC$81=1,0,'Simulador Valora'!$Y$75))","v":0},null,{"$f":"IF(B234<=0,0,IF('Simulador Valora'!$X$41=1,'Simulador Valora'!$O$55,IF('Simulador Valora'!$X$41=2,'Simulador Valora'!$K$55,'Simulador Valora'!$E$55)))","v":0},null,0,null,null,null,0,{"$f":"AC233","v":0.12},0,0,0,0,0,{"$f":"IF(AD234<=0,0,AD234*IF('Simulador Valora'!$AC$81=1,0,'Simulador Valora'!$Y$75))+IF(AD234<=0,0,IF('Simulador Valora'!$X$41=1,'Simulador Valora'!$O$55,IF('Simulador Valora'!$X$41=2,'Simulador Valora'!$K$55,'Simulador Valora'!$E$55)))","v":0},null,0,0,null,18,2,0,0,0,23,"",0,218]
[219,0,null,{"$f":"IF(B235+F235-D234<=0,B235+F235,IF(A235=$B$9,$F$9,IF(A235=$B$10,$F$10,IF(AND('Simulador Valora'!$AH$45=2,L234=0),D234*(1+Z235),IF($AM$3=2,B235*AL235,D234*(1+Z235))))))","v":0},null,0,null,0,null,null,null,null,null,{"$f":"IF('Simulador Valora'!$V$66=1,0,L235*'Simulador Valora'!$O$69*'Simulador Valora'!$W$65)","v":0},null,0,null,0,null,{"$f":"IF(B235<=0,0,B235*IF('Simulador Valora'!$AC$81=1,0,'Simulador Valora'!$Y$75))","v":0},null,{"$f":"IF(B235<=0,0,IF('Simulador Valora'!$X$41=1,'Simulador Valora'!$O$55,IF('Simulador Valora'!$X$41=2,'Simulador Valora'!$K$55,'Simulador Valora'!$E$55)))","v":0},null,0,null,null,null,0,{"$f":"AC234","v":0.12},0,0,0,0,0,{"$f":"IF(AD235<=0,0,AD235*IF('Simulador Valora'!$AC$81=1,0,'Simulador Valora'!$Y$75))+IF(AD235<=0,0,IF('Simulador Valora'!$X$41=1,'Simulador Valora'!$O$55,IF('Simulador Valora'!$X$41=2,'Simulador Valora'!$K$55,'Simulador Valora'!$E$55)))","v":0},null,0,0,null,18,3,0,0,0,22,"",0,219]
[220,0,null,{"$f":"IF(B236+F236-D235<=0,B236+F236,IF(A236=$B$9,$F$9,IF(A236=$B$10,$F$10,IF(AND('Simulador Valora'!$AH$45=2,L235=0),D235*(1+Z236),IF($AM$3=2,B236*AL236,D235*(1+Z236))))))","v":0},null,0,null,0,null,{"$f":"IF(B236-H236=0,0,J234)","v":0},null,null,null,{"$f":"IF('Simulador Valora'!$V$66=1,0,L236*'Simulador Valora'!$O$69*'Simulador Valora'!$W$65)","v":0},null,0,null,0,null,{"$f":"IF(B236<=0,0,B236*IF('Simulador Valora'!$AC$81=1,0,'Simulador Valora'!$Y$75))","v":0},null,{"$f":"IF(B236<=0,0,IF('Simulador Valora'!$X$41=1,'Simulador Valora'!$O$55,IF('Simulador Valora'!$X$41=2,'Simulador Valora'!$K$55,'Simulador Valora'!$E$55)))","v":0},null,0,null,null,null,0,0.12,0,0,0,0,0,{"$f":"IF(AD236<=0,0,AD236*IF('Simulador Valora'!$AC$81=1,0,'Simulador Valora'!$Y$75))+IF(AD236<=0,0,IF('Simulador Valora'!$X$41=1,'Simulador Valora'!$O$55,IF('Simulador Valora'!$X$41=2,'Simulador Valora'!$K$55,'Simulador Valora'!$E$55)))","v":0},null,0,0,null,18,4,0,0,0,{"$f":"IFERROR(IF(AC236<=0.01,0,AS235-1),0)","v":21},"",0,220]
[221,0,null,{"$f":"IF(B237+F237-D236<=0,B237+F237,IF(A237=$B$9,$F$9,IF(A237=$B$10,$F$10,IF(AND('Simulador Valora'!$AH$45=2,L236=0),D236*(1+Z237),IF($AM$3=2,B237*AL237,D236*(1+Z237))))))","v":0},null,0,null,0,null,null,null,null,null,{"$f":"IF('Simulador Valora'!$V$66=1,0,L237*'Simulador Valora'!$O$69*'Simulador Valora'!$W$65)","v":0},null,0,null,0,null,{"$f":"IF(B237<=0,0,B237*IF('Simulador Valora'!$AC$81=1,0,'Simulador Valora'!$Y$75))","v":0},null,{"$f":"IF(B237<=0,0,IF('Simulador Valora'!$X$41=1,'Simulador Valora'!$O$55,IF('Simulador Valora'!$X$41=2,'Simulador Valora'!$K$55,'Simulador Valora'!$E$55)))","v":0},null,0,null,null,null,0,0.12,0,0,0,0,0,{"$f":"IF(AD237<=0,0,AD237*IF('Simulador Valora'!$AC$81=1,0,'Simulador Valora'!$Y$75))+IF(AD237<=0,0,IF('Simulador Valora'!$X$41=1,'Simulador Valora'!$O$55,IF('Simulador Valora'!$X$41=2,'Simulador Valora'!$K$55,'Simulador Valora'!$E$55)))","v":0},null,0,0,null,18,5,0,0,0,20,"",0,221]
[222,0,null,{"$f":"IF(B238+F238-D237<=0,B238+F238,IF(A238=$B$9,$F$9,IF(A238=$B$10,$F$10,IF(AND('Simulador Valora'!$AH$45=2,L237=0),D237*(1+Z238),IF($AM$3=2,B238*AL238,D237*(1+Z238))))))","v":0},null,0,null,0,null,{"$f":"IF(B238-H238=0,0,J236)","v":0},null,null,null,{"$f":"IF('Simulador Valora'!$V$66=1,0,L238*'Simulador Valora'!$O$69*'Simulador Valora'!$W$65)","v":0},null,0,null,0,null,{"$f":"IF(B238<=0,0,B238*IF('Simulador Valora'!$AC$81=1,0,'Simulador Valora'!$Y$75))","v":0},null,{"$f":"IF(B238<=0,0,IF('Simulador Valora'!$X$41=1,'Simulador Valora'!$O$55,IF('Simulador Valora'!$X$41=2,'Simulador Valora'!$K$55,'Simulador Valora'!$E$55)))","v":0},null,0,null,null,null,0,0.12,0,0,0,0,0,{"$f":"IF(AD238<=0,0,AD238*IF('Simulador Valora'!$AC$81=1,0,'Simulador Valora'!$Y$75))+IF(AD238<=0,0,IF('Simulador Valora'!$X$41=1,'Simulador Valora'!$O$55,IF('Simulador Valora'!$X$41=2,'Simulador Valora'!$K$55,'Simulador Valora'!$E$55)))","v":0},null,0,0,null,18,6,0,0,0,19,"",0,222]
[223,0,null,{"$f":"IF(B239+F239-D238<=0,B239+F239,IF(A239=$B$9,$F$9,IF(A239=$B$10,$F$10,IF(AND('Simulador Valora'!$AH$45=2,L238=0),D238*(1+Z239),IF($AM$3=2,B239*AL239,D238*(1+Z239))))))","v":0},null,0,null,0,null,null,null,null,null,{"$f":"IF('Simulador Valora'!$V$66=1,0,L239*'Simulador Valora'!$O$69*'Simulador Valora'!$W$65)","v":0},null,0,null,0,null,{"$f":"IF(B239<=0,0,B239*IF('Simulador Valora'!$AC$81=1,0,'Simulador Valora'!$Y$75))","v":0},null,{"$f":"IF(B239<=0,0,IF('Simulador Valora'!$X$41=1,'Simulador Valora'!$O$55,IF('Simulador Valora'!$X$41=2,'Simulador Valora'!$K$55,'Simulador Valora'!$E$55)))","v":0},null,0,null,null,null,0,0.12,0,0,0,0,0,{"$f":"IF(AD239<=0,0,AD239*IF('Simulador Valora'!$AC$81=1,0,'Simulador Valora'!$Y$75))+IF(AD239<=0,0,IF('Simulador Valora'!$X$41=1,'Simulador Valora'!$O$55,IF('Simulador Valora'!$X$41=2,'Simulador Valora'!$K$55,'Simulador Valora'!$E$55)))","v":0},null,0,0,null,18,7,0,0,0,18,"",0,223]
[224,0,null,{"$f":"IF(B240+F240-D239<=0,B240+F240,IF(A240=$B$9,$F$9,IF(A240=$B$10,$F$10,IF(AND('Simulador Valora'!$AH$45=2,L239=0),D239*(1+Z240),IF($AM$3=2,B240*AL240,D239*(1+Z240))))))","v":0},null,0,null,0,null,{"$f":"IF(B240-H240=0,0,J238)","v":0},null,null,null,{"$f":"IF('Simulador Valora'!$V$66=1,0,L240*'Simulador Valora'!$O$69*'Simulador Valora'!$W$65)","v":0},null,0,null,0,null,{"$f":"IF(B240<=0,0,B240*IF('Simulador Valora'!$AC$81=1,0,'Simulador Valora'!$Y$75))","v":0},null,{"$f":"IF(B240<=0,0,IF('Simulador Valora'!$X$41=1,'Simulador Valora'!$O$55,IF('Simulador Valora'!$X$41=2,'Simulador Valora'!$K$55,'Simulador Valora'!$E$55)))","v":0},null,0,null,null,null,0,0.12,0,0,0,0,0,{"$f":"IF(AD240<=0,0,AD240*IF('Simulador Valora'!$AC$81=1,0,'Simulador Valora'!$Y$75))+IF(AD240<=0,0,IF('Simulador Valora'!$X$41=1,'Simulador Valora'!$O$55,IF('Simulador Valora'!$X$41=2,'Simulador Valora'!$K$55,'Simulador Valora'!$E$55)))","v":0},null,0,0,null,18,8,0,0,0,17,"",0,224]
[225,0,null,{"$f":"IF(B241+F241-D240<=0,B241+F241,IF(A241=$B$9,$F$9,IF(A241=$B$10,$F$10,IF(AND('Simulador Valora'!$AH$45=2,L240=0),D240*(1+Z241),IF($AM$3=2,B241*AL241,D240*(1+Z241))))))","v":0},null,0,null,0,null,null,null,null,null,{"$f":"IF('Simulador Valora'!$V$66=1,0,L241*'Simulador Valora'!$O$69*'Simulador Valora'!$W$65)","v":0},null,0,null,0,null,{"$f":"IF(B241<=0,0,B241*IF('Simulador Valora'!$AC$81=1,0,'Simulador Valora'!$Y$75))","v":0},null,{"$f":"IF(B241<=0,0,IF('Simulador Valora'!$X$41=1,'Simulador Valora'!$O$55,IF('Simulador Valora'!$X$41=2,'Simulador Valora'!$K$55,'Simulador Valora'!$E$55)))","v":0},null,0,null,null,null,0,0.12,0,0,0,0,0,{"$f":"IF(AD241<=0,0,AD241*IF('Simulador Valora'!$AC$81=1,0,'Simulador Valora'!$Y$75))+IF(AD241<=0,0,IF('Simulador Valora'!$X$41=1,'Simulador Valora'!$O$55,IF('Simulador Valora'!$X$41=2,'Simulador Valora'!$K$55,'Simulador Valora'!$E$55)))","v":0},null,0,0,null,18,9,0,0,0,16,"",0,225]
[226,0,null,{"$f":"IF(B242+F242-D241<=0,B242+F242,IF(A242=$B$9,$F$9,IF(A242=$B$10,$F$10,IF(AND('Simulador Valora'!$AH$45=2,L241=0),D241*(1+Z242),IF($AM$3=2,B242*AL242,D241*(1+Z242))))))","v":0},null,0,null,0,null,{"$f":"IF(B242-H242=0,0,J240)","v":0},null,null,null,{"$f":"IF('Simulador Valora'!$V$66=1,0,L242*'Simulador Valora'!$O$69*'Simulador Valora'!$W$65)","v":0},null,0,null,0,null,{"$f":"IF(B242<=0,0,B242*IF('Simulador Valora'!$AC$81=1,0,'Simulador Valora'!$Y$75))","v":0},null,{"$f":"IF(B242<=0,0,IF('Simulador Valora'!$X$41=1,'Simulador Valora'!$O$55,IF('Simulador Valora'!$X$41=2,'Simulador Valora'!$K$55,'Simulador Valora'!$E$55)))","v":0},null,0,null,null,null,0,0.12,0,0,0,0,0,{"$f":"IF(AD242<=0,0,AD242*IF('Simulador Valora'!$AC$81=1,0,'Simulador Valora'!$Y$75))+IF(AD242<=0,0,IF('Simulador Valora'!$X$41=1,'Simulador Valora'!$O$55,IF('Simulador Valora'!$X$41=2,'Simulador Valora'!$K$55,'Simulador Valora'!$E$55)))","v":0},null,0,0,null,18,10,0,0,0,15,"",0,226]
[227,0,null,{"$f":"IF(B243+F243-D242<=0,B243+F243,IF(A243=$B$9,$F$9,IF(A243=$B$10,$F$10,IF(AND('Simulador Valora'!$AH$45=2,L242=0),D242*(1+Z243),IF($AM$3=2,B243*AL243,D242*(1+Z243))))))","v":0},null,0,null,0,null,null,null,null,null,{"$f":"IF('Simulador Valora'!$V$66=1,0,L243*'Simulador Valora'!$O$69*'Simulador Valora'!$W$65)","v":0},null,0,null,0,null,{"$f":"IF(B243<=0,0,B243*IF('Simulador Valora'!$AC$81=1,0,'Simulador Valora'!$Y$75))","v":0},null,{"$f":"IF(B243<=0,0,IF('Simulador Valora'!$X$41=1,'Simulador Valora'!$O$55,IF('Simulador Valora'!$X$41=2,'Simulador Valora'!$K$55,'Simulador Valora'!$E$55)))","v":0},null,0,null,null,null,0,0.12,0,0,0,0,0,{"$f":"IF(AD243<=0,0,AD243*IF('Simulador Valora'!$AC$81=1,0,'Simulador Valora'!$Y$75))+IF(AD243<=0,0,IF('Simulador Valora'!$X$41=1,'Simulador Valora'!$O$55,IF('Simulador Valora'!$X$41=2,'Simulador Valora'!$K$55,'Simulador Valora'!$E$55)))","v":0},null,0,0,null,18,11,0,0,0,14,"",0,227]
[228,0,null,{"$f":"IF(B244+F244-D243<=0,B244+F244,IF(A244=$B$9,$F$9,IF(A244=$B$10,$F$10,IF(AND('Simulador Valora'!$AH$45=2,L243=0),D243*(1+Z244),IF($AM$3=2,B244*AL244,D243*(1+Z244))))))","v":0},null,0,null,0,null,{"$f":"IF(B244-H244=0,0,J242)","v":0},null,null,null,{"$f":"IF('Simulador Valora'!$V$66=1,0,L244*'Simulador Valora'!$O$69*'Simulador Valora'!$W$65)","v":0},null,0,null,0,null,{"$f":"IF(B244<=0,0,B244*IF('Simulador Valora'!$AC$81=1,0,'Simulador Valora'!$Y$75))","v":0},null,{"$f":"IF(B244<=0,0,IF('Simulador Valora'!$X$41=1,'Simulador Valora'!$O$55,IF('Simulador Valora'!$X$41=2,'Simulador Valora'!$K$55,'Simulador Valora'!$E$55)))","v":0},null,0,null,null,null,0,0.12,0,0,0,0,0,{"$f":"IF(AD244<=0,0,AD244*IF('Simulador Valora'!$AC$81=1,0,'Simulador Valora'!$Y$75))+IF(AD244<=0,0,IF('Simulador Valora'!$X$41=1,'Simulador Valora'!$O$55,IF('Simulador Valora'!$X$41=2,'Simulador Valora'!$K$55,'Simulador Valora'!$E$55)))","v":0},null,0,0,null,19,0,0,0,0,13,"",0,228]
[229,0,null,{"$f":"IF(B245+F245-D244<=0,B245+F245,IF(A245=$B$9,$F$9,IF(A245=$B$10,$F$10,IF(AND('Simulador Valora'!$AH$45=2,L244=0),D244*(1+Z245),IF($AM$3=2,B245*AL245,D244*(1+Z245))))))","v":0},null,0,null,0,null,null,null,null,null,{"$f":"IF('Simulador Valora'!$V$66=1,0,L245*'Simulador Valora'!$O$69*'Simulador Valora'!$W$65)","v":0},null,0,null,0,null,{"$f":"IF(B245<=0,0,B245*IF('Simulador Valora'!$AC$81=1,0,'Simulador Valora'!$Y$75))","v":0},null,{"$f":"IF(B245<=0,0,IF('Simulador Valora'!$X$41=1,'Simulador Valora'!$O$55,IF('Simulador Valora'!$X$41=2,'Simulador Valora'!$K$55,'Simulador Valora'!$E$55)))","v":0},null,0,null,{"$f":"IF(B245<=0,0,'Simulador Valora'!$AI$54)","v":0},null,0,{"$f":"IF(AC244=$AC$6,AC244,IF(AC244=$AC$5,AC244,AC244-0.25%))","v":0.12},0,0,0,0,0,{"$f":"IF(AD245<=0,0,AD245*IF('Simulador Valora'!$AC$81=1,0,'Simulador Valora'!$Y$75))+IF(AD245<=0,0,IF('Simulador Valora'!$X$41=1,'Simulador Valora'!$O$55,IF('Simulador Valora'!$X$41=2,'Simulador Valora'!$K$55,'Simulador Valora'!$E$55)))","v":0},{"$f":"IF(AC245<=0,0,$AJ$29)","v":0},0,0,null,19,1,0,0,0,12,"",0,229]
[230,0,null,{"$f":"IF(B246+F246-D245<=0,B246+F246,IF(A246=$B$9,$F$9,IF(A246=$B$10,$F$10,IF(AND('Simulador Valora'!$AH$45=2,L245=0),D245*(1+Z246),IF($AM$3=2,B246*AL246,D245*(1+Z246))))))","v":0},null,0,null,0,null,{"$f":"IF(B246-H246=0,0,J244*(1+(3%)))","v":0},null,null,null,{"$f":"IF('Simulador Valora'!$V$66=1,0,L246*'Simulador Valora'!$O$69*'Simulador Valora'!$W$65)","v":0},null,0,null,0,null,{"$f":"IF(B246<=0,0,B246*IF('Simulador Valora'!$AC$81=1,0,'Simulador Valora'!$Y$75))","v":0},null,{"$f":"IF(B246<=0,0,IF('Simulador Valora'!$X$41=1,'Simulador Valora'!$O$55,IF('Simulador Valora'!$X$41=2,'Simulador Valora'!$K$55,'Simulador Valora'!$E$55)))","v":0},null,0,null,null,null,0,{"$f":"AC245","v":0.12},0,0,0,0,0,{"$f":"IF(AD246<=0,0,AD246*IF('Simulador Valora'!$AC$81=1,0,'Simulador Valora'!$Y$75))+IF(AD246<=0,0,IF('Simulador Valora'!$X$41=1,'Simulador Valora'!$O$55,IF('Simulador Valora'!$X$41=2,'Simulador Valora'!$K$55,'Simulador Valora'!$E$55)))","v":0},null,0,0,null,19,2,0,0,0,11,"",0,230]
[231,0,null,{"$f":"IF(B247+F247-D246<=0,B247+F247,IF(A247=$B$9,$F$9,IF(A247=$B$10,$F$10,IF(AND('Simulador Valora'!$AH$45=2,L246=0),D246*(1+Z247),IF($AM$3=2,B247*AL247,D246*(1+Z247))))))","v":0},null,0,null,0,null,null,null,null,null,{"$f":"IF('Simulador Valora'!$V$66=1,0,L247*'Simulador Valora'!$O$69*'Simulador Valora'!$W$65)","v":0},null,0,null,0,null,{"$f":"IF(B247<=0,0,B247*IF('Simulador Valora'!$AC$81=1,0,'Simulador Valora'!$Y$75))","v":0},null,{"$f":"IF(B247<=0,0,IF('Simulador Valora'!$X$41=1,'Simulador Valora'!$O$55,IF('Simulador Valora'!$X$41=2,'Simulador Valora'!$K$55,'Simulador Valora'!$E$55)))","v":0},null,0,null,null,null,0,{"$f":"AC246","v":0.12},0,0,0,0,0,{"$f":"IF(AD247<=0,0,AD247*IF('Simulador Valora'!$AC$81=1,0,'Simulador Valora'!$Y$75))+IF(AD247<=0,0,IF('Simulador Valora'!$X$41=1,'Simulador Valora'!$O$55,IF('Simulador Valora'!$X$41=2,'Simulador Valora'!$K$55,'Simulador Valora'!$E$55)))","v":0},null,0,0,null,19,3,0,0,0,10,"",0,231]
[232,0,null,{"$f":"IF(B248+F248-D247<=0,B248+F248,IF(A248=$B$9,$F$9,IF(A248=$B$10,$F$10,IF(AND('Simulador Valora'!$AH$45=2,L247=0),D247*(1+Z248),IF($AM$3=2,B248*AL248,D247*(1+Z248))))))","v":0},null,0,null,0,null,{"$f":"IF(B248-H248=0,0,J246)","v":0},null,null,null,{"$f":"IF('Simulador Valora'!$V$66=1,0,L248*'Simulador Valora'!$O$69*'Simulador Valora'!$W$65)","v":0},null,0,null,0,null,{"$f":"IF(B248<=0,0,B248*IF('Simulador Valora'!$AC$81=1,0,'Simulador Valora'!$Y$75))","v":0},null,{"$f":"IF(B248<=0,0,IF('Simulador Valora'!$X$41=1,'Simulador Valora'!$O$55,IF('Simulador Valora'!$X$41=2,'Simulador Valora'!$K$55,'Simulador Valora'!$E$55)))","v":0},null,0,null,null,null,0,0.12,0,0,0,0,0,{"$f":"IF(AD248<=0,0,AD248*IF('Simulador Valora'!$AC$81=1,0,'Simulador Valora'!$Y$75))+IF(AD248<=0,0,IF('Simulador Valora'!$X$41=1,'Simulador Valora'!$O$55,IF('Simulador Valora'!$X$41=2,'Simulador Valora'!$K$55,'Simulador Valora'!$E$55)))","v":0},null,0,0,null,19,4,0,0,0,9,"",0,232]
[233,0,null,{"$f":"IF(B249+F249-D248<=0,B249+F249,IF(A249=$B$9,$F$9,IF(A249=$B$10,$F$10,IF(AND('Simulador Valora'!$AH$45=2,L248=0),D248*(1+Z249),IF($AM$3=2,B249*AL249,D248*(1+Z249))))))","v":0},null,0,null,0,null,null,null,null,null,{"$f":"IF('Simulador Valora'!$V$66=1,0,L249*'Simulador Valora'!$O$69*'Simulador Valora'!$W$65)","v":0},null,0,null,0,null,{"$f":"IF(B249<=0,0,B249*IF('Simulador Valora'!$AC$81=1,0,'Simulador Valora'!$Y$75))","v":0},null,{"$f":"IF(B249<=0,0,IF('Simulador Valora'!$X$41=1,'Simulador Valora'!$O$55,IF('Simulador Valora'!$X$41=2,'Simulador Valora'!$K$55,'Simulador Valora'!$E$55)))","v":0},null,0,null,null,null,0,0.12,0,0,0,0,0,{"$f":"IF(AD249<=0,0,AD249*IF('Simulador Valora'!$AC$81=1,0,'Simulador Valora'!$Y$75))+IF(AD249<=0,0,IF('Simulador Valora'!$X$41=1,'Simulador Valora'!$O$55,IF('Simulador Valora'!$X$41=2,'Simulador Valora'!$K$55,'Simulador Valora'!$E$55)))","v":0},null,0,0,null,19,5,0,0,0,8,"",0,233]
[234,0,null,{"$f":"IF(B250+F250-D249<=0,B250+F250,IF(A250=$B$9,$F$9,IF(A250=$B$10,$F$10,IF(AND('Simulador Valora'!$AH$45=2,L249=0),D249*(1+Z250),IF($AM$3=2,B250*AL250,D249*(1+Z250))))))","v":0},null,0,null,0,null,{"$f":"IF(B250-H250=0,0,J248)","v":0},null,null,null,{"$f":"IF('Simulador Valora'!$V$66=1,0,L250*'Simulador Valora'!$O$69*'Simulador Valora'!$W$65)","v":0},null,0,null,0,null,{"$f":"IF(B250<=0,0,B250*IF('Simulador Valora'!$AC$81=1,0,'Simulador Valora'!$Y$75))","v":0},null,{"$f":"IF(B250<=0,0,IF('Simulador Valora'!$X$41=1,'Simulador Valora'!$O$55,IF('Simulador Valora'!$X$41=2,'Simulador Valora'!$K$55,'Simulador Valora'!$E$55)))","v":0},null,0,null,null,null,0,0.12,0,0,0,0,0,{"$f":"IF(AD250<=0,0,AD250*IF('Simulador Valora'!$AC$81=1,0,'Simulador Valora'!$Y$75))+IF(AD250<=0,0,IF('Simulador Valora'!$X$41=1,'Simulador Valora'!$O$55,IF('Simulador Valora'!$X$41=2,'Simulador Valora'!$K$55,'Simulador Valora'!$E$55)))","v":0},null,0,0,null,19,6,0,0,0,7,"",0,234]
[235,0,null,{"$f":"IF(B251+F251-D250<=0,B251+F251,IF(A251=$B$9,$F$9,IF(A251=$B$10,$F$10,IF(AND('Simulador Valora'!$AH$45=2,L250=0),D250*(1+Z251),IF($AM$3=2,B251*AL251,D250*(1+Z251))))))","v":0},null,0,null,0,null,null,null,null,null,{"$f":"IF('Simulador Valora'!$V$66=1,0,L251*'Simulador Valora'!$O$69*'Simulador Valora'!$W$65)","v":0},null,0,null,0,null,{"$f":"IF(B251<=0,0,B251*IF('Simulador Valora'!$AC$81=1,0,'Simulador Valora'!$Y$75))","v":0},null,{"$f":"IF(B251<=0,0,IF('Simulador Valora'!$X$41=1,'Simulador Valora'!$O$55,IF('Simulador Valora'!$X$41=2,'Simulador Valora'!$K$55,'Simulador Valora'!$E$55)))","v":0},null,0,null,null,null,0,0.12,0,0,0,0,0,{"$f":"IF(AD251<=0,0,AD251*IF('Simulador Valora'!$AC$81=1,0,'Simulador Valora'!$Y$75))+IF(AD251<=0,0,IF('Simulador Valora'!$X$41=1,'Simulador Valora'!$O$55,IF('Simulador Valora'!$X$41=2,'Simulador Valora'!$K$55,'Simulador Valora'!$E$55)))","v":0},null,0,0,null,19,7,0,0,0,6,"",0,235]
[236,0,null,{"$f":"IF(B252+F252-D251<=0,B252+F252,IF(A252=$B$9,$F$9,IF(A252=$B$10,$F$10,IF(AND('Simulador Valora'!$AH$45=2,L251=0),D251*(1+Z252),IF($AM$3=2,B252*AL252,D251*(1+Z252))))))","v":0},null,0,null,0,null,{"$f":"IF(B252-H252=0,0,J250)","v":0},null,null,null,{"$f":"IF('Simulador Valora'!$V$66=1,0,L252*'Simulador Valora'!$O$69*'Simulador Valora'!$W$65)","v":0},null,0,null,0,null,{"$f":"IF(B252<=0,0,B252*IF('Simulador Valora'!$AC$81=1,0,'Simulador Valora'!$Y$75))","v":0},null,{"$f":"IF(B252<=0,0,IF('Simulador Valora'!$X$41=1,'Simulador Valora'!$O$55,IF('Simulador Valora'!$X$41=2,'Simulador Valora'!$K$55,'Simulador Valora'!$E$55)))","v":0},null,0,null,null,null,0,0.12,0,0,0,0,0,{"$f":"IF(AD252<=0,0,AD252*IF('Simulador Valora'!$AC$81=1,0,'Simulador Valora'!$Y$75))+IF(AD252<=0,0,IF('Simulador Valora'!$X$41=1,'Simulador Valora'!$O$55,IF('Simulador Valora'!$X$41=2,'Simulador Valora'!$K$55,'Simulador Valora'!$E$55)))","v":0},null,0,0,null,19,8,0,0,0,5,"",0,236]
[237,0,null,{"$f":"IF(B253+F253-D252<=0,B253+F253,IF(A253=$B$9,$F$9,IF(A253=$B$10,$F$10,IF(AND('Simulador Valora'!$AH$45=2,L252=0),D252*(1+Z253),IF($AM$3=2,B253*AL253,D252*(1+Z253))))))","v":0},null,0,null,0,null,null,null,null,null,{"$f":"IF('Simulador Valora'!$V$66=1,0,L253*'Simulador Valora'!$O$69*'Simulador Valora'!$W$65)","v":0},null,0,null,0,null,{"$f":"IF(B253<=0,0,B253*IF('Simulador Valora'!$AC$81=1,0,'Simulador Valora'!$Y$75))","v":0},null,{"$f":"IF(B253<=0,0,IF('Simulador Valora'!$X$41=1,'Simulador Valora'!$O$55,IF('Simulador Valora'!$X$41=2,'Simulador Valora'!$K$55,'Simulador Valora'!$E$55)))","v":0},null,0,null,null,null,0,0.12,0,0,0,0,0,{"$f":"IF(AD253<=0,0,AD253*IF('Simulador Valora'!$AC$81=1,0,'Simulador Valora'!$Y$75))+IF(AD253<=0,0,IF('Simulador Valora'!$X$41=1,'Simulador Valora'!$O$55,IF('Simulador Valora'!$X$41=2,'Simulador Valora'!$K$55,'Simulador Valora'!$E$55)))","v":0},null,0,0,null,19,9,0,0,0,4,"",0,237]
[238,0,null,{"$f":"IF(B254+F254-D253<=0,B254+F254,IF(A254=$B$9,$F$9,IF(A254=$B$10,$F$10,IF(AND('Simulador Valora'!$AH$45=2,L253=0),D253*(1+Z254),IF($AM$3=2,B254*AL254,D253*(1+Z254))))))","v":0},null,0,null,0,null,{"$f":"IF(B254-H254=0,0,J252)","v":0},null,null,null,{"$f":"IF('Simulador Valora'!$V$66=1,0,L254*'Simulador Valora'!$O$69*'Simulador Valora'!$W$65)","v":0},null,0,null,0,null,{"$f":"IF(B254<=0,0,B254*IF('Simulador Valora'!$AC$81=1,0,'Simulador Valora'!$Y$75))","v":0},null,{"$f":"IF(B254<=0,0,IF('Simulador Valora'!$X$41=1,'Simulador Valora'!$O$55,IF('Simulador Valora'!$X$41=2,'Simulador Valora'!$K$55,'Simulador Valora'!$E$55)))","v":0},null,0,null,null,null,0,0.12,0,0,0,0,0,{"$f":"IF(AD254<=0,0,AD254*IF('Simulador Valora'!$AC$81=1,0,'Simulador Valora'!$Y$75))+IF(AD254<=0,0,IF('Simulador Valora'!$X$41=1,'Simulador Valora'!$O$55,IF('Simulador Valora'!$X$41=2,'Simulador Valora'!$K$55,'Simulador Valora'!$E$55)))","v":0},null,0,0,null,19,10,0,0,0,3,"",0,238]
[239,0,null,{"$f":"IF(B255+F255-D254<=0,B255+F255,IF(A255=$B$9,$F$9,IF(A255=$B$10,$F$10,IF(AND('Simulador Valora'!$AH$45=2,L254=0),D254*(1+Z255),IF($AM$3=2,B255*AL255,D254*(1+Z255))))))","v":0},null,0,null,0,null,null,null,null,null,{"$f":"IF('Simulador Valora'!$V$66=1,0,L255*'Simulador Valora'!$O$69*'Simulador Valora'!$W$65)","v":0},null,0,null,0,null,{"$f":"IF(B255<=0,0,B255*IF('Simulador Valora'!$AC$81=1,0,'Simulador Valora'!$Y$75))","v":0},null,{"$f":"IF(B255<=0,0,IF('Simulador Valora'!$X$41=1,'Simulador Valora'!$O$55,IF('Simulador Valora'!$X$41=2,'Simulador Valora'!$K$55,'Simulador Valora'!$E$55)))","v":0},null,0,null,null,null,0,0.12,0,0,0,0,0,{"$f":"IF(AD255<=0,0,AD255*IF('Simulador Valora'!$AC$81=1,0,'Simulador Valora'!$Y$75))+IF(AD255<=0,0,IF('Simulador Valora'!$X$41=1,'Simulador Valora'!$O$55,IF('Simulador Valora'!$X$41=2,'Simulador Valora'!$K$55,'Simulador Valora'!$E$55)))","v":0},null,0,0,null,19,11,0,0,0,2,"",0,239]
[240,0,null,{"$f":"IF(B256+F256-D255<=0,B256+F256,IF(A256=$B$9,$F$9,IF(A256=$B$10,$F$10,IF(AND('Simulador Valora'!$AH$45=2,L255=0),D255*(1+Z256),IF($AM$3=2,B256*AL256,D255*(1+Z256))))))","v":0},null,0,null,0,null,{"$f":"IF(B256-H256=0,0,J254)","v":0},null,null,null,{"$f":"IF('Simulador Valora'!$V$66=1,0,L256*'Simulador Valora'!$O$69*'Simulador Valora'!$W$65)","v":0},null,0,null,0,null,{"$f":"IF(B256<=0,0,B256*IF('Simulador Valora'!$AC$81=1,0,'Simulador Valora'!$Y$75))","v":0},null,{"$f":"IF(B256<=0,0,IF('Simulador Valora'!$X$41=1,'Simulador Valora'!$O$55,IF('Simulador Valora'!$X$41=2,'Simulador Valora'!$K$55,'Simulador Valora'!$E$55)))","v":0},null,0,null,null,null,0,0.12,0,0,0,0,0,{"$f":"IF(AD256<=0,0,AD256*IF('Simulador Valora'!$AC$81=1,0,'Simulador Valora'!$Y$75))+IF(AD256<=0,0,IF('Simulador Valora'!$X$41=1,'Simulador Valora'!$O$55,IF('Simulador Valora'!$X$41=2,'Simulador Valora'!$K$55,'Simulador Valora'!$E$55)))","v":0},null,0,0,null,20,0,0,0,0,1,"",0,240]
[null,null,null,"Erogación \n(a+b)",null,"Interés \n(a)",null,"Amortización (b)",null,null,null,"Prepagos a capital (c)",null,null,null,null,null,null,null,"Seguro de \nvida y desempleo (d)",null,"Seguro de daños \n(e)",null,"Pago Mensual (a+b+c+d+e)"]
[null,null,null,{"$f":"SUM(D17:D256)","v":0},null,{"$f":"SUM(F17:F256)","v":0},null,{"$f":"SUM(H17:H256)","v":0},null,null,null,{"$f":"SUM(L17:L256)","v":0},null,null,null,null,null,null,null,{"$f":"SUM(T17:T256)","v":0},null,{"$f":"SUM(V17:V256)","v":0},null,{"$f":"SUM(X17:X256)","v":0}]
[]
[null,null,null,null,null,null,null,null,null,null,null,null,null,null,null,null,null,null,null,null,null,null,null,{"$f":"SUM(X17:X257)","v":0}]

{"sheet":"Exclusivo Bco Carta Bienvenida","index":2,"n_rows":63,"n_cols":18,"rows_kept":63,"cut":false,"hidden":true,"merged":[[17,6,17,7]]}
["Liga para obtener certificado vida",null,null,"Certificado de seguro de vida"]
["Liga para obtener certificado daños",null,null,"Certificado de seguro de daños"]
["Liga para obtener certificado obra civil",null,null,"Certificado de seguro obra civil"]
["Datos de entrada"]
["Fecha de Operación (cuando se depositó el crédito):",null,null,null,null,"(DD/MM/AAAA)",null,null,null,null,null,null,null,"Crédito",{"$f":"'Tabla Valora'!B17","v":0},null,"dia",{"$f":"DAY(E5)","v":0}]
["Numero de crédito:",null,null,null,null,null,null,null,null,null,null,null,null,"Tasa",{"$f":"'Tabla Valora'!P17","v":0},null,"Mes",{"$f":"MONTH(E5)","v":1}]
[null,null,null,null,null,null,null,null,null,null,null,null,null,"Fecha de vencimiento",{"$f":"VALUE(CONCATENATE(\"17\",\"-\",R7,\"-\",R9))","v":"1900-01-17"},null,"Mes siguiente",{"$f":"IF(R5<17,R6,IF(R6=12,1,R6+1))","v":1}]
[null,null,null,null,null,null,null,null,null,null,null,null,null,"Días transcurridos",{"$f":"O7-E5","v":17},null,"Año",{"$f":"YEAR(E5)","v":1900}]
[null,null,null,null,null,null,null,null,null,null,null,null,null,"Intereses",{"$f":"ROUND($O$5*O6/360*$O$8,2)","v":0},null,"Año siguiente",{"$f":"IF(AND(R6=12,R5>=17),R8+1,R8)","v":1900}]
["Para que los calculos de la carta sean correctos es necesario que en el simulador se simule el crédito autorizado y el esquema que el cliente escogió",null,null,null,null,null,null,null,null,null,null,null,null,"Seguro hipotecario",{"$f":"ROUND($O$5*E7/360*$O$8,2)","v":0}]
[null,null,null,null,null,null,null,null,null,null,null,null,null,"Total",{"$f":"IF(R5=17,0,O9+O10)","v":0}]
[]
[]
[]
[]
[]
[]
[null,null,null,null,null,null,{"$f":"E5","v":"00:00:00"}]
[]
[]
["Estimado (s) Clientes (s):"]
[]
["ScotiaBank lo(s) felicita por la adquisición de su nueva casa y se complace en ser parte importante de la"]
["consolidación de su patrimonio familiar, a través de su crédito hipotecario Scotiabank."]
[]
["A continuación le proporcionamos información importante relativa a su Financiamiento:"]
[]
[{"$f":"CONCATENATE(\"Su  número  de  crédito  es el No \",E6,\" que  le  servirá  como   referencia  para  cualquier  aclaración\")","v":"Su  número  de  crédito  es el No  que  le  servirá  como   referencia  para  cualquier  aclaración"}]
["futura  que  tenga  con  su  crédito, en  caso  de querer  realizar anticipos a capital, deberá abonar a este"]
["número a través de nuestra red de sucursales con cheque a favor de Scotiabank Inverlat S.A."]
[]
["La fecha de pago de sus mensualidades serán los días 17 de cada mes. Este pago lo realizará mediante"]
["cargo  automático  a  su  cuenta  de  cheques. Si  el  día de pago fuera inhábil, el cargo automático a su "]
["cuenta de cheques se realizará el día hábil inmediato siguiente."]
[]
["Le  recomendamos  depositar  el  importe de su pago mensual antes de la fecha de pago, especialmente"]
["si su depósito es con cheque de otro banco."]
[]
["Es   importante   mencionar   que  el  cálculo  del  seguro  de  daños  se  realiza  con  base  en  el  valor "]
["destructible  del  inmueble, por  lo que  es posible que difiera de las tablas de amortización que le hemos"]
["entregado, y además tenga variaciones en el tiempo."]
[]
[{"$f":"IF(R5=17,\"Su   primer   pago   deberá   ser   por   la   mensualidad   completa  que   se   establece  en  su  contrato\",\"El  importe  de  su  primer  pago  será  por  la  cantidad  de  $\"&TEXT(O11,\"#,##0.00\")&\" que  corresponden a  los intereses\")","v":"El  importe  de  su  primer  pago  será  por  la  cantidad  de  $0.00 que  corresponden a  los intereses"}]
[{"$f":"IF(R5=17,\"de crédito y que le será informada mediante su estado de cuenta.\",\"que se devengarán entre hoy y el próximo día 17.\")","v":"que se devengarán entre hoy y el próximo día 17."}]
[{"$f":"IF(AND(E7>0,R5<>17),\"Esta cantidad ya tiene incluida la parte proporcional de la prima de seguro de crédito a la vivienda\",\"\")","v":""}]
[]
["A  partir  de  este  momento, usted  cuenta  con  un  seguro  de  vida  e invalidez total y permanente, un "]
["seguro  de  obra  civil, durante  la  etapa  de  construcción  del  inmueble y un seguro de daños sobre la"]
["propiedad ya construida, anexo a la presente, las cartas de cobertura correspondientes."]
[]
["Si  por  algún  motivo no  recibiera  su  estado  de  cuenta  con oportunidad  o tuviera dudas relacionadas"]
["con   su   crédito,  le   sugerimos  llamar   a   nuestro   Centro  de  Atención  Telefónica  a  los  teléfonos"]
["5728-1900 para  el  D.F. y  para  el  interior  de  la  República,  sin  costo para usted, al 01-800-70459-00;"]
["donde con gusto le atenderán."]
[]
["Con su financiamiento Scotiabank, el hogar de sus sueños es hoy una realidad."]
[]
["Atentamente"]
[]
[]
[]
["Ejecutivo Especializado"]
["Crédito Hipotecario."]

{"sheet":"Oferta Vinculante","index":3,"n_rows":176,"n_cols":9,"rows_kept":176,"cut":false,"hidden":true,"merged":[[12,1,12,2],[14,1,14,4],[16,1,16,4],[72,0,72,5],[168,0,168,1],[45,1,45,3],[46,1,46,3],[50,1,50,3],[51,1,51,3],[56,1,56,3],[57,1,57,3],[58,1,58,3],[59,1,59,3]]}
[]
[]
[]
[]
[]
[]
["Scotiabank Inverlat, S.A.,"]
["Institución de Banca Múltiple, "]
["Grupo Financiero Scotiabank Inverlat                                                    "]
[null,"OFERTA VINCULANTE "]
[]
[]
["Lugar y Fecha:"]
[]
["Nombre del Solicitante y Cónyuge, en su caso:"]
[]
["Destino del crédito:","Adquisición de vivienda en proceso de construcción"]
[]
[]
["Importe del Crédito Solicitado:",{"$f":"'Tabla Valora'!H9","v":0}]
[]
["Valor Estimado de la garantía*:",null,"Aforo (máximo 80%)*:",null,{"$f":"B20/B22","v":{"$error":"#DIV/0!"}}]
[]
["Comisión por Apertura:",{"$f":"'Tabla Valora'!AK3","v":0},"Comisión por dictámen técnico:",null,{"$f":"'Tabla Valora'!AK5","v":0}]
[]
["Seguro de Vida:",{"$f":"B20*0.0005","v":0},"Seguro de Daños:",null,{"$f":"B22*0.0002623","v":0}]
[]
[null,null,"Gastos Notariales y"]
["Costo de Avalúo*:",{"$f":"'Tabla Valora'!AK4","v":0}," de Escrituración (Aprox):",null,{"$f":"B22*7%","v":0}]
[]
["*El valor real se conocerá hasta tener el avalúo correspondiente del inmueble"]
[]
["Condiciones del Crédito:"]
["Tasa de interés ordinaria anual: ",{"$f":"'Tabla Valora'!P17","v":0}," Fija inicial"]
["Tasa Moratoria anual:",{"$f":"B34*1.5","v":0}," Fija inicial"]
["Pago por cada mil pesos de préstamo:",{"$f":"#REF!","v":{"$error":"#REF!"}}," Inicial"]
["Plazo:",{"$f":"#REF!","v":{"$error":"#REF!"}}]
["Financiamiento Máximo (Aforo)",0.8]
["Costo Anual Total (1):",{"$f":"'Tabla Valora'!P13","v":0},null,null,null,null,null,null,5.0000000000000001E-4]
["Forma de Amortización:","Amortización mensual creciente"]
["Gastos Notariales y de Escrituración (Aproximados):",7.0000000000000007E-2,"sobre valor del inmueble"]
["Forma de entrega del préstamo","En parcialidades de acuerdo con los avances de obra que se fijen"]
[]
["Comisiones del Crédito:"]
[]
["Comisión por Apertura de Crédito (2)","2% sobre el importe de crédito autorizado."]
["Comisión por Pago Anticipado de Crédito (2)","3% más impuesto al valor agregado (I.V.A.) sobre el importe a anticipar"]
[]
["Comisiones Adicionales del Crédito:"]
[]
["Por copia de documento o certificación del estado de cuenta (copia del estado de cuenta, certificación del saldo, integración, amortización o desglose). Costo por hoja.","$25.00 (veinticinco pesos, moneda nacional) más el impuesto al valor agregado (I.V.A.)"]
["Por concepto de gastos de cobranza, por cada mensualidad no pagada","$350.00 (trescientos cincuenta pesos, moneda nacional) más el impuesto al valor agragado (I.V.A.)"]
["Nota: Las comisiones adicionales al crédito se cobrarán en caso de que el cliente solicite el servicio o incurra en ellos."]
[]
["Costos del Crédito:"]
[]
["Seguro de Vida","0.50 al millar sobre el saldo insoluto del crédito"]
["Seguro de Daños","0.2623 al millar sobre el valor de construcción"]
["Costo del Avalúo","Depende del valor del inmueble (ver tabla de costos anexa)"]
["Dictamen Técnico","1% sobre el monto del crédito autorizado, con un costo máximo de $12,000 y mínimo de $4,500."]
[]
[]
[]
["(1)Costo Anual Total (CAT promedio sin IVA)): factor que anualiza la  totalidad de los costos por el Crédito Garantizado (Hipotecario), incluyendo  seguro de vida y daños,"]
["avalúo, comisiones e intereses, excluyendo las contribuciones federales y locales, así como los costos correspondientes a trámites y servicios prestados por terceros."]
["Costo Anual Total de créditos denominados en moneda nacional a tasa fija para fines informativos y de comparación exclusivamente. Este CAT sólo es comprable con el"]
["CAT de otros créditos denominados en moneda nacional a tasa fija."]
[]
["(2) El cliente elige entre la comisión por apertura o la comisión por pagos anticipados, esta opción solo aplica para el esquema de Valora (I.V.A.: Impuesto al valor agregado)"]
[]
[]
[]
["Condiciones y Especificaciones de la Oferta Vinculante."]
[]
[]
[]
[]
[]
[]
[]
[]
[]
[]
[]
[]
[]
[]
[]
[]
[]
[]
[]
[]
[]
[]
[]
[]
[]
[]
[]
[]
[]
[]
[]
[]
[]
[]
[]
[]
[]
[]
[]
[]
[]
[]
[]
[]
[]
[]
[]
[]
[]
[]
[]
[]
[]
[]
[]
[]
[]
[]
[]
[]
[]
[]
[]
[]
[]
[]
[]
[]
[]
[]
[]
[]
[]
[]
[]
[]
[]
[]
[]
[]
[]
[]
[]
[]
[]
[]
[]
[]
[]
[]
[]
[]
[]
[]
[]
[{"$f":"#REF!","v":{"$error":"#REF!"}},null,null,{"$f":"B15","v":0}]
["Nombre del Ejecutivo",null,null,"Firma del Solicitante"]
[]
[]
[]
[]
[]
[null,"Fecha de Recepción"]

{"sheet":"Carat_Pre_VA","index":4,"n_rows":45,"n_cols":4,"rows_kept":45,"cut":false,"hidden":false,"merged":[[42,0,42,3],[43,0,43,3],[44,0,44,3],[36,0,36,3],[37,0,37,3],[38,0,38,3],[39,0,39,3],[40,0,40,3],[41,0,41,3],[35,0,35,3],[21,0,21,3],[22,0,22,3],[23,0,23,3],[24,0,24,3],[25,0,25,3],[34,0,34,3],[19,0,19,1],[19,2,19,3],[20,0,20,1],[20,2,20,3],[33,2,33,3],[30,2,32,3],[26,0,26,3],[17,1,17,3],[18,0,18,3],[1,0,1,3],[6,1,6,3],[7,0,7,3],[8,0,8,3],[16,1,16,3],[11,1,14,1]]}
[]
["Carátula de Crédito "]
[null,null,null,"Nombre del Acreditado y/o Coacreditado:"]
[null,null,null,{"$f":"IF('Simulador Valora'!C13=\"\",\"\",'Simulador Valora'!C13)","v":""}]
[null,null,null,"Número de Crédito:"]
[]
["Nombre comercial del producto: ",{"$f":"\"PREVENTA VALORA\"&\" \"&A18","v":"PREVENTA VALORA 20 Años"}]
[]
["Tipo de Crédito: Crédito Hipotecario "]
["CAT","TASA DE INTERES","MONTO O LINEA DE","MONTO TOTAL A PAGAR O"]
["(Costo Anual Total)","ANUAL ORDINARIA","CRÉDITO","MINIMO A PAGAR"]
[{"$f":"'Tabla Valora'!$P$13","v":0},{"$f":"IFERROR(IF('Simulador Valora'!$C$23=0,0,'Simulador Valora'!$AC$77),\"\")","v":0},{"$f":"'Simulador Valora'!$AC$78","v":0},{"$f":"IFERROR(SUM('Tabla Valora'!$X$17:$X$256),0)","v":0}]
["Sin IVA",null,null,"Moneda en"]
["Para fines",null,null,"Pesos"]
["informativos y de",null,null,"Mexicanos "]
["comparación","Tasa Fija"]
["PLAZO DEL CRÉDITO:","Fecha Límite de pago: \nSi tu fecha de corte es el día 3, tu fecha de pago es el día 3 de cada mes. \nSi tu fecha de corte es el día 17, tu fecha de pago es el día 17 de cada mes. "]
[{"$f":"'Simulador Valora'!$AC$76","v":"20 Años"},"Fecha de corte: \nSi tu fecha de disposición es entre el dia 3 y 16, tu fecha de corte será el día 3 de cada mes. \nSi tu fecha de disposición es entre el día 17 y 2, tu fecha de corte será el día 17 de cada mes."]
["COMISIONES RELEVANTES"]
[{"$f":"\"Apertura: \"&TEXT('Tabla Valora'!$AK$3,\"$###,###.00\")","v":"Apertura: $.00"},null,"Cobranza: $500.00 más IVA por pago tardío "]
[{"$f":"\"Prepago: \"&IF('Simulador Valora'!$V$66=1,\"0% \",\"3% \")&\"más IVA sobre el monto anticipado\"","v":"Prepago: 0% más IVA sobre el monto anticipado"},null,"Para otras comisiones consulte la cláusula décimo tercera"]
["ADVERTENCIAS"]
[]
["Incumplir tus obligaciones te puede generar comisiones e intereses moratorios. "]
["Contratar créditos por arriba de tu capacidad de pago puede afectar tu historial crediticio. "]
["El avalista, obligado solidario o coacreditado responderá como obligado principal por el total del pago frente a la Institución Financiera. "]
["SEGUROS"]
["Seguros Obligatorios:","Aseguradora:","Cláusulas:"]
[]
["Vida y Desempleo","Cardif México Seguros de Vida,          S.A. de C.V.","Vigésima Cuarta"]
[null,null,"Scotiabank Inverlat le ofrece al acreditado y/o coacreditado, la posibilidad de contratar a nombre de este (os) último(s) los seguros establecidos en la cláusula vigésima cuarta. Lo anterior sin perjuicio del derecho innegable que el cliente tiene de contratarlos a través de terceros."]
["Daños y Responsabilidad Civil","Cardif México Seguros Generales, S.A. de C.V."]
[]
[]
["ESTADO DE CUENTA"]
["Envío a Domicilio ü              Consulta vía Internet ___            Envío por Correo Electrónico ___"]
["Aclaraciones y reclamaciones:"]
["Unidad Especializada de Aclaraciones:"]
["Domicilio: Río Usumacinta S/N, esq. con Fernando Montes de Oca, Col. La Presita, Municipio de Cuautitlán Izcalli, Estado de México, C.P. 54763"]
["Teléfono: (55) 5123 0990"]
["Correo electrónico: une@scotiabank.com.mx"]
["Página de Internet: www.scotiabank.com.mx "]
[{"$f":"\"Registro de Contratos de Adhesión Núm:  \"&IF('Simulador Valora'!C23=0,\"\",IFERROR(VLOOKUP('Simulador Valora'!$AH$45&\"-1-1\",RECAS!$A$3:$D$6,4,0),\"Revisa los datos ingresados\"))","v":"Registro de Contratos de Adhesión Núm:  "}]
["Comisión Nacional para la Protección y Defensa de los Usuarios de Servicios Financieros (CONDUSEF):"]
["Teléfono: 800 999 8080 y (55) 5340 0999. Página de Internet. www.condusef.gob.mx "]

{"sheet":"Simulador Pagos Oportunos","index":5,"n_rows":92,"n_cols":46,"rows_kept":92,"cut":false,"hidden":false,"merged":[[38,8,38,15],[12,9,12,12],[42,4,42,6],[62,8,62,9],[62,14,62,15],[62,10,62,11],[62,12,62,13],[15,2,15,4],[15,9,15,12],[35,2,35,15],[36,2,36,15],[19,2,20,2],[2,2,2,15],[3,2,3,15],[9,2,9,4],[9,9,9,12],[12,2,12,4],[4,2,4,15]]}
[null,null,null,null,null,null,null,null,null,null,null,null,null,null,null,null,null,null,".",null,null,null,null,null,null,null,null,null,null,null,null,null,null,null,null,null,null,null,null,null,null,null,null,null,null,"."]
[]
[null,null,"SIMULADOR CREDITO HIPOTECARIO"]
[null,null,"FINANCIAMIENTO PARA ADQUISICION EN PREVENTA SCOTIABANK"]
[null,null,"PAGOS OPORTUNOS"]
[]
[null,null,{"$f":"TODAY()","v":"2025-04-10"}]
[]
[null,null,"Lugar",null,null,null,"Sucursal",null,null,"Sucursal"]
[null,null,null,null,null,null,"Princiapl"]
[]
[null,null,"Nombre del cliente / Conyuge en su caso.",null,null,null,null,null,null,"Ejecutivo / Broker que le atendió"]
[]
[]
[null,null,"Telefonos del cliente",null,null,null,null,null,null,"Teléfonos del ejecutivo"]
[]
[]
[null,null,"Paso 1",null,null,null,null,null,null,{"$f":"IF(AM66=1,\"Paso 3\",\"\")","v":"Paso 3"},null,null,null,null,{"$f":"IF(AM66=1,\"Paso 6\",\"Paso 5\")","v":"Paso 6"}]
[null,null,"Escoja su base de cálculo",null,null,null,null,null,null,{"$f":"IF(AM66=1,\"Escoja la opción de su interés:\",\"\")","v":"Escoja la opción de su interés:"},null,null,null,null,"Con Apoyo Infonavit:"]
[null,null,"Campaña"]
[null,null,null,null,null,null,null,null,null,null,null,null,null,null,{"$f":"IF(AND(AD46=1,AH45=2),\"Paso 7\",\"\")","v":"Paso 7"}]
[null,null,"Paso 2",null,null,null,null,null,null,{"$f":"IF(AM66=1,\"Comisión Manual por Apertura\",\"\")","v":"Comisión Manual por Apertura"},null,null,null,null,{"$f":"IF(AND(AD46=1,AH45=2),\"Teclee su sueldo bruto:\",\"\")","v":"Teclee su sueldo bruto:"}]
[null,null,null,null,null,null,null,null,null,{"$f":"IF(AM66=1,\"Paso 4\",\"Paso 3\")","v":"Paso 4"}]
[null,null,null,null,{"$f":"IF(AD46=1,\"Valor proyectado del inmueble (valor final)\",\"Ingresos brutos mensuales\")","v":"Valor proyectado del inmueble (valor final)"},null,null,null,null,"El cliente opta por seguros externos:"]
[null,null,null,null,{"$f":"IF(AD46=1,\"Enganche\",\"\")","v":"Enganche"}]
[null,null,{"$f":"IFERROR(IF(AND($AD$46=1,$C$25/$C$24<$AF$45),\"Se requiere un enganche mínimo del \"&AF45*100&\"%\",\"\"),\"\")","v":""},null,null,null,null,null,null,{"$f":"IF(AM66=1,\"Paso 5\",\"Paso 4\")","v":"Paso 5"}]
[null,null,{"$f":"IF(C24=\"\",\"\",\"Línea máxima a otorgar puede ser menor por perfil del cliente\")","v":""},null,null,null,null,null,null,"Actividad Económica"]
[null,null,{"$f":"IF(AND(AD46=1,C24=0,C25=0),\"\",IF(AND(AD46=1,C25>=C24),\"El enganche es más alto o igual que el valor del inmueble\",\"\"))","v":""}]
[]
[null,null,{"$f":"IF(AND(AD46=2,C24<$AC$81,C24>0),\"Los ingresos mínimos requeridos son $9,000\",\"\")","v":""}]
[]
[]
[null,null,null,null,"Valor Destructible del Inmueble (si conoce el dato)",null,null,null,null,null,null,null,null,null,null,null,null,null,null,null,null,null,"CAMPAÑA"]
[null,null,null,null,null,null,null,null,null,null,null,null,null,null,null,null,null,null,null,null,null,1,"Ninguna",null,null,null,null,"maximo monto",{"$f":"MAX(E49:P49)","v":0}]
[null,null,null,null,null,null,null,null,null,null,null,null,null,null,null,null,null,null,null,null,null,null,{"$f":"\"Premium / WM\"","v":"Premium / WM"},null,null,null,null,"LTV",{"$f":"O49/O47","v":{"$error":"#DIV/0!"}},{"$f":"M49/M47","v":{"$error":"#DIV/0!"}},{"$f":"K49/K47","v":{"$error":"#DIV/0!"}},{"$f":"I49/I47","v":{"$error":"#DIV/0!"}},null,{"$f":"MAX(AC35:AF35)","v":{"$error":"#DIV/0!"}}]
[null,null,"SIMULADOR CREDITO HIPOTECARIO",null,null,null,null,null,null,null,null,null,null,null,null,null,null,null,null,{"$f":"IF(OR(E47<500000,G47<500000,K47<500000,M47<500000,O47<500000),1,0)","v":1},null,null,"Vinculación"]
[null,null,"FINANCIAMIENTO PARA ADQUISICION EN PREVENTA SCOTIABANK"]
[null,null,null,null,null,null,null,null,null,null,null,null,null,null,null,null,null,null,null,{"$f":"IF(OR(E49<250000,G49<250000,K49<250000,M49<250000,O49<250000),1,0)","v":1}]
[null,null,null,null,null,null,null,null,"PAGOS OPORTUNOS",null,null,null,null,null,null,null,null,null,null,null,null,null,null,null,null,null,null,null,"Calculo de credito construcción"]
[null,null,null,null,null,null,null,null,null,null,null,null,null,null,null,null,null,null,null,null,null,null,null,null,null,null,null,null,{"$f":"(C24+C25)*0.5","v":0},null,{"$f":"IF(AND(AD46=1,C24>0,C25>0),C24-AC43,\"\")","v":""},null,"capital invertido"]
[null,null,"Plazo",null,null,null,null,null,"7 AÑOS",null,"10 AÑOS",null,"15 AÑOS",null,"20 AÑOS",null,null,null,null,null,"Esquemas",null,null,3,null,null,null,null,{"$f":"C24*0.75","v":0}]
[null,null,null,null,null,null,null,null,null,null,null,null,null,null,null,null,null,null,null,null,null,"Tasa Fija Pago Red 15",null,null,null,null,null,null,{"$f":"IF(AC40<AC41,AC40,AC41)","v":0},null,{"$f":"IFERROR(IF((C26+C25)<((C24+C25)*0.5),\"Se necesita mayor capital invertido\",\"\"),0)","v":0},null,null,1,null,null,null,null,null,null,null,null,null,null,1]
[null,null,"Tasa de Interés",null,null,null,null,null,{"$f":"\"1 año / \"&TEXT(AA55,\"0.00%\")&\n\"\n2 año / \"&TEXT(AA55-0.002,\"0.00%\")&\n\"\n3 año / \"&TEXT(AA55-0.004,\"0.00%\")&\n\"\n4 año / \"&TEXT(AA55-0.006,\"0.00%\")&\n\"\n5 al 7 / \"&TEXT(AA55-0.0075,\"0.00%\")","v":"1 año / 13.00%\n2 año / 12.80%\n3 año / 12.60%\n4 año / 12.40%\n5 al 7 / 12.25%"},null,{"$f":"\"1 año / \"&TEXT(AA55,\"0.00%\")&\n\"\n2 año / \"&TEXT(AA55-0.002,\"0.00%\")&\n\"\n3 año / \"&TEXT(AA55-0.004,\"0.00%\")&\n\"\n4 año / \"&TEXT(AA55-0.006,\"0.00%\")&\n\"\n5 al 10 / \"&TEXT(AA55-0.0075,\"0.00%\")","v":"1 año / 13.00%\n2 año / 12.80%\n3 año / 12.60%\n4 año / 12.40%\n5 al 10 / 12.25%"},null,{"$f":"\"1 año / \"&TEXT(AA55,\"0.00%\")&\n\"\n2 año / \"&TEXT(AA55-0.002,\"0.00%\")&\n\"\n3 año / \"&TEXT(AA55-0.004,\"0.00%\")&\n\"\n4 año / \"&TEXT(AA55-0.006,\"0.00%\")&\n\"\n5 al 15 / \"&TEXT(AA55-0.0075,\"0.00%\")","v":"1 año / 13.00%\n2 año / 12.80%\n3 año / 12.60%\n4 año / 12.40%\n5 al 15 / 12.25%"},null,{"$f":"\"1 año / \"&TEXT(AA55,\"0.00%\")&\n\"\n2 año / \"&TEXT(AA55-0.002,\"0.00%\")&\n\"\n3 año / \"&TEXT(AA55-0.004,\"0.00%\")&\n\"\n4 año / \"&TEXT(AA55-0.006,\"0.00%\")&\n\"\n5 al 20 / \"&TEXT(AA55-0.0075,\"0.00%\")","v":"1 año / 13.00%\n2 año / 12.80%\n3 año / 12.60%\n4 año / 12.40%\n5 al 20 / 12.25%"},null,null,null,null,null,{"$f":"IFERROR(E49/E47,0)","v":0},"Pagos reducidos 20 años",null,null,null,null,null,null,{"$f":"IFERROR(IF(C26+AC42<=C24,AC42,IF(C26>C24,0,IF(AC42+C26>C24,C24-C26,\"\"))),0)","v":0}]
[null,null,"% máximo de financiamiento",null,null,null,null,null,{"$f":"TEXT($AI$45,\"#,##0%\")&IF($AB$71=2,\"\",IF($AH$45=1,\" sin apoyo\",\" con apoyo\"))","v":"95% con apoyo"},null,{"$f":"TEXT($AI$45,\"#,##0%\")&IF($AB$71=2,\"\",IF($AH$45=1,\" sin apoyo\",\" con apoyo\"))","v":"95% con apoyo"},null,{"$f":"TEXT($AI$45,\"#,##0%\")&IF($AB$71=2,\"\",IF($AH$45=1,\" sin apoyo\",\" con apoyo\"))","v":"95% con apoyo"},null,{"$f":"TEXT($AI$45,\"#,##0%\")&IF($AB$71=2,\"\",IF($AH$45=1,\" sin apoyo\",\" con apoyo\"))","v":"95% con apoyo"},null,null,null,null,null,null,"Pago 9.9",null,null,"Cambio de etiqueta",{"$f":"IF(AD46=1,\"Valor del inmueble\",\"Ingresos Brutos Mensuales\")","v":"Valor del inmueble"},null,null,null,null,null,null,"Apoyo Infonavit"]
[null,null,null,null,null,null,null,null,null,null,null,null,null,null,null,null,null,null,null,null,null,"Tasa 1234",null,null,null,null,null,null,null,null,null,{"$f":"1-AI45","v":5.0000000000000044E-2},"NO",2,{"$f":"IF($AB$71=1,$AN$56,$AO$56)","v":0.95}]
[null,null,null,null,null,null,null,null,null,null,null,null,null,null,null,null,null,null,null,null,"Adquisición",1,null,"% de enganche",{"$f":"IF(IF(C24=0,0,IF(C25>0,C25,IF(C25/C24>1,0,C25/C24)))>0,IF(C24=0,0,IF(C25>0,C25,IF(C25/C24>1,0,C25/C24))),IF($AH$45=1,$AF$45,$AF$46))","v":5.0000000000000044E-2},{"$f":"IF(V46=2,\" \",\"Monto a Financiar\")","v":"Monto a Financiar"},null,"Pago por mil","Por Valor del Inmueble",1,null,{"$f":"1-AI46","v":5.0000000000000044E-2},"SI",null,{"$f":"IF($AB$71=1,$AN$56,$AO$56)","v":0.95}]
[null,null,"Valor de la vivienda",null,null,null,null,null,{"$f":"IF($AD$46=1,$C$24,I49/$AB$81)","v":0},null,{"$f":"IF($AD$46=1,$C$24,K49/$AB$81)","v":0},null,{"$f":"IF($AD$46=1,$C$24,M49/$AB$81)","v":0},null,{"$f":"IF($AD$46=1,$C$24,O49/$AB$81)","v":0},null,null,null,null,null,"Pasivo Hipotecario",null,"Cambio de pasivo o adquisi",null,{"$f":"IF(AND(V46=1,AD46=1),\"Enganche\",IF(AND(V46=2,AD46=1),\"Saldo actual\",\"\"))","v":"Enganche"},{"$f":"IF($X$41=4,I49,IF($X$41=1,K49,IF($X$41=2,M49,IF($X$41=3,O49,0))))","v":0},null,{"$f":"IF($X$41=4,AA52,IF($X$41=1,AB52,IF($X$41=2,AD52,IF($X$41=3,AE52,0))))","v":11.86},"Por Ingresos",null,null,null,null,null,null,null,null,null,null,null,"Rango",{"$f":"VLOOKUP($X$41,$AO$48:$AR$51,2,0)","v":94971.447565714305},{"$f":"VLOOKUP($X$41,$AO$48:$AR$51,3,0)","v":123462.8761371429},{"$f":"VLOOKUP($X$41,$AO$48:$AR$51,4,0)","v":123462.8761371429}]
[null,null,null,null,null,null,null,null,null,null,null,null,null,null,null,null,null,null,null,null,null,null,null,null,null,null,null,null,null,null,null,null,"Ingresos",{"$f":"IF(AND(AH45=2,AD46=1),O23,C24)","v":0},null,null,null,null,null,null,1,136571.4558857143,152100.02340000001,177542.88445714288]
[null,null,"Monto del crédito",null,null,null,null,null,{"$f":"AA62","v":0},null,{"$f":"AB62","v":0},null,{"$f":"AD62","v":0},null,{"$f":"AE62","v":0},null,null,null,null,null,null,null,"Pag Red 10.90",null,"Pag Red 10.90",null,"Pagos oportunos","Pagos oportunos",null,"Pagos oportunos","Pagos oportunos","Pagos oportunos",null,null,null,null,null,null,null,null,2,108000.02160000001,119340.00149174996,140400.02160000004]
[null,null,null,null,null,null,null,null,null,null,null,null,null,null,null,null,null,null,null,"Plazo",null,null,15,null,20,null,7,10,null,15,20,30,null,null,null,null,null,null,null,null,3,94971.447565714305,123462.8761371429,123462.8761371429]
[null,null,"Erogación inicial",null,null,null,null,null,{"$f":"IF($AD$46=1,I49/1000*AA52,$C$24*$AD$81)","v":0},null,{"$f":"IF($AD$46=1,K49/1000*AB52,$C$24*$AD$81)","v":0},null,{"$f":"IF($AD$46=1,M49/1000*AD52,$C$24*$AD$81)","v":0},null,{"$f":"IF($AD$46=1,O49/1000*AE52,$C$24*$AD$81)","v":0},null,null,null,null,null,null,null,1,null,2,null,4,1,null,2,3,null,null,null,null,null,null,null,null,null,4]
[null,null,null,null,null,null,null,null,null,null,null,null,null,null,null,null,null,null,null,"Pago x mil",null,null,7.8,null,9.76,null,{"$f":"IF($AM$66=1,AO67,IF($AM$66=2,AO68,IF($AM$66=3,AO69,\"\")))","v":18.38},{"$f":"IF($AM$66=1,AP67,IF($AM$66=2,AP68,IF($AM$66=3,AP69,\"\")))","v":15.05},null,{"$f":"IF($AM$66=1,AQ67,IF($AM$66=2,AQ68,IF($AM$66=3,AQ69,\"\")))","v":12.79},{"$f":"IF($AM$66=1,AR67,IF($AM$66=2,AR68,IF($AM$66=3,AR69,\"\")))","v":11.86},null,null,null,{"$f":"IF($X$41=1,I49,IF($X$41=2,K49,IF($X$41=3,M49,O49)))","v":0},null,null,null,null,null,null,5000000,6500000,8000000]
[null,null,"Seguro de vida",null,null,null,null,null,{"$f":"I49*IF($Y$71=1,0,$Y$74)","v":0},null,{"$f":"K49*IF($Y$71=1,0,$Y$74)","v":0},null,{"$f":"M49*IF($Y$71=1,0,$Y$74)","v":0},null,{"$f":"O49*IF($Y$71=1,0,$Y$74)","v":0},null,null,null,null,null,null,null,null,null,null,null,null,null,null,null,null,null,null,null,null,null,null,null,null,null,null,1,2,3]
[null,null,null,null,null,null,null,null,null,null,null,null,null,null,null,null,null,null,null,"Incremento anual ",null,null,null,null,null,null,0,0,null,0,0,0,null,null,0,null,null,null,"Aforo para créditos <= $5'000,000  Valora y Pagos Oportunos",null,null,"Aforo p/créd > $5'000,000  VA y PO"]
[null,null,"Seguro de daños",null,null,null,null,null,{"$f":"IF($C$33>0,$C$33,I47)*IF($Y$71=1,0,$Y$75)","v":0},null,{"$f":"IF($C$33>0,$C$33,K47)*IF($Y$71=1,0,$Y$75)","v":0},null,{"$f":"IF($C$33>0,$C$33,M47)*IF($Y$71=1,0,$Y$75)","v":0},null,{"$f":"IF($C$33>0,$C$33,O47)*IF($Y$71=1,0,$Y$75)","v":0},null,null,null,null,"Tasa de int.",null,null,null,null,null,null,{"$f":"IF($AM$66=1,AN67,IF($AM$66=2,AN68,IF($AM$66=3,AN69,\"\")))","v":0.13},{"$f":"AA55","v":0.13},null,{"$f":"AA55","v":0.13},{"$f":"AA55","v":0.13},0,null,null,null,null,null,null,"Emp. con apoyo","Emp. Sin apoyo","Independientes","<= $6.5mdp","<= $8mdp","> $8 mdp","PTI"]
[null,null,null,null,null,null,null,null,null,null,null,null,null,null,null,null,null,null,null,null,null,null,null,null,null,null,"PO 7 años","PO 10 años",null,"PO 15 años","PO 20 años",null,null,null,null,null,null,1,0.95,0.95,0.9,0.8,0.8,0.65,0.4]
[null,null,"Total mensualidad inicial",null,null,null,null,null,{"$f":"I55+I53+I51","v":0},null,{"$f":"K55+K53+K51","v":0},null,{"$f":"M55+M53+M51","v":0},null,{"$f":"O55+O53+O51","v":0},null,null,null,null,"Monto a financiar adquisición",null,null,{"$f":"IF(AND($AD$46=1,$Y$46>=0.2),$C$24-$C$25,IF($AD$46=2,$E$51/W52*1000,0))","v":0},null,{"$f":"IF(AND($AD$46=1,$Y$46>=0.2),$C$24-$C$25,IF($AD$46=2,G51/Y52*1000,0))","v":0},null,{"$f":"IF(AND($AH$45=1,$AD$46=1,$Y$46>=$AF$45),IF($C$25>0,$C$24-$C$25,$C$24-$C$24*$Y$46),IF(AND($AH$45=2,$AD$46=1,$Y$46>=$AF$46),IF($C$25>0,$C$24-$C$25,$C$24-$C$24*$Y$46),IF($AD$46=2,$O$51/AA52*1000,0)))","v":0},{"$f":"IF(AND($AH$45=1,$AD$46=1,$Y$46>=$AF$45),IF($C$25>0,$C$24-$C$25,$C$24-$C$24*$Y$46),IF(AND($AH$45=2,$AD$46=1,$Y$46>=$AF$46),IF($C$25>0,$C$24-$C$25,$C$24-$C$24*$Y$46),IF($AD$46=2,$O$51/AB52*1000,0)))","v":0},null,{"$f":"IF(AND($AH$45=1,$AD$46=1,$Y$46>=$AF$45),IF($C$25>0,$C$24-$C$25,$C$24-$C$24*$Y$46),IF(AND($AH$45=2,$AD$46=1,$Y$46>=$AF$46),IF($C$25>0,$C$24-$C$25,$C$24-$C$24*$Y$46),IF($AD$46=2,$O$51/AD52*1000,0)))","v":0},{"$f":"IF(AND($AH$45=1,$AD$46=1,$Y$46>=$AF$45),IF($C$25>0,$C$24-$C$25,$C$24-$C$24*$Y$46),IF(AND($AH$45=2,$AD$46=1,$Y$46>=$AF$46),IF($C$25>0,$C$24-$C$25,$C$24-$C$24*$Y$46),IF($AD$46=2,$O$51/AE52*1000,0)))","v":0},{"$f":"IF(AND($AD$46=1,$Y$46>=0.2),$C$24-$C$25,IF($AD$46=2,#REF!/AF52*1000,0))","v":0},null,null,null,null,null,2,0.95,0.95,0.9,0.8,0.8,0.65,0.4]
[null,null,null,null,null,null,null,null,null,null,null,null,null,null,null,null,null,null,null,"Monto a financiar adquisición",null,null,{"$f":"IF(W57>4000000,4000000,W57)","v":0},null,{"$f":"IF(Y57>4000000,4000000,Y57)","v":0},null,{"$f":"IF(AA57>4000000,4000000,AA57)","v":0},{"$f":"IF(AB57>4000000,4000000,AB57)","v":0},null,{"$f":"IF(AD57>4000000,4000000,AD57)","v":0},{"$f":"IF(AE57>4000000,4000000,AE57)","v":0},{"$f":"IF(AF57>4000000,4000000,AF57)","v":0},null,null,null,null,null,3,0.95,0.9,0.9,0.8,0.8,0.65,0.35]
[null,null,"Incremento anual del pago",null,null,null,null,null,"No aplica",null,"No aplica",null,"No aplica",null,"No aplica",null,null,null,null,"erogación adquisición",null,null,{"$f":"W58/1000*W52","v":0},null,{"$f":"Y58/1000*Y52","v":0},null,{"$f":"AA58/1000*AA52","v":0},{"$f":"AB58/1000*AB52","v":0},null,{"$f":"AD58/1000*AD52","v":0},{"$f":"AE58/1000*AE52","v":0},{"$f":"AF58/1000*AF52","v":0},null,null,null,null,null,4,0.95,0.85,0.85,0.7,0.7,0.55000000000000004,0.35]
[null,null,null,null,null,null,null,null,null,null,null,null,null,null,null,null,null,null,null,"Monto a financiar pasivo",null,null,null,null,null,null,null,null,null,null,null,null,null,null,null,null,null,5,0.85,0.8,0.75,0.65,0.55000000000000004,0.55000000000000004,0.3]
[null,null,"Ingresos brutos por comprobar",null,null,null,null,null,{"$f":"IF(AND($AD$46=1,I51/$AD$81>$AC$81),I51/$AD$81,IF(AND($AD$46=1,I51/$AD$81<$AC$81),$AC$81,$C$24))","v":10000},null,{"$f":"IF(AND($AD$46=1,K51/$AD$81>$AC$81),K51/$AD$81,IF(AND($AD$46=1,K51/$AD$81<$AC$81),$AC$81,$C$24))","v":10000},null,{"$f":"IF(AND($AD$46=1,M51/$AD$81>$AC$81),M51/$AD$81,IF(AND($AD$46=1,M51/$AD$81<$AC$81),$AC$81,$C$24))","v":10000},null,{"$f":"IF(AND($AD$46=1,O51/$AD$81>$AC$81),O51/$AD$81,IF(AND($AD$46=1,O51/$AD$81<$AC$81),$AC$81,$C$24))","v":10000},null,null,null,null,"Monto a financiar pasivo",null,null,null,null,null,null,null,null,null,null,null,null,null,null,null,null,null,6,0.8,0.7,0.5,0.5,0.5,0.5,0.3]
[null,null,null,null,null,null,null,null,null,null,null,null,null,null,null,null,null,null,null,"Desición de monto a financiar",null,null,{"$f":"IF(AND($AH$45=2,$AD$46=1,$C$24<0),0,IF(AND($AD$46=2,$C$24<$AC$81),0,W57))","v":0},null,{"$f":"IF(AND($AH$45=2,$AD$46=1,$C$24<0),0,IF(AND($AD$46=2,$C$24<$AC$81),0,Y57))","v":0},null,{"$f":"IF(AND($AH$45=2,$AD$46=1,$C$24<0),0,IF(AND($AD$46=2,$C$24<$AC$81),0,AA57))","v":0},{"$f":"IF(AND($AH$45=2,$AD$46=1,$C$24<0),0,IF(AND($AD$46=2,$C$24<$AC$81),0,AB57))","v":0},null,{"$f":"IF(AND($AH$45=2,$AD$46=1,$C$24<0),0,IF(AND($AD$46=2,$C$24<$AC$81),0,AD57))","v":0},{"$f":"IF(AND($AH$45=2,$AD$46=1,$C$24<0),0,IF(AND($AD$46=2,$C$24<$AC$81),0,AE57))","v":0},{"$f":"IF(AND($AH$45=2,$AD$46=1,$C$24<0),0,IF(AND($AD$46=2,$C$24<$AC$81),0,AF57))","v":0},null,null,null,null,null,7,0.8,0.7,0.5,0.5,0.5,0.5,0.3]
[null,null,"Comisión por apertura",null,null,null,null,null,{"$f":"IF(OR(AM66=2,AM66=3),0,IF(V66=1,I49*MIN(1%,M22),0))","v":0},null,{"$f":"IF(OR(AM66=2,AM66=3),0,IF(V66=1,K49*MIN(1%,M22),0))","v":0},null,{"$f":"IF(OR(AM66=2,AM66=3),0,IF(V66=1,M49*MIN(1%,M22),0))","v":0},null,{"$f":"IF(OR(AM66=2,AM66=3),0,IF(V66=1,O49*MIN(1%,M22),0))","v":0},null,null,null,null,null,null,null,null,null,null,null,null,null,null,null,null,null,null,null,null,null,null,null,null,null,null,{"$f":"IF($AD$46=2,IF($C$24>AR47,3,IF($C$24>AQ47,2,IF($C$24>AP47,1,0))),IF($C$24>AR52,3,IF($C$24>AQ52,2,IF($C$24>AP52,1,0))))","v":0}]
[null,null,null,null,null,null,null,null,null,null,null,null,null,null,null,null,null,null,null,"Frontera","NO"]
[null,null,{"$f":"\"Avalúo     \"&IF(OR(AND($AD$46=1,$C$24>$U$91),AND($AD$46=2,I47>$U$91)),\"'Favor de Cotizar.' - Val. apróx.\",\"\")","v":"Avalúo     "},null,null,null,null,null,{"$f":"IF(AM66=2,0,IFERROR(IF(AND($AD$46=1,$C$24<=$U$91),VLOOKUP($C$24,$T$71:$V$92,3),IF(AND($AD$46=2,I47<=$U$91),VLOOKUP(I47,$T$71:$V$92,3),$V$92)),0))","v":0},null,{"$f":"IF(AM66=2,0,IFERROR(IF(AND($AD$46=1,$C$24<=$U$89),VLOOKUP($C$24,$T$71:$V$89,3),IF(AND($AD$46=2,K47<=$U$89),VLOOKUP(K47,$T$71:$V$89,3),$V$92)),0))","v":0},null,{"$f":"IF(AM66=2,0,IFERROR(IF(AND($AD$46=1,$C$24<=$U$89),VLOOKUP($C$24,$T$71:$V$89,3),IF(AND($AD$46=2,M47<=$U$89),VLOOKUP(M47,$T$71:$V$89,3),$V$92)),0))","v":0},null,{"$f":"IF(AM66=2,0,IFERROR(IF(AND($AD$46=1,$C$24<=$U$89),VLOOKUP($C$24,$T$71:$V$89,3),IF(AND($AD$46=2,O47<=$U$89),VLOOKUP(O47,$T$71:$V$89,3),$V$92)),0))","v":0},null,null,null,null,"IVA","SI",2,{"$f":"IF(V65=1,1.16,1.16)","v":1.1599999999999999}]
[null,null,null,null,null,null,null,null,null,null,null,null,null,null,null,null,null,null,null,"Comisión de apertura",null,1,{"$f":"IF(AM66=1,\"Comisión por apertura \"&TEXT($Y$81,\"##.00%\")&\" y comisión por prepago 0%\",\"Comisión por apertura 0% y comisión por prepago 0%\")","v":"Comisión por apertura 1.00% y comisión por prepago 0%"},null,null,null,null,null,null,null,null,null,null,null,null,null,null,null,1,null,7,10,15,20]
[null,null,"Dictamen técnico",null,null,null,null,null,{"$f":"IF(I47*$Y$84>$Z$84,$Z$84,I47*$Y$84)","v":0},null,{"$f":"IF(K47*$Y$84>$Z$84,$Z$84,K47*$Y$84)","v":0},null,{"$f":"IF(M47*$Y$84>$Z$84,$Z$84,M47*$Y$84)","v":0},null,{"$f":"IF(O47*$Y$84>$Z$84,$Z$84,O47*$Y$84)","v":0},null,null,null,null,"Comisión por prepago",null,{"$f":"IF(V66=2,3%,\"NO APLICA\")","v":"NO APLICA"},{"$f":"IF(AM66=1,\"Comisión por apertura 0% y comisión por prepago 3% más IVA\",\"\")","v":"Comisión por apertura 0% y comisión por prepago 3% más IVA"},null,null,null,null,null,null,null,null,null,null,null,null,null,null,null,"Ninguna",0.13,18.38,15.05,12.79,11.86]
[null,null,null,null,null,null,null,null,null,null,null,null,null,null,null,null,null,null,null,"Com Aut Dif",250,250,250,250,250,250,null,null,null,null,null,null,null,null,null,null,null,null,"Premium",9.7500000000000003E-2,16.55,13.16,10.7,9.59]
[null,null,"Comisión por pagos anticipados",null,null,null,null,null,{"$f":"$V$67","v":"NO APLICA"},null,{"$f":"$V$67","v":"NO APLICA"},null,{"$f":"$V$67","v":"NO APLICA"},null,{"$f":"$V$67","v":"NO APLICA"},null,null,null,null,"Avalúo",{"$f":"IFERROR(IF(C24<$U$91,VLOOKUP(C24,$T$71:$V$92,3),\"Cotización especial\"),0)","v":0},null,null,null,null,null,null,null,null,null,null,null,null,null,null,null,null,null,"Vinculación",0.1075,17.100000000000001,13.73,11.32,10.27]
[null,null,null,null,null,null,null,null,null,null,null,null,null,null,null,null,null,null,null,"Mayor a","Hasta a","Importe",null,"Contratación de Seguros",null,null,"Actividad Económca"]
[null,null,null,null,null,null,null,null,null,null,null,null,null,null,null,null,null,null,null,0.01,500000,1900,null,"SI ",2,null,"Empleado",1]
[null,null,"Ver tabla de amortización",null,null,null,null,null,null,null,null,null,null,null,null,null,null,null,null,500001,1000000,3300,null,"NO",null,null,{"$f":"IF(AH45=2,\"\",\"Independiente\")","v":""}]
[null,null,null,null,null,null,null,null,null,null,null,null,null,null,null,null,null,null,null,1000001,1500000,4500,null,"Seguros"]
[null,null,null,null,null,null,null,null,null,null,null,null,null,null,null,null,null,null,null,1500001,2000000,5750,null,"Vida",5.9999999999999995E-4,{"$f":"Y74","v":5.9999999999999995E-4},null,"Valor del inmueble",{"$f":"IF($X$41=4,$I$47,IF($X$41=1,$K$47,IF($X$41=2,$M$47,IF($X$41=3,$O$47,0))))","v":0}]
[null,null,"Observaciones:",null,null,null,null,null,null,null,null,null,null,null,null,null,null,null,null,2000001,2500000,7000,null,"Daños",3.1E-4,{"$f":"Y75","v":3.1E-4},null,"Pago por mil",{"$f":"IF($X$41=4,$AA$52,IF($X$41=1,$AB$52,IF($X$41=2,$AD$52,IF($X$41=3,$AE$52,0))))","v":11.86}]
[null,null,"-No se incluyen los gastos notariales, los cuales se pagaran al momento de la firma del crédito",null,null,null,null,null,null,null,null,null,null,null,null,null,null,null,null,2500001,3000000,8200,null,null,null,null,null,"Plazo",{"$f":"IF($X$41=4,\"7 Años\",IF($X$41=1,\"10 Años\",IF($X$41=2,\"15 Años\",IF($X$41=3,\"20 Años\",0))))","v":"20 Años"}]
[null,null,"-  El crédito solicitado dependerá de la capacidad de pago de cada cliente",null,null,null,null,null,null,null,null,null,null,null,null,null,null,null,null,3000001,4000000,11000,null,null,null,null,null,"Tasa",{"$f":"IF($X$41=4,$AA$55,IF($X$41=1,$AB$55,IF($X$41=2,$AD$55,IF($X$41=3,$AE$55,0))))","v":0.13},null,null,"CALCULO PARA EL IMPORTE MAXIMO DE APORTACION PATRONAL"]
[null,null,"-  Scotiabank se reserva el derecho de solicitar información adicional y/o restringir parámetros de enganche, monto, plazo o tasa en función de las características específicas del solicitante ",null,null,null,null,null,null,null,null,null,null,null,null,null,null,null,null,4000001,5000000,13900,null,null,null,null,null,"Monto Crédito",{"$f":"IF($X$41=4,$I$49,IF($X$41=1,$K$49,IF($X$41=2,$M$49,IF($X$41=3,$O$49,0))))","v":0},null,null,{"$f":"'Simulador Valora'!AF78","v":"Salario diario nominal (UMA enero 2024)"},null,{"$f":"'Simulador Valora'!$AH$78","v":108.57}]
[null,null,"    y del inmueble objeto de la operación.",null,null,null,null,null,null,null,null,null,null,null,null,null,null,null,null,5000001,6000000,15500,null,null,null,null,null,null,null,null,null,"Tope de aportación patronal",null,25]
[null,null,"-  En caso de que aplique, la comisión por pagos anticipados causa I.V.A.",null,null,null,null,null,null,null,null,null,null,null,null,null,null,null,null,6000001,7000000,19000,null,"Comisión por aut difer =",250,null,null,"Aforo","Ingresos Mínimos","RPI",null,"Aportación patronal",null,{"$f":"+AH78*AH79","v":2714.25}]
[null,null,"- Esta cotización tiene carácter informativo, Scotiabank se reserva el derecho de cambiar cualquier condición sin previo aviso.",null,null,null,null,null,null,null,null,null,null,null,null,null,null,null,null,7000001,8000000,20000,null,"Comisión por Apertura =",{"$f":"IFERROR(IF($M$22<>\"\",$M$22,1%),0)","v":0.01},null,null,{"$f":"IF(AH45=1,AI45,AI46)","v":0.95},10000,0.35,null,"Aportación Patronal 5%",null,{"$f":"+AH80*0.05","v":135.71250000000001}]
[null,null,"- Este documento NO implica que el crédito ha sido autorizado, ni establece obligación alguna para Scotiabank.",null,null,null,null,null,null,null,null,null,null,null,null,null,null,null,null,8000001,9000000,20100,null,"Comisión por Prepago =",0.03,null,null,null,null,null,null,null,0.05]
[null,null,"- Para los esquemas de \"Pagos Oportunos\" y \"Valora\" se deberá cumplir con las reglas establecidas en los programas para la disminución de la tasa de interés",null,null,null,null,null,null,null,null,null,null,null,{"$f":"'Simulador Valora'!O83","v":"v2025.04"},null,null,null,null,9000001,10000000,22500,null,"Avalúo",1E-3,null,null,null,null,null,null,"No. de días del bimestre (promedio 60 días)",null,{"$f":"'Simulador Valora'!$AH$83","v":60.8}]
[null,null,null,null,null,null,null,null,null,null,null,null,null,null,null,null,null,null,null,10000001,11000000,27000,null,"Dictamen técnico",0.01,18000,null,null,null,null,null,"Aportación Patronal bimestral",null,{"$f":"+AH81*AH83","v":8251.32}]
[null,null,null,null,null,null,null,null,null,null,null,null,null,null,null,null,null,null,null,11000001,12000000,28000,null,null,null,"Máximo",null,null,null,null,null,"Incremento anual promedio para las aportaciones = ",null,0.03]
[null,null,null,null,null,null,null,null,null,null,null,null,null,null,null,null,null,null,null,12000001,13000000,30000,null,null,null,"Ya no hay minimo"]
[null,null,null,null,null,null,null,null,null,null,null,null,null,null,null,null,null,null,null,13000001,14000000,32000]
[null,null,null,null,null,null,null,null,null,null,null,null,null,null,null,null,null,null,null,14000001,15000000,34000]
[null,null,null,null,null,null,null,null,null,null,null,null,null,null,null,null,null,null,null,15000001,20000000,37000]
[null,null,null,null,null,null,null,null,null,null,null,null,null,null,null,null,null,null,null,20000001,25000000,39000]
[null,null,null,null,null,null,null,null,null,null,null,null,null,null,null,null,null,null,null,25000001,30000000,40000]
[null,null,null,null,null,null,null,null,null,null,null,null,null,null,null,null,null,null,null,30000001,30000000,40000]

{"sheet":"Tabla Pagos Oportunos","index":6,"n_rows":260,"n_cols":79,"rows_kept":260,"cut":false,"hidden":false,"merged":[[10,30,10,32],[1,0,1,26],[0,0,0,26],[2,0,2,26],[3,0,3,26],[5,1,5,5],[5,23,5,25]]}
["Scotiabank Inverlat, S.A., Institución de Banca Múltiple, Grupo Financiero Scotiabank Inverlat",null,null,null,null,null,null,null,null,null,null,null,null,null,null,null,null,null,null,null,null,null,null,null,null,null,null,null,null,null,null,null,null,null,null,null,null,null,null,null,null,null,null,null,null,null,null,null,null,null,null,null,null,null,null,null,null,null,null,null,null,null,null,null,null,null,null,null,null,null,null,null,null,null,null,null,null,null,"-"]
["SIMULADOR CREDITO HIPOTECARIO"]
["FINANCIAMIENTO PARA ADQUISICION EN PREVENTA SCOTIABANK",null,null,null,null,null,null,null,null,null,null,null,null,null,null,null,null,null,null,null,null,null,null,null,null,null,null,null,null,null,null,null,"Comision por apertura",null,null,{"$f":"IF('Simulador Pagos Oportunos'!$X$41=4,'Simulador Pagos Oportunos'!I63,IF('Simulador Pagos Oportunos'!$X$41=1,'Simulador Pagos Oportunos'!K63,IF('Simulador Pagos Oportunos'!$X$41=2,'Simulador Pagos Oportunos'!M63,IF('Simulador Pagos Oportunos'!$X$41=3,'Simulador Pagos Oportunos'!O63,0))))","v":0},null,1]
[{"$f":"\"PAGOS OPORTUNOS \"&IF('Simulador Pagos Oportunos'!$X$41=4,'Simulador Pagos Oportunos'!I41,IF('Simulador Pagos Oportunos'!$X$41=1,'Simulador Pagos Oportunos'!K41,IF('Simulador Pagos Oportunos'!$X$41=2,'Simulador Pagos Oportunos'!M41,IF('Simulador Pagos Oportunos'!$X$41=3,'Simulador Pagos Oportunos'!O41,\"\"))))","v":"PAGOS OPORTUNOS 20 AÑOS"},null,null,null,null,null,null,null,null,null,null,null,null,null,null,null,null,null,null,null,null,null,null,null,null,null,null,null,null,null,null,null,"Avalúo",null,null,{"$f":"IF('Simulador Pagos Oportunos'!$X$41=4,'Simulador Pagos Oportunos'!I65,IF('Simulador Pagos Oportunos'!$X$41=1,'Simulador Pagos Oportunos'!K65,IF('Simulador Pagos Oportunos'!$X$41=2,'Simulador Pagos Oportunos'!M65,IF('Simulador Pagos Oportunos'!$X$41=3,'Simulador Pagos Oportunos'!O65,0))))","v":0},null,"Disminución de plazo"]
[null,null,null,null,null,null,null,null,null,null,null,null,null,"Observaciones",null,null,null,null,null,null,null,null,null,null,null,null,null,null,null,null,null,null,"Dictámen Técnico",null,null,{"$f":"IF('Simulador Pagos Oportunos'!$X$41=4,'Simulador Pagos Oportunos'!I67,IF('Simulador Pagos Oportunos'!$X$41=1,'Simulador Pagos Oportunos'!K67,IF('Simulador Pagos Oportunos'!$X$41=2,'Simulador Pagos Oportunos'!M67,IF('Simulador Pagos Oportunos'!$X$41=3,'Simulador Pagos Oportunos'!O67,0))))","v":0},null,"Disminución de pago"]
[null,"Teclear los datos con las celdas en blanco",null,null,null,null,null,null,null,null,null,null,null,"- La comisión por prepagos causa IVA y en la corrida ya lo incluye",null,null,null,null,null,null,null,null,null,{"$f":"'Simulador Pagos Oportunos'!C7","v":"2025-04-10"}]
[null,"Período",null,"Monto",null,"Erogación",null,null,null,null,null,null,null,"- El escenario que se presenta en la tabla de amortización siempre es considerando que se paga de manera puntual.",null,null,null,null,null,null,null,null,null,null,null,null,null,null,null,null,null,null,"Total",null,null,{"$f":"SUM(AJ3:AJ5)","v":0}]
[null,1,null,{"$f":"'Simulador Pagos Oportunos'!$AC$78","v":0},null,{"$f":"(D8/1000)*'Simulador Pagos Oportunos'!AB47","v":0},null,"Linea máxima de crédito",null,null,null,null,null,"- Esta cotización tiene carácter informativo, Scotiabank se reserva el derecho de cambiar cualquier condición sin previo aviso."]
[null,null,null,null,null,{"$f":"IF(B9>12,((D9+D8)/1000*'Simulador Pagos Oportunos'!AB47*Z29)+((D9+D8)/1000*'Simulador Pagos Oportunos'!AB47),(D9+D8)/1000*'Simulador Pagos Oportunos'!AB47)","v":0},null,{"$f":"'Simulador Pagos Oportunos'!Z47","v":0},null,null,null,null,null,"- Este documento NO implica que el crédito ha sido autorizado, ni establece obligación alguna para Scotiabank."]
[null,null,null,{"$f":"IF('Simulador Pagos Oportunos'!AC78-D8-D9<0,0,'Simulador Pagos Oportunos'!AC78-D8-D9)","v":0},null,{"$f":"IF(B10>12,((D10+D9+D8)/1000*'Simulador Pagos Oportunos'!AB47*Z29)+((D10+D9+D8)/1000*'Simulador Pagos Oportunos'!AB47),(D10+D9+D8)/1000*'Simulador Pagos Oportunos'!AB47)","v":0},null,{"$f":"IF((D9+D8)>H9,\"Se excede de la línea autorizada\",\"\")","v":""},null,null,null,null,null,"- Para los esquemas \"Pagos Oportunos\" y \"Valora\" se deberá cumplir con las reglas establecidas en los programas ",null,null,null,null,null,null,null,null,null,null,null,null,null,null,null,null,null,null,null,null,null,null,null,null,null,null,null,null,null,null,null,null,null,null,"Corrida para CAT"]
[null,null,null,null,null,null,null,null,null,null,null,null,null,"  para la disminución de la tasa de interés.",null,null,null,null,null,null,null,null,null,null,null,null,null,null,null,null,"Tasa pagos oportunos",null,null,null,null,null,null,null,null,null,null,null,null,null,null,null,null,null,{"$f":"AW14*12","v":0}]
[null,null,null,null,null,null,null,null,null,null,null,null,null,null,null,null,null,null,null,null,null,null,null,null,null,null,null,{"$f":"IFERROR(IRR(AB16:AB256,0),0)","v":0},{"$f":"AB12*12","v":0},{"$f":"((1+AB12)^12)-1","v":0},null,null,null,null,null,null,null,null,null,null,null,null,null,null,null,null,null,null,{"$f":"((1+AW14)^12)-1","v":0}]
[null,null,null,null,null,null,null,"El crédito se liquida",null,{"$f":"AM16","v":0},"Años",null,null,"- CAT =.",null,{"$f":"AW12","v":0},"\"Para fines informativos de comparación exclusivamente sin IVA\"",null,null,null,null,null,null,null,null,null,null,null,null,null,null,null,null,null,null,null,null,null,null,null,null,null,null,null,null,null,null,null,"TIR"]
[null,null,null,null,null,null,null,"por pago puntual en:",null,{"$f":"AN16","v":0},"Meses",null,null,"- En caso de anticipos a capital escoja la opción:",null,null,null,null,null,null,null,null,null,null,null,null,null,null,null,null,null,null,null,null,null,null,null,null,null,null,null,null,null,null,null,null,null,null,{"$f":"IFERROR(IRR(AW15:AW256,0),0)","v":0}]
[null,null,null,null,null,null,null,null,null,null,null,null,null,null,null,null,null,null,null,null,null,null,null,null,null,null,null,null,null,null,null,null,null,null,null,null,null,null,null,null,null,null,null,null,null,null,null,null,{"$f":"AJ7-H9","v":0}]
["Período","Saldo Inicial",null,"Erogación",null,"Interés",null,"Amortización",null,"Aportación Bimestral",null,"Prepagos a capital",null,"Comisión por prepagos",null,"Tasa aplicada",null,"Saldo Final",null,"Seguro de vida y desempleo",null,"Seguro de daños",null,"Pago Mensual",null,"Inc. Pago",null,{"$f":"AJ7-H9","v":0},"Tasa Aplic.","7 años","10 años","15 años","20 años","30 años","factor de pago","años","meses",{"$f":"SUM(AL17:AL256)","v":1},{"$f":"SUM(AM17:AM256)","v":0},{"$f":"SUM(AN17:AN256)","v":0},"Saldo Inicial","Erogación","Interés","Amortización","Saldo Final","Tasa Aplic.","Seguros","Incremento Pago","Pago Mensual","Plazo","Fecha","Dias","Período","Año actual","Mes actual","Día actual","Dia/corte","sumar a mes"]
[1,{"$f":"IFERROR(VLOOKUP(A17,$B$8:$F$10,3,0),0)","v":0},null,{"$f":"F8","v":0},null,{"$f":"IF(B17=0,0,P17/360*AZ17*B17)","v":0},null,{"$f":"D17-F17","v":0},null,null,null,null,null,{"$f":"IF('Simulador Pagos Oportunos'!$V$66=1,0,L17*'Simulador Pagos Oportunos'!$O$69*'Simulador Pagos Oportunos'!$W$65)","v":0},null,{"$f":"IF(B17=0,\"\",IF('Simulador Pagos Oportunos'!$X$41=4,AD17,IF('Simulador Pagos Oportunos'!$X$41=1,AE17,IF('Simulador Pagos Oportunos'!$X$41=2,AF17,IF('Simulador Pagos Oportunos'!$X$41=3,AG17,AC17)))))","v":""},null,{"$f":"B17-H17-J17-L17+N17","v":0},null,{"$f":"IF(B17<=0,0,B17*IF('Simulador Pagos Oportunos'!$Y$71=1,0,'Simulador Pagos Oportunos'!$Y$74))","v":0},null,{"$f":"IF(B17=0,0,IF('Simulador Pagos Oportunos'!$X$41=4,'Simulador Pagos Oportunos'!$I$55,IF('Simulador Pagos Oportunos'!$X$41=1,'Simulador Pagos Oportunos'!$K$55,IF('Simulador Pagos Oportunos'!$X$41=2,'Simulador Pagos Oportunos'!$M$55,IF('Simulador Pagos Oportunos'!$X$41=3,'Simulador Pagos Oportunos'!$O$55,0)))))","v":0},null,{"$f":"IF(B17<=0,0,(D17+L17+T17+V17))","v":0},null,null,null,{"$f":"X17","v":0},{"$f":"'Simulador Pagos Oportunos'!$AC$77","v":0.13},{"$f":"'Simulador Pagos Oportunos'!AA55","v":0.13},{"$f":"'Simulador Pagos Oportunos'!AB55","v":0.13},{"$f":"'Simulador Pagos Oportunos'!AD55","v":0.13},{"$f":"'Simulador Pagos Oportunos'!AE55","v":0.13},0,{"$f":"IFERROR(AP17/AO17,0)","v":0},0,{"$f":"IF(B17=0,0,1)","v":0},{"$f":"+IF(R17<=0,IF(R16>0,+A17,0),0)","v":1},{"$f":"+IF(AL17>0,+AJ17,0)","v":0},{"$f":"+IF(AL17>0,+AK17,0)","v":0},{"$f":"B17","v":0},{"$f":"D17","v":0},{"$f":"IFERROR((AT17/360*AZ17*AO17),0)","v":0},{"$f":"+AP17-AQ17","v":0},{"$f":"+AO17-AR17","v":0},{"$f":"IF(AO17=0,\"\",IF('Simulador Pagos Oportunos'!$X$41=4,AD17,IF('Simulador Pagos Oportunos'!$X$41=1,AE17,IF('Simulador Pagos Oportunos'!$X$41=2,AF17,IF('Simulador Pagos Oportunos'!$X$41=3,AG17,AC17)))))","v":""},{"$f":"IF(AO17<=0,0,IF('Simulador Pagos Oportunos'!$Y$71=1,0,AO17*'Simulador Pagos Oportunos'!$Y$74))+IF(AO17<=0,0,IF('Simulador Pagos Oportunos'!$X$41=4,'Simulador Pagos Oportunos'!$I$55,IF('Simulador Pagos Oportunos'!$X$41=1,'Simulador Pagos Oportunos'!$K$55,IF('Simulador Pagos Oportunos'!$X$41=2,'Simulador Pagos Oportunos'!$M$55,'Simulador Pagos Oportunos'!$O$55))))","v":0},null,{"$f":"AQ17+AR17+AU17","v":0},{"$f":"IF('Simulador Pagos Oportunos'!$X$41=4,84,IF('Simulador Pagos Oportunos'!$X$41=1,120,IF('Simulador Pagos Oportunos'!$X$41=2,180,IF('Simulador Pagos Oportunos'!$X$41=3,240,0))))","v":240},{"$f":"IF(AO17=0,\"\",DATE(BB17,BC17+BF17,BE17))","v":""},{"$f":"IFERROR(DAY(DATE(YEAR(AY17),MONTH(AY17)+1,0)),0)","v":0},1,{"$f":"IFERROR(YEAR('Simulador Pagos Oportunos'!C7),YEAR('Simulador Pagos Oportunos'!C7))","v":2025},{"$f":"IFERROR(MONTH('Simulador Pagos Oportunos'!C7),MONTH('Simulador Pagos Oportunos'!C7))","v":4},{"$f":"IFERROR(DAY('Simulador Pagos Oportunos'!C7),DAY('Simulador Pagos Oportunos'!C7))","v":10},{"$f":"IF(AND(DAY('Simulador Pagos Oportunos'!C7)>=3,DAY('Simulador Pagos Oportunos'!C7)<=16),3,17)","v":3},{"$f":"IF(BD17>BE17,1,0)","v":1}]
[2,{"$f":"IF(R17<0,0,IF(A18=$B$9,R17+$D$9,IF(A18=$B$10,R17+$D$10,R17)))","v":0},null,{"$f":"IF(B18+F18-D17<=0,B18+F18,IF(A18=$B$9,$F$9,IF(A18=$B$10,$F$10,IF(AND('Simulador Pagos Oportunos'!$AH$45=2,L17=0),D17*(1+Z18),IF($AL$3=2,B18*AI18,D17*(1+Z18))))))","v":0},null,{"$f":"IF(B18=0,0,P18/360*AZ18*B18)","v":0},null,{"$f":"D18-F18","v":0},null,{"$f":"IF(B18=0,0,IF('Simulador Pagos Oportunos'!$AH$45=1,0,IF('Simulador Pagos Oportunos'!$AH$48*'Simulador Pagos Oportunos'!$AG$82*2>'Simulador Pagos Oportunos'!$AH$84,'Simulador Pagos Oportunos'!$AH$84,IF(B18=0,0,'Simulador Pagos Oportunos'!$AH$48*'Simulador Pagos Oportunos'!$AG$82*2))))","v":0},null,null,null,{"$f":"IF('Simulador Pagos Oportunos'!$V$66=1,0,L18*'Simulador Pagos Oportunos'!$O$69*'Simulador Pagos Oportunos'!$W$65)","v":0},null,{"$f":"IF(B18=0,\"\",IF('Simulador Pagos Oportunos'!$X$41=4,AD18,IF('Simulador Pagos Oportunos'!$X$41=1,AE18,IF('Simulador Pagos Oportunos'!$X$41=2,AF18,IF('Simulador Pagos Oportunos'!$X$41=3,AG18,AC18)))))","v":""},null,{"$f":"B18-H18-J18-L18+N18","v":0},null,{"$f":"IF(B18<=0,0,B18*IF('Simulador Pagos Oportunos'!$Y$71=1,0,'Simulador Pagos Oportunos'!$Y$74))","v":0},null,{"$f":"IF(B18=0,0,IF('Simulador Pagos Oportunos'!$X$41=4,'Simulador Pagos Oportunos'!$I$55,IF('Simulador Pagos Oportunos'!$X$41=1,'Simulador Pagos Oportunos'!$K$55,IF('Simulador Pagos Oportunos'!$X$41=2,'Simulador Pagos Oportunos'!$M$55,IF('Simulador Pagos Oportunos'!$X$41=3,'Simulador Pagos Oportunos'!$O$55,0)))))","v":0},null,{"$f":"IF(B18<=0,0,(D18+L18+T18+V18))","v":0},null,null,null,{"$f":"X18","v":0},{"$f":"'Simulador Pagos Oportunos'!$AC$77","v":0.13},{"$f":"AD17","v":0.13},{"$f":"AE17","v":0.13},0.13,0.13,0,{"$f":"IFERROR(AP18/AO18,0)","v":0},0,2,0,{"$f":"+IF(AL18>0,+AJ18,0)","v":0},{"$f":"+IF(AL18>0,+AK18,0)","v":0},{"$f":"IF(AS17<0,0,IF($A18=$B$9,AS17+$D$9,IF($A18=$B$10,AS17+$D$10,AS17)))","v":0},{"$f":"IF(AO18+AQ18-AP17<=0,AO18+AQ18,IF($A18=$B$9,$F$9,IF($A18=$B$10,$F$10,AP17*(1+AV18))))","v":0},{"$f":"IFERROR((AT18/360*AZ18*AO18),0)","v":0},0,0,{"$f":"IF(AO18=0,\"\",IF('Simulador Pagos Oportunos'!$X$41=4,AD18,IF('Simulador Pagos Oportunos'!$X$41=1,AE18,IF('Simulador Pagos Oportunos'!$X$41=2,AF18,IF('Simulador Pagos Oportunos'!$X$41=3,AG18,AC18)))))","v":""},{"$f":"IF(AO18<=0,0,IF('Simulador Pagos Oportunos'!$Y$71=1,0,AO18*'Simulador Pagos Oportunos'!$Y$74))+IF(AO18<=0,0,IF('Simulador Pagos Oportunos'!$X$41=4,'Simulador Pagos Oportunos'!$I$55,IF('Simulador Pagos Oportunos'!$X$41=1,'Simulador Pagos Oportunos'!$K$55,IF('Simulador Pagos Oportunos'!$X$41=2,'Simulador Pagos Oportunos'!$M$55,'Simulador Pagos Oportunos'!$O$55))))","v":0},null,0,{"$f":"IFERROR(IF(AP18<=0.01,0,AX17-1),0)","v":0},{"$f":"IF(AO18=0,\"\",DATE(YEAR(AY17),MONTH(AY17)+1,1))","v":""},{"$f":"IFERROR(DAY(DATE(YEAR(AY18),MONTH(AY18)+1,0)),0)","v":0},2]
[3,0,null,{"$f":"IF(B19+F19-D18<=0,B19+F19,IF(A19=$B$9,$F$9,IF(A19=$B$10,$F$10,IF(AND('Simulador Pagos Oportunos'!$AH$45=2,L18=0),D18*(1+Z19),IF($AL$3=2,B19*AI19,D18*(1+Z19))))))","v":0},null,0,null,{"$f":"D19-F19","v":0},null,null,null,null,null,{"$f":"IF('Simulador Pagos Oportunos'!$V$66=1,0,L19*'Simulador Pagos Oportunos'!$O$69*'Simulador Pagos Oportunos'!$W$65)","v":0},null,{"$f":"IF(B19=0,\"\",IF('Simulador Pagos Oportunos'!$X$41=4,AD19,IF('Simulador Pagos Oportunos'!$X$41=1,AE19,IF('Simulador Pagos Oportunos'!$X$41=2,AF19,IF('Simulador Pagos Oportunos'!$X$41=3,AG19,AC19)))))","v":""},null,0,null,{"$f":"IF(B19<=0,0,B19*IF('Simulador Pagos Oportunos'!$Y$71=1,0,'Simulador Pagos Oportunos'!$Y$74))","v":0},null,{"$f":"IF(B19=0,0,IF('Simulador Pagos Oportunos'!$X$41=4,'Simulador Pagos Oportunos'!$I$55,IF('Simulador Pagos Oportunos'!$X$41=1,'Simulador Pagos Oportunos'!$K$55,IF('Simulador Pagos Oportunos'!$X$41=2,'Simulador Pagos Oportunos'!$M$55,IF('Simulador Pagos Oportunos'!$X$41=3,'Simulador Pagos Oportunos'!$O$55,0)))))","v":0},null,0,null,null,null,0,{"$f":"'Simulador Pagos Oportunos'!$AC$77","v":0.13},{"$f":"AD18","v":0.13},0.13,0.13,0.13,0,0,0,3,0,0,0,{"$f":"IF(AS18<0,0,IF($A19=$B$9,AS18+$D$9,IF($A19=$B$10,AS18+$D$10,AS18)))","v":0},{"$f":"IF(AO19+AQ19-AP18<=0,AO19+AQ19,IF($A19=$B$9,$F$9,IF($A19=$B$10,$F$10,AP18*(1+AV19))))","v":0},0,0,0,{"$f":"IF(AO19=0,\"\",IF('Simulador Pagos Oportunos'!$X$41=4,AD19,IF('Simulador Pagos Oportunos'!$X$41=1,AE19,IF('Simulador Pagos Oportunos'!$X$41=2,AF19,IF('Simulador Pagos Oportunos'!$X$41=3,AG19,AC19)))))","v":""},{"$f":"IF(AO19<=0,0,IF('Simulador Pagos Oportunos'!$Y$71=1,0,AO19*'Simulador Pagos Oportunos'!$Y$74))+IF(AO19<=0,0,IF('Simulador Pagos Oportunos'!$X$41=4,'Simulador Pagos Oportunos'!$I$55,IF('Simulador Pagos Oportunos'!$X$41=1,'Simulador Pagos Oportunos'!$K$55,IF('Simulador Pagos Oportunos'!$X$41=2,'Simulador Pagos Oportunos'!$M$55,'Simulador Pagos Oportunos'!$O$55))))","v":0},null,0,0,{"$f":"IF(AO19=0,\"\",DATE(YEAR(AY18),MONTH(AY18)+1,1))","v":""},0,3,"Días/Mes",{"$f":"365.25/12","v":30.4375}]
[4,0,null,{"$f":"IF(B20+F20-D19<=0,B20+F20,IF(A20=$B$9,$F$9,IF(A20=$B$10,$F$10,IF(AND('Simulador Pagos Oportunos'!$AH$45=2,L19=0),D19*(1+Z20),IF($AL$3=2,B20*AI20,D19*(1+Z20))))))","v":0},null,0,null,0,null,{"$f":"IF(B20-H20=0,0,J18)","v":0},null,null,null,{"$f":"IF('Simulador Pagos Oportunos'!$V$66=1,0,L20*'Simulador Pagos Oportunos'!$O$69*'Simulador Pagos Oportunos'!$W$65)","v":0},null,{"$f":"IF(B20=0,\"\",IF('Simulador Pagos Oportunos'!$X$41=4,AD20,IF('Simulador Pagos Oportunos'!$X$41=1,AE20,IF('Simulador Pagos Oportunos'!$X$41=2,AF20,IF('Simulador Pagos Oportunos'!$X$41=3,AG20,AC20)))))","v":""},null,0,null,{"$f":"IF(B20<=0,0,B20*IF('Simulador Pagos Oportunos'!$Y$71=1,0,'Simulador Pagos Oportunos'!$Y$74))","v":0},null,{"$f":"IF(B20=0,0,IF('Simulador Pagos Oportunos'!$X$41=4,'Simulador Pagos Oportunos'!$I$55,IF('Simulador Pagos Oportunos'!$X$41=1,'Simulador Pagos Oportunos'!$K$55,IF('Simulador Pagos Oportunos'!$X$41=2,'Simulador Pagos Oportunos'!$M$55,IF('Simulador Pagos Oportunos'!$X$41=3,'Simulador Pagos Oportunos'!$O$55,0)))))","v":0},null,0,null,null,null,0,{"$f":"'Simulador Pagos Oportunos'!$AC$77","v":0.13},0.13,0.13,0.13,0.13,0,0,0,4,0,0,0,0,0,0,0,0,{"$f":"IF(AO20=0,\"\",IF('Simulador Pagos Oportunos'!$X$41=4,AD20,IF('Simulador Pagos Oportunos'!$X$41=1,AE20,IF('Simulador Pagos Oportunos'!$X$41=2,AF20,IF('Simulador Pagos Oportunos'!$X$41=3,AG20,AC20)))))","v":""},{"$f":"IF(AO20<=0,0,IF('Simulador Pagos Oportunos'!$Y$71=1,0,AO20*'Simulador Pagos Oportunos'!$Y$74))+IF(AO20<=0,0,IF('Simulador Pagos Oportunos'!$X$41=4,'Simulador Pagos Oportunos'!$I$55,IF('Simulador Pagos Oportunos'!$X$41=1,'Simulador Pagos Oportunos'!$K$55,IF('Simulador Pagos Oportunos'!$X$41=2,'Simulador Pagos Oportunos'!$M$55,'Simulador Pagos Oportunos'!$O$55))))","v":0},null,0,0,"",0,4,null,"Interés mensual = Sdo inicial x tasa / 360 x # días del mes"]
[5,0,null,{"$f":"IF(B21+F21-D20<=0,B21+F21,IF(A21=$B$9,$F$9,IF(A21=$B$10,$F$10,IF(AND('Simulador Pagos Oportunos'!$AH$45=2,L20=0),D20*(1+Z21),IF($AL$3=2,B21*AI21,D20*(1+Z21))))))","v":0},null,0,null,0,null,null,null,null,null,{"$f":"IF('Simulador Pagos Oportunos'!$V$66=1,0,L21*'Simulador Pagos Oportunos'!$O$69*'Simulador Pagos Oportunos'!$W$65)","v":0},null,{"$f":"IF(B21=0,\"\",IF('Simulador Pagos Oportunos'!$X$41=4,AD21,IF('Simulador Pagos Oportunos'!$X$41=1,AE21,IF('Simulador Pagos Oportunos'!$X$41=2,AF21,IF('Simulador Pagos Oportunos'!$X$41=3,AG21,AC21)))))","v":""},null,0,null,{"$f":"IF(B21<=0,0,B21*IF('Simulador Pagos Oportunos'!$Y$71=1,0,'Simulador Pagos Oportunos'!$Y$74))","v":0},null,{"$f":"IF(B21=0,0,IF('Simulador Pagos Oportunos'!$X$41=4,'Simulador Pagos Oportunos'!$I$55,IF('Simulador Pagos Oportunos'!$X$41=1,'Simulador Pagos Oportunos'!$K$55,IF('Simulador Pagos Oportunos'!$X$41=2,'Simulador Pagos Oportunos'!$M$55,IF('Simulador Pagos Oportunos'!$X$41=3,'Simulador Pagos Oportunos'!$O$55,0)))))","v":0},null,0,null,null,null,0,{"$f":"'Simulador Pagos Oportunos'!$AC$77","v":0.13},0.13,0.13,0.13,0.13,0,0,0,5,0,0,0,0,0,0,0,0,{"$f":"IF(AO21=0,\"\",IF('Simulador Pagos Oportunos'!$X$41=4,AD21,IF('Simulador Pagos Oportunos'!$X$41=1,AE21,IF('Simulador Pagos Oportunos'!$X$41=2,AF21,IF('Simulador Pagos Oportunos'!$X$41=3,AG21,AC21)))))","v":""},{"$f":"IF(AO21<=0,0,IF('Simulador Pagos Oportunos'!$Y$71=1,0,AO21*'Simulador Pagos Oportunos'!$Y$74))+IF(AO21<=0,0,IF('Simulador Pagos Oportunos'!$X$41=4,'Simulador Pagos Oportunos'!$I$55,IF('Simulador Pagos Oportunos'!$X$41=1,'Simulador Pagos Oportunos'!$K$55,IF('Simulador Pagos Oportunos'!$X$41=2,'Simulador Pagos Oportunos'!$M$55,'Simulador Pagos Oportunos'!$O$55))))","v":0},null,0,0,"",0,5]
[6,0,null,{"$f":"IF(B22+F22-D21<=0,B22+F22,IF(A22=$B$9,$F$9,IF(A22=$B$10,$F$10,IF(AND('Simulador Pagos Oportunos'!$AH$45=2,L21=0),D21*(1+Z22),IF($AL$3=2,B22*AI22,D21*(1+Z22))))))","v":0},null,0,null,0,null,{"$f":"IF(B22-H22=0,0,J20)","v":0},null,null,null,{"$f":"IF('Simulador Pagos Oportunos'!$V$66=1,0,L22*'Simulador Pagos Oportunos'!$O$69*'Simulador Pagos Oportunos'!$W$65)","v":0},null,{"$f":"IF(B22=0,\"\",IF('Simulador Pagos Oportunos'!$X$41=4,AD22,IF('Simulador Pagos Oportunos'!$X$41=1,AE22,IF('Simulador Pagos Oportunos'!$X$41=2,AF22,IF('Simulador Pagos Oportunos'!$X$41=3,AG22,AC22)))))","v":""},null,0,null,{"$f":"IF(B22<=0,0,B22*IF('Simulador Pagos Oportunos'!$Y$71=1,0,'Simulador Pagos Oportunos'!$Y$74))","v":0},null,{"$f":"IF(B22=0,0,IF('Simulador Pagos Oportunos'!$X$41=4,'Simulador Pagos Oportunos'!$I$55,IF('Simulador Pagos Oportunos'!$X$41=1,'Simulador Pagos Oportunos'!$K$55,IF('Simulador Pagos Oportunos'!$X$41=2,'Simulador Pagos Oportunos'!$M$55,IF('Simulador Pagos Oportunos'!$X$41=3,'Simulador Pagos Oportunos'!$O$55,0)))))","v":0},null,0,null,null,null,0,{"$f":"'Simulador Pagos Oportunos'!$AC$77","v":0.13},0.13,0.13,0.13,0.13,0,0,0,6,0,0,0,0,0,0,0,0,{"$f":"IF(AO22=0,\"\",IF('Simulador Pagos Oportunos'!$X$41=4,AD22,IF('Simulador Pagos Oportunos'!$X$41=1,AE22,IF('Simulador Pagos Oportunos'!$X$41=2,AF22,IF('Simulador Pagos Oportunos'!$X$41=3,AG22,AC22)))))","v":""},{"$f":"IF(AO22<=0,0,IF('Simulador Pagos Oportunos'!$Y$71=1,0,AO22*'Simulador Pagos Oportunos'!$Y$74))+IF(AO22<=0,0,IF('Simulador Pagos Oportunos'!$X$41=4,'Simulador Pagos Oportunos'!$I$55,IF('Simulador Pagos Oportunos'!$X$41=1,'Simulador Pagos Oportunos'!$K$55,IF('Simulador Pagos Oportunos'!$X$41=2,'Simulador Pagos Oportunos'!$M$55,'Simulador Pagos Oportunos'!$O$55))))","v":0},null,0,0,"",0,6]
[7,0,null,{"$f":"IF(B23+F23-D22<=0,B23+F23,IF(A23=$B$9,$F$9,IF(A23=$B$10,$F$10,IF(AND('Simulador Pagos Oportunos'!$AH$45=2,L22=0),D22*(1+Z23),IF($AL$3=2,B23*AI23,D22*(1+Z23))))))","v":0},null,0,null,0,null,null,null,null,null,{"$f":"IF('Simulador Pagos Oportunos'!$V$66=1,0,L23*'Simulador Pagos Oportunos'!$O$69*'Simulador Pagos Oportunos'!$W$65)","v":0},null,{"$f":"IF(B23=0,\"\",IF('Simulador Pagos Oportunos'!$X$41=4,AD23,IF('Simulador Pagos Oportunos'!$X$41=1,AE23,IF('Simulador Pagos Oportunos'!$X$41=2,AF23,IF('Simulador Pagos Oportunos'!$X$41=3,AG23,AC23)))))","v":""},null,0,null,{"$f":"IF(B23<=0,0,B23*IF('Simulador Pagos Oportunos'!$Y$71=1,0,'Simulador Pagos Oportunos'!$Y$74))","v":0},null,{"$f":"IF(B23=0,0,IF('Simulador Pagos Oportunos'!$X$41=4,'Simulador Pagos Oportunos'!$I$55,IF('Simulador Pagos Oportunos'!$X$41=1,'Simulador Pagos Oportunos'!$K$55,IF('Simulador Pagos Oportunos'!$X$41=2,'Simulador Pagos Oportunos'!$M$55,IF('Simulador Pagos Oportunos'!$X$41=3,'Simulador Pagos Oportunos'!$O$55,0)))))","v":0},null,0,null,null,null,0,{"$f":"'Simulador Pagos Oportunos'!$AC$77","v":0.13},0.13,0.13,0.13,0.13,0,0,0,7,0,0,0,0,0,0,0,0,{"$f":"IF(AO23=0,\"\",IF('Simulador Pagos Oportunos'!$X$41=4,AD23,IF('Simulador Pagos Oportunos'!$X$41=1,AE23,IF('Simulador Pagos Oportunos'!$X$41=2,AF23,IF('Simulador Pagos Oportunos'!$X$41=3,AG23,AC23)))))","v":""},{"$f":"IF(AO23<=0,0,IF('Simulador Pagos Oportunos'!$Y$71=1,0,AO23*'Simulador Pagos Oportunos'!$Y$74))+IF(AO23<=0,0,IF('Simulador Pagos Oportunos'!$X$41=4,'Simulador Pagos Oportunos'!$I$55,IF('Simulador Pagos Oportunos'!$X$41=1,'Simulador Pagos Oportunos'!$K$55,IF('Simulador Pagos Oportunos'!$X$41=2,'Simulador Pagos Oportunos'!$M$55,'Simulador Pagos Oportunos'!$O$55))))","v":0},null,0,0,"",0,7]
[8,0,null,{"$f":"IF(B24+F24-D23<=0,B24+F24,IF(A24=$B$9,$F$9,IF(A24=$B$10,$F$10,IF(AND('Simulador Pagos Oportunos'!$AH$45=2,L23=0),D23*(1+Z24),IF($AL$3=2,B24*AI24,D23*(1+Z24))))))","v":0},null,0,null,0,null,{"$f":"IF(B24-H24=0,0,J22)","v":0},null,null,null,{"$f":"IF('Simulador Pagos Oportunos'!$V$66=1,0,L24*'Simulador Pagos Oportunos'!$O$69*'Simulador Pagos Oportunos'!$W$65)","v":0},null,{"$f":"IF(B24=0,\"\",IF('Simulador Pagos Oportunos'!$X$41=4,AD24,IF('Simulador Pagos Oportunos'!$X$41=1,AE24,IF('Simulador Pagos Oportunos'!$X$41=2,AF24,IF('Simulador Pagos Oportunos'!$X$41=3,AG24,AC24)))))","v":""},null,0,null,{"$f":"IF(B24<=0,0,B24*IF('Simulador Pagos Oportunos'!$Y$71=1,0,'Simulador Pagos Oportunos'!$Y$74))","v":0},null,{"$f":"IF(B24=0,0,IF('Simulador Pagos Oportunos'!$X$41=4,'Simulador Pagos Oportunos'!$I$55,IF('Simulador Pagos Oportunos'!$X$41=1,'Simulador Pagos Oportunos'!$K$55,IF('Simulador Pagos Oportunos'!$X$41=2,'Simulador Pagos Oportunos'!$M$55,IF('Simulador Pagos Oportunos'!$X$41=3,'Simulador Pagos Oportunos'!$O$55,0)))))","v":0},null,0,null,null,null,0,{"$f":"'Simulador Pagos Oportunos'!$AC$77","v":0.13},0.13,0.13,0.13,0.13,0,0,0,8,0,0,0,0,0,0,0,0,{"$f":"IF(AO24=0,\"\",IF('Simulador Pagos Oportunos'!$X$41=4,AD24,IF('Simulador Pagos Oportunos'!$X$41=1,AE24,IF('Simulador Pagos Oportunos'!$X$41=2,AF24,IF('Simulador Pagos Oportunos'!$X$41=3,AG24,AC24)))))","v":""},{"$f":"IF(AO24<=0,0,IF('Simulador Pagos Oportunos'!$Y$71=1,0,AO24*'Simulador Pagos Oportunos'!$Y$74))+IF(AO24<=0,0,IF('Simulador Pagos Oportunos'!$X$41=4,'Simulador Pagos Oportunos'!$I$55,IF('Simulador Pagos Oportunos'!$X$41=1,'Simulador Pagos Oportunos'!$K$55,IF('Simulador Pagos Oportunos'!$X$41=2,'Simulador Pagos Oportunos'!$M$55,'Simulador Pagos Oportunos'!$O$55))))","v":0},null,0,0,"",0,8]
[9,0,null,{"$f":"IF(B25+F25-D24<=0,B25+F25,IF(A25=$B$9,$F$9,IF(A25=$B$10,$F$10,IF(AND('Simulador Pagos Oportunos'!$AH$45=2,L24=0),D24*(1+Z25),IF($AL$3=2,B25*AI25,D24*(1+Z25))))))","v":0},null,0,null,0,null,null,null,null,null,{"$f":"IF('Simulador Pagos Oportunos'!$V$66=1,0,L25*'Simulador Pagos Oportunos'!$O$69*'Simulador Pagos Oportunos'!$W$65)","v":0},null,{"$f":"IF(B25=0,\"\",IF('Simulador Pagos Oportunos'!$X$41=4,AD25,IF('Simulador Pagos Oportunos'!$X$41=1,AE25,IF('Simulador Pagos Oportunos'!$X$41=2,AF25,IF('Simulador Pagos Oportunos'!$X$41=3,AG25,AC25)))))","v":""},null,0,null,{"$f":"IF(B25<=0,0,B25*IF('Simulador Pagos Oportunos'!$Y$71=1,0,'Simulador Pagos Oportunos'!$Y$74))","v":0},null,{"$f":"IF(B25=0,0,IF('Simulador Pagos Oportunos'!$X$41=4,'Simulador Pagos Oportunos'!$I$55,IF('Simulador Pagos Oportunos'!$X$41=1,'Simulador Pagos Oportunos'!$K$55,IF('Simulador Pagos Oportunos'!$X$41=2,'Simulador Pagos Oportunos'!$M$55,IF('Simulador Pagos Oportunos'!$X$41=3,'Simulador Pagos Oportunos'!$O$55,0)))))","v":0},null,0,null,null,null,0,{"$f":"'Simulador Pagos Oportunos'!$AC$77","v":0.13},0.13,0.13,0.13,0.13,0,0,0,9,0,0,0,0,0,0,0,0,{"$f":"IF(AO25=0,\"\",IF('Simulador Pagos Oportunos'!$X$41=4,AD25,IF('Simulador Pagos Oportunos'!$X$41=1,AE25,IF('Simulador Pagos Oportunos'!$X$41=2,AF25,IF('Simulador Pagos Oportunos'!$X$41=3,AG25,AC25)))))","v":""},{"$f":"IF(AO25<=0,0,IF('Simulador Pagos Oportunos'!$Y$71=1,0,AO25*'Simulador Pagos Oportunos'!$Y$74))+IF(AO25<=0,0,IF('Simulador Pagos Oportunos'!$X$41=4,'Simulador Pagos Oportunos'!$I$55,IF('Simulador Pagos Oportunos'!$X$41=1,'Simulador Pagos Oportunos'!$K$55,IF('Simulador Pagos Oportunos'!$X$41=2,'Simulador Pagos Oportunos'!$M$55,'Simulador Pagos Oportunos'!$O$55))))","v":0},null,0,0,"",0,9]
[10,0,null,{"$f":"IF(B26+F26-D25<=0,B26+F26,IF(A26=$B$9,$F$9,IF(A26=$B$10,$F$10,IF(AND('Simulador Pagos Oportunos'!$AH$45=2,L25=0),D25*(1+Z26),IF($AL$3=2,B26*AI26,D25*(1+Z26))))))","v":0},null,0,null,0,null,{"$f":"IF(B26-H26=0,0,J24)","v":0},null,null,null,{"$f":"IF('Simulador Pagos Oportunos'!$V$66=1,0,L26*'Simulador Pagos Oportunos'!$O$69*'Simulador Pagos Oportunos'!$W$65)","v":0},null,{"$f":"IF(B26=0,\"\",IF('Simulador Pagos Oportunos'!$X$41=4,AD26,IF('Simulador Pagos Oportunos'!$X$41=1,AE26,IF('Simulador Pagos Oportunos'!$X$41=2,AF26,IF('Simulador Pagos Oportunos'!$X$41=3,AG26,AC26)))))","v":""},null,0,null,{"$f":"IF(B26<=0,0,B26*IF('Simulador Pagos Oportunos'!$Y$71=1,0,'Simulador Pagos Oportunos'!$Y$74))","v":0},null,{"$f":"IF(B26=0,0,IF('Simulador Pagos Oportunos'!$X$41=4,'Simulador Pagos Oportunos'!$I$55,IF('Simulador Pagos Oportunos'!$X$41=1,'Simulador Pagos Oportunos'!$K$55,IF('Simulador Pagos Oportunos'!$X$41=2,'Simulador Pagos Oportunos'!$M$55,IF('Simulador Pagos Oportunos'!$X$41=3,'Simulador Pagos Oportunos'!$O$55,0)))))","v":0},null,0,null,null,null,0,{"$f":"'Simulador Pagos Oportunos'!$AC$77","v":0.13},0.13,0.13,0.13,0.13,0,0,0,10,0,0,0,0,0,0,0,0,{"$f":"IF(AO26=0,\"\",IF('Simulador Pagos Oportunos'!$X$41=4,AD26,IF('Simulador Pagos Oportunos'!$X$41=1,AE26,IF('Simulador Pagos Oportunos'!$X$41=2,AF26,IF('Simulador Pagos Oportunos'!$X$41=3,AG26,AC26)))))","v":""},{"$f":"IF(AO26<=0,0,IF('Simulador Pagos Oportunos'!$Y$71=1,0,AO26*'Simulador Pagos Oportunos'!$Y$74))+IF(AO26<=0,0,IF('Simulador Pagos Oportunos'!$X$41=4,'Simulador Pagos Oportunos'!$I$55,IF('Simulador Pagos Oportunos'!$X$41=1,'Simulador Pagos Oportunos'!$K$55,IF('Simulador Pagos Oportunos'!$X$41=2,'Simulador Pagos Oportunos'!$M$55,'Simulador Pagos Oportunos'!$O$55))))","v":0},null,0,0,"",0,10]
[11,0,null,{"$f":"IF(B27+F27-D26<=0,B27+F27,IF(A27=$B$9,$F$9,IF(A27=$B$10,$F$10,IF(AND('Simulador Pagos Oportunos'!$AH$45=2,L26=0),D26*(1+Z27),IF($AL$3=2,B27*AI27,D26*(1+Z27))))))","v":0},null,0,null,0,null,null,null,null,null,{"$f":"IF('Simulador Pagos Oportunos'!$V$66=1,0,L27*'Simulador Pagos Oportunos'!$O$69*'Simulador Pagos Oportunos'!$W$65)","v":0},null,{"$f":"IF(B27=0,\"\",IF('Simulador Pagos Oportunos'!$X$41=4,AD27,IF('Simulador Pagos Oportunos'!$X$41=1,AE27,IF('Simulador Pagos Oportunos'!$X$41=2,AF27,IF('Simulador Pagos Oportunos'!$X$41=3,AG27,AC27)))))","v":""},null,0,null,{"$f":"IF(B27<=0,0,B27*IF('Simulador Pagos Oportunos'!$Y$71=1,0,'Simulador Pagos Oportunos'!$Y$74))","v":0},null,{"$f":"IF(B27=0,0,IF('Simulador Pagos Oportunos'!$X$41=4,'Simulador Pagos Oportunos'!$I$55,IF('Simulador Pagos Oportunos'!$X$41=1,'Simulador Pagos Oportunos'!$K$55,IF('Simulador Pagos Oportunos'!$X$41=2,'Simulador Pagos Oportunos'!$M$55,IF('Simulador Pagos Oportunos'!$X$41=3,'Simulador Pagos Oportunos'!$O$55,0)))))","v":0},null,0,null,null,null,0,{"$f":"'Simulador Pagos Oportunos'!$AC$77","v":0.13},0.13,0.13,0.13,0.13,0,0,0,11,0,0,0,0,0,0,0,0,{"$f":"IF(AO27=0,\"\",IF('Simulador Pagos Oportunos'!$X$41=4,AD27,IF('Simulador Pagos Oportunos'!$X$41=1,AE27,IF('Simulador Pagos Oportunos'!$X$41=2,AF27,IF('Simulador Pagos Oportunos'!$X$41=3,AG27,AC27)))))","v":""},{"$f":"IF(AO27<=0,0,IF('Simulador Pagos Oportunos'!$Y$71=1,0,AO27*'Simulador Pagos Oportunos'!$Y$74))+IF(AO27<=0,0,IF('Simulador Pagos Oportunos'!$X$41=4,'Simulador Pagos Oportunos'!$I$55,IF('Simulador Pagos Oportunos'!$X$41=1,'Simulador Pagos Oportunos'!$K$55,IF('Simulador Pagos Oportunos'!$X$41=2,'Simulador Pagos Oportunos'!$M$55,'Simulador Pagos Oportunos'!$O$55))))","v":0},null,0,0,"",0,11]
[12,0,null,{"$f":"IF(B28+F28-D27<=0,B28+F28,IF(A28=$B$9,$F$9,IF(A28=$B$10,$F$10,IF(AND('Simulador Pagos Oportunos'!$AH$45=2,L27=0),D27*(1+Z28),IF($AL$3=2,B28*AI28,D27*(1+Z28))))))","v":0},null,0,null,0,null,{"$f":"IF(B28-H28=0,0,J26)","v":0},null,null,null,{"$f":"IF('Simulador Pagos Oportunos'!$V$66=1,0,L28*'Simulador Pagos Oportunos'!$O$69*'Simulador Pagos Oportunos'!$W$65)","v":0},null,{"$f":"IF(B28=0,\"\",IF('Simulador Pagos Oportunos'!$X$41=4,AD28,IF('Simulador Pagos Oportunos'!$X$41=1,AE28,IF('Simulador Pagos Oportunos'!$X$41=2,AF28,IF('Simulador Pagos Oportunos'!$X$41=3,AG28,AC28)))))","v":""},null,0,null,{"$f":"IF(B28<=0,0,B28*IF('Simulador Pagos Oportunos'!$Y$71=1,0,'Simulador Pagos Oportunos'!$Y$74))","v":0},null,{"$f":"IF(B28=0,0,IF('Simulador Pagos Oportunos'!$X$41=4,'Simulador Pagos Oportunos'!$I$55,IF('Simulador Pagos Oportunos'!$X$41=1,'Simulador Pagos Oportunos'!$K$55,IF('Simulador Pagos Oportunos'!$X$41=2,'Simulador Pagos Oportunos'!$M$55,IF('Simulador Pagos Oportunos'!$X$41=3,'Simulador Pagos Oportunos'!$O$55,0)))))","v":0},null,0,null,null,null,0,{"$f":"'Simulador Pagos Oportunos'!$AC$77","v":0.13},0.13,0.13,0.13,0.13,0,0,1,0,0,0,0,0,0,0,0,0,{"$f":"IF(AO28=0,\"\",IF('Simulador Pagos Oportunos'!$X$41=4,AD28,IF('Simulador Pagos Oportunos'!$X$41=1,AE28,IF('Simulador Pagos Oportunos'!$X$41=2,AF28,IF('Simulador Pagos Oportunos'!$X$41=3,AG28,AC28)))))","v":""},{"$f":"IF(AO28<=0,0,IF('Simulador Pagos Oportunos'!$Y$71=1,0,AO28*'Simulador Pagos Oportunos'!$Y$74))+IF(AO28<=0,0,IF('Simulador Pagos Oportunos'!$X$41=4,'Simulador Pagos Oportunos'!$I$55,IF('Simulador Pagos Oportunos'!$X$41=1,'Simulador Pagos Oportunos'!$K$55,IF('Simulador Pagos Oportunos'!$X$41=2,'Simulador Pagos Oportunos'!$M$55,'Simulador Pagos Oportunos'!$O$55))))","v":0},null,0,0,"",0,12]
[13,0,null,{"$f":"IF(B29+F29-D28<=0,B29+F29,IF(A29=$B$9,$F$9,IF(A29=$B$10,$F$10,IF(AND('Simulador Pagos Oportunos'!$AH$45=2,L28=0),D28*(1+Z29),IF($AL$3=2,B29*AI29,D28*(1+Z29))))))","v":0},null,0,null,0,null,null,null,null,null,{"$f":"IF('Simulador Pagos Oportunos'!$V$66=1,0,L29*'Simulador Pagos Oportunos'!$O$69*'Simulador Pagos Oportunos'!$W$65)","v":0},null,{"$f":"IF(B29=0,\"\",IF('Simulador Pagos Oportunos'!$X$41=4,AD29,IF('Simulador Pagos Oportunos'!$X$41=1,AE29,IF('Simulador Pagos Oportunos'!$X$41=2,AF29,IF('Simulador Pagos Oportunos'!$X$41=3,AG29,AC29)))))","v":""},null,0,null,{"$f":"IF(B29<=0,0,B29*IF('Simulador Pagos Oportunos'!$Y$71=1,0,'Simulador Pagos Oportunos'!$Y$74))","v":0},null,{"$f":"IF(B29=0,0,IF('Simulador Pagos Oportunos'!$X$41=4,'Simulador Pagos Oportunos'!$I$55,IF('Simulador Pagos Oportunos'!$X$41=1,'Simulador Pagos Oportunos'!$K$55,IF('Simulador Pagos Oportunos'!$X$41=2,'Simulador Pagos Oportunos'!$M$55,IF('Simulador Pagos Oportunos'!$X$41=3,'Simulador Pagos Oportunos'!$O$55,0)))))","v":0},null,0,null,{"$f":"IF(B29<=0,0,'Simulador Pagos Oportunos'!$AI$54)","v":0},null,0,{"$f":"'Simulador Pagos Oportunos'!$AC$77","v":0.13},{"$f":"AD28-0.2%","v":0.128},{"$f":"AE28-0.2%","v":0.128},{"$f":"AF28-0.2%","v":0.128},{"$f":"AG28-0.2%","v":0.128},0,0,1,1,0,0,0,0,0,0,0,0,{"$f":"IF(AO29=0,\"\",IF('Simulador Pagos Oportunos'!$X$41=4,AD29,IF('Simulador Pagos Oportunos'!$X$41=1,AE29,IF('Simulador Pagos Oportunos'!$X$41=2,AF29,IF('Simulador Pagos Oportunos'!$X$41=3,AG29,AC29)))))","v":""},{"$f":"IF(AO29<=0,0,IF('Simulador Pagos Oportunos'!$Y$71=1,0,AO29*'Simulador Pagos Oportunos'!$Y$74))+IF(AO29<=0,0,IF('Simulador Pagos Oportunos'!$X$41=4,'Simulador Pagos Oportunos'!$I$55,IF('Simulador Pagos Oportunos'!$X$41=1,'Simulador Pagos Oportunos'!$K$55,IF('Simulador Pagos Oportunos'!$X$41=2,'Simulador Pagos Oportunos'!$M$55,'Simulador Pagos Oportunos'!$O$55))))","v":0},{"$f":"IF(B29<=0,0,'Simulador Pagos Oportunos'!$AI$54)","v":0},0,0,"",0,13]
[14,0,null,{"$f":"IF(B30+F30-D29<=0,B30+F30,IF(A30=$B$9,$F$9,IF(A30=$B$10,$F$10,IF(AND('Simulador Pagos Oportunos'!$AH$45=2,L29=0),D29*(1+Z30),IF($AL$3=2,B30*AI30,D29*(1+Z30))))))","v":0},null,0,null,0,null,{"$f":"IF(B30-H30=0,0,J28*(1+(3%)))","v":0},null,null,null,{"$f":"IF('Simulador Pagos Oportunos'!$V$66=1,0,L30*'Simulador Pagos Oportunos'!$O$69*'Simulador Pagos Oportunos'!$W$65)","v":0},null,{"$f":"IF(B30=0,\"\",IF('Simulador Pagos Oportunos'!$X$41=4,AD30,IF('Simulador Pagos Oportunos'!$X$41=1,AE30,IF('Simulador Pagos Oportunos'!$X$41=2,AF30,IF('Simulador Pagos Oportunos'!$X$41=3,AG30,AC30)))))","v":""},null,0,null,{"$f":"IF(B30<=0,0,B30*IF('Simulador Pagos Oportunos'!$Y$71=1,0,'Simulador Pagos Oportunos'!$Y$74))","v":0},null,{"$f":"IF(B30=0,0,IF('Simulador Pagos Oportunos'!$X$41=4,'Simulador Pagos Oportunos'!$I$55,IF('Simulador Pagos Oportunos'!$X$41=1,'Simulador Pagos Oportunos'!$K$55,IF('Simulador Pagos Oportunos'!$X$41=2,'Simulador Pagos Oportunos'!$M$55,IF('Simulador Pagos Oportunos'!$X$41=3,'Simulador Pagos Oportunos'!$O$55,0)))))","v":0},null,0,null,null,null,0,{"$f":"'Simulador Pagos Oportunos'!$AC$77","v":0.13},{"$f":"AD29","v":0.128},{"$f":"AE29","v":0.128},0.128,0.128,0,0,1,2,0,0,0,0,0,0,0,0,{"$f":"IF(AO30=0,\"\",IF('Simulador Pagos Oportunos'!$X$41=4,AD30,IF('Simulador Pagos Oportunos'!$X$41=1,AE30,IF('Simulador Pagos Oportunos'!$X$41=2,AF30,IF('Simulador Pagos Oportunos'!$X$41=3,AG30,AC30)))))","v":""},{"$f":"IF(AO30<=0,0,IF('Simulador Pagos Oportunos'!$Y$71=1,0,AO30*'Simulador Pagos Oportunos'!$Y$74))+IF(AO30<=0,0,IF('Simulador Pagos Oportunos'!$X$41=4,'Simulador Pagos Oportunos'!$I$55,IF('Simulador Pagos Oportunos'!$X$41=1,'Simulador Pagos Oportunos'!$K$55,IF('Simulador Pagos Oportunos'!$X$41=2,'Simulador Pagos Oportunos'!$M$55,'Simulador Pagos Oportunos'!$O$55))))","v":0},null,0,0,"",0,14]
[15,0,null,{"$f":"IF(B31+F31-D30<=0,B31+F31,IF(A31=$B$9,$F$9,IF(A31=$B$10,$F$10,IF(AND('Simulador Pagos Oportunos'!$AH$45=2,L30=0),D30*(1+Z31),IF($AL$3=2,B31*AI31,D30*(1+Z31))))))","v":0},null,0,null,0,null,null,null,null,null,{"$f":"IF('Simulador Pagos Oportunos'!$V$66=1,0,L31*'Simulador Pagos Oportunos'!$O$69*'Simulador Pagos Oportunos'!$W$65)","v":0},null,{"$f":"IF(B31=0,\"\",IF('Simulador Pagos Oportunos'!$X$41=4,AD31,IF('Simulador Pagos Oportunos'!$X$41=1,AE31,IF('Simulador Pagos Oportunos'!$X$41=2,AF31,IF('Simulador Pagos Oportunos'!$X$41=3,AG31,AC31)))))","v":""},null,0,null,{"$f":"IF(B31<=0,0,B31*IF('Simulador Pagos Oportunos'!$Y$71=1,0,'Simulador Pagos Oportunos'!$Y$74))","v":0},null,{"$f":"IF(B31=0,0,IF('Simulador Pagos Oportunos'!$X$41=4,'Simulador Pagos Oportunos'!$I$55,IF('Simulador Pagos Oportunos'!$X$41=1,'Simulador Pagos Oportunos'!$K$55,IF('Simulador Pagos Oportunos'!$X$41=2,'Simulador Pagos Oportunos'!$M$55,IF('Simulador Pagos Oportunos'!$X$41=3,'Simulador Pagos Oportunos'!$O$55,0)))))","v":0},null,0,null,null,null,0,{"$f":"'Simulador Pagos Oportunos'!$AC$77","v":0.13},{"$f":"AD30","v":0.128},0.128,0.128,0.128,0,0,1,3,0,0,0,0,0,0,0,0,{"$f":"IF(AO31=0,\"\",IF('Simulador Pagos Oportunos'!$X$41=4,AD31,IF('Simulador Pagos Oportunos'!$X$41=1,AE31,IF('Simulador Pagos Oportunos'!$X$41=2,AF31,IF('Simulador Pagos Oportunos'!$X$41=3,AG31,AC31)))))","v":""},{"$f":"IF(AO31<=0,0,IF('Simulador Pagos Oportunos'!$Y$71=1,0,AO31*'Simulador Pagos Oportunos'!$Y$74))+IF(AO31<=0,0,IF('Simulador Pagos Oportunos'!$X$41=4,'Simulador Pagos Oportunos'!$I$55,IF('Simulador Pagos Oportunos'!$X$41=1,'Simulador Pagos Oportunos'!$K$55,IF('Simulador Pagos Oportunos'!$X$41=2,'Simulador Pagos Oportunos'!$M$55,'Simulador Pagos Oportunos'!$O$55))))","v":0},null,0,0,"",0,15]
[16,0,null,{"$f":"IF(B32+F32-D31<=0,B32+F32,IF(A32=$B$9,$F$9,IF(A32=$B$10,$F$10,IF(AND('Simulador Pagos Oportunos'!$AH$45=2,L31=0),D31*(1+Z32),IF($AL$3=2,B32*AI32,D31*(1+Z32))))))","v":0},null,0,null,0,null,{"$f":"IF(B32-H32=0,0,J30)","v":0},null,null,null,{"$f":"IF('Simulador Pagos Oportunos'!$V$66=1,0,L32*'Simulador Pagos Oportunos'!$O$69*'Simulador Pagos Oportunos'!$W$65)","v":0},null,{"$f":"IF(B32=0,\"\",IF('Simulador Pagos Oportunos'!$X$41=4,AD32,IF('Simulador Pagos Oportunos'!$X$41=1,AE32,IF('Simulador Pagos Oportunos'!$X$41=2,AF32,IF('Simulador Pagos Oportunos'!$X$41=3,AG32,AC32)))))","v":""},null,0,null,{"$f":"IF(B32<=0,0,B32*IF('Simulador Pagos Oportunos'!$Y$71=1,0,'Simulador Pagos Oportunos'!$Y$74))","v":0},null,{"$f":"IF(B32=0,0,IF('Simulador Pagos Oportunos'!$X$41=4,'Simulador Pagos Oportunos'!$I$55,IF('Simulador Pagos Oportunos'!$X$41=1,'Simulador Pagos Oportunos'!$K$55,IF('Simulador Pagos Oportunos'!$X$41=2,'Simulador Pagos Oportunos'!$M$55,IF('Simulador Pagos Oportunos'!$X$41=3,'Simulador Pagos Oportunos'!$O$55,0)))))","v":0},null,0,null,null,null,0,{"$f":"'Simulador Pagos Oportunos'!$AC$77","v":0.13},0.128,0.128,0.128,0.128,0,0,1,4,0,0,0,0,0,0,0,0,{"$f":"IF(AO32=0,\"\",IF('Simulador Pagos Oportunos'!$X$41=4,AD32,IF('Simulador Pagos Oportunos'!$X$41=1,AE32,IF('Simulador Pagos Oportunos'!$X$41=2,AF32,IF('Simulador Pagos Oportunos'!$X$41=3,AG32,AC32)))))","v":""},{"$f":"IF(AO32<=0,0,IF('Simulador Pagos Oportunos'!$Y$71=1,0,AO32*'Simulador Pagos Oportunos'!$Y$74))+IF(AO32<=0,0,IF('Simulador Pagos Oportunos'!$X$41=4,'Simulador Pagos Oportunos'!$I$55,IF('Simulador Pagos Oportunos'!$X$41=1,'Simulador Pagos Oportunos'!$K$55,IF('Simulador Pagos Oportunos'!$X$41=2,'Simulador Pagos Oportunos'!$M$55,'Simulador Pagos Oportunos'!$O$55))))","v":0},null,0,0,"",0,16]
[17,0,null,{"$f":"IF(B33+F33-D32<=0,B33+F33,IF(A33=$B$9,$F$9,IF(A33=$B$10,$F$10,IF(AND('Simulador Pagos Oportunos'!$AH$45=2,L32=0),D32*(1+Z33),IF($AL$3=2,B33*AI33,D32*(1+Z33))))))","v":0},null,0,null,0,null,null,null,null,null,{"$f":"IF('Simulador Pagos Oportunos'!$V$66=1,0,L33*'Simulador Pagos Oportunos'!$O$69*'Simulador Pagos Oportunos'!$W$65)","v":0},null,{"$f":"IF(B33=0,\"\",IF('Simulador Pagos Oportunos'!$X$41=4,AD33,IF('Simulador Pagos Oportunos'!$X$41=1,AE33,IF('Simulador Pagos Oportunos'!$X$41=2,AF33,IF('Simulador Pagos Oportunos'!$X$41=3,AG33,AC33)))))","v":""},null,0,null,{"$f":"IF(B33<=0,0,B33*IF('Simulador Pagos Oportunos'!$Y$71=1,0,'Simulador Pagos Oportunos'!$Y$74))","v":0},null,{"$f":"IF(B33=0,0,IF('Simulador Pagos Oportunos'!$X$41=4,'Simulador Pagos Oportunos'!$I$55,IF('Simulador Pagos Oportunos'!$X$41=1,'Simulador Pagos Oportunos'!$K$55,IF('Simulador Pagos Oportunos'!$X$41=2,'Simulador Pagos Oportunos'!$M$55,IF('Simulador Pagos Oportunos'!$X$41=3,'Simulador Pagos Oportunos'!$O$55,0)))))","v":0},null,0,null,null,null,0,{"$f":"'Simulador Pagos Oportunos'!$AC$77","v":0.13},0.128,0.128,0.128,0.128,0,0,1,5,0,0,0,0,0,0,0,0,{"$f":"IF(AO33=0,\"\",IF('Simulador Pagos Oportunos'!$X$41=4,AD33,IF('Simulador Pagos Oportunos'!$X$41=1,AE33,IF('Simulador Pagos Oportunos'!$X$41=2,AF33,IF('Simulador Pagos Oportunos'!$X$41=3,AG33,AC33)))))","v":""},{"$f":"IF(AO33<=0,0,IF('Simulador Pagos Oportunos'!$Y$71=1,0,AO33*'Simulador Pagos Oportunos'!$Y$74))+IF(AO33<=0,0,IF('Simulador Pagos Oportunos'!$X$41=4,'Simulador Pagos Oportunos'!$I$55,IF('Simulador Pagos Oportunos'!$X$41=1,'Simulador Pagos Oportunos'!$K$55,IF('Simulador Pagos Oportunos'!$X$41=2,'Simulador Pagos Oportunos'!$M$55,'Simulador Pagos Oportunos'!$O$55))))","v":0},null,0,0,"",0,17]
[18,0,null,{"$f":"IF(B34+F34-D33<=0,B34+F34,IF(A34=$B$9,$F$9,IF(A34=$B$10,$F$10,IF(AND('Simulador Pagos Oportunos'!$AH$45=2,L33=0),D33*(1+Z34),IF($AL$3=2,B34*AI34,D33*(1+Z34))))))","v":0},null,0,null,0,null,{"$f":"IF(B34-H34=0,0,J32)","v":0},null,null,null,{"$f":"IF('Simulador Pagos Oportunos'!$V$66=1,0,L34*'Simulador Pagos Oportunos'!$O$69*'Simulador Pagos Oportunos'!$W$65)","v":0},null,{"$f":"IF(B34=0,\"\",IF('Simulador Pagos Oportunos'!$X$41=4,AD34,IF('Simulador Pagos Oportunos'!$X$41=1,AE34,IF('Simulador Pagos Oportunos'!$X$41=2,AF34,IF('Simulador Pagos Oportunos'!$X$41=3,AG34,AC34)))))","v":""},null,0,null,{"$f":"IF(B34<=0,0,B34*IF('Simulador Pagos Oportunos'!$Y$71=1,0,'Simulador Pagos Oportunos'!$Y$74))","v":0},null,{"$f":"IF(B34=0,0,IF('Simulador Pagos Oportunos'!$X$41=4,'Simulador Pagos Oportunos'!$I$55,IF('Simulador Pagos Oportunos'!$X$41=1,'Simulador Pagos Oportunos'!$K$55,IF('Simulador Pagos Oportunos'!$X$41=2,'Simulador Pagos Oportunos'!$M$55,IF('Simulador Pagos Oportunos'!$X$41=3,'Simulador Pagos Oportunos'!$O$55,0)))))","v":0},null,0,null,null,null,0,{"$f":"'Simulador Pagos Oportunos'!$AC$77","v":0.13},0.128,0.128,0.128,0.128,0,0,1,6,0,0,0,0,0,0,0,0,{"$f":"IF(AO34=0,\"\",IF('Simulador Pagos Oportunos'!$X$41=4,AD34,IF('Simulador Pagos Oportunos'!$X$41=1,AE34,IF('Simulador Pagos Oportunos'!$X$41=2,AF34,IF('Simulador Pagos Oportunos'!$X$41=3,AG34,AC34)))))","v":""},{"$f":"IF(AO34<=0,0,IF('Simulador Pagos Oportunos'!$Y$71=1,0,AO34*'Simulador Pagos Oportunos'!$Y$74))+IF(AO34<=0,0,IF('Simulador Pagos Oportunos'!$X$41=4,'Simulador Pagos Oportunos'!$I$55,IF('Simulador Pagos Oportunos'!$X$41=1,'Simulador Pagos Oportunos'!$K$55,IF('Simulador Pagos Oportunos'!$X$41=2,'Simulador Pagos Oportunos'!$M$55,'Simulador Pagos Oportunos'!$O$55))))","v":0},null,0,0,"",0,18]
[19,0,null,{"$f":"IF(B35+F35-D34<=0,B35+F35,IF(A35=$B$9,$F$9,IF(A35=$B$10,$F$10,IF(AND('Simulador Pagos Oportunos'!$AH$45=2,L34=0),D34*(1+Z35),IF($AL$3=2,B35*AI35,D34*(1+Z35))))))","v":0},null,0,null,0,null,null,null,null,null,{"$f":"IF('Simulador Pagos Oportunos'!$V$66=1,0,L35*'Simulador Pagos Oportunos'!$O$69*'Simulador Pagos Oportunos'!$W$65)","v":0},null,{"$f":"IF(B35=0,\"\",IF('Simulador Pagos Oportunos'!$X$41=4,AD35,IF('Simulador Pagos Oportunos'!$X$41=1,AE35,IF('Simulador Pagos Oportunos'!$X$41=2,AF35,IF('Simulador Pagos Oportunos'!$X$41=3,AG35,AC35)))))","v":""},null,0,null,{"$f":"IF(B35<=0,0,B35*IF('Simulador Pagos Oportunos'!$Y$71=1,0,'Simulador Pagos Oportunos'!$Y$74))","v":0},null,{"$f":"IF(B35=0,0,IF('Simulador Pagos Oportunos'!$X$41=4,'Simulador Pagos Oportunos'!$I$55,IF('Simulador Pagos Oportunos'!$X$41=1,'Simulador Pagos Oportunos'!$K$55,IF('Simulador Pagos Oportunos'!$X$41=2,'Simulador Pagos Oportunos'!$M$55,IF('Simulador Pagos Oportunos'!$X$41=3,'Simulador Pagos Oportunos'!$O$55,0)))))","v":0},null,0,null,null,null,0,{"$f":"'Simulador Pagos Oportunos'!$AC$77","v":0.13},0.128,0.128,0.128,0.128,0,0,1,7,0,0,0,0,0,0,0,0,{"$f":"IF(AO35=0,\"\",IF('Simulador Pagos Oportunos'!$X$41=4,AD35,IF('Simulador Pagos Oportunos'!$X$41=1,AE35,IF('Simulador Pagos Oportunos'!$X$41=2,AF35,IF('Simulador Pagos Oportunos'!$X$41=3,AG35,AC35)))))","v":""},{"$f":"IF(AO35<=0,0,IF('Simulador Pagos Oportunos'!$Y$71=1,0,AO35*'Simulador Pagos Oportunos'!$Y$74))+IF(AO35<=0,0,IF('Simulador Pagos Oportunos'!$X$41=4,'Simulador Pagos Oportunos'!$I$55,IF('Simulador Pagos Oportunos'!$X$41=1,'Simulador Pagos Oportunos'!$K$55,IF('Simulador Pagos Oportunos'!$X$41=2,'Simulador Pagos Oportunos'!$M$55,'Simulador Pagos Oportunos'!$O$55))))","v":0},null,0,0,"",0,19]
[20,0,null,{"$f":"IF(B36+F36-D35<=0,B36+F36,IF(A36=$B$9,$F$9,IF(A36=$B$10,$F$10,IF(AND('Simulador Pagos Oportunos'!$AH$45=2,L35=0),D35*(1+Z36),IF($AL$3=2,B36*AI36,D35*(1+Z36))))))","v":0},null,0,null,0,null,{"$f":"IF(B36-H36=0,0,J34)","v":0},null,null,null,{"$f":"IF('Simulador Pagos Oportunos'!$V$66=1,0,L36*'Simulador Pagos Oportunos'!$O$69*'Simulador Pagos Oportunos'!$W$65)","v":0},null,{"$f":"IF(B36=0,\"\",IF('Simulador Pagos Oportunos'!$X$41=4,AD36,IF('Simulador Pagos Oportunos'!$X$41=1,AE36,IF('Simulador Pagos Oportunos'!$X$41=2,AF36,IF('Simulador Pagos Oportunos'!$X$41=3,AG36,AC36)))))","v":""},null,0,null,{"$f":"IF(B36<=0,0,B36*IF('Simulador Pagos Oportunos'!$Y$71=1,0,'Simulador Pagos Oportunos'!$Y$74))","v":0},null,{"$f":"IF(B36=0,0,IF('Simulador Pagos Oportunos'!$X$41=4,'Simulador Pagos Oportunos'!$I$55,IF('Simulador Pagos Oportunos'!$X$41=1,'Simulador Pagos Oportunos'!$K$55,IF('Simulador Pagos Oportunos'!$X$41=2,'Simulador Pagos Oportunos'!$M$55,IF('Simulador Pagos Oportunos'!$X$41=3,'Simulador Pagos Oportunos'!$O$55,0)))))","v":0},null,0,null,null,null,0,{"$f":"'Simulador Pagos Oportunos'!$AC$77","v":0.13},0.128,0.128,0.128,0.128,0,0,1,8,0,0,0,0,0,0,0,0,{"$f":"IF(AO36=0,\"\",IF('Simulador Pagos Oportunos'!$X$41=4,AD36,IF('Simulador Pagos Oportunos'!$X$41=1,AE36,IF('Simulador Pagos Oportunos'!$X$41=2,AF36,IF('Simulador Pagos Oportunos'!$X$41=3,AG36,AC36)))))","v":""},{"$f":"IF(AO36<=0,0,IF('Simulador Pagos Oportunos'!$Y$71=1,0,AO36*'Simulador Pagos Oportunos'!$Y$74))+IF(AO36<=0,0,IF('Simulador Pagos Oportunos'!$X$41=4,'Simulador Pagos Oportunos'!$I$55,IF('Simulador Pagos Oportunos'!$X$41=1,'Simulador Pagos Oportunos'!$K$55,IF('Simulador Pagos Oportunos'!$X$41=2,'Simulador Pagos Oportunos'!$M$55,'Simulador Pagos Oportunos'!$O$55))))","v":0},null,0,0,"",0,20]
[21,0,null,{"$f":"IF(B37+F37-D36<=0,B37+F37,IF(A37=$B$9,$F$9,IF(A37=$B$10,$F$10,IF(AND('Simulador Pagos Oportunos'!$AH$45=2,L36=0),D36*(1+Z37),IF($AL$3=2,B37*AI37,D36*(1+Z37))))))","v":0},null,0,null,0,null,null,null,null,null,{"$f":"IF('Simulador Pagos Oportunos'!$V$66=1,0,L37*'Simulador Pagos Oportunos'!$O$69*'Simulador Pagos Oportunos'!$W$65)","v":0},null,{"$f":"IF(B37=0,\"\",IF('Simulador Pagos Oportunos'!$X$41=4,AD37,IF('Simulador Pagos Oportunos'!$X$41=1,AE37,IF('Simulador Pagos Oportunos'!$X$41=2,AF37,IF('Simulador Pagos Oportunos'!$X$41=3,AG37,AC37)))))","v":""},null,0,null,{"$f":"IF(B37<=0,0,B37*IF('Simulador Pagos Oportunos'!$Y$71=1,0,'Simulador Pagos Oportunos'!$Y$74))","v":0},null,{"$f":"IF(B37=0,0,IF('Simulador Pagos Oportunos'!$X$41=4,'Simulador Pagos Oportunos'!$I$55,IF('Simulador Pagos Oportunos'!$X$41=1,'Simulador Pagos Oportunos'!$K$55,IF('Simulador Pagos Oportunos'!$X$41=2,'Simulador Pagos Oportunos'!$M$55,IF('Simulador Pagos Oportunos'!$X$41=3,'Simulador Pagos Oportunos'!$O$55,0)))))","v":0},null,0,null,null,null,0,{"$f":"'Simulador Pagos Oportunos'!$AC$77","v":0.13},0.128,0.128,0.128,0.128,0,0,1,9,0,0,0,0,0,0,0,0,{"$f":"IF(AO37=0,\"\",IF('Simulador Pagos Oportunos'!$X$41=4,AD37,IF('Simulador Pagos Oportunos'!$X$41=1,AE37,IF('Simulador Pagos Oportunos'!$X$41=2,AF37,IF('Simulador Pagos Oportunos'!$X$41=3,AG37,AC37)))))","v":""},{"$f":"IF(AO37<=0,0,IF('Simulador Pagos Oportunos'!$Y$71=1,0,AO37*'Simulador Pagos Oportunos'!$Y$74))+IF(AO37<=0,0,IF('Simulador Pagos Oportunos'!$X$41=4,'Simulador Pagos Oportunos'!$I$55,IF('Simulador Pagos Oportunos'!$X$41=1,'Simulador Pagos Oportunos'!$K$55,IF('Simulador Pagos Oportunos'!$X$41=2,'Simulador Pagos Oportunos'!$M$55,'Simulador Pagos Oportunos'!$O$55))))","v":0},null,0,0,"",0,21]
[22,0,null,{"$f":"IF(B38+F38-D37<=0,B38+F38,IF(A38=$B$9,$F$9,IF(A38=$B$10,$F$10,IF(AND('Simulador Pagos Oportunos'!$AH$45=2,L37=0),D37*(1+Z38),IF($AL$3=2,B38*AI38,D37*(1+Z38))))))","v":0},null,0,null,0,null,{"$f":"IF(B38-H38=0,0,J36)","v":0},null,null,null,{"$f":"IF('Simulador Pagos Oportunos'!$V$66=1,0,L38*'Simulador Pagos Oportunos'!$O$69*'Simulador Pagos Oportunos'!$W$65)","v":0},null,{"$f":"IF(B38=0,\"\",IF('Simulador Pagos Oportunos'!$X$41=4,AD38,IF('Simulador Pagos Oportunos'!$X$41=1,AE38,IF('Simulador Pagos Oportunos'!$X$41=2,AF38,IF('Simulador Pagos Oportunos'!$X$41=3,AG38,AC38)))))","v":""},null,0,null,{"$f":"IF(B38<=0,0,B38*IF('Simulador Pagos Oportunos'!$Y$71=1,0,'Simulador Pagos Oportunos'!$Y$74))","v":0},null,{"$f":"IF(B38=0,0,IF('Simulador Pagos Oportunos'!$X$41=4,'Simulador Pagos Oportunos'!$I$55,IF('Simulador Pagos Oportunos'!$X$41=1,'Simulador Pagos Oportunos'!$K$55,IF('Simulador Pagos Oportunos'!$X$41=2,'Simulador Pagos Oportunos'!$M$55,IF('Simulador Pagos Oportunos'!$X$41=3,'Simulador Pagos Oportunos'!$O$55,0)))))","v":0},null,0,null,null,null,0,{"$f":"'Simulador Pagos Oportunos'!$AC$77","v":0.13},0.128,0.128,0.128,0.128,0,0,1,10,0,0,0,0,0,0,0,0,{"$f":"IF(AO38=0,\"\",IF('Simulador Pagos Oportunos'!$X$41=4,AD38,IF('Simulador Pagos Oportunos'!$X$41=1,AE38,IF('Simulador Pagos Oportunos'!$X$41=2,AF38,IF('Simulador Pagos Oportunos'!$X$41=3,AG38,AC38)))))","v":""},{"$f":"IF(AO38<=0,0,IF('Simulador Pagos Oportunos'!$Y$71=1,0,AO38*'Simulador Pagos Oportunos'!$Y$74))+IF(AO38<=0,0,IF('Simulador Pagos Oportunos'!$X$41=4,'Simulador Pagos Oportunos'!$I$55,IF('Simulador Pagos Oportunos'!$X$41=1,'Simulador Pagos Oportunos'!$K$55,IF('Simulador Pagos Oportunos'!$X$41=2,'Simulador Pagos Oportunos'!$M$55,'Simulador Pagos Oportunos'!$O$55))))","v":0},null,0,0,"",0,22]
[23,0,null,{"$f":"IF(B39+F39-D38<=0,B39+F39,IF(A39=$B$9,$F$9,IF(A39=$B$10,$F$10,IF(AND('Simulador Pagos Oportunos'!$AH$45=2,L38=0),D38*(1+Z39),IF($AL$3=2,B39*AI39,D38*(1+Z39))))))","v":0},null,0,null,0,null,null,null,null,null,{"$f":"IF('Simulador Pagos Oportunos'!$V$66=1,0,L39*'Simulador Pagos Oportunos'!$O$69*'Simulador Pagos Oportunos'!$W$65)","v":0},null,{"$f":"IF(B39=0,\"\",IF('Simulador Pagos Oportunos'!$X$41=4,AD39,IF('Simulador Pagos Oportunos'!$X$41=1,AE39,IF('Simulador Pagos Oportunos'!$X$41=2,AF39,IF('Simulador Pagos Oportunos'!$X$41=3,AG39,AC39)))))","v":""},null,0,null,{"$f":"IF(B39<=0,0,B39*IF('Simulador Pagos Oportunos'!$Y$71=1,0,'Simulador Pagos Oportunos'!$Y$74))","v":0},null,{"$f":"IF(B39=0,0,IF('Simulador Pagos Oportunos'!$X$41=4,'Simulador Pagos Oportunos'!$I$55,IF('Simulador Pagos Oportunos'!$X$41=1,'Simulador Pagos Oportunos'!$K$55,IF('Simulador Pagos Oportunos'!$X$41=2,'Simulador Pagos Oportunos'!$M$55,IF('Simulador Pagos Oportunos'!$X$41=3,'Simulador Pagos Oportunos'!$O$55,0)))))","v":0},null,0,null,null,null,0,{"$f":"'Simulador Pagos Oportunos'!$AC$77","v":0.13},0.128,0.128,0.128,0.128,0,0,1,11,0,0,0,0,0,0,0,0,{"$f":"IF(AO39=0,\"\",IF('Simulador Pagos Oportunos'!$X$41=4,AD39,IF('Simulador Pagos Oportunos'!$X$41=1,AE39,IF('Simulador Pagos Oportunos'!$X$41=2,AF39,IF('Simulador Pagos Oportunos'!$X$41=3,AG39,AC39)))))","v":""},{"$f":"IF(AO39<=0,0,IF('Simulador Pagos Oportunos'!$Y$71=1,0,AO39*'Simulador Pagos Oportunos'!$Y$74))+IF(AO39<=0,0,IF('Simulador Pagos Oportunos'!$X$41=4,'Simulador Pagos Oportunos'!$I$55,IF('Simulador Pagos Oportunos'!$X$41=1,'Simulador Pagos Oportunos'!$K$55,IF('Simulador Pagos Oportunos'!$X$41=2,'Simulador Pagos Oportunos'!$M$55,'Simulador Pagos Oportunos'!$O$55))))","v":0},null,0,0,"",0,23]
[24,0,null,{"$f":"IF(B40+F40-D39<=0,B40+F40,IF(A40=$B$9,$F$9,IF(A40=$B$10,$F$10,IF(AND('Simulador Pagos Oportunos'!$AH$45=2,L39=0),D39*(1+Z40),IF($AL$3=2,B40*AI40,D39*(1+Z40))))))","v":0},null,0,null,0,null,{"$f":"IF(B40-H40=0,0,J38)","v":0},null,null,null,{"$f":"IF('Simulador Pagos Oportunos'!$V$66=1,0,L40*'Simulador Pagos Oportunos'!$O$69*'Simulador Pagos Oportunos'!$W$65)","v":0},null,{"$f":"IF(B40=0,\"\",IF('Simulador Pagos Oportunos'!$X$41=4,AD40,IF('Simulador Pagos Oportunos'!$X$41=1,AE40,IF('Simulador Pagos Oportunos'!$X$41=2,AF40,IF('Simulador Pagos Oportunos'!$X$41=3,AG40,AC40)))))","v":""},null,0,null,{"$f":"IF(B40<=0,0,B40*IF('Simulador Pagos Oportunos'!$Y$71=1,0,'Simulador Pagos Oportunos'!$Y$74))","v":0},null,{"$f":"IF(B40=0,0,IF('Simulador Pagos Oportunos'!$X$41=4,'Simulador Pagos Oportunos'!$I$55,IF('Simulador Pagos Oportunos'!$X$41=1,'Simulador Pagos Oportunos'!$K$55,IF('Simulador Pagos Oportunos'!$X$41=2,'Simulador Pagos Oportunos'!$M$55,IF('Simulador Pagos Oportunos'!$X$41=3,'Simulador Pagos Oportunos'!$O$55,0)))))","v":0},null,0,null,null,null,0,{"$f":"'Simulador Pagos Oportunos'!$AC$77","v":0.13},0.128,0.128,0.128,0.128,0,0,2,0,0,0,0,0,0,0,0,0,{"$f":"IF(AO40=0,\"\",IF('Simulador Pagos Oportunos'!$X$41=4,AD40,IF('Simulador Pagos Oportunos'!$X$41=1,AE40,IF('Simulador Pagos Oportunos'!$X$41=2,AF40,IF('Simulador Pagos Oportunos'!$X$41=3,AG40,AC40)))))","v":""},{"$f":"IF(AO40<=0,0,IF('Simulador Pagos Oportunos'!$Y$71=1,0,AO40*'Simulador Pagos Oportunos'!$Y$74))+IF(AO40<=0,0,IF('Simulador Pagos Oportunos'!$X$41=4,'Simulador Pagos Oportunos'!$I$55,IF('Simulador Pagos Oportunos'!$X$41=1,'Simulador Pagos Oportunos'!$K$55,IF('Simulador Pagos Oportunos'!$X$41=2,'Simulador Pagos Oportunos'!$M$55,'Simulador Pagos Oportunos'!$O$55))))","v":0},null,0,0,"",0,24]
[25,0,null,{"$f":"IF(B41+F41-D40<=0,B41+F41,IF(A41=$B$9,$F$9,IF(A41=$B$10,$F$10,IF(AND('Simulador Pagos Oportunos'!$AH$45=2,L40=0),D40*(1+Z41),IF($AL$3=2,B41*AI41,D40*(1+Z41))))))","v":0},null,0,null,0,null,null,null,null,null,{"$f":"IF('Simulador Pagos Oportunos'!$V$66=1,0,L41*'Simulador Pagos Oportunos'!$O$69*'Simulador Pagos Oportunos'!$W$65)","v":0},null,{"$f":"IF(B41=0,\"\",IF('Simulador Pagos Oportunos'!$X$41=4,AD41,IF('Simulador Pagos Oportunos'!$X$41=1,AE41,IF('Simulador Pagos Oportunos'!$X$41=2,AF41,IF('Simulador Pagos Oportunos'!$X$41=3,AG41,AC41)))))","v":""},null,0,null,{"$f":"IF(B41<=0,0,B41*IF('Simulador Pagos Oportunos'!$Y$71=1,0,'Simulador Pagos Oportunos'!$Y$74))","v":0},null,{"$f":"IF(B41=0,0,IF('Simulador Pagos Oportunos'!$X$41=4,'Simulador Pagos Oportunos'!$I$55,IF('Simulador Pagos Oportunos'!$X$41=1,'Simulador Pagos Oportunos'!$K$55,IF('Simulador Pagos Oportunos'!$X$41=2,'Simulador Pagos Oportunos'!$M$55,IF('Simulador Pagos Oportunos'!$X$41=3,'Simulador Pagos Oportunos'!$O$55,0)))))","v":0},null,0,null,{"$f":"IF(B41<=0,0,'Simulador Pagos Oportunos'!$AI$54)","v":0},null,0,{"$f":"'Simulador Pagos Oportunos'!$AC$77","v":0.13},{"$f":"AD40-0.2%","v":0.126},{"$f":"AE40-0.2%","v":0.126},{"$f":"AF40-0.2%","v":0.126},{"$f":"AG40-0.2%","v":0.126},0,0,2,1,0,0,0,0,0,0,0,0,{"$f":"IF(AO41=0,\"\",IF('Simulador Pagos Oportunos'!$X$41=4,AD41,IF('Simulador Pagos Oportunos'!$X$41=1,AE41,IF('Simulador Pagos Oportunos'!$X$41=2,AF41,IF('Simulador Pagos Oportunos'!$X$41=3,AG41,AC41)))))","v":""},{"$f":"IF(AO41<=0,0,IF('Simulador Pagos Oportunos'!$Y$71=1,0,AO41*'Simulador Pagos Oportunos'!$Y$74))+IF(AO41<=0,0,IF('Simulador Pagos Oportunos'!$X$41=4,'Simulador Pagos Oportunos'!$I$55,IF('Simulador Pagos Oportunos'!$X$41=1,'Simulador Pagos Oportunos'!$K$55,IF('Simulador Pagos Oportunos'!$X$41=2,'Simulador Pagos Oportunos'!$M$55,'Simulador Pagos Oportunos'!$O$55))))","v":0},{"$f":"IF(AO41<=0,0,$AV$29)","v":0},0,0,"",0,25]
[26,0,null,{"$f":"IF(B42+F42-D41<=0,B42+F42,IF(A42=$B$9,$F$9,IF(A42=$B$10,$F$10,IF(AND('Simulador Pagos Oportunos'!$AH$45=2,L41=0),D41*(1+Z42),IF($AL$3=2,B42*AI42,D41*(1+Z42))))))","v":0},null,0,null,0,null,{"$f":"IF(B42-H42=0,0,J40*(1+(3%)))","v":0},null,null,null,{"$f":"IF('Simulador Pagos Oportunos'!$V$66=1,0,L42*'Simulador Pagos Oportunos'!$O$69*'Simulador Pagos Oportunos'!$W$65)","v":0},null,{"$f":"IF(B42=0,\"\",IF('Simulador Pagos Oportunos'!$X$41=4,AD42,IF('Simulador Pagos Oportunos'!$X$41=1,AE42,IF('Simulador Pagos Oportunos'!$X$41=2,AF42,IF('Simulador Pagos Oportunos'!$X$41=3,AG42,AC42)))))","v":""},null,0,null,{"$f":"IF(B42<=0,0,B42*IF('Simulador Pagos Oportunos'!$Y$71=1,0,'Simulador Pagos Oportunos'!$Y$74))","v":0},null,{"$f":"IF(B42=0,0,IF('Simulador Pagos Oportunos'!$X$41=4,'Simulador Pagos Oportunos'!$I$55,IF('Simulador Pagos Oportunos'!$X$41=1,'Simulador Pagos Oportunos'!$K$55,IF('Simulador Pagos Oportunos'!$X$41=2,'Simulador Pagos Oportunos'!$M$55,IF('Simulador Pagos Oportunos'!$X$41=3,'Simulador Pagos Oportunos'!$O$55,0)))))","v":0},null,0,null,null,null,0,{"$f":"'Simulador Pagos Oportunos'!$AC$77","v":0.13},{"$f":"AD41","v":0.126},{"$f":"AE41","v":0.126},0.126,0.126,0,0,2,2,0,0,0,0,0,0,0,0,{"$f":"IF(AO42=0,\"\",IF('Simulador Pagos Oportunos'!$X$41=4,AD42,IF('Simulador Pagos Oportunos'!$X$41=1,AE42,IF('Simulador Pagos Oportunos'!$X$41=2,AF42,IF('Simulador Pagos Oportunos'!$X$41=3,AG42,AC42)))))","v":""},{"$f":"IF(AO42<=0,0,IF('Simulador Pagos Oportunos'!$Y$71=1,0,AO42*'Simulador Pagos Oportunos'!$Y$74))+IF(AO42<=0,0,IF('Simulador Pagos Oportunos'!$X$41=4,'Simulador Pagos Oportunos'!$I$55,IF('Simulador Pagos Oportunos'!$X$41=1,'Simulador Pagos Oportunos'!$K$55,IF('Simulador Pagos Oportunos'!$X$41=2,'Simulador Pagos Oportunos'!$M$55,'Simulador Pagos Oportunos'!$O$55))))","v":0},null,0,0,"",0,26]
[27,0,null,{"$f":"IF(B43+F43-D42<=0,B43+F43,IF(A43=$B$9,$F$9,IF(A43=$B$10,$F$10,IF(AND('Simulador Pagos Oportunos'!$AH$45=2,L42=0),D42*(1+Z43),IF($AL$3=2,B43*AI43,D42*(1+Z43))))))","v":0},null,0,null,0,null,null,null,null,null,{"$f":"IF('Simulador Pagos Oportunos'!$V$66=1,0,L43*'Simulador Pagos Oportunos'!$O$69*'Simulador Pagos Oportunos'!$W$65)","v":0},null,{"$f":"IF(B43=0,\"\",IF('Simulador Pagos Oportunos'!$X$41=4,AD43,IF('Simulador Pagos Oportunos'!$X$41=1,AE43,IF('Simulador Pagos Oportunos'!$X$41=2,AF43,IF('Simulador Pagos Oportunos'!$X$41=3,AG43,AC43)))))","v":""},null,0,null,{"$f":"IF(B43<=0,0,B43*IF('Simulador Pagos Oportunos'!$Y$71=1,0,'Simulador Pagos Oportunos'!$Y$74))","v":0},null,{"$f":"IF(B43=0,0,IF('Simulador Pagos Oportunos'!$X$41=4,'Simulador Pagos Oportunos'!$I$55,IF('Simulador Pagos Oportunos'!$X$41=1,'Simulador Pagos Oportunos'!$K$55,IF('Simulador Pagos Oportunos'!$X$41=2,'Simulador Pagos Oportunos'!$M$55,IF('Simulador Pagos Oportunos'!$X$41=3,'Simulador Pagos Oportunos'!$O$55,0)))))","v":0},null,0,null,null,null,0,{"$f":"'Simulador Pagos Oportunos'!$AC$77","v":0.13},{"$f":"AD42","v":0.126},0.126,0.126,0.126,0,0,2,3,0,0,0,0,0,0,0,0,{"$f":"IF(AO43=0,\"\",IF('Simulador Pagos Oportunos'!$X$41=4,AD43,IF('Simulador Pagos Oportunos'!$X$41=1,AE43,IF('Simulador Pagos Oportunos'!$X$41=2,AF43,IF('Simulador Pagos Oportunos'!$X$41=3,AG43,AC43)))))","v":""},{"$f":"IF(AO43<=0,0,IF('Simulador Pagos Oportunos'!$Y$71=1,0,AO43*'Simulador Pagos Oportunos'!$Y$74))+IF(AO43<=0,0,IF('Simulador Pagos Oportunos'!$X$41=4,'Simulador Pagos Oportunos'!$I$55,IF('Simulador Pagos Oportunos'!$X$41=1,'Simulador Pagos Oportunos'!$K$55,IF('Simulador Pagos Oportunos'!$X$41=2,'Simulador Pagos Oportunos'!$M$55,'Simulador Pagos Oportunos'!$O$55))))","v":0},null,0,0,"",0,27]
[28,0,null,{"$f":"IF(B44+F44-D43<=0,B44+F44,IF(A44=$B$9,$F$9,IF(A44=$B$10,$F$10,IF(AND('Simulador Pagos Oportunos'!$AH$45=2,L43=0),D43*(1+Z44),IF($AL$3=2,B44*AI44,D43*(1+Z44))))))","v":0},null,0,null,0,null,{"$f":"IF(B44-H44=0,0,J42)","v":0},null,null,null,{"$f":"IF('Simulador Pagos Oportunos'!$V$66=1,0,L44*'Simulador Pagos Oportunos'!$O$69*'Simulador Pagos Oportunos'!$W$65)","v":0},null,{"$f":"IF(B44=0,\"\",IF('Simulador Pagos Oportunos'!$X$41=4,AD44,IF('Simulador Pagos Oportunos'!$X$41=1,AE44,IF('Simulador Pagos Oportunos'!$X$41=2,AF44,IF('Simulador Pagos Oportunos'!$X$41=3,AG44,AC44)))))","v":""},null,0,null,{"$f":"IF(B44<=0,0,B44*IF('Simulador Pagos Oportunos'!$Y$71=1,0,'Simulador Pagos Oportunos'!$Y$74))","v":0},null,{"$f":"IF(B44=0,0,IF('Simulador Pagos Oportunos'!$X$41=4,'Simulador Pagos Oportunos'!$I$55,IF('Simulador Pagos Oportunos'!$X$41=1,'Simulador Pagos Oportunos'!$K$55,IF('Simulador Pagos Oportunos'!$X$41=2,'Simulador Pagos Oportunos'!$M$55,IF('Simulador Pagos Oportunos'!$X$41=3,'Simulador Pagos Oportunos'!$O$55,0)))))","v":0},null,0,null,null,null,0,{"$f":"'Simulador Pagos Oportunos'!$AC$77","v":0.13},0.126,0.126,0.126,0.126,0,0,2,4,0,0,0,0,0,0,0,0,{"$f":"IF(AO44=0,\"\",IF('Simulador Pagos Oportunos'!$X$41=4,AD44,IF('Simulador Pagos Oportunos'!$X$41=1,AE44,IF('Simulador Pagos Oportunos'!$X$41=2,AF44,IF('Simulador Pagos Oportunos'!$X$41=3,AG44,AC44)))))","v":""},{"$f":"IF(AO44<=0,0,IF('Simulador Pagos Oportunos'!$Y$71=1,0,AO44*'Simulador Pagos Oportunos'!$Y$74))+IF(AO44<=0,0,IF('Simulador Pagos Oportunos'!$X$41=4,'Simulador Pagos Oportunos'!$I$55,IF('Simulador Pagos Oportunos'!$X$41=1,'Simulador Pagos Oportunos'!$K$55,IF('Simulador Pagos Oportunos'!$X$41=2,'Simulador Pagos Oportunos'!$M$55,'Simulador Pagos Oportunos'!$O$55))))","v":0},null,0,0,"",0,28]
[29,0,null,{"$f":"IF(B45+F45-D44<=0,B45+F45,IF(A45=$B$9,$F$9,IF(A45=$B$10,$F$10,IF(AND('Simulador Pagos Oportunos'!$AH$45=2,L44=0),D44*(1+Z45),IF($AL$3=2,B45*AI45,D44*(1+Z45))))))","v":0},null,0,null,0,null,null,null,null,null,{"$f":"IF('Simulador Pagos Oportunos'!$V$66=1,0,L45*'Simulador Pagos Oportunos'!$O$69*'Simulador Pagos Oportunos'!$W$65)","v":0},null,{"$f":"IF(B45=0,\"\",IF('Simulador Pagos Oportunos'!$X$41=4,AD45,IF('Simulador Pagos Oportunos'!$X$41=1,AE45,IF('Simulador Pagos Oportunos'!$X$41=2,AF45,IF('Simulador Pagos Oportunos'!$X$41=3,AG45,AC45)))))","v":""},null,0,null,{"$f":"IF(B45<=0,0,B45*IF('Simulador Pagos Oportunos'!$Y$71=1,0,'Simulador Pagos Oportunos'!$Y$74))","v":0},null,{"$f":"IF(B45=0,0,IF('Simulador Pagos Oportunos'!$X$41=4,'Simulador Pagos Oportunos'!$I$55,IF('Simulador Pagos Oportunos'!$X$41=1,'Simulador Pagos Oportunos'!$K$55,IF('Simulador Pagos Oportunos'!$X$41=2,'Simulador Pagos Oportunos'!$M$55,IF('Simulador Pagos Oportunos'!$X$41=3,'Simulador Pagos Oportunos'!$O$55,0)))))","v":0},null,0,null,null,null,0,{"$f":"'Simulador Pagos Oportunos'!$AC$77","v":0.13},0.126,0.126,0.126,0.126,0,0,2,5,0,0,0,0,0,0,0,0,{"$f":"IF(AO45=0,\"\",IF('Simulador Pagos Oportunos'!$X$41=4,AD45,IF('Simulador Pagos Oportunos'!$X$41=1,AE45,IF('Simulador Pagos Oportunos'!$X$41=2,AF45,IF('Simulador Pagos Oportunos'!$X$41=3,AG45,AC45)))))","v":""},{"$f":"IF(AO45<=0,0,IF('Simulador Pagos Oportunos'!$Y$71=1,0,AO45*'Simulador Pagos Oportunos'!$Y$74))+IF(AO45<=0,0,IF('Simulador Pagos Oportunos'!$X$41=4,'Simulador Pagos Oportunos'!$I$55,IF('Simulador Pagos Oportunos'!$X$41=1,'Simulador Pagos Oportunos'!$K$55,IF('Simulador Pagos Oportunos'!$X$41=2,'Simulador Pagos Oportunos'!$M$55,'Simulador Pagos Oportunos'!$O$55))))","v":0},null,0,0,"",0,29]
[30,0,null,{"$f":"IF(B46+F46-D45<=0,B46+F46,IF(A46=$B$9,$F$9,IF(A46=$B$10,$F$10,IF(AND('Simulador Pagos Oportunos'!$AH$45=2,L45=0),D45*(1+Z46),IF($AL$3=2,B46*AI46,D45*(1+Z46))))))","v":0},null,0,null,0,null,{"$f":"IF(B46-H46=0,0,J44)","v":0},null,null,null,{"$f":"IF('Simulador Pagos Oportunos'!$V$66=1,0,L46*'Simulador Pagos Oportunos'!$O$69*'Simulador Pagos Oportunos'!$W$65)","v":0},null,{"$f":"IF(B46=0,\"\",IF('Simulador Pagos Oportunos'!$X$41=4,AD46,IF('Simulador Pagos Oportunos'!$X$41=1,AE46,IF('Simulador Pagos Oportunos'!$X$41=2,AF46,IF('Simulador Pagos Oportunos'!$X$41=3,AG46,AC46)))))","v":""},null,0,null,{"$f":"IF(B46<=0,0,B46*IF('Simulador Pagos Oportunos'!$Y$71=1,0,'Simulador Pagos Oportunos'!$Y$74))","v":0},null,{"$f":"IF(B46=0,0,IF('Simulador Pagos Oportunos'!$X$41=4,'Simulador Pagos Oportunos'!$I$55,IF('Simulador Pagos Oportunos'!$X$41=1,'Simulador Pagos Oportunos'!$K$55,IF('Simulador Pagos Oportunos'!$X$41=2,'Simulador Pagos Oportunos'!$M$55,IF('Simulador Pagos Oportunos'!$X$41=3,'Simulador Pagos Oportunos'!$O$55,0)))))","v":0},null,0,null,null,null,0,{"$f":"'Simulador Pagos Oportunos'!$AC$77","v":0.13},0.126,0.126,0.126,0.126,0,0,2,6,0,0,0,0,0,0,0,0,{"$f":"IF(AO46=0,\"\",IF('Simulador Pagos Oportunos'!$X$41=4,AD46,IF('Simulador Pagos Oportunos'!$X$41=1,AE46,IF('Simulador Pagos Oportunos'!$X$41=2,AF46,IF('Simulador Pagos Oportunos'!$X$41=3,AG46,AC46)))))","v":""},{"$f":"IF(AO46<=0,0,IF('Simulador Pagos Oportunos'!$Y$71=1,0,AO46*'Simulador Pagos Oportunos'!$Y$74))+IF(AO46<=0,0,IF('Simulador Pagos Oportunos'!$X$41=4,'Simulador Pagos Oportunos'!$I$55,IF('Simulador Pagos Oportunos'!$X$41=1,'Simulador Pagos Oportunos'!$K$55,IF('Simulador Pagos Oportunos'!$X$41=2,'Simulador Pagos Oportunos'!$M$55,'Simulador Pagos Oportunos'!$O$55))))","v":0},null,0,0,"",0,30]
[31,0,null,{"$f":"IF(B47+F47-D46<=0,B47+F47,IF(A47=$B$9,$F$9,IF(A47=$B$10,$F$10,IF(AND('Simulador Pagos Oportunos'!$AH$45=2,L46=0),D46*(1+Z47),IF($AL$3=2,B47*AI47,D46*(1+Z47))))))","v":0},null,0,null,0,null,null,null,null,null,{"$f":"IF('Simulador Pagos Oportunos'!$V$66=1,0,L47*'Simulador Pagos Oportunos'!$O$69*'Simulador Pagos Oportunos'!$W$65)","v":0},null,{"$f":"IF(B47=0,\"\",IF('Simulador Pagos Oportunos'!$X$41=4,AD47,IF('Simulador Pagos Oportunos'!$X$41=1,AE47,IF('Simulador Pagos Oportunos'!$X$41=2,AF47,IF('Simulador Pagos Oportunos'!$X$41=3,AG47,AC47)))))","v":""},null,0,null,{"$f":"IF(B47<=0,0,B47*IF('Simulador Pagos Oportunos'!$Y$71=1,0,'Simulador Pagos Oportunos'!$Y$74))","v":0},null,{"$f":"IF(B47=0,0,IF('Simulador Pagos Oportunos'!$X$41=4,'Simulador Pagos Oportunos'!$I$55,IF('Simulador Pagos Oportunos'!$X$41=1,'Simulador Pagos Oportunos'!$K$55,IF('Simulador Pagos Oportunos'!$X$41=2,'Simulador Pagos Oportunos'!$M$55,IF('Simulador Pagos Oportunos'!$X$41=3,'Simulador Pagos Oportunos'!$O$55,0)))))","v":0},null,0,null,null,null,0,{"$f":"'Simulador Pagos Oportunos'!$AC$77","v":0.13},0.126,0.126,0.126,0.126,0,0,2,7,0,0,0,0,0,0,0,0,{"$f":"IF(AO47=0,\"\",IF('Simulador Pagos Oportunos'!$X$41=4,AD47,IF('Simulador Pagos Oportunos'!$X$41=1,AE47,IF('Simulador Pagos Oportunos'!$X$41=2,AF47,IF('Simulador Pagos Oportunos'!$X$41=3,AG47,AC47)))))","v":""},{"$f":"IF(AO47<=0,0,IF('Simulador Pagos Oportunos'!$Y$71=1,0,AO47*'Simulador Pagos Oportunos'!$Y$74))+IF(AO47<=0,0,IF('Simulador Pagos Oportunos'!$X$41=4,'Simulador Pagos Oportunos'!$I$55,IF('Simulador Pagos Oportunos'!$X$41=1,'Simulador Pagos Oportunos'!$K$55,IF('Simulador Pagos Oportunos'!$X$41=2,'Simulador Pagos Oportunos'!$M$55,'Simulador Pagos Oportunos'!$O$55))))","v":0},null,0,0,"",0,31]
[32,0,null,{"$f":"IF(B48+F48-D47<=0,B48+F48,IF(A48=$B$9,$F$9,IF(A48=$B$10,$F$10,IF(AND('Simulador Pagos Oportunos'!$AH$45=2,L47=0),D47*(1+Z48),IF($AL$3=2,B48*AI48,D47*(1+Z48))))))","v":0},null,0,null,0,null,{"$f":"IF(B48-H48=0,0,J46)","v":0},null,null,null,{"$f":"IF('Simulador Pagos Oportunos'!$V$66=1,0,L48*'Simulador Pagos Oportunos'!$O$69*'Simulador Pagos Oportunos'!$W$65)","v":0},null,{"$f":"IF(B48=0,\"\",IF('Simulador Pagos Oportunos'!$X$41=4,AD48,IF('Simulador Pagos Oportunos'!$X$41=1,AE48,IF('Simulador Pagos Oportunos'!$X$41=2,AF48,IF('Simulador Pagos Oportunos'!$X$41=3,AG48,AC48)))))","v":""},null,0,null,{"$f":"IF(B48<=0,0,B48*IF('Simulador Pagos Oportunos'!$Y$71=1,0,'Simulador Pagos Oportunos'!$Y$74))","v":0},null,{"$f":"IF(B48=0,0,IF('Simulador Pagos Oportunos'!$X$41=4,'Simulador Pagos Oportunos'!$I$55,IF('Simulador Pagos Oportunos'!$X$41=1,'Simulador Pagos Oportunos'!$K$55,IF('Simulador Pagos Oportunos'!$X$41=2,'Simulador Pagos Oportunos'!$M$55,IF('Simulador Pagos Oportunos'!$X$41=3,'Simulador Pagos Oportunos'!$O$55,0)))))","v":0},null,0,null,null,null,0,{"$f":"'Simulador Pagos Oportunos'!$AC$77","v":0.13},0.126,0.126,0.126,0.126,0,0,2,8,0,0,0,0,0,0,0,0,{"$f":"IF(AO48=0,\"\",IF('Simulador Pagos Oportunos'!$X$41=4,AD48,IF('Simulador Pagos Oportunos'!$X$41=1,AE48,IF('Simulador Pagos Oportunos'!$X$41=2,AF48,IF('Simulador Pagos Oportunos'!$X$41=3,AG48,AC48)))))","v":""},{"$f":"IF(AO48<=0,0,IF('Simulador Pagos Oportunos'!$Y$71=1,0,AO48*'Simulador Pagos Oportunos'!$Y$74))+IF(AO48<=0,0,IF('Simulador Pagos Oportunos'!$X$41=4,'Simulador Pagos Oportunos'!$I$55,IF('Simulador Pagos Oportunos'!$X$41=1,'Simulador Pagos Oportunos'!$K$55,IF('Simulador Pagos Oportunos'!$X$41=2,'Simulador Pagos Oportunos'!$M$55,'Simulador Pagos Oportunos'!$O$55))))","v":0},null,0,0,"",0,32]
[33,0,null,{"$f":"IF(B49+F49-D48<=0,B49+F49,IF(A49=$B$9,$F$9,IF(A49=$B$10,$F$10,IF(AND('Simulador Pagos Oportunos'!$AH$45=2,L48=0),D48*(1+Z49),IF($AL$3=2,B49*AI49,D48*(1+Z49))))))","v":0},null,0,null,0,null,null,null,null,null,{"$f":"IF('Simulador Pagos Oportunos'!$V$66=1,0,L49*'Simulador Pagos Oportunos'!$O$69*'Simulador Pagos Oportunos'!$W$65)","v":0},null,{"$f":"IF(B49=0,\"\",IF('Simulador Pagos Oportunos'!$X$41=4,AD49,IF('Simulador Pagos Oportunos'!$X$41=1,AE49,IF('Simulador Pagos Oportunos'!$X$41=2,AF49,IF('Simulador Pagos Oportunos'!$X$41=3,AG49,AC49)))))","v":""},null,0,null,{"$f":"IF(B49<=0,0,B49*IF('Simulador Pagos Oportunos'!$Y$71=1,0,'Simulador Pagos Oportunos'!$Y$74))","v":0},null,{"$f":"IF(B49=0,0,IF('Simulador Pagos Oportunos'!$X$41=4,'Simulador Pagos Oportunos'!$I$55,IF('Simulador Pagos Oportunos'!$X$41=1,'Simulador Pagos Oportunos'!$K$55,IF('Simulador Pagos Oportunos'!$X$41=2,'Simulador Pagos Oportunos'!$M$55,IF('Simulador Pagos Oportunos'!$X$41=3,'Simulador Pagos Oportunos'!$O$55,0)))))","v":0},null,0,null,null,null,0,{"$f":"'Simulador Pagos Oportunos'!$AC$77","v":0.13},0.126,0.126,0.126,0.126,0,0,2,9,0,0,0,0,0,0,0,0,{"$f":"IF(AO49=0,\"\",IF('Simulador Pagos Oportunos'!$X$41=4,AD49,IF('Simulador Pagos Oportunos'!$X$41=1,AE49,IF('Simulador Pagos Oportunos'!$X$41=2,AF49,IF('Simulador Pagos Oportunos'!$X$41=3,AG49,AC49)))))","v":""},{"$f":"IF(AO49<=0,0,IF('Simulador Pagos Oportunos'!$Y$71=1,0,AO49*'Simulador Pagos Oportunos'!$Y$74))+IF(AO49<=0,0,IF('Simulador Pagos Oportunos'!$X$41=4,'Simulador Pagos Oportunos'!$I$55,IF('Simulador Pagos Oportunos'!$X$41=1,'Simulador Pagos Oportunos'!$K$55,IF('Simulador Pagos Oportunos'!$X$41=2,'Simulador Pagos Oportunos'!$M$55,'Simulador Pagos Oportunos'!$O$55))))","v":0},null,0,0,"",0,33]
[34,0,null,{"$f":"IF(B50+F50-D49<=0,B50+F50,IF(A50=$B$9,$F$9,IF(A50=$B$10,$F$10,IF(AND('Simulador Pagos Oportunos'!$AH$45=2,L49=0),D49*(1+Z50),IF($AL$3=2,B50*AI50,D49*(1+Z50))))))","v":0},null,0,null,0,null,{"$f":"IF(B50-H50=0,0,J48)","v":0},null,null,null,{"$f":"IF('Simulador Pagos Oportunos'!$V$66=1,0,L50*'Simulador Pagos Oportunos'!$O$69*'Simulador Pagos Oportunos'!$W$65)","v":0},null,{"$f":"IF(B50=0,\"\",IF('Simulador Pagos Oportunos'!$X$41=4,AD50,IF('Simulador Pagos Oportunos'!$X$41=1,AE50,IF('Simulador Pagos Oportunos'!$X$41=2,AF50,IF('Simulador Pagos Oportunos'!$X$41=3,AG50,AC50)))))","v":""},null,0,null,{"$f":"IF(B50<=0,0,B50*IF('Simulador Pagos Oportunos'!$Y$71=1,0,'Simulador Pagos Oportunos'!$Y$74))","v":0},null,{"$f":"IF(B50=0,0,IF('Simulador Pagos Oportunos'!$X$41=4,'Simulador Pagos Oportunos'!$I$55,IF('Simulador Pagos Oportunos'!$X$41=1,'Simulador Pagos Oportunos'!$K$55,IF('Simulador Pagos Oportunos'!$X$41=2,'Simulador Pagos Oportunos'!$M$55,IF('Simulador Pagos Oportunos'!$X$41=3,'Simulador Pagos Oportunos'!$O$55,0)))))","v":0},null,0,null,null,null,0,{"$f":"'Simulador Pagos Oportunos'!$AC$77","v":0.13},0.126,0.126,0.126,0.126,0,0,2,10,0,0,0,0,0,0,0,0,{"$f":"IF(AO50=0,\"\",IF('Simulador Pagos Oportunos'!$X$41=4,AD50,IF('Simulador Pagos Oportunos'!$X$41=1,AE50,IF('Simulador Pagos Oportunos'!$X$41=2,AF50,IF('Simulador Pagos Oportunos'!$X$41=3,AG50,AC50)))))","v":""},{"$f":"IF(AO50<=0,0,IF('Simulador Pagos Oportunos'!$Y$71=1,0,AO50*'Simulador Pagos Oportunos'!$Y$74))+IF(AO50<=0,0,IF('Simulador Pagos Oportunos'!$X$41=4,'Simulador Pagos Oportunos'!$I$55,IF('Simulador Pagos Oportunos'!$X$41=1,'Simulador Pagos Oportunos'!$K$55,IF('Simulador Pagos Oportunos'!$X$41=2,'Simulador Pagos Oportunos'!$M$55,'Simulador Pagos Oportunos'!$O$55))))","v":0},null,0,0,"",0,34]
[35,0,null,{"$f":"IF(B51+F51-D50<=0,B51+F51,IF(A51=$B$9,$F$9,IF(A51=$B$10,$F$10,IF(AND('Simulador Pagos Oportunos'!$AH$45=2,L50=0),D50*(1+Z51),IF($AL$3=2,B51*AI51,D50*(1+Z51))))))","v":0},null,0,null,0,null,null,null,null,null,{"$f":"IF('Simulador Pagos Oportunos'!$V$66=1,0,L51*'Simulador Pagos Oportunos'!$O$69*'Simulador Pagos Oportunos'!$W$65)","v":0},null,{"$f":"IF(B51=0,\"\",IF('Simulador Pagos Oportunos'!$X$41=4,AD51,IF('Simulador Pagos Oportunos'!$X$41=1,AE51,IF('Simulador Pagos Oportunos'!$X$41=2,AF51,IF('Simulador Pagos Oportunos'!$X$41=3,AG51,AC51)))))","v":""},null,0,null,{"$f":"IF(B51<=0,0,B51*IF('Simulador Pagos Oportunos'!$Y$71=1,0,'Simulador Pagos Oportunos'!$Y$74))","v":0},null,{"$f":"IF(B51=0,0,IF('Simulador Pagos Oportunos'!$X$41=4,'Simulador Pagos Oportunos'!$I$55,IF('Simulador Pagos Oportunos'!$X$41=1,'Simulador Pagos Oportunos'!$K$55,IF('Simulador Pagos Oportunos'!$X$41=2,'Simulador Pagos Oportunos'!$M$55,IF('Simulador Pagos Oportunos'!$X$41=3,'Simulador Pagos Oportunos'!$O$55,0)))))","v":0},null,0,null,null,null,0,{"$f":"'Simulador Pagos Oportunos'!$AC$77","v":0.13},0.126,0.126,0.126,0.126,0,0,2,11,0,0,0,0,0,0,0,0,{"$f":"IF(AO51=0,\"\",IF('Simulador Pagos Oportunos'!$X$41=4,AD51,IF('Simulador Pagos Oportunos'!$X$41=1,AE51,IF('Simulador Pagos Oportunos'!$X$41=2,AF51,IF('Simulador Pagos Oportunos'!$X$41=3,AG51,AC51)))))","v":""},{"$f":"IF(AO51<=0,0,IF('Simulador Pagos Oportunos'!$Y$71=1,0,AO51*'Simulador Pagos Oportunos'!$Y$74))+IF(AO51<=0,0,IF('Simulador Pagos Oportunos'!$X$41=4,'Simulador Pagos Oportunos'!$I$55,IF('Simulador Pagos Oportunos'!$X$41=1,'Simulador Pagos Oportunos'!$K$55,IF('Simulador Pagos Oportunos'!$X$41=2,'Simulador Pagos Oportunos'!$M$55,'Simulador Pagos Oportunos'!$O$55))))","v":0},null,0,0,"",0,35]
[36,0,null,{"$f":"IF(B52+F52-D51<=0,B52+F52,IF(A52=$B$9,$F$9,IF(A52=$B$10,$F$10,IF(AND('Simulador Pagos Oportunos'!$AH$45=2,L51=0),D51*(1+Z52),IF($AL$3=2,B52*AI52,D51*(1+Z52))))))","v":0},null,0,null,0,null,{"$f":"IF(B52-H52=0,0,J50)","v":0},null,null,null,{"$f":"IF('Simulador Pagos Oportunos'!$V$66=1,0,L52*'Simulador Pagos Oportunos'!$O$69*'Simulador Pagos Oportunos'!$W$65)","v":0},null,{"$f":"IF(B52=0,\"\",IF('Simulador Pagos Oportunos'!$X$41=4,AD52,IF('Simulador Pagos Oportunos'!$X$41=1,AE52,IF('Simulador Pagos Oportunos'!$X$41=2,AF52,IF('Simulador Pagos Oportunos'!$X$41=3,AG52,AC52)))))","v":""},null,0,null,{"$f":"IF(B52<=0,0,B52*IF('Simulador Pagos Oportunos'!$Y$71=1,0,'Simulador Pagos Oportunos'!$Y$74))","v":0},null,{"$f":"IF(B52=0,0,IF('Simulador Pagos Oportunos'!$X$41=4,'Simulador Pagos Oportunos'!$I$55,IF('Simulador Pagos Oportunos'!$X$41=1,'Simulador Pagos Oportunos'!$K$55,IF('Simulador Pagos Oportunos'!$X$41=2,'Simulador Pagos Oportunos'!$M$55,IF('Simulador Pagos Oportunos'!$X$41=3,'Simulador Pagos Oportunos'!$O$55,0)))))","v":0},null,0,null,null,null,0,{"$f":"'Simulador Pagos Oportunos'!$AC$77","v":0.13},0.126,0.126,0.126,0.126,0,0,3,0,0,0,0,0,0,0,0,0,{"$f":"IF(AO52=0,\"\",IF('Simulador Pagos Oportunos'!$X$41=4,AD52,IF('Simulador Pagos Oportunos'!$X$41=1,AE52,IF('Simulador Pagos Oportunos'!$X$41=2,AF52,IF('Simulador Pagos Oportunos'!$X$41=3,AG52,AC52)))))","v":""},{"$f":"IF(AO52<=0,0,IF('Simulador Pagos Oportunos'!$Y$71=1,0,AO52*'Simulador Pagos Oportunos'!$Y$74))+IF(AO52<=0,0,IF('Simulador Pagos Oportunos'!$X$41=4,'Simulador Pagos Oportunos'!$I$55,IF('Simulador Pagos Oportunos'!$X$41=1,'Simulador Pagos Oportunos'!$K$55,IF('Simulador Pagos Oportunos'!$X$41=2,'Simulador Pagos Oportunos'!$M$55,'Simulador Pagos Oportunos'!$O$55))))","v":0},null,0,0,"",0,36]
[37,0,null,{"$f":"IF(B53+F53-D52<=0,B53+F53,IF(A53=$B$9,$F$9,IF(A53=$B$10,$F$10,IF(AND('Simulador Pagos Oportunos'!$AH$45=2,L52=0),D52*(1+Z53),IF($AL$3=2,B53*AI53,D52*(1+Z53))))))","v":0},null,0,null,0,null,null,null,null,null,{"$f":"IF('Simulador Pagos Oportunos'!$V$66=1,0,L53*'Simulador Pagos Oportunos'!$O$69*'Simulador Pagos Oportunos'!$W$65)","v":0},null,{"$f":"IF(B53=0,\"\",IF('Simulador Pagos Oportunos'!$X$41=4,AD53,IF('Simulador Pagos Oportunos'!$X$41=1,AE53,IF('Simulador Pagos Oportunos'!$X$41=2,AF53,IF('Simulador Pagos Oportunos'!$X$41=3,AG53,AC53)))))","v":""},null,0,null,{"$f":"IF(B53<=0,0,B53*IF('Simulador Pagos Oportunos'!$Y$71=1,0,'Simulador Pagos Oportunos'!$Y$74))","v":0},null,{"$f":"IF(B53=0,0,IF('Simulador Pagos Oportunos'!$X$41=4,'Simulador Pagos Oportunos'!$I$55,IF('Simulador Pagos Oportunos'!$X$41=1,'Simulador Pagos Oportunos'!$K$55,IF('Simulador Pagos Oportunos'!$X$41=2,'Simulador Pagos Oportunos'!$M$55,IF('Simulador Pagos Oportunos'!$X$41=3,'Simulador Pagos Oportunos'!$O$55,0)))))","v":0},null,0,null,{"$f":"IF(B53<=0,0,'Simulador Pagos Oportunos'!$AI$54)","v":0},null,0,{"$f":"IF(AC52=$AC$5,AC52,IF(AC52-0.25%<=$AC$5,$AC$5,AC52-0.25%))","v":0.1275},{"$f":"AD52-0.2%","v":0.124},{"$f":"AE52-0.2%","v":0.124},{"$f":"AF52-0.2%","v":0.124},{"$f":"AG52-0.2%","v":0.124},0,0,3,1,0,0,0,0,0,0,0,0,{"$f":"IF(AO53=0,\"\",IF('Simulador Pagos Oportunos'!$X$41=4,AD53,IF('Simulador Pagos Oportunos'!$X$41=1,AE53,IF('Simulador Pagos Oportunos'!$X$41=2,AF53,IF('Simulador Pagos Oportunos'!$X$41=3,AG53,AC53)))))","v":""},{"$f":"IF(AO53<=0,0,IF('Simulador Pagos Oportunos'!$Y$71=1,0,AO53*'Simulador Pagos Oportunos'!$Y$74))+IF(AO53<=0,0,IF('Simulador Pagos Oportunos'!$X$41=4,'Simulador Pagos Oportunos'!$I$55,IF('Simulador Pagos Oportunos'!$X$41=1,'Simulador Pagos Oportunos'!$K$55,IF('Simulador Pagos Oportunos'!$X$41=2,'Simulador Pagos Oportunos'!$M$55,'Simulador Pagos Oportunos'!$O$55))))","v":0},{"$f":"IF(AO53<=0,0,$AV$29)","v":0},0,0,"",0,37]
[38,0,null,{"$f":"IF(B54+F54-D53<=0,B54+F54,IF(A54=$B$9,$F$9,IF(A54=$B$10,$F$10,IF(AND('Simulador Pagos Oportunos'!$AH$45=2,L53=0),D53*(1+Z54),IF($AL$3=2,B54*AI54,D53*(1+Z54))))))","v":0},null,0,null,0,null,{"$f":"IF(B54-H54=0,0,J52*(1+(3%)))","v":0},null,null,null,{"$f":"IF('Simulador Pagos Oportunos'!$V$66=1,0,L54*'Simulador Pagos Oportunos'!$O$69*'Simulador Pagos Oportunos'!$W$65)","v":0},null,{"$f":"IF(B54=0,\"\",IF('Simulador Pagos Oportunos'!$X$41=4,AD54,IF('Simulador Pagos Oportunos'!$X$41=1,AE54,IF('Simulador Pagos Oportunos'!$X$41=2,AF54,IF('Simulador Pagos Oportunos'!$X$41=3,AG54,AC54)))))","v":""},null,0,null,{"$f":"IF(B54<=0,0,B54*IF('Simulador Pagos Oportunos'!$Y$71=1,0,'Simulador Pagos Oportunos'!$Y$74))","v":0},null,{"$f":"IF(B54=0,0,IF('Simulador Pagos Oportunos'!$X$41=4,'Simulador Pagos Oportunos'!$I$55,IF('Simulador Pagos Oportunos'!$X$41=1,'Simulador Pagos Oportunos'!$K$55,IF('Simulador Pagos Oportunos'!$X$41=2,'Simulador Pagos Oportunos'!$M$55,IF('Simulador Pagos Oportunos'!$X$41=3,'Simulador Pagos Oportunos'!$O$55,0)))))","v":0},null,0,null,null,null,0,{"$f":"AC53","v":0.1275},{"$f":"AD53","v":0.124},{"$f":"AE53","v":0.124},0.124,0.124,0,0,3,2,0,0,0,0,0,0,0,0,{"$f":"IF(AO54=0,\"\",IF('Simulador Pagos Oportunos'!$X$41=4,AD54,IF('Simulador Pagos Oportunos'!$X$41=1,AE54,IF('Simulador Pagos Oportunos'!$X$41=2,AF54,IF('Simulador Pagos Oportunos'!$X$41=3,AG54,AC54)))))","v":""},{"$f":"IF(AO54<=0,0,IF('Simulador Pagos Oportunos'!$Y$71=1,0,AO54*'Simulador Pagos Oportunos'!$Y$74))+IF(AO54<=0,0,IF('Simulador Pagos Oportunos'!$X$41=4,'Simulador Pagos Oportunos'!$I$55,IF('Simulador Pagos Oportunos'!$X$41=1,'Simulador Pagos Oportunos'!$K$55,IF('Simulador Pagos Oportunos'!$X$41=2,'Simulador Pagos Oportunos'!$M$55,'Simulador Pagos Oportunos'!$O$55))))","v":0},null,0,0,"",0,38]
[39,0,null,{"$f":"IF(B55+F55-D54<=0,B55+F55,IF(A55=$B$9,$F$9,IF(A55=$B$10,$F$10,IF(AND('Simulador Pagos Oportunos'!$AH$45=2,L54=0),D54*(1+Z55),IF($AL$3=2,B55*AI55,D54*(1+Z55))))))","v":0},null,0,null,0,null,null,null,null,null,{"$f":"IF('Simulador Pagos Oportunos'!$V$66=1,0,L55*'Simulador Pagos Oportunos'!$O$69*'Simulador Pagos Oportunos'!$W$65)","v":0},null,{"$f":"IF(B55=0,\"\",IF('Simulador Pagos Oportunos'!$X$41=4,AD55,IF('Simulador Pagos Oportunos'!$X$41=1,AE55,IF('Simulador Pagos Oportunos'!$X$41=2,AF55,IF('Simulador Pagos Oportunos'!$X$41=3,AG55,AC55)))))","v":""},null,0,null,{"$f":"IF(B55<=0,0,B55*IF('Simulador Pagos Oportunos'!$Y$71=1,0,'Simulador Pagos Oportunos'!$Y$74))","v":0},null,{"$f":"IF(B55=0,0,IF('Simulador Pagos Oportunos'!$X$41=4,'Simulador Pagos Oportunos'!$I$55,IF('Simulador Pagos Oportunos'!$X$41=1,'Simulador Pagos Oportunos'!$K$55,IF('Simulador Pagos Oportunos'!$X$41=2,'Simulador Pagos Oportunos'!$M$55,IF('Simulador Pagos Oportunos'!$X$41=3,'Simulador Pagos Oportunos'!$O$55,0)))))","v":0},null,0,null,null,null,0,{"$f":"AC54","v":0.1275},0.124,0.124,0.124,0.124,0,0,3,3,0,0,0,0,0,0,0,0,{"$f":"IF(AO55=0,\"\",IF('Simulador Pagos Oportunos'!$X$41=4,AD55,IF('Simulador Pagos Oportunos'!$X$41=1,AE55,IF('Simulador Pagos Oportunos'!$X$41=2,AF55,IF('Simulador Pagos Oportunos'!$X$41=3,AG55,AC55)))))","v":""},{"$f":"IF(AO55<=0,0,IF('Simulador Pagos Oportunos'!$Y$71=1,0,AO55*'Simulador Pagos Oportunos'!$Y$74))+IF(AO55<=0,0,IF('Simulador Pagos Oportunos'!$X$41=4,'Simulador Pagos Oportunos'!$I$55,IF('Simulador Pagos Oportunos'!$X$41=1,'Simulador Pagos Oportunos'!$K$55,IF('Simulador Pagos Oportunos'!$X$41=2,'Simulador Pagos Oportunos'!$M$55,'Simulador Pagos Oportunos'!$O$55))))","v":0},null,0,0,"",0,39]
[40,0,null,{"$f":"IF(B56+F56-D55<=0,B56+F56,IF(A56=$B$9,$F$9,IF(A56=$B$10,$F$10,IF(AND('Simulador Pagos Oportunos'!$AH$45=2,L55=0),D55*(1+Z56),IF($AL$3=2,B56*AI56,D55*(1+Z56))))))","v":0},null,0,null,0,null,{"$f":"IF(B56-H56=0,0,J54)","v":0},null,null,null,{"$f":"IF('Simulador Pagos Oportunos'!$V$66=1,0,L56*'Simulador Pagos Oportunos'!$O$69*'Simulador Pagos Oportunos'!$W$65)","v":0},null,{"$f":"IF(B56=0,\"\",IF('Simulador Pagos Oportunos'!$X$41=4,AD56,IF('Simulador Pagos Oportunos'!$X$41=1,AE56,IF('Simulador Pagos Oportunos'!$X$41=2,AF56,IF('Simulador Pagos Oportunos'!$X$41=3,AG56,AC56)))))","v":""},null,0,null,{"$f":"IF(B56<=0,0,B56*IF('Simulador Pagos Oportunos'!$Y$71=1,0,'Simulador Pagos Oportunos'!$Y$74))","v":0},null,{"$f":"IF(B56=0,0,IF('Simulador Pagos Oportunos'!$X$41=4,'Simulador Pagos Oportunos'!$I$55,IF('Simulador Pagos Oportunos'!$X$41=1,'Simulador Pagos Oportunos'!$K$55,IF('Simulador Pagos Oportunos'!$X$41=2,'Simulador Pagos Oportunos'!$M$55,IF('Simulador Pagos Oportunos'!$X$41=3,'Simulador Pagos Oportunos'!$O$55,0)))))","v":0},null,0,null,null,null,0,0.1275,0.124,0.124,0.124,0.124,0,0,3,4,0,0,0,0,0,0,0,0,{"$f":"IF(AO56=0,\"\",IF('Simulador Pagos Oportunos'!$X$41=4,AD56,IF('Simulador Pagos Oportunos'!$X$41=1,AE56,IF('Simulador Pagos Oportunos'!$X$41=2,AF56,IF('Simulador Pagos Oportunos'!$X$41=3,AG56,AC56)))))","v":""},{"$f":"IF(AO56<=0,0,IF('Simulador Pagos Oportunos'!$Y$71=1,0,AO56*'Simulador Pagos Oportunos'!$Y$74))+IF(AO56<=0,0,IF('Simulador Pagos Oportunos'!$X$41=4,'Simulador Pagos Oportunos'!$I$55,IF('Simulador Pagos Oportunos'!$X$41=1,'Simulador Pagos Oportunos'!$K$55,IF('Simulador Pagos Oportunos'!$X$41=2,'Simulador Pagos Oportunos'!$M$55,'Simulador Pagos Oportunos'!$O$55))))","v":0},null,0,0,"",0,40]
[41,0,null,{"$f":"IF(B57+F57-D56<=0,B57+F57,IF(A57=$B$9,$F$9,IF(A57=$B$10,$F$10,IF(AND('Simulador Pagos Oportunos'!$AH$45=2,L56=0),D56*(1+Z57),IF($AL$3=2,B57*AI57,D56*(1+Z57))))))","v":0},null,0,null,0,null,null,null,null,null,{"$f":"IF('Simulador Pagos Oportunos'!$V$66=1,0,L57*'Simulador Pagos Oportunos'!$O$69*'Simulador Pagos Oportunos'!$W$65)","v":0},null,{"$f":"IF(B57=0,\"\",IF('Simulador Pagos Oportunos'!$X$41=4,AD57,IF('Simulador Pagos Oportunos'!$X$41=1,AE57,IF('Simulador Pagos Oportunos'!$X$41=2,AF57,IF('Simulador Pagos Oportunos'!$X$41=3,AG57,AC57)))))","v":""},null,0,null,{"$f":"IF(B57<=0,0,B57*IF('Simulador Pagos Oportunos'!$Y$71=1,0,'Simulador Pagos Oportunos'!$Y$74))","v":0},null,{"$f":"IF(B57=0,0,IF('Simulador Pagos Oportunos'!$X$41=4,'Simulador Pagos Oportunos'!$I$55,IF('Simulador Pagos Oportunos'!$X$41=1,'Simulador Pagos Oportunos'!$K$55,IF('Simulador Pagos Oportunos'!$X$41=2,'Simulador Pagos Oportunos'!$M$55,IF('Simulador Pagos Oportunos'!$X$41=3,'Simulador Pagos Oportunos'!$O$55,0)))))","v":0},null,0,null,null,null,0,0.1275,0.124,0.124,0.124,0.124,0,0,3,5,0,0,0,0,0,0,0,0,{"$f":"IF(AO57=0,\"\",IF('Simulador Pagos Oportunos'!$X$41=4,AD57,IF('Simulador Pagos Oportunos'!$X$41=1,AE57,IF('Simulador Pagos Oportunos'!$X$41=2,AF57,IF('Simulador Pagos Oportunos'!$X$41=3,AG57,AC57)))))","v":""},{"$f":"IF(AO57<=0,0,IF('Simulador Pagos Oportunos'!$Y$71=1,0,AO57*'Simulador Pagos Oportunos'!$Y$74))+IF(AO57<=0,0,IF('Simulador Pagos Oportunos'!$X$41=4,'Simulador Pagos Oportunos'!$I$55,IF('Simulador Pagos Oportunos'!$X$41=1,'Simulador Pagos Oportunos'!$K$55,IF('Simulador Pagos Oportunos'!$X$41=2,'Simulador Pagos Oportunos'!$M$55,'Simulador Pagos Oportunos'!$O$55))))","v":0},null,0,0,"",0,41]
[42,0,null,{"$f":"IF(B58+F58-D57<=0,B58+F58,IF(A58=$B$9,$F$9,IF(A58=$B$10,$F$10,IF(AND('Simulador Pagos Oportunos'!$AH$45=2,L57=0),D57*(1+Z58),IF($AL$3=2,B58*AI58,D57*(1+Z58))))))","v":0},null,0,null,0,null,{"$f":"IF(B58-H58=0,0,J56)","v":0},null,null,null,{"$f":"IF('Simulador Pagos Oportunos'!$V$66=1,0,L58*'Simulador Pagos Oportunos'!$O$69*'Simulador Pagos Oportunos'!$W$65)","v":0},null,{"$f":"IF(B58=0,\"\",IF('Simulador Pagos Oportunos'!$X$41=4,AD58,IF('Simulador Pagos Oportunos'!$X$41=1,AE58,IF('Simulador Pagos Oportunos'!$X$41=2,AF58,IF('Simulador Pagos Oportunos'!$X$41=3,AG58,AC58)))))","v":""},null,0,null,{"$f":"IF(B58<=0,0,B58*IF('Simulador Pagos Oportunos'!$Y$71=1,0,'Simulador Pagos Oportunos'!$Y$74))","v":0},null,{"$f":"IF(B58=0,0,IF('Simulador Pagos Oportunos'!$X$41=4,'Simulador Pagos Oportunos'!$I$55,IF('Simulador Pagos Oportunos'!$X$41=1,'Simulador Pagos Oportunos'!$K$55,IF('Simulador Pagos Oportunos'!$X$41=2,'Simulador Pagos Oportunos'!$M$55,IF('Simulador Pagos Oportunos'!$X$41=3,'Simulador Pagos Oportunos'!$O$55,0)))))","v":0},null,0,null,null,null,0,0.1275,0.124,0.124,0.124,0.124,0,0,3,6,0,0,0,0,0,0,0,0,{"$f":"IF(AO58=0,\"\",IF('Simulador Pagos Oportunos'!$X$41=4,AD58,IF('Simulador Pagos Oportunos'!$X$41=1,AE58,IF('Simulador Pagos Oportunos'!$X$41=2,AF58,IF('Simulador Pagos Oportunos'!$X$41=3,AG58,AC58)))))","v":""},{"$f":"IF(AO58<=0,0,IF('Simulador Pagos Oportunos'!$Y$71=1,0,AO58*'Simulador Pagos Oportunos'!$Y$74))+IF(AO58<=0,0,IF('Simulador Pagos Oportunos'!$X$41=4,'Simulador Pagos Oportunos'!$I$55,IF('Simulador Pagos Oportunos'!$X$41=1,'Simulador Pagos Oportunos'!$K$55,IF('Simulador Pagos Oportunos'!$X$41=2,'Simulador Pagos Oportunos'!$M$55,'Simulador Pagos Oportunos'!$O$55))))","v":0},null,0,0,"",0,42]
[43,0,null,{"$f":"IF(B59+F59-D58<=0,B59+F59,IF(A59=$B$9,$F$9,IF(A59=$B$10,$F$10,IF(AND('Simulador Pagos Oportunos'!$AH$45=2,L58=0),D58*(1+Z59),IF($AL$3=2,B59*AI59,D58*(1+Z59))))))","v":0},null,0,null,0,null,null,null,null,null,{"$f":"IF('Simulador Pagos Oportunos'!$V$66=1,0,L59*'Simulador Pagos Oportunos'!$O$69*'Simulador Pagos Oportunos'!$W$65)","v":0},null,{"$f":"IF(B59=0,\"\",IF('Simulador Pagos Oportunos'!$X$41=4,AD59,IF('Simulador Pagos Oportunos'!$X$41=1,AE59,IF('Simulador Pagos Oportunos'!$X$41=2,AF59,IF('Simulador Pagos Oportunos'!$X$41=3,AG59,AC59)))))","v":""},null,0,null,{"$f":"IF(B59<=0,0,B59*IF('Simulador Pagos Oportunos'!$Y$71=1,0,'Simulador Pagos Oportunos'!$Y$74))","v":0},null,{"$f":"IF(B59=0,0,IF('Simulador Pagos Oportunos'!$X$41=4,'Simulador Pagos Oportunos'!$I$55,IF('Simulador Pagos Oportunos'!$X$41=1,'Simulador Pagos Oportunos'!$K$55,IF('Simulador Pagos Oportunos'!$X$41=2,'Simulador Pagos Oportunos'!$M$55,IF('Simulador Pagos Oportunos'!$X$41=3,'Simulador Pagos Oportunos'!$O$55,0)))))","v":0},null,0,null,null,null,0,0.1275,0.124,0.124,0.124,0.124,0,0,3,7,0,0,0,0,0,0,0,0,{"$f":"IF(AO59=0,\"\",IF('Simulador Pagos Oportunos'!$X$41=4,AD59,IF('Simulador Pagos Oportunos'!$X$41=1,AE59,IF('Simulador Pagos Oportunos'!$X$41=2,AF59,IF('Simulador Pagos Oportunos'!$X$41=3,AG59,AC59)))))","v":""},{"$f":"IF(AO59<=0,0,IF('Simulador Pagos Oportunos'!$Y$71=1,0,AO59*'Simulador Pagos Oportunos'!$Y$74))+IF(AO59<=0,0,IF('Simulador Pagos Oportunos'!$X$41=4,'Simulador Pagos Oportunos'!$I$55,IF('Simulador Pagos Oportunos'!$X$41=1,'Simulador Pagos Oportunos'!$K$55,IF('Simulador Pagos Oportunos'!$X$41=2,'Simulador Pagos Oportunos'!$M$55,'Simulador Pagos Oportunos'!$O$55))))","v":0},null,0,0,"",0,43]
[44,0,null,{"$f":"IF(B60+F60-D59<=0,B60+F60,IF(A60=$B$9,$F$9,IF(A60=$B$10,$F$10,IF(AND('Simulador Pagos Oportunos'!$AH$45=2,L59=0),D59*(1+Z60),IF($AL$3=2,B60*AI60,D59*(1+Z60))))))","v":0},null,0,null,0,null,{"$f":"IF(B60-H60=0,0,J58)","v":0},null,null,null,{"$f":"IF('Simulador Pagos Oportunos'!$V$66=1,0,L60*'Simulador Pagos Oportunos'!$O$69*'Simulador Pagos Oportunos'!$W$65)","v":0},null,{"$f":"IF(B60=0,\"\",IF('Simulador Pagos Oportunos'!$X$41=4,AD60,IF('Simulador Pagos Oportunos'!$X$41=1,AE60,IF('Simulador Pagos Oportunos'!$X$41=2,AF60,IF('Simulador Pagos Oportunos'!$X$41=3,AG60,AC60)))))","v":""},null,0,null,{"$f":"IF(B60<=0,0,B60*IF('Simulador Pagos Oportunos'!$Y$71=1,0,'Simulador Pagos Oportunos'!$Y$74))","v":0},null,{"$f":"IF(B60=0,0,IF('Simulador Pagos Oportunos'!$X$41=4,'Simulador Pagos Oportunos'!$I$55,IF('Simulador Pagos Oportunos'!$X$41=1,'Simulador Pagos Oportunos'!$K$55,IF('Simulador Pagos Oportunos'!$X$41=2,'Simulador Pagos Oportunos'!$M$55,IF('Simulador Pagos Oportunos'!$X$41=3,'Simulador Pagos Oportunos'!$O$55,0)))))","v":0},null,0,null,null,null,0,0.1275,0.124,0.124,0.124,0.124,0,0,3,8,0,0,0,0,0,0,0,0,{"$f":"IF(AO60=0,\"\",IF('Simulador Pagos Oportunos'!$X$41=4,AD60,IF('Simulador Pagos Oportunos'!$X$41=1,AE60,IF('Simulador Pagos Oportunos'!$X$41=2,AF60,IF('Simulador Pagos Oportunos'!$X$41=3,AG60,AC60)))))","v":""},{"$f":"IF(AO60<=0,0,IF('Simulador Pagos Oportunos'!$Y$71=1,0,AO60*'Simulador Pagos Oportunos'!$Y$74))+IF(AO60<=0,0,IF('Simulador Pagos Oportunos'!$X$41=4,'Simulador Pagos Oportunos'!$I$55,IF('Simulador Pagos Oportunos'!$X$41=1,'Simulador Pagos Oportunos'!$K$55,IF('Simulador Pagos Oportunos'!$X$41=2,'Simulador Pagos Oportunos'!$M$55,'Simulador Pagos Oportunos'!$O$55))))","v":0},null,0,0,"",0,44]
[45,0,null,{"$f":"IF(B61+F61-D60<=0,B61+F61,IF(A61=$B$9,$F$9,IF(A61=$B$10,$F$10,IF(AND('Simulador Pagos Oportunos'!$AH$45=2,L60=0),D60*(1+Z61),IF($AL$3=2,B61*AI61,D60*(1+Z61))))))","v":0},null,0,null,0,null,null,null,null,null,{"$f":"IF('Simulador Pagos Oportunos'!$V$66=1,0,L61*'Simulador Pagos Oportunos'!$O$69*'Simulador Pagos Oportunos'!$W$65)","v":0},null,{"$f":"IF(B61=0,\"\",IF('Simulador Pagos Oportunos'!$X$41=4,AD61,IF('Simulador Pagos Oportunos'!$X$41=1,AE61,IF('Simulador Pagos Oportunos'!$X$41=2,AF61,IF('Simulador Pagos Oportunos'!$X$41=3,AG61,AC61)))))","v":""},null,0,null,{"$f":"IF(B61<=0,0,B61*IF('Simulador Pagos Oportunos'!$Y$71=1,0,'Simulador Pagos Oportunos'!$Y$74))","v":0},null,{"$f":"IF(B61=0,0,IF('Simulador Pagos Oportunos'!$X$41=4,'Simulador Pagos Oportunos'!$I$55,IF('Simulador Pagos Oportunos'!$X$41=1,'Simulador Pagos Oportunos'!$K$55,IF('Simulador Pagos Oportunos'!$X$41=2,'Simulador Pagos Oportunos'!$M$55,IF('Simulador Pagos Oportunos'!$X$41=3,'Simulador Pagos Oportunos'!$O$55,0)))))","v":0},null,0,null,null,null,0,0.1275,0.124,0.124,0.124,0.124,0,0,3,9,0,0,0,0,0,0,0,0,{"$f":"IF(AO61=0,\"\",IF('Simulador Pagos Oportunos'!$X$41=4,AD61,IF('Simulador Pagos Oportunos'!$X$41=1,AE61,IF('Simulador Pagos Oportunos'!$X$41=2,AF61,IF('Simulador Pagos Oportunos'!$X$41=3,AG61,AC61)))))","v":""},{"$f":"IF(AO61<=0,0,IF('Simulador Pagos Oportunos'!$Y$71=1,0,AO61*'Simulador Pagos Oportunos'!$Y$74))+IF(AO61<=0,0,IF('Simulador Pagos Oportunos'!$X$41=4,'Simulador Pagos Oportunos'!$I$55,IF('Simulador Pagos Oportunos'!$X$41=1,'Simulador Pagos Oportunos'!$K$55,IF('Simulador Pagos Oportunos'!$X$41=2,'Simulador Pagos Oportunos'!$M$55,'Simulador Pagos Oportunos'!$O$55))))","v":0},null,0,0,"",0,45]
[46,0,null,{"$f":"IF(B62+F62-D61<=0,B62+F62,IF(A62=$B$9,$F$9,IF(A62=$B$10,$F$10,IF(AND('Simulador Pagos Oportunos'!$AH$45=2,L61=0),D61*(1+Z62),IF($AL$3=2,B62*AI62,D61*(1+Z62))))))","v":0},null,0,null,0,null,{"$f":"IF(B62-H62=0,0,J60)","v":0},null,null,null,{"$f":"IF('Simulador Pagos Oportunos'!$V$66=1,0,L62*'Simulador Pagos Oportunos'!$O$69*'Simulador Pagos Oportunos'!$W$65)","v":0},null,{"$f":"IF(B62=0,\"\",IF('Simulador Pagos Oportunos'!$X$41=4,AD62,IF('Simulador Pagos Oportunos'!$X$41=1,AE62,IF('Simulador Pagos Oportunos'!$X$41=2,AF62,IF('Simulador Pagos Oportunos'!$X$41=3,AG62,AC62)))))","v":""},null,0,null,{"$f":"IF(B62<=0,0,B62*IF('Simulador Pagos Oportunos'!$Y$71=1,0,'Simulador Pagos Oportunos'!$Y$74))","v":0},null,{"$f":"IF(B62=0,0,IF('Simulador Pagos Oportunos'!$X$41=4,'Simulador Pagos Oportunos'!$I$55,IF('Simulador Pagos Oportunos'!$X$41=1,'Simulador Pagos Oportunos'!$K$55,IF('Simulador Pagos Oportunos'!$X$41=2,'Simulador Pagos Oportunos'!$M$55,IF('Simulador Pagos Oportunos'!$X$41=3,'Simulador Pagos Oportunos'!$O$55,0)))))","v":0},null,0,null,null,null,0,0.1275,0.124,0.124,0.124,0.124,0,0,3,10,0,0,0,0,0,0,0,0,{"$f":"IF(AO62=0,\"\",IF('Simulador Pagos Oportunos'!$X$41=4,AD62,IF('Simulador Pagos Oportunos'!$X$41=1,AE62,IF('Simulador Pagos Oportunos'!$X$41=2,AF62,IF('Simulador Pagos Oportunos'!$X$41=3,AG62,AC62)))))","v":""},{"$f":"IF(AO62<=0,0,IF('Simulador Pagos Oportunos'!$Y$71=1,0,AO62*'Simulador Pagos Oportunos'!$Y$74))+IF(AO62<=0,0,IF('Simulador Pagos Oportunos'!$X$41=4,'Simulador Pagos Oportunos'!$I$55,IF('Simulador Pagos Oportunos'!$X$41=1,'Simulador Pagos Oportunos'!$K$55,IF('Simulador Pagos Oportunos'!$X$41=2,'Simulador Pagos Oportunos'!$M$55,'Simulador Pagos Oportunos'!$O$55))))","v":0},null,0,0,"",0,46]
[47,0,null,{"$f":"IF(B63+F63-D62<=0,B63+F63,IF(A63=$B$9,$F$9,IF(A63=$B$10,$F$10,IF(AND('Simulador Pagos Oportunos'!$AH$45=2,L62=0),D62*(1+Z63),IF($AL$3=2,B63*AI63,D62*(1+Z63))))))","v":0},null,0,null,0,null,null,null,null,null,{"$f":"IF('Simulador Pagos Oportunos'!$V$66=1,0,L63*'Simulador Pagos Oportunos'!$O$69*'Simulador Pagos Oportunos'!$W$65)","v":0},null,{"$f":"IF(B63=0,\"\",IF('Simulador Pagos Oportunos'!$X$41=4,AD63,IF('Simulador Pagos Oportunos'!$X$41=1,AE63,IF('Simulador Pagos Oportunos'!$X$41=2,AF63,IF('Simulador Pagos Oportunos'!$X$41=3,AG63,AC63)))))","v":""},null,0,null,{"$f":"IF(B63<=0,0,B63*IF('Simulador Pagos Oportunos'!$Y$71=1,0,'Simulador Pagos Oportunos'!$Y$74))","v":0},null,{"$f":"IF(B63=0,0,IF('Simulador Pagos Oportunos'!$X$41=4,'Simulador Pagos Oportunos'!$I$55,IF('Simulador Pagos Oportunos'!$X$41=1,'Simulador Pagos Oportunos'!$K$55,IF('Simulador Pagos Oportunos'!$X$41=2,'Simulador Pagos Oportunos'!$M$55,IF('Simulador Pagos Oportunos'!$X$41=3,'Simulador Pagos Oportunos'!$O$55,0)))))","v":0},null,0,null,null,null,0,0.1275,0.124,0.124,0.124,0.124,0,0,3,11,0,0,0,0,0,0,0,0,{"$f":"IF(AO63=0,\"\",IF('Simulador Pagos Oportunos'!$X$41=4,AD63,IF('Simulador Pagos Oportunos'!$X$41=1,AE63,IF('Simulador Pagos Oportunos'!$X$41=2,AF63,IF('Simulador Pagos Oportunos'!$X$41=3,AG63,AC63)))))","v":""},{"$f":"IF(AO63<=0,0,IF('Simulador Pagos Oportunos'!$Y$71=1,0,AO63*'Simulador Pagos Oportunos'!$Y$74))+IF(AO63<=0,0,IF('Simulador Pagos Oportunos'!$X$41=4,'Simulador Pagos Oportunos'!$I$55,IF('Simulador Pagos Oportunos'!$X$41=1,'Simulador Pagos Oportunos'!$K$55,IF('Simulador Pagos Oportunos'!$X$41=2,'Simulador Pagos Oportunos'!$M$55,'Simulador Pagos Oportunos'!$O$55))))","v":0},null,0,0,"",0,47]
[48,0,null,{"$f":"IF(B64+F64-D63<=0,B64+F64,IF(A64=$B$9,$F$9,IF(A64=$B$10,$F$10,IF(AND('Simulador Pagos Oportunos'!$AH$45=2,L63=0),D63*(1+Z64),IF($AL$3=2,B64*AI64,D63*(1+Z64))))))","v":0},null,0,null,0,null,{"$f":"IF(B64-H64=0,0,J62)","v":0},null,null,null,{"$f":"IF('Simulador Pagos Oportunos'!$V$66=1,0,L64*'Simulador Pagos Oportunos'!$O$69*'Simulador Pagos Oportunos'!$W$65)","v":0},null,{"$f":"IF(B64=0,\"\",IF('Simulador Pagos Oportunos'!$X$41=4,AD64,IF('Simulador Pagos Oportunos'!$X$41=1,AE64,IF('Simulador Pagos Oportunos'!$X$41=2,AF64,IF('Simulador Pagos Oportunos'!$X$41=3,AG64,AC64)))))","v":""},null,0,null,{"$f":"IF(B64<=0,0,B64*IF('Simulador Pagos Oportunos'!$Y$71=1,0,'Simulador Pagos Oportunos'!$Y$74))","v":0},null,{"$f":"IF(B64=0,0,IF('Simulador Pagos Oportunos'!$X$41=4,'Simulador Pagos Oportunos'!$I$55,IF('Simulador Pagos Oportunos'!$X$41=1,'Simulador Pagos Oportunos'!$K$55,IF('Simulador Pagos Oportunos'!$X$41=2,'Simulador Pagos Oportunos'!$M$55,IF('Simulador Pagos Oportunos'!$X$41=3,'Simulador Pagos Oportunos'!$O$55,0)))))","v":0},null,0,null,null,null,0,0.1275,0.124,0.124,0.124,0.124,0,0,4,0,0,0,0,0,0,0,0,0,{"$f":"IF(AO64=0,\"\",IF('Simulador Pagos Oportunos'!$X$41=4,AD64,IF('Simulador Pagos Oportunos'!$X$41=1,AE64,IF('Simulador Pagos Oportunos'!$X$41=2,AF64,IF('Simulador Pagos Oportunos'!$X$41=3,AG64,AC64)))))","v":""},{"$f":"IF(AO64<=0,0,IF('Simulador Pagos Oportunos'!$Y$71=1,0,AO64*'Simulador Pagos Oportunos'!$Y$74))+IF(AO64<=0,0,IF('Simulador Pagos Oportunos'!$X$41=4,'Simulador Pagos Oportunos'!$I$55,IF('Simulador Pagos Oportunos'!$X$41=1,'Simulador Pagos Oportunos'!$K$55,IF('Simulador Pagos Oportunos'!$X$41=2,'Simulador Pagos Oportunos'!$M$55,'Simulador Pagos Oportunos'!$O$55))))","v":0},null,0,0,"",0,48]
[49,0,null,{"$f":"IF(B65+F65-D64<=0,B65+F65,IF(A65=$B$9,$F$9,IF(A65=$B$10,$F$10,IF(AND('Simulador Pagos Oportunos'!$AH$45=2,L64=0),D64*(1+Z65),IF($AL$3=2,B65*AI65,D64*(1+Z65))))))","v":0},null,0,null,0,null,null,null,null,null,{"$f":"IF('Simulador Pagos Oportunos'!$V$66=1,0,L65*'Simulador Pagos Oportunos'!$O$69*'Simulador Pagos Oportunos'!$W$65)","v":0},null,{"$f":"IF(B65=0,\"\",IF('Simulador Pagos Oportunos'!$X$41=4,AD65,IF('Simulador Pagos Oportunos'!$X$41=1,AE65,IF('Simulador Pagos Oportunos'!$X$41=2,AF65,IF('Simulador Pagos Oportunos'!$X$41=3,AG65,AC65)))))","v":""},null,0,null,{"$f":"IF(B65<=0,0,B65*IF('Simulador Pagos Oportunos'!$Y$71=1,0,'Simulador Pagos Oportunos'!$Y$74))","v":0},null,{"$f":"IF(B65=0,0,IF('Simulador Pagos Oportunos'!$X$41=4,'Simulador Pagos Oportunos'!$I$55,IF('Simulador Pagos Oportunos'!$X$41=1,'Simulador Pagos Oportunos'!$K$55,IF('Simulador Pagos Oportunos'!$X$41=2,'Simulador Pagos Oportunos'!$M$55,IF('Simulador Pagos Oportunos'!$X$41=3,'Simulador Pagos Oportunos'!$O$55,0)))))","v":0},null,0,null,{"$f":"IF(B65<=0,0,'Simulador Pagos Oportunos'!$AI$54)","v":0},null,0,{"$f":"IF(AC64=$AC$5,AC64,IF(AC64-0.25%<=$AC$5,$AC$5,AC64-0.25%))","v":0.125},{"$f":"AD64-0.15%","v":0.1225},{"$f":"AE64-0.15%","v":0.1225},{"$f":"AF64-0.15%","v":0.1225},{"$f":"AG64-0.15%","v":0.1225},0,0,4,1,0,0,0,0,0,0,0,0,{"$f":"IF(AO65=0,\"\",IF('Simulador Pagos Oportunos'!$X$41=4,AD65,IF('Simulador Pagos Oportunos'!$X$41=1,AE65,IF('Simulador Pagos Oportunos'!$X$41=2,AF65,IF('Simulador Pagos Oportunos'!$X$41=3,AG65,AC65)))))","v":""},{"$f":"IF(AO65<=0,0,IF('Simulador Pagos Oportunos'!$Y$71=1,0,AO65*'Simulador Pagos Oportunos'!$Y$74))+IF(AO65<=0,0,IF('Simulador Pagos Oportunos'!$X$41=4,'Simulador Pagos Oportunos'!$I$55,IF('Simulador Pagos Oportunos'!$X$41=1,'Simulador Pagos Oportunos'!$K$55,IF('Simulador Pagos Oportunos'!$X$41=2,'Simulador Pagos Oportunos'!$M$55,'Simulador Pagos Oportunos'!$O$55))))","v":0},{"$f":"IF(AO65<=0,0,$AV$29)","v":0},0,0,"",0,49]
[50,0,null,{"$f":"IF(B66+F66-D65<=0,B66+F66,IF(A66=$B$9,$F$9,IF(A66=$B$10,$F$10,IF(AND('Simulador Pagos Oportunos'!$AH$45=2,L65=0),D65*(1+Z66),IF($AL$3=2,B66*AI66,D65*(1+Z66))))))","v":0},null,0,null,0,null,{"$f":"IF(B66-H66=0,0,J64*(1+(3%)))","v":0},null,null,null,{"$f":"IF('Simulador Pagos Oportunos'!$V$66=1,0,L66*'Simulador Pagos Oportunos'!$O$69*'Simulador Pagos Oportunos'!$W$65)","v":0},null,{"$f":"IF(B66=0,\"\",IF('Simulador Pagos Oportunos'!$X$41=4,AD66,IF('Simulador Pagos Oportunos'!$X$41=1,AE66,IF('Simulador Pagos Oportunos'!$X$41=2,AF66,IF('Simulador Pagos Oportunos'!$X$41=3,AG66,AC66)))))","v":""},null,0,null,{"$f":"IF(B66<=0,0,B66*IF('Simulador Pagos Oportunos'!$Y$71=1,0,'Simulador Pagos Oportunos'!$Y$74))","v":0},null,{"$f":"IF(B66=0,0,IF('Simulador Pagos Oportunos'!$X$41=4,'Simulador Pagos Oportunos'!$I$55,IF('Simulador Pagos Oportunos'!$X$41=1,'Simulador Pagos Oportunos'!$K$55,IF('Simulador Pagos Oportunos'!$X$41=2,'Simulador Pagos Oportunos'!$M$55,IF('Simulador Pagos Oportunos'!$X$41=3,'Simulador Pagos Oportunos'!$O$55,0)))))","v":0},null,0,null,null,null,0,{"$f":"AC65","v":0.125},{"$f":"AD65","v":0.1225},{"$f":"AE65","v":0.1225},0.1225,0.1225,0,0,4,2,0,0,0,0,0,0,0,0,{"$f":"IF(AO66=0,\"\",IF('Simulador Pagos Oportunos'!$X$41=4,AD66,IF('Simulador Pagos Oportunos'!$X$41=1,AE66,IF('Simulador Pagos Oportunos'!$X$41=2,AF66,IF('Simulador Pagos Oportunos'!$X$41=3,AG66,AC66)))))","v":""},{"$f":"IF(AO66<=0,0,IF('Simulador Pagos Oportunos'!$Y$71=1,0,AO66*'Simulador Pagos Oportunos'!$Y$74))+IF(AO66<=0,0,IF('Simulador Pagos Oportunos'!$X$41=4,'Simulador Pagos Oportunos'!$I$55,IF('Simulador Pagos Oportunos'!$X$41=1,'Simulador Pagos Oportunos'!$K$55,IF('Simulador Pagos Oportunos'!$X$41=2,'Simulador Pagos Oportunos'!$M$55,'Simulador Pagos Oportunos'!$O$55))))","v":0},null,0,0,"",0,50]
[51,0,null,{"$f":"IF(B67+F67-D66<=0,B67+F67,IF(A67=$B$9,$F$9,IF(A67=$B$10,$F$10,IF(AND('Simulador Pagos Oportunos'!$AH$45=2,L66=0),D66*(1+Z67),IF($AL$3=2,B67*AI67,D66*(1+Z67))))))","v":0},null,0,null,0,null,null,null,null,null,{"$f":"IF('Simulador Pagos Oportunos'!$V$66=1,0,L67*'Simulador Pagos Oportunos'!$O$69*'Simulador Pagos Oportunos'!$W$65)","v":0},null,{"$f":"IF(B67=0,\"\",IF('Simulador Pagos Oportunos'!$X$41=4,AD67,IF('Simulador Pagos Oportunos'!$X$41=1,AE67,IF('Simulador Pagos Oportunos'!$X$41=2,AF67,IF('Simulador Pagos Oportunos'!$X$41=3,AG67,AC67)))))","v":""},null,0,null,{"$f":"IF(B67<=0,0,B67*IF('Simulador Pagos Oportunos'!$Y$71=1,0,'Simulador Pagos Oportunos'!$Y$74))","v":0},null,{"$f":"IF(B67=0,0,IF('Simulador Pagos Oportunos'!$X$41=4,'Simulador Pagos Oportunos'!$I$55,IF('Simulador Pagos Oportunos'!$X$41=1,'Simulador Pagos Oportunos'!$K$55,IF('Simulador Pagos Oportunos'!$X$41=2,'Simulador Pagos Oportunos'!$M$55,IF('Simulador Pagos Oportunos'!$X$41=3,'Simulador Pagos Oportunos'!$O$55,0)))))","v":0},null,0,null,null,null,0,0.125,0.1225,0.1225,0.1225,0.1225,0,0,4,3,0,0,0,0,0,0,0,0,{"$f":"IF(AO67=0,\"\",IF('Simulador Pagos Oportunos'!$X$41=4,AD67,IF('Simulador Pagos Oportunos'!$X$41=1,AE67,IF('Simulador Pagos Oportunos'!$X$41=2,AF67,IF('Simulador Pagos Oportunos'!$X$41=3,AG67,AC67)))))","v":""},{"$f":"IF(AO67<=0,0,IF('Simulador Pagos Oportunos'!$Y$71=1,0,AO67*'Simulador Pagos Oportunos'!$Y$74))+IF(AO67<=0,0,IF('Simulador Pagos Oportunos'!$X$41=4,'Simulador Pagos Oportunos'!$I$55,IF('Simulador Pagos Oportunos'!$X$41=1,'Simulador Pagos Oportunos'!$K$55,IF('Simulador Pagos Oportunos'!$X$41=2,'Simulador Pagos Oportunos'!$M$55,'Simulador Pagos Oportunos'!$O$55))))","v":0},null,0,0,"",0,51]
[52,0,null,{"$f":"IF(B68+F68-D67<=0,B68+F68,IF(A68=$B$9,$F$9,IF(A68=$B$10,$F$10,IF(AND('Simulador Pagos Oportunos'!$AH$45=2,L67=0),D67*(1+Z68),IF($AL$3=2,B68*AI68,D67*(1+Z68))))))","v":0},null,0,null,0,null,{"$f":"IF(B68-H68=0,0,J66)","v":0},null,null,null,{"$f":"IF('Simulador Pagos Oportunos'!$V$66=1,0,L68*'Simulador Pagos Oportunos'!$O$69*'Simulador Pagos Oportunos'!$W$65)","v":0},null,{"$f":"IF(B68=0,\"\",IF('Simulador Pagos Oportunos'!$X$41=4,AD68,IF('Simulador Pagos Oportunos'!$X$41=1,AE68,IF('Simulador Pagos Oportunos'!$X$41=2,AF68,IF('Simulador Pagos Oportunos'!$X$41=3,AG68,AC68)))))","v":""},null,0,null,{"$f":"IF(B68<=0,0,B68*IF('Simulador Pagos Oportunos'!$Y$71=1,0,'Simulador Pagos Oportunos'!$Y$74))","v":0},null,{"$f":"IF(B68=0,0,IF('Simulador Pagos Oportunos'!$X$41=4,'Simulador Pagos Oportunos'!$I$55,IF('Simulador Pagos Oportunos'!$X$41=1,'Simulador Pagos Oportunos'!$K$55,IF('Simulador Pagos Oportunos'!$X$41=2,'Simulador Pagos Oportunos'!$M$55,IF('Simulador Pagos Oportunos'!$X$41=3,'Simulador Pagos Oportunos'!$O$55,0)))))","v":0},null,0,null,null,null,0,0.125,0.1225,0.1225,0.1225,0.1225,0,0,4,4,0,0,0,0,0,0,0,0,{"$f":"IF(AO68=0,\"\",IF('Simulador Pagos Oportunos'!$X$41=4,AD68,IF('Simulador Pagos Oportunos'!$X$41=1,AE68,IF('Simulador Pagos Oportunos'!$X$41=2,AF68,IF('Simulador Pagos Oportunos'!$X$41=3,AG68,AC68)))))","v":""},{"$f":"IF(AO68<=0,0,IF('Simulador Pagos Oportunos'!$Y$71=1,0,AO68*'Simulador Pagos Oportunos'!$Y$74))+IF(AO68<=0,0,IF('Simulador Pagos Oportunos'!$X$41=4,'Simulador Pagos Oportunos'!$I$55,IF('Simulador Pagos Oportunos'!$X$41=1,'Simulador Pagos Oportunos'!$K$55,IF('Simulador Pagos Oportunos'!$X$41=2,'Simulador Pagos Oportunos'!$M$55,'Simulador Pagos Oportunos'!$O$55))))","v":0},null,0,0,"",0,52]
[53,0,null,{"$f":"IF(B69+F69-D68<=0,B69+F69,IF(A69=$B$9,$F$9,IF(A69=$B$10,$F$10,IF(AND('Simulador Pagos Oportunos'!$AH$45=2,L68=0),D68*(1+Z69),IF($AL$3=2,B69*AI69,D68*(1+Z69))))))","v":0},null,0,null,0,null,null,null,null,null,{"$f":"IF('Simulador Pagos Oportunos'!$V$66=1,0,L69*'Simulador Pagos Oportunos'!$O$69*'Simulador Pagos Oportunos'!$W$65)","v":0},null,{"$f":"IF(B69=0,\"\",IF('Simulador Pagos Oportunos'!$X$41=4,AD69,IF('Simulador Pagos Oportunos'!$X$41=1,AE69,IF('Simulador Pagos Oportunos'!$X$41=2,AF69,IF('Simulador Pagos Oportunos'!$X$41=3,AG69,AC69)))))","v":""},null,0,null,{"$f":"IF(B69<=0,0,B69*IF('Simulador Pagos Oportunos'!$Y$71=1,0,'Simulador Pagos Oportunos'!$Y$74))","v":0},null,{"$f":"IF(B69=0,0,IF('Simulador Pagos Oportunos'!$X$41=4,'Simulador Pagos Oportunos'!$I$55,IF('Simulador Pagos Oportunos'!$X$41=1,'Simulador Pagos Oportunos'!$K$55,IF('Simulador Pagos Oportunos'!$X$41=2,'Simulador Pagos Oportunos'!$M$55,IF('Simulador Pagos Oportunos'!$X$41=3,'Simulador Pagos Oportunos'!$O$55,0)))))","v":0},null,0,null,null,null,0,0.125,0.1225,0.1225,0.1225,0.1225,0,0,4,5,0,0,0,0,0,0,0,0,{"$f":"IF(AO69=0,\"\",IF('Simulador Pagos Oportunos'!$X$41=4,AD69,IF('Simulador Pagos Oportunos'!$X$41=1,AE69,IF('Simulador Pagos Oportunos'!$X$41=2,AF69,IF('Simulador Pagos Oportunos'!$X$41=3,AG69,AC69)))))","v":""},{"$f":"IF(AO69<=0,0,IF('Simulador Pagos Oportunos'!$Y$71=1,0,AO69*'Simulador Pagos Oportunos'!$Y$74))+IF(AO69<=0,0,IF('Simulador Pagos Oportunos'!$X$41=4,'Simulador Pagos Oportunos'!$I$55,IF('Simulador Pagos Oportunos'!$X$41=1,'Simulador Pagos Oportunos'!$K$55,IF('Simulador Pagos Oportunos'!$X$41=2,'Simulador Pagos Oportunos'!$M$55,'Simulador Pagos Oportunos'!$O$55))))","v":0},null,0,0,"",0,53]
[54,0,null,{"$f":"IF(B70+F70-D69<=0,B70+F70,IF(A70=$B$9,$F$9,IF(A70=$B$10,$F$10,IF(AND('Simulador Pagos Oportunos'!$AH$45=2,L69=0),D69*(1+Z70),IF($AL$3=2,B70*AI70,D69*(1+Z70))))))","v":0},null,0,null,0,null,{"$f":"IF(B70-H70=0,0,J68)","v":0},null,null,null,{"$f":"IF('Simulador Pagos Oportunos'!$V$66=1,0,L70*'Simulador Pagos Oportunos'!$O$69*'Simulador Pagos Oportunos'!$W$65)","v":0},null,{"$f":"IF(B70=0,\"\",IF('Simulador Pagos Oportunos'!$X$41=4,AD70,IF('Simulador Pagos Oportunos'!$X$41=1,AE70,IF('Simulador Pagos Oportunos'!$X$41=2,AF70,IF('Simulador Pagos Oportunos'!$X$41=3,AG70,AC70)))))","v":""},null,0,null,{"$f":"IF(B70<=0,0,B70*IF('Simulador Pagos Oportunos'!$Y$71=1,0,'Simulador Pagos Oportunos'!$Y$74))","v":0},null,{"$f":"IF(B70=0,0,IF('Simulador Pagos Oportunos'!$X$41=4,'Simulador Pagos Oportunos'!$I$55,IF('Simulador Pagos Oportunos'!$X$41=1,'Simulador Pagos Oportunos'!$K$55,IF('Simulador Pagos Oportunos'!$X$41=2,'Simulador Pagos Oportunos'!$M$55,IF('Simulador Pagos Oportunos'!$X$41=3,'Simulador Pagos Oportunos'!$O$55,0)))))","v":0},null,0,null,null,null,0,0.125,0.1225,0.1225,0.1225,0.1225,0,0,4,6,0,0,0,0,0,0,0,0,{"$f":"IF(AO70=0,\"\",IF('Simulador Pagos Oportunos'!$X$41=4,AD70,IF('Simulador Pagos Oportunos'!$X$41=1,AE70,IF('Simulador Pagos Oportunos'!$X$41=2,AF70,IF('Simulador Pagos Oportunos'!$X$41=3,AG70,AC70)))))","v":""},{"$f":"IF(AO70<=0,0,IF('Simulador Pagos Oportunos'!$Y$71=1,0,AO70*'Simulador Pagos Oportunos'!$Y$74))+IF(AO70<=0,0,IF('Simulador Pagos Oportunos'!$X$41=4,'Simulador Pagos Oportunos'!$I$55,IF('Simulador Pagos Oportunos'!$X$41=1,'Simulador Pagos Oportunos'!$K$55,IF('Simulador Pagos Oportunos'!$X$41=2,'Simulador Pagos Oportunos'!$M$55,'Simulador Pagos Oportunos'!$O$55))))","v":0},null,0,0,"",0,54]
[55,0,null,{"$f":"IF(B71+F71-D70<=0,B71+F71,IF(A71=$B$9,$F$9,IF(A71=$B$10,$F$10,IF(AND('Simulador Pagos Oportunos'!$AH$45=2,L70=0),D70*(1+Z71),IF($AL$3=2,B71*AI71,D70*(1+Z71))))))","v":0},null,0,null,0,null,null,null,null,null,{"$f":"IF('Simulador Pagos Oportunos'!$V$66=1,0,L71*'Simulador Pagos Oportunos'!$O$69*'Simulador Pagos Oportunos'!$W$65)","v":0},null,{"$f":"IF(B71=0,\"\",IF('Simulador Pagos Oportunos'!$X$41=4,AD71,IF('Simulador Pagos Oportunos'!$X$41=1,AE71,IF('Simulador Pagos Oportunos'!$X$41=2,AF71,IF('Simulador Pagos Oportunos'!$X$41=3,AG71,AC71)))))","v":""},null,0,null,{"$f":"IF(B71<=0,0,B71*IF('Simulador Pagos Oportunos'!$Y$71=1,0,'Simulador Pagos Oportunos'!$Y$74))","v":0},null,{"$f":"IF(B71=0,0,IF('Simulador Pagos Oportunos'!$X$41=4,'Simulador Pagos Oportunos'!$I$55,IF('Simulador Pagos Oportunos'!$X$41=1,'Simulador Pagos Oportunos'!$K$55,IF('Simulador Pagos Oportunos'!$X$41=2,'Simulador Pagos Oportunos'!$M$55,IF('Simulador Pagos Oportunos'!$X$41=3,'Simulador Pagos Oportunos'!$O$55,0)))))","v":0},null,0,null,null,null,0,0.125,0.1225,0.1225,0.1225,0.1225,0,0,4,7,0,0,0,0,0,0,0,0,{"$f":"IF(AO71=0,\"\",IF('Simulador Pagos Oportunos'!$X$41=4,AD71,IF('Simulador Pagos Oportunos'!$X$41=1,AE71,IF('Simulador Pagos Oportunos'!$X$41=2,AF71,IF('Simulador Pagos Oportunos'!$X$41=3,AG71,AC71)))))","v":""},{"$f":"IF(AO71<=0,0,IF('Simulador Pagos Oportunos'!$Y$71=1,0,AO71*'Simulador Pagos Oportunos'!$Y$74))+IF(AO71<=0,0,IF('Simulador Pagos Oportunos'!$X$41=4,'Simulador Pagos Oportunos'!$I$55,IF('Simulador Pagos Oportunos'!$X$41=1,'Simulador Pagos Oportunos'!$K$55,IF('Simulador Pagos Oportunos'!$X$41=2,'Simulador Pagos Oportunos'!$M$55,'Simulador Pagos Oportunos'!$O$55))))","v":0},null,0,0,"",0,55]
[56,0,null,{"$f":"IF(B72+F72-D71<=0,B72+F72,IF(A72=$B$9,$F$9,IF(A72=$B$10,$F$10,IF(AND('Simulador Pagos Oportunos'!$AH$45=2,L71=0),D71*(1+Z72),IF($AL$3=2,B72*AI72,D71*(1+Z72))))))","v":0},null,0,null,0,null,{"$f":"IF(B72-H72=0,0,J70)","v":0},null,null,null,{"$f":"IF('Simulador Pagos Oportunos'!$V$66=1,0,L72*'Simulador Pagos Oportunos'!$O$69*'Simulador Pagos Oportunos'!$W$65)","v":0},null,{"$f":"IF(B72=0,\"\",IF('Simulador Pagos Oportunos'!$X$41=4,AD72,IF('Simulador Pagos Oportunos'!$X$41=1,AE72,IF('Simulador Pagos Oportunos'!$X$41=2,AF72,IF('Simulador Pagos Oportunos'!$X$41=3,AG72,AC72)))))","v":""},null,0,null,{"$f":"IF(B72<=0,0,B72*IF('Simulador Pagos Oportunos'!$Y$71=1,0,'Simulador Pagos Oportunos'!$Y$74))","v":0},null,{"$f":"IF(B72=0,0,IF('Simulador Pagos Oportunos'!$X$41=4,'Simulador Pagos Oportunos'!$I$55,IF('Simulador Pagos Oportunos'!$X$41=1,'Simulador Pagos Oportunos'!$K$55,IF('Simulador Pagos Oportunos'!$X$41=2,'Simulador Pagos Oportunos'!$M$55,IF('Simulador Pagos Oportunos'!$X$41=3,'Simulador Pagos Oportunos'!$O$55,0)))))","v":0},null,0,null,null,null,0,0.125,0.1225,0.1225,0.1225,0.1225,0,0,4,8,0,0,0,0,0,0,0,0,{"$f":"IF(AO72=0,\"\",IF('Simulador Pagos Oportunos'!$X$41=4,AD72,IF('Simulador Pagos Oportunos'!$X$41=1,AE72,IF('Simulador Pagos Oportunos'!$X$41=2,AF72,IF('Simulador Pagos Oportunos'!$X$41=3,AG72,AC72)))))","v":""},{"$f":"IF(AO72<=0,0,IF('Simulador Pagos Oportunos'!$Y$71=1,0,AO72*'Simulador Pagos Oportunos'!$Y$74))+IF(AO72<=0,0,IF('Simulador Pagos Oportunos'!$X$41=4,'Simulador Pagos Oportunos'!$I$55,IF('Simulador Pagos Oportunos'!$X$41=1,'Simulador Pagos Oportunos'!$K$55,IF('Simulador Pagos Oportunos'!$X$41=2,'Simulador Pagos Oportunos'!$M$55,'Simulador Pagos Oportunos'!$O$55))))","v":0},null,0,0,"",0,56]
[57,0,null,{"$f":"IF(B73+F73-D72<=0,B73+F73,IF(A73=$B$9,$F$9,IF(A73=$B$10,$F$10,IF(AND('Simulador Pagos Oportunos'!$AH$45=2,L72=0),D72*(1+Z73),IF($AL$3=2,B73*AI73,D72*(1+Z73))))))","v":0},null,0,null,0,null,null,null,null,null,{"$f":"IF('Simulador Pagos Oportunos'!$V$66=1,0,L73*'Simulador Pagos Oportunos'!$O$69*'Simulador Pagos Oportunos'!$W$65)","v":0},null,{"$f":"IF(B73=0,\"\",IF('Simulador Pagos Oportunos'!$X$41=4,AD73,IF('Simulador Pagos Oportunos'!$X$41=1,AE73,IF('Simulador Pagos Oportunos'!$X$41=2,AF73,IF('Simulador Pagos Oportunos'!$X$41=3,AG73,AC73)))))","v":""},null,0,null,{"$f":"IF(B73<=0,0,B73*IF('Simulador Pagos Oportunos'!$Y$71=1,0,'Simulador Pagos Oportunos'!$Y$74))","v":0},null,{"$f":"IF(B73=0,0,IF('Simulador Pagos Oportunos'!$X$41=4,'Simulador Pagos Oportunos'!$I$55,IF('Simulador Pagos Oportunos'!$X$41=1,'Simulador Pagos Oportunos'!$K$55,IF('Simulador Pagos Oportunos'!$X$41=2,'Simulador Pagos Oportunos'!$M$55,IF('Simulador Pagos Oportunos'!$X$41=3,'Simulador Pagos Oportunos'!$O$55,0)))))","v":0},null,0,null,null,null,0,0.125,0.1225,0.1225,0.1225,0.1225,0,0,4,9,0,0,0,0,0,0,0,0,{"$f":"IF(AO73=0,\"\",IF('Simulador Pagos Oportunos'!$X$41=4,AD73,IF('Simulador Pagos Oportunos'!$X$41=1,AE73,IF('Simulador Pagos Oportunos'!$X$41=2,AF73,IF('Simulador Pagos Oportunos'!$X$41=3,AG73,AC73)))))","v":""},{"$f":"IF(AO73<=0,0,IF('Simulador Pagos Oportunos'!$Y$71=1,0,AO73*'Simulador Pagos Oportunos'!$Y$74))+IF(AO73<=0,0,IF('Simulador Pagos Oportunos'!$X$41=4,'Simulador Pagos Oportunos'!$I$55,IF('Simulador Pagos Oportunos'!$X$41=1,'Simulador Pagos Oportunos'!$K$55,IF('Simulador Pagos Oportunos'!$X$41=2,'Simulador Pagos Oportunos'!$M$55,'Simulador Pagos Oportunos'!$O$55))))","v":0},null,0,0,"",0,57]
[58,0,null,{"$f":"IF(B74+F74-D73<=0,B74+F74,IF(A74=$B$9,$F$9,IF(A74=$B$10,$F$10,IF(AND('Simulador Pagos Oportunos'!$AH$45=2,L73=0),D73*(1+Z74),IF($AL$3=2,B74*AI74,D73*(1+Z74))))))","v":0},null,0,null,0,null,{"$f":"IF(B74-H74=0,0,J72)","v":0},null,null,null,{"$f":"IF('Simulador Pagos Oportunos'!$V$66=1,0,L74*'Simulador Pagos Oportunos'!$O$69*'Simulador Pagos Oportunos'!$W$65)","v":0},null,{"$f":"IF(B74=0,\"\",IF('Simulador Pagos Oportunos'!$X$41=4,AD74,IF('Simulador Pagos Oportunos'!$X$41=1,AE74,IF('Simulador Pagos Oportunos'!$X$41=2,AF74,IF('Simulador Pagos Oportunos'!$X$41=3,AG74,AC74)))))","v":""},null,0,null,{"$f":"IF(B74<=0,0,B74*IF('Simulador Pagos Oportunos'!$Y$71=1,0,'Simulador Pagos Oportunos'!$Y$74))","v":0},null,{"$f":"IF(B74=0,0,IF('Simulador Pagos Oportunos'!$X$41=4,'Simulador Pagos Oportunos'!$I$55,IF('Simulador Pagos Oportunos'!$X$41=1,'Simulador Pagos Oportunos'!$K$55,IF('Simulador Pagos Oportunos'!$X$41=2,'Simulador Pagos Oportunos'!$M$55,IF('Simulador Pagos Oportunos'!$X$41=3,'Simulador Pagos Oportunos'!$O$55,0)))))","v":0},null,0,null,null,null,0,0.125,0.1225,0.1225,0.1225,0.1225,0,0,4,10,0,0,0,0,0,0,0,0,{"$f":"IF(AO74=0,\"\",IF('Simulador Pagos Oportunos'!$X$41=4,AD74,IF('Simulador Pagos Oportunos'!$X$41=1,AE74,IF('Simulador Pagos Oportunos'!$X$41=2,AF74,IF('Simulador Pagos Oportunos'!$X$41=3,AG74,AC74)))))","v":""},{"$f":"IF(AO74<=0,0,IF('Simulador Pagos Oportunos'!$Y$71=1,0,AO74*'Simulador Pagos Oportunos'!$Y$74))+IF(AO74<=0,0,IF('Simulador Pagos Oportunos'!$X$41=4,'Simulador Pagos Oportunos'!$I$55,IF('Simulador Pagos Oportunos'!$X$41=1,'Simulador Pagos Oportunos'!$K$55,IF('Simulador Pagos Oportunos'!$X$41=2,'Simulador Pagos Oportunos'!$M$55,'Simulador Pagos Oportunos'!$O$55))))","v":0},null,0,0,"",0,58]
[59,0,null,{"$f":"IF(B75+F75-D74<=0,B75+F75,IF(A75=$B$9,$F$9,IF(A75=$B$10,$F$10,IF(AND('Simulador Pagos Oportunos'!$AH$45=2,L74=0),D74*(1+Z75),IF($AL$3=2,B75*AI75,D74*(1+Z75))))))","v":0},null,0,null,0,null,null,null,null,null,{"$f":"IF('Simulador Pagos Oportunos'!$V$66=1,0,L75*'Simulador Pagos Oportunos'!$O$69*'Simulador Pagos Oportunos'!$W$65)","v":0},null,{"$f":"IF(B75=0,\"\",IF('Simulador Pagos Oportunos'!$X$41=4,AD75,IF('Simulador Pagos Oportunos'!$X$41=1,AE75,IF('Simulador Pagos Oportunos'!$X$41=2,AF75,IF('Simulador Pagos Oportunos'!$X$41=3,AG75,AC75)))))","v":""},null,0,null,{"$f":"IF(B75<=0,0,B75*IF('Simulador Pagos Oportunos'!$Y$71=1,0,'Simulador Pagos Oportunos'!$Y$74))","v":0},null,{"$f":"IF(B75=0,0,IF('Simulador Pagos Oportunos'!$X$41=4,'Simulador Pagos Oportunos'!$I$55,IF('Simulador Pagos Oportunos'!$X$41=1,'Simulador Pagos Oportunos'!$K$55,IF('Simulador Pagos Oportunos'!$X$41=2,'Simulador Pagos Oportunos'!$M$55,IF('Simulador Pagos Oportunos'!$X$41=3,'Simulador Pagos Oportunos'!$O$55,0)))))","v":0},null,0,null,null,null,0,0.125,0.1225,0.1225,0.1225,0.1225,0,0,4,11,0,0,0,0,0,0,0,0,{"$f":"IF(AO75=0,\"\",IF('Simulador Pagos Oportunos'!$X$41=4,AD75,IF('Simulador Pagos Oportunos'!$X$41=1,AE75,IF('Simulador Pagos Oportunos'!$X$41=2,AF75,IF('Simulador Pagos Oportunos'!$X$41=3,AG75,AC75)))))","v":""},{"$f":"IF(AO75<=0,0,IF('Simulador Pagos Oportunos'!$Y$71=1,0,AO75*'Simulador Pagos Oportunos'!$Y$74))+IF(AO75<=0,0,IF('Simulador Pagos Oportunos'!$X$41=4,'Simulador Pagos Oportunos'!$I$55,IF('Simulador Pagos Oportunos'!$X$41=1,'Simulador Pagos Oportunos'!$K$55,IF('Simulador Pagos Oportunos'!$X$41=2,'Simulador Pagos Oportunos'!$M$55,'Simulador Pagos Oportunos'!$O$55))))","v":0},null,0,0,"",0,59]
[60,0,null,{"$f":"IF(B76+F76-D75<=0,B76+F76,IF(A76=$B$9,$F$9,IF(A76=$B$10,$F$10,IF(AND('Simulador Pagos Oportunos'!$AH$45=2,L75=0),D75*(1+Z76),IF($AL$3=2,B76*AI76,D75*(1+Z76))))))","v":0},null,0,null,0,null,{"$f":"IF(B76-H76=0,0,J74)","v":0},null,null,null,{"$f":"IF('Simulador Pagos Oportunos'!$V$66=1,0,L76*'Simulador Pagos Oportunos'!$O$69*'Simulador Pagos Oportunos'!$W$65)","v":0},null,{"$f":"IF(B76=0,\"\",IF('Simulador Pagos Oportunos'!$X$41=4,AD76,IF('Simulador Pagos Oportunos'!$X$41=1,AE76,IF('Simulador Pagos Oportunos'!$X$41=2,AF76,IF('Simulador Pagos Oportunos'!$X$41=3,AG76,AC76)))))","v":""},null,0,null,{"$f":"IF(B76<=0,0,B76*IF('Simulador Pagos Oportunos'!$Y$71=1,0,'Simulador Pagos Oportunos'!$Y$74))","v":0},null,{"$f":"IF(B76=0,0,IF('Simulador Pagos Oportunos'!$X$41=4,'Simulador Pagos Oportunos'!$I$55,IF('Simulador Pagos Oportunos'!$X$41=1,'Simulador Pagos Oportunos'!$K$55,IF('Simulador Pagos Oportunos'!$X$41=2,'Simulador Pagos Oportunos'!$M$55,IF('Simulador Pagos Oportunos'!$X$41=3,'Simulador Pagos Oportunos'!$O$55,0)))))","v":0},null,0,null,null,null,0,0.125,0.1225,0.1225,0.1225,0.1225,0,0,5,0,0,0,0,0,0,0,0,0,{"$f":"IF(AO76=0,\"\",IF('Simulador Pagos Oportunos'!$X$41=4,AD76,IF('Simulador Pagos Oportunos'!$X$41=1,AE76,IF('Simulador Pagos Oportunos'!$X$41=2,AF76,IF('Simulador Pagos Oportunos'!$X$41=3,AG76,AC76)))))","v":""},{"$f":"IF(AO76<=0,0,IF('Simulador Pagos Oportunos'!$Y$71=1,0,AO76*'Simulador Pagos Oportunos'!$Y$74))+IF(AO76<=0,0,IF('Simulador Pagos Oportunos'!$X$41=4,'Simulador Pagos Oportunos'!$I$55,IF('Simulador Pagos Oportunos'!$X$41=1,'Simulador Pagos Oportunos'!$K$55,IF('Simulador Pagos Oportunos'!$X$41=2,'Simulador Pagos Oportunos'!$M$55,'Simulador Pagos Oportunos'!$O$55))))","v":0},null,0,0,"",0,60]
[61,0,null,{"$f":"IF(B77+F77-D76<=0,B77+F77,IF(A77=$B$9,$F$9,IF(A77=$B$10,$F$10,IF(AND('Simulador Pagos Oportunos'!$AH$45=2,L76=0),D76*(1+Z77),IF($AL$3=2,B77*AI77,D76*(1+Z77))))))","v":0},null,0,null,0,null,null,null,null,null,{"$f":"IF('Simulador Pagos Oportunos'!$V$66=1,0,L77*'Simulador Pagos Oportunos'!$O$69*'Simulador Pagos Oportunos'!$W$65)","v":0},null,{"$f":"IF(B77=0,\"\",IF('Simulador Pagos Oportunos'!$X$41=4,AD77,IF('Simulador Pagos Oportunos'!$X$41=1,AE77,IF('Simulador Pagos Oportunos'!$X$41=2,AF77,IF('Simulador Pagos Oportunos'!$X$41=3,AG77,AC77)))))","v":""},null,0,null,{"$f":"IF(B77<=0,0,B77*IF('Simulador Pagos Oportunos'!$Y$71=1,0,'Simulador Pagos Oportunos'!$Y$74))","v":0},null,{"$f":"IF(B77=0,0,IF('Simulador Pagos Oportunos'!$X$41=4,'Simulador Pagos Oportunos'!$I$55,IF('Simulador Pagos Oportunos'!$X$41=1,'Simulador Pagos Oportunos'!$K$55,IF('Simulador Pagos Oportunos'!$X$41=2,'Simulador Pagos Oportunos'!$M$55,IF('Simulador Pagos Oportunos'!$X$41=3,'Simulador Pagos Oportunos'!$O$55,0)))))","v":0},null,0,null,{"$f":"IF(B77<=0,0,'Simulador Pagos Oportunos'!$AI$54)","v":0},null,0,{"$f":"IF(AC76=$AC$5,AC76,IF(AC76-0.25%<=$AC$5,$AC$5,AC76-0.25%))","v":0.1225},{"$f":"AD76","v":0.1225},0.1225,0.1225,0.1225,0,0,5,1,0,0,0,0,0,0,0,0,{"$f":"IF(AO77=0,\"\",IF('Simulador Pagos Oportunos'!$X$41=4,AD77,IF('Simulador Pagos Oportunos'!$X$41=1,AE77,IF('Simulador Pagos Oportunos'!$X$41=2,AF77,IF('Simulador Pagos Oportunos'!$X$41=3,AG77,AC77)))))","v":""},{"$f":"IF(AO77<=0,0,IF('Simulador Pagos Oportunos'!$Y$71=1,0,AO77*'Simulador Pagos Oportunos'!$Y$74))+IF(AO77<=0,0,IF('Simulador Pagos Oportunos'!$X$41=4,'Simulador Pagos Oportunos'!$I$55,IF('Simulador Pagos Oportunos'!$X$41=1,'Simulador Pagos Oportunos'!$K$55,IF('Simulador Pagos Oportunos'!$X$41=2,'Simulador Pagos Oportunos'!$M$55,'Simulador Pagos Oportunos'!$O$55))))","v":0},{"$f":"IF(AO77<=0,0,$AV$29)","v":0},0,0,"",0,61]
[62,0,null,{"$f":"IF(B78+F78-D77<=0,B78+F78,IF(A78=$B$9,$F$9,IF(A78=$B$10,$F$10,IF(AND('Simulador Pagos Oportunos'!$AH$45=2,L77=0),D77*(1+Z78),IF($AL$3=2,B78*AI78,D77*(1+Z78))))))","v":0},null,0,null,0,null,{"$f":"IF(B78-H78=0,0,J76*(1+(3%)))","v":0},null,null,null,{"$f":"IF('Simulador Pagos Oportunos'!$V$66=1,0,L78*'Simulador Pagos Oportunos'!$O$69*'Simulador Pagos Oportunos'!$W$65)","v":0},null,{"$f":"IF(B78=0,\"\",IF('Simulador Pagos Oportunos'!$X$41=4,AD78,IF('Simulador Pagos Oportunos'!$X$41=1,AE78,IF('Simulador Pagos Oportunos'!$X$41=2,AF78,IF('Simulador Pagos Oportunos'!$X$41=3,AG78,AC78)))))","v":""},null,0,null,{"$f":"IF(B78<=0,0,B78*IF('Simulador Pagos Oportunos'!$Y$71=1,0,'Simulador Pagos Oportunos'!$Y$74))","v":0},null,{"$f":"IF(B78=0,0,IF('Simulador Pagos Oportunos'!$X$41=4,'Simulador Pagos Oportunos'!$I$55,IF('Simulador Pagos Oportunos'!$X$41=1,'Simulador Pagos Oportunos'!$K$55,IF('Simulador Pagos Oportunos'!$X$41=2,'Simulador Pagos Oportunos'!$M$55,IF('Simulador Pagos Oportunos'!$X$41=3,'Simulador Pagos Oportunos'!$O$55,0)))))","v":0},null,0,null,null,null,0,{"$f":"AC77","v":0.1225},0.1225,0.1225,0.1225,0.1225,0,0,5,2,0,0,0,0,0,0,0,0,{"$f":"IF(AO78=0,\"\",IF('Simulador Pagos Oportunos'!$X$41=4,AD78,IF('Simulador Pagos Oportunos'!$X$41=1,AE78,IF('Simulador Pagos Oportunos'!$X$41=2,AF78,IF('Simulador Pagos Oportunos'!$X$41=3,AG78,AC78)))))","v":""},{"$f":"IF(AO78<=0,0,IF('Simulador Pagos Oportunos'!$Y$71=1,0,AO78*'Simulador Pagos Oportunos'!$Y$74))+IF(AO78<=0,0,IF('Simulador Pagos Oportunos'!$X$41=4,'Simulador Pagos Oportunos'!$I$55,IF('Simulador Pagos Oportunos'!$X$41=1,'Simulador Pagos Oportunos'!$K$55,IF('Simulador Pagos Oportunos'!$X$41=2,'Simulador Pagos Oportunos'!$M$55,'Simulador Pagos Oportunos'!$O$55))))","v":0},null,0,0,"",0,62]
[63,0,null,{"$f":"IF(B79+F79-D78<=0,B79+F79,IF(A79=$B$9,$F$9,IF(A79=$B$10,$F$10,IF(AND('Simulador Pagos Oportunos'!$AH$45=2,L78=0),D78*(1+Z79),IF($AL$3=2,B79*AI79,D78*(1+Z79))))))","v":0},null,0,null,0,null,null,null,null,null,{"$f":"IF('Simulador Pagos Oportunos'!$V$66=1,0,L79*'Simulador Pagos Oportunos'!$O$69*'Simulador Pagos Oportunos'!$W$65)","v":0},null,{"$f":"IF(B79=0,\"\",IF('Simulador Pagos Oportunos'!$X$41=4,AD79,IF('Simulador Pagos Oportunos'!$X$41=1,AE79,IF('Simulador Pagos Oportunos'!$X$41=2,AF79,IF('Simulador Pagos Oportunos'!$X$41=3,AG79,AC79)))))","v":""},null,0,null,{"$f":"IF(B79<=0,0,B79*IF('Simulador Pagos Oportunos'!$Y$71=1,0,'Simulador Pagos Oportunos'!$Y$74))","v":0},null,{"$f":"IF(B79=0,0,IF('Simulador Pagos Oportunos'!$X$41=4,'Simulador Pagos Oportunos'!$I$55,IF('Simulador Pagos Oportunos'!$X$41=1,'Simulador Pagos Oportunos'!$K$55,IF('Simulador Pagos Oportunos'!$X$41=2,'Simulador Pagos Oportunos'!$M$55,IF('Simulador Pagos Oportunos'!$X$41=3,'Simulador Pagos Oportunos'!$O$55,0)))))","v":0},null,0,null,null,null,0,{"$f":"AC78","v":0.1225},0.1225,0.1225,0.1225,0.1225,0,0,5,3,0,0,0,0,0,0,0,0,{"$f":"IF(AO79=0,\"\",IF('Simulador Pagos Oportunos'!$X$41=4,AD79,IF('Simulador Pagos Oportunos'!$X$41=1,AE79,IF('Simulador Pagos Oportunos'!$X$41=2,AF79,IF('Simulador Pagos Oportunos'!$X$41=3,AG79,AC79)))))","v":""},{"$f":"IF(AO79<=0,0,IF('Simulador Pagos Oportunos'!$Y$71=1,0,AO79*'Simulador Pagos Oportunos'!$Y$74))+IF(AO79<=0,0,IF('Simulador Pagos Oportunos'!$X$41=4,'Simulador Pagos Oportunos'!$I$55,IF('Simulador Pagos Oportunos'!$X$41=1,'Simulador Pagos Oportunos'!$K$55,IF('Simulador Pagos Oportunos'!$X$41=2,'Simulador Pagos Oportunos'!$M$55,'Simulador Pagos Oportunos'!$O$55))))","v":0},null,0,0,"",0,63]
[64,0,null,{"$f":"IF(B80+F80-D79<=0,B80+F80,IF(A80=$B$9,$F$9,IF(A80=$B$10,$F$10,IF(AND('Simulador Pagos Oportunos'!$AH$45=2,L79=0),D79*(1+Z80),IF($AL$3=2,B80*AI80,D79*(1+Z80))))))","v":0},null,0,null,0,null,{"$f":"IF(B80-H80=0,0,J78)","v":0},null,null,null,{"$f":"IF('Simulador Pagos Oportunos'!$V$66=1,0,L80*'Simulador Pagos Oportunos'!$O$69*'Simulador Pagos Oportunos'!$W$65)","v":0},null,{"$f":"IF(B80=0,\"\",IF('Simulador Pagos Oportunos'!$X$41=4,AD80,IF('Simulador Pagos Oportunos'!$X$41=1,AE80,IF('Simulador Pagos Oportunos'!$X$41=2,AF80,IF('Simulador Pagos Oportunos'!$X$41=3,AG80,AC80)))))","v":""},null,0,null,{"$f":"IF(B80<=0,0,B80*IF('Simulador Pagos Oportunos'!$Y$71=1,0,'Simulador Pagos Oportunos'!$Y$74))","v":0},null,{"$f":"IF(B80=0,0,IF('Simulador Pagos Oportunos'!$X$41=4,'Simulador Pagos Oportunos'!$I$55,IF('Simulador Pagos Oportunos'!$X$41=1,'Simulador Pagos Oportunos'!$K$55,IF('Simulador Pagos Oportunos'!$X$41=2,'Simulador Pagos Oportunos'!$M$55,IF('Simulador Pagos Oportunos'!$X$41=3,'Simulador Pagos Oportunos'!$O$55,0)))))","v":0},null,0,null,null,null,0,0.1225,0.1225,0.1225,0.1225,0.1225,0,0,5,4,0,0,0,0,0,0,0,0,{"$f":"IF(AO80=0,\"\",IF('Simulador Pagos Oportunos'!$X$41=4,AD80,IF('Simulador Pagos Oportunos'!$X$41=1,AE80,IF('Simulador Pagos Oportunos'!$X$41=2,AF80,IF('Simulador Pagos Oportunos'!$X$41=3,AG80,AC80)))))","v":""},{"$f":"IF(AO80<=0,0,IF('Simulador Pagos Oportunos'!$Y$71=1,0,AO80*'Simulador Pagos Oportunos'!$Y$74))+IF(AO80<=0,0,IF('Simulador Pagos Oportunos'!$X$41=4,'Simulador Pagos Oportunos'!$I$55,IF('Simulador Pagos Oportunos'!$X$41=1,'Simulador Pagos Oportunos'!$K$55,IF('Simulador Pagos Oportunos'!$X$41=2,'Simulador Pagos Oportunos'!$M$55,'Simulador Pagos Oportunos'!$O$55))))","v":0},null,0,0,"",0,64]
[65,0,null,{"$f":"IF(B81+F81-D80<=0,B81+F81,IF(A81=$B$9,$F$9,IF(A81=$B$10,$F$10,IF(AND('Simulador Pagos Oportunos'!$AH$45=2,L80=0),D80*(1+Z81),IF($AL$3=2,B81*AI81,D80*(1+Z81))))))","v":0},null,0,null,0,null,null,null,null,null,{"$f":"IF('Simulador Pagos Oportunos'!$V$66=1,0,L81*'Simulador Pagos Oportunos'!$O$69*'Simulador Pagos Oportunos'!$W$65)","v":0},null,{"$f":"IF(B81=0,\"\",IF('Simulador Pagos Oportunos'!$X$41=4,AD81,IF('Simulador Pagos Oportunos'!$X$41=1,AE81,IF('Simulador Pagos Oportunos'!$X$41=2,AF81,IF('Simulador Pagos Oportunos'!$X$41=3,AG81,AC81)))))","v":""},null,0,null,{"$f":"IF(B81<=0,0,B81*IF('Simulador Pagos Oportunos'!$Y$71=1,0,'Simulador Pagos Oportunos'!$Y$74))","v":0},null,{"$f":"IF(B81=0,0,IF('Simulador Pagos Oportunos'!$X$41=4,'Simulador Pagos Oportunos'!$I$55,IF('Simulador Pagos Oportunos'!$X$41=1,'Simulador Pagos Oportunos'!$K$55,IF('Simulador Pagos Oportunos'!$X$41=2,'Simulador Pagos Oportunos'!$M$55,IF('Simulador Pagos Oportunos'!$X$41=3,'Simulador Pagos Oportunos'!$O$55,0)))))","v":0},null,0,null,null,null,0,0.1225,0.1225,0.1225,0.1225,0.1225,0,0,5,5,{"$f":"+IF(R81<=0,IF(R80>0,+A81,0),0)","v":0},0,0,0,0,0,{"$f":"+AP81-AQ81","v":0},{"$f":"+AO81-AR81","v":0},{"$f":"IF(AO81=0,\"\",IF('Simulador Pagos Oportunos'!$X$41=4,AD81,IF('Simulador Pagos Oportunos'!$X$41=1,AE81,IF('Simulador Pagos Oportunos'!$X$41=2,AF81,IF('Simulador Pagos Oportunos'!$X$41=3,AG81,AC81)))))","v":""},{"$f":"IF(AO81<=0,0,IF('Simulador Pagos Oportunos'!$Y$71=1,0,AO81*'Simulador Pagos Oportunos'!$Y$74))+IF(AO81<=0,0,IF('Simulador Pagos Oportunos'!$X$41=4,'Simulador Pagos Oportunos'!$I$55,IF('Simulador Pagos Oportunos'!$X$41=1,'Simulador Pagos Oportunos'!$K$55,IF('Simulador Pagos Oportunos'!$X$41=2,'Simulador Pagos Oportunos'!$M$55,'Simulador Pagos Oportunos'!$O$55))))","v":0},null,{"$f":"AQ81+AR81+AU81","v":0},0,"",0,65]
[66,{"$f":"IF(R81<0,0,IF(A82=$B$9,R81+$D$9,IF(A82=$B$10,R81+$D$10,R81)))","v":0},null,{"$f":"IF(B82+F82-D81<=0,B82+F82,IF(A82=$B$9,$F$9,IF(A82=$B$10,$F$10,IF(AND('Simulador Pagos Oportunos'!$AH$45=2,L81=0),D81*(1+Z82),IF($AL$3=2,B82*AI82,D81*(1+Z82))))))","v":0},null,{"$f":"IF(B82=0,0,P82/360*AZ82*B82)","v":0},null,0,null,{"$f":"IF(B82-H82=0,0,J80)","v":0},null,null,null,{"$f":"IF('Simulador Pagos Oportunos'!$V$66=1,0,L82*'Simulador Pagos Oportunos'!$O$69*'Simulador Pagos Oportunos'!$W$65)","v":0},null,{"$f":"IF(B82=0,\"\",IF('Simulador Pagos Oportunos'!$X$41=4,AD82,IF('Simulador Pagos Oportunos'!$X$41=1,AE82,IF('Simulador Pagos Oportunos'!$X$41=2,AF82,IF('Simulador Pagos Oportunos'!$X$41=3,AG82,AC82)))))","v":""},null,{"$f":"B82-H82-J82-L82+N82","v":0},null,{"$f":"IF(B82<=0,0,B82*IF('Simulador Pagos Oportunos'!$Y$71=1,0,'Simulador Pagos Oportunos'!$Y$74))","v":0},null,{"$f":"IF(B82=0,0,IF('Simulador Pagos Oportunos'!$X$41=4,'Simulador Pagos Oportunos'!$I$55,IF('Simulador Pagos Oportunos'!$X$41=1,'Simulador Pagos Oportunos'!$K$55,IF('Simulador Pagos Oportunos'!$X$41=2,'Simulador Pagos Oportunos'!$M$55,IF('Simulador Pagos Oportunos'!$X$41=3,'Simulador Pagos Oportunos'!$O$55,0)))))","v":0},null,{"$f":"IF(B82<=0,0,(D82+L82+T82+V82))","v":0},null,null,null,{"$f":"X82","v":0},0.1225,0.1225,{"$f":"AE81","v":0.1225},{"$f":"AF81","v":0.1225},{"$f":"AG81","v":0.1225},0,{"$f":"IFERROR(AP82/AO82,0)","v":0},5,6,0,{"$f":"+IF(AL82>0,+AJ82,0)","v":0},{"$f":"+IF(AL82>0,+AK82,0)","v":0},0,0,{"$f":"IFERROR((AT82/360*AZ82*AO82),0)","v":0},0,0,{"$f":"IF(AO82=0,\"\",IF('Simulador Pagos Oportunos'!$X$41=4,AD82,IF('Simulador Pagos Oportunos'!$X$41=1,AE82,IF('Simulador Pagos Oportunos'!$X$41=2,AF82,IF('Simulador Pagos Oportunos'!$X$41=3,AG82,AC82)))))","v":""},{"$f":"IF(AO82<=0,0,IF('Simulador Pagos Oportunos'!$Y$71=1,0,AO82*'Simulador Pagos Oportunos'!$Y$74))+IF(AO82<=0,0,IF('Simulador Pagos Oportunos'!$X$41=4,'Simulador Pagos Oportunos'!$I$55,IF('Simulador Pagos Oportunos'!$X$41=1,'Simulador Pagos Oportunos'!$K$55,IF('Simulador Pagos Oportunos'!$X$41=2,'Simulador Pagos Oportunos'!$M$55,'Simulador Pagos Oportunos'!$O$55))))","v":0},null,0,{"$f":"IFERROR(IF(AP82<=0.01,0,AX81-1),0)","v":0},"",{"$f":"IFERROR(DAY(DATE(YEAR(AY82),MONTH(AY82)+1,0)),0)","v":0},66]
[67,0,null,{"$f":"IF(B83+F83-D82<=0,B83+F83,IF(A83=$B$9,$F$9,IF(A83=$B$10,$F$10,IF(AND('Simulador Pagos Oportunos'!$AH$45=2,L82=0),D82*(1+Z83),IF($AL$3=2,B83*AI83,D82*(1+Z83))))))","v":0},null,0,null,{"$f":"D83-F83","v":0},null,null,null,null,null,{"$f":"IF('Simulador Pagos Oportunos'!$V$66=1,0,L83*'Simulador Pagos Oportunos'!$O$69*'Simulador Pagos Oportunos'!$W$65)","v":0},null,{"$f":"IF(B83=0,\"\",IF('Simulador Pagos Oportunos'!$X$41=4,AD83,IF('Simulador Pagos Oportunos'!$X$41=1,AE83,IF('Simulador Pagos Oportunos'!$X$41=2,AF83,IF('Simulador Pagos Oportunos'!$X$41=3,AG83,AC83)))))","v":""},null,0,null,{"$f":"IF(B83<=0,0,B83*IF('Simulador Pagos Oportunos'!$Y$71=1,0,'Simulador Pagos Oportunos'!$Y$74))","v":0},null,{"$f":"IF(B83=0,0,IF('Simulador Pagos Oportunos'!$X$41=4,'Simulador Pagos Oportunos'!$I$55,IF('Simulador Pagos Oportunos'!$X$41=1,'Simulador Pagos Oportunos'!$K$55,IF('Simulador Pagos Oportunos'!$X$41=2,'Simulador Pagos Oportunos'!$M$55,IF('Simulador Pagos Oportunos'!$X$41=3,'Simulador Pagos Oportunos'!$O$55,0)))))","v":0},null,0,null,null,null,0,0.1225,0.1225,0.1225,0.1225,0.1225,0,0,5,7,0,0,0,{"$f":"IF(AS82<0,0,IF($A83=$B$9,AS82+$D$9,IF($A83=$B$10,AS82+$D$10,AS82)))","v":0},{"$f":"IF(AO83+AQ83-AP82<=0,AO83+AQ83,IF($A83=$B$9,$F$9,IF($A83=$B$10,$F$10,AP82*(1+AV83))))","v":0},0,0,0,{"$f":"IF(AO83=0,\"\",IF('Simulador Pagos Oportunos'!$X$41=4,AD83,IF('Simulador Pagos Oportunos'!$X$41=1,AE83,IF('Simulador Pagos Oportunos'!$X$41=2,AF83,IF('Simulador Pagos Oportunos'!$X$41=3,AG83,AC83)))))","v":""},{"$f":"IF(AO83<=0,0,IF('Simulador Pagos Oportunos'!$Y$71=1,0,AO83*'Simulador Pagos Oportunos'!$Y$74))+IF(AO83<=0,0,IF('Simulador Pagos Oportunos'!$X$41=4,'Simulador Pagos Oportunos'!$I$55,IF('Simulador Pagos Oportunos'!$X$41=1,'Simulador Pagos Oportunos'!$K$55,IF('Simulador Pagos Oportunos'!$X$41=2,'Simulador Pagos Oportunos'!$M$55,'Simulador Pagos Oportunos'!$O$55))))","v":0},null,0,0,{"$f":"IF(AO83=0,\"\",DATE(YEAR(AY82),MONTH(AY82)+1,1))","v":""},0,67]
[68,0,null,{"$f":"IF(B84+F84-D83<=0,B84+F84,IF(A84=$B$9,$F$9,IF(A84=$B$10,$F$10,IF(AND('Simulador Pagos Oportunos'!$AH$45=2,L83=0),D83*(1+Z84),IF($AL$3=2,B84*AI84,D83*(1+Z84))))))","v":0},null,0,null,0,null,{"$f":"IF(B84-H84=0,0,J82)","v":0},null,null,null,{"$f":"IF('Simulador Pagos Oportunos'!$V$66=1,0,L84*'Simulador Pagos Oportunos'!$O$69*'Simulador Pagos Oportunos'!$W$65)","v":0},null,{"$f":"IF(B84=0,\"\",IF('Simulador Pagos Oportunos'!$X$41=4,AD84,IF('Simulador Pagos Oportunos'!$X$41=1,AE84,IF('Simulador Pagos Oportunos'!$X$41=2,AF84,IF('Simulador Pagos Oportunos'!$X$41=3,AG84,AC84)))))","v":""},null,0,null,{"$f":"IF(B84<=0,0,B84*IF('Simulador Pagos Oportunos'!$Y$71=1,0,'Simulador Pagos Oportunos'!$Y$74))","v":0},null,{"$f":"IF(B84=0,0,IF('Simulador Pagos Oportunos'!$X$41=4,'Simulador Pagos Oportunos'!$I$55,IF('Simulador Pagos Oportunos'!$X$41=1,'Simulador Pagos Oportunos'!$K$55,IF('Simulador Pagos Oportunos'!$X$41=2,'Simulador Pagos Oportunos'!$M$55,IF('Simulador Pagos Oportunos'!$X$41=3,'Simulador Pagos Oportunos'!$O$55,0)))))","v":0},null,0,null,null,null,0,0.1225,0.1225,0.1225,0.1225,0.1225,0,0,5,8,0,0,0,0,0,0,0,0,{"$f":"IF(AO84=0,\"\",IF('Simulador Pagos Oportunos'!$X$41=4,AD84,IF('Simulador Pagos Oportunos'!$X$41=1,AE84,IF('Simulador Pagos Oportunos'!$X$41=2,AF84,IF('Simulador Pagos Oportunos'!$X$41=3,AG84,AC84)))))","v":""},{"$f":"IF(AO84<=0,0,IF('Simulador Pagos Oportunos'!$Y$71=1,0,AO84*'Simulador Pagos Oportunos'!$Y$74))+IF(AO84<=0,0,IF('Simulador Pagos Oportunos'!$X$41=4,'Simulador Pagos Oportunos'!$I$55,IF('Simulador Pagos Oportunos'!$X$41=1,'Simulador Pagos Oportunos'!$K$55,IF('Simulador Pagos Oportunos'!$X$41=2,'Simulador Pagos Oportunos'!$M$55,'Simulador Pagos Oportunos'!$O$55))))","v":0},null,0,0,"",0,68]
[69,0,null,{"$f":"IF(B85+F85-D84<=0,B85+F85,IF(A85=$B$9,$F$9,IF(A85=$B$10,$F$10,IF(AND('Simulador Pagos Oportunos'!$AH$45=2,L84=0),D84*(1+Z85),IF($AL$3=2,B85*AI85,D84*(1+Z85))))))","v":0},null,0,null,0,null,null,null,null,null,{"$f":"IF('Simulador Pagos Oportunos'!$V$66=1,0,L85*'Simulador Pagos Oportunos'!$O$69*'Simulador Pagos Oportunos'!$W$65)","v":0},null,{"$f":"IF(B85=0,\"\",IF('Simulador Pagos Oportunos'!$X$41=4,AD85,IF('Simulador Pagos Oportunos'!$X$41=1,AE85,IF('Simulador Pagos Oportunos'!$X$41=2,AF85,IF('Simulador Pagos Oportunos'!$X$41=3,AG85,AC85)))))","v":""},null,0,null,{"$f":"IF(B85<=0,0,B85*IF('Simulador Pagos Oportunos'!$Y$71=1,0,'Simulador Pagos Oportunos'!$Y$74))","v":0},null,{"$f":"IF(B85=0,0,IF('Simulador Pagos Oportunos'!$X$41=4,'Simulador Pagos Oportunos'!$I$55,IF('Simulador Pagos Oportunos'!$X$41=1,'Simulador Pagos Oportunos'!$K$55,IF('Simulador Pagos Oportunos'!$X$41=2,'Simulador Pagos Oportunos'!$M$55,IF('Simulador Pagos Oportunos'!$X$41=3,'Simulador Pagos Oportunos'!$O$55,0)))))","v":0},null,0,null,null,null,0,0.1225,0.1225,0.1225,0.1225,0.1225,0,0,5,9,0,0,0,0,0,0,0,0,{"$f":"IF(AO85=0,\"\",IF('Simulador Pagos Oportunos'!$X$41=4,AD85,IF('Simulador Pagos Oportunos'!$X$41=1,AE85,IF('Simulador Pagos Oportunos'!$X$41=2,AF85,IF('Simulador Pagos Oportunos'!$X$41=3,AG85,AC85)))))","v":""},{"$f":"IF(AO85<=0,0,IF('Simulador Pagos Oportunos'!$Y$71=1,0,AO85*'Simulador Pagos Oportunos'!$Y$74))+IF(AO85<=0,0,IF('Simulador Pagos Oportunos'!$X$41=4,'Simulador Pagos Oportunos'!$I$55,IF('Simulador Pagos Oportunos'!$X$41=1,'Simulador Pagos Oportunos'!$K$55,IF('Simulador Pagos Oportunos'!$X$41=2,'Simulador Pagos Oportunos'!$M$55,'Simulador Pagos Oportunos'!$O$55))))","v":0},null,0,0,"",0,69]
[70,0,null,{"$f":"IF(B86+F86-D85<=0,B86+F86,IF(A86=$B$9,$F$9,IF(A86=$B$10,$F$10,IF(AND('Simulador Pagos Oportunos'!$AH$45=2,L85=0),D85*(1+Z86),IF($AL$3=2,B86*AI86,D85*(1+Z86))))))","v":0},null,0,null,0,null,{"$f":"IF(B86-H86=0,0,J84)","v":0},null,null,null,{"$f":"IF('Simulador Pagos Oportunos'!$V$66=1,0,L86*'Simulador Pagos Oportunos'!$O$69*'Simulador Pagos Oportunos'!$W$65)","v":0},null,{"$f":"IF(B86=0,\"\",IF('Simulador Pagos Oportunos'!$X$41=4,AD86,IF('Simulador Pagos Oportunos'!$X$41=1,AE86,IF('Simulador Pagos Oportunos'!$X$41=2,AF86,IF('Simulador Pagos Oportunos'!$X$41=3,AG86,AC86)))))","v":""},null,0,null,{"$f":"IF(B86<=0,0,B86*IF('Simulador Pagos Oportunos'!$Y$71=1,0,'Simulador Pagos Oportunos'!$Y$74))","v":0},null,{"$f":"IF(B86=0,0,IF('Simulador Pagos Oportunos'!$X$41=4,'Simulador Pagos Oportunos'!$I$55,IF('Simulador Pagos Oportunos'!$X$41=1,'Simulador Pagos Oportunos'!$K$55,IF('Simulador Pagos Oportunos'!$X$41=2,'Simulador Pagos Oportunos'!$M$55,IF('Simulador Pagos Oportunos'!$X$41=3,'Simulador Pagos Oportunos'!$O$55,0)))))","v":0},null,0,null,null,null,0,0.1225,0.1225,0.1225,0.1225,0.1225,0,0,5,10,0,0,0,0,0,0,0,0,{"$f":"IF(AO86=0,\"\",IF('Simulador Pagos Oportunos'!$X$41=4,AD86,IF('Simulador Pagos Oportunos'!$X$41=1,AE86,IF('Simulador Pagos Oportunos'!$X$41=2,AF86,IF('Simulador Pagos Oportunos'!$X$41=3,AG86,AC86)))))","v":""},{"$f":"IF(AO86<=0,0,IF('Simulador Pagos Oportunos'!$Y$71=1,0,AO86*'Simulador Pagos Oportunos'!$Y$74))+IF(AO86<=0,0,IF('Simulador Pagos Oportunos'!$X$41=4,'Simulador Pagos Oportunos'!$I$55,IF('Simulador Pagos Oportunos'!$X$41=1,'Simulador Pagos Oportunos'!$K$55,IF('Simulador Pagos Oportunos'!$X$41=2,'Simulador Pagos Oportunos'!$M$55,'Simulador Pagos Oportunos'!$O$55))))","v":0},null,0,0,"",0,70]
[71,0,null,{"$f":"IF(B87+F87-D86<=0,B87+F87,IF(A87=$B$9,$F$9,IF(A87=$B$10,$F$10,IF(AND('Simulador Pagos Oportunos'!$AH$45=2,L86=0),D86*(1+Z87),IF($AL$3=2,B87*AI87,D86*(1+Z87))))))","v":0},null,0,null,0,null,null,null,null,null,{"$f":"IF('Simulador Pagos Oportunos'!$V$66=1,0,L87*'Simulador Pagos Oportunos'!$O$69*'Simulador Pagos Oportunos'!$W$65)","v":0},null,{"$f":"IF(B87=0,\"\",IF('Simulador Pagos Oportunos'!$X$41=4,AD87,IF('Simulador Pagos Oportunos'!$X$41=1,AE87,IF('Simulador Pagos Oportunos'!$X$41=2,AF87,IF('Simulador Pagos Oportunos'!$X$41=3,AG87,AC87)))))","v":""},null,0,null,{"$f":"IF(B87<=0,0,B87*IF('Simulador Pagos Oportunos'!$Y$71=1,0,'Simulador Pagos Oportunos'!$Y$74))","v":0},null,{"$f":"IF(B87=0,0,IF('Simulador Pagos Oportunos'!$X$41=4,'Simulador Pagos Oportunos'!$I$55,IF('Simulador Pagos Oportunos'!$X$41=1,'Simulador Pagos Oportunos'!$K$55,IF('Simulador Pagos Oportunos'!$X$41=2,'Simulador Pagos Oportunos'!$M$55,IF('Simulador Pagos Oportunos'!$X$41=3,'Simulador Pagos Oportunos'!$O$55,0)))))","v":0},null,0,null,null,null,0,0.1225,0.1225,0.1225,0.1225,0.1225,0,0,5,11,0,0,0,0,0,0,0,0,{"$f":"IF(AO87=0,\"\",IF('Simulador Pagos Oportunos'!$X$41=4,AD87,IF('Simulador Pagos Oportunos'!$X$41=1,AE87,IF('Simulador Pagos Oportunos'!$X$41=2,AF87,IF('Simulador Pagos Oportunos'!$X$41=3,AG87,AC87)))))","v":""},{"$f":"IF(AO87<=0,0,IF('Simulador Pagos Oportunos'!$Y$71=1,0,AO87*'Simulador Pagos Oportunos'!$Y$74))+IF(AO87<=0,0,IF('Simulador Pagos Oportunos'!$X$41=4,'Simulador Pagos Oportunos'!$I$55,IF('Simulador Pagos Oportunos'!$X$41=1,'Simulador Pagos Oportunos'!$K$55,IF('Simulador Pagos Oportunos'!$X$41=2,'Simulador Pagos Oportunos'!$M$55,'Simulador Pagos Oportunos'!$O$55))))","v":0},null,0,0,"",0,71]
[72,0,null,{"$f":"IF(B88+F88-D87<=0,B88+F88,IF(A88=$B$9,$F$9,IF(A88=$B$10,$F$10,IF(AND('Simulador Pagos Oportunos'!$AH$45=2,L87=0),D87*(1+Z88),IF($AL$3=2,B88*AI88,D87*(1+Z88))))))","v":0},null,0,null,0,null,{"$f":"IF(B88-H88=0,0,J86)","v":0},null,null,null,{"$f":"IF('Simulador Pagos Oportunos'!$V$66=1,0,L88*'Simulador Pagos Oportunos'!$O$69*'Simulador Pagos Oportunos'!$W$65)","v":0},null,{"$f":"IF(B88=0,\"\",IF('Simulador Pagos Oportunos'!$X$41=4,AD88,IF('Simulador Pagos Oportunos'!$X$41=1,AE88,IF('Simulador Pagos Oportunos'!$X$41=2,AF88,IF('Simulador Pagos Oportunos'!$X$41=3,AG88,AC88)))))","v":""},null,0,null,{"$f":"IF(B88<=0,0,B88*IF('Simulador Pagos Oportunos'!$Y$71=1,0,'Simulador Pagos Oportunos'!$Y$74))","v":0},null,{"$f":"IF(B88=0,0,IF('Simulador Pagos Oportunos'!$X$41=4,'Simulador Pagos Oportunos'!$I$55,IF('Simulador Pagos Oportunos'!$X$41=1,'Simulador Pagos Oportunos'!$K$55,IF('Simulador Pagos Oportunos'!$X$41=2,'Simulador Pagos Oportunos'!$M$55,IF('Simulador Pagos Oportunos'!$X$41=3,'Simulador Pagos Oportunos'!$O$55,0)))))","v":0},null,0,null,null,null,0,0.1225,0.1225,0.1225,0.1225,0.1225,0,0,6,0,0,0,0,0,0,0,0,0,{"$f":"IF(AO88=0,\"\",IF('Simulador Pagos Oportunos'!$X$41=4,AD88,IF('Simulador Pagos Oportunos'!$X$41=1,AE88,IF('Simulador Pagos Oportunos'!$X$41=2,AF88,IF('Simulador Pagos Oportunos'!$X$41=3,AG88,AC88)))))","v":""},{"$f":"IF(AO88<=0,0,IF('Simulador Pagos Oportunos'!$Y$71=1,0,AO88*'Simulador Pagos Oportunos'!$Y$74))+IF(AO88<=0,0,IF('Simulador Pagos Oportunos'!$X$41=4,'Simulador Pagos Oportunos'!$I$55,IF('Simulador Pagos Oportunos'!$X$41=1,'Simulador Pagos Oportunos'!$K$55,IF('Simulador Pagos Oportunos'!$X$41=2,'Simulador Pagos Oportunos'!$M$55,'Simulador Pagos Oportunos'!$O$55))))","v":0},null,0,0,"",0,72]
[73,0,null,{"$f":"IF(B89+F89-D88<=0,B89+F89,IF(A89=$B$9,$F$9,IF(A89=$B$10,$F$10,IF(AND('Simulador Pagos Oportunos'!$AH$45=2,L88=0),D88*(1+Z89),IF($AL$3=2,B89*AI89,D88*(1+Z89))))))","v":0},null,0,null,0,null,null,null,null,null,{"$f":"IF('Simulador Pagos Oportunos'!$V$66=1,0,L89*'Simulador Pagos Oportunos'!$O$69*'Simulador Pagos Oportunos'!$W$65)","v":0},null,{"$f":"IF(B89=0,\"\",IF('Simulador Pagos Oportunos'!$X$41=4,AD89,IF('Simulador Pagos Oportunos'!$X$41=1,AE89,IF('Simulador Pagos Oportunos'!$X$41=2,AF89,IF('Simulador Pagos Oportunos'!$X$41=3,AG89,AC89)))))","v":""},null,0,null,{"$f":"IF(B89<=0,0,B89*IF('Simulador Pagos Oportunos'!$Y$71=1,0,'Simulador Pagos Oportunos'!$Y$74))","v":0},null,{"$f":"IF(B89=0,0,IF('Simulador Pagos Oportunos'!$X$41=4,'Simulador Pagos Oportunos'!$I$55,IF('Simulador Pagos Oportunos'!$X$41=1,'Simulador Pagos Oportunos'!$K$55,IF('Simulador Pagos Oportunos'!$X$41=2,'Simulador Pagos Oportunos'!$M$55,IF('Simulador Pagos Oportunos'!$X$41=3,'Simulador Pagos Oportunos'!$O$55,0)))))","v":0},null,0,null,{"$f":"IF(B89<=0,0,'Simulador Pagos Oportunos'!$AI$54)","v":0},null,0,{"$f":"IF(AC88=$AC$5,AC88,IF(AC88-0.25%<=$AC$5,$AC$5,AC88-0.25%))","v":0.12},0.1225,0.1225,0.1225,0.1225,0,0,6,1,0,0,0,0,0,0,0,0,{"$f":"IF(AO89=0,\"\",IF('Simulador Pagos Oportunos'!$X$41=4,AD89,IF('Simulador Pagos Oportunos'!$X$41=1,AE89,IF('Simulador Pagos Oportunos'!$X$41=2,AF89,IF('Simulador Pagos Oportunos'!$X$41=3,AG89,AC89)))))","v":""},{"$f":"IF(AO89<=0,0,IF('Simulador Pagos Oportunos'!$Y$71=1,0,AO89*'Simulador Pagos Oportunos'!$Y$74))+IF(AO89<=0,0,IF('Simulador Pagos Oportunos'!$X$41=4,'Simulador Pagos Oportunos'!$I$55,IF('Simulador Pagos Oportunos'!$X$41=1,'Simulador Pagos Oportunos'!$K$55,IF('Simulador Pagos Oportunos'!$X$41=2,'Simulador Pagos Oportunos'!$M$55,'Simulador Pagos Oportunos'!$O$55))))","v":0},{"$f":"IF(AO89<=0,0,$AV$29)","v":0},0,0,"",0,73]
[74,0,null,{"$f":"IF(B90+F90-D89<=0,B90+F90,IF(A90=$B$9,$F$9,IF(A90=$B$10,$F$10,IF(AND('Simulador Pagos Oportunos'!$AH$45=2,L89=0),D89*(1+Z90),IF($AL$3=2,B90*AI90,D89*(1+Z90))))))","v":0},null,0,null,0,null,{"$f":"IF(B90-H90=0,0,J88*(1+(3%)))","v":0},null,null,null,{"$f":"IF('Simulador Pagos Oportunos'!$V$66=1,0,L90*'Simulador Pagos Oportunos'!$O$69*'Simulador Pagos Oportunos'!$W$65)","v":0},null,{"$f":"IF(B90=0,\"\",IF('Simulador Pagos Oportunos'!$X$41=4,AD90,IF('Simulador Pagos Oportunos'!$X$41=1,AE90,IF('Simulador Pagos Oportunos'!$X$41=2,AF90,IF('Simulador Pagos Oportunos'!$X$41=3,AG90,AC90)))))","v":""},null,0,null,{"$f":"IF(B90<=0,0,B90*IF('Simulador Pagos Oportunos'!$Y$71=1,0,'Simulador Pagos Oportunos'!$Y$74))","v":0},null,{"$f":"IF(B90=0,0,IF('Simulador Pagos Oportunos'!$X$41=4,'Simulador Pagos Oportunos'!$I$55,IF('Simulador Pagos Oportunos'!$X$41=1,'Simulador Pagos Oportunos'!$K$55,IF('Simulador Pagos Oportunos'!$X$41=2,'Simulador Pagos Oportunos'!$M$55,IF('Simulador Pagos Oportunos'!$X$41=3,'Simulador Pagos Oportunos'!$O$55,0)))))","v":0},null,0,null,null,null,0,{"$f":"AC89","v":0.12},0.1225,0.1225,0.1225,0.1225,0,0,6,2,0,0,0,0,0,0,0,0,{"$f":"IF(AO90=0,\"\",IF('Simulador Pagos Oportunos'!$X$41=4,AD90,IF('Simulador Pagos Oportunos'!$X$41=1,AE90,IF('Simulador Pagos Oportunos'!$X$41=2,AF90,IF('Simulador Pagos Oportunos'!$X$41=3,AG90,AC90)))))","v":""},{"$f":"IF(AO90<=0,0,IF('Simulador Pagos Oportunos'!$Y$71=1,0,AO90*'Simulador Pagos Oportunos'!$Y$74))+IF(AO90<=0,0,IF('Simulador Pagos Oportunos'!$X$41=4,'Simulador Pagos Oportunos'!$I$55,IF('Simulador Pagos Oportunos'!$X$41=1,'Simulador Pagos Oportunos'!$K$55,IF('Simulador Pagos Oportunos'!$X$41=2,'Simulador Pagos Oportunos'!$M$55,'Simulador Pagos Oportunos'!$O$55))))","v":0},null,0,0,"",0,74]
[75,0,null,{"$f":"IF(B91+F91-D90<=0,B91+F91,IF(A91=$B$9,$F$9,IF(A91=$B$10,$F$10,IF(AND('Simulador Pagos Oportunos'!$AH$45=2,L90=0),D90*(1+Z91),IF($AL$3=2,B91*AI91,D90*(1+Z91))))))","v":0},null,0,null,0,null,null,null,null,null,{"$f":"IF('Simulador Pagos Oportunos'!$V$66=1,0,L91*'Simulador Pagos Oportunos'!$O$69*'Simulador Pagos Oportunos'!$W$65)","v":0},null,{"$f":"IF(B91=0,\"\",IF('Simulador Pagos Oportunos'!$X$41=4,AD91,IF('Simulador Pagos Oportunos'!$X$41=1,AE91,IF('Simulador Pagos Oportunos'!$X$41=2,AF91,IF('Simulador Pagos Oportunos'!$X$41=3,AG91,AC91)))))","v":""},null,0,null,{"$f":"IF(B91<=0,0,B91*IF('Simulador Pagos Oportunos'!$Y$71=1,0,'Simulador Pagos Oportunos'!$Y$74))","v":0},null,{"$f":"IF(B91=0,0,IF('Simulador Pagos Oportunos'!$X$41=4,'Simulador Pagos Oportunos'!$I$55,IF('Simulador Pagos Oportunos'!$X$41=1,'Simulador Pagos Oportunos'!$K$55,IF('Simulador Pagos Oportunos'!$X$41=2,'Simulador Pagos Oportunos'!$M$55,IF('Simulador Pagos Oportunos'!$X$41=3,'Simulador Pagos Oportunos'!$O$55,0)))))","v":0},null,0,null,null,null,0,0.12,0.1225,0.1225,0.1225,0.1225,0,0,6,3,0,0,0,0,0,0,0,0,{"$f":"IF(AO91=0,\"\",IF('Simulador Pagos Oportunos'!$X$41=4,AD91,IF('Simulador Pagos Oportunos'!$X$41=1,AE91,IF('Simulador Pagos Oportunos'!$X$41=2,AF91,IF('Simulador Pagos Oportunos'!$X$41=3,AG91,AC91)))))","v":""},{"$f":"IF(AO91<=0,0,IF('Simulador Pagos Oportunos'!$Y$71=1,0,AO91*'Simulador Pagos Oportunos'!$Y$74))+IF(AO91<=0,0,IF('Simulador Pagos Oportunos'!$X$41=4,'Simulador Pagos Oportunos'!$I$55,IF('Simulador Pagos Oportunos'!$X$41=1,'Simulador Pagos Oportunos'!$K$55,IF('Simulador Pagos Oportunos'!$X$41=2,'Simulador Pagos Oportunos'!$M$55,'Simulador Pagos Oportunos'!$O$55))))","v":0},null,0,0,"",0,75]
[76,0,null,{"$f":"IF(B92+F92-D91<=0,B92+F92,IF(A92=$B$9,$F$9,IF(A92=$B$10,$F$10,IF(AND('Simulador Pagos Oportunos'!$AH$45=2,L91=0),D91*(1+Z92),IF($AL$3=2,B92*AI92,D91*(1+Z92))))))","v":0},null,0,null,0,null,{"$f":"IF(B92-H92=0,0,J90)","v":0},null,null,null,{"$f":"IF('Simulador Pagos Oportunos'!$V$66=1,0,L92*'Simulador Pagos Oportunos'!$O$69*'Simulador Pagos Oportunos'!$W$65)","v":0},null,{"$f":"IF(B92=0,\"\",IF('Simulador Pagos Oportunos'!$X$41=4,AD92,IF('Simulador Pagos Oportunos'!$X$41=1,AE92,IF('Simulador Pagos Oportunos'!$X$41=2,AF92,IF('Simulador Pagos Oportunos'!$X$41=3,AG92,AC92)))))","v":""},null,0,null,{"$f":"IF(B92<=0,0,B92*IF('Simulador Pagos Oportunos'!$Y$71=1,0,'Simulador Pagos Oportunos'!$Y$74))","v":0},null,{"$f":"IF(B92=0,0,IF('Simulador Pagos Oportunos'!$X$41=4,'Simulador Pagos Oportunos'!$I$55,IF('Simulador Pagos Oportunos'!$X$41=1,'Simulador Pagos Oportunos'!$K$55,IF('Simulador Pagos Oportunos'!$X$41=2,'Simulador Pagos Oportunos'!$M$55,IF('Simulador Pagos Oportunos'!$X$41=3,'Simulador Pagos Oportunos'!$O$55,0)))))","v":0},null,0,null,null,null,0,0.12,0.1225,0.1225,0.1225,0.1225,0,0,6,4,0,0,0,0,0,0,0,0,{"$f":"IF(AO92=0,\"\",IF('Simulador Pagos Oportunos'!$X$41=4,AD92,IF('Simulador Pagos Oportunos'!$X$41=1,AE92,IF('Simulador Pagos Oportunos'!$X$41=2,AF92,IF('Simulador Pagos Oportunos'!$X$41=3,AG92,AC92)))))","v":""},{"$f":"IF(AO92<=0,0,IF('Simulador Pagos Oportunos'!$Y$71=1,0,AO92*'Simulador Pagos Oportunos'!$Y$74))+IF(AO92<=0,0,IF('Simulador Pagos Oportunos'!$X$41=4,'Simulador Pagos Oportunos'!$I$55,IF('Simulador Pagos Oportunos'!$X$41=1,'Simulador Pagos Oportunos'!$K$55,IF('Simulador Pagos Oportunos'!$X$41=2,'Simulador Pagos Oportunos'!$M$55,'Simulador Pagos Oportunos'!$O$55))))","v":0},null,0,0,"",0,76]
[77,0,null,{"$f":"IF(B93+F93-D92<=0,B93+F93,IF(A93=$B$9,$F$9,IF(A93=$B$10,$F$10,IF(AND('Simulador Pagos Oportunos'!$AH$45=2,L92=0),D92*(1+Z93),IF($AL$3=2,B93*AI93,D92*(1+Z93))))))","v":0},null,0,null,0,null,null,null,null,null,{"$f":"IF('Simulador Pagos Oportunos'!$V$66=1,0,L93*'Simulador Pagos Oportunos'!$O$69*'Simulador Pagos Oportunos'!$W$65)","v":0},null,{"$f":"IF(B93=0,\"\",IF('Simulador Pagos Oportunos'!$X$41=4,AD93,IF('Simulador Pagos Oportunos'!$X$41=1,AE93,IF('Simulador Pagos Oportunos'!$X$41=2,AF93,IF('Simulador Pagos Oportunos'!$X$41=3,AG93,AC93)))))","v":""},null,0,null,{"$f":"IF(B93<=0,0,B93*IF('Simulador Pagos Oportunos'!$Y$71=1,0,'Simulador Pagos Oportunos'!$Y$74))","v":0},null,{"$f":"IF(B93=0,0,IF('Simulador Pagos Oportunos'!$X$41=4,'Simulador Pagos Oportunos'!$I$55,IF('Simulador Pagos Oportunos'!$X$41=1,'Simulador Pagos Oportunos'!$K$55,IF('Simulador Pagos Oportunos'!$X$41=2,'Simulador Pagos Oportunos'!$M$55,IF('Simulador Pagos Oportunos'!$X$41=3,'Simulador Pagos Oportunos'!$O$55,0)))))","v":0},null,0,null,null,null,0,0.12,0.1225,0.1225,0.1225,0.1225,0,0,6,5,0,0,0,0,0,0,0,0,{"$f":"IF(AO93=0,\"\",IF('Simulador Pagos Oportunos'!$X$41=4,AD93,IF('Simulador Pagos Oportunos'!$X$41=1,AE93,IF('Simulador Pagos Oportunos'!$X$41=2,AF93,IF('Simulador Pagos Oportunos'!$X$41=3,AG93,AC93)))))","v":""},{"$f":"IF(AO93<=0,0,IF('Simulador Pagos Oportunos'!$Y$71=1,0,AO93*'Simulador Pagos Oportunos'!$Y$74))+IF(AO93<=0,0,IF('Simulador Pagos Oportunos'!$X$41=4,'Simulador Pagos Oportunos'!$I$55,IF('Simulador Pagos Oportunos'!$X$41=1,'Simulador Pagos Oportunos'!$K$55,IF('Simulador Pagos Oportunos'!$X$41=2,'Simulador Pagos Oportunos'!$M$55,'Simulador Pagos Oportunos'!$O$55))))","v":0},null,0,0,"",0,77]
[78,0,null,{"$f":"IF(B94+F94-D93<=0,B94+F94,IF(A94=$B$9,$F$9,IF(A94=$B$10,$F$10,IF(AND('Simulador Pagos Oportunos'!$AH$45=2,L93=0),D93*(1+Z94),IF($AL$3=2,B94*AI94,D93*(1+Z94))))))","v":0},null,0,null,0,null,{"$f":"IF(B94-H94=0,0,J92)","v":0},null,null,null,{"$f":"IF('Simulador Pagos Oportunos'!$V$66=1,0,L94*'Simulador Pagos Oportunos'!$O$69*'Simulador Pagos Oportunos'!$W$65)","v":0},null,{"$f":"IF(B94=0,\"\",IF('Simulador Pagos Oportunos'!$X$41=4,AD94,IF('Simulador Pagos Oportunos'!$X$41=1,AE94,IF('Simulador Pagos Oportunos'!$X$41=2,AF94,IF('Simulador Pagos Oportunos'!$X$41=3,AG94,AC94)))))","v":""},null,0,null,{"$f":"IF(B94<=0,0,B94*IF('Simulador Pagos Oportunos'!$Y$71=1,0,'Simulador Pagos Oportunos'!$Y$74))","v":0},null,{"$f":"IF(B94=0,0,IF('Simulador Pagos Oportunos'!$X$41=4,'Simulador Pagos Oportunos'!$I$55,IF('Simulador Pagos Oportunos'!$X$41=1,'Simulador Pagos Oportunos'!$K$55,IF('Simulador Pagos Oportunos'!$X$41=2,'Simulador Pagos Oportunos'!$M$55,IF('Simulador Pagos Oportunos'!$X$41=3,'Simulador Pagos Oportunos'!$O$55,0)))))","v":0},null,0,null,null,null,0,0.12,0.1225,0.1225,0.1225,0.1225,0,0,6,6,0,0,0,0,0,0,0,0,{"$f":"IF(AO94=0,\"\",IF('Simulador Pagos Oportunos'!$X$41=4,AD94,IF('Simulador Pagos Oportunos'!$X$41=1,AE94,IF('Simulador Pagos Oportunos'!$X$41=2,AF94,IF('Simulador Pagos Oportunos'!$X$41=3,AG94,AC94)))))","v":""},{"$f":"IF(AO94<=0,0,IF('Simulador Pagos Oportunos'!$Y$71=1,0,AO94*'Simulador Pagos Oportunos'!$Y$74))+IF(AO94<=0,0,IF('Simulador Pagos Oportunos'!$X$41=4,'Simulador Pagos Oportunos'!$I$55,IF('Simulador Pagos Oportunos'!$X$41=1,'Simulador Pagos Oportunos'!$K$55,IF('Simulador Pagos Oportunos'!$X$41=2,'Simulador Pagos Oportunos'!$M$55,'Simulador Pagos Oportunos'!$O$55))))","v":0},null,0,0,"",0,78]
[79,0,null,{"$f":"IF(B95+F95-D94<=0,B95+F95,IF(A95=$B$9,$F$9,IF(A95=$B$10,$F$10,IF(AND('Simulador Pagos Oportunos'!$AH$45=2,L94=0),D94*(1+Z95),IF($AL$3=2,B95*AI95,D94*(1+Z95))))))","v":0},null,0,null,0,null,null,null,null,null,{"$f":"IF('Simulador Pagos Oportunos'!$V$66=1,0,L95*'Simulador Pagos Oportunos'!$O$69*'Simulador Pagos Oportunos'!$W$65)","v":0},null,{"$f":"IF(B95=0,\"\",IF('Simulador Pagos Oportunos'!$X$41=4,AD95,IF('Simulador Pagos Oportunos'!$X$41=1,AE95,IF('Simulador Pagos Oportunos'!$X$41=2,AF95,IF('Simulador Pagos Oportunos'!$X$41=3,AG95,AC95)))))","v":""},null,0,null,{"$f":"IF(B95<=0,0,B95*IF('Simulador Pagos Oportunos'!$Y$71=1,0,'Simulador Pagos Oportunos'!$Y$74))","v":0},null,{"$f":"IF(B95=0,0,IF('Simulador Pagos Oportunos'!$X$41=4,'Simulador Pagos Oportunos'!$I$55,IF('Simulador Pagos Oportunos'!$X$41=1,'Simulador Pagos Oportunos'!$K$55,IF('Simulador Pagos Oportunos'!$X$41=2,'Simulador Pagos Oportunos'!$M$55,IF('Simulador Pagos Oportunos'!$X$41=3,'Simulador Pagos Oportunos'!$O$55,0)))))","v":0},null,0,null,null,null,0,0.12,0.1225,0.1225,0.1225,0.1225,0,0,6,7,0,0,0,0,0,0,0,0,{"$f":"IF(AO95=0,\"\",IF('Simulador Pagos Oportunos'!$X$41=4,AD95,IF('Simulador Pagos Oportunos'!$X$41=1,AE95,IF('Simulador Pagos Oportunos'!$X$41=2,AF95,IF('Simulador Pagos Oportunos'!$X$41=3,AG95,AC95)))))","v":""},{"$f":"IF(AO95<=0,0,IF('Simulador Pagos Oportunos'!$Y$71=1,0,AO95*'Simulador Pagos Oportunos'!$Y$74))+IF(AO95<=0,0,IF('Simulador Pagos Oportunos'!$X$41=4,'Simulador Pagos Oportunos'!$I$55,IF('Simulador Pagos Oportunos'!$X$41=1,'Simulador Pagos Oportunos'!$K$55,IF('Simulador Pagos Oportunos'!$X$41=2,'Simulador Pagos Oportunos'!$M$55,'Simulador Pagos Oportunos'!$O$55))))","v":0},null,0,0,"",0,79]
[80,0,null,{"$f":"IF(B96+F96-D95<=0,B96+F96,IF(A96=$B$9,$F$9,IF(A96=$B$10,$F$10,IF(AND('Simulador Pagos Oportunos'!$AH$45=2,L95=0),D95*(1+Z96),IF($AL$3=2,B96*AI96,D95*(1+Z96))))))","v":0},null,0,null,0,null,{"$f":"IF(B96-H96=0,0,J94)","v":0},null,null,null,{"$f":"IF('Simulador Pagos Oportunos'!$V$66=1,0,L96*'Simulador Pagos Oportunos'!$O$69*'Simulador Pagos Oportunos'!$W$65)","v":0},null,{"$f":"IF(B96=0,\"\",IF('Simulador Pagos Oportunos'!$X$41=4,AD96,IF('Simulador Pagos Oportunos'!$X$41=1,AE96,IF('Simulador Pagos Oportunos'!$X$41=2,AF96,IF('Simulador Pagos Oportunos'!$X$41=3,AG96,AC96)))))","v":""},null,0,null,{"$f":"IF(B96<=0,0,B96*IF('Simulador Pagos Oportunos'!$Y$71=1,0,'Simulador Pagos Oportunos'!$Y$74))","v":0},null,{"$f":"IF(B96=0,0,IF('Simulador Pagos Oportunos'!$X$41=4,'Simulador Pagos Oportunos'!$I$55,IF('Simulador Pagos Oportunos'!$X$41=1,'Simulador Pagos Oportunos'!$K$55,IF('Simulador Pagos Oportunos'!$X$41=2,'Simulador Pagos Oportunos'!$M$55,IF('Simulador Pagos Oportunos'!$X$41=3,'Simulador Pagos Oportunos'!$O$55,0)))))","v":0},null,0,null,null,null,0,0.12,0.1225,0.1225,0.1225,0.1225,0,0,6,8,0,0,0,0,0,0,0,0,{"$f":"IF(AO96=0,\"\",IF('Simulador Pagos Oportunos'!$X$41=4,AD96,IF('Simulador Pagos Oportunos'!$X$41=1,AE96,IF('Simulador Pagos Oportunos'!$X$41=2,AF96,IF('Simulador Pagos Oportunos'!$X$41=3,AG96,AC96)))))","v":""},{"$f":"IF(AO96<=0,0,IF('Simulador Pagos Oportunos'!$Y$71=1,0,AO96*'Simulador Pagos Oportunos'!$Y$74))+IF(AO96<=0,0,IF('Simulador Pagos Oportunos'!$X$41=4,'Simulador Pagos Oportunos'!$I$55,IF('Simulador Pagos Oportunos'!$X$41=1,'Simulador Pagos Oportunos'!$K$55,IF('Simulador Pagos Oportunos'!$X$41=2,'Simulador Pagos Oportunos'!$M$55,'Simulador Pagos Oportunos'!$O$55))))","v":0},null,0,0,"",0,80]
[81,0,null,{"$f":"IF(B97+F97-D96<=0,B97+F97,IF(A97=$B$9,$F$9,IF(A97=$B$10,$F$10,IF(AND('Simulador Pagos Oportunos'!$AH$45=2,L96=0),D96*(1+Z97),IF($AL$3=2,B97*AI97,D96*(1+Z97))))))","v":0},null,0,null,0,null,null,null,null,null,{"$f":"IF('Simulador Pagos Oportunos'!$V$66=1,0,L97*'Simulador Pagos Oportunos'!$O$69*'Simulador Pagos Oportunos'!$W$65)","v":0},null,{"$f":"IF(B97=0,\"\",IF('Simulador Pagos Oportunos'!$X$41=4,AD97,IF('Simulador Pagos Oportunos'!$X$41=1,AE97,IF('Simulador Pagos Oportunos'!$X$41=2,AF97,IF('Simulador Pagos Oportunos'!$X$41=3,AG97,AC97)))))","v":""},null,0,null,{"$f":"IF(B97<=0,0,B97*IF('Simulador Pagos Oportunos'!$Y$71=1,0,'Simulador Pagos Oportunos'!$Y$74))","v":0},null,{"$f":"IF(B97=0,0,IF('Simulador Pagos Oportunos'!$X$41=4,'Simulador Pagos Oportunos'!$I$55,IF('Simulador Pagos Oportunos'!$X$41=1,'Simulador Pagos Oportunos'!$K$55,IF('Simulador Pagos Oportunos'!$X$41=2,'Simulador Pagos Oportunos'!$M$55,IF('Simulador Pagos Oportunos'!$X$41=3,'Simulador Pagos Oportunos'!$O$55,0)))))","v":0},null,0,null,null,null,0,0.12,0.1225,0.1225,0.1225,0.1225,0,0,6,9,0,0,0,0,0,0,0,0,{"$f":"IF(AO97=0,\"\",IF('Simulador Pagos Oportunos'!$X$41=4,AD97,IF('Simulador Pagos Oportunos'!$X$41=1,AE97,IF('Simulador Pagos Oportunos'!$X$41=2,AF97,IF('Simulador Pagos Oportunos'!$X$41=3,AG97,AC97)))))","v":""},{"$f":"IF(AO97<=0,0,IF('Simulador Pagos Oportunos'!$Y$71=1,0,AO97*'Simulador Pagos Oportunos'!$Y$74))+IF(AO97<=0,0,IF('Simulador Pagos Oportunos'!$X$41=4,'Simulador Pagos Oportunos'!$I$55,IF('Simulador Pagos Oportunos'!$X$41=1,'Simulador Pagos Oportunos'!$K$55,IF('Simulador Pagos Oportunos'!$X$41=2,'Simulador Pagos Oportunos'!$M$55,'Simulador Pagos Oportunos'!$O$55))))","v":0},null,0,0,"",0,81]
[82,0,null,{"$f":"IF(B98+F98-D97<=0,B98+F98,IF(A98=$B$9,$F$9,IF(A98=$B$10,$F$10,IF(AND('Simulador Pagos Oportunos'!$AH$45=2,L97=0),D97*(1+Z98),IF($AL$3=2,B98*AI98,D97*(1+Z98))))))","v":0},null,0,null,0,null,{"$f":"IF(B98-H98=0,0,J96)","v":0},null,null,null,{"$f":"IF('Simulador Pagos Oportunos'!$V$66=1,0,L98*'Simulador Pagos Oportunos'!$O$69*'Simulador Pagos Oportunos'!$W$65)","v":0},null,{"$f":"IF(B98=0,\"\",IF('Simulador Pagos Oportunos'!$X$41=4,AD98,IF('Simulador Pagos Oportunos'!$X$41=1,AE98,IF('Simulador Pagos Oportunos'!$X$41=2,AF98,IF('Simulador Pagos Oportunos'!$X$41=3,AG98,AC98)))))","v":""},null,0,null,{"$f":"IF(B98<=0,0,B98*IF('Simulador Pagos Oportunos'!$Y$71=1,0,'Simulador Pagos Oportunos'!$Y$74))","v":0},null,{"$f":"IF(B98=0,0,IF('Simulador Pagos Oportunos'!$X$41=4,'Simulador Pagos Oportunos'!$I$55,IF('Simulador Pagos Oportunos'!$X$41=1,'Simulador Pagos Oportunos'!$K$55,IF('Simulador Pagos Oportunos'!$X$41=2,'Simulador Pagos Oportunos'!$M$55,IF('Simulador Pagos Oportunos'!$X$41=3,'Simulador Pagos Oportunos'!$O$55,0)))))","v":0},null,0,null,null,null,0,0.12,0.1225,0.1225,0.1225,0.1225,0,0,6,10,0,0,0,0,0,0,0,0,{"$f":"IF(AO98=0,\"\",IF('Simulador Pagos Oportunos'!$X$41=4,AD98,IF('Simulador Pagos Oportunos'!$X$41=1,AE98,IF('Simulador Pagos Oportunos'!$X$41=2,AF98,IF('Simulador Pagos Oportunos'!$X$41=3,AG98,AC98)))))","v":""},{"$f":"IF(AO98<=0,0,IF('Simulador Pagos Oportunos'!$Y$71=1,0,AO98*'Simulador Pagos Oportunos'!$Y$74))+IF(AO98<=0,0,IF('Simulador Pagos Oportunos'!$X$41=4,'Simulador Pagos Oportunos'!$I$55,IF('Simulador Pagos Oportunos'!$X$41=1,'Simulador Pagos Oportunos'!$K$55,IF('Simulador Pagos Oportunos'!$X$41=2,'Simulador Pagos Oportunos'!$M$55,'Simulador Pagos Oportunos'!$O$55))))","v":0},null,0,0,"",0,82]
[83,0,null,{"$f":"IF(B99+F99-D98<=0,B99+F99,IF(A99=$B$9,$F$9,IF(A99=$B$10,$F$10,IF(AND('Simulador Pagos Oportunos'!$AH$45=2,L98=0),D98*(1+Z99),IF($AL$3=2,B99*AI99,D98*(1+Z99))))))","v":0},null,0,null,0,null,null,null,null,null,{"$f":"IF('Simulador Pagos Oportunos'!$V$66=1,0,L99*'Simulador Pagos Oportunos'!$O$69*'Simulador Pagos Oportunos'!$W$65)","v":0},null,{"$f":"IF(B99=0,\"\",IF('Simulador Pagos Oportunos'!$X$41=4,AD99,IF('Simulador Pagos Oportunos'!$X$41=1,AE99,IF('Simulador Pagos Oportunos'!$X$41=2,AF99,IF('Simulador Pagos Oportunos'!$X$41=3,AG99,AC99)))))","v":""},null,0,null,{"$f":"IF(B99<=0,0,B99*IF('Simulador Pagos Oportunos'!$Y$71=1,0,'Simulador Pagos Oportunos'!$Y$74))","v":0},null,{"$f":"IF(B99=0,0,IF('Simulador Pagos Oportunos'!$X$41=4,'Simulador Pagos Oportunos'!$I$55,IF('Simulador Pagos Oportunos'!$X$41=1,'Simulador Pagos Oportunos'!$K$55,IF('Simulador Pagos Oportunos'!$X$41=2,'Simulador Pagos Oportunos'!$M$55,IF('Simulador Pagos Oportunos'!$X$41=3,'Simulador Pagos Oportunos'!$O$55,0)))))","v":0},null,0,null,null,null,0,0.12,0.1225,0.1225,0.1225,0.1225,0,0,6,11,0,0,0,0,0,0,0,0,{"$f":"IF(AO99=0,\"\",IF('Simulador Pagos Oportunos'!$X$41=4,AD99,IF('Simulador Pagos Oportunos'!$X$41=1,AE99,IF('Simulador Pagos Oportunos'!$X$41=2,AF99,IF('Simulador Pagos Oportunos'!$X$41=3,AG99,AC99)))))","v":""},{"$f":"IF(AO99<=0,0,IF('Simulador Pagos Oportunos'!$Y$71=1,0,AO99*'Simulador Pagos Oportunos'!$Y$74))+IF(AO99<=0,0,IF('Simulador Pagos Oportunos'!$X$41=4,'Simulador Pagos Oportunos'!$I$55,IF('Simulador Pagos Oportunos'!$X$41=1,'Simulador Pagos Oportunos'!$K$55,IF('Simulador Pagos Oportunos'!$X$41=2,'Simulador Pagos Oportunos'!$M$55,'Simulador Pagos Oportunos'!$O$55))))","v":0},null,0,0,"",0,83]
[84,0,null,{"$f":"IF(B100+F100-D99<=0,B100+F100,IF(A100=$B$9,$F$9,IF(A100=$B$10,$F$10,IF(AND('Simulador Pagos Oportunos'!$AH$45=2,L99=0),D99*(1+Z100),IF($AL$3=2,B100*AI100,D99*(1+Z100))))))","v":0},null,0,null,0,null,{"$f":"IF(B100-H100=0,0,J98)","v":0},null,null,null,{"$f":"IF('Simulador Pagos Oportunos'!$V$66=1,0,L100*'Simulador Pagos Oportunos'!$O$69*'Simulador Pagos Oportunos'!$W$65)","v":0},null,{"$f":"IF(B100=0,\"\",IF('Simulador Pagos Oportunos'!$X$41=4,AD100,IF('Simulador Pagos Oportunos'!$X$41=1,AE100,IF('Simulador Pagos Oportunos'!$X$41=2,AF100,IF('Simulador Pagos Oportunos'!$X$41=3,AG100,AC100)))))","v":""},null,0,null,{"$f":"IF(B100<=0,0,B100*IF('Simulador Pagos Oportunos'!$Y$71=1,0,'Simulador Pagos Oportunos'!$Y$74))","v":0},null,{"$f":"IF(B100=0,0,IF('Simulador Pagos Oportunos'!$X$41=4,'Simulador Pagos Oportunos'!$I$55,IF('Simulador Pagos Oportunos'!$X$41=1,'Simulador Pagos Oportunos'!$K$55,IF('Simulador Pagos Oportunos'!$X$41=2,'Simulador Pagos Oportunos'!$M$55,IF('Simulador Pagos Oportunos'!$X$41=3,'Simulador Pagos Oportunos'!$O$55,0)))))","v":0},null,0,null,null,null,0,0.12,0.1225,0.1225,0.1225,0.1225,0,0,7,0,0,0,0,0,0,0,0,0,{"$f":"IF(AO100=0,\"\",IF('Simulador Pagos Oportunos'!$X$41=4,AD100,IF('Simulador Pagos Oportunos'!$X$41=1,AE100,IF('Simulador Pagos Oportunos'!$X$41=2,AF100,IF('Simulador Pagos Oportunos'!$X$41=3,AG100,AC100)))))","v":""},{"$f":"IF(AO100<=0,0,IF('Simulador Pagos Oportunos'!$Y$71=1,0,AO100*'Simulador Pagos Oportunos'!$Y$74))+IF(AO100<=0,0,IF('Simulador Pagos Oportunos'!$X$41=4,'Simulador Pagos Oportunos'!$I$55,IF('Simulador Pagos Oportunos'!$X$41=1,'Simulador Pagos Oportunos'!$K$55,IF('Simulador Pagos Oportunos'!$X$41=2,'Simulador Pagos Oportunos'!$M$55,'Simulador Pagos Oportunos'!$O$55))))","v":0},null,0,0,"",0,84]
[85,0,null,{"$f":"IF(B101+F101-D100<=0,B101+F101,IF(A101=$B$9,$F$9,IF(A101=$B$10,$F$10,IF(AND('Simulador Pagos Oportunos'!$AH$45=2,L100=0),D100*(1+Z101),IF($AL$3=2,B101*AI101,D100*(1+Z101))))))","v":0},null,0,null,0,null,null,null,null,null,{"$f":"IF('Simulador Pagos Oportunos'!$V$66=1,0,L101*'Simulador Pagos Oportunos'!$O$69*'Simulador Pagos Oportunos'!$W$65)","v":0},null,{"$f":"IF(B101=0,\"\",IF('Simulador Pagos Oportunos'!$X$41=4,AD101,IF('Simulador Pagos Oportunos'!$X$41=1,AE101,IF('Simulador Pagos Oportunos'!$X$41=2,AF101,IF('Simulador Pagos Oportunos'!$X$41=3,AG101,AC101)))))","v":""},null,0,null,{"$f":"IF(B101<=0,0,B101*IF('Simulador Pagos Oportunos'!$Y$71=1,0,'Simulador Pagos Oportunos'!$Y$74))","v":0},null,{"$f":"IF(B101=0,0,IF('Simulador Pagos Oportunos'!$X$41=4,'Simulador Pagos Oportunos'!$I$55,IF('Simulador Pagos Oportunos'!$X$41=1,'Simulador Pagos Oportunos'!$K$55,IF('Simulador Pagos Oportunos'!$X$41=2,'Simulador Pagos Oportunos'!$M$55,IF('Simulador Pagos Oportunos'!$X$41=3,'Simulador Pagos Oportunos'!$O$55,0)))))","v":0},null,0,null,{"$f":"IF(B101<=0,0,'Simulador Pagos Oportunos'!$AI$54)","v":0},null,0,{"$f":"IF(AC100=$AC$5,AC100,IF(AC100-0.25%<=$AC$5,$AC$5,AC100-0.25%))","v":0.11749999999999999},null,0.1225,0.1225,0.1225,0,0,7,1,0,0,0,0,0,0,0,0,{"$f":"IF(AO101=0,\"\",IF('Simulador Pagos Oportunos'!$X$41=4,AD101,IF('Simulador Pagos Oportunos'!$X$41=1,AE101,IF('Simulador Pagos Oportunos'!$X$41=2,AF101,IF('Simulador Pagos Oportunos'!$X$41=3,AG101,AC101)))))","v":""},{"$f":"IF(AO101<=0,0,IF('Simulador Pagos Oportunos'!$Y$71=1,0,AO101*'Simulador Pagos Oportunos'!$Y$74))+IF(AO101<=0,0,IF('Simulador Pagos Oportunos'!$X$41=4,'Simulador Pagos Oportunos'!$I$55,IF('Simulador Pagos Oportunos'!$X$41=1,'Simulador Pagos Oportunos'!$K$55,IF('Simulador Pagos Oportunos'!$X$41=2,'Simulador Pagos Oportunos'!$M$55,'Simulador Pagos Oportunos'!$O$55))))","v":0},{"$f":"IF(AO101<=0,0,$AV$29)","v":0},0,0,"",0,85]
[86,0,null,{"$f":"IF(B102+F102-D101<=0,B102+F102,IF(A102=$B$9,$F$9,IF(A102=$B$10,$F$10,IF(AND('Simulador Pagos Oportunos'!$AH$45=2,L101=0),D101*(1+Z102),IF($AL$3=2,B102*AI102,D101*(1+Z102))))))","v":0},null,0,null,0,null,{"$f":"IF(B102-H102=0,0,J100*(1+(3%)))","v":0},null,null,null,{"$f":"IF('Simulador Pagos Oportunos'!$V$66=1,0,L102*'Simulador Pagos Oportunos'!$O$69*'Simulador Pagos Oportunos'!$W$65)","v":0},null,{"$f":"IF(B102=0,\"\",IF('Simulador Pagos Oportunos'!$X$41=4,AD102,IF('Simulador Pagos Oportunos'!$X$41=1,AE102,IF('Simulador Pagos Oportunos'!$X$41=2,AF102,IF('Simulador Pagos Oportunos'!$X$41=3,AG102,AC102)))))","v":""},null,0,null,{"$f":"IF(B102<=0,0,B102*IF('Simulador Pagos Oportunos'!$Y$71=1,0,'Simulador Pagos Oportunos'!$Y$74))","v":0},null,{"$f":"IF(B102=0,0,IF('Simulador Pagos Oportunos'!$X$41=4,'Simulador Pagos Oportunos'!$I$55,IF('Simulador Pagos Oportunos'!$X$41=1,'Simulador Pagos Oportunos'!$K$55,IF('Simulador Pagos Oportunos'!$X$41=2,'Simulador Pagos Oportunos'!$M$55,IF('Simulador Pagos Oportunos'!$X$41=3,'Simulador Pagos Oportunos'!$O$55,0)))))","v":0},null,0,null,null,null,0,{"$f":"AC101","v":0.11749999999999999},null,0.1225,0.1225,0.1225,0,0,7,2,0,0,0,0,0,0,0,0,{"$f":"IF(AO102=0,\"\",IF('Simulador Pagos Oportunos'!$X$41=4,AD102,IF('Simulador Pagos Oportunos'!$X$41=1,AE102,IF('Simulador Pagos Oportunos'!$X$41=2,AF102,IF('Simulador Pagos Oportunos'!$X$41=3,AG102,AC102)))))","v":""},{"$f":"IF(AO102<=0,0,IF('Simulador Pagos Oportunos'!$Y$71=1,0,AO102*'Simulador Pagos Oportunos'!$Y$74))+IF(AO102<=0,0,IF('Simulador Pagos Oportunos'!$X$41=4,'Simulador Pagos Oportunos'!$I$55,IF('Simulador Pagos Oportunos'!$X$41=1,'Simulador Pagos Oportunos'!$K$55,IF('Simulador Pagos Oportunos'!$X$41=2,'Simulador Pagos Oportunos'!$M$55,'Simulador Pagos Oportunos'!$O$55))))","v":0},null,0,0,"",0,86]
[87,0,null,{"$f":"IF(B103+F103-D102<=0,B103+F103,IF(A103=$B$9,$F$9,IF(A103=$B$10,$F$10,IF(AND('Simulador Pagos Oportunos'!$AH$45=2,L102=0),D102*(1+Z103),IF($AL$3=2,B103*AI103,D102*(1+Z103))))))","v":0},null,0,null,0,null,null,null,null,null,{"$f":"IF('Simulador Pagos Oportunos'!$V$66=1,0,L103*'Simulador Pagos Oportunos'!$O$69*'Simulador Pagos Oportunos'!$W$65)","v":0},null,{"$f":"IF(B103=0,\"\",IF('Simulador Pagos Oportunos'!$X$41=4,AD103,IF('Simulador Pagos Oportunos'!$X$41=1,AE103,IF('Simulador Pagos Oportunos'!$X$41=2,AF103,IF('Simulador Pagos Oportunos'!$X$41=3,AG103,AC103)))))","v":""},null,0,null,{"$f":"IF(B103<=0,0,B103*IF('Simulador Pagos Oportunos'!$Y$71=1,0,'Simulador Pagos Oportunos'!$Y$74))","v":0},null,{"$f":"IF(B103=0,0,IF('Simulador Pagos Oportunos'!$X$41=4,'Simulador Pagos Oportunos'!$I$55,IF('Simulador Pagos Oportunos'!$X$41=1,'Simulador Pagos Oportunos'!$K$55,IF('Simulador Pagos Oportunos'!$X$41=2,'Simulador Pagos Oportunos'!$M$55,IF('Simulador Pagos Oportunos'!$X$41=3,'Simulador Pagos Oportunos'!$O$55,0)))))","v":0},null,0,null,null,null,0,{"$f":"AC102","v":0.11749999999999999},null,0.1225,0.1225,0.1225,0,0,7,3,0,0,0,0,0,0,0,0,{"$f":"IF(AO103=0,\"\",IF('Simulador Pagos Oportunos'!$X$41=4,AD103,IF('Simulador Pagos Oportunos'!$X$41=1,AE103,IF('Simulador Pagos Oportunos'!$X$41=2,AF103,IF('Simulador Pagos Oportunos'!$X$41=3,AG103,AC103)))))","v":""},{"$f":"IF(AO103<=0,0,IF('Simulador Pagos Oportunos'!$Y$71=1,0,AO103*'Simulador Pagos Oportunos'!$Y$74))+IF(AO103<=0,0,IF('Simulador Pagos Oportunos'!$X$41=4,'Simulador Pagos Oportunos'!$I$55,IF('Simulador Pagos Oportunos'!$X$41=1,'Simulador Pagos Oportunos'!$K$55,IF('Simulador Pagos Oportunos'!$X$41=2,'Simulador Pagos Oportunos'!$M$55,'Simulador Pagos Oportunos'!$O$55))))","v":0},null,0,0,"",0,87]
[88,0,null,{"$f":"IF(B104+F104-D103<=0,B104+F104,IF(A104=$B$9,$F$9,IF(A104=$B$10,$F$10,IF(AND('Simulador Pagos Oportunos'!$AH$45=2,L103=0),D103*(1+Z104),IF($AL$3=2,B104*AI104,D103*(1+Z104))))))","v":0},null,0,null,0,null,{"$f":"IF(B104-H104=0,0,J102)","v":0},null,null,null,{"$f":"IF('Simulador Pagos Oportunos'!$V$66=1,0,L104*'Simulador Pagos Oportunos'!$O$69*'Simulador Pagos Oportunos'!$W$65)","v":0},null,{"$f":"IF(B104=0,\"\",IF('Simulador Pagos Oportunos'!$X$41=4,AD104,IF('Simulador Pagos Oportunos'!$X$41=1,AE104,IF('Simulador Pagos Oportunos'!$X$41=2,AF104,IF('Simulador Pagos Oportunos'!$X$41=3,AG104,AC104)))))","v":""},null,0,null,{"$f":"IF(B104<=0,0,B104*IF('Simulador Pagos Oportunos'!$Y$71=1,0,'Simulador Pagos Oportunos'!$Y$74))","v":0},null,{"$f":"IF(B104=0,0,IF('Simulador Pagos Oportunos'!$X$41=4,'Simulador Pagos Oportunos'!$I$55,IF('Simulador Pagos Oportunos'!$X$41=1,'Simulador Pagos Oportunos'!$K$55,IF('Simulador Pagos Oportunos'!$X$41=2,'Simulador Pagos Oportunos'!$M$55,IF('Simulador Pagos Oportunos'!$X$41=3,'Simulador Pagos Oportunos'!$O$55,0)))))","v":0},null,0,null,null,null,0,0.11749999999999999,null,0.1225,0.1225,0.1225,0,0,7,4,0,0,0,0,0,0,0,0,{"$f":"IF(AO104=0,\"\",IF('Simulador Pagos Oportunos'!$X$41=4,AD104,IF('Simulador Pagos Oportunos'!$X$41=1,AE104,IF('Simulador Pagos Oportunos'!$X$41=2,AF104,IF('Simulador Pagos Oportunos'!$X$41=3,AG104,AC104)))))","v":""},{"$f":"IF(AO104<=0,0,IF('Simulador Pagos Oportunos'!$Y$71=1,0,AO104*'Simulador Pagos Oportunos'!$Y$74))+IF(AO104<=0,0,IF('Simulador Pagos Oportunos'!$X$41=4,'Simulador Pagos Oportunos'!$I$55,IF('Simulador Pagos Oportunos'!$X$41=1,'Simulador Pagos Oportunos'!$K$55,IF('Simulador Pagos Oportunos'!$X$41=2,'Simulador Pagos Oportunos'!$M$55,'Simulador Pagos Oportunos'!$O$55))))","v":0},null,0,0,"",0,88]
[89,0,null,{"$f":"IF(B105+F105-D104<=0,B105+F105,IF(A105=$B$9,$F$9,IF(A105=$B$10,$F$10,IF(AND('Simulador Pagos Oportunos'!$AH$45=2,L104=0),D104*(1+Z105),IF($AL$3=2,B105*AI105,D104*(1+Z105))))))","v":0},null,0,null,0,null,null,null,null,null,{"$f":"IF('Simulador Pagos Oportunos'!$V$66=1,0,L105*'Simulador Pagos Oportunos'!$O$69*'Simulador Pagos Oportunos'!$W$65)","v":0},null,{"$f":"IF(B105=0,\"\",IF('Simulador Pagos Oportunos'!$X$41=4,AD105,IF('Simulador Pagos Oportunos'!$X$41=1,AE105,IF('Simulador Pagos Oportunos'!$X$41=2,AF105,IF('Simulador Pagos Oportunos'!$X$41=3,AG105,AC105)))))","v":""},null,0,null,{"$f":"IF(B105<=0,0,B105*IF('Simulador Pagos Oportunos'!$Y$71=1,0,'Simulador Pagos Oportunos'!$Y$74))","v":0},null,{"$f":"IF(B105=0,0,IF('Simulador Pagos Oportunos'!$X$41=4,'Simulador Pagos Oportunos'!$I$55,IF('Simulador Pagos Oportunos'!$X$41=1,'Simulador Pagos Oportunos'!$K$55,IF('Simulador Pagos Oportunos'!$X$41=2,'Simulador Pagos Oportunos'!$M$55,IF('Simulador Pagos Oportunos'!$X$41=3,'Simulador Pagos Oportunos'!$O$55,0)))))","v":0},null,0,null,null,null,0,0.11749999999999999,null,0.1225,0.1225,0.1225,0,0,7,5,0,0,0,0,0,0,0,0,{"$f":"IF(AO105=0,\"\",IF('Simulador Pagos Oportunos'!$X$41=4,AD105,IF('Simulador Pagos Oportunos'!$X$41=1,AE105,IF('Simulador Pagos Oportunos'!$X$41=2,AF105,IF('Simulador Pagos Oportunos'!$X$41=3,AG105,AC105)))))","v":""},{"$f":"IF(AO105<=0,0,IF('Simulador Pagos Oportunos'!$Y$71=1,0,AO105*'Simulador Pagos Oportunos'!$Y$74))+IF(AO105<=0,0,IF('Simulador Pagos Oportunos'!$X$41=4,'Simulador Pagos Oportunos'!$I$55,IF('Simulador Pagos Oportunos'!$X$41=1,'Simulador Pagos Oportunos'!$K$55,IF('Simulador Pagos Oportunos'!$X$41=2,'Simulador Pagos Oportunos'!$M$55,'Simulador Pagos Oportunos'!$O$55))))","v":0},null,0,0,"",0,89]
[90,0,null,{"$f":"IF(B106+F106-D105<=0,B106+F106,IF(A106=$B$9,$F$9,IF(A106=$B$10,$F$10,IF(AND('Simulador Pagos Oportunos'!$AH$45=2,L105=0),D105*(1+Z106),IF($AL$3=2,B106*AI106,D105*(1+Z106))))))","v":0},null,0,null,0,null,{"$f":"IF(B106-H106=0,0,J104)","v":0},null,null,null,{"$f":"IF('Simulador Pagos Oportunos'!$V$66=1,0,L106*'Simulador Pagos Oportunos'!$O$69*'Simulador Pagos Oportunos'!$W$65)","v":0},null,{"$f":"IF(B106=0,\"\",IF('Simulador Pagos Oportunos'!$X$41=4,AD106,IF('Simulador Pagos Oportunos'!$X$41=1,AE106,IF('Simulador Pagos Oportunos'!$X$41=2,AF106,IF('Simulador Pagos Oportunos'!$X$41=3,AG106,AC106)))))","v":""},null,0,null,{"$f":"IF(B106<=0,0,B106*IF('Simulador Pagos Oportunos'!$Y$71=1,0,'Simulador Pagos Oportunos'!$Y$74))","v":0},null,{"$f":"IF(B106=0,0,IF('Simulador Pagos Oportunos'!$X$41=4,'Simulador Pagos Oportunos'!$I$55,IF('Simulador Pagos Oportunos'!$X$41=1,'Simulador Pagos Oportunos'!$K$55,IF('Simulador Pagos Oportunos'!$X$41=2,'Simulador Pagos Oportunos'!$M$55,IF('Simulador Pagos Oportunos'!$X$41=3,'Simulador Pagos Oportunos'!$O$55,0)))))","v":0},null,0,null,null,null,0,0.11749999999999999,null,{"$f":"AE105","v":0.1225},0.1225,0.1225,0,0,7,6,0,0,0,0,0,0,0,0,{"$f":"IF(AO106=0,\"\",IF('Simulador Pagos Oportunos'!$X$41=4,AD106,IF('Simulador Pagos Oportunos'!$X$41=1,AE106,IF('Simulador Pagos Oportunos'!$X$41=2,AF106,IF('Simulador Pagos Oportunos'!$X$41=3,AG106,AC106)))))","v":""},{"$f":"IF(AO106<=0,0,IF('Simulador Pagos Oportunos'!$Y$71=1,0,AO106*'Simulador Pagos Oportunos'!$Y$74))+IF(AO106<=0,0,IF('Simulador Pagos Oportunos'!$X$41=4,'Simulador Pagos Oportunos'!$I$55,IF('Simulador Pagos Oportunos'!$X$41=1,'Simulador Pagos Oportunos'!$K$55,IF('Simulador Pagos Oportunos'!$X$41=2,'Simulador Pagos Oportunos'!$M$55,'Simulador Pagos Oportunos'!$O$55))))","v":0},null,0,0,"",0,90]
[91,0,null,{"$f":"IF(B107+F107-D106<=0,B107+F107,IF(A107=$B$9,$F$9,IF(A107=$B$10,$F$10,IF(AND('Simulador Pagos Oportunos'!$AH$45=2,L106=0),D106*(1+Z107),IF($AL$3=2,B107*AI107,D106*(1+Z107))))))","v":0},null,0,null,0,null,null,null,null,null,{"$f":"IF('Simulador Pagos Oportunos'!$V$66=1,0,L107*'Simulador Pagos Oportunos'!$O$69*'Simulador Pagos Oportunos'!$W$65)","v":0},null,{"$f":"IF(B107=0,\"\",IF('Simulador Pagos Oportunos'!$X$41=4,AD107,IF('Simulador Pagos Oportunos'!$X$41=1,AE107,IF('Simulador Pagos Oportunos'!$X$41=2,AF107,IF('Simulador Pagos Oportunos'!$X$41=3,AG107,AC107)))))","v":""},null,0,null,{"$f":"IF(B107<=0,0,B107*IF('Simulador Pagos Oportunos'!$Y$71=1,0,'Simulador Pagos Oportunos'!$Y$74))","v":0},null,{"$f":"IF(B107=0,0,IF('Simulador Pagos Oportunos'!$X$41=4,'Simulador Pagos Oportunos'!$I$55,IF('Simulador Pagos Oportunos'!$X$41=1,'Simulador Pagos Oportunos'!$K$55,IF('Simulador Pagos Oportunos'!$X$41=2,'Simulador Pagos Oportunos'!$M$55,IF('Simulador Pagos Oportunos'!$X$41=3,'Simulador Pagos Oportunos'!$O$55,0)))))","v":0},null,0,null,null,null,0,0.11749999999999999,null,0.1225,0.1225,0.1225,0,0,7,7,0,0,0,0,0,0,0,0,{"$f":"IF(AO107=0,\"\",IF('Simulador Pagos Oportunos'!$X$41=4,AD107,IF('Simulador Pagos Oportunos'!$X$41=1,AE107,IF('Simulador Pagos Oportunos'!$X$41=2,AF107,IF('Simulador Pagos Oportunos'!$X$41=3,AG107,AC107)))))","v":""},{"$f":"IF(AO107<=0,0,IF('Simulador Pagos Oportunos'!$Y$71=1,0,AO107*'Simulador Pagos Oportunos'!$Y$74))+IF(AO107<=0,0,IF('Simulador Pagos Oportunos'!$X$41=4,'Simulador Pagos Oportunos'!$I$55,IF('Simulador Pagos Oportunos'!$X$41=1,'Simulador Pagos Oportunos'!$K$55,IF('Simulador Pagos Oportunos'!$X$41=2,'Simulador Pagos Oportunos'!$M$55,'Simulador Pagos Oportunos'!$O$55))))","v":0},null,0,0,"",0,91]
[92,0,null,{"$f":"IF(B108+F108-D107<=0,B108+F108,IF(A108=$B$9,$F$9,IF(A108=$B$10,$F$10,IF(AND('Simulador Pagos Oportunos'!$AH$45=2,L107=0),D107*(1+Z108),IF($AL$3=2,B108*AI108,D107*(1+Z108))))))","v":0},null,0,null,0,null,{"$f":"IF(B108-H108=0,0,J106)","v":0},null,null,null,{"$f":"IF('Simulador Pagos Oportunos'!$V$66=1,0,L108*'Simulador Pagos Oportunos'!$O$69*'Simulador Pagos Oportunos'!$W$65)","v":0},null,{"$f":"IF(B108=0,\"\",IF('Simulador Pagos Oportunos'!$X$41=4,AD108,IF('Simulador Pagos Oportunos'!$X$41=1,AE108,IF('Simulador Pagos Oportunos'!$X$41=2,AF108,IF('Simulador Pagos Oportunos'!$X$41=3,AG108,AC108)))))","v":""},null,0,null,{"$f":"IF(B108<=0,0,B108*IF('Simulador Pagos Oportunos'!$Y$71=1,0,'Simulador Pagos Oportunos'!$Y$74))","v":0},null,{"$f":"IF(B108=0,0,IF('Simulador Pagos Oportunos'!$X$41=4,'Simulador Pagos Oportunos'!$I$55,IF('Simulador Pagos Oportunos'!$X$41=1,'Simulador Pagos Oportunos'!$K$55,IF('Simulador Pagos Oportunos'!$X$41=2,'Simulador Pagos Oportunos'!$M$55,IF('Simulador Pagos Oportunos'!$X$41=3,'Simulador Pagos Oportunos'!$O$55,0)))))","v":0},null,0,null,null,null,0,0.11749999999999999,null,0.1225,0.1225,0.1225,0,0,7,8,0,0,0,0,0,0,0,0,{"$f":"IF(AO108=0,\"\",IF('Simulador Pagos Oportunos'!$X$41=4,AD108,IF('Simulador Pagos Oportunos'!$X$41=1,AE108,IF('Simulador Pagos Oportunos'!$X$41=2,AF108,IF('Simulador Pagos Oportunos'!$X$41=3,AG108,AC108)))))","v":""},{"$f":"IF(AO108<=0,0,IF('Simulador Pagos Oportunos'!$Y$71=1,0,AO108*'Simulador Pagos Oportunos'!$Y$74))+IF(AO108<=0,0,IF('Simulador Pagos Oportunos'!$X$41=4,'Simulador Pagos Oportunos'!$I$55,IF('Simulador Pagos Oportunos'!$X$41=1,'Simulador Pagos Oportunos'!$K$55,IF('Simulador Pagos Oportunos'!$X$41=2,'Simulador Pagos Oportunos'!$M$55,'Simulador Pagos Oportunos'!$O$55))))","v":0},null,0,0,"",0,92]
[93,0,null,{"$f":"IF(B109+F109-D108<=0,B109+F109,IF(A109=$B$9,$F$9,IF(A109=$B$10,$F$10,IF(AND('Simulador Pagos Oportunos'!$AH$45=2,L108=0),D108*(1+Z109),IF($AL$3=2,B109*AI109,D108*(1+Z109))))))","v":0},null,0,null,0,null,null,null,null,null,{"$f":"IF('Simulador Pagos Oportunos'!$V$66=1,0,L109*'Simulador Pagos Oportunos'!$O$69*'Simulador Pagos Oportunos'!$W$65)","v":0},null,{"$f":"IF(B109=0,\"\",IF('Simulador Pagos Oportunos'!$X$41=4,AD109,IF('Simulador Pagos Oportunos'!$X$41=1,AE109,IF('Simulador Pagos Oportunos'!$X$41=2,AF109,IF('Simulador Pagos Oportunos'!$X$41=3,AG109,AC109)))))","v":""},null,0,null,{"$f":"IF(B109<=0,0,B109*IF('Simulador Pagos Oportunos'!$Y$71=1,0,'Simulador Pagos Oportunos'!$Y$74))","v":0},null,{"$f":"IF(B109=0,0,IF('Simulador Pagos Oportunos'!$X$41=4,'Simulador Pagos Oportunos'!$I$55,IF('Simulador Pagos Oportunos'!$X$41=1,'Simulador Pagos Oportunos'!$K$55,IF('Simulador Pagos Oportunos'!$X$41=2,'Simulador Pagos Oportunos'!$M$55,IF('Simulador Pagos Oportunos'!$X$41=3,'Simulador Pagos Oportunos'!$O$55,0)))))","v":0},null,0,null,null,null,0,0.11749999999999999,null,0.1225,0.1225,0.1225,0,0,7,9,0,0,0,0,0,0,0,0,{"$f":"IF(AO109=0,\"\",IF('Simulador Pagos Oportunos'!$X$41=4,AD109,IF('Simulador Pagos Oportunos'!$X$41=1,AE109,IF('Simulador Pagos Oportunos'!$X$41=2,AF109,IF('Simulador Pagos Oportunos'!$X$41=3,AG109,AC109)))))","v":""},{"$f":"IF(AO109<=0,0,IF('Simulador Pagos Oportunos'!$Y$71=1,0,AO109*'Simulador Pagos Oportunos'!$Y$74))+IF(AO109<=0,0,IF('Simulador Pagos Oportunos'!$X$41=4,'Simulador Pagos Oportunos'!$I$55,IF('Simulador Pagos Oportunos'!$X$41=1,'Simulador Pagos Oportunos'!$K$55,IF('Simulador Pagos Oportunos'!$X$41=2,'Simulador Pagos Oportunos'!$M$55,'Simulador Pagos Oportunos'!$O$55))))","v":0},null,0,0,"",0,93]
[94,0,null,{"$f":"IF(B110+F110-D109<=0,B110+F110,IF(A110=$B$9,$F$9,IF(A110=$B$10,$F$10,IF(AND('Simulador Pagos Oportunos'!$AH$45=2,L109=0),D109*(1+Z110),IF($AL$3=2,B110*AI110,D109*(1+Z110))))))","v":0},null,0,null,0,null,{"$f":"IF(B110-H110=0,0,J108)","v":0},null,null,null,{"$f":"IF('Simulador Pagos Oportunos'!$V$66=1,0,L110*'Simulador Pagos Oportunos'!$O$69*'Simulador Pagos Oportunos'!$W$65)","v":0},null,{"$f":"IF(B110=0,\"\",IF('Simulador Pagos Oportunos'!$X$41=4,AD110,IF('Simulador Pagos Oportunos'!$X$41=1,AE110,IF('Simulador Pagos Oportunos'!$X$41=2,AF110,IF('Simulador Pagos Oportunos'!$X$41=3,AG110,AC110)))))","v":""},null,0,null,{"$f":"IF(B110<=0,0,B110*IF('Simulador Pagos Oportunos'!$Y$71=1,0,'Simulador Pagos Oportunos'!$Y$74))","v":0},null,{"$f":"IF(B110=0,0,IF('Simulador Pagos Oportunos'!$X$41=4,'Simulador Pagos Oportunos'!$I$55,IF('Simulador Pagos Oportunos'!$X$41=1,'Simulador Pagos Oportunos'!$K$55,IF('Simulador Pagos Oportunos'!$X$41=2,'Simulador Pagos Oportunos'!$M$55,IF('Simulador Pagos Oportunos'!$X$41=3,'Simulador Pagos Oportunos'!$O$55,0)))))","v":0},null,0,null,null,null,0,0.11749999999999999,null,0.1225,0.1225,0.1225,0,0,7,10,0,0,0,0,0,0,0,0,{"$f":"IF(AO110=0,\"\",IF('Simulador Pagos Oportunos'!$X$41=4,AD110,IF('Simulador Pagos Oportunos'!$X$41=1,AE110,IF('Simulador Pagos Oportunos'!$X$41=2,AF110,IF('Simulador Pagos Oportunos'!$X$41=3,AG110,AC110)))))","v":""},{"$f":"IF(AO110<=0,0,IF('Simulador Pagos Oportunos'!$Y$71=1,0,AO110*'Simulador Pagos Oportunos'!$Y$74))+IF(AO110<=0,0,IF('Simulador Pagos Oportunos'!$X$41=4,'Simulador Pagos Oportunos'!$I$55,IF('Simulador Pagos Oportunos'!$X$41=1,'Simulador Pagos Oportunos'!$K$55,IF('Simulador Pagos Oportunos'!$X$41=2,'Simulador Pagos Oportunos'!$M$55,'Simulador Pagos Oportunos'!$O$55))))","v":0},null,0,0,"",0,94]
[95,0,null,{"$f":"IF(B111+F111-D110<=0,B111+F111,IF(A111=$B$9,$F$9,IF(A111=$B$10,$F$10,IF(AND('Simulador Pagos Oportunos'!$AH$45=2,L110=0),D110*(1+Z111),IF($AL$3=2,B111*AI111,D110*(1+Z111))))))","v":0},null,0,null,0,null,null,null,null,null,{"$f":"IF('Simulador Pagos Oportunos'!$V$66=1,0,L111*'Simulador Pagos Oportunos'!$O$69*'Simulador Pagos Oportunos'!$W$65)","v":0},null,{"$f":"IF(B111=0,\"\",IF('Simulador Pagos Oportunos'!$X$41=4,AD111,IF('Simulador Pagos Oportunos'!$X$41=1,AE111,IF('Simulador Pagos Oportunos'!$X$41=2,AF111,IF('Simulador Pagos Oportunos'!$X$41=3,AG111,AC111)))))","v":""},null,0,null,{"$f":"IF(B111<=0,0,B111*IF('Simulador Pagos Oportunos'!$Y$71=1,0,'Simulador Pagos Oportunos'!$Y$74))","v":0},null,{"$f":"IF(B111=0,0,IF('Simulador Pagos Oportunos'!$X$41=4,'Simulador Pagos Oportunos'!$I$55,IF('Simulador Pagos Oportunos'!$X$41=1,'Simulador Pagos Oportunos'!$K$55,IF('Simulador Pagos Oportunos'!$X$41=2,'Simulador Pagos Oportunos'!$M$55,IF('Simulador Pagos Oportunos'!$X$41=3,'Simulador Pagos Oportunos'!$O$55,0)))))","v":0},null,0,null,null,null,0,0.11749999999999999,null,0.1225,0.1225,0.1225,0,0,7,11,0,0,0,0,0,0,0,0,{"$f":"IF(AO111=0,\"\",IF('Simulador Pagos Oportunos'!$X$41=4,AD111,IF('Simulador Pagos Oportunos'!$X$41=1,AE111,IF('Simulador Pagos Oportunos'!$X$41=2,AF111,IF('Simulador Pagos Oportunos'!$X$41=3,AG111,AC111)))))","v":""},{"$f":"IF(AO111<=0,0,IF('Simulador Pagos Oportunos'!$Y$71=1,0,AO111*'Simulador Pagos Oportunos'!$Y$74))+IF(AO111<=0,0,IF('Simulador Pagos Oportunos'!$X$41=4,'Simulador Pagos Oportunos'!$I$55,IF('Simulador Pagos Oportunos'!$X$41=1,'Simulador Pagos Oportunos'!$K$55,IF('Simulador Pagos Oportunos'!$X$41=2,'Simulador Pagos Oportunos'!$M$55,'Simulador Pagos Oportunos'!$O$55))))","v":0},null,0,0,"",0,95]
[96,0,null,{"$f":"IF(B112+F112-D111<=0,B112+F112,IF(A112=$B$9,$F$9,IF(A112=$B$10,$F$10,IF(AND('Simulador Pagos Oportunos'!$AH$45=2,L111=0),D111*(1+Z112),IF($AL$3=2,B112*AI112,D111*(1+Z112))))))","v":0},null,0,null,0,null,{"$f":"IF(B112-H112=0,0,J110)","v":0},null,null,null,{"$f":"IF('Simulador Pagos Oportunos'!$V$66=1,0,L112*'Simulador Pagos Oportunos'!$O$69*'Simulador Pagos Oportunos'!$W$65)","v":0},null,{"$f":"IF(B112=0,\"\",IF('Simulador Pagos Oportunos'!$X$41=4,AD112,IF('Simulador Pagos Oportunos'!$X$41=1,AE112,IF('Simulador Pagos Oportunos'!$X$41=2,AF112,IF('Simulador Pagos Oportunos'!$X$41=3,AG112,AC112)))))","v":""},null,0,null,{"$f":"IF(B112<=0,0,B112*IF('Simulador Pagos Oportunos'!$Y$71=1,0,'Simulador Pagos Oportunos'!$Y$74))","v":0},null,{"$f":"IF(B112=0,0,IF('Simulador Pagos Oportunos'!$X$41=4,'Simulador Pagos Oportunos'!$I$55,IF('Simulador Pagos Oportunos'!$X$41=1,'Simulador Pagos Oportunos'!$K$55,IF('Simulador Pagos Oportunos'!$X$41=2,'Simulador Pagos Oportunos'!$M$55,IF('Simulador Pagos Oportunos'!$X$41=3,'Simulador Pagos Oportunos'!$O$55,0)))))","v":0},null,0,null,null,null,0,0.11749999999999999,null,0.1225,0.1225,0.1225,0,0,8,0,0,0,0,0,0,0,0,0,{"$f":"IF(AO112=0,\"\",IF('Simulador Pagos Oportunos'!$X$41=4,AD112,IF('Simulador Pagos Oportunos'!$X$41=1,AE112,IF('Simulador Pagos Oportunos'!$X$41=2,AF112,IF('Simulador Pagos Oportunos'!$X$41=3,AG112,AC112)))))","v":""},{"$f":"IF(AO112<=0,0,IF('Simulador Pagos Oportunos'!$Y$71=1,0,AO112*'Simulador Pagos Oportunos'!$Y$74))+IF(AO112<=0,0,IF('Simulador Pagos Oportunos'!$X$41=4,'Simulador Pagos Oportunos'!$I$55,IF('Simulador Pagos Oportunos'!$X$41=1,'Simulador Pagos Oportunos'!$K$55,IF('Simulador Pagos Oportunos'!$X$41=2,'Simulador Pagos Oportunos'!$M$55,'Simulador Pagos Oportunos'!$O$55))))","v":0},null,0,0,"",0,96]
[97,0,null,{"$f":"IF(B113+F113-D112<=0,B113+F113,IF(A113=$B$9,$F$9,IF(A113=$B$10,$F$10,IF(AND('Simulador Pagos Oportunos'!$AH$45=2,L112=0),D112*(1+Z113),IF($AL$3=2,B113*AI113,D112*(1+Z113))))))","v":0},null,0,null,0,null,null,null,null,null,{"$f":"IF('Simulador Pagos Oportunos'!$V$66=1,0,L113*'Simulador Pagos Oportunos'!$O$69*'Simulador Pagos Oportunos'!$W$65)","v":0},null,{"$f":"IF(B113=0,\"\",IF('Simulador Pagos Oportunos'!$X$41=4,AD113,IF('Simulador Pagos Oportunos'!$X$41=1,AE113,IF('Simulador Pagos Oportunos'!$X$41=2,AF113,IF('Simulador Pagos Oportunos'!$X$41=3,AG113,AC113)))))","v":""},null,0,null,{"$f":"IF(B113<=0,0,B113*IF('Simulador Pagos Oportunos'!$Y$71=1,0,'Simulador Pagos Oportunos'!$Y$74))","v":0},null,{"$f":"IF(B113=0,0,IF('Simulador Pagos Oportunos'!$X$41=4,'Simulador Pagos Oportunos'!$I$55,IF('Simulador Pagos Oportunos'!$X$41=1,'Simulador Pagos Oportunos'!$K$55,IF('Simulador Pagos Oportunos'!$X$41=2,'Simulador Pagos Oportunos'!$M$55,IF('Simulador Pagos Oportunos'!$X$41=3,'Simulador Pagos Oportunos'!$O$55,0)))))","v":0},null,0,null,{"$f":"IF(B113<=0,0,'Simulador Pagos Oportunos'!$AI$54)","v":0},null,0,{"$f":"IF(AC112=$AC$5,AC112,IF(AC112-0.25%<=$AC$5,$AC$5,AC112-0.25%))","v":0.11499999999999999},null,0.1225,0.1225,0.1225,0,0,8,1,0,0,0,0,0,0,0,0,{"$f":"IF(AO113=0,\"\",IF('Simulador Pagos Oportunos'!$X$41=4,AD113,IF('Simulador Pagos Oportunos'!$X$41=1,AE113,IF('Simulador Pagos Oportunos'!$X$41=2,AF113,IF('Simulador Pagos Oportunos'!$X$41=3,AG113,AC113)))))","v":""},{"$f":"IF(AO113<=0,0,IF('Simulador Pagos Oportunos'!$Y$71=1,0,AO113*'Simulador Pagos Oportunos'!$Y$74))+IF(AO113<=0,0,IF('Simulador Pagos Oportunos'!$X$41=4,'Simulador Pagos Oportunos'!$I$55,IF('Simulador Pagos Oportunos'!$X$41=1,'Simulador Pagos Oportunos'!$K$55,IF('Simulador Pagos Oportunos'!$X$41=2,'Simulador Pagos Oportunos'!$M$55,'Simulador Pagos Oportunos'!$O$55))))","v":0},{"$f":"IF(AO113<=0,0,$AV$29)","v":0},0,0,"",0,97]
[98,0,null,{"$f":"IF(B114+F114-D113<=0,B114+F114,IF(A114=$B$9,$F$9,IF(A114=$B$10,$F$10,IF(AND('Simulador Pagos Oportunos'!$AH$45=2,L113=0),D113*(1+Z114),IF($AL$3=2,B114*AI114,D113*(1+Z114))))))","v":0},null,0,null,0,null,{"$f":"IF(B114-H114=0,0,J112*(1+(3%)))","v":0},null,null,null,{"$f":"IF('Simulador Pagos Oportunos'!$V$66=1,0,L114*'Simulador Pagos Oportunos'!$O$69*'Simulador Pagos Oportunos'!$W$65)","v":0},null,{"$f":"IF(B114=0,\"\",IF('Simulador Pagos Oportunos'!$X$41=4,AD114,IF('Simulador Pagos Oportunos'!$X$41=1,AE114,IF('Simulador Pagos Oportunos'!$X$41=2,AF114,IF('Simulador Pagos Oportunos'!$X$41=3,AG114,AC114)))))","v":""},null,0,null,{"$f":"IF(B114<=0,0,B114*IF('Simulador Pagos Oportunos'!$Y$71=1,0,'Simulador Pagos Oportunos'!$Y$74))","v":0},null,{"$f":"IF(B114=0,0,IF('Simulador Pagos Oportunos'!$X$41=4,'Simulador Pagos Oportunos'!$I$55,IF('Simulador Pagos Oportunos'!$X$41=1,'Simulador Pagos Oportunos'!$K$55,IF('Simulador Pagos Oportunos'!$X$41=2,'Simulador Pagos Oportunos'!$M$55,IF('Simulador Pagos Oportunos'!$X$41=3,'Simulador Pagos Oportunos'!$O$55,0)))))","v":0},null,0,null,null,null,0,{"$f":"AC113","v":0.11499999999999999},null,0.1225,0.1225,0.1225,0,0,8,2,0,0,0,0,0,0,0,0,{"$f":"IF(AO114=0,\"\",IF('Simulador Pagos Oportunos'!$X$41=4,AD114,IF('Simulador Pagos Oportunos'!$X$41=1,AE114,IF('Simulador Pagos Oportunos'!$X$41=2,AF114,IF('Simulador Pagos Oportunos'!$X$41=3,AG114,AC114)))))","v":""},{"$f":"IF(AO114<=0,0,IF('Simulador Pagos Oportunos'!$Y$71=1,0,AO114*'Simulador Pagos Oportunos'!$Y$74))+IF(AO114<=0,0,IF('Simulador Pagos Oportunos'!$X$41=4,'Simulador Pagos Oportunos'!$I$55,IF('Simulador Pagos Oportunos'!$X$41=1,'Simulador Pagos Oportunos'!$K$55,IF('Simulador Pagos Oportunos'!$X$41=2,'Simulador Pagos Oportunos'!$M$55,'Simulador Pagos Oportunos'!$O$55))))","v":0},null,0,0,"",0,98]
[99,0,null,{"$f":"IF(B115+F115-D114<=0,B115+F115,IF(A115=$B$9,$F$9,IF(A115=$B$10,$F$10,IF(AND('Simulador Pagos Oportunos'!$AH$45=2,L114=0),D114*(1+Z115),IF($AL$3=2,B115*AI115,D114*(1+Z115))))))","v":0},null,0,null,0,null,null,null,null,null,{"$f":"IF('Simulador Pagos Oportunos'!$V$66=1,0,L115*'Simulador Pagos Oportunos'!$O$69*'Simulador Pagos Oportunos'!$W$65)","v":0},null,{"$f":"IF(B115=0,\"\",IF('Simulador Pagos Oportunos'!$X$41=4,AD115,IF('Simulador Pagos Oportunos'!$X$41=1,AE115,IF('Simulador Pagos Oportunos'!$X$41=2,AF115,IF('Simulador Pagos Oportunos'!$X$41=3,AG115,AC115)))))","v":""},null,0,null,{"$f":"IF(B115<=0,0,B115*IF('Simulador Pagos Oportunos'!$Y$71=1,0,'Simulador Pagos Oportunos'!$Y$74))","v":0},null,{"$f":"IF(B115=0,0,IF('Simulador Pagos Oportunos'!$X$41=4,'Simulador Pagos Oportunos'!$I$55,IF('Simulador Pagos Oportunos'!$X$41=1,'Simulador Pagos Oportunos'!$K$55,IF('Simulador Pagos Oportunos'!$X$41=2,'Simulador Pagos Oportunos'!$M$55,IF('Simulador Pagos Oportunos'!$X$41=3,'Simulador Pagos Oportunos'!$O$55,0)))))","v":0},null,0,null,null,null,0,{"$f":"AC114","v":0.11499999999999999},null,0.1225,0.1225,0.1225,0,0,8,3,0,0,0,0,0,0,0,0,{"$f":"IF(AO115=0,\"\",IF('Simulador Pagos Oportunos'!$X$41=4,AD115,IF('Simulador Pagos Oportunos'!$X$41=1,AE115,IF('Simulador Pagos Oportunos'!$X$41=2,AF115,IF('Simulador Pagos Oportunos'!$X$41=3,AG115,AC115)))))","v":""},{"$f":"IF(AO115<=0,0,IF('Simulador Pagos Oportunos'!$Y$71=1,0,AO115*'Simulador Pagos Oportunos'!$Y$74))+IF(AO115<=0,0,IF('Simulador Pagos Oportunos'!$X$41=4,'Simulador Pagos Oportunos'!$I$55,IF('Simulador Pagos Oportunos'!$X$41=1,'Simulador Pagos Oportunos'!$K$55,IF('Simulador Pagos Oportunos'!$X$41=2,'Simulador Pagos Oportunos'!$M$55,'Simulador Pagos Oportunos'!$O$55))))","v":0},null,0,0,"",0,99]
[100,0,null,{"$f":"IF(B116+F116-D115<=0,B116+F116,IF(A116=$B$9,$F$9,IF(A116=$B$10,$F$10,IF(AND('Simulador Pagos Oportunos'!$AH$45=2,L115=0),D115*(1+Z116),IF($AL$3=2,B116*AI116,D115*(1+Z116))))))","v":0},null,0,null,0,null,{"$f":"IF(B116-H116=0,0,J114)","v":0},null,null,null,{"$f":"IF('Simulador Pagos Oportunos'!$V$66=1,0,L116*'Simulador Pagos Oportunos'!$O$69*'Simulador Pagos Oportunos'!$W$65)","v":0},null,{"$f":"IF(B116=0,\"\",IF('Simulador Pagos Oportunos'!$X$41=4,AD116,IF('Simulador Pagos Oportunos'!$X$41=1,AE116,IF('Simulador Pagos Oportunos'!$X$41=2,AF116,IF('Simulador Pagos Oportunos'!$X$41=3,AG116,AC116)))))","v":""},null,0,null,{"$f":"IF(B116<=0,0,B116*IF('Simulador Pagos Oportunos'!$Y$71=1,0,'Simulador Pagos Oportunos'!$Y$74))","v":0},null,{"$f":"IF(B116=0,0,IF('Simulador Pagos Oportunos'!$X$41=4,'Simulador Pagos Oportunos'!$I$55,IF('Simulador Pagos Oportunos'!$X$41=1,'Simulador Pagos Oportunos'!$K$55,IF('Simulador Pagos Oportunos'!$X$41=2,'Simulador Pagos Oportunos'!$M$55,IF('Simulador Pagos Oportunos'!$X$41=3,'Simulador Pagos Oportunos'!$O$55,0)))))","v":0},null,0,null,null,null,0,0.11499999999999999,null,0.1225,0.1225,0.1225,0,0,8,4,0,0,0,0,0,0,0,0,{"$f":"IF(AO116=0,\"\",IF('Simulador Pagos Oportunos'!$X$41=4,AD116,IF('Simulador Pagos Oportunos'!$X$41=1,AE116,IF('Simulador Pagos Oportunos'!$X$41=2,AF116,IF('Simulador Pagos Oportunos'!$X$41=3,AG116,AC116)))))","v":""},{"$f":"IF(AO116<=0,0,IF('Simulador Pagos Oportunos'!$Y$71=1,0,AO116*'Simulador Pagos Oportunos'!$Y$74))+IF(AO116<=0,0,IF('Simulador Pagos Oportunos'!$X$41=4,'Simulador Pagos Oportunos'!$I$55,IF('Simulador Pagos Oportunos'!$X$41=1,'Simulador Pagos Oportunos'!$K$55,IF('Simulador Pagos Oportunos'!$X$41=2,'Simulador Pagos Oportunos'!$M$55,'Simulador Pagos Oportunos'!$O$55))))","v":0},null,0,0,"",0,100]
[101,0,null,{"$f":"IF(B117+F117-D116<=0,B117+F117,IF(A117=$B$9,$F$9,IF(A117=$B$10,$F$10,IF(AND('Simulador Pagos Oportunos'!$AH$45=2,L116=0),D116*(1+Z117),IF($AL$3=2,B117*AI117,D116*(1+Z117))))))","v":0},null,0,null,0,null,null,null,null,null,{"$f":"IF('Simulador Pagos Oportunos'!$V$66=1,0,L117*'Simulador Pagos Oportunos'!$O$69*'Simulador Pagos Oportunos'!$W$65)","v":0},null,{"$f":"IF(B117=0,\"\",IF('Simulador Pagos Oportunos'!$X$41=4,AD117,IF('Simulador Pagos Oportunos'!$X$41=1,AE117,IF('Simulador Pagos Oportunos'!$X$41=2,AF117,IF('Simulador Pagos Oportunos'!$X$41=3,AG117,AC117)))))","v":""},null,0,null,{"$f":"IF(B117<=0,0,B117*IF('Simulador Pagos Oportunos'!$Y$71=1,0,'Simulador Pagos Oportunos'!$Y$74))","v":0},null,{"$f":"IF(B117=0,0,IF('Simulador Pagos Oportunos'!$X$41=4,'Simulador Pagos Oportunos'!$I$55,IF('Simulador Pagos Oportunos'!$X$41=1,'Simulador Pagos Oportunos'!$K$55,IF('Simulador Pagos Oportunos'!$X$41=2,'Simulador Pagos Oportunos'!$M$55,IF('Simulador Pagos Oportunos'!$X$41=3,'Simulador Pagos Oportunos'!$O$55,0)))))","v":0},null,0,null,null,null,0,0.11499999999999999,null,0.1225,0.1225,0.1225,0,0,8,5,0,0,0,0,0,0,0,0,{"$f":"IF(AO117=0,\"\",IF('Simulador Pagos Oportunos'!$X$41=4,AD117,IF('Simulador Pagos Oportunos'!$X$41=1,AE117,IF('Simulador Pagos Oportunos'!$X$41=2,AF117,IF('Simulador Pagos Oportunos'!$X$41=3,AG117,AC117)))))","v":""},{"$f":"IF(AO117<=0,0,IF('Simulador Pagos Oportunos'!$Y$71=1,0,AO117*'Simulador Pagos Oportunos'!$Y$74))+IF(AO117<=0,0,IF('Simulador Pagos Oportunos'!$X$41=4,'Simulador Pagos Oportunos'!$I$55,IF('Simulador Pagos Oportunos'!$X$41=1,'Simulador Pagos Oportunos'!$K$55,IF('Simulador Pagos Oportunos'!$X$41=2,'Simulador Pagos Oportunos'!$M$55,'Simulador Pagos Oportunos'!$O$55))))","v":0},null,0,0,"",0,101]
[102,0,null,{"$f":"IF(B118+F118-D117<=0,B118+F118,IF(A118=$B$9,$F$9,IF(A118=$B$10,$F$10,IF(AND('Simulador Pagos Oportunos'!$AH$45=2,L117=0),D117*(1+Z118),IF($AL$3=2,B118*AI118,D117*(1+Z118))))))","v":0},null,0,null,0,null,{"$f":"IF(B118-H118=0,0,J116)","v":0},null,null,null,{"$f":"IF('Simulador Pagos Oportunos'!$V$66=1,0,L118*'Simulador Pagos Oportunos'!$O$69*'Simulador Pagos Oportunos'!$W$65)","v":0},null,{"$f":"IF(B118=0,\"\",IF('Simulador Pagos Oportunos'!$X$41=4,AD118,IF('Simulador Pagos Oportunos'!$X$41=1,AE118,IF('Simulador Pagos Oportunos'!$X$41=2,AF118,IF('Simulador Pagos Oportunos'!$X$41=3,AG118,AC118)))))","v":""},null,0,null,{"$f":"IF(B118<=0,0,B118*IF('Simulador Pagos Oportunos'!$Y$71=1,0,'Simulador Pagos Oportunos'!$Y$74))","v":0},null,{"$f":"IF(B118=0,0,IF('Simulador Pagos Oportunos'!$X$41=4,'Simulador Pagos Oportunos'!$I$55,IF('Simulador Pagos Oportunos'!$X$41=1,'Simulador Pagos Oportunos'!$K$55,IF('Simulador Pagos Oportunos'!$X$41=2,'Simulador Pagos Oportunos'!$M$55,IF('Simulador Pagos Oportunos'!$X$41=3,'Simulador Pagos Oportunos'!$O$55,0)))))","v":0},null,0,null,null,null,0,0.11499999999999999,null,0.1225,0.1225,0.1225,0,0,8,6,0,0,0,0,0,0,0,0,{"$f":"IF(AO118=0,\"\",IF('Simulador Pagos Oportunos'!$X$41=4,AD118,IF('Simulador Pagos Oportunos'!$X$41=1,AE118,IF('Simulador Pagos Oportunos'!$X$41=2,AF118,IF('Simulador Pagos Oportunos'!$X$41=3,AG118,AC118)))))","v":""},{"$f":"IF(AO118<=0,0,IF('Simulador Pagos Oportunos'!$Y$71=1,0,AO118*'Simulador Pagos Oportunos'!$Y$74))+IF(AO118<=0,0,IF('Simulador Pagos Oportunos'!$X$41=4,'Simulador Pagos Oportunos'!$I$55,IF('Simulador Pagos Oportunos'!$X$41=1,'Simulador Pagos Oportunos'!$K$55,IF('Simulador Pagos Oportunos'!$X$41=2,'Simulador Pagos Oportunos'!$M$55,'Simulador Pagos Oportunos'!$O$55))))","v":0},null,0,0,"",0,102]
[103,0,null,{"$f":"IF(B119+F119-D118<=0,B119+F119,IF(A119=$B$9,$F$9,IF(A119=$B$10,$F$10,IF(AND('Simulador Pagos Oportunos'!$AH$45=2,L118=0),D118*(1+Z119),IF($AL$3=2,B119*AI119,D118*(1+Z119))))))","v":0},null,0,null,0,null,null,null,null,null,{"$f":"IF('Simulador Pagos Oportunos'!$V$66=1,0,L119*'Simulador Pagos Oportunos'!$O$69*'Simulador Pagos Oportunos'!$W$65)","v":0},null,{"$f":"IF(B119=0,\"\",IF('Simulador Pagos Oportunos'!$X$41=4,AD119,IF('Simulador Pagos Oportunos'!$X$41=1,AE119,IF('Simulador Pagos Oportunos'!$X$41=2,AF119,IF('Simulador Pagos Oportunos'!$X$41=3,AG119,AC119)))))","v":""},null,0,null,{"$f":"IF(B119<=0,0,B119*IF('Simulador Pagos Oportunos'!$Y$71=1,0,'Simulador Pagos Oportunos'!$Y$74))","v":0},null,{"$f":"IF(B119=0,0,IF('Simulador Pagos Oportunos'!$X$41=4,'Simulador Pagos Oportunos'!$I$55,IF('Simulador Pagos Oportunos'!$X$41=1,'Simulador Pagos Oportunos'!$K$55,IF('Simulador Pagos Oportunos'!$X$41=2,'Simulador Pagos Oportunos'!$M$55,IF('Simulador Pagos Oportunos'!$X$41=3,'Simulador Pagos Oportunos'!$O$55,0)))))","v":0},null,0,null,null,null,0,0.11499999999999999,null,0.1225,0.1225,0.1225,0,0,8,7,0,0,0,0,0,0,0,0,{"$f":"IF(AO119=0,\"\",IF('Simulador Pagos Oportunos'!$X$41=4,AD119,IF('Simulador Pagos Oportunos'!$X$41=1,AE119,IF('Simulador Pagos Oportunos'!$X$41=2,AF119,IF('Simulador Pagos Oportunos'!$X$41=3,AG119,AC119)))))","v":""},{"$f":"IF(AO119<=0,0,IF('Simulador Pagos Oportunos'!$Y$71=1,0,AO119*'Simulador Pagos Oportunos'!$Y$74))+IF(AO119<=0,0,IF('Simulador Pagos Oportunos'!$X$41=4,'Simulador Pagos Oportunos'!$I$55,IF('Simulador Pagos Oportunos'!$X$41=1,'Simulador Pagos Oportunos'!$K$55,IF('Simulador Pagos Oportunos'!$X$41=2,'Simulador Pagos Oportunos'!$M$55,'Simulador Pagos Oportunos'!$O$55))))","v":0},null,0,0,"",0,103]
[104,0,null,{"$f":"IF(B120+F120-D119<=0,B120+F120,IF(A120=$B$9,$F$9,IF(A120=$B$10,$F$10,IF(AND('Simulador Pagos Oportunos'!$AH$45=2,L119=0),D119*(1+Z120),IF($AL$3=2,B120*AI120,D119*(1+Z120))))))","v":0},null,0,null,0,null,{"$f":"IF(B120-H120=0,0,J118)","v":0},null,null,null,{"$f":"IF('Simulador Pagos Oportunos'!$V$66=1,0,L120*'Simulador Pagos Oportunos'!$O$69*'Simulador Pagos Oportunos'!$W$65)","v":0},null,{"$f":"IF(B120=0,\"\",IF('Simulador Pagos Oportunos'!$X$41=4,AD120,IF('Simulador Pagos Oportunos'!$X$41=1,AE120,IF('Simulador Pagos Oportunos'!$X$41=2,AF120,IF('Simulador Pagos Oportunos'!$X$41=3,AG120,AC120)))))","v":""},null,0,null,{"$f":"IF(B120<=0,0,B120*IF('Simulador Pagos Oportunos'!$Y$71=1,0,'Simulador Pagos Oportunos'!$Y$74))","v":0},null,{"$f":"IF(B120=0,0,IF('Simulador Pagos Oportunos'!$X$41=4,'Simulador Pagos Oportunos'!$I$55,IF('Simulador Pagos Oportunos'!$X$41=1,'Simulador Pagos Oportunos'!$K$55,IF('Simulador Pagos Oportunos'!$X$41=2,'Simulador Pagos Oportunos'!$M$55,IF('Simulador Pagos Oportunos'!$X$41=3,'Simulador Pagos Oportunos'!$O$55,0)))))","v":0},null,0,null,null,null,0,0.11499999999999999,null,0.1225,0.1225,0.1225,0,0,8,8,0,0,0,0,0,0,0,0,{"$f":"IF(AO120=0,\"\",IF('Simulador Pagos Oportunos'!$X$41=4,AD120,IF('Simulador Pagos Oportunos'!$X$41=1,AE120,IF('Simulador Pagos Oportunos'!$X$41=2,AF120,IF('Simulador Pagos Oportunos'!$X$41=3,AG120,AC120)))))","v":""},{"$f":"IF(AO120<=0,0,IF('Simulador Pagos Oportunos'!$Y$71=1,0,AO120*'Simulador Pagos Oportunos'!$Y$74))+IF(AO120<=0,0,IF('Simulador Pagos Oportunos'!$X$41=4,'Simulador Pagos Oportunos'!$I$55,IF('Simulador Pagos Oportunos'!$X$41=1,'Simulador Pagos Oportunos'!$K$55,IF('Simulador Pagos Oportunos'!$X$41=2,'Simulador Pagos Oportunos'!$M$55,'Simulador Pagos Oportunos'!$O$55))))","v":0},null,0,0,"",0,104]
[105,0,null,{"$f":"IF(B121+F121-D120<=0,B121+F121,IF(A121=$B$9,$F$9,IF(A121=$B$10,$F$10,IF(AND('Simulador Pagos Oportunos'!$AH$45=2,L120=0),D120*(1+Z121),IF($AL$3=2,B121*AI121,D120*(1+Z121))))))","v":0},null,0,null,0,null,null,null,null,null,{"$f":"IF('Simulador Pagos Oportunos'!$V$66=1,0,L121*'Simulador Pagos Oportunos'!$O$69*'Simulador Pagos Oportunos'!$W$65)","v":0},null,{"$f":"IF(B121=0,\"\",IF('Simulador Pagos Oportunos'!$X$41=4,AD121,IF('Simulador Pagos Oportunos'!$X$41=1,AE121,IF('Simulador Pagos Oportunos'!$X$41=2,AF121,IF('Simulador Pagos Oportunos'!$X$41=3,AG121,AC121)))))","v":""},null,0,null,{"$f":"IF(B121<=0,0,B121*IF('Simulador Pagos Oportunos'!$Y$71=1,0,'Simulador Pagos Oportunos'!$Y$74))","v":0},null,{"$f":"IF(B121=0,0,IF('Simulador Pagos Oportunos'!$X$41=4,'Simulador Pagos Oportunos'!$I$55,IF('Simulador Pagos Oportunos'!$X$41=1,'Simulador Pagos Oportunos'!$K$55,IF('Simulador Pagos Oportunos'!$X$41=2,'Simulador Pagos Oportunos'!$M$55,IF('Simulador Pagos Oportunos'!$X$41=3,'Simulador Pagos Oportunos'!$O$55,0)))))","v":0},null,0,null,null,null,0,0.11499999999999999,null,0.1225,0.1225,0.1225,0,0,8,9,0,0,0,0,0,0,0,0,{"$f":"IF(AO121=0,\"\",IF('Simulador Pagos Oportunos'!$X$41=4,AD121,IF('Simulador Pagos Oportunos'!$X$41=1,AE121,IF('Simulador Pagos Oportunos'!$X$41=2,AF121,IF('Simulador Pagos Oportunos'!$X$41=3,AG121,AC121)))))","v":""},{"$f":"IF(AO121<=0,0,IF('Simulador Pagos Oportunos'!$Y$71=1,0,AO121*'Simulador Pagos Oportunos'!$Y$74))+IF(AO121<=0,0,IF('Simulador Pagos Oportunos'!$X$41=4,'Simulador Pagos Oportunos'!$I$55,IF('Simulador Pagos Oportunos'!$X$41=1,'Simulador Pagos Oportunos'!$K$55,IF('Simulador Pagos Oportunos'!$X$41=2,'Simulador Pagos Oportunos'!$M$55,'Simulador Pagos Oportunos'!$O$55))))","v":0},null,0,0,"",0,105]
[106,0,null,{"$f":"IF(B122+F122-D121<=0,B122+F122,IF(A122=$B$9,$F$9,IF(A122=$B$10,$F$10,IF(AND('Simulador Pagos Oportunos'!$AH$45=2,L121=0),D121*(1+Z122),IF($AL$3=2,B122*AI122,D121*(1+Z122))))))","v":0},null,0,null,0,null,{"$f":"IF(B122-H122=0,0,J120)","v":0},null,null,null,{"$f":"IF('Simulador Pagos Oportunos'!$V$66=1,0,L122*'Simulador Pagos Oportunos'!$O$69*'Simulador Pagos Oportunos'!$W$65)","v":0},null,{"$f":"IF(B122=0,\"\",IF('Simulador Pagos Oportunos'!$X$41=4,AD122,IF('Simulador Pagos Oportunos'!$X$41=1,AE122,IF('Simulador Pagos Oportunos'!$X$41=2,AF122,IF('Simulador Pagos Oportunos'!$X$41=3,AG122,AC122)))))","v":""},null,0,null,{"$f":"IF(B122<=0,0,B122*IF('Simulador Pagos Oportunos'!$Y$71=1,0,'Simulador Pagos Oportunos'!$Y$74))","v":0},null,{"$f":"IF(B122=0,0,IF('Simulador Pagos Oportunos'!$X$41=4,'Simulador Pagos Oportunos'!$I$55,IF('Simulador Pagos Oportunos'!$X$41=1,'Simulador Pagos Oportunos'!$K$55,IF('Simulador Pagos Oportunos'!$X$41=2,'Simulador Pagos Oportunos'!$M$55,IF('Simulador Pagos Oportunos'!$X$41=3,'Simulador Pagos Oportunos'!$O$55,0)))))","v":0},null,0,null,null,null,0,0.11499999999999999,null,{"$f":"AE121","v":0.1225},0.1225,0.1225,0,0,8,10,0,0,0,0,0,0,0,0,{"$f":"IF(AO122=0,\"\",IF('Simulador Pagos Oportunos'!$X$41=4,AD122,IF('Simulador Pagos Oportunos'!$X$41=1,AE122,IF('Simulador Pagos Oportunos'!$X$41=2,AF122,IF('Simulador Pagos Oportunos'!$X$41=3,AG122,AC122)))))","v":""},{"$f":"IF(AO122<=0,0,IF('Simulador Pagos Oportunos'!$Y$71=1,0,AO122*'Simulador Pagos Oportunos'!$Y$74))+IF(AO122<=0,0,IF('Simulador Pagos Oportunos'!$X$41=4,'Simulador Pagos Oportunos'!$I$55,IF('Simulador Pagos Oportunos'!$X$41=1,'Simulador Pagos Oportunos'!$K$55,IF('Simulador Pagos Oportunos'!$X$41=2,'Simulador Pagos Oportunos'!$M$55,'Simulador Pagos Oportunos'!$O$55))))","v":0},null,0,0,"",0,106]
[107,0,null,{"$f":"IF(B123+F123-D122<=0,B123+F123,IF(A123=$B$9,$F$9,IF(A123=$B$10,$F$10,IF(AND('Simulador Pagos Oportunos'!$AH$45=2,L122=0),D122*(1+Z123),IF($AL$3=2,B123*AI123,D122*(1+Z123))))))","v":0},null,0,null,0,null,null,null,null,null,{"$f":"IF('Simulador Pagos Oportunos'!$V$66=1,0,L123*'Simulador Pagos Oportunos'!$O$69*'Simulador Pagos Oportunos'!$W$65)","v":0},null,{"$f":"IF(B123=0,\"\",IF('Simulador Pagos Oportunos'!$X$41=4,AD123,IF('Simulador Pagos Oportunos'!$X$41=1,AE123,IF('Simulador Pagos Oportunos'!$X$41=2,AF123,IF('Simulador Pagos Oportunos'!$X$41=3,AG123,AC123)))))","v":""},null,0,null,{"$f":"IF(B123<=0,0,B123*IF('Simulador Pagos Oportunos'!$Y$71=1,0,'Simulador Pagos Oportunos'!$Y$74))","v":0},null,{"$f":"IF(B123=0,0,IF('Simulador Pagos Oportunos'!$X$41=4,'Simulador Pagos Oportunos'!$I$55,IF('Simulador Pagos Oportunos'!$X$41=1,'Simulador Pagos Oportunos'!$K$55,IF('Simulador Pagos Oportunos'!$X$41=2,'Simulador Pagos Oportunos'!$M$55,IF('Simulador Pagos Oportunos'!$X$41=3,'Simulador Pagos Oportunos'!$O$55,0)))))","v":0},null,0,null,null,null,0,0.11499999999999999,null,0.1225,0.1225,0.1225,0,0,8,11,0,0,0,0,0,0,0,0,{"$f":"IF(AO123=0,\"\",IF('Simulador Pagos Oportunos'!$X$41=4,AD123,IF('Simulador Pagos Oportunos'!$X$41=1,AE123,IF('Simulador Pagos Oportunos'!$X$41=2,AF123,IF('Simulador Pagos Oportunos'!$X$41=3,AG123,AC123)))))","v":""},{"$f":"IF(AO123<=0,0,IF('Simulador Pagos Oportunos'!$Y$71=1,0,AO123*'Simulador Pagos Oportunos'!$Y$74))+IF(AO123<=0,0,IF('Simulador Pagos Oportunos'!$X$41=4,'Simulador Pagos Oportunos'!$I$55,IF('Simulador Pagos Oportunos'!$X$41=1,'Simulador Pagos Oportunos'!$K$55,IF('Simulador Pagos Oportunos'!$X$41=2,'Simulador Pagos Oportunos'!$M$55,'Simulador Pagos Oportunos'!$O$55))))","v":0},null,0,0,"",0,107]
[108,0,null,{"$f":"IF(B124+F124-D123<=0,B124+F124,IF(A124=$B$9,$F$9,IF(A124=$B$10,$F$10,IF(AND('Simulador Pagos Oportunos'!$AH$45=2,L123=0),D123*(1+Z124),IF($AL$3=2,B124*AI124,D123*(1+Z124))))))","v":0},null,0,null,0,null,{"$f":"IF(B124-H124=0,0,J122)","v":0},null,null,null,{"$f":"IF('Simulador Pagos Oportunos'!$V$66=1,0,L124*'Simulador Pagos Oportunos'!$O$69*'Simulador Pagos Oportunos'!$W$65)","v":0},null,{"$f":"IF(B124=0,\"\",IF('Simulador Pagos Oportunos'!$X$41=4,AD124,IF('Simulador Pagos Oportunos'!$X$41=1,AE124,IF('Simulador Pagos Oportunos'!$X$41=2,AF124,IF('Simulador Pagos Oportunos'!$X$41=3,AG124,AC124)))))","v":""},null,0,null,{"$f":"IF(B124<=0,0,B124*IF('Simulador Pagos Oportunos'!$Y$71=1,0,'Simulador Pagos Oportunos'!$Y$74))","v":0},null,{"$f":"IF(B124=0,0,IF('Simulador Pagos Oportunos'!$X$41=4,'Simulador Pagos Oportunos'!$I$55,IF('Simulador Pagos Oportunos'!$X$41=1,'Simulador Pagos Oportunos'!$K$55,IF('Simulador Pagos Oportunos'!$X$41=2,'Simulador Pagos Oportunos'!$M$55,IF('Simulador Pagos Oportunos'!$X$41=3,'Simulador Pagos Oportunos'!$O$55,0)))))","v":0},null,0,null,null,null,0,0.11499999999999999,null,0.1225,0.1225,0.1225,0,0,9,0,0,0,0,0,0,0,0,0,{"$f":"IF(AO124=0,\"\",IF('Simulador Pagos Oportunos'!$X$41=4,AD124,IF('Simulador Pagos Oportunos'!$X$41=1,AE124,IF('Simulador Pagos Oportunos'!$X$41=2,AF124,IF('Simulador Pagos Oportunos'!$X$41=3,AG124,AC124)))))","v":""},{"$f":"IF(AO124<=0,0,IF('Simulador Pagos Oportunos'!$Y$71=1,0,AO124*'Simulador Pagos Oportunos'!$Y$74))+IF(AO124<=0,0,IF('Simulador Pagos Oportunos'!$X$41=4,'Simulador Pagos Oportunos'!$I$55,IF('Simulador Pagos Oportunos'!$X$41=1,'Simulador Pagos Oportunos'!$K$55,IF('Simulador Pagos Oportunos'!$X$41=2,'Simulador Pagos Oportunos'!$M$55,'Simulador Pagos Oportunos'!$O$55))))","v":0},null,0,0,"",0,108]
[109,0,null,{"$f":"IF(B125+F125-D124<=0,B125+F125,IF(A125=$B$9,$F$9,IF(A125=$B$10,$F$10,IF(AND('Simulador Pagos Oportunos'!$AH$45=2,L124=0),D124*(1+Z125),IF($AL$3=2,B125*AI125,D124*(1+Z125))))))","v":0},null,0,null,0,null,null,null,null,null,{"$f":"IF('Simulador Pagos Oportunos'!$V$66=1,0,L125*'Simulador Pagos Oportunos'!$O$69*'Simulador Pagos Oportunos'!$W$65)","v":0},null,{"$f":"IF(B125=0,\"\",IF('Simulador Pagos Oportunos'!$X$41=4,AD125,IF('Simulador Pagos Oportunos'!$X$41=1,AE125,IF('Simulador Pagos Oportunos'!$X$41=2,AF125,IF('Simulador Pagos Oportunos'!$X$41=3,AG125,AC125)))))","v":""},null,0,null,{"$f":"IF(B125<=0,0,B125*IF('Simulador Pagos Oportunos'!$Y$71=1,0,'Simulador Pagos Oportunos'!$Y$74))","v":0},null,{"$f":"IF(B125=0,0,IF('Simulador Pagos Oportunos'!$X$41=4,'Simulador Pagos Oportunos'!$I$55,IF('Simulador Pagos Oportunos'!$X$41=1,'Simulador Pagos Oportunos'!$K$55,IF('Simulador Pagos Oportunos'!$X$41=2,'Simulador Pagos Oportunos'!$M$55,IF('Simulador Pagos Oportunos'!$X$41=3,'Simulador Pagos Oportunos'!$O$55,0)))))","v":0},null,0,null,{"$f":"IF(B125<=0,0,'Simulador Pagos Oportunos'!$AI$54)","v":0},null,0,{"$f":"IF(AC124=$AC$5,AC124,IF(AC124-0.25%<=$AC$5,$AC$5,AC124-0.25%))","v":0.11249999999999999},null,0.1225,0.1225,0.1225,0,0,9,1,0,0,0,0,0,0,0,0,{"$f":"IF(AO125=0,\"\",IF('Simulador Pagos Oportunos'!$X$41=4,AD125,IF('Simulador Pagos Oportunos'!$X$41=1,AE125,IF('Simulador Pagos Oportunos'!$X$41=2,AF125,IF('Simulador Pagos Oportunos'!$X$41=3,AG125,AC125)))))","v":""},{"$f":"IF(AO125<=0,0,IF('Simulador Pagos Oportunos'!$Y$71=1,0,AO125*'Simulador Pagos Oportunos'!$Y$74))+IF(AO125<=0,0,IF('Simulador Pagos Oportunos'!$X$41=4,'Simulador Pagos Oportunos'!$I$55,IF('Simulador Pagos Oportunos'!$X$41=1,'Simulador Pagos Oportunos'!$K$55,IF('Simulador Pagos Oportunos'!$X$41=2,'Simulador Pagos Oportunos'!$M$55,'Simulador Pagos Oportunos'!$O$55))))","v":0},{"$f":"IF(AO125<=0,0,$AV$29)","v":0},0,0,"",0,109]
[110,0,null,{"$f":"IF(B126+F126-D125<=0,B126+F126,IF(A126=$B$9,$F$9,IF(A126=$B$10,$F$10,IF(AND('Simulador Pagos Oportunos'!$AH$45=2,L125=0),D125*(1+Z126),IF($AL$3=2,B126*AI126,D125*(1+Z126))))))","v":0},null,0,null,0,null,{"$f":"IF(B126-H126=0,0,J124*(1+(3%)))","v":0},null,null,null,{"$f":"IF('Simulador Pagos Oportunos'!$V$66=1,0,L126*'Simulador Pagos Oportunos'!$O$69*'Simulador Pagos Oportunos'!$W$65)","v":0},null,{"$f":"IF(B126=0,\"\",IF('Simulador Pagos Oportunos'!$X$41=4,AD126,IF('Simulador Pagos Oportunos'!$X$41=1,AE126,IF('Simulador Pagos Oportunos'!$X$41=2,AF126,IF('Simulador Pagos Oportunos'!$X$41=3,AG126,AC126)))))","v":""},null,0,null,{"$f":"IF(B126<=0,0,B126*IF('Simulador Pagos Oportunos'!$Y$71=1,0,'Simulador Pagos Oportunos'!$Y$74))","v":0},null,{"$f":"IF(B126=0,0,IF('Simulador Pagos Oportunos'!$X$41=4,'Simulador Pagos Oportunos'!$I$55,IF('Simulador Pagos Oportunos'!$X$41=1,'Simulador Pagos Oportunos'!$K$55,IF('Simulador Pagos Oportunos'!$X$41=2,'Simulador Pagos Oportunos'!$M$55,IF('Simulador Pagos Oportunos'!$X$41=3,'Simulador Pagos Oportunos'!$O$55,0)))))","v":0},null,0,null,null,null,0,{"$f":"AC125","v":0.11249999999999999},null,0.1225,0.1225,0.1225,0,0,9,2,0,0,0,0,0,0,0,0,{"$f":"IF(AO126=0,\"\",IF('Simulador Pagos Oportunos'!$X$41=4,AD126,IF('Simulador Pagos Oportunos'!$X$41=1,AE126,IF('Simulador Pagos Oportunos'!$X$41=2,AF126,IF('Simulador Pagos Oportunos'!$X$41=3,AG126,AC126)))))","v":""},{"$f":"IF(AO126<=0,0,IF('Simulador Pagos Oportunos'!$Y$71=1,0,AO126*'Simulador Pagos Oportunos'!$Y$74))+IF(AO126<=0,0,IF('Simulador Pagos Oportunos'!$X$41=4,'Simulador Pagos Oportunos'!$I$55,IF('Simulador Pagos Oportunos'!$X$41=1,'Simulador Pagos Oportunos'!$K$55,IF('Simulador Pagos Oportunos'!$X$41=2,'Simulador Pagos Oportunos'!$M$55,'Simulador Pagos Oportunos'!$O$55))))","v":0},null,0,0,"",0,110]
[111,0,null,{"$f":"IF(B127+F127-D126<=0,B127+F127,IF(A127=$B$9,$F$9,IF(A127=$B$10,$F$10,IF(AND('Simulador Pagos Oportunos'!$AH$45=2,L126=0),D126*(1+Z127),IF($AL$3=2,B127*AI127,D126*(1+Z127))))))","v":0},null,0,null,0,null,null,null,null,null,{"$f":"IF('Simulador Pagos Oportunos'!$V$66=1,0,L127*'Simulador Pagos Oportunos'!$O$69*'Simulador Pagos Oportunos'!$W$65)","v":0},null,{"$f":"IF(B127=0,\"\",IF('Simulador Pagos Oportunos'!$X$41=4,AD127,IF('Simulador Pagos Oportunos'!$X$41=1,AE127,IF('Simulador Pagos Oportunos'!$X$41=2,AF127,IF('Simulador Pagos Oportunos'!$X$41=3,AG127,AC127)))))","v":""},null,0,null,{"$f":"IF(B127<=0,0,B127*IF('Simulador Pagos Oportunos'!$Y$71=1,0,'Simulador Pagos Oportunos'!$Y$74))","v":0},null,{"$f":"IF(B127=0,0,IF('Simulador Pagos Oportunos'!$X$41=4,'Simulador Pagos Oportunos'!$I$55,IF('Simulador Pagos Oportunos'!$X$41=1,'Simulador Pagos Oportunos'!$K$55,IF('Simulador Pagos Oportunos'!$X$41=2,'Simulador Pagos Oportunos'!$M$55,IF('Simulador Pagos Oportunos'!$X$41=3,'Simulador Pagos Oportunos'!$O$55,0)))))","v":0},null,0,null,null,null,0,{"$f":"AC126","v":0.11249999999999999},null,0.1225,0.1225,0.1225,0,0,9,3,0,0,0,0,0,0,0,0,{"$f":"IF(AO127=0,\"\",IF('Simulador Pagos Oportunos'!$X$41=4,AD127,IF('Simulador Pagos Oportunos'!$X$41=1,AE127,IF('Simulador Pagos Oportunos'!$X$41=2,AF127,IF('Simulador Pagos Oportunos'!$X$41=3,AG127,AC127)))))","v":""},{"$f":"IF(AO127<=0,0,IF('Simulador Pagos Oportunos'!$Y$71=1,0,AO127*'Simulador Pagos Oportunos'!$Y$74))+IF(AO127<=0,0,IF('Simulador Pagos Oportunos'!$X$41=4,'Simulador Pagos Oportunos'!$I$55,IF('Simulador Pagos Oportunos'!$X$41=1,'Simulador Pagos Oportunos'!$K$55,IF('Simulador Pagos Oportunos'!$X$41=2,'Simulador Pagos Oportunos'!$M$55,'Simulador Pagos Oportunos'!$O$55))))","v":0},null,0,0,"",0,111]
[112,0,null,{"$f":"IF(B128+F128-D127<=0,B128+F128,IF(A128=$B$9,$F$9,IF(A128=$B$10,$F$10,IF(AND('Simulador Pagos Oportunos'!$AH$45=2,L127=0),D127*(1+Z128),IF($AL$3=2,B128*AI128,D127*(1+Z128))))))","v":0},null,0,null,0,null,{"$f":"IF(B128-H128=0,0,J126)","v":0},null,null,null,{"$f":"IF('Simulador Pagos Oportunos'!$V$66=1,0,L128*'Simulador Pagos Oportunos'!$O$69*'Simulador Pagos Oportunos'!$W$65)","v":0},null,{"$f":"IF(B128=0,\"\",IF('Simulador Pagos Oportunos'!$X$41=4,AD128,IF('Simulador Pagos Oportunos'!$X$41=1,AE128,IF('Simulador Pagos Oportunos'!$X$41=2,AF128,IF('Simulador Pagos Oportunos'!$X$41=3,AG128,AC128)))))","v":""},null,0,null,{"$f":"IF(B128<=0,0,B128*IF('Simulador Pagos Oportunos'!$Y$71=1,0,'Simulador Pagos Oportunos'!$Y$74))","v":0},null,{"$f":"IF(B128=0,0,IF('Simulador Pagos Oportunos'!$X$41=4,'Simulador Pagos Oportunos'!$I$55,IF('Simulador Pagos Oportunos'!$X$41=1,'Simulador Pagos Oportunos'!$K$55,IF('Simulador Pagos Oportunos'!$X$41=2,'Simulador Pagos Oportunos'!$M$55,IF('Simulador Pagos Oportunos'!$X$41=3,'Simulador Pagos Oportunos'!$O$55,0)))))","v":0},null,0,null,null,null,0,0.11249999999999999,null,0.1225,0.1225,0.1225,0,0,9,4,0,0,0,0,0,0,0,0,{"$f":"IF(AO128=0,\"\",IF('Simulador Pagos Oportunos'!$X$41=4,AD128,IF('Simulador Pagos Oportunos'!$X$41=1,AE128,IF('Simulador Pagos Oportunos'!$X$41=2,AF128,IF('Simulador Pagos Oportunos'!$X$41=3,AG128,AC128)))))","v":""},{"$f":"IF(AO128<=0,0,IF('Simulador Pagos Oportunos'!$Y$71=1,0,AO128*'Simulador Pagos Oportunos'!$Y$74))+IF(AO128<=0,0,IF('Simulador Pagos Oportunos'!$X$41=4,'Simulador Pagos Oportunos'!$I$55,IF('Simulador Pagos Oportunos'!$X$41=1,'Simulador Pagos Oportunos'!$K$55,IF('Simulador Pagos Oportunos'!$X$41=2,'Simulador Pagos Oportunos'!$M$55,'Simulador Pagos Oportunos'!$O$55))))","v":0},null,0,0,"",0,112]
[113,0,null,{"$f":"IF(B129+F129-D128<=0,B129+F129,IF(A129=$B$9,$F$9,IF(A129=$B$10,$F$10,IF(AND('Simulador Pagos Oportunos'!$AH$45=2,L128=0),D128*(1+Z129),IF($AL$3=2,B129*AI129,D128*(1+Z129))))))","v":0},null,0,null,0,null,null,null,null,null,{"$f":"IF('Simulador Pagos Oportunos'!$V$66=1,0,L129*'Simulador Pagos Oportunos'!$O$69*'Simulador Pagos Oportunos'!$W$65)","v":0},null,{"$f":"IF(B129=0,\"\",IF('Simulador Pagos Oportunos'!$X$41=4,AD129,IF('Simulador Pagos Oportunos'!$X$41=1,AE129,IF('Simulador Pagos Oportunos'!$X$41=2,AF129,IF('Simulador Pagos Oportunos'!$X$41=3,AG129,AC129)))))","v":""},null,0,null,{"$f":"IF(B129<=0,0,B129*IF('Simulador Pagos Oportunos'!$Y$71=1,0,'Simulador Pagos Oportunos'!$Y$74))","v":0},null,{"$f":"IF(B129=0,0,IF('Simulador Pagos Oportunos'!$X$41=4,'Simulador Pagos Oportunos'!$I$55,IF('Simulador Pagos Oportunos'!$X$41=1,'Simulador Pagos Oportunos'!$K$55,IF('Simulador Pagos Oportunos'!$X$41=2,'Simulador Pagos Oportunos'!$M$55,IF('Simulador Pagos Oportunos'!$X$41=3,'Simulador Pagos Oportunos'!$O$55,0)))))","v":0},null,0,null,null,null,0,0.11249999999999999,null,0.1225,0.1225,0.1225,0,0,9,5,0,0,0,0,0,0,0,0,{"$f":"IF(AO129=0,\"\",IF('Simulador Pagos Oportunos'!$X$41=4,AD129,IF('Simulador Pagos Oportunos'!$X$41=1,AE129,IF('Simulador Pagos Oportunos'!$X$41=2,AF129,IF('Simulador Pagos Oportunos'!$X$41=3,AG129,AC129)))))","v":""},{"$f":"IF(AO129<=0,0,IF('Simulador Pagos Oportunos'!$Y$71=1,0,AO129*'Simulador Pagos Oportunos'!$Y$74))+IF(AO129<=0,0,IF('Simulador Pagos Oportunos'!$X$41=4,'Simulador Pagos Oportunos'!$I$55,IF('Simulador Pagos Oportunos'!$X$41=1,'Simulador Pagos Oportunos'!$K$55,IF('Simulador Pagos Oportunos'!$X$41=2,'Simulador Pagos Oportunos'!$M$55,'Simulador Pagos Oportunos'!$O$55))))","v":0},null,0,0,"",0,113]
[114,0,null,{"$f":"IF(B130+F130-D129<=0,B130+F130,IF(A130=$B$9,$F$9,IF(A130=$B$10,$F$10,IF(AND('Simulador Pagos Oportunos'!$AH$45=2,L129=0),D129*(1+Z130),IF($AL$3=2,B130*AI130,D129*(1+Z130))))))","v":0},null,0,null,0,null,{"$f":"IF(B130-H130=0,0,J128)","v":0},null,null,null,{"$f":"IF('Simulador Pagos Oportunos'!$V$66=1,0,L130*'Simulador Pagos Oportunos'!$O$69*'Simulador Pagos Oportunos'!$W$65)","v":0},null,{"$f":"IF(B130=0,\"\",IF('Simulador Pagos Oportunos'!$X$41=4,AD130,IF('Simulador Pagos Oportunos'!$X$41=1,AE130,IF('Simulador Pagos Oportunos'!$X$41=2,AF130,IF('Simulador Pagos Oportunos'!$X$41=3,AG130,AC130)))))","v":""},null,0,null,{"$f":"IF(B130<=0,0,B130*IF('Simulador Pagos Oportunos'!$Y$71=1,0,'Simulador Pagos Oportunos'!$Y$74))","v":0},null,{"$f":"IF(B130=0,0,IF('Simulador Pagos Oportunos'!$X$41=4,'Simulador Pagos Oportunos'!$I$55,IF('Simulador Pagos Oportunos'!$X$41=1,'Simulador Pagos Oportunos'!$K$55,IF('Simulador Pagos Oportunos'!$X$41=2,'Simulador Pagos Oportunos'!$M$55,IF('Simulador Pagos Oportunos'!$X$41=3,'Simulador Pagos Oportunos'!$O$55,0)))))","v":0},null,0,null,null,null,0,0.11249999999999999,null,0.1225,0.1225,0.1225,0,0,9,6,0,0,0,0,0,0,0,0,{"$f":"IF(AO130=0,\"\",IF('Simulador Pagos Oportunos'!$X$41=4,AD130,IF('Simulador Pagos Oportunos'!$X$41=1,AE130,IF('Simulador Pagos Oportunos'!$X$41=2,AF130,IF('Simulador Pagos Oportunos'!$X$41=3,AG130,AC130)))))","v":""},{"$f":"IF(AO130<=0,0,IF('Simulador Pagos Oportunos'!$Y$71=1,0,AO130*'Simulador Pagos Oportunos'!$Y$74))+IF(AO130<=0,0,IF('Simulador Pagos Oportunos'!$X$41=4,'Simulador Pagos Oportunos'!$I$55,IF('Simulador Pagos Oportunos'!$X$41=1,'Simulador Pagos Oportunos'!$K$55,IF('Simulador Pagos Oportunos'!$X$41=2,'Simulador Pagos Oportunos'!$M$55,'Simulador Pagos Oportunos'!$O$55))))","v":0},null,0,0,"",0,114]
[115,0,null,{"$f":"IF(B131+F131-D130<=0,B131+F131,IF(A131=$B$9,$F$9,IF(A131=$B$10,$F$10,IF(AND('Simulador Pagos Oportunos'!$AH$45=2,L130=0),D130*(1+Z131),IF($AL$3=2,B131*AI131,D130*(1+Z131))))))","v":0},null,0,null,0,null,null,null,null,null,{"$f":"IF('Simulador Pagos Oportunos'!$V$66=1,0,L131*'Simulador Pagos Oportunos'!$O$69*'Simulador Pagos Oportunos'!$W$65)","v":0},null,{"$f":"IF(B131=0,\"\",IF('Simulador Pagos Oportunos'!$X$41=4,AD131,IF('Simulador Pagos Oportunos'!$X$41=1,AE131,IF('Simulador Pagos Oportunos'!$X$41=2,AF131,IF('Simulador Pagos Oportunos'!$X$41=3,AG131,AC131)))))","v":""},null,0,null,{"$f":"IF(B131<=0,0,B131*IF('Simulador Pagos Oportunos'!$Y$71=1,0,'Simulador Pagos Oportunos'!$Y$74))","v":0},null,{"$f":"IF(B131=0,0,IF('Simulador Pagos Oportunos'!$X$41=4,'Simulador Pagos Oportunos'!$I$55,IF('Simulador Pagos Oportunos'!$X$41=1,'Simulador Pagos Oportunos'!$K$55,IF('Simulador Pagos Oportunos'!$X$41=2,'Simulador Pagos Oportunos'!$M$55,IF('Simulador Pagos Oportunos'!$X$41=3,'Simulador Pagos Oportunos'!$O$55,0)))))","v":0},null,0,null,null,null,0,0.11249999999999999,null,0.1225,0.1225,0.1225,0,0,9,7,0,0,0,0,0,0,0,0,{"$f":"IF(AO131=0,\"\",IF('Simulador Pagos Oportunos'!$X$41=4,AD131,IF('Simulador Pagos Oportunos'!$X$41=1,AE131,IF('Simulador Pagos Oportunos'!$X$41=2,AF131,IF('Simulador Pagos Oportunos'!$X$41=3,AG131,AC131)))))","v":""},{"$f":"IF(AO131<=0,0,IF('Simulador Pagos Oportunos'!$Y$71=1,0,AO131*'Simulador Pagos Oportunos'!$Y$74))+IF(AO131<=0,0,IF('Simulador Pagos Oportunos'!$X$41=4,'Simulador Pagos Oportunos'!$I$55,IF('Simulador Pagos Oportunos'!$X$41=1,'Simulador Pagos Oportunos'!$K$55,IF('Simulador Pagos Oportunos'!$X$41=2,'Simulador Pagos Oportunos'!$M$55,'Simulador Pagos Oportunos'!$O$55))))","v":0},null,0,0,"",0,115]
[116,0,null,{"$f":"IF(B132+F132-D131<=0,B132+F132,IF(A132=$B$9,$F$9,IF(A132=$B$10,$F$10,IF(AND('Simulador Pagos Oportunos'!$AH$45=2,L131=0),D131*(1+Z132),IF($AL$3=2,B132*AI132,D131*(1+Z132))))))","v":0},null,0,null,0,null,{"$f":"IF(B132-H132=0,0,J130)","v":0},null,null,null,{"$f":"IF('Simulador Pagos Oportunos'!$V$66=1,0,L132*'Simulador Pagos Oportunos'!$O$69*'Simulador Pagos Oportunos'!$W$65)","v":0},null,{"$f":"IF(B132=0,\"\",IF('Simulador Pagos Oportunos'!$X$41=4,AD132,IF('Simulador Pagos Oportunos'!$X$41=1,AE132,IF('Simulador Pagos Oportunos'!$X$41=2,AF132,IF('Simulador Pagos Oportunos'!$X$41=3,AG132,AC132)))))","v":""},null,0,null,{"$f":"IF(B132<=0,0,B132*IF('Simulador Pagos Oportunos'!$Y$71=1,0,'Simulador Pagos Oportunos'!$Y$74))","v":0},null,{"$f":"IF(B132=0,0,IF('Simulador Pagos Oportunos'!$X$41=4,'Simulador Pagos Oportunos'!$I$55,IF('Simulador Pagos Oportunos'!$X$41=1,'Simulador Pagos Oportunos'!$K$55,IF('Simulador Pagos Oportunos'!$X$41=2,'Simulador Pagos Oportunos'!$M$55,IF('Simulador Pagos Oportunos'!$X$41=3,'Simulador Pagos Oportunos'!$O$55,0)))))","v":0},null,0,null,null,null,0,0.11249999999999999,null,0.1225,0.1225,0.1225,0,0,9,8,0,0,0,0,0,0,0,0,{"$f":"IF(AO132=0,\"\",IF('Simulador Pagos Oportunos'!$X$41=4,AD132,IF('Simulador Pagos Oportunos'!$X$41=1,AE132,IF('Simulador Pagos Oportunos'!$X$41=2,AF132,IF('Simulador Pagos Oportunos'!$X$41=3,AG132,AC132)))))","v":""},{"$f":"IF(AO132<=0,0,IF('Simulador Pagos Oportunos'!$Y$71=1,0,AO132*'Simulador Pagos Oportunos'!$Y$74))+IF(AO132<=0,0,IF('Simulador Pagos Oportunos'!$X$41=4,'Simulador Pagos Oportunos'!$I$55,IF('Simulador Pagos Oportunos'!$X$41=1,'Simulador Pagos Oportunos'!$K$55,IF('Simulador Pagos Oportunos'!$X$41=2,'Simulador Pagos Oportunos'!$M$55,'Simulador Pagos Oportunos'!$O$55))))","v":0},null,0,0,"",0,116]
[117,0,null,{"$f":"IF(B133+F133-D132<=0,B133+F133,IF(A133=$B$9,$F$9,IF(A133=$B$10,$F$10,IF(AND('Simulador Pagos Oportunos'!$AH$45=2,L132=0),D132*(1+Z133),IF($AL$3=2,B133*AI133,D132*(1+Z133))))))","v":0},null,0,null,0,null,null,null,null,null,{"$f":"IF('Simulador Pagos Oportunos'!$V$66=1,0,L133*'Simulador Pagos Oportunos'!$O$69*'Simulador Pagos Oportunos'!$W$65)","v":0},null,{"$f":"IF(B133=0,\"\",IF('Simulador Pagos Oportunos'!$X$41=4,AD133,IF('Simulador Pagos Oportunos'!$X$41=1,AE133,IF('Simulador Pagos Oportunos'!$X$41=2,AF133,IF('Simulador Pagos Oportunos'!$X$41=3,AG133,AC133)))))","v":""},null,0,null,{"$f":"IF(B133<=0,0,B133*IF('Simulador Pagos Oportunos'!$Y$71=1,0,'Simulador Pagos Oportunos'!$Y$74))","v":0},null,{"$f":"IF(B133=0,0,IF('Simulador Pagos Oportunos'!$X$41=4,'Simulador Pagos Oportunos'!$I$55,IF('Simulador Pagos Oportunos'!$X$41=1,'Simulador Pagos Oportunos'!$K$55,IF('Simulador Pagos Oportunos'!$X$41=2,'Simulador Pagos Oportunos'!$M$55,IF('Simulador Pagos Oportunos'!$X$41=3,'Simulador Pagos Oportunos'!$O$55,0)))))","v":0},null,0,null,null,null,0,0.11249999999999999,null,0.1225,0.1225,0.1225,0,0,9,9,0,0,0,0,0,0,0,0,{"$f":"IF(AO133=0,\"\",IF('Simulador Pagos Oportunos'!$X$41=4,AD133,IF('Simulador Pagos Oportunos'!$X$41=1,AE133,IF('Simulador Pagos Oportunos'!$X$41=2,AF133,IF('Simulador Pagos Oportunos'!$X$41=3,AG133,AC133)))))","v":""},{"$f":"IF(AO133<=0,0,IF('Simulador Pagos Oportunos'!$Y$71=1,0,AO133*'Simulador Pagos Oportunos'!$Y$74))+IF(AO133<=0,0,IF('Simulador Pagos Oportunos'!$X$41=4,'Simulador Pagos Oportunos'!$I$55,IF('Simulador Pagos Oportunos'!$X$41=1,'Simulador Pagos Oportunos'!$K$55,IF('Simulador Pagos Oportunos'!$X$41=2,'Simulador Pagos Oportunos'!$M$55,'Simulador Pagos Oportunos'!$O$55))))","v":0},null,0,0,"",0,117]
[118,0,null,{"$f":"IF(B134+F134-D133<=0,B134+F134,IF(A134=$B$9,$F$9,IF(A134=$B$10,$F$10,IF(AND('Simulador Pagos Oportunos'!$AH$45=2,L133=0),D133*(1+Z134),IF($AL$3=2,B134*AI134,D133*(1+Z134))))))","v":0},null,0,null,0,null,{"$f":"IF(B134-H134=0,0,J132)","v":0},null,null,null,{"$f":"IF('Simulador Pagos Oportunos'!$V$66=1,0,L134*'Simulador Pagos Oportunos'!$O$69*'Simulador Pagos Oportunos'!$W$65)","v":0},null,{"$f":"IF(B134=0,\"\",IF('Simulador Pagos Oportunos'!$X$41=4,AD134,IF('Simulador Pagos Oportunos'!$X$41=1,AE134,IF('Simulador Pagos Oportunos'!$X$41=2,AF134,IF('Simulador Pagos Oportunos'!$X$41=3,AG134,AC134)))))","v":""},null,0,null,{"$f":"IF(B134<=0,0,B134*IF('Simulador Pagos Oportunos'!$Y$71=1,0,'Simulador Pagos Oportunos'!$Y$74))","v":0},null,{"$f":"IF(B134=0,0,IF('Simulador Pagos Oportunos'!$X$41=4,'Simulador Pagos Oportunos'!$I$55,IF('Simulador Pagos Oportunos'!$X$41=1,'Simulador Pagos Oportunos'!$K$55,IF('Simulador Pagos Oportunos'!$X$41=2,'Simulador Pagos Oportunos'!$M$55,IF('Simulador Pagos Oportunos'!$X$41=3,'Simulador Pagos Oportunos'!$O$55,0)))))","v":0},null,0,null,null,null,0,0.11249999999999999,null,0.1225,0.1225,0.1225,0,0,9,10,0,0,0,0,0,0,0,0,{"$f":"IF(AO134=0,\"\",IF('Simulador Pagos Oportunos'!$X$41=4,AD134,IF('Simulador Pagos Oportunos'!$X$41=1,AE134,IF('Simulador Pagos Oportunos'!$X$41=2,AF134,IF('Simulador Pagos Oportunos'!$X$41=3,AG134,AC134)))))","v":""},{"$f":"IF(AO134<=0,0,IF('Simulador Pagos Oportunos'!$Y$71=1,0,AO134*'Simulador Pagos Oportunos'!$Y$74))+IF(AO134<=0,0,IF('Simulador Pagos Oportunos'!$X$41=4,'Simulador Pagos Oportunos'!$I$55,IF('Simulador Pagos Oportunos'!$X$41=1,'Simulador Pagos Oportunos'!$K$55,IF('Simulador Pagos Oportunos'!$X$41=2,'Simulador Pagos Oportunos'!$M$55,'Simulador Pagos Oportunos'!$O$55))))","v":0},null,0,0,"",0,118]
[119,0,null,{"$f":"IF(B135+F135-D134<=0,B135+F135,IF(A135=$B$9,$F$9,IF(A135=$B$10,$F$10,IF(AND('Simulador Pagos Oportunos'!$AH$45=2,L134=0),D134*(1+Z135),IF($AL$3=2,B135*AI135,D134*(1+Z135))))))","v":0},null,0,null,0,null,null,null,null,null,{"$f":"IF('Simulador Pagos Oportunos'!$V$66=1,0,L135*'Simulador Pagos Oportunos'!$O$69*'Simulador Pagos Oportunos'!$W$65)","v":0},null,{"$f":"IF(B135=0,\"\",IF('Simulador Pagos Oportunos'!$X$41=4,AD135,IF('Simulador Pagos Oportunos'!$X$41=1,AE135,IF('Simulador Pagos Oportunos'!$X$41=2,AF135,IF('Simulador Pagos Oportunos'!$X$41=3,AG135,AC135)))))","v":""},null,0,null,{"$f":"IF(B135<=0,0,B135*IF('Simulador Pagos Oportunos'!$Y$71=1,0,'Simulador Pagos Oportunos'!$Y$74))","v":0},null,{"$f":"IF(B135=0,0,IF('Simulador Pagos Oportunos'!$X$41=4,'Simulador Pagos Oportunos'!$I$55,IF('Simulador Pagos Oportunos'!$X$41=1,'Simulador Pagos Oportunos'!$K$55,IF('Simulador Pagos Oportunos'!$X$41=2,'Simulador Pagos Oportunos'!$M$55,IF('Simulador Pagos Oportunos'!$X$41=3,'Simulador Pagos Oportunos'!$O$55,0)))))","v":0},null,0,null,null,null,0,0.11249999999999999,null,0.1225,0.1225,0.1225,0,0,9,11,0,0,0,0,0,0,0,0,{"$f":"IF(AO135=0,\"\",IF('Simulador Pagos Oportunos'!$X$41=4,AD135,IF('Simulador Pagos Oportunos'!$X$41=1,AE135,IF('Simulador Pagos Oportunos'!$X$41=2,AF135,IF('Simulador Pagos Oportunos'!$X$41=3,AG135,AC135)))))","v":""},{"$f":"IF(AO135<=0,0,IF('Simulador Pagos Oportunos'!$Y$71=1,0,AO135*'Simulador Pagos Oportunos'!$Y$74))+IF(AO135<=0,0,IF('Simulador Pagos Oportunos'!$X$41=4,'Simulador Pagos Oportunos'!$I$55,IF('Simulador Pagos Oportunos'!$X$41=1,'Simulador Pagos Oportunos'!$K$55,IF('Simulador Pagos Oportunos'!$X$41=2,'Simulador Pagos Oportunos'!$M$55,'Simulador Pagos Oportunos'!$O$55))))","v":0},null,0,0,"",0,119]
[120,0,null,{"$f":"IF(B136+F136-D135<=0,B136+F136,IF(A136=$B$9,$F$9,IF(A136=$B$10,$F$10,IF(AND('Simulador Pagos Oportunos'!$AH$45=2,L135=0),D135*(1+Z136),IF($AL$3=2,B136*AI136,D135*(1+Z136))))))","v":0},null,0,null,0,null,{"$f":"IF(B136-H136=0,0,J134)","v":0},null,null,null,{"$f":"IF('Simulador Pagos Oportunos'!$V$66=1,0,L136*'Simulador Pagos Oportunos'!$O$69*'Simulador Pagos Oportunos'!$W$65)","v":0},null,{"$f":"IF(B136=0,\"\",IF('Simulador Pagos Oportunos'!$X$41=4,AD136,IF('Simulador Pagos Oportunos'!$X$41=1,AE136,IF('Simulador Pagos Oportunos'!$X$41=2,AF136,IF('Simulador Pagos Oportunos'!$X$41=3,AG136,AC136)))))","v":""},null,0,null,{"$f":"IF(B136<=0,0,B136*IF('Simulador Pagos Oportunos'!$Y$71=1,0,'Simulador Pagos Oportunos'!$Y$74))","v":0},null,{"$f":"IF(B136=0,0,IF('Simulador Pagos Oportunos'!$X$41=4,'Simulador Pagos Oportunos'!$I$55,IF('Simulador Pagos Oportunos'!$X$41=1,'Simulador Pagos Oportunos'!$K$55,IF('Simulador Pagos Oportunos'!$X$41=2,'Simulador Pagos Oportunos'!$M$55,IF('Simulador Pagos Oportunos'!$X$41=3,'Simulador Pagos Oportunos'!$O$55,0)))))","v":0},null,0,null,null,null,0,0.11249999999999999,null,0.1225,0.1225,0.1225,0,0,10,0,0,0,0,0,0,0,0,0,{"$f":"IF(AO136=0,\"\",IF('Simulador Pagos Oportunos'!$X$41=4,AD136,IF('Simulador Pagos Oportunos'!$X$41=1,AE136,IF('Simulador Pagos Oportunos'!$X$41=2,AF136,IF('Simulador Pagos Oportunos'!$X$41=3,AG136,AC136)))))","v":""},{"$f":"IF(AO136<=0,0,IF('Simulador Pagos Oportunos'!$Y$71=1,0,AO136*'Simulador Pagos Oportunos'!$Y$74))+IF(AO136<=0,0,IF('Simulador Pagos Oportunos'!$X$41=4,'Simulador Pagos Oportunos'!$I$55,IF('Simulador Pagos Oportunos'!$X$41=1,'Simulador Pagos Oportunos'!$K$55,IF('Simulador Pagos Oportunos'!$X$41=2,'Simulador Pagos Oportunos'!$M$55,'Simulador Pagos Oportunos'!$O$55))))","v":0},null,0,0,"",0,120]
[121,0,null,{"$f":"IF(B137+F137-D136<=0,B137+F137,IF(A137=$B$9,$F$9,IF(A137=$B$10,$F$10,IF(AND('Simulador Pagos Oportunos'!$AH$45=2,L136=0),D136*(1+Z137),IF($AL$3=2,B137*AI137,D136*(1+Z137))))))","v":0},null,0,null,0,null,null,null,null,null,{"$f":"IF('Simulador Pagos Oportunos'!$V$66=1,0,L137*'Simulador Pagos Oportunos'!$O$69*'Simulador Pagos Oportunos'!$W$65)","v":0},null,{"$f":"IF(B137=0,\"\",IF('Simulador Pagos Oportunos'!$X$41=4,AD137,IF('Simulador Pagos Oportunos'!$X$41=1,AE137,IF('Simulador Pagos Oportunos'!$X$41=2,AF137,IF('Simulador Pagos Oportunos'!$X$41=3,AG137,AC137)))))","v":""},null,0,null,{"$f":"IF(B137<=0,0,B137*IF('Simulador Pagos Oportunos'!$Y$71=1,0,'Simulador Pagos Oportunos'!$Y$74))","v":0},null,{"$f":"IF(B137=0,0,IF('Simulador Pagos Oportunos'!$X$41=4,'Simulador Pagos Oportunos'!$I$55,IF('Simulador Pagos Oportunos'!$X$41=1,'Simulador Pagos Oportunos'!$K$55,IF('Simulador Pagos Oportunos'!$X$41=2,'Simulador Pagos Oportunos'!$M$55,IF('Simulador Pagos Oportunos'!$X$41=3,'Simulador Pagos Oportunos'!$O$55,0)))))","v":0},null,0,null,{"$f":"IF(B137<=0,0,'Simulador Pagos Oportunos'!$AI$54)","v":0},null,0,{"$f":"IF(AC136=$AC$5,AC136,IF(AC136-0.25%<=$AC$5,$AC$5,AC136-0.25%))","v":0.10999999999999999},null,null,0.1225,0.1225,0,0,10,1,0,0,0,0,0,0,0,0,{"$f":"IF(AO137=0,\"\",IF('Simulador Pagos Oportunos'!$X$41=4,AD137,IF('Simulador Pagos Oportunos'!$X$41=1,AE137,IF('Simulador Pagos Oportunos'!$X$41=2,AF137,IF('Simulador Pagos Oportunos'!$X$41=3,AG137,AC137)))))","v":""},{"$f":"IF(AO137<=0,0,IF('Simulador Pagos Oportunos'!$Y$71=1,0,AO137*'Simulador Pagos Oportunos'!$Y$74))+IF(AO137<=0,0,IF('Simulador Pagos Oportunos'!$X$41=4,'Simulador Pagos Oportunos'!$I$55,IF('Simulador Pagos Oportunos'!$X$41=1,'Simulador Pagos Oportunos'!$K$55,IF('Simulador Pagos Oportunos'!$X$41=2,'Simulador Pagos Oportunos'!$M$55,'Simulador Pagos Oportunos'!$O$55))))","v":0},{"$f":"IF(AO137<=0,0,$AV$29)","v":0},0,{"$f":"IFERROR(IF(AP137<=0.01,0,AX136-1),0)","v":0},"",0,121]
[122,0,null,{"$f":"IF(B138+F138-D137<=0,B138+F138,IF(A138=$B$9,$F$9,IF(A138=$B$10,$F$10,IF(AND('Simulador Pagos Oportunos'!$AH$45=2,L137=0),D137*(1+Z138),IF($AL$3=2,B138*AI138,D137*(1+Z138))))))","v":0},null,0,null,0,null,{"$f":"IF(B138-H138=0,0,J136*(1+(3%)))","v":0},null,null,null,{"$f":"IF('Simulador Pagos Oportunos'!$V$66=1,0,L138*'Simulador Pagos Oportunos'!$O$69*'Simulador Pagos Oportunos'!$W$65)","v":0},null,{"$f":"IF(B138=0,\"\",IF('Simulador Pagos Oportunos'!$X$41=4,AD138,IF('Simulador Pagos Oportunos'!$X$41=1,AE138,IF('Simulador Pagos Oportunos'!$X$41=2,AF138,IF('Simulador Pagos Oportunos'!$X$41=3,AG138,AC138)))))","v":""},null,0,null,{"$f":"IF(B138<=0,0,B138*IF('Simulador Pagos Oportunos'!$Y$71=1,0,'Simulador Pagos Oportunos'!$Y$74))","v":0},null,{"$f":"IF(B138=0,0,IF('Simulador Pagos Oportunos'!$X$41=4,'Simulador Pagos Oportunos'!$I$55,IF('Simulador Pagos Oportunos'!$X$41=1,'Simulador Pagos Oportunos'!$K$55,IF('Simulador Pagos Oportunos'!$X$41=2,'Simulador Pagos Oportunos'!$M$55,IF('Simulador Pagos Oportunos'!$X$41=3,'Simulador Pagos Oportunos'!$O$55,0)))))","v":0},null,0,null,null,null,0,{"$f":"AC137","v":0.10999999999999999},null,null,{"$f":"AF137","v":0.1225},0.1225,0,0,10,2,0,0,0,0,0,0,0,0,{"$f":"IF(AO138=0,\"\",IF('Simulador Pagos Oportunos'!$X$41=4,AD138,IF('Simulador Pagos Oportunos'!$X$41=1,AE138,IF('Simulador Pagos Oportunos'!$X$41=2,AF138,IF('Simulador Pagos Oportunos'!$X$41=3,AG138,AC138)))))","v":""},{"$f":"IF(AO138<=0,0,IF('Simulador Pagos Oportunos'!$Y$71=1,0,AO138*'Simulador Pagos Oportunos'!$Y$74))+IF(AO138<=0,0,IF('Simulador Pagos Oportunos'!$X$41=4,'Simulador Pagos Oportunos'!$I$55,IF('Simulador Pagos Oportunos'!$X$41=1,'Simulador Pagos Oportunos'!$K$55,IF('Simulador Pagos Oportunos'!$X$41=2,'Simulador Pagos Oportunos'!$M$55,'Simulador Pagos Oportunos'!$O$55))))","v":0},null,0,{"$f":"IFERROR(IF(AP138<=0.01,0,AX137-1),0)","v":0},"",0,122]
[123,0,null,{"$f":"IF(B139+F139-D138<=0,B139+F139,IF(A139=$B$9,$F$9,IF(A139=$B$10,$F$10,IF(AND('Simulador Pagos Oportunos'!$AH$45=2,L138=0),D138*(1+Z139),IF($AL$3=2,B139*AI139,D138*(1+Z139))))))","v":0},null,0,null,0,null,null,null,null,null,{"$f":"IF('Simulador Pagos Oportunos'!$V$66=1,0,L139*'Simulador Pagos Oportunos'!$O$69*'Simulador Pagos Oportunos'!$W$65)","v":0},null,{"$f":"IF(B139=0,\"\",IF('Simulador Pagos Oportunos'!$X$41=4,AD139,IF('Simulador Pagos Oportunos'!$X$41=1,AE139,IF('Simulador Pagos Oportunos'!$X$41=2,AF139,IF('Simulador Pagos Oportunos'!$X$41=3,AG139,AC139)))))","v":""},null,0,null,{"$f":"IF(B139<=0,0,B139*IF('Simulador Pagos Oportunos'!$Y$71=1,0,'Simulador Pagos Oportunos'!$Y$74))","v":0},null,{"$f":"IF(B139=0,0,IF('Simulador Pagos Oportunos'!$X$41=4,'Simulador Pagos Oportunos'!$I$55,IF('Simulador Pagos Oportunos'!$X$41=1,'Simulador Pagos Oportunos'!$K$55,IF('Simulador Pagos Oportunos'!$X$41=2,'Simulador Pagos Oportunos'!$M$55,IF('Simulador Pagos Oportunos'!$X$41=3,'Simulador Pagos Oportunos'!$O$55,0)))))","v":0},null,0,null,null,null,0,{"$f":"AC138","v":0.10999999999999999},null,null,0.1225,0.1225,0,0,10,3,0,0,0,0,0,0,0,0,{"$f":"IF(AO139=0,\"\",IF('Simulador Pagos Oportunos'!$X$41=4,AD139,IF('Simulador Pagos Oportunos'!$X$41=1,AE139,IF('Simulador Pagos Oportunos'!$X$41=2,AF139,IF('Simulador Pagos Oportunos'!$X$41=3,AG139,AC139)))))","v":""},{"$f":"IF(AO139<=0,0,IF('Simulador Pagos Oportunos'!$Y$71=1,0,AO139*'Simulador Pagos Oportunos'!$Y$74))+IF(AO139<=0,0,IF('Simulador Pagos Oportunos'!$X$41=4,'Simulador Pagos Oportunos'!$I$55,IF('Simulador Pagos Oportunos'!$X$41=1,'Simulador Pagos Oportunos'!$K$55,IF('Simulador Pagos Oportunos'!$X$41=2,'Simulador Pagos Oportunos'!$M$55,'Simulador Pagos Oportunos'!$O$55))))","v":0},null,0,0,"",0,123]
[124,0,null,{"$f":"IF(B140+F140-D139<=0,B140+F140,IF(A140=$B$9,$F$9,IF(A140=$B$10,$F$10,IF(AND('Simulador Pagos Oportunos'!$AH$45=2,L139=0),D139*(1+Z140),IF($AL$3=2,B140*AI140,D139*(1+Z140))))))","v":0},null,0,null,0,null,{"$f":"IF(B140-H140=0,0,J138)","v":0},null,null,null,{"$f":"IF('Simulador Pagos Oportunos'!$V$66=1,0,L140*'Simulador Pagos Oportunos'!$O$69*'Simulador Pagos Oportunos'!$W$65)","v":0},null,{"$f":"IF(B140=0,\"\",IF('Simulador Pagos Oportunos'!$X$41=4,AD140,IF('Simulador Pagos Oportunos'!$X$41=1,AE140,IF('Simulador Pagos Oportunos'!$X$41=2,AF140,IF('Simulador Pagos Oportunos'!$X$41=3,AG140,AC140)))))","v":""},null,0,null,{"$f":"IF(B140<=0,0,B140*IF('Simulador Pagos Oportunos'!$Y$71=1,0,'Simulador Pagos Oportunos'!$Y$74))","v":0},null,{"$f":"IF(B140=0,0,IF('Simulador Pagos Oportunos'!$X$41=4,'Simulador Pagos Oportunos'!$I$55,IF('Simulador Pagos Oportunos'!$X$41=1,'Simulador Pagos Oportunos'!$K$55,IF('Simulador Pagos Oportunos'!$X$41=2,'Simulador Pagos Oportunos'!$M$55,IF('Simulador Pagos Oportunos'!$X$41=3,'Simulador Pagos Oportunos'!$O$55,0)))))","v":0},null,0,null,null,null,0,0.10999999999999999,null,null,0.1225,0.1225,0,0,10,4,0,0,0,0,0,0,0,0,{"$f":"IF(AO140=0,\"\",IF('Simulador Pagos Oportunos'!$X$41=4,AD140,IF('Simulador Pagos Oportunos'!$X$41=1,AE140,IF('Simulador Pagos Oportunos'!$X$41=2,AF140,IF('Simulador Pagos Oportunos'!$X$41=3,AG140,AC140)))))","v":""},{"$f":"IF(AO140<=0,0,IF('Simulador Pagos Oportunos'!$Y$71=1,0,AO140*'Simulador Pagos Oportunos'!$Y$74))+IF(AO140<=0,0,IF('Simulador Pagos Oportunos'!$X$41=4,'Simulador Pagos Oportunos'!$I$55,IF('Simulador Pagos Oportunos'!$X$41=1,'Simulador Pagos Oportunos'!$K$55,IF('Simulador Pagos Oportunos'!$X$41=2,'Simulador Pagos Oportunos'!$M$55,'Simulador Pagos Oportunos'!$O$55))))","v":0},null,0,0,"",0,124]
[125,0,null,{"$f":"IF(B141+F141-D140<=0,B141+F141,IF(A141=$B$9,$F$9,IF(A141=$B$10,$F$10,IF(AND('Simulador Pagos Oportunos'!$AH$45=2,L140=0),D140*(1+Z141),IF($AL$3=2,B141*AI141,D140*(1+Z141))))))","v":0},null,0,null,0,null,null,null,null,null,{"$f":"IF('Simulador Pagos Oportunos'!$V$66=1,0,L141*'Simulador Pagos Oportunos'!$O$69*'Simulador Pagos Oportunos'!$W$65)","v":0},null,{"$f":"IF(B141=0,\"\",IF('Simulador Pagos Oportunos'!$X$41=4,AD141,IF('Simulador Pagos Oportunos'!$X$41=1,AE141,IF('Simulador Pagos Oportunos'!$X$41=2,AF141,IF('Simulador Pagos Oportunos'!$X$41=3,AG141,AC141)))))","v":""},null,0,null,{"$f":"IF(B141<=0,0,B141*IF('Simulador Pagos Oportunos'!$Y$71=1,0,'Simulador Pagos Oportunos'!$Y$74))","v":0},null,{"$f":"IF(B141=0,0,IF('Simulador Pagos Oportunos'!$X$41=4,'Simulador Pagos Oportunos'!$I$55,IF('Simulador Pagos Oportunos'!$X$41=1,'Simulador Pagos Oportunos'!$K$55,IF('Simulador Pagos Oportunos'!$X$41=2,'Simulador Pagos Oportunos'!$M$55,IF('Simulador Pagos Oportunos'!$X$41=3,'Simulador Pagos Oportunos'!$O$55,0)))))","v":0},null,0,null,null,null,0,0.10999999999999999,null,null,0.1225,0.1225,0,0,10,5,0,0,0,0,0,0,0,0,{"$f":"IF(AO141=0,\"\",IF('Simulador Pagos Oportunos'!$X$41=4,AD141,IF('Simulador Pagos Oportunos'!$X$41=1,AE141,IF('Simulador Pagos Oportunos'!$X$41=2,AF141,IF('Simulador Pagos Oportunos'!$X$41=3,AG141,AC141)))))","v":""},{"$f":"IF(AO141<=0,0,IF('Simulador Pagos Oportunos'!$Y$71=1,0,AO141*'Simulador Pagos Oportunos'!$Y$74))+IF(AO141<=0,0,IF('Simulador Pagos Oportunos'!$X$41=4,'Simulador Pagos Oportunos'!$I$55,IF('Simulador Pagos Oportunos'!$X$41=1,'Simulador Pagos Oportunos'!$K$55,IF('Simulador Pagos Oportunos'!$X$41=2,'Simulador Pagos Oportunos'!$M$55,'Simulador Pagos Oportunos'!$O$55))))","v":0},null,0,0,"",0,125]
[126,0,null,{"$f":"IF(B142+F142-D141<=0,B142+F142,IF(A142=$B$9,$F$9,IF(A142=$B$10,$F$10,IF(AND('Simulador Pagos Oportunos'!$AH$45=2,L141=0),D141*(1+Z142),IF($AL$3=2,B142*AI142,D141*(1+Z142))))))","v":0},null,0,null,0,null,{"$f":"IF(B142-H142=0,0,J140)","v":0},null,null,null,{"$f":"IF('Simulador Pagos Oportunos'!$V$66=1,0,L142*'Simulador Pagos Oportunos'!$O$69*'Simulador Pagos Oportunos'!$W$65)","v":0},null,{"$f":"IF(B142=0,\"\",IF('Simulador Pagos Oportunos'!$X$41=4,AD142,IF('Simulador Pagos Oportunos'!$X$41=1,AE142,IF('Simulador Pagos Oportunos'!$X$41=2,AF142,IF('Simulador Pagos Oportunos'!$X$41=3,AG142,AC142)))))","v":""},null,0,null,{"$f":"IF(B142<=0,0,B142*IF('Simulador Pagos Oportunos'!$Y$71=1,0,'Simulador Pagos Oportunos'!$Y$74))","v":0},null,{"$f":"IF(B142=0,0,IF('Simulador Pagos Oportunos'!$X$41=4,'Simulador Pagos Oportunos'!$I$55,IF('Simulador Pagos Oportunos'!$X$41=1,'Simulador Pagos Oportunos'!$K$55,IF('Simulador Pagos Oportunos'!$X$41=2,'Simulador Pagos Oportunos'!$M$55,IF('Simulador Pagos Oportunos'!$X$41=3,'Simulador Pagos Oportunos'!$O$55,0)))))","v":0},null,0,null,null,null,0,0.10999999999999999,null,null,0.1225,0.1225,0,0,10,6,0,0,0,0,0,0,0,0,{"$f":"IF(AO142=0,\"\",IF('Simulador Pagos Oportunos'!$X$41=4,AD142,IF('Simulador Pagos Oportunos'!$X$41=1,AE142,IF('Simulador Pagos Oportunos'!$X$41=2,AF142,IF('Simulador Pagos Oportunos'!$X$41=3,AG142,AC142)))))","v":""},{"$f":"IF(AO142<=0,0,IF('Simulador Pagos Oportunos'!$Y$71=1,0,AO142*'Simulador Pagos Oportunos'!$Y$74))+IF(AO142<=0,0,IF('Simulador Pagos Oportunos'!$X$41=4,'Simulador Pagos Oportunos'!$I$55,IF('Simulador Pagos Oportunos'!$X$41=1,'Simulador Pagos Oportunos'!$K$55,IF('Simulador Pagos Oportunos'!$X$41=2,'Simulador Pagos Oportunos'!$M$55,'Simulador Pagos Oportunos'!$O$55))))","v":0},null,0,0,"",0,126]
[127,0,null,{"$f":"IF(B143+F143-D142<=0,B143+F143,IF(A143=$B$9,$F$9,IF(A143=$B$10,$F$10,IF(AND('Simulador Pagos Oportunos'!$AH$45=2,L142=0),D142*(1+Z143),IF($AL$3=2,B143*AI143,D142*(1+Z143))))))","v":0},null,0,null,0,null,null,null,null,null,{"$f":"IF('Simulador Pagos Oportunos'!$V$66=1,0,L143*'Simulador Pagos Oportunos'!$O$69*'Simulador Pagos Oportunos'!$W$65)","v":0},null,{"$f":"IF(B143=0,\"\",IF('Simulador Pagos Oportunos'!$X$41=4,AD143,IF('Simulador Pagos Oportunos'!$X$41=1,AE143,IF('Simulador Pagos Oportunos'!$X$41=2,AF143,IF('Simulador Pagos Oportunos'!$X$41=3,AG143,AC143)))))","v":""},null,0,null,{"$f":"IF(B143<=0,0,B143*IF('Simulador Pagos Oportunos'!$Y$71=1,0,'Simulador Pagos Oportunos'!$Y$74))","v":0},null,{"$f":"IF(B143=0,0,IF('Simulador Pagos Oportunos'!$X$41=4,'Simulador Pagos Oportunos'!$I$55,IF('Simulador Pagos Oportunos'!$X$41=1,'Simulador Pagos Oportunos'!$K$55,IF('Simulador Pagos Oportunos'!$X$41=2,'Simulador Pagos Oportunos'!$M$55,IF('Simulador Pagos Oportunos'!$X$41=3,'Simulador Pagos Oportunos'!$O$55,0)))))","v":0},null,0,null,null,null,0,0.10999999999999999,null,null,0.1225,0.1225,0,0,10,7,0,0,0,0,0,0,0,0,{"$f":"IF(AO143=0,\"\",IF('Simulador Pagos Oportunos'!$X$41=4,AD143,IF('Simulador Pagos Oportunos'!$X$41=1,AE143,IF('Simulador Pagos Oportunos'!$X$41=2,AF143,IF('Simulador Pagos Oportunos'!$X$41=3,AG143,AC143)))))","v":""},{"$f":"IF(AO143<=0,0,IF('Simulador Pagos Oportunos'!$Y$71=1,0,AO143*'Simulador Pagos Oportunos'!$Y$74))+IF(AO143<=0,0,IF('Simulador Pagos Oportunos'!$X$41=4,'Simulador Pagos Oportunos'!$I$55,IF('Simulador Pagos Oportunos'!$X$41=1,'Simulador Pagos Oportunos'!$K$55,IF('Simulador Pagos Oportunos'!$X$41=2,'Simulador Pagos Oportunos'!$M$55,'Simulador Pagos Oportunos'!$O$55))))","v":0},null,0,0,"",0,127]
[128,0,null,{"$f":"IF(B144+F144-D143<=0,B144+F144,IF(A144=$B$9,$F$9,IF(A144=$B$10,$F$10,IF(AND('Simulador Pagos Oportunos'!$AH$45=2,L143=0),D143*(1+Z144),IF($AL$3=2,B144*AI144,D143*(1+Z144))))))","v":0},null,0,null,0,null,{"$f":"IF(B144-H144=0,0,J142)","v":0},null,null,null,{"$f":"IF('Simulador Pagos Oportunos'!$V$66=1,0,L144*'Simulador Pagos Oportunos'!$O$69*'Simulador Pagos Oportunos'!$W$65)","v":0},null,{"$f":"IF(B144=0,\"\",IF('Simulador Pagos Oportunos'!$X$41=4,AD144,IF('Simulador Pagos Oportunos'!$X$41=1,AE144,IF('Simulador Pagos Oportunos'!$X$41=2,AF144,IF('Simulador Pagos Oportunos'!$X$41=3,AG144,AC144)))))","v":""},null,0,null,{"$f":"IF(B144<=0,0,B144*IF('Simulador Pagos Oportunos'!$Y$71=1,0,'Simulador Pagos Oportunos'!$Y$74))","v":0},null,{"$f":"IF(B144=0,0,IF('Simulador Pagos Oportunos'!$X$41=4,'Simulador Pagos Oportunos'!$I$55,IF('Simulador Pagos Oportunos'!$X$41=1,'Simulador Pagos Oportunos'!$K$55,IF('Simulador Pagos Oportunos'!$X$41=2,'Simulador Pagos Oportunos'!$M$55,IF('Simulador Pagos Oportunos'!$X$41=3,'Simulador Pagos Oportunos'!$O$55,0)))))","v":0},null,0,null,null,null,0,0.10999999999999999,null,null,0.1225,0.1225,0,0,10,8,0,0,0,0,0,0,0,0,{"$f":"IF(AO144=0,\"\",IF('Simulador Pagos Oportunos'!$X$41=4,AD144,IF('Simulador Pagos Oportunos'!$X$41=1,AE144,IF('Simulador Pagos Oportunos'!$X$41=2,AF144,IF('Simulador Pagos Oportunos'!$X$41=3,AG144,AC144)))))","v":""},{"$f":"IF(AO144<=0,0,IF('Simulador Pagos Oportunos'!$Y$71=1,0,AO144*'Simulador Pagos Oportunos'!$Y$74))+IF(AO144<=0,0,IF('Simulador Pagos Oportunos'!$X$41=4,'Simulador Pagos Oportunos'!$I$55,IF('Simulador Pagos Oportunos'!$X$41=1,'Simulador Pagos Oportunos'!$K$55,IF('Simulador Pagos Oportunos'!$X$41=2,'Simulador Pagos Oportunos'!$M$55,'Simulador Pagos Oportunos'!$O$55))))","v":0},null,0,0,"",0,128]
[129,0,null,{"$f":"IF(B145+F145-D144<=0,B145+F145,IF(A145=$B$9,$F$9,IF(A145=$B$10,$F$10,IF(AND('Simulador Pagos Oportunos'!$AH$45=2,L144=0),D144*(1+Z145),IF($AL$3=2,B145*AI145,D144*(1+Z145))))))","v":0},null,0,null,0,null,null,null,null,null,{"$f":"IF('Simulador Pagos Oportunos'!$V$66=1,0,L145*'Simulador Pagos Oportunos'!$O$69*'Simulador Pagos Oportunos'!$W$65)","v":0},null,{"$f":"IF(B145=0,\"\",IF('Simulador Pagos Oportunos'!$X$41=4,AD145,IF('Simulador Pagos Oportunos'!$X$41=1,AE145,IF('Simulador Pagos Oportunos'!$X$41=2,AF145,IF('Simulador Pagos Oportunos'!$X$41=3,AG145,AC145)))))","v":""},null,0,null,{"$f":"IF(B145<=0,0,B145*IF('Simulador Pagos Oportunos'!$Y$71=1,0,'Simulador Pagos Oportunos'!$Y$74))","v":0},null,{"$f":"IF(B145=0,0,IF('Simulador Pagos Oportunos'!$X$41=4,'Simulador Pagos Oportunos'!$I$55,IF('Simulador Pagos Oportunos'!$X$41=1,'Simulador Pagos Oportunos'!$K$55,IF('Simulador Pagos Oportunos'!$X$41=2,'Simulador Pagos Oportunos'!$M$55,IF('Simulador Pagos Oportunos'!$X$41=3,'Simulador Pagos Oportunos'!$O$55,0)))))","v":0},null,0,null,null,null,0,0.10999999999999999,null,null,0.1225,0.1225,0,0,10,9,{"$f":"+IF(R145<=0,IF(R144>0,+A145,0),0)","v":0},0,0,0,0,0,{"$f":"+AP145-AQ145","v":0},{"$f":"+AO145-AR145","v":0},{"$f":"IF(AO145=0,\"\",IF('Simulador Pagos Oportunos'!$X$41=4,AD145,IF('Simulador Pagos Oportunos'!$X$41=1,AE145,IF('Simulador Pagos Oportunos'!$X$41=2,AF145,IF('Simulador Pagos Oportunos'!$X$41=3,AG145,AC145)))))","v":""},{"$f":"IF(AO145<=0,0,IF('Simulador Pagos Oportunos'!$Y$71=1,0,AO145*'Simulador Pagos Oportunos'!$Y$74))+IF(AO145<=0,0,IF('Simulador Pagos Oportunos'!$X$41=4,'Simulador Pagos Oportunos'!$I$55,IF('Simulador Pagos Oportunos'!$X$41=1,'Simulador Pagos Oportunos'!$K$55,IF('Simulador Pagos Oportunos'!$X$41=2,'Simulador Pagos Oportunos'!$M$55,'Simulador Pagos Oportunos'!$O$55))))","v":0},null,{"$f":"AQ145+AR145+AU145","v":0},0,"",0,129]
[130,{"$f":"IF(R145<0,0,IF(A146=$B$9,R145+$D$9,IF(A146=$B$10,R145+$D$10,R145)))","v":0},null,{"$f":"IF(B146+F146-D145<=0,B146+F146,IF(A146=$B$9,$F$9,IF(A146=$B$10,$F$10,IF(AND('Simulador Pagos Oportunos'!$AH$45=2,L145=0),D145*(1+Z146),IF($AL$3=2,B146*AI146,D145*(1+Z146))))))","v":0},null,{"$f":"IF(B146=0,0,P146/360*AZ146*B146)","v":0},null,0,null,{"$f":"IF(B146-H146=0,0,J144)","v":0},null,null,null,{"$f":"IF('Simulador Pagos Oportunos'!$V$66=1,0,L146*'Simulador Pagos Oportunos'!$O$69*'Simulador Pagos Oportunos'!$W$65)","v":0},null,{"$f":"IF(B146=0,\"\",IF('Simulador Pagos Oportunos'!$X$41=4,AD146,IF('Simulador Pagos Oportunos'!$X$41=1,AE146,IF('Simulador Pagos Oportunos'!$X$41=2,AF146,IF('Simulador Pagos Oportunos'!$X$41=3,AG146,AC146)))))","v":""},null,{"$f":"B146-H146-J146-L146+N146","v":0},null,{"$f":"IF(B146<=0,0,B146*IF('Simulador Pagos Oportunos'!$Y$71=1,0,'Simulador Pagos Oportunos'!$Y$74))","v":0},null,{"$f":"IF(B146=0,0,IF('Simulador Pagos Oportunos'!$X$41=4,'Simulador Pagos Oportunos'!$I$55,IF('Simulador Pagos Oportunos'!$X$41=1,'Simulador Pagos Oportunos'!$K$55,IF('Simulador Pagos Oportunos'!$X$41=2,'Simulador Pagos Oportunos'!$M$55,IF('Simulador Pagos Oportunos'!$X$41=3,'Simulador Pagos Oportunos'!$O$55,0)))))","v":0},null,{"$f":"IF(B146<=0,0,(D146+L146+T146+V146))","v":0},null,null,null,{"$f":"X146","v":0},0.10999999999999999,null,null,0.1225,0.1225,0,{"$f":"IFERROR(AP146/AO146,0)","v":0},10,10,0,{"$f":"+IF(AL146>0,+AJ146,0)","v":0},{"$f":"+IF(AL146>0,+AK146,0)","v":0},0,0,{"$f":"IFERROR((AT146/360*AZ146*AO146),0)","v":0},0,0,{"$f":"IF(AO146=0,\"\",IF('Simulador Pagos Oportunos'!$X$41=4,AD146,IF('Simulador Pagos Oportunos'!$X$41=1,AE146,IF('Simulador Pagos Oportunos'!$X$41=2,AF146,IF('Simulador Pagos Oportunos'!$X$41=3,AG146,AC146)))))","v":""},{"$f":"IF(AO146<=0,0,IF('Simulador Pagos Oportunos'!$Y$71=1,0,AO146*'Simulador Pagos Oportunos'!$Y$74))+IF(AO146<=0,0,IF('Simulador Pagos Oportunos'!$X$41=4,'Simulador Pagos Oportunos'!$I$55,IF('Simulador Pagos Oportunos'!$X$41=1,'Simulador Pagos Oportunos'!$K$55,IF('Simulador Pagos Oportunos'!$X$41=2,'Simulador Pagos Oportunos'!$M$55,'Simulador Pagos Oportunos'!$O$55))))","v":0},null,0,0,"",{"$f":"IFERROR(DAY(DATE(YEAR(AY146),MONTH(AY146)+1,0)),0)","v":0},130]
[131,0,null,{"$f":"IF(B147+F147-D146<=0,B147+F147,IF(A147=$B$9,$F$9,IF(A147=$B$10,$F$10,IF(AND('Simulador Pagos Oportunos'!$AH$45=2,L146=0),D146*(1+Z147),IF($AL$3=2,B147*AI147,D146*(1+Z147))))))","v":0},null,0,null,{"$f":"D147-F147","v":0},null,null,null,null,null,{"$f":"IF('Simulador Pagos Oportunos'!$V$66=1,0,L147*'Simulador Pagos Oportunos'!$O$69*'Simulador Pagos Oportunos'!$W$65)","v":0},null,{"$f":"IF(B147=0,\"\",IF('Simulador Pagos Oportunos'!$X$41=4,AD147,IF('Simulador Pagos Oportunos'!$X$41=1,AE147,IF('Simulador Pagos Oportunos'!$X$41=2,AF147,IF('Simulador Pagos Oportunos'!$X$41=3,AG147,AC147)))))","v":""},null,0,null,{"$f":"IF(B147<=0,0,B147*IF('Simulador Pagos Oportunos'!$Y$71=1,0,'Simulador Pagos Oportunos'!$Y$74))","v":0},null,{"$f":"IF(B147=0,0,IF('Simulador Pagos Oportunos'!$X$41=4,'Simulador Pagos Oportunos'!$I$55,IF('Simulador Pagos Oportunos'!$X$41=1,'Simulador Pagos Oportunos'!$K$55,IF('Simulador Pagos Oportunos'!$X$41=2,'Simulador Pagos Oportunos'!$M$55,IF('Simulador Pagos Oportunos'!$X$41=3,'Simulador Pagos Oportunos'!$O$55,0)))))","v":0},null,0,null,null,null,0,0.10999999999999999,null,null,0.1225,0.1225,0,0,10,11,0,0,0,{"$f":"IF(AS146<0,0,IF($A147=$B$9,AS146+$D$9,IF($A147=$B$10,AS146+$D$10,AS146)))","v":0},{"$f":"IF(AO147+AQ147-AP146<=0,AO147+AQ147,IF($A147=$B$9,$F$9,IF($A147=$B$10,$F$10,AP146*(1+AV147))))","v":0},0,0,0,{"$f":"IF(AO147=0,\"\",IF('Simulador Pagos Oportunos'!$X$41=4,AD147,IF('Simulador Pagos Oportunos'!$X$41=1,AE147,IF('Simulador Pagos Oportunos'!$X$41=2,AF147,IF('Simulador Pagos Oportunos'!$X$41=3,AG147,AC147)))))","v":""},{"$f":"IF(AO147<=0,0,IF('Simulador Pagos Oportunos'!$Y$71=1,0,AO147*'Simulador Pagos Oportunos'!$Y$74))+IF(AO147<=0,0,IF('Simulador Pagos Oportunos'!$X$41=4,'Simulador Pagos Oportunos'!$I$55,IF('Simulador Pagos Oportunos'!$X$41=1,'Simulador Pagos Oportunos'!$K$55,IF('Simulador Pagos Oportunos'!$X$41=2,'Simulador Pagos Oportunos'!$M$55,'Simulador Pagos Oportunos'!$O$55))))","v":0},null,0,0,{"$f":"IF(AO147=0,\"\",DATE(YEAR(AY146),MONTH(AY146)+1,1))","v":""},0,131]
[132,0,null,{"$f":"IF(B148+F148-D147<=0,B148+F148,IF(A148=$B$9,$F$9,IF(A148=$B$10,$F$10,IF(AND('Simulador Pagos Oportunos'!$AH$45=2,L147=0),D147*(1+Z148),IF($AL$3=2,B148*AI148,D147*(1+Z148))))))","v":0},null,0,null,0,null,{"$f":"IF(B148-H148=0,0,J146)","v":0},null,null,null,{"$f":"IF('Simulador Pagos Oportunos'!$V$66=1,0,L148*'Simulador Pagos Oportunos'!$O$69*'Simulador Pagos Oportunos'!$W$65)","v":0},null,{"$f":"IF(B148=0,\"\",IF('Simulador Pagos Oportunos'!$X$41=4,AD148,IF('Simulador Pagos Oportunos'!$X$41=1,AE148,IF('Simulador Pagos Oportunos'!$X$41=2,AF148,IF('Simulador Pagos Oportunos'!$X$41=3,AG148,AC148)))))","v":""},null,0,null,{"$f":"IF(B148<=0,0,B148*IF('Simulador Pagos Oportunos'!$Y$71=1,0,'Simulador Pagos Oportunos'!$Y$74))","v":0},null,{"$f":"IF(B148=0,0,IF('Simulador Pagos Oportunos'!$X$41=4,'Simulador Pagos Oportunos'!$I$55,IF('Simulador Pagos Oportunos'!$X$41=1,'Simulador Pagos Oportunos'!$K$55,IF('Simulador Pagos Oportunos'!$X$41=2,'Simulador Pagos Oportunos'!$M$55,IF('Simulador Pagos Oportunos'!$X$41=3,'Simulador Pagos Oportunos'!$O$55,0)))))","v":0},null,0,null,null,null,0,0.10999999999999999,null,null,0.1225,0.1225,0,0,11,0,0,0,0,0,0,0,0,0,{"$f":"IF(AO148=0,\"\",IF('Simulador Pagos Oportunos'!$X$41=4,AD148,IF('Simulador Pagos Oportunos'!$X$41=1,AE148,IF('Simulador Pagos Oportunos'!$X$41=2,AF148,IF('Simulador Pagos Oportunos'!$X$41=3,AG148,AC148)))))","v":""},{"$f":"IF(AO148<=0,0,IF('Simulador Pagos Oportunos'!$Y$71=1,0,AO148*'Simulador Pagos Oportunos'!$Y$74))+IF(AO148<=0,0,IF('Simulador Pagos Oportunos'!$X$41=4,'Simulador Pagos Oportunos'!$I$55,IF('Simulador Pagos Oportunos'!$X$41=1,'Simulador Pagos Oportunos'!$K$55,IF('Simulador Pagos Oportunos'!$X$41=2,'Simulador Pagos Oportunos'!$M$55,'Simulador Pagos Oportunos'!$O$55))))","v":0},null,0,0,"",0,132]
[133,0,null,{"$f":"IF(B149+F149-D148<=0,B149+F149,IF(A149=$B$9,$F$9,IF(A149=$B$10,$F$10,IF(AND('Simulador Pagos Oportunos'!$AH$45=2,L148=0),D148*(1+Z149),IF($AL$3=2,B149*AI149,D148*(1+Z149))))))","v":0},null,0,null,0,null,null,null,null,null,{"$f":"IF('Simulador Pagos Oportunos'!$V$66=1,0,L149*'Simulador Pagos Oportunos'!$O$69*'Simulador Pagos Oportunos'!$W$65)","v":0},null,{"$f":"IF(B149=0,\"\",IF('Simulador Pagos Oportunos'!$X$41=4,AD149,IF('Simulador Pagos Oportunos'!$X$41=1,AE149,IF('Simulador Pagos Oportunos'!$X$41=2,AF149,IF('Simulador Pagos Oportunos'!$X$41=3,AG149,AC149)))))","v":""},null,0,null,{"$f":"IF(B149<=0,0,B149*IF('Simulador Pagos Oportunos'!$Y$71=1,0,'Simulador Pagos Oportunos'!$Y$74))","v":0},null,{"$f":"IF(B149=0,0,IF('Simulador Pagos Oportunos'!$X$41=4,'Simulador Pagos Oportunos'!$I$55,IF('Simulador Pagos Oportunos'!$X$41=1,'Simulador Pagos Oportunos'!$K$55,IF('Simulador Pagos Oportunos'!$X$41=2,'Simulador Pagos Oportunos'!$M$55,IF('Simulador Pagos Oportunos'!$X$41=3,'Simulador Pagos Oportunos'!$O$55,0)))))","v":0},null,0,null,{"$f":"IF(B149<=0,0,'Simulador Pagos Oportunos'!$AI$54)","v":0},null,0,{"$f":"IF(AC148=$AC$5,AC148,IF(AC148-0.25%<=$AC$5,$AC$5,AC148-0.25%))","v":0.10749999999999998},null,null,0.1225,0.1225,0,0,11,1,0,0,0,0,0,0,0,0,{"$f":"IF(AO149=0,\"\",IF('Simulador Pagos Oportunos'!$X$41=4,AD149,IF('Simulador Pagos Oportunos'!$X$41=1,AE149,IF('Simulador Pagos Oportunos'!$X$41=2,AF149,IF('Simulador Pagos Oportunos'!$X$41=3,AG149,AC149)))))","v":""},{"$f":"IF(AO149<=0,0,IF('Simulador Pagos Oportunos'!$Y$71=1,0,AO149*'Simulador Pagos Oportunos'!$Y$74))+IF(AO149<=0,0,IF('Simulador Pagos Oportunos'!$X$41=4,'Simulador Pagos Oportunos'!$I$55,IF('Simulador Pagos Oportunos'!$X$41=1,'Simulador Pagos Oportunos'!$K$55,IF('Simulador Pagos Oportunos'!$X$41=2,'Simulador Pagos Oportunos'!$M$55,'Simulador Pagos Oportunos'!$O$55))))","v":0},{"$f":"IF(AO149<=0,0,$AV$29)","v":0},0,0,"",0,133]
[134,0,null,{"$f":"IF(B150+F150-D149<=0,B150+F150,IF(A150=$B$9,$F$9,IF(A150=$B$10,$F$10,IF(AND('Simulador Pagos Oportunos'!$AH$45=2,L149=0),D149*(1+Z150),IF($AL$3=2,B150*AI150,D149*(1+Z150))))))","v":0},null,0,null,0,null,{"$f":"IF(B150-H150=0,0,J148*(1+(3%)))","v":0},null,null,null,{"$f":"IF('Simulador Pagos Oportunos'!$V$66=1,0,L150*'Simulador Pagos Oportunos'!$O$69*'Simulador Pagos Oportunos'!$W$65)","v":0},null,{"$f":"IF(B150=0,\"\",IF('Simulador Pagos Oportunos'!$X$41=4,AD150,IF('Simulador Pagos Oportunos'!$X$41=1,AE150,IF('Simulador Pagos Oportunos'!$X$41=2,AF150,IF('Simulador Pagos Oportunos'!$X$41=3,AG150,AC150)))))","v":""},null,0,null,{"$f":"IF(B150<=0,0,B150*IF('Simulador Pagos Oportunos'!$Y$71=1,0,'Simulador Pagos Oportunos'!$Y$74))","v":0},null,{"$f":"IF(B150=0,0,IF('Simulador Pagos Oportunos'!$X$41=4,'Simulador Pagos Oportunos'!$I$55,IF('Simulador Pagos Oportunos'!$X$41=1,'Simulador Pagos Oportunos'!$K$55,IF('Simulador Pagos Oportunos'!$X$41=2,'Simulador Pagos Oportunos'!$M$55,IF('Simulador Pagos Oportunos'!$X$41=3,'Simulador Pagos Oportunos'!$O$55,0)))))","v":0},null,0,null,null,null,0,{"$f":"AC149","v":0.10749999999999998},null,null,0.1225,0.1225,0,0,11,2,0,0,0,0,0,0,0,0,{"$f":"IF(AO150=0,\"\",IF('Simulador Pagos Oportunos'!$X$41=4,AD150,IF('Simulador Pagos Oportunos'!$X$41=1,AE150,IF('Simulador Pagos Oportunos'!$X$41=2,AF150,IF('Simulador Pagos Oportunos'!$X$41=3,AG150,AC150)))))","v":""},{"$f":"IF(AO150<=0,0,IF('Simulador Pagos Oportunos'!$Y$71=1,0,AO150*'Simulador Pagos Oportunos'!$Y$74))+IF(AO150<=0,0,IF('Simulador Pagos Oportunos'!$X$41=4,'Simulador Pagos Oportunos'!$I$55,IF('Simulador Pagos Oportunos'!$X$41=1,'Simulador Pagos Oportunos'!$K$55,IF('Simulador Pagos Oportunos'!$X$41=2,'Simulador Pagos Oportunos'!$M$55,'Simulador Pagos Oportunos'!$O$55))))","v":0},null,0,0,"",0,134]
[135,0,null,{"$f":"IF(B151+F151-D150<=0,B151+F151,IF(A151=$B$9,$F$9,IF(A151=$B$10,$F$10,IF(AND('Simulador Pagos Oportunos'!$AH$45=2,L150=0),D150*(1+Z151),IF($AL$3=2,B151*AI151,D150*(1+Z151))))))","v":0},null,0,null,0,null,null,null,null,null,{"$f":"IF('Simulador Pagos Oportunos'!$V$66=1,0,L151*'Simulador Pagos Oportunos'!$O$69*'Simulador Pagos Oportunos'!$W$65)","v":0},null,{"$f":"IF(B151=0,\"\",IF('Simulador Pagos Oportunos'!$X$41=4,AD151,IF('Simulador Pagos Oportunos'!$X$41=1,AE151,IF('Simulador Pagos Oportunos'!$X$41=2,AF151,IF('Simulador Pagos Oportunos'!$X$41=3,AG151,AC151)))))","v":""},null,0,null,{"$f":"IF(B151<=0,0,B151*IF('Simulador Pagos Oportunos'!$Y$71=1,0,'Simulador Pagos Oportunos'!$Y$74))","v":0},null,{"$f":"IF(B151=0,0,IF('Simulador Pagos Oportunos'!$X$41=4,'Simulador Pagos Oportunos'!$I$55,IF('Simulador Pagos Oportunos'!$X$41=1,'Simulador Pagos Oportunos'!$K$55,IF('Simulador Pagos Oportunos'!$X$41=2,'Simulador Pagos Oportunos'!$M$55,IF('Simulador Pagos Oportunos'!$X$41=3,'Simulador Pagos Oportunos'!$O$55,0)))))","v":0},null,0,null,null,null,0,{"$f":"AC150","v":0.10749999999999998},null,null,0.1225,0.1225,0,0,11,3,0,0,0,0,0,0,0,0,{"$f":"IF(AO151=0,\"\",IF('Simulador Pagos Oportunos'!$X$41=4,AD151,IF('Simulador Pagos Oportunos'!$X$41=1,AE151,IF('Simulador Pagos Oportunos'!$X$41=2,AF151,IF('Simulador Pagos Oportunos'!$X$41=3,AG151,AC151)))))","v":""},{"$f":"IF(AO151<=0,0,IF('Simulador Pagos Oportunos'!$Y$71=1,0,AO151*'Simulador Pagos Oportunos'!$Y$74))+IF(AO151<=0,0,IF('Simulador Pagos Oportunos'!$X$41=4,'Simulador Pagos Oportunos'!$I$55,IF('Simulador Pagos Oportunos'!$X$41=1,'Simulador Pagos Oportunos'!$K$55,IF('Simulador Pagos Oportunos'!$X$41=2,'Simulador Pagos Oportunos'!$M$55,'Simulador Pagos Oportunos'!$O$55))))","v":0},null,0,0,"",0,135]
[136,0,null,{"$f":"IF(B152+F152-D151<=0,B152+F152,IF(A152=$B$9,$F$9,IF(A152=$B$10,$F$10,IF(AND('Simulador Pagos Oportunos'!$AH$45=2,L151=0),D151*(1+Z152),IF($AL$3=2,B152*AI152,D151*(1+Z152))))))","v":0},null,0,null,0,null,{"$f":"IF(B152-H152=0,0,J150)","v":0},null,null,null,{"$f":"IF('Simulador Pagos Oportunos'!$V$66=1,0,L152*'Simulador Pagos Oportunos'!$O$69*'Simulador Pagos Oportunos'!$W$65)","v":0},null,{"$f":"IF(B152=0,\"\",IF('Simulador Pagos Oportunos'!$X$41=4,AD152,IF('Simulador Pagos Oportunos'!$X$41=1,AE152,IF('Simulador Pagos Oportunos'!$X$41=2,AF152,IF('Simulador Pagos Oportunos'!$X$41=3,AG152,AC152)))))","v":""},null,0,null,{"$f":"IF(B152<=0,0,B152*IF('Simulador Pagos Oportunos'!$Y$71=1,0,'Simulador Pagos Oportunos'!$Y$74))","v":0},null,{"$f":"IF(B152=0,0,IF('Simulador Pagos Oportunos'!$X$41=4,'Simulador Pagos Oportunos'!$I$55,IF('Simulador Pagos Oportunos'!$X$41=1,'Simulador Pagos Oportunos'!$K$55,IF('Simulador Pagos Oportunos'!$X$41=2,'Simulador Pagos Oportunos'!$M$55,IF('Simulador Pagos Oportunos'!$X$41=3,'Simulador Pagos Oportunos'!$O$55,0)))))","v":0},null,0,null,null,null,0,0.10749999999999998,null,null,0.1225,0.1225,0,0,11,4,0,0,0,0,0,0,0,0,{"$f":"IF(AO152=0,\"\",IF('Simulador Pagos Oportunos'!$X$41=4,AD152,IF('Simulador Pagos Oportunos'!$X$41=1,AE152,IF('Simulador Pagos Oportunos'!$X$41=2,AF152,IF('Simulador Pagos Oportunos'!$X$41=3,AG152,AC152)))))","v":""},{"$f":"IF(AO152<=0,0,IF('Simulador Pagos Oportunos'!$Y$71=1,0,AO152*'Simulador Pagos Oportunos'!$Y$74))+IF(AO152<=0,0,IF('Simulador Pagos Oportunos'!$X$41=4,'Simulador Pagos Oportunos'!$I$55,IF('Simulador Pagos Oportunos'!$X$41=1,'Simulador Pagos Oportunos'!$K$55,IF('Simulador Pagos Oportunos'!$X$41=2,'Simulador Pagos Oportunos'!$M$55,'Simulador Pagos Oportunos'!$O$55))))","v":0},null,0,0,"",0,136]
[137,0,null,{"$f":"IF(B153+F153-D152<=0,B153+F153,IF(A153=$B$9,$F$9,IF(A153=$B$10,$F$10,IF(AND('Simulador Pagos Oportunos'!$AH$45=2,L152=0),D152*(1+Z153),IF($AL$3=2,B153*AI153,D152*(1+Z153))))))","v":0},null,0,null,0,null,null,null,null,null,{"$f":"IF('Simulador Pagos Oportunos'!$V$66=1,0,L153*'Simulador Pagos Oportunos'!$O$69*'Simulador Pagos Oportunos'!$W$65)","v":0},null,{"$f":"IF(B153=0,\"\",IF('Simulador Pagos Oportunos'!$X$41=4,AD153,IF('Simulador Pagos Oportunos'!$X$41=1,AE153,IF('Simulador Pagos Oportunos'!$X$41=2,AF153,IF('Simulador Pagos Oportunos'!$X$41=3,AG153,AC153)))))","v":""},null,0,null,{"$f":"IF(B153<=0,0,B153*IF('Simulador Pagos Oportunos'!$Y$71=1,0,'Simulador Pagos Oportunos'!$Y$74))","v":0},null,{"$f":"IF(B153=0,0,IF('Simulador Pagos Oportunos'!$X$41=4,'Simulador Pagos Oportunos'!$I$55,IF('Simulador Pagos Oportunos'!$X$41=1,'Simulador Pagos Oportunos'!$K$55,IF('Simulador Pagos Oportunos'!$X$41=2,'Simulador Pagos Oportunos'!$M$55,IF('Simulador Pagos Oportunos'!$X$41=3,'Simulador Pagos Oportunos'!$O$55,0)))))","v":0},null,0,null,null,null,0,0.10749999999999998,null,null,0.1225,0.1225,0,0,11,5,0,0,0,0,0,0,0,0,{"$f":"IF(AO153=0,\"\",IF('Simulador Pagos Oportunos'!$X$41=4,AD153,IF('Simulador Pagos Oportunos'!$X$41=1,AE153,IF('Simulador Pagos Oportunos'!$X$41=2,AF153,IF('Simulador Pagos Oportunos'!$X$41=3,AG153,AC153)))))","v":""},{"$f":"IF(AO153<=0,0,IF('Simulador Pagos Oportunos'!$Y$71=1,0,AO153*'Simulador Pagos Oportunos'!$Y$74))+IF(AO153<=0,0,IF('Simulador Pagos Oportunos'!$X$41=4,'Simulador Pagos Oportunos'!$I$55,IF('Simulador Pagos Oportunos'!$X$41=1,'Simulador Pagos Oportunos'!$K$55,IF('Simulador Pagos Oportunos'!$X$41=2,'Simulador Pagos Oportunos'!$M$55,'Simulador Pagos Oportunos'!$O$55))))","v":0},null,0,0,"",0,137]
[138,0,null,{"$f":"IF(B154+F154-D153<=0,B154+F154,IF(A154=$B$9,$F$9,IF(A154=$B$10,$F$10,IF(AND('Simulador Pagos Oportunos'!$AH$45=2,L153=0),D153*(1+Z154),IF($AL$3=2,B154*AI154,D153*(1+Z154))))))","v":0},null,0,null,0,null,{"$f":"IF(B154-H154=0,0,J152)","v":0},null,null,null,{"$f":"IF('Simulador Pagos Oportunos'!$V$66=1,0,L154*'Simulador Pagos Oportunos'!$O$69*'Simulador Pagos Oportunos'!$W$65)","v":0},null,{"$f":"IF(B154=0,\"\",IF('Simulador Pagos Oportunos'!$X$41=4,AD154,IF('Simulador Pagos Oportunos'!$X$41=1,AE154,IF('Simulador Pagos Oportunos'!$X$41=2,AF154,IF('Simulador Pagos Oportunos'!$X$41=3,AG154,AC154)))))","v":""},null,0,null,{"$f":"IF(B154<=0,0,B154*IF('Simulador Pagos Oportunos'!$Y$71=1,0,'Simulador Pagos Oportunos'!$Y$74))","v":0},null,{"$f":"IF(B154=0,0,IF('Simulador Pagos Oportunos'!$X$41=4,'Simulador Pagos Oportunos'!$I$55,IF('Simulador Pagos Oportunos'!$X$41=1,'Simulador Pagos Oportunos'!$K$55,IF('Simulador Pagos Oportunos'!$X$41=2,'Simulador Pagos Oportunos'!$M$55,IF('Simulador Pagos Oportunos'!$X$41=3,'Simulador Pagos Oportunos'!$O$55,0)))))","v":0},null,0,null,null,null,0,0.10749999999999998,null,null,{"$f":"AF153","v":0.1225},0.1225,0,0,11,6,0,0,0,0,0,0,0,0,{"$f":"IF(AO154=0,\"\",IF('Simulador Pagos Oportunos'!$X$41=4,AD154,IF('Simulador Pagos Oportunos'!$X$41=1,AE154,IF('Simulador Pagos Oportunos'!$X$41=2,AF154,IF('Simulador Pagos Oportunos'!$X$41=3,AG154,AC154)))))","v":""},{"$f":"IF(AO154<=0,0,IF('Simulador Pagos Oportunos'!$Y$71=1,0,AO154*'Simulador Pagos Oportunos'!$Y$74))+IF(AO154<=0,0,IF('Simulador Pagos Oportunos'!$X$41=4,'Simulador Pagos Oportunos'!$I$55,IF('Simulador Pagos Oportunos'!$X$41=1,'Simulador Pagos Oportunos'!$K$55,IF('Simulador Pagos Oportunos'!$X$41=2,'Simulador Pagos Oportunos'!$M$55,'Simulador Pagos Oportunos'!$O$55))))","v":0},null,0,0,"",0,138]
[139,0,null,{"$f":"IF(B155+F155-D154<=0,B155+F155,IF(A155=$B$9,$F$9,IF(A155=$B$10,$F$10,IF(AND('Simulador Pagos Oportunos'!$AH$45=2,L154=0),D154*(1+Z155),IF($AL$3=2,B155*AI155,D154*(1+Z155))))))","v":0},null,0,null,0,null,null,null,null,null,{"$f":"IF('Simulador Pagos Oportunos'!$V$66=1,0,L155*'Simulador Pagos Oportunos'!$O$69*'Simulador Pagos Oportunos'!$W$65)","v":0},null,{"$f":"IF(B155=0,\"\",IF('Simulador Pagos Oportunos'!$X$41=4,AD155,IF('Simulador Pagos Oportunos'!$X$41=1,AE155,IF('Simulador Pagos Oportunos'!$X$41=2,AF155,IF('Simulador Pagos Oportunos'!$X$41=3,AG155,AC155)))))","v":""},null,0,null,{"$f":"IF(B155<=0,0,B155*IF('Simulador Pagos Oportunos'!$Y$71=1,0,'Simulador Pagos Oportunos'!$Y$74))","v":0},null,{"$f":"IF(B155=0,0,IF('Simulador Pagos Oportunos'!$X$41=4,'Simulador Pagos Oportunos'!$I$55,IF('Simulador Pagos Oportunos'!$X$41=1,'Simulador Pagos Oportunos'!$K$55,IF('Simulador Pagos Oportunos'!$X$41=2,'Simulador Pagos Oportunos'!$M$55,IF('Simulador Pagos Oportunos'!$X$41=3,'Simulador Pagos Oportunos'!$O$55,0)))))","v":0},null,0,null,null,null,0,0.10749999999999998,null,null,0.1225,0.1225,0,0,11,7,0,0,0,0,0,0,0,0,{"$f":"IF(AO155=0,\"\",IF('Simulador Pagos Oportunos'!$X$41=4,AD155,IF('Simulador Pagos Oportunos'!$X$41=1,AE155,IF('Simulador Pagos Oportunos'!$X$41=2,AF155,IF('Simulador Pagos Oportunos'!$X$41=3,AG155,AC155)))))","v":""},{"$f":"IF(AO155<=0,0,IF('Simulador Pagos Oportunos'!$Y$71=1,0,AO155*'Simulador Pagos Oportunos'!$Y$74))+IF(AO155<=0,0,IF('Simulador Pagos Oportunos'!$X$41=4,'Simulador Pagos Oportunos'!$I$55,IF('Simulador Pagos Oportunos'!$X$41=1,'Simulador Pagos Oportunos'!$K$55,IF('Simulador Pagos Oportunos'!$X$41=2,'Simulador Pagos Oportunos'!$M$55,'Simulador Pagos Oportunos'!$O$55))))","v":0},null,0,0,"",0,139]
[140,0,null,{"$f":"IF(B156+F156-D155<=0,B156+F156,IF(A156=$B$9,$F$9,IF(A156=$B$10,$F$10,IF(AND('Simulador Pagos Oportunos'!$AH$45=2,L155=0),D155*(1+Z156),IF($AL$3=2,B156*AI156,D155*(1+Z156))))))","v":0},null,0,null,0,null,{"$f":"IF(B156-H156=0,0,J154)","v":0},null,null,null,{"$f":"IF('Simulador Pagos Oportunos'!$V$66=1,0,L156*'Simulador Pagos Oportunos'!$O$69*'Simulador Pagos Oportunos'!$W$65)","v":0},null,{"$f":"IF(B156=0,\"\",IF('Simulador Pagos Oportunos'!$X$41=4,AD156,IF('Simulador Pagos Oportunos'!$X$41=1,AE156,IF('Simulador Pagos Oportunos'!$X$41=2,AF156,IF('Simulador Pagos Oportunos'!$X$41=3,AG156,AC156)))))","v":""},null,0,null,{"$f":"IF(B156<=0,0,B156*IF('Simulador Pagos Oportunos'!$Y$71=1,0,'Simulador Pagos Oportunos'!$Y$74))","v":0},null,{"$f":"IF(B156=0,0,IF('Simulador Pagos Oportunos'!$X$41=4,'Simulador Pagos Oportunos'!$I$55,IF('Simulador Pagos Oportunos'!$X$41=1,'Simulador Pagos Oportunos'!$K$55,IF('Simulador Pagos Oportunos'!$X$41=2,'Simulador Pagos Oportunos'!$M$55,IF('Simulador Pagos Oportunos'!$X$41=3,'Simulador Pagos Oportunos'!$O$55,0)))))","v":0},null,0,null,null,null,0,0.10749999999999998,null,null,0.1225,0.1225,0,0,11,8,0,0,0,0,0,0,0,0,{"$f":"IF(AO156=0,\"\",IF('Simulador Pagos Oportunos'!$X$41=4,AD156,IF('Simulador Pagos Oportunos'!$X$41=1,AE156,IF('Simulador Pagos Oportunos'!$X$41=2,AF156,IF('Simulador Pagos Oportunos'!$X$41=3,AG156,AC156)))))","v":""},{"$f":"IF(AO156<=0,0,IF('Simulador Pagos Oportunos'!$Y$71=1,0,AO156*'Simulador Pagos Oportunos'!$Y$74))+IF(AO156<=0,0,IF('Simulador Pagos Oportunos'!$X$41=4,'Simulador Pagos Oportunos'!$I$55,IF('Simulador Pagos Oportunos'!$X$41=1,'Simulador Pagos Oportunos'!$K$55,IF('Simulador Pagos Oportunos'!$X$41=2,'Simulador Pagos Oportunos'!$M$55,'Simulador Pagos Oportunos'!$O$55))))","v":0},null,0,0,"",0,140]
[141,0,null,{"$f":"IF(B157+F157-D156<=0,B157+F157,IF(A157=$B$9,$F$9,IF(A157=$B$10,$F$10,IF(AND('Simulador Pagos Oportunos'!$AH$45=2,L156=0),D156*(1+Z157),IF($AL$3=2,B157*AI157,D156*(1+Z157))))))","v":0},null,0,null,0,null,null,null,null,null,{"$f":"IF('Simulador Pagos Oportunos'!$V$66=1,0,L157*'Simulador Pagos Oportunos'!$O$69*'Simulador Pagos Oportunos'!$W$65)","v":0},null,{"$f":"IF(B157=0,\"\",IF('Simulador Pagos Oportunos'!$X$41=4,AD157,IF('Simulador Pagos Oportunos'!$X$41=1,AE157,IF('Simulador Pagos Oportunos'!$X$41=2,AF157,IF('Simulador Pagos Oportunos'!$X$41=3,AG157,AC157)))))","v":""},null,0,null,{"$f":"IF(B157<=0,0,B157*IF('Simulador Pagos Oportunos'!$Y$71=1,0,'Simulador Pagos Oportunos'!$Y$74))","v":0},null,{"$f":"IF(B157=0,0,IF('Simulador Pagos Oportunos'!$X$41=4,'Simulador Pagos Oportunos'!$I$55,IF('Simulador Pagos Oportunos'!$X$41=1,'Simulador Pagos Oportunos'!$K$55,IF('Simulador Pagos Oportunos'!$X$41=2,'Simulador Pagos Oportunos'!$M$55,IF('Simulador Pagos Oportunos'!$X$41=3,'Simulador Pagos Oportunos'!$O$55,0)))))","v":0},null,0,null,null,null,0,0.10749999999999998,null,null,0.1225,0.1225,0,0,11,9,0,0,0,0,0,0,0,0,{"$f":"IF(AO157=0,\"\",IF('Simulador Pagos Oportunos'!$X$41=4,AD157,IF('Simulador Pagos Oportunos'!$X$41=1,AE157,IF('Simulador Pagos Oportunos'!$X$41=2,AF157,IF('Simulador Pagos Oportunos'!$X$41=3,AG157,AC157)))))","v":""},{"$f":"IF(AO157<=0,0,IF('Simulador Pagos Oportunos'!$Y$71=1,0,AO157*'Simulador Pagos Oportunos'!$Y$74))+IF(AO157<=0,0,IF('Simulador Pagos Oportunos'!$X$41=4,'Simulador Pagos Oportunos'!$I$55,IF('Simulador Pagos Oportunos'!$X$41=1,'Simulador Pagos Oportunos'!$K$55,IF('Simulador Pagos Oportunos'!$X$41=2,'Simulador Pagos Oportunos'!$M$55,'Simulador Pagos Oportunos'!$O$55))))","v":0},null,0,0,"",0,141]
[142,0,null,{"$f":"IF(B158+F158-D157<=0,B158+F158,IF(A158=$B$9,$F$9,IF(A158=$B$10,$F$10,IF(AND('Simulador Pagos Oportunos'!$AH$45=2,L157=0),D157*(1+Z158),IF($AL$3=2,B158*AI158,D157*(1+Z158))))))","v":0},null,0,null,0,null,{"$f":"IF(B158-H158=0,0,J156)","v":0},null,null,null,{"$f":"IF('Simulador Pagos Oportunos'!$V$66=1,0,L158*'Simulador Pagos Oportunos'!$O$69*'Simulador Pagos Oportunos'!$W$65)","v":0},null,{"$f":"IF(B158=0,\"\",IF('Simulador Pagos Oportunos'!$X$41=4,AD158,IF('Simulador Pagos Oportunos'!$X$41=1,AE158,IF('Simulador Pagos Oportunos'!$X$41=2,AF158,IF('Simulador Pagos Oportunos'!$X$41=3,AG158,AC158)))))","v":""},null,0,null,{"$f":"IF(B158<=0,0,B158*IF('Simulador Pagos Oportunos'!$Y$71=1,0,'Simulador Pagos Oportunos'!$Y$74))","v":0},null,{"$f":"IF(B158=0,0,IF('Simulador Pagos Oportunos'!$X$41=4,'Simulador Pagos Oportunos'!$I$55,IF('Simulador Pagos Oportunos'!$X$41=1,'Simulador Pagos Oportunos'!$K$55,IF('Simulador Pagos Oportunos'!$X$41=2,'Simulador Pagos Oportunos'!$M$55,IF('Simulador Pagos Oportunos'!$X$41=3,'Simulador Pagos Oportunos'!$O$55,0)))))","v":0},null,0,null,null,null,0,0.10749999999999998,null,null,0.1225,0.1225,0,0,11,10,0,0,0,0,0,0,0,0,{"$f":"IF(AO158=0,\"\",IF('Simulador Pagos Oportunos'!$X$41=4,AD158,IF('Simulador Pagos Oportunos'!$X$41=1,AE158,IF('Simulador Pagos Oportunos'!$X$41=2,AF158,IF('Simulador Pagos Oportunos'!$X$41=3,AG158,AC158)))))","v":""},{"$f":"IF(AO158<=0,0,IF('Simulador Pagos Oportunos'!$Y$71=1,0,AO158*'Simulador Pagos Oportunos'!$Y$74))+IF(AO158<=0,0,IF('Simulador Pagos Oportunos'!$X$41=4,'Simulador Pagos Oportunos'!$I$55,IF('Simulador Pagos Oportunos'!$X$41=1,'Simulador Pagos Oportunos'!$K$55,IF('Simulador Pagos Oportunos'!$X$41=2,'Simulador Pagos Oportunos'!$M$55,'Simulador Pagos Oportunos'!$O$55))))","v":0},null,0,0,"",0,142]
[143,0,null,{"$f":"IF(B159+F159-D158<=0,B159+F159,IF(A159=$B$9,$F$9,IF(A159=$B$10,$F$10,IF(AND('Simulador Pagos Oportunos'!$AH$45=2,L158=0),D158*(1+Z159),IF($AL$3=2,B159*AI159,D158*(1+Z159))))))","v":0},null,0,null,0,null,null,null,null,null,{"$f":"IF('Simulador Pagos Oportunos'!$V$66=1,0,L159*'Simulador Pagos Oportunos'!$O$69*'Simulador Pagos Oportunos'!$W$65)","v":0},null,{"$f":"IF(B159=0,\"\",IF('Simulador Pagos Oportunos'!$X$41=4,AD159,IF('Simulador Pagos Oportunos'!$X$41=1,AE159,IF('Simulador Pagos Oportunos'!$X$41=2,AF159,IF('Simulador Pagos Oportunos'!$X$41=3,AG159,AC159)))))","v":""},null,0,null,{"$f":"IF(B159<=0,0,B159*IF('Simulador Pagos Oportunos'!$Y$71=1,0,'Simulador Pagos Oportunos'!$Y$74))","v":0},null,{"$f":"IF(B159=0,0,IF('Simulador Pagos Oportunos'!$X$41=4,'Simulador Pagos Oportunos'!$I$55,IF('Simulador Pagos Oportunos'!$X$41=1,'Simulador Pagos Oportunos'!$K$55,IF('Simulador Pagos Oportunos'!$X$41=2,'Simulador Pagos Oportunos'!$M$55,IF('Simulador Pagos Oportunos'!$X$41=3,'Simulador Pagos Oportunos'!$O$55,0)))))","v":0},null,0,null,null,null,0,0.10749999999999998,null,null,0.1225,0.1225,0,0,11,11,0,0,0,0,0,0,0,0,{"$f":"IF(AO159=0,\"\",IF('Simulador Pagos Oportunos'!$X$41=4,AD159,IF('Simulador Pagos Oportunos'!$X$41=1,AE159,IF('Simulador Pagos Oportunos'!$X$41=2,AF159,IF('Simulador Pagos Oportunos'!$X$41=3,AG159,AC159)))))","v":""},{"$f":"IF(AO159<=0,0,IF('Simulador Pagos Oportunos'!$Y$71=1,0,AO159*'Simulador Pagos Oportunos'!$Y$74))+IF(AO159<=0,0,IF('Simulador Pagos Oportunos'!$X$41=4,'Simulador Pagos Oportunos'!$I$55,IF('Simulador Pagos Oportunos'!$X$41=1,'Simulador Pagos Oportunos'!$K$55,IF('Simulador Pagos Oportunos'!$X$41=2,'Simulador Pagos Oportunos'!$M$55,'Simulador Pagos Oportunos'!$O$55))))","v":0},null,0,0,"",0,143]
[144,0,null,{"$f":"IF(B160+F160-D159<=0,B160+F160,IF(A160=$B$9,$F$9,IF(A160=$B$10,$F$10,IF(AND('Simulador Pagos Oportunos'!$AH$45=2,L159=0),D159*(1+Z160),IF($AL$3=2,B160*AI160,D159*(1+Z160))))))","v":0},null,0,null,0,null,{"$f":"IF(B160-H160=0,0,J158)","v":0},null,null,null,{"$f":"IF('Simulador Pagos Oportunos'!$V$66=1,0,L160*'Simulador Pagos Oportunos'!$O$69*'Simulador Pagos Oportunos'!$W$65)","v":0},null,{"$f":"IF(B160=0,\"\",IF('Simulador Pagos Oportunos'!$X$41=4,AD160,IF('Simulador Pagos Oportunos'!$X$41=1,AE160,IF('Simulador Pagos Oportunos'!$X$41=2,AF160,IF('Simulador Pagos Oportunos'!$X$41=3,AG160,AC160)))))","v":""},null,0,null,{"$f":"IF(B160<=0,0,B160*IF('Simulador Pagos Oportunos'!$Y$71=1,0,'Simulador Pagos Oportunos'!$Y$74))","v":0},null,{"$f":"IF(B160=0,0,IF('Simulador Pagos Oportunos'!$X$41=4,'Simulador Pagos Oportunos'!$I$55,IF('Simulador Pagos Oportunos'!$X$41=1,'Simulador Pagos Oportunos'!$K$55,IF('Simulador Pagos Oportunos'!$X$41=2,'Simulador Pagos Oportunos'!$M$55,IF('Simulador Pagos Oportunos'!$X$41=3,'Simulador Pagos Oportunos'!$O$55,0)))))","v":0},null,0,null,null,null,0,0.10749999999999998,null,null,0.1225,0.1225,0,0,12,0,0,0,0,0,0,0,0,0,{"$f":"IF(AO160=0,\"\",IF('Simulador Pagos Oportunos'!$X$41=4,AD160,IF('Simulador Pagos Oportunos'!$X$41=1,AE160,IF('Simulador Pagos Oportunos'!$X$41=2,AF160,IF('Simulador Pagos Oportunos'!$X$41=3,AG160,AC160)))))","v":""},{"$f":"IF(AO160<=0,0,IF('Simulador Pagos Oportunos'!$Y$71=1,0,AO160*'Simulador Pagos Oportunos'!$Y$74))+IF(AO160<=0,0,IF('Simulador Pagos Oportunos'!$X$41=4,'Simulador Pagos Oportunos'!$I$55,IF('Simulador Pagos Oportunos'!$X$41=1,'Simulador Pagos Oportunos'!$K$55,IF('Simulador Pagos Oportunos'!$X$41=2,'Simulador Pagos Oportunos'!$M$55,'Simulador Pagos Oportunos'!$O$55))))","v":0},null,0,0,"",0,144]
[145,0,null,{"$f":"IF(B161+F161-D160<=0,B161+F161,IF(A161=$B$9,$F$9,IF(A161=$B$10,$F$10,IF(AND('Simulador Pagos Oportunos'!$AH$45=2,L160=0),D160*(1+Z161),IF($AL$3=2,B161*AI161,D160*(1+Z161))))))","v":0},null,0,null,0,null,null,null,null,null,{"$f":"IF('Simulador Pagos Oportunos'!$V$66=1,0,L161*'Simulador Pagos Oportunos'!$O$69*'Simulador Pagos Oportunos'!$W$65)","v":0},null,{"$f":"IF(B161=0,\"\",IF('Simulador Pagos Oportunos'!$X$41=4,AD161,IF('Simulador Pagos Oportunos'!$X$41=1,AE161,IF('Simulador Pagos Oportunos'!$X$41=2,AF161,IF('Simulador Pagos Oportunos'!$X$41=3,AG161,AC161)))))","v":""},null,0,null,{"$f":"IF(B161<=0,0,B161*IF('Simulador Pagos Oportunos'!$Y$71=1,0,'Simulador Pagos Oportunos'!$Y$74))","v":0},null,{"$f":"IF(B161=0,0,IF('Simulador Pagos Oportunos'!$X$41=4,'Simulador Pagos Oportunos'!$I$55,IF('Simulador Pagos Oportunos'!$X$41=1,'Simulador Pagos Oportunos'!$K$55,IF('Simulador Pagos Oportunos'!$X$41=2,'Simulador Pagos Oportunos'!$M$55,IF('Simulador Pagos Oportunos'!$X$41=3,'Simulador Pagos Oportunos'!$O$55,0)))))","v":0},null,0,null,{"$f":"IF(B161<=0,0,'Simulador Pagos Oportunos'!$AI$54)","v":0},null,0,{"$f":"IF(AC160=$AC$5,AC160,IF(AC160-0.25%<=$AC$5,$AC$5,AC160-0.25%))","v":0.10499999999999998},null,null,0.1225,0.1225,0,0,12,1,0,0,0,0,0,0,0,0,{"$f":"IF(AO161=0,\"\",IF('Simulador Pagos Oportunos'!$X$41=4,AD161,IF('Simulador Pagos Oportunos'!$X$41=1,AE161,IF('Simulador Pagos Oportunos'!$X$41=2,AF161,IF('Simulador Pagos Oportunos'!$X$41=3,AG161,AC161)))))","v":""},{"$f":"IF(AO161<=0,0,IF('Simulador Pagos Oportunos'!$Y$71=1,0,AO161*'Simulador Pagos Oportunos'!$Y$74))+IF(AO161<=0,0,IF('Simulador Pagos Oportunos'!$X$41=4,'Simulador Pagos Oportunos'!$I$55,IF('Simulador Pagos Oportunos'!$X$41=1,'Simulador Pagos Oportunos'!$K$55,IF('Simulador Pagos Oportunos'!$X$41=2,'Simulador Pagos Oportunos'!$M$55,'Simulador Pagos Oportunos'!$O$55))))","v":0},{"$f":"IF(AO161<=0,0,$AV$29)","v":0},0,0,"",0,145]
[146,0,null,{"$f":"IF(B162+F162-D161<=0,B162+F162,IF(A162=$B$9,$F$9,IF(A162=$B$10,$F$10,IF(AND('Simulador Pagos Oportunos'!$AH$45=2,L161=0),D161*(1+Z162),IF($AL$3=2,B162*AI162,D161*(1+Z162))))))","v":0},null,0,null,0,null,{"$f":"IF(B162-H162=0,0,J160*(1+(3%)))","v":0},null,null,null,{"$f":"IF('Simulador Pagos Oportunos'!$V$66=1,0,L162*'Simulador Pagos Oportunos'!$O$69*'Simulador Pagos Oportunos'!$W$65)","v":0},null,{"$f":"IF(B162=0,\"\",IF('Simulador Pagos Oportunos'!$X$41=4,AD162,IF('Simulador Pagos Oportunos'!$X$41=1,AE162,IF('Simulador Pagos Oportunos'!$X$41=2,AF162,IF('Simulador Pagos Oportunos'!$X$41=3,AG162,AC162)))))","v":""},null,0,null,{"$f":"IF(B162<=0,0,B162*IF('Simulador Pagos Oportunos'!$Y$71=1,0,'Simulador Pagos Oportunos'!$Y$74))","v":0},null,{"$f":"IF(B162=0,0,IF('Simulador Pagos Oportunos'!$X$41=4,'Simulador Pagos Oportunos'!$I$55,IF('Simulador Pagos Oportunos'!$X$41=1,'Simulador Pagos Oportunos'!$K$55,IF('Simulador Pagos Oportunos'!$X$41=2,'Simulador Pagos Oportunos'!$M$55,IF('Simulador Pagos Oportunos'!$X$41=3,'Simulador Pagos Oportunos'!$O$55,0)))))","v":0},null,0,null,null,null,0,{"$f":"AC161","v":0.10499999999999998},null,null,0.1225,0.1225,0,0,12,2,0,0,0,0,0,0,0,0,{"$f":"IF(AO162=0,\"\",IF('Simulador Pagos Oportunos'!$X$41=4,AD162,IF('Simulador Pagos Oportunos'!$X$41=1,AE162,IF('Simulador Pagos Oportunos'!$X$41=2,AF162,IF('Simulador Pagos Oportunos'!$X$41=3,AG162,AC162)))))","v":""},{"$f":"IF(AO162<=0,0,IF('Simulador Pagos Oportunos'!$Y$71=1,0,AO162*'Simulador Pagos Oportunos'!$Y$74))+IF(AO162<=0,0,IF('Simulador Pagos Oportunos'!$X$41=4,'Simulador Pagos Oportunos'!$I$55,IF('Simulador Pagos Oportunos'!$X$41=1,'Simulador Pagos Oportunos'!$K$55,IF('Simulador Pagos Oportunos'!$X$41=2,'Simulador Pagos Oportunos'!$M$55,'Simulador Pagos Oportunos'!$O$55))))","v":0},null,0,0,"",0,146]
[147,0,null,{"$f":"IF(B163+F163-D162<=0,B163+F163,IF(A163=$B$9,$F$9,IF(A163=$B$10,$F$10,IF(AND('Simulador Pagos Oportunos'!$AH$45=2,L162=0),D162*(1+Z163),IF($AL$3=2,B163*AI163,D162*(1+Z163))))))","v":0},null,0,null,0,null,null,null,null,null,{"$f":"IF('Simulador Pagos Oportunos'!$V$66=1,0,L163*'Simulador Pagos Oportunos'!$O$69*'Simulador Pagos Oportunos'!$W$65)","v":0},null,{"$f":"IF(B163=0,\"\",IF('Simulador Pagos Oportunos'!$X$41=4,AD163,IF('Simulador Pagos Oportunos'!$X$41=1,AE163,IF('Simulador Pagos Oportunos'!$X$41=2,AF163,IF('Simulador Pagos Oportunos'!$X$41=3,AG163,AC163)))))","v":""},null,0,null,{"$f":"IF(B163<=0,0,B163*IF('Simulador Pagos Oportunos'!$Y$71=1,0,'Simulador Pagos Oportunos'!$Y$74))","v":0},null,{"$f":"IF(B163=0,0,IF('Simulador Pagos Oportunos'!$X$41=4,'Simulador Pagos Oportunos'!$I$55,IF('Simulador Pagos Oportunos'!$X$41=1,'Simulador Pagos Oportunos'!$K$55,IF('Simulador Pagos Oportunos'!$X$41=2,'Simulador Pagos Oportunos'!$M$55,IF('Simulador Pagos Oportunos'!$X$41=3,'Simulador Pagos Oportunos'!$O$55,0)))))","v":0},null,0,null,null,null,0,{"$f":"AC162","v":0.10499999999999998},null,null,0.1225,0.1225,0,0,12,3,0,0,0,0,0,0,0,0,{"$f":"IF(AO163=0,\"\",IF('Simulador Pagos Oportunos'!$X$41=4,AD163,IF('Simulador Pagos Oportunos'!$X$41=1,AE163,IF('Simulador Pagos Oportunos'!$X$41=2,AF163,IF('Simulador Pagos Oportunos'!$X$41=3,AG163,AC163)))))","v":""},{"$f":"IF(AO163<=0,0,IF('Simulador Pagos Oportunos'!$Y$71=1,0,AO163*'Simulador Pagos Oportunos'!$Y$74))+IF(AO163<=0,0,IF('Simulador Pagos Oportunos'!$X$41=4,'Simulador Pagos Oportunos'!$I$55,IF('Simulador Pagos Oportunos'!$X$41=1,'Simulador Pagos Oportunos'!$K$55,IF('Simulador Pagos Oportunos'!$X$41=2,'Simulador Pagos Oportunos'!$M$55,'Simulador Pagos Oportunos'!$O$55))))","v":0},null,0,0,"",0,147]
[148,0,null,{"$f":"IF(B164+F164-D163<=0,B164+F164,IF(A164=$B$9,$F$9,IF(A164=$B$10,$F$10,IF(AND('Simulador Pagos Oportunos'!$AH$45=2,L163=0),D163*(1+Z164),IF($AL$3=2,B164*AI164,D163*(1+Z164))))))","v":0},null,0,null,0,null,{"$f":"IF(B164-H164=0,0,J162)","v":0},null,null,null,{"$f":"IF('Simulador Pagos Oportunos'!$V$66=1,0,L164*'Simulador Pagos Oportunos'!$O$69*'Simulador Pagos Oportunos'!$W$65)","v":0},null,{"$f":"IF(B164=0,\"\",IF('Simulador Pagos Oportunos'!$X$41=4,AD164,IF('Simulador Pagos Oportunos'!$X$41=1,AE164,IF('Simulador Pagos Oportunos'!$X$41=2,AF164,IF('Simulador Pagos Oportunos'!$X$41=3,AG164,AC164)))))","v":""},null,0,null,{"$f":"IF(B164<=0,0,B164*IF('Simulador Pagos Oportunos'!$Y$71=1,0,'Simulador Pagos Oportunos'!$Y$74))","v":0},null,{"$f":"IF(B164=0,0,IF('Simulador Pagos Oportunos'!$X$41=4,'Simulador Pagos Oportunos'!$I$55,IF('Simulador Pagos Oportunos'!$X$41=1,'Simulador Pagos Oportunos'!$K$55,IF('Simulador Pagos Oportunos'!$X$41=2,'Simulador Pagos Oportunos'!$M$55,IF('Simulador Pagos Oportunos'!$X$41=3,'Simulador Pagos Oportunos'!$O$55,0)))))","v":0},null,0,null,null,null,0,0.10499999999999998,null,null,0.1225,0.1225,0,0,12,4,0,0,0,0,0,0,0,0,{"$f":"IF(AO164=0,\"\",IF('Simulador Pagos Oportunos'!$X$41=4,AD164,IF('Simulador Pagos Oportunos'!$X$41=1,AE164,IF('Simulador Pagos Oportunos'!$X$41=2,AF164,IF('Simulador Pagos Oportunos'!$X$41=3,AG164,AC164)))))","v":""},{"$f":"IF(AO164<=0,0,IF('Simulador Pagos Oportunos'!$Y$71=1,0,AO164*'Simulador Pagos Oportunos'!$Y$74))+IF(AO164<=0,0,IF('Simulador Pagos Oportunos'!$X$41=4,'Simulador Pagos Oportunos'!$I$55,IF('Simulador Pagos Oportunos'!$X$41=1,'Simulador Pagos Oportunos'!$K$55,IF('Simulador Pagos Oportunos'!$X$41=2,'Simulador Pagos Oportunos'!$M$55,'Simulador Pagos Oportunos'!$O$55))))","v":0},null,0,0,"",0,148]
[149,0,null,{"$f":"IF(B165+F165-D164<=0,B165+F165,IF(A165=$B$9,$F$9,IF(A165=$B$10,$F$10,IF(AND('Simulador Pagos Oportunos'!$AH$45=2,L164=0),D164*(1+Z165),IF($AL$3=2,B165*AI165,D164*(1+Z165))))))","v":0},null,0,null,0,null,null,null,null,null,{"$f":"IF('Simulador Pagos Oportunos'!$V$66=1,0,L165*'Simulador Pagos Oportunos'!$O$69*'Simulador Pagos Oportunos'!$W$65)","v":0},null,{"$f":"IF(B165=0,\"\",IF('Simulador Pagos Oportunos'!$X$41=4,AD165,IF('Simulador Pagos Oportunos'!$X$41=1,AE165,IF('Simulador Pagos Oportunos'!$X$41=2,AF165,IF('Simulador Pagos Oportunos'!$X$41=3,AG165,AC165)))))","v":""},null,0,null,{"$f":"IF(B165<=0,0,B165*IF('Simulador Pagos Oportunos'!$Y$71=1,0,'Simulador Pagos Oportunos'!$Y$74))","v":0},null,{"$f":"IF(B165=0,0,IF('Simulador Pagos Oportunos'!$X$41=4,'Simulador Pagos Oportunos'!$I$55,IF('Simulador Pagos Oportunos'!$X$41=1,'Simulador Pagos Oportunos'!$K$55,IF('Simulador Pagos Oportunos'!$X$41=2,'Simulador Pagos Oportunos'!$M$55,IF('Simulador Pagos Oportunos'!$X$41=3,'Simulador Pagos Oportunos'!$O$55,0)))))","v":0},null,0,null,null,null,0,0.10499999999999998,null,null,0.1225,0.1225,0,0,12,5,0,0,0,0,0,0,0,0,{"$f":"IF(AO165=0,\"\",IF('Simulador Pagos Oportunos'!$X$41=4,AD165,IF('Simulador Pagos Oportunos'!$X$41=1,AE165,IF('Simulador Pagos Oportunos'!$X$41=2,AF165,IF('Simulador Pagos Oportunos'!$X$41=3,AG165,AC165)))))","v":""},{"$f":"IF(AO165<=0,0,IF('Simulador Pagos Oportunos'!$Y$71=1,0,AO165*'Simulador Pagos Oportunos'!$Y$74))+IF(AO165<=0,0,IF('Simulador Pagos Oportunos'!$X$41=4,'Simulador Pagos Oportunos'!$I$55,IF('Simulador Pagos Oportunos'!$X$41=1,'Simulador Pagos Oportunos'!$K$55,IF('Simulador Pagos Oportunos'!$X$41=2,'Simulador Pagos Oportunos'!$M$55,'Simulador Pagos Oportunos'!$O$55))))","v":0},null,0,0,"",0,149]
[150,0,null,{"$f":"IF(B166+F166-D165<=0,B166+F166,IF(A166=$B$9,$F$9,IF(A166=$B$10,$F$10,IF(AND('Simulador Pagos Oportunos'!$AH$45=2,L165=0),D165*(1+Z166),IF($AL$3=2,B166*AI166,D165*(1+Z166))))))","v":0},null,0,null,0,null,{"$f":"IF(B166-H166=0,0,J164)","v":0},null,null,null,{"$f":"IF('Simulador Pagos Oportunos'!$V$66=1,0,L166*'Simulador Pagos Oportunos'!$O$69*'Simulador Pagos Oportunos'!$W$65)","v":0},null,{"$f":"IF(B166=0,\"\",IF('Simulador Pagos Oportunos'!$X$41=4,AD166,IF('Simulador Pagos Oportunos'!$X$41=1,AE166,IF('Simulador Pagos Oportunos'!$X$41=2,AF166,IF('Simulador Pagos Oportunos'!$X$41=3,AG166,AC166)))))","v":""},null,0,null,{"$f":"IF(B166<=0,0,B166*IF('Simulador Pagos Oportunos'!$Y$71=1,0,'Simulador Pagos Oportunos'!$Y$74))","v":0},null,{"$f":"IF(B166=0,0,IF('Simulador Pagos Oportunos'!$X$41=4,'Simulador Pagos Oportunos'!$I$55,IF('Simulador Pagos Oportunos'!$X$41=1,'Simulador Pagos Oportunos'!$K$55,IF('Simulador Pagos Oportunos'!$X$41=2,'Simulador Pagos Oportunos'!$M$55,IF('Simulador Pagos Oportunos'!$X$41=3,'Simulador Pagos Oportunos'!$O$55,0)))))","v":0},null,0,null,null,null,0,0.10499999999999998,null,null,0.1225,0.1225,0,0,12,6,0,0,0,0,0,0,0,0,{"$f":"IF(AO166=0,\"\",IF('Simulador Pagos Oportunos'!$X$41=4,AD166,IF('Simulador Pagos Oportunos'!$X$41=1,AE166,IF('Simulador Pagos Oportunos'!$X$41=2,AF166,IF('Simulador Pagos Oportunos'!$X$41=3,AG166,AC166)))))","v":""},{"$f":"IF(AO166<=0,0,IF('Simulador Pagos Oportunos'!$Y$71=1,0,AO166*'Simulador Pagos Oportunos'!$Y$74))+IF(AO166<=0,0,IF('Simulador Pagos Oportunos'!$X$41=4,'Simulador Pagos Oportunos'!$I$55,IF('Simulador Pagos Oportunos'!$X$41=1,'Simulador Pagos Oportunos'!$K$55,IF('Simulador Pagos Oportunos'!$X$41=2,'Simulador Pagos Oportunos'!$M$55,'Simulador Pagos Oportunos'!$O$55))))","v":0},null,0,0,"",0,150]
[151,0,null,{"$f":"IF(B167+F167-D166<=0,B167+F167,IF(A167=$B$9,$F$9,IF(A167=$B$10,$F$10,IF(AND('Simulador Pagos Oportunos'!$AH$45=2,L166=0),D166*(1+Z167),IF($AL$3=2,B167*AI167,D166*(1+Z167))))))","v":0},null,0,null,0,null,null,null,null,null,{"$f":"IF('Simulador Pagos Oportunos'!$V$66=1,0,L167*'Simulador Pagos Oportunos'!$O$69*'Simulador Pagos Oportunos'!$W$65)","v":0},null,{"$f":"IF(B167=0,\"\",IF('Simulador Pagos Oportunos'!$X$41=4,AD167,IF('Simulador Pagos Oportunos'!$X$41=1,AE167,IF('Simulador Pagos Oportunos'!$X$41=2,AF167,IF('Simulador Pagos Oportunos'!$X$41=3,AG167,AC167)))))","v":""},null,0,null,{"$f":"IF(B167<=0,0,B167*IF('Simulador Pagos Oportunos'!$Y$71=1,0,'Simulador Pagos Oportunos'!$Y$74))","v":0},null,{"$f":"IF(B167=0,0,IF('Simulador Pagos Oportunos'!$X$41=4,'Simulador Pagos Oportunos'!$I$55,IF('Simulador Pagos Oportunos'!$X$41=1,'Simulador Pagos Oportunos'!$K$55,IF('Simulador Pagos Oportunos'!$X$41=2,'Simulador Pagos Oportunos'!$M$55,IF('Simulador Pagos Oportunos'!$X$41=3,'Simulador Pagos Oportunos'!$O$55,0)))))","v":0},null,0,null,null,null,0,0.10499999999999998,null,null,0.1225,0.1225,0,0,12,7,0,0,0,0,0,0,0,0,{"$f":"IF(AO167=0,\"\",IF('Simulador Pagos Oportunos'!$X$41=4,AD167,IF('Simulador Pagos Oportunos'!$X$41=1,AE167,IF('Simulador Pagos Oportunos'!$X$41=2,AF167,IF('Simulador Pagos Oportunos'!$X$41=3,AG167,AC167)))))","v":""},{"$f":"IF(AO167<=0,0,IF('Simulador Pagos Oportunos'!$Y$71=1,0,AO167*'Simulador Pagos Oportunos'!$Y$74))+IF(AO167<=0,0,IF('Simulador Pagos Oportunos'!$X$41=4,'Simulador Pagos Oportunos'!$I$55,IF('Simulador Pagos Oportunos'!$X$41=1,'Simulador Pagos Oportunos'!$K$55,IF('Simulador Pagos Oportunos'!$X$41=2,'Simulador Pagos Oportunos'!$M$55,'Simulador Pagos Oportunos'!$O$55))))","v":0},null,0,0,"",0,151]
[152,0,null,{"$f":"IF(B168+F168-D167<=0,B168+F168,IF(A168=$B$9,$F$9,IF(A168=$B$10,$F$10,IF(AND('Simulador Pagos Oportunos'!$AH$45=2,L167=0),D167*(1+Z168),IF($AL$3=2,B168*AI168,D167*(1+Z168))))))","v":0},null,0,null,0,null,{"$f":"IF(B168-H168=0,0,J166)","v":0},null,null,null,{"$f":"IF('Simulador Pagos Oportunos'!$V$66=1,0,L168*'Simulador Pagos Oportunos'!$O$69*'Simulador Pagos Oportunos'!$W$65)","v":0},null,{"$f":"IF(B168=0,\"\",IF('Simulador Pagos Oportunos'!$X$41=4,AD168,IF('Simulador Pagos Oportunos'!$X$41=1,AE168,IF('Simulador Pagos Oportunos'!$X$41=2,AF168,IF('Simulador Pagos Oportunos'!$X$41=3,AG168,AC168)))))","v":""},null,0,null,{"$f":"IF(B168<=0,0,B168*IF('Simulador Pagos Oportunos'!$Y$71=1,0,'Simulador Pagos Oportunos'!$Y$74))","v":0},null,{"$f":"IF(B168=0,0,IF('Simulador Pagos Oportunos'!$X$41=4,'Simulador Pagos Oportunos'!$I$55,IF('Simulador Pagos Oportunos'!$X$41=1,'Simulador Pagos Oportunos'!$K$55,IF('Simulador Pagos Oportunos'!$X$41=2,'Simulador Pagos Oportunos'!$M$55,IF('Simulador Pagos Oportunos'!$X$41=3,'Simulador Pagos Oportunos'!$O$55,0)))))","v":0},null,0,null,null,null,0,0.10499999999999998,null,null,0.1225,0.1225,0,0,12,8,0,0,0,0,0,0,0,0,{"$f":"IF(AO168=0,\"\",IF('Simulador Pagos Oportunos'!$X$41=4,AD168,IF('Simulador Pagos Oportunos'!$X$41=1,AE168,IF('Simulador Pagos Oportunos'!$X$41=2,AF168,IF('Simulador Pagos Oportunos'!$X$41=3,AG168,AC168)))))","v":""},{"$f":"IF(AO168<=0,0,IF('Simulador Pagos Oportunos'!$Y$71=1,0,AO168*'Simulador Pagos Oportunos'!$Y$74))+IF(AO168<=0,0,IF('Simulador Pagos Oportunos'!$X$41=4,'Simulador Pagos Oportunos'!$I$55,IF('Simulador Pagos Oportunos'!$X$41=1,'Simulador Pagos Oportunos'!$K$55,IF('Simulador Pagos Oportunos'!$X$41=2,'Simulador Pagos Oportunos'!$M$55,'Simulador Pagos Oportunos'!$O$55))))","v":0},null,0,0,"",0,152]
[153,0,null,{"$f":"IF(B169+F169-D168<=0,B169+F169,IF(A169=$B$9,$F$9,IF(A169=$B$10,$F$10,IF(AND('Simulador Pagos Oportunos'!$AH$45=2,L168=0),D168*(1+Z169),IF($AL$3=2,B169*AI169,D168*(1+Z169))))))","v":0},null,0,null,0,null,null,null,null,null,{"$f":"IF('Simulador Pagos Oportunos'!$V$66=1,0,L169*'Simulador Pagos Oportunos'!$O$69*'Simulador Pagos Oportunos'!$W$65)","v":0},null,{"$f":"IF(B169=0,\"\",IF('Simulador Pagos Oportunos'!$X$41=4,AD169,IF('Simulador Pagos Oportunos'!$X$41=1,AE169,IF('Simulador Pagos Oportunos'!$X$41=2,AF169,IF('Simulador Pagos Oportunos'!$X$41=3,AG169,AC169)))))","v":""},null,0,null,{"$f":"IF(B169<=0,0,B169*IF('Simulador Pagos Oportunos'!$Y$71=1,0,'Simulador Pagos Oportunos'!$Y$74))","v":0},null,{"$f":"IF(B169=0,0,IF('Simulador Pagos Oportunos'!$X$41=4,'Simulador Pagos Oportunos'!$I$55,IF('Simulador Pagos Oportunos'!$X$41=1,'Simulador Pagos Oportunos'!$K$55,IF('Simulador Pagos Oportunos'!$X$41=2,'Simulador Pagos Oportunos'!$M$55,IF('Simulador Pagos Oportunos'!$X$41=3,'Simulador Pagos Oportunos'!$O$55,0)))))","v":0},null,0,null,null,null,0,0.10499999999999998,null,null,0.1225,0.1225,0,0,12,9,0,0,0,0,0,0,0,0,{"$f":"IF(AO169=0,\"\",IF('Simulador Pagos Oportunos'!$X$41=4,AD169,IF('Simulador Pagos Oportunos'!$X$41=1,AE169,IF('Simulador Pagos Oportunos'!$X$41=2,AF169,IF('Simulador Pagos Oportunos'!$X$41=3,AG169,AC169)))))","v":""},{"$f":"IF(AO169<=0,0,IF('Simulador Pagos Oportunos'!$Y$71=1,0,AO169*'Simulador Pagos Oportunos'!$Y$74))+IF(AO169<=0,0,IF('Simulador Pagos Oportunos'!$X$41=4,'Simulador Pagos Oportunos'!$I$55,IF('Simulador Pagos Oportunos'!$X$41=1,'Simulador Pagos Oportunos'!$K$55,IF('Simulador Pagos Oportunos'!$X$41=2,'Simulador Pagos Oportunos'!$M$55,'Simulador Pagos Oportunos'!$O$55))))","v":0},null,0,0,"",0,153]
[154,0,null,{"$f":"IF(B170+F170-D169<=0,B170+F170,IF(A170=$B$9,$F$9,IF(A170=$B$10,$F$10,IF(AND('Simulador Pagos Oportunos'!$AH$45=2,L169=0),D169*(1+Z170),IF($AL$3=2,B170*AI170,D169*(1+Z170))))))","v":0},null,0,null,0,null,{"$f":"IF(B170-H170=0,0,J168)","v":0},null,null,null,{"$f":"IF('Simulador Pagos Oportunos'!$V$66=1,0,L170*'Simulador Pagos Oportunos'!$O$69*'Simulador Pagos Oportunos'!$W$65)","v":0},null,{"$f":"IF(B170=0,\"\",IF('Simulador Pagos Oportunos'!$X$41=4,AD170,IF('Simulador Pagos Oportunos'!$X$41=1,AE170,IF('Simulador Pagos Oportunos'!$X$41=2,AF170,IF('Simulador Pagos Oportunos'!$X$41=3,AG170,AC170)))))","v":""},null,0,null,{"$f":"IF(B170<=0,0,B170*IF('Simulador Pagos Oportunos'!$Y$71=1,0,'Simulador Pagos Oportunos'!$Y$74))","v":0},null,{"$f":"IF(B170=0,0,IF('Simulador Pagos Oportunos'!$X$41=4,'Simulador Pagos Oportunos'!$I$55,IF('Simulador Pagos Oportunos'!$X$41=1,'Simulador Pagos Oportunos'!$K$55,IF('Simulador Pagos Oportunos'!$X$41=2,'Simulador Pagos Oportunos'!$M$55,IF('Simulador Pagos Oportunos'!$X$41=3,'Simulador Pagos Oportunos'!$O$55,0)))))","v":0},null,0,null,null,null,0,0.10499999999999998,null,null,{"$f":"AF169","v":0.1225},0.1225,0,0,12,10,0,0,0,0,0,0,0,0,{"$f":"IF(AO170=0,\"\",IF('Simulador Pagos Oportunos'!$X$41=4,AD170,IF('Simulador Pagos Oportunos'!$X$41=1,AE170,IF('Simulador Pagos Oportunos'!$X$41=2,AF170,IF('Simulador Pagos Oportunos'!$X$41=3,AG170,AC170)))))","v":""},{"$f":"IF(AO170<=0,0,IF('Simulador Pagos Oportunos'!$Y$71=1,0,AO170*'Simulador Pagos Oportunos'!$Y$74))+IF(AO170<=0,0,IF('Simulador Pagos Oportunos'!$X$41=4,'Simulador Pagos Oportunos'!$I$55,IF('Simulador Pagos Oportunos'!$X$41=1,'Simulador Pagos Oportunos'!$K$55,IF('Simulador Pagos Oportunos'!$X$41=2,'Simulador Pagos Oportunos'!$M$55,'Simulador Pagos Oportunos'!$O$55))))","v":0},null,0,0,"",0,154]
[155,0,null,{"$f":"IF(B171+F171-D170<=0,B171+F171,IF(A171=$B$9,$F$9,IF(A171=$B$10,$F$10,IF(AND('Simulador Pagos Oportunos'!$AH$45=2,L170=0),D170*(1+Z171),IF($AL$3=2,B171*AI171,D170*(1+Z171))))))","v":0},null,0,null,0,null,null,null,null,null,{"$f":"IF('Simulador Pagos Oportunos'!$V$66=1,0,L171*'Simulador Pagos Oportunos'!$O$69*'Simulador Pagos Oportunos'!$W$65)","v":0},null,{"$f":"IF(B171=0,\"\",IF('Simulador Pagos Oportunos'!$X$41=4,AD171,IF('Simulador Pagos Oportunos'!$X$41=1,AE171,IF('Simulador Pagos Oportunos'!$X$41=2,AF171,IF('Simulador Pagos Oportunos'!$X$41=3,AG171,AC171)))))","v":""},null,0,null,{"$f":"IF(B171<=0,0,B171*IF('Simulador Pagos Oportunos'!$Y$71=1,0,'Simulador Pagos Oportunos'!$Y$74))","v":0},null,{"$f":"IF(B171=0,0,IF('Simulador Pagos Oportunos'!$X$41=4,'Simulador Pagos Oportunos'!$I$55,IF('Simulador Pagos Oportunos'!$X$41=1,'Simulador Pagos Oportunos'!$K$55,IF('Simulador Pagos Oportunos'!$X$41=2,'Simulador Pagos Oportunos'!$M$55,IF('Simulador Pagos Oportunos'!$X$41=3,'Simulador Pagos Oportunos'!$O$55,0)))))","v":0},null,0,null,null,null,0,0.10499999999999998,null,null,0.1225,0.1225,0,0,12,11,0,0,0,0,0,0,0,0,{"$f":"IF(AO171=0,\"\",IF('Simulador Pagos Oportunos'!$X$41=4,AD171,IF('Simulador Pagos Oportunos'!$X$41=1,AE171,IF('Simulador Pagos Oportunos'!$X$41=2,AF171,IF('Simulador Pagos Oportunos'!$X$41=3,AG171,AC171)))))","v":""},{"$f":"IF(AO171<=0,0,IF('Simulador Pagos Oportunos'!$Y$71=1,0,AO171*'Simulador Pagos Oportunos'!$Y$74))+IF(AO171<=0,0,IF('Simulador Pagos Oportunos'!$X$41=4,'Simulador Pagos Oportunos'!$I$55,IF('Simulador Pagos Oportunos'!$X$41=1,'Simulador Pagos Oportunos'!$K$55,IF('Simulador Pagos Oportunos'!$X$41=2,'Simulador Pagos Oportunos'!$M$55,'Simulador Pagos Oportunos'!$O$55))))","v":0},null,0,0,"",0,155]
[156,0,null,{"$f":"IF(B172+F172-D171<=0,B172+F172,IF(A172=$B$9,$F$9,IF(A172=$B$10,$F$10,IF(AND('Simulador Pagos Oportunos'!$AH$45=2,L171=0),D171*(1+Z172),IF($AL$3=2,B172*AI172,D171*(1+Z172))))))","v":0},null,0,null,0,null,{"$f":"IF(B172-H172=0,0,J170)","v":0},null,null,null,{"$f":"IF('Simulador Pagos Oportunos'!$V$66=1,0,L172*'Simulador Pagos Oportunos'!$O$69*'Simulador Pagos Oportunos'!$W$65)","v":0},null,{"$f":"IF(B172=0,\"\",IF('Simulador Pagos Oportunos'!$X$41=4,AD172,IF('Simulador Pagos Oportunos'!$X$41=1,AE172,IF('Simulador Pagos Oportunos'!$X$41=2,AF172,IF('Simulador Pagos Oportunos'!$X$41=3,AG172,AC172)))))","v":""},null,0,null,{"$f":"IF(B172<=0,0,B172*IF('Simulador Pagos Oportunos'!$Y$71=1,0,'Simulador Pagos Oportunos'!$Y$74))","v":0},null,{"$f":"IF(B172=0,0,IF('Simulador Pagos Oportunos'!$X$41=4,'Simulador Pagos Oportunos'!$I$55,IF('Simulador Pagos Oportunos'!$X$41=1,'Simulador Pagos Oportunos'!$K$55,IF('Simulador Pagos Oportunos'!$X$41=2,'Simulador Pagos Oportunos'!$M$55,IF('Simulador Pagos Oportunos'!$X$41=3,'Simulador Pagos Oportunos'!$O$55,0)))))","v":0},null,0,null,null,null,0,0.10499999999999998,null,null,0.1225,0.1225,0,0,13,0,0,0,0,0,0,0,0,0,{"$f":"IF(AO172=0,\"\",IF('Simulador Pagos Oportunos'!$X$41=4,AD172,IF('Simulador Pagos Oportunos'!$X$41=1,AE172,IF('Simulador Pagos Oportunos'!$X$41=2,AF172,IF('Simulador Pagos Oportunos'!$X$41=3,AG172,AC172)))))","v":""},{"$f":"IF(AO172<=0,0,IF('Simulador Pagos Oportunos'!$Y$71=1,0,AO172*'Simulador Pagos Oportunos'!$Y$74))+IF(AO172<=0,0,IF('Simulador Pagos Oportunos'!$X$41=4,'Simulador Pagos Oportunos'!$I$55,IF('Simulador Pagos Oportunos'!$X$41=1,'Simulador Pagos Oportunos'!$K$55,IF('Simulador Pagos Oportunos'!$X$41=2,'Simulador Pagos Oportunos'!$M$55,'Simulador Pagos Oportunos'!$O$55))))","v":0},null,0,0,"",0,156]
[157,0,null,{"$f":"IF(B173+F173-D172<=0,B173+F173,IF(A173=$B$9,$F$9,IF(A173=$B$10,$F$10,IF(AND('Simulador Pagos Oportunos'!$AH$45=2,L172=0),D172*(1+Z173),IF($AL$3=2,B173*AI173,D172*(1+Z173))))))","v":0},null,0,null,0,null,null,null,null,null,{"$f":"IF('Simulador Pagos Oportunos'!$V$66=1,0,L173*'Simulador Pagos Oportunos'!$O$69*'Simulador Pagos Oportunos'!$W$65)","v":0},null,{"$f":"IF(B173=0,\"\",IF('Simulador Pagos Oportunos'!$X$41=4,AD173,IF('Simulador Pagos Oportunos'!$X$41=1,AE173,IF('Simulador Pagos Oportunos'!$X$41=2,AF173,IF('Simulador Pagos Oportunos'!$X$41=3,AG173,AC173)))))","v":""},null,0,null,{"$f":"IF(B173<=0,0,B173*IF('Simulador Pagos Oportunos'!$Y$71=1,0,'Simulador Pagos Oportunos'!$Y$74))","v":0},null,{"$f":"IF(B173=0,0,IF('Simulador Pagos Oportunos'!$X$41=4,'Simulador Pagos Oportunos'!$I$55,IF('Simulador Pagos Oportunos'!$X$41=1,'Simulador Pagos Oportunos'!$K$55,IF('Simulador Pagos Oportunos'!$X$41=2,'Simulador Pagos Oportunos'!$M$55,IF('Simulador Pagos Oportunos'!$X$41=3,'Simulador Pagos Oportunos'!$O$55,0)))))","v":0},null,0,null,{"$f":"IF(B173<=0,0,'Simulador Pagos Oportunos'!$AI$54)","v":0},null,0,{"$f":"IF(AC172=$AC$5,AC172,IF(AC172-0.25%<=$AC$5,$AC$5,AC172-0.25%))","v":0.10249999999999998},null,null,0.1225,0.1225,0,0,13,1,0,0,0,0,0,0,0,0,{"$f":"IF(AO173=0,\"\",IF('Simulador Pagos Oportunos'!$X$41=4,AD173,IF('Simulador Pagos Oportunos'!$X$41=1,AE173,IF('Simulador Pagos Oportunos'!$X$41=2,AF173,IF('Simulador Pagos Oportunos'!$X$41=3,AG173,AC173)))))","v":""},{"$f":"IF(AO173<=0,0,IF('Simulador Pagos Oportunos'!$Y$71=1,0,AO173*'Simulador Pagos Oportunos'!$Y$74))+IF(AO173<=0,0,IF('Simulador Pagos Oportunos'!$X$41=4,'Simulador Pagos Oportunos'!$I$55,IF('Simulador Pagos Oportunos'!$X$41=1,'Simulador Pagos Oportunos'!$K$55,IF('Simulador Pagos Oportunos'!$X$41=2,'Simulador Pagos Oportunos'!$M$55,'Simulador Pagos Oportunos'!$O$55))))","v":0},{"$f":"IF(AO173<=0,0,$AV$29)","v":0},0,0,"",0,157]
[158,0,null,{"$f":"IF(B174+F174-D173<=0,B174+F174,IF(A174=$B$9,$F$9,IF(A174=$B$10,$F$10,IF(AND('Simulador Pagos Oportunos'!$AH$45=2,L173=0),D173*(1+Z174),IF($AL$3=2,B174*AI174,D173*(1+Z174))))))","v":0},null,0,null,0,null,{"$f":"IF(B174-H174=0,0,J172*(1+(3%)))","v":0},null,null,null,{"$f":"IF('Simulador Pagos Oportunos'!$V$66=1,0,L174*'Simulador Pagos Oportunos'!$O$69*'Simulador Pagos Oportunos'!$W$65)","v":0},null,{"$f":"IF(B174=0,\"\",IF('Simulador Pagos Oportunos'!$X$41=4,AD174,IF('Simulador Pagos Oportunos'!$X$41=1,AE174,IF('Simulador Pagos Oportunos'!$X$41=2,AF174,IF('Simulador Pagos Oportunos'!$X$41=3,AG174,AC174)))))","v":""},null,0,null,{"$f":"IF(B174<=0,0,B174*IF('Simulador Pagos Oportunos'!$Y$71=1,0,'Simulador Pagos Oportunos'!$Y$74))","v":0},null,{"$f":"IF(B174=0,0,IF('Simulador Pagos Oportunos'!$X$41=4,'Simulador Pagos Oportunos'!$I$55,IF('Simulador Pagos Oportunos'!$X$41=1,'Simulador Pagos Oportunos'!$K$55,IF('Simulador Pagos Oportunos'!$X$41=2,'Simulador Pagos Oportunos'!$M$55,IF('Simulador Pagos Oportunos'!$X$41=3,'Simulador Pagos Oportunos'!$O$55,0)))))","v":0},null,0,null,null,null,0,{"$f":"AC173","v":0.10249999999999998},null,null,0.1225,0.1225,0,0,13,2,0,0,0,0,0,0,0,0,{"$f":"IF(AO174=0,\"\",IF('Simulador Pagos Oportunos'!$X$41=4,AD174,IF('Simulador Pagos Oportunos'!$X$41=1,AE174,IF('Simulador Pagos Oportunos'!$X$41=2,AF174,IF('Simulador Pagos Oportunos'!$X$41=3,AG174,AC174)))))","v":""},{"$f":"IF(AO174<=0,0,IF('Simulador Pagos Oportunos'!$Y$71=1,0,AO174*'Simulador Pagos Oportunos'!$Y$74))+IF(AO174<=0,0,IF('Simulador Pagos Oportunos'!$X$41=4,'Simulador Pagos Oportunos'!$I$55,IF('Simulador Pagos Oportunos'!$X$41=1,'Simulador Pagos Oportunos'!$K$55,IF('Simulador Pagos Oportunos'!$X$41=2,'Simulador Pagos Oportunos'!$M$55,'Simulador Pagos Oportunos'!$O$55))))","v":0},null,0,0,"",0,158]
[159,0,null,{"$f":"IF(B175+F175-D174<=0,B175+F175,IF(A175=$B$9,$F$9,IF(A175=$B$10,$F$10,IF(AND('Simulador Pagos Oportunos'!$AH$45=2,L174=0),D174*(1+Z175),IF($AL$3=2,B175*AI175,D174*(1+Z175))))))","v":0},null,0,null,0,null,null,null,null,null,{"$f":"IF('Simulador Pagos Oportunos'!$V$66=1,0,L175*'Simulador Pagos Oportunos'!$O$69*'Simulador Pagos Oportunos'!$W$65)","v":0},null,{"$f":"IF(B175=0,\"\",IF('Simulador Pagos Oportunos'!$X$41=4,AD175,IF('Simulador Pagos Oportunos'!$X$41=1,AE175,IF('Simulador Pagos Oportunos'!$X$41=2,AF175,IF('Simulador Pagos Oportunos'!$X$41=3,AG175,AC175)))))","v":""},null,0,null,{"$f":"IF(B175<=0,0,B175*IF('Simulador Pagos Oportunos'!$Y$71=1,0,'Simulador Pagos Oportunos'!$Y$74))","v":0},null,{"$f":"IF(B175=0,0,IF('Simulador Pagos Oportunos'!$X$41=4,'Simulador Pagos Oportunos'!$I$55,IF('Simulador Pagos Oportunos'!$X$41=1,'Simulador Pagos Oportunos'!$K$55,IF('Simulador Pagos Oportunos'!$X$41=2,'Simulador Pagos Oportunos'!$M$55,IF('Simulador Pagos Oportunos'!$X$41=3,'Simulador Pagos Oportunos'!$O$55,0)))))","v":0},null,0,null,null,null,0,{"$f":"AC174","v":0.10249999999999998},null,null,0.1225,0.1225,0,0,13,3,0,0,0,0,0,0,0,0,{"$f":"IF(AO175=0,\"\",IF('Simulador Pagos Oportunos'!$X$41=4,AD175,IF('Simulador Pagos Oportunos'!$X$41=1,AE175,IF('Simulador Pagos Oportunos'!$X$41=2,AF175,IF('Simulador Pagos Oportunos'!$X$41=3,AG175,AC175)))))","v":""},{"$f":"IF(AO175<=0,0,IF('Simulador Pagos Oportunos'!$Y$71=1,0,AO175*'Simulador Pagos Oportunos'!$Y$74))+IF(AO175<=0,0,IF('Simulador Pagos Oportunos'!$X$41=4,'Simulador Pagos Oportunos'!$I$55,IF('Simulador Pagos Oportunos'!$X$41=1,'Simulador Pagos Oportunos'!$K$55,IF('Simulador Pagos Oportunos'!$X$41=2,'Simulador Pagos Oportunos'!$M$55,'Simulador Pagos Oportunos'!$O$55))))","v":0},null,0,0,"",0,159]
[160,0,null,{"$f":"IF(B176+F176-D175<=0,B176+F176,IF(A176=$B$9,$F$9,IF(A176=$B$10,$F$10,IF(AND('Simulador Pagos Oportunos'!$AH$45=2,L175=0),D175*(1+Z176),IF($AL$3=2,B176*AI176,D175*(1+Z176))))))","v":0},null,0,null,0,null,{"$f":"IF(B176-H176=0,0,J174)","v":0},null,null,null,{"$f":"IF('Simulador Pagos Oportunos'!$V$66=1,0,L176*'Simulador Pagos Oportunos'!$O$69*'Simulador Pagos Oportunos'!$W$65)","v":0},null,{"$f":"IF(B176=0,\"\",IF('Simulador Pagos Oportunos'!$X$41=4,AD176,IF('Simulador Pagos Oportunos'!$X$41=1,AE176,IF('Simulador Pagos Oportunos'!$X$41=2,AF176,IF('Simulador Pagos Oportunos'!$X$41=3,AG176,AC176)))))","v":""},null,0,null,{"$f":"IF(B176<=0,0,B176*IF('Simulador Pagos Oportunos'!$Y$71=1,0,'Simulador Pagos Oportunos'!$Y$74))","v":0},null,{"$f":"IF(B176=0,0,IF('Simulador Pagos Oportunos'!$X$41=4,'Simulador Pagos Oportunos'!$I$55,IF('Simulador Pagos Oportunos'!$X$41=1,'Simulador Pagos Oportunos'!$K$55,IF('Simulador Pagos Oportunos'!$X$41=2,'Simulador Pagos Oportunos'!$M$55,IF('Simulador Pagos Oportunos'!$X$41=3,'Simulador Pagos Oportunos'!$O$55,0)))))","v":0},null,0,null,null,null,0,0.10249999999999998,null,null,0.1225,0.1225,0,0,13,4,0,0,0,0,0,0,0,0,{"$f":"IF(AO176=0,\"\",IF('Simulador Pagos Oportunos'!$X$41=4,AD176,IF('Simulador Pagos Oportunos'!$X$41=1,AE176,IF('Simulador Pagos Oportunos'!$X$41=2,AF176,IF('Simulador Pagos Oportunos'!$X$41=3,AG176,AC176)))))","v":""},{"$f":"IF(AO176<=0,0,IF('Simulador Pagos Oportunos'!$Y$71=1,0,AO176*'Simulador Pagos Oportunos'!$Y$74))+IF(AO176<=0,0,IF('Simulador Pagos Oportunos'!$X$41=4,'Simulador Pagos Oportunos'!$I$55,IF('Simulador Pagos Oportunos'!$X$41=1,'Simulador Pagos Oportunos'!$K$55,IF('Simulador Pagos Oportunos'!$X$41=2,'Simulador Pagos Oportunos'!$M$55,'Simulador Pagos Oportunos'!$O$55))))","v":0},null,0,0,"",0,160]
[161,0,null,{"$f":"IF(B177+F177-D176<=0,B177+F177,IF(A177=$B$9,$F$9,IF(A177=$B$10,$F$10,IF(AND('Simulador Pagos Oportunos'!$AH$45=2,L176=0),D176*(1+Z177),IF($AL$3=2,B177*AI177,D176*(1+Z177))))))","v":0},null,0,null,0,null,null,null,null,null,{"$f":"IF('Simulador Pagos Oportunos'!$V$66=1,0,L177*'Simulador Pagos Oportunos'!$O$69*'Simulador Pagos Oportunos'!$W$65)","v":0},null,{"$f":"IF(B177=0,\"\",IF('Simulador Pagos Oportunos'!$X$41=4,AD177,IF('Simulador Pagos Oportunos'!$X$41=1,AE177,IF('Simulador Pagos Oportunos'!$X$41=2,AF177,IF('Simulador Pagos Oportunos'!$X$41=3,AG177,AC177)))))","v":""},null,0,null,{"$f":"IF(B177<=0,0,B177*IF('Simulador Pagos Oportunos'!$Y$71=1,0,'Simulador Pagos Oportunos'!$Y$74))","v":0},null,{"$f":"IF(B177=0,0,IF('Simulador Pagos Oportunos'!$X$41=4,'Simulador Pagos Oportunos'!$I$55,IF('Simulador Pagos Oportunos'!$X$41=1,'Simulador Pagos Oportunos'!$K$55,IF('Simulador Pagos Oportunos'!$X$41=2,'Simulador Pagos Oportunos'!$M$55,IF('Simulador Pagos Oportunos'!$X$41=3,'Simulador Pagos Oportunos'!$O$55,0)))))","v":0},null,0,null,null,null,0,0.10249999999999998,null,null,0.1225,0.1225,0,0,13,5,0,0,0,0,0,0,0,0,{"$f":"IF(AO177=0,\"\",IF('Simulador Pagos Oportunos'!$X$41=4,AD177,IF('Simulador Pagos Oportunos'!$X$41=1,AE177,IF('Simulador Pagos Oportunos'!$X$41=2,AF177,IF('Simulador Pagos Oportunos'!$X$41=3,AG177,AC177)))))","v":""},{"$f":"IF(AO177<=0,0,IF('Simulador Pagos Oportunos'!$Y$71=1,0,AO177*'Simulador Pagos Oportunos'!$Y$74))+IF(AO177<=0,0,IF('Simulador Pagos Oportunos'!$X$41=4,'Simulador Pagos Oportunos'!$I$55,IF('Simulador Pagos Oportunos'!$X$41=1,'Simulador Pagos Oportunos'!$K$55,IF('Simulador Pagos Oportunos'!$X$41=2,'Simulador Pagos Oportunos'!$M$55,'Simulador Pagos Oportunos'!$O$55))))","v":0},null,0,0,"",0,161]
[162,0,null,{"$f":"IF(B178+F178-D177<=0,B178+F178,IF(A178=$B$9,$F$9,IF(A178=$B$10,$F$10,IF(AND('Simulador Pagos Oportunos'!$AH$45=2,L177=0),D177*(1+Z178),IF($AL$3=2,B178*AI178,D177*(1+Z178))))))","v":0},null,0,null,0,null,{"$f":"IF(B178-H178=0,0,J176)","v":0},null,null,null,{"$f":"IF('Simulador Pagos Oportunos'!$V$66=1,0,L178*'Simulador Pagos Oportunos'!$O$69*'Simulador Pagos Oportunos'!$W$65)","v":0},null,{"$f":"IF(B178=0,\"\",IF('Simulador Pagos Oportunos'!$X$41=4,AD178,IF('Simulador Pagos Oportunos'!$X$41=1,AE178,IF('Simulador Pagos Oportunos'!$X$41=2,AF178,IF('Simulador Pagos Oportunos'!$X$41=3,AG178,AC178)))))","v":""},null,0,null,{"$f":"IF(B178<=0,0,B178*IF('Simulador Pagos Oportunos'!$Y$71=1,0,'Simulador Pagos Oportunos'!$Y$74))","v":0},null,{"$f":"IF(B178=0,0,IF('Simulador Pagos Oportunos'!$X$41=4,'Simulador Pagos Oportunos'!$I$55,IF('Simulador Pagos Oportunos'!$X$41=1,'Simulador Pagos Oportunos'!$K$55,IF('Simulador Pagos Oportunos'!$X$41=2,'Simulador Pagos Oportunos'!$M$55,IF('Simulador Pagos Oportunos'!$X$41=3,'Simulador Pagos Oportunos'!$O$55,0)))))","v":0},null,0,null,null,null,0,0.10249999999999998,null,null,0.1225,0.1225,0,0,13,6,0,0,0,0,0,0,0,0,{"$f":"IF(AO178=0,\"\",IF('Simulador Pagos Oportunos'!$X$41=4,AD178,IF('Simulador Pagos Oportunos'!$X$41=1,AE178,IF('Simulador Pagos Oportunos'!$X$41=2,AF178,IF('Simulador Pagos Oportunos'!$X$41=3,AG178,AC178)))))","v":""},{"$f":"IF(AO178<=0,0,IF('Simulador Pagos Oportunos'!$Y$71=1,0,AO178*'Simulador Pagos Oportunos'!$Y$74))+IF(AO178<=0,0,IF('Simulador Pagos Oportunos'!$X$41=4,'Simulador Pagos Oportunos'!$I$55,IF('Simulador Pagos Oportunos'!$X$41=1,'Simulador Pagos Oportunos'!$K$55,IF('Simulador Pagos Oportunos'!$X$41=2,'Simulador Pagos Oportunos'!$M$55,'Simulador Pagos Oportunos'!$O$55))))","v":0},null,0,0,"",0,162]
[163,0,null,{"$f":"IF(B179+F179-D178<=0,B179+F179,IF(A179=$B$9,$F$9,IF(A179=$B$10,$F$10,IF(AND('Simulador Pagos Oportunos'!$AH$45=2,L178=0),D178*(1+Z179),IF($AL$3=2,B179*AI179,D178*(1+Z179))))))","v":0},null,0,null,0,null,null,null,null,null,{"$f":"IF('Simulador Pagos Oportunos'!$V$66=1,0,L179*'Simulador Pagos Oportunos'!$O$69*'Simulador Pagos Oportunos'!$W$65)","v":0},null,{"$f":"IF(B179=0,\"\",IF('Simulador Pagos Oportunos'!$X$41=4,AD179,IF('Simulador Pagos Oportunos'!$X$41=1,AE179,IF('Simulador Pagos Oportunos'!$X$41=2,AF179,IF('Simulador Pagos Oportunos'!$X$41=3,AG179,AC179)))))","v":""},null,0,null,{"$f":"IF(B179<=0,0,B179*IF('Simulador Pagos Oportunos'!$Y$71=1,0,'Simulador Pagos Oportunos'!$Y$74))","v":0},null,{"$f":"IF(B179=0,0,IF('Simulador Pagos Oportunos'!$X$41=4,'Simulador Pagos Oportunos'!$I$55,IF('Simulador Pagos Oportunos'!$X$41=1,'Simulador Pagos Oportunos'!$K$55,IF('Simulador Pagos Oportunos'!$X$41=2,'Simulador Pagos Oportunos'!$M$55,IF('Simulador Pagos Oportunos'!$X$41=3,'Simulador Pagos Oportunos'!$O$55,0)))))","v":0},null,0,null,null,null,0,0.10249999999999998,null,null,0.1225,0.1225,0,0,13,7,0,0,0,0,0,0,0,0,{"$f":"IF(AO179=0,\"\",IF('Simulador Pagos Oportunos'!$X$41=4,AD179,IF('Simulador Pagos Oportunos'!$X$41=1,AE179,IF('Simulador Pagos Oportunos'!$X$41=2,AF179,IF('Simulador Pagos Oportunos'!$X$41=3,AG179,AC179)))))","v":""},{"$f":"IF(AO179<=0,0,IF('Simulador Pagos Oportunos'!$Y$71=1,0,AO179*'Simulador Pagos Oportunos'!$Y$74))+IF(AO179<=0,0,IF('Simulador Pagos Oportunos'!$X$41=4,'Simulador Pagos Oportunos'!$I$55,IF('Simulador Pagos Oportunos'!$X$41=1,'Simulador Pagos Oportunos'!$K$55,IF('Simulador Pagos Oportunos'!$X$41=2,'Simulador Pagos Oportunos'!$M$55,'Simulador Pagos Oportunos'!$O$55))))","v":0},null,0,0,"",0,163]
[164,0,null,{"$f":"IF(B180+F180-D179<=0,B180+F180,IF(A180=$B$9,$F$9,IF(A180=$B$10,$F$10,IF(AND('Simulador Pagos Oportunos'!$AH$45=2,L179=0),D179*(1+Z180),IF($AL$3=2,B180*AI180,D179*(1+Z180))))))","v":0},null,0,null,0,null,{"$f":"IF(B180-H180=0,0,J178)","v":0},null,null,null,{"$f":"IF('Simulador Pagos Oportunos'!$V$66=1,0,L180*'Simulador Pagos Oportunos'!$O$69*'Simulador Pagos Oportunos'!$W$65)","v":0},null,{"$f":"IF(B180=0,\"\",IF('Simulador Pagos Oportunos'!$X$41=4,AD180,IF('Simulador Pagos Oportunos'!$X$41=1,AE180,IF('Simulador Pagos Oportunos'!$X$41=2,AF180,IF('Simulador Pagos Oportunos'!$X$41=3,AG180,AC180)))))","v":""},null,0,null,{"$f":"IF(B180<=0,0,B180*IF('Simulador Pagos Oportunos'!$Y$71=1,0,'Simulador Pagos Oportunos'!$Y$74))","v":0},null,{"$f":"IF(B180=0,0,IF('Simulador Pagos Oportunos'!$X$41=4,'Simulador Pagos Oportunos'!$I$55,IF('Simulador Pagos Oportunos'!$X$41=1,'Simulador Pagos Oportunos'!$K$55,IF('Simulador Pagos Oportunos'!$X$41=2,'Simulador Pagos Oportunos'!$M$55,IF('Simulador Pagos Oportunos'!$X$41=3,'Simulador Pagos Oportunos'!$O$55,0)))))","v":0},null,0,null,null,null,0,0.10249999999999998,null,null,0.1225,0.1225,0,0,13,8,0,0,0,0,0,0,0,0,{"$f":"IF(AO180=0,\"\",IF('Simulador Pagos Oportunos'!$X$41=4,AD180,IF('Simulador Pagos Oportunos'!$X$41=1,AE180,IF('Simulador Pagos Oportunos'!$X$41=2,AF180,IF('Simulador Pagos Oportunos'!$X$41=3,AG180,AC180)))))","v":""},{"$f":"IF(AO180<=0,0,IF('Simulador Pagos Oportunos'!$Y$71=1,0,AO180*'Simulador Pagos Oportunos'!$Y$74))+IF(AO180<=0,0,IF('Simulador Pagos Oportunos'!$X$41=4,'Simulador Pagos Oportunos'!$I$55,IF('Simulador Pagos Oportunos'!$X$41=1,'Simulador Pagos Oportunos'!$K$55,IF('Simulador Pagos Oportunos'!$X$41=2,'Simulador Pagos Oportunos'!$M$55,'Simulador Pagos Oportunos'!$O$55))))","v":0},null,0,0,"",0,164]
[165,0,null,{"$f":"IF(B181+F181-D180<=0,B181+F181,IF(A181=$B$9,$F$9,IF(A181=$B$10,$F$10,IF(AND('Simulador Pagos Oportunos'!$AH$45=2,L180=0),D180*(1+Z181),IF($AL$3=2,B181*AI181,D180*(1+Z181))))))","v":0},null,0,null,0,null,null,null,null,null,{"$f":"IF('Simulador Pagos Oportunos'!$V$66=1,0,L181*'Simulador Pagos Oportunos'!$O$69*'Simulador Pagos Oportunos'!$W$65)","v":0},null,{"$f":"IF(B181=0,\"\",IF('Simulador Pagos Oportunos'!$X$41=4,AD181,IF('Simulador Pagos Oportunos'!$X$41=1,AE181,IF('Simulador Pagos Oportunos'!$X$41=2,AF181,IF('Simulador Pagos Oportunos'!$X$41=3,AG181,AC181)))))","v":""},null,0,null,{"$f":"IF(B181<=0,0,B181*IF('Simulador Pagos Oportunos'!$Y$71=1,0,'Simulador Pagos Oportunos'!$Y$74))","v":0},null,{"$f":"IF(B181=0,0,IF('Simulador Pagos Oportunos'!$X$41=4,'Simulador Pagos Oportunos'!$I$55,IF('Simulador Pagos Oportunos'!$X$41=1,'Simulador Pagos Oportunos'!$K$55,IF('Simulador Pagos Oportunos'!$X$41=2,'Simulador Pagos Oportunos'!$M$55,IF('Simulador Pagos Oportunos'!$X$41=3,'Simulador Pagos Oportunos'!$O$55,0)))))","v":0},null,0,null,null,null,0,0.10249999999999998,null,null,0.1225,0.1225,0,0,13,9,0,0,0,0,0,0,0,0,{"$f":"IF(AO181=0,\"\",IF('Simulador Pagos Oportunos'!$X$41=4,AD181,IF('Simulador Pagos Oportunos'!$X$41=1,AE181,IF('Simulador Pagos Oportunos'!$X$41=2,AF181,IF('Simulador Pagos Oportunos'!$X$41=3,AG181,AC181)))))","v":""},{"$f":"IF(AO181<=0,0,IF('Simulador Pagos Oportunos'!$Y$71=1,0,AO181*'Simulador Pagos Oportunos'!$Y$74))+IF(AO181<=0,0,IF('Simulador Pagos Oportunos'!$X$41=4,'Simulador Pagos Oportunos'!$I$55,IF('Simulador Pagos Oportunos'!$X$41=1,'Simulador Pagos Oportunos'!$K$55,IF('Simulador Pagos Oportunos'!$X$41=2,'Simulador Pagos Oportunos'!$M$55,'Simulador Pagos Oportunos'!$O$55))))","v":0},null,0,0,"",0,165]
[166,0,null,{"$f":"IF(B182+F182-D181<=0,B182+F182,IF(A182=$B$9,$F$9,IF(A182=$B$10,$F$10,IF(AND('Simulador Pagos Oportunos'!$AH$45=2,L181=0),D181*(1+Z182),IF($AL$3=2,B182*AI182,D181*(1+Z182))))))","v":0},null,0,null,0,null,{"$f":"IF(B182-H182=0,0,J180)","v":0},null,null,null,{"$f":"IF('Simulador Pagos Oportunos'!$V$66=1,0,L182*'Simulador Pagos Oportunos'!$O$69*'Simulador Pagos Oportunos'!$W$65)","v":0},null,{"$f":"IF(B182=0,\"\",IF('Simulador Pagos Oportunos'!$X$41=4,AD182,IF('Simulador Pagos Oportunos'!$X$41=1,AE182,IF('Simulador Pagos Oportunos'!$X$41=2,AF182,IF('Simulador Pagos Oportunos'!$X$41=3,AG182,AC182)))))","v":""},null,0,null,{"$f":"IF(B182<=0,0,B182*IF('Simulador Pagos Oportunos'!$Y$71=1,0,'Simulador Pagos Oportunos'!$Y$74))","v":0},null,{"$f":"IF(B182=0,0,IF('Simulador Pagos Oportunos'!$X$41=4,'Simulador Pagos Oportunos'!$I$55,IF('Simulador Pagos Oportunos'!$X$41=1,'Simulador Pagos Oportunos'!$K$55,IF('Simulador Pagos Oportunos'!$X$41=2,'Simulador Pagos Oportunos'!$M$55,IF('Simulador Pagos Oportunos'!$X$41=3,'Simulador Pagos Oportunos'!$O$55,0)))))","v":0},null,0,null,null,null,0,0.10249999999999998,null,null,0.1225,0.1225,0,0,13,10,0,0,0,0,0,0,0,0,{"$f":"IF(AO182=0,\"\",IF('Simulador Pagos Oportunos'!$X$41=4,AD182,IF('Simulador Pagos Oportunos'!$X$41=1,AE182,IF('Simulador Pagos Oportunos'!$X$41=2,AF182,IF('Simulador Pagos Oportunos'!$X$41=3,AG182,AC182)))))","v":""},{"$f":"IF(AO182<=0,0,IF('Simulador Pagos Oportunos'!$Y$71=1,0,AO182*'Simulador Pagos Oportunos'!$Y$74))+IF(AO182<=0,0,IF('Simulador Pagos Oportunos'!$X$41=4,'Simulador Pagos Oportunos'!$I$55,IF('Simulador Pagos Oportunos'!$X$41=1,'Simulador Pagos Oportunos'!$K$55,IF('Simulador Pagos Oportunos'!$X$41=2,'Simulador Pagos Oportunos'!$M$55,'Simulador Pagos Oportunos'!$O$55))))","v":0},null,0,0,"",0,166]
[167,0,null,{"$f":"IF(B183+F183-D182<=0,B183+F183,IF(A183=$B$9,$F$9,IF(A183=$B$10,$F$10,IF(AND('Simulador Pagos Oportunos'!$AH$45=2,L182=0),D182*(1+Z183),IF($AL$3=2,B183*AI183,D182*(1+Z183))))))","v":0},null,0,null,0,null,null,null,null,null,{"$f":"IF('Simulador Pagos Oportunos'!$V$66=1,0,L183*'Simulador Pagos Oportunos'!$O$69*'Simulador Pagos Oportunos'!$W$65)","v":0},null,{"$f":"IF(B183=0,\"\",IF('Simulador Pagos Oportunos'!$X$41=4,AD183,IF('Simulador Pagos Oportunos'!$X$41=1,AE183,IF('Simulador Pagos Oportunos'!$X$41=2,AF183,IF('Simulador Pagos Oportunos'!$X$41=3,AG183,AC183)))))","v":""},null,0,null,{"$f":"IF(B183<=0,0,B183*IF('Simulador Pagos Oportunos'!$Y$71=1,0,'Simulador Pagos Oportunos'!$Y$74))","v":0},null,{"$f":"IF(B183=0,0,IF('Simulador Pagos Oportunos'!$X$41=4,'Simulador Pagos Oportunos'!$I$55,IF('Simulador Pagos Oportunos'!$X$41=1,'Simulador Pagos Oportunos'!$K$55,IF('Simulador Pagos Oportunos'!$X$41=2,'Simulador Pagos Oportunos'!$M$55,IF('Simulador Pagos Oportunos'!$X$41=3,'Simulador Pagos Oportunos'!$O$55,0)))))","v":0},null,0,null,null,null,0,0.10249999999999998,null,null,0.1225,0.1225,0,0,13,11,0,0,0,0,0,0,0,0,{"$f":"IF(AO183=0,\"\",IF('Simulador Pagos Oportunos'!$X$41=4,AD183,IF('Simulador Pagos Oportunos'!$X$41=1,AE183,IF('Simulador Pagos Oportunos'!$X$41=2,AF183,IF('Simulador Pagos Oportunos'!$X$41=3,AG183,AC183)))))","v":""},{"$f":"IF(AO183<=0,0,IF('Simulador Pagos Oportunos'!$Y$71=1,0,AO183*'Simulador Pagos Oportunos'!$Y$74))+IF(AO183<=0,0,IF('Simulador Pagos Oportunos'!$X$41=4,'Simulador Pagos Oportunos'!$I$55,IF('Simulador Pagos Oportunos'!$X$41=1,'Simulador Pagos Oportunos'!$K$55,IF('Simulador Pagos Oportunos'!$X$41=2,'Simulador Pagos Oportunos'!$M$55,'Simulador Pagos Oportunos'!$O$55))))","v":0},null,0,0,"",0,167]
[168,0,null,{"$f":"IF(B184+F184-D183<=0,B184+F184,IF(A184=$B$9,$F$9,IF(A184=$B$10,$F$10,IF(AND('Simulador Pagos Oportunos'!$AH$45=2,L183=0),D183*(1+Z184),IF($AL$3=2,B184*AI184,D183*(1+Z184))))))","v":0},null,0,null,0,null,{"$f":"IF(B184-H184=0,0,J182)","v":0},null,null,null,{"$f":"IF('Simulador Pagos Oportunos'!$V$66=1,0,L184*'Simulador Pagos Oportunos'!$O$69*'Simulador Pagos Oportunos'!$W$65)","v":0},null,{"$f":"IF(B184=0,\"\",IF('Simulador Pagos Oportunos'!$X$41=4,AD184,IF('Simulador Pagos Oportunos'!$X$41=1,AE184,IF('Simulador Pagos Oportunos'!$X$41=2,AF184,IF('Simulador Pagos Oportunos'!$X$41=3,AG184,AC184)))))","v":""},null,0,null,{"$f":"IF(B184<=0,0,B184*IF('Simulador Pagos Oportunos'!$Y$71=1,0,'Simulador Pagos Oportunos'!$Y$74))","v":0},null,{"$f":"IF(B184=0,0,IF('Simulador Pagos Oportunos'!$X$41=4,'Simulador Pagos Oportunos'!$I$55,IF('Simulador Pagos Oportunos'!$X$41=1,'Simulador Pagos Oportunos'!$K$55,IF('Simulador Pagos Oportunos'!$X$41=2,'Simulador Pagos Oportunos'!$M$55,IF('Simulador Pagos Oportunos'!$X$41=3,'Simulador Pagos Oportunos'!$O$55,0)))))","v":0},null,0,null,null,null,0,0.10249999999999998,null,null,0.1225,0.1225,0,0,14,0,0,0,0,0,0,0,0,0,{"$f":"IF(AO184=0,\"\",IF('Simulador Pagos Oportunos'!$X$41=4,AD184,IF('Simulador Pagos Oportunos'!$X$41=1,AE184,IF('Simulador Pagos Oportunos'!$X$41=2,AF184,IF('Simulador Pagos Oportunos'!$X$41=3,AG184,AC184)))))","v":""},{"$f":"IF(AO184<=0,0,IF('Simulador Pagos Oportunos'!$Y$71=1,0,AO184*'Simulador Pagos Oportunos'!$Y$74))+IF(AO184<=0,0,IF('Simulador Pagos Oportunos'!$X$41=4,'Simulador Pagos Oportunos'!$I$55,IF('Simulador Pagos Oportunos'!$X$41=1,'Simulador Pagos Oportunos'!$K$55,IF('Simulador Pagos Oportunos'!$X$41=2,'Simulador Pagos Oportunos'!$M$55,'Simulador Pagos Oportunos'!$O$55))))","v":0},null,0,0,"",0,168]
[169,0,null,{"$f":"IF(B185+F185-D184<=0,B185+F185,IF(A185=$B$9,$F$9,IF(A185=$B$10,$F$10,IF(AND('Simulador Pagos Oportunos'!$AH$45=2,L184=0),D184*(1+Z185),IF($AL$3=2,B185*AI185,D184*(1+Z185))))))","v":0},null,0,null,0,null,null,null,null,null,{"$f":"IF('Simulador Pagos Oportunos'!$V$66=1,0,L185*'Simulador Pagos Oportunos'!$O$69*'Simulador Pagos Oportunos'!$W$65)","v":0},null,{"$f":"IF(B185=0,\"\",IF('Simulador Pagos Oportunos'!$X$41=4,AD185,IF('Simulador Pagos Oportunos'!$X$41=1,AE185,IF('Simulador Pagos Oportunos'!$X$41=2,AF185,IF('Simulador Pagos Oportunos'!$X$41=3,AG185,AC185)))))","v":""},null,0,null,{"$f":"IF(B185<=0,0,B185*IF('Simulador Pagos Oportunos'!$Y$71=1,0,'Simulador Pagos Oportunos'!$Y$74))","v":0},null,{"$f":"IF(B185=0,0,IF('Simulador Pagos Oportunos'!$X$41=4,'Simulador Pagos Oportunos'!$I$55,IF('Simulador Pagos Oportunos'!$X$41=1,'Simulador Pagos Oportunos'!$K$55,IF('Simulador Pagos Oportunos'!$X$41=2,'Simulador Pagos Oportunos'!$M$55,IF('Simulador Pagos Oportunos'!$X$41=3,'Simulador Pagos Oportunos'!$O$55,0)))))","v":0},null,0,null,{"$f":"IF(B185<=0,0,'Simulador Pagos Oportunos'!$AI$54)","v":0},null,0,{"$f":"IF(AC184=$AC$5,AC184,IF(AC184-0.25%<=$AC$5,$AC$5,AC184-0.25%))","v":9.9999999999999978E-2},null,null,0.1225,0.1225,0,0,14,1,0,0,0,0,0,0,0,0,{"$f":"IF(AO185=0,\"\",IF('Simulador Pagos Oportunos'!$X$41=4,AD185,IF('Simulador Pagos Oportunos'!$X$41=1,AE185,IF('Simulador Pagos Oportunos'!$X$41=2,AF185,IF('Simulador Pagos Oportunos'!$X$41=3,AG185,AC185)))))","v":""},{"$f":"IF(AO185<=0,0,IF('Simulador Pagos Oportunos'!$Y$71=1,0,AO185*'Simulador Pagos Oportunos'!$Y$74))+IF(AO185<=0,0,IF('Simulador Pagos Oportunos'!$X$41=4,'Simulador Pagos Oportunos'!$I$55,IF('Simulador Pagos Oportunos'!$X$41=1,'Simulador Pagos Oportunos'!$K$55,IF('Simulador Pagos Oportunos'!$X$41=2,'Simulador Pagos Oportunos'!$M$55,'Simulador Pagos Oportunos'!$O$55))))","v":0},{"$f":"IF(AO185<=0,0,$AV$29)","v":0},0,0,"",0,169]
[170,0,null,{"$f":"IF(B186+F186-D185<=0,B186+F186,IF(A186=$B$9,$F$9,IF(A186=$B$10,$F$10,IF(AND('Simulador Pagos Oportunos'!$AH$45=2,L185=0),D185*(1+Z186),IF($AL$3=2,B186*AI186,D185*(1+Z186))))))","v":0},null,0,null,0,null,{"$f":"IF(B186-H186=0,0,J184*(1+(3%)))","v":0},null,null,null,{"$f":"IF('Simulador Pagos Oportunos'!$V$66=1,0,L186*'Simulador Pagos Oportunos'!$O$69*'Simulador Pagos Oportunos'!$W$65)","v":0},null,{"$f":"IF(B186=0,\"\",IF('Simulador Pagos Oportunos'!$X$41=4,AD186,IF('Simulador Pagos Oportunos'!$X$41=1,AE186,IF('Simulador Pagos Oportunos'!$X$41=2,AF186,IF('Simulador Pagos Oportunos'!$X$41=3,AG186,AC186)))))","v":""},null,0,null,{"$f":"IF(B186<=0,0,B186*IF('Simulador Pagos Oportunos'!$Y$71=1,0,'Simulador Pagos Oportunos'!$Y$74))","v":0},null,{"$f":"IF(B186=0,0,IF('Simulador Pagos Oportunos'!$X$41=4,'Simulador Pagos Oportunos'!$I$55,IF('Simulador Pagos Oportunos'!$X$41=1,'Simulador Pagos Oportunos'!$K$55,IF('Simulador Pagos Oportunos'!$X$41=2,'Simulador Pagos Oportunos'!$M$55,IF('Simulador Pagos Oportunos'!$X$41=3,'Simulador Pagos Oportunos'!$O$55,0)))))","v":0},null,0,null,null,null,0,{"$f":"AC185","v":9.9999999999999978E-2},null,null,{"$f":"AF185","v":0.1225},0.1225,0,0,14,2,0,0,0,0,0,0,0,0,{"$f":"IF(AO186=0,\"\",IF('Simulador Pagos Oportunos'!$X$41=4,AD186,IF('Simulador Pagos Oportunos'!$X$41=1,AE186,IF('Simulador Pagos Oportunos'!$X$41=2,AF186,IF('Simulador Pagos Oportunos'!$X$41=3,AG186,AC186)))))","v":""},{"$f":"IF(AO186<=0,0,IF('Simulador Pagos Oportunos'!$Y$71=1,0,AO186*'Simulador Pagos Oportunos'!$Y$74))+IF(AO186<=0,0,IF('Simulador Pagos Oportunos'!$X$41=4,'Simulador Pagos Oportunos'!$I$55,IF('Simulador Pagos Oportunos'!$X$41=1,'Simulador Pagos Oportunos'!$K$55,IF('Simulador Pagos Oportunos'!$X$41=2,'Simulador Pagos Oportunos'!$M$55,'Simulador Pagos Oportunos'!$O$55))))","v":0},null,0,0,"",0,170]
[171,0,null,{"$f":"IF(B187+F187-D186<=0,B187+F187,IF(A187=$B$9,$F$9,IF(A187=$B$10,$F$10,IF(AND('Simulador Pagos Oportunos'!$AH$45=2,L186=0),D186*(1+Z187),IF($AL$3=2,B187*AI187,D186*(1+Z187))))))","v":0},null,0,null,0,null,null,null,null,null,{"$f":"IF('Simulador Pagos Oportunos'!$V$66=1,0,L187*'Simulador Pagos Oportunos'!$O$69*'Simulador Pagos Oportunos'!$W$65)","v":0},null,{"$f":"IF(B187=0,\"\",IF('Simulador Pagos Oportunos'!$X$41=4,AD187,IF('Simulador Pagos Oportunos'!$X$41=1,AE187,IF('Simulador Pagos Oportunos'!$X$41=2,AF187,IF('Simulador Pagos Oportunos'!$X$41=3,AG187,AC187)))))","v":""},null,0,null,{"$f":"IF(B187<=0,0,B187*IF('Simulador Pagos Oportunos'!$Y$71=1,0,'Simulador Pagos Oportunos'!$Y$74))","v":0},null,{"$f":"IF(B187=0,0,IF('Simulador Pagos Oportunos'!$X$41=4,'Simulador Pagos Oportunos'!$I$55,IF('Simulador Pagos Oportunos'!$X$41=1,'Simulador Pagos Oportunos'!$K$55,IF('Simulador Pagos Oportunos'!$X$41=2,'Simulador Pagos Oportunos'!$M$55,IF('Simulador Pagos Oportunos'!$X$41=3,'Simulador Pagos Oportunos'!$O$55,0)))))","v":0},null,0,null,null,null,0,{"$f":"AC186","v":9.9999999999999978E-2},null,null,0.1225,0.1225,0,0,14,3,0,0,0,0,0,0,0,0,{"$f":"IF(AO187=0,\"\",IF('Simulador Pagos Oportunos'!$X$41=4,AD187,IF('Simulador Pagos Oportunos'!$X$41=1,AE187,IF('Simulador Pagos Oportunos'!$X$41=2,AF187,IF('Simulador Pagos Oportunos'!$X$41=3,AG187,AC187)))))","v":""},{"$f":"IF(AO187<=0,0,IF('Simulador Pagos Oportunos'!$Y$71=1,0,AO187*'Simulador Pagos Oportunos'!$Y$74))+IF(AO187<=0,0,IF('Simulador Pagos Oportunos'!$X$41=4,'Simulador Pagos Oportunos'!$I$55,IF('Simulador Pagos Oportunos'!$X$41=1,'Simulador Pagos Oportunos'!$K$55,IF('Simulador Pagos Oportunos'!$X$41=2,'Simulador Pagos Oportunos'!$M$55,'Simulador Pagos Oportunos'!$O$55))))","v":0},null,0,0,"",0,171]
[172,0,null,{"$f":"IF(B188+F188-D187<=0,B188+F188,IF(A188=$B$9,$F$9,IF(A188=$B$10,$F$10,IF(AND('Simulador Pagos Oportunos'!$AH$45=2,L187=0),D187*(1+Z188),IF($AL$3=2,B188*AI188,D187*(1+Z188))))))","v":0},null,0,null,0,null,{"$f":"IF(B188-H188=0,0,J186)","v":0},null,null,null,{"$f":"IF('Simulador Pagos Oportunos'!$V$66=1,0,L188*'Simulador Pagos Oportunos'!$O$69*'Simulador Pagos Oportunos'!$W$65)","v":0},null,{"$f":"IF(B188=0,\"\",IF('Simulador Pagos Oportunos'!$X$41=4,AD188,IF('Simulador Pagos Oportunos'!$X$41=1,AE188,IF('Simulador Pagos Oportunos'!$X$41=2,AF188,IF('Simulador Pagos Oportunos'!$X$41=3,AG188,AC188)))))","v":""},null,0,null,{"$f":"IF(B188<=0,0,B188*IF('Simulador Pagos Oportunos'!$Y$71=1,0,'Simulador Pagos Oportunos'!$Y$74))","v":0},null,{"$f":"IF(B188=0,0,IF('Simulador Pagos Oportunos'!$X$41=4,'Simulador Pagos Oportunos'!$I$55,IF('Simulador Pagos Oportunos'!$X$41=1,'Simulador Pagos Oportunos'!$K$55,IF('Simulador Pagos Oportunos'!$X$41=2,'Simulador Pagos Oportunos'!$M$55,IF('Simulador Pagos Oportunos'!$X$41=3,'Simulador Pagos Oportunos'!$O$55,0)))))","v":0},null,0,null,null,null,0,9.9999999999999978E-2,null,null,0.1225,0.1225,0,0,14,4,0,0,0,0,0,0,0,0,{"$f":"IF(AO188=0,\"\",IF('Simulador Pagos Oportunos'!$X$41=4,AD188,IF('Simulador Pagos Oportunos'!$X$41=1,AE188,IF('Simulador Pagos Oportunos'!$X$41=2,AF188,IF('Simulador Pagos Oportunos'!$X$41=3,AG188,AC188)))))","v":""},{"$f":"IF(AO188<=0,0,IF('Simulador Pagos Oportunos'!$Y$71=1,0,AO188*'Simulador Pagos Oportunos'!$Y$74))+IF(AO188<=0,0,IF('Simulador Pagos Oportunos'!$X$41=4,'Simulador Pagos Oportunos'!$I$55,IF('Simulador Pagos Oportunos'!$X$41=1,'Simulador Pagos Oportunos'!$K$55,IF('Simulador Pagos Oportunos'!$X$41=2,'Simulador Pagos Oportunos'!$M$55,'Simulador Pagos Oportunos'!$O$55))))","v":0},null,0,0,"",0,172]
[173,0,null,{"$f":"IF(B189+F189-D188<=0,B189+F189,IF(A189=$B$9,$F$9,IF(A189=$B$10,$F$10,IF(AND('Simulador Pagos Oportunos'!$AH$45=2,L188=0),D188*(1+Z189),IF($AL$3=2,B189*AI189,D188*(1+Z189))))))","v":0},null,0,null,0,null,null,null,null,null,{"$f":"IF('Simulador Pagos Oportunos'!$V$66=1,0,L189*'Simulador Pagos Oportunos'!$O$69*'Simulador Pagos Oportunos'!$W$65)","v":0},null,{"$f":"IF(B189=0,\"\",IF('Simulador Pagos Oportunos'!$X$41=4,AD189,IF('Simulador Pagos Oportunos'!$X$41=1,AE189,IF('Simulador Pagos Oportunos'!$X$41=2,AF189,IF('Simulador Pagos Oportunos'!$X$41=3,AG189,AC189)))))","v":""},null,0,null,{"$f":"IF(B189<=0,0,B189*IF('Simulador Pagos Oportunos'!$Y$71=1,0,'Simulador Pagos Oportunos'!$Y$74))","v":0},null,{"$f":"IF(B189=0,0,IF('Simulador Pagos Oportunos'!$X$41=4,'Simulador Pagos Oportunos'!$I$55,IF('Simulador Pagos Oportunos'!$X$41=1,'Simulador Pagos Oportunos'!$K$55,IF('Simulador Pagos Oportunos'!$X$41=2,'Simulador Pagos Oportunos'!$M$55,IF('Simulador Pagos Oportunos'!$X$41=3,'Simulador Pagos Oportunos'!$O$55,0)))))","v":0},null,0,null,null,null,0,9.9999999999999978E-2,null,null,0.1225,0.1225,0,0,14,5,0,0,0,0,0,0,0,0,{"$f":"IF(AO189=0,\"\",IF('Simulador Pagos Oportunos'!$X$41=4,AD189,IF('Simulador Pagos Oportunos'!$X$41=1,AE189,IF('Simulador Pagos Oportunos'!$X$41=2,AF189,IF('Simulador Pagos Oportunos'!$X$41=3,AG189,AC189)))))","v":""},{"$f":"IF(AO189<=0,0,IF('Simulador Pagos Oportunos'!$Y$71=1,0,AO189*'Simulador Pagos Oportunos'!$Y$74))+IF(AO189<=0,0,IF('Simulador Pagos Oportunos'!$X$41=4,'Simulador Pagos Oportunos'!$I$55,IF('Simulador Pagos Oportunos'!$X$41=1,'Simulador Pagos Oportunos'!$K$55,IF('Simulador Pagos Oportunos'!$X$41=2,'Simulador Pagos Oportunos'!$M$55,'Simulador Pagos Oportunos'!$O$55))))","v":0},null,0,0,"",0,173]
[174,0,null,{"$f":"IF(B190+F190-D189<=0,B190+F190,IF(A190=$B$9,$F$9,IF(A190=$B$10,$F$10,IF(AND('Simulador Pagos Oportunos'!$AH$45=2,L189=0),D189*(1+Z190),IF($AL$3=2,B190*AI190,D189*(1+Z190))))))","v":0},null,0,null,0,null,{"$f":"IF(B190-H190=0,0,J188)","v":0},null,null,null,{"$f":"IF('Simulador Pagos Oportunos'!$V$66=1,0,L190*'Simulador Pagos Oportunos'!$O$69*'Simulador Pagos Oportunos'!$W$65)","v":0},null,{"$f":"IF(B190=0,\"\",IF('Simulador Pagos Oportunos'!$X$41=4,AD190,IF('Simulador Pagos Oportunos'!$X$41=1,AE190,IF('Simulador Pagos Oportunos'!$X$41=2,AF190,IF('Simulador Pagos Oportunos'!$X$41=3,AG190,AC190)))))","v":""},null,0,null,{"$f":"IF(B190<=0,0,B190*IF('Simulador Pagos Oportunos'!$Y$71=1,0,'Simulador Pagos Oportunos'!$Y$74))","v":0},null,{"$f":"IF(B190=0,0,IF('Simulador Pagos Oportunos'!$X$41=4,'Simulador Pagos Oportunos'!$I$55,IF('Simulador Pagos Oportunos'!$X$41=1,'Simulador Pagos Oportunos'!$K$55,IF('Simulador Pagos Oportunos'!$X$41=2,'Simulador Pagos Oportunos'!$M$55,IF('Simulador Pagos Oportunos'!$X$41=3,'Simulador Pagos Oportunos'!$O$55,0)))))","v":0},null,0,null,null,null,0,9.9999999999999978E-2,null,null,0.1225,0.1225,0,0,14,6,0,0,0,0,0,0,0,0,{"$f":"IF(AO190=0,\"\",IF('Simulador Pagos Oportunos'!$X$41=4,AD190,IF('Simulador Pagos Oportunos'!$X$41=1,AE190,IF('Simulador Pagos Oportunos'!$X$41=2,AF190,IF('Simulador Pagos Oportunos'!$X$41=3,AG190,AC190)))))","v":""},{"$f":"IF(AO190<=0,0,IF('Simulador Pagos Oportunos'!$Y$71=1,0,AO190*'Simulador Pagos Oportunos'!$Y$74))+IF(AO190<=0,0,IF('Simulador Pagos Oportunos'!$X$41=4,'Simulador Pagos Oportunos'!$I$55,IF('Simulador Pagos Oportunos'!$X$41=1,'Simulador Pagos Oportunos'!$K$55,IF('Simulador Pagos Oportunos'!$X$41=2,'Simulador Pagos Oportunos'!$M$55,'Simulador Pagos Oportunos'!$O$55))))","v":0},null,0,0,"",0,174]
[175,0,null,{"$f":"IF(B191+F191-D190<=0,B191+F191,IF(A191=$B$9,$F$9,IF(A191=$B$10,$F$10,IF(AND('Simulador Pagos Oportunos'!$AH$45=2,L190=0),D190*(1+Z191),IF($AL$3=2,B191*AI191,D190*(1+Z191))))))","v":0},null,0,null,0,null,null,null,null,null,{"$f":"IF('Simulador Pagos Oportunos'!$V$66=1,0,L191*'Simulador Pagos Oportunos'!$O$69*'Simulador Pagos Oportunos'!$W$65)","v":0},null,{"$f":"IF(B191=0,\"\",IF('Simulador Pagos Oportunos'!$X$41=4,AD191,IF('Simulador Pagos Oportunos'!$X$41=1,AE191,IF('Simulador Pagos Oportunos'!$X$41=2,AF191,IF('Simulador Pagos Oportunos'!$X$41=3,AG191,AC191)))))","v":""},null,0,null,{"$f":"IF(B191<=0,0,B191*IF('Simulador Pagos Oportunos'!$Y$71=1,0,'Simulador Pagos Oportunos'!$Y$74))","v":0},null,{"$f":"IF(B191=0,0,IF('Simulador Pagos Oportunos'!$X$41=4,'Simulador Pagos Oportunos'!$I$55,IF('Simulador Pagos Oportunos'!$X$41=1,'Simulador Pagos Oportunos'!$K$55,IF('Simulador Pagos Oportunos'!$X$41=2,'Simulador Pagos Oportunos'!$M$55,IF('Simulador Pagos Oportunos'!$X$41=3,'Simulador Pagos Oportunos'!$O$55,0)))))","v":0},null,0,null,null,null,0,9.9999999999999978E-2,null,null,0.1225,0.1225,0,0,14,7,0,0,0,0,0,0,0,0,{"$f":"IF(AO191=0,\"\",IF('Simulador Pagos Oportunos'!$X$41=4,AD191,IF('Simulador Pagos Oportunos'!$X$41=1,AE191,IF('Simulador Pagos Oportunos'!$X$41=2,AF191,IF('Simulador Pagos Oportunos'!$X$41=3,AG191,AC191)))))","v":""},{"$f":"IF(AO191<=0,0,IF('Simulador Pagos Oportunos'!$Y$71=1,0,AO191*'Simulador Pagos Oportunos'!$Y$74))+IF(AO191<=0,0,IF('Simulador Pagos Oportunos'!$X$41=4,'Simulador Pagos Oportunos'!$I$55,IF('Simulador Pagos Oportunos'!$X$41=1,'Simulador Pagos Oportunos'!$K$55,IF('Simulador Pagos Oportunos'!$X$41=2,'Simulador Pagos Oportunos'!$M$55,'Simulador Pagos Oportunos'!$O$55))))","v":0},null,0,0,"",0,175]
[176,0,null,{"$f":"IF(B192+F192-D191<=0,B192+F192,IF(A192=$B$9,$F$9,IF(A192=$B$10,$F$10,IF(AND('Simulador Pagos Oportunos'!$AH$45=2,L191=0),D191*(1+Z192),IF($AL$3=2,B192*AI192,D191*(1+Z192))))))","v":0},null,0,null,0,null,{"$f":"IF(B192-H192=0,0,J190)","v":0},null,null,null,{"$f":"IF('Simulador Pagos Oportunos'!$V$66=1,0,L192*'Simulador Pagos Oportunos'!$O$69*'Simulador Pagos Oportunos'!$W$65)","v":0},null,{"$f":"IF(B192=0,\"\",IF('Simulador Pagos Oportunos'!$X$41=4,AD192,IF('Simulador Pagos Oportunos'!$X$41=1,AE192,IF('Simulador Pagos Oportunos'!$X$41=2,AF192,IF('Simulador Pagos Oportunos'!$X$41=3,AG192,AC192)))))","v":""},null,0,null,{"$f":"IF(B192<=0,0,B192*IF('Simulador Pagos Oportunos'!$Y$71=1,0,'Simulador Pagos Oportunos'!$Y$74))","v":0},null,{"$f":"IF(B192=0,0,IF('Simulador Pagos Oportunos'!$X$41=4,'Simulador Pagos Oportunos'!$I$55,IF('Simulador Pagos Oportunos'!$X$41=1,'Simulador Pagos Oportunos'!$K$55,IF('Simulador Pagos Oportunos'!$X$41=2,'Simulador Pagos Oportunos'!$M$55,IF('Simulador Pagos Oportunos'!$X$41=3,'Simulador Pagos Oportunos'!$O$55,0)))))","v":0},null,0,null,null,null,0,9.9999999999999978E-2,null,null,0.1225,0.1225,0,0,14,8,0,0,0,0,0,0,0,0,{"$f":"IF(AO192=0,\"\",IF('Simulador Pagos Oportunos'!$X$41=4,AD192,IF('Simulador Pagos Oportunos'!$X$41=1,AE192,IF('Simulador Pagos Oportunos'!$X$41=2,AF192,IF('Simulador Pagos Oportunos'!$X$41=3,AG192,AC192)))))","v":""},{"$f":"IF(AO192<=0,0,IF('Simulador Pagos Oportunos'!$Y$71=1,0,AO192*'Simulador Pagos Oportunos'!$Y$74))+IF(AO192<=0,0,IF('Simulador Pagos Oportunos'!$X$41=4,'Simulador Pagos Oportunos'!$I$55,IF('Simulador Pagos Oportunos'!$X$41=1,'Simulador Pagos Oportunos'!$K$55,IF('Simulador Pagos Oportunos'!$X$41=2,'Simulador Pagos Oportunos'!$M$55,'Simulador Pagos Oportunos'!$O$55))))","v":0},null,0,0,"",0,176]
[177,0,null,{"$f":"IF(B193+F193-D192<=0,B193+F193,IF(A193=$B$9,$F$9,IF(A193=$B$10,$F$10,IF(AND('Simulador Pagos Oportunos'!$AH$45=2,L192=0),D192*(1+Z193),IF($AL$3=2,B193*AI193,D192*(1+Z193))))))","v":0},null,0,null,0,null,null,null,null,null,{"$f":"IF('Simulador Pagos Oportunos'!$V$66=1,0,L193*'Simulador Pagos Oportunos'!$O$69*'Simulador Pagos Oportunos'!$W$65)","v":0},null,{"$f":"IF(B193=0,\"\",IF('Simulador Pagos Oportunos'!$X$41=4,AD193,IF('Simulador Pagos Oportunos'!$X$41=1,AE193,IF('Simulador Pagos Oportunos'!$X$41=2,AF193,IF('Simulador Pagos Oportunos'!$X$41=3,AG193,AC193)))))","v":""},null,0,null,{"$f":"IF(B193<=0,0,B193*IF('Simulador Pagos Oportunos'!$Y$71=1,0,'Simulador Pagos Oportunos'!$Y$74))","v":0},null,{"$f":"IF(B193=0,0,IF('Simulador Pagos Oportunos'!$X$41=4,'Simulador Pagos Oportunos'!$I$55,IF('Simulador Pagos Oportunos'!$X$41=1,'Simulador Pagos Oportunos'!$K$55,IF('Simulador Pagos Oportunos'!$X$41=2,'Simulador Pagos Oportunos'!$M$55,IF('Simulador Pagos Oportunos'!$X$41=3,'Simulador Pagos Oportunos'!$O$55,0)))))","v":0},null,0,null,null,null,0,9.9999999999999978E-2,null,null,0.1225,0.1225,0,0,14,9,0,0,0,0,0,0,0,0,{"$f":"IF(AO193=0,\"\",IF('Simulador Pagos Oportunos'!$X$41=4,AD193,IF('Simulador Pagos Oportunos'!$X$41=1,AE193,IF('Simulador Pagos Oportunos'!$X$41=2,AF193,IF('Simulador Pagos Oportunos'!$X$41=3,AG193,AC193)))))","v":""},{"$f":"IF(AO193<=0,0,IF('Simulador Pagos Oportunos'!$Y$71=1,0,AO193*'Simulador Pagos Oportunos'!$Y$74))+IF(AO193<=0,0,IF('Simulador Pagos Oportunos'!$X$41=4,'Simulador Pagos Oportunos'!$I$55,IF('Simulador Pagos Oportunos'!$X$41=1,'Simulador Pagos Oportunos'!$K$55,IF('Simulador Pagos Oportunos'!$X$41=2,'Simulador Pagos Oportunos'!$M$55,'Simulador Pagos Oportunos'!$O$55))))","v":0},null,0,0,"",0,177]
[178,0,null,{"$f":"IF(B194+F194-D193<=0,B194+F194,IF(A194=$B$9,$F$9,IF(A194=$B$10,$F$10,IF(AND('Simulador Pagos Oportunos'!$AH$45=2,L193=0),D193*(1+Z194),IF($AL$3=2,B194*AI194,D193*(1+Z194))))))","v":0},null,0,null,0,null,{"$f":"IF(B194-H194=0,0,J192)","v":0},null,null,null,{"$f":"IF('Simulador Pagos Oportunos'!$V$66=1,0,L194*'Simulador Pagos Oportunos'!$O$69*'Simulador Pagos Oportunos'!$W$65)","v":0},null,{"$f":"IF(B194=0,\"\",IF('Simulador Pagos Oportunos'!$X$41=4,AD194,IF('Simulador Pagos Oportunos'!$X$41=1,AE194,IF('Simulador Pagos Oportunos'!$X$41=2,AF194,IF('Simulador Pagos Oportunos'!$X$41=3,AG194,AC194)))))","v":""},null,0,null,{"$f":"IF(B194<=0,0,B194*IF('Simulador Pagos Oportunos'!$Y$71=1,0,'Simulador Pagos Oportunos'!$Y$74))","v":0},null,{"$f":"IF(B194=0,0,IF('Simulador Pagos Oportunos'!$X$41=4,'Simulador Pagos Oportunos'!$I$55,IF('Simulador Pagos Oportunos'!$X$41=1,'Simulador Pagos Oportunos'!$K$55,IF('Simulador Pagos Oportunos'!$X$41=2,'Simulador Pagos Oportunos'!$M$55,IF('Simulador Pagos Oportunos'!$X$41=3,'Simulador Pagos Oportunos'!$O$55,0)))))","v":0},null,0,null,null,null,0,9.9999999999999978E-2,null,null,0.1225,0.1225,0,0,14,10,0,0,0,0,0,0,0,0,{"$f":"IF(AO194=0,\"\",IF('Simulador Pagos Oportunos'!$X$41=4,AD194,IF('Simulador Pagos Oportunos'!$X$41=1,AE194,IF('Simulador Pagos Oportunos'!$X$41=2,AF194,IF('Simulador Pagos Oportunos'!$X$41=3,AG194,AC194)))))","v":""},{"$f":"IF(AO194<=0,0,IF('Simulador Pagos Oportunos'!$Y$71=1,0,AO194*'Simulador Pagos Oportunos'!$Y$74))+IF(AO194<=0,0,IF('Simulador Pagos Oportunos'!$X$41=4,'Simulador Pagos Oportunos'!$I$55,IF('Simulador Pagos Oportunos'!$X$41=1,'Simulador Pagos Oportunos'!$K$55,IF('Simulador Pagos Oportunos'!$X$41=2,'Simulador Pagos Oportunos'!$M$55,'Simulador Pagos Oportunos'!$O$55))))","v":0},null,0,0,"",0,178]
[179,0,null,{"$f":"IF(B195+F195-D194<=0,B195+F195,IF(A195=$B$9,$F$9,IF(A195=$B$10,$F$10,IF(AND('Simulador Pagos Oportunos'!$AH$45=2,L194=0),D194*(1+Z195),IF($AL$3=2,B195*AI195,D194*(1+Z195))))))","v":0},null,0,null,0,null,null,null,null,null,{"$f":"IF('Simulador Pagos Oportunos'!$V$66=1,0,L195*'Simulador Pagos Oportunos'!$O$69*'Simulador Pagos Oportunos'!$W$65)","v":0},null,{"$f":"IF(B195=0,\"\",IF('Simulador Pagos Oportunos'!$X$41=4,AD195,IF('Simulador Pagos Oportunos'!$X$41=1,AE195,IF('Simulador Pagos Oportunos'!$X$41=2,AF195,IF('Simulador Pagos Oportunos'!$X$41=3,AG195,AC195)))))","v":""},null,0,null,{"$f":"IF(B195<=0,0,B195*IF('Simulador Pagos Oportunos'!$Y$71=1,0,'Simulador Pagos Oportunos'!$Y$74))","v":0},null,{"$f":"IF(B195=0,0,IF('Simulador Pagos Oportunos'!$X$41=4,'Simulador Pagos Oportunos'!$I$55,IF('Simulador Pagos Oportunos'!$X$41=1,'Simulador Pagos Oportunos'!$K$55,IF('Simulador Pagos Oportunos'!$X$41=2,'Simulador Pagos Oportunos'!$M$55,IF('Simulador Pagos Oportunos'!$X$41=3,'Simulador Pagos Oportunos'!$O$55,0)))))","v":0},null,0,null,null,null,0,9.9999999999999978E-2,null,null,0.1225,0.1225,0,0,14,11,0,0,0,0,0,0,0,0,{"$f":"IF(AO195=0,\"\",IF('Simulador Pagos Oportunos'!$X$41=4,AD195,IF('Simulador Pagos Oportunos'!$X$41=1,AE195,IF('Simulador Pagos Oportunos'!$X$41=2,AF195,IF('Simulador Pagos Oportunos'!$X$41=3,AG195,AC195)))))","v":""},{"$f":"IF(AO195<=0,0,IF('Simulador Pagos Oportunos'!$Y$71=1,0,AO195*'Simulador Pagos Oportunos'!$Y$74))+IF(AO195<=0,0,IF('Simulador Pagos Oportunos'!$X$41=4,'Simulador Pagos Oportunos'!$I$55,IF('Simulador Pagos Oportunos'!$X$41=1,'Simulador Pagos Oportunos'!$K$55,IF('Simulador Pagos Oportunos'!$X$41=2,'Simulador Pagos Oportunos'!$M$55,'Simulador Pagos Oportunos'!$O$55))))","v":0},null,0,0,"",0,179]
[180,0,null,{"$f":"IF(B196+F196-D195<=0,B196+F196,IF(A196=$B$9,$F$9,IF(A196=$B$10,$F$10,IF(AND('Simulador Pagos Oportunos'!$AH$45=2,L195=0),D195*(1+Z196),IF($AL$3=2,B196*AI196,D195*(1+Z196))))))","v":0},null,0,null,0,null,{"$f":"IF(B196-H196=0,0,J194)","v":0},null,null,null,{"$f":"IF('Simulador Pagos Oportunos'!$V$66=1,0,L196*'Simulador Pagos Oportunos'!$O$69*'Simulador Pagos Oportunos'!$W$65)","v":0},null,{"$f":"IF(B196=0,\"\",IF('Simulador Pagos Oportunos'!$X$41=4,AD196,IF('Simulador Pagos Oportunos'!$X$41=1,AE196,IF('Simulador Pagos Oportunos'!$X$41=2,AF196,IF('Simulador Pagos Oportunos'!$X$41=3,AG196,AC196)))))","v":""},null,0,null,{"$f":"IF(B196<=0,0,B196*IF('Simulador Pagos Oportunos'!$Y$71=1,0,'Simulador Pagos Oportunos'!$Y$74))","v":0},null,{"$f":"IF(B196=0,0,IF('Simulador Pagos Oportunos'!$X$41=4,'Simulador Pagos Oportunos'!$I$55,IF('Simulador Pagos Oportunos'!$X$41=1,'Simulador Pagos Oportunos'!$K$55,IF('Simulador Pagos Oportunos'!$X$41=2,'Simulador Pagos Oportunos'!$M$55,IF('Simulador Pagos Oportunos'!$X$41=3,'Simulador Pagos Oportunos'!$O$55,0)))))","v":0},null,0,null,null,null,0,9.9999999999999978E-2,null,null,0.1225,0.1225,0,0,15,0,0,0,0,0,0,0,0,0,{"$f":"IF(AO196=0,\"\",IF('Simulador Pagos Oportunos'!$X$41=4,AD196,IF('Simulador Pagos Oportunos'!$X$41=1,AE196,IF('Simulador Pagos Oportunos'!$X$41=2,AF196,IF('Simulador Pagos Oportunos'!$X$41=3,AG196,AC196)))))","v":""},{"$f":"IF(AO196<=0,0,IF('Simulador Pagos Oportunos'!$Y$71=1,0,AO196*'Simulador Pagos Oportunos'!$Y$74))+IF(AO196<=0,0,IF('Simulador Pagos Oportunos'!$X$41=4,'Simulador Pagos Oportunos'!$I$55,IF('Simulador Pagos Oportunos'!$X$41=1,'Simulador Pagos Oportunos'!$K$55,IF('Simulador Pagos Oportunos'!$X$41=2,'Simulador Pagos Oportunos'!$M$55,'Simulador Pagos Oportunos'!$O$55))))","v":0},null,0,0,"",0,180]
[181,0,null,{"$f":"IF(B197+F197-D196<=0,B197+F197,IF(A197=$B$9,$F$9,IF(A197=$B$10,$F$10,IF(AND('Simulador Pagos Oportunos'!$AH$45=2,L196=0),D196*(1+Z197),IF($AL$3=2,B197*AI197,D196*(1+Z197))))))","v":0},null,0,null,0,null,null,null,null,null,{"$f":"IF('Simulador Pagos Oportunos'!$V$66=1,0,L197*'Simulador Pagos Oportunos'!$O$69*'Simulador Pagos Oportunos'!$W$65)","v":0},null,{"$f":"IF(B197=0,\"\",IF('Simulador Pagos Oportunos'!$X$41=4,AD197,IF('Simulador Pagos Oportunos'!$X$41=1,AE197,IF('Simulador Pagos Oportunos'!$X$41=2,AF197,IF('Simulador Pagos Oportunos'!$X$41=3,AG197,AC197)))))","v":""},null,0,null,{"$f":"IF(B197<=0,0,B197*IF('Simulador Pagos Oportunos'!$Y$71=1,0,'Simulador Pagos Oportunos'!$Y$74))","v":0},null,{"$f":"IF(B197=0,0,IF('Simulador Pagos Oportunos'!$X$41=4,'Simulador Pagos Oportunos'!$I$55,IF('Simulador Pagos Oportunos'!$X$41=1,'Simulador Pagos Oportunos'!$K$55,IF('Simulador Pagos Oportunos'!$X$41=2,'Simulador Pagos Oportunos'!$M$55,IF('Simulador Pagos Oportunos'!$X$41=3,'Simulador Pagos Oportunos'!$O$55,0)))))","v":0},null,0,null,{"$f":"IF(B197<=0,0,'Simulador Pagos Oportunos'!$AI$54)","v":0},null,0,{"$f":"IF(AC196=$AC$5,AC196,IF(AC196-0.25%<=$AC$5,$AC$5,AC196-0.25%))","v":9.7499999999999976E-2},null,null,null,0.1225,0,0,15,1,0,0,0,0,0,0,0,0,{"$f":"IF(AO197=0,\"\",IF('Simulador Pagos Oportunos'!$X$41=4,AD197,IF('Simulador Pagos Oportunos'!$X$41=1,AE197,IF('Simulador Pagos Oportunos'!$X$41=2,AF197,IF('Simulador Pagos Oportunos'!$X$41=3,AG197,AC197)))))","v":""},{"$f":"IF(AO197<=0,0,IF('Simulador Pagos Oportunos'!$Y$71=1,0,AO197*'Simulador Pagos Oportunos'!$Y$74))+IF(AO197<=0,0,IF('Simulador Pagos Oportunos'!$X$41=4,'Simulador Pagos Oportunos'!$I$55,IF('Simulador Pagos Oportunos'!$X$41=1,'Simulador Pagos Oportunos'!$K$55,IF('Simulador Pagos Oportunos'!$X$41=2,'Simulador Pagos Oportunos'!$M$55,'Simulador Pagos Oportunos'!$O$55))))","v":0},{"$f":"IF(AO197<=0,0,$AV$29)","v":0},0,0,"",0,181]
[182,0,null,{"$f":"IF(B198+F198-D197<=0,B198+F198,IF(A198=$B$9,$F$9,IF(A198=$B$10,$F$10,IF(AND('Simulador Pagos Oportunos'!$AH$45=2,L197=0),D197*(1+Z198),IF($AL$3=2,B198*AI198,D197*(1+Z198))))))","v":0},null,0,null,0,null,{"$f":"IF(B198-H198=0,0,J196*(1+(3%)))","v":0},null,null,null,{"$f":"IF('Simulador Pagos Oportunos'!$V$66=1,0,L198*'Simulador Pagos Oportunos'!$O$69*'Simulador Pagos Oportunos'!$W$65)","v":0},null,{"$f":"IF(B198=0,\"\",IF('Simulador Pagos Oportunos'!$X$41=4,AD198,IF('Simulador Pagos Oportunos'!$X$41=1,AE198,IF('Simulador Pagos Oportunos'!$X$41=2,AF198,IF('Simulador Pagos Oportunos'!$X$41=3,AG198,AC198)))))","v":""},null,0,null,{"$f":"IF(B198<=0,0,B198*IF('Simulador Pagos Oportunos'!$Y$71=1,0,'Simulador Pagos Oportunos'!$Y$74))","v":0},null,{"$f":"IF(B198=0,0,IF('Simulador Pagos Oportunos'!$X$41=4,'Simulador Pagos Oportunos'!$I$55,IF('Simulador Pagos Oportunos'!$X$41=1,'Simulador Pagos Oportunos'!$K$55,IF('Simulador Pagos Oportunos'!$X$41=2,'Simulador Pagos Oportunos'!$M$55,IF('Simulador Pagos Oportunos'!$X$41=3,'Simulador Pagos Oportunos'!$O$55,0)))))","v":0},null,0,null,null,null,0,{"$f":"AC197","v":9.7499999999999976E-2},null,null,null,0.1225,0,0,15,2,0,0,0,0,0,0,0,0,{"$f":"IF(AO198=0,\"\",IF('Simulador Pagos Oportunos'!$X$41=4,AD198,IF('Simulador Pagos Oportunos'!$X$41=1,AE198,IF('Simulador Pagos Oportunos'!$X$41=2,AF198,IF('Simulador Pagos Oportunos'!$X$41=3,AG198,AC198)))))","v":""},{"$f":"IF(AO198<=0,0,IF('Simulador Pagos Oportunos'!$Y$71=1,0,AO198*'Simulador Pagos Oportunos'!$Y$74))+IF(AO198<=0,0,IF('Simulador Pagos Oportunos'!$X$41=4,'Simulador Pagos Oportunos'!$I$55,IF('Simulador Pagos Oportunos'!$X$41=1,'Simulador Pagos Oportunos'!$K$55,IF('Simulador Pagos Oportunos'!$X$41=2,'Simulador Pagos Oportunos'!$M$55,'Simulador Pagos Oportunos'!$O$55))))","v":0},null,0,0,"",0,182]
[183,0,null,{"$f":"IF(B199+F199-D198<=0,B199+F199,IF(A199=$B$9,$F$9,IF(A199=$B$10,$F$10,IF(AND('Simulador Pagos Oportunos'!$AH$45=2,L198=0),D198*(1+Z199),IF($AL$3=2,B199*AI199,D198*(1+Z199))))))","v":0},null,0,null,0,null,null,null,null,null,{"$f":"IF('Simulador Pagos Oportunos'!$V$66=1,0,L199*'Simulador Pagos Oportunos'!$O$69*'Simulador Pagos Oportunos'!$W$65)","v":0},null,{"$f":"IF(B199=0,\"\",IF('Simulador Pagos Oportunos'!$X$41=4,AD199,IF('Simulador Pagos Oportunos'!$X$41=1,AE199,IF('Simulador Pagos Oportunos'!$X$41=2,AF199,IF('Simulador Pagos Oportunos'!$X$41=3,AG199,AC199)))))","v":""},null,0,null,{"$f":"IF(B199<=0,0,B199*IF('Simulador Pagos Oportunos'!$Y$71=1,0,'Simulador Pagos Oportunos'!$Y$74))","v":0},null,{"$f":"IF(B199=0,0,IF('Simulador Pagos Oportunos'!$X$41=4,'Simulador Pagos Oportunos'!$I$55,IF('Simulador Pagos Oportunos'!$X$41=1,'Simulador Pagos Oportunos'!$K$55,IF('Simulador Pagos Oportunos'!$X$41=2,'Simulador Pagos Oportunos'!$M$55,IF('Simulador Pagos Oportunos'!$X$41=3,'Simulador Pagos Oportunos'!$O$55,0)))))","v":0},null,0,null,null,null,0,{"$f":"AC198","v":9.7499999999999976E-2},null,null,null,0.1225,0,0,15,3,0,0,0,0,0,0,0,0,{"$f":"IF(AO199=0,\"\",IF('Simulador Pagos Oportunos'!$X$41=4,AD199,IF('Simulador Pagos Oportunos'!$X$41=1,AE199,IF('Simulador Pagos Oportunos'!$X$41=2,AF199,IF('Simulador Pagos Oportunos'!$X$41=3,AG199,AC199)))))","v":""},{"$f":"IF(AO199<=0,0,IF('Simulador Pagos Oportunos'!$Y$71=1,0,AO199*'Simulador Pagos Oportunos'!$Y$74))+IF(AO199<=0,0,IF('Simulador Pagos Oportunos'!$X$41=4,'Simulador Pagos Oportunos'!$I$55,IF('Simulador Pagos Oportunos'!$X$41=1,'Simulador Pagos Oportunos'!$K$55,IF('Simulador Pagos Oportunos'!$X$41=2,'Simulador Pagos Oportunos'!$M$55,'Simulador Pagos Oportunos'!$O$55))))","v":0},null,0,0,"",0,183]
[184,0,null,{"$f":"IF(B200+F200-D199<=0,B200+F200,IF(A200=$B$9,$F$9,IF(A200=$B$10,$F$10,IF(AND('Simulador Pagos Oportunos'!$AH$45=2,L199=0),D199*(1+Z200),IF($AL$3=2,B200*AI200,D199*(1+Z200))))))","v":0},null,0,null,0,null,{"$f":"IF(B200-H200=0,0,J198)","v":0},null,null,null,{"$f":"IF('Simulador Pagos Oportunos'!$V$66=1,0,L200*'Simulador Pagos Oportunos'!$O$69*'Simulador Pagos Oportunos'!$W$65)","v":0},null,{"$f":"IF(B200=0,\"\",IF('Simulador Pagos Oportunos'!$X$41=4,AD200,IF('Simulador Pagos Oportunos'!$X$41=1,AE200,IF('Simulador Pagos Oportunos'!$X$41=2,AF200,IF('Simulador Pagos Oportunos'!$X$41=3,AG200,AC200)))))","v":""},null,0,null,{"$f":"IF(B200<=0,0,B200*IF('Simulador Pagos Oportunos'!$Y$71=1,0,'Simulador Pagos Oportunos'!$Y$74))","v":0},null,{"$f":"IF(B200=0,0,IF('Simulador Pagos Oportunos'!$X$41=4,'Simulador Pagos Oportunos'!$I$55,IF('Simulador Pagos Oportunos'!$X$41=1,'Simulador Pagos Oportunos'!$K$55,IF('Simulador Pagos Oportunos'!$X$41=2,'Simulador Pagos Oportunos'!$M$55,IF('Simulador Pagos Oportunos'!$X$41=3,'Simulador Pagos Oportunos'!$O$55,0)))))","v":0},null,0,null,null,null,0,9.7499999999999976E-2,null,null,null,0.1225,0,0,15,4,0,0,0,0,0,0,0,0,{"$f":"IF(AO200=0,\"\",IF('Simulador Pagos Oportunos'!$X$41=4,AD200,IF('Simulador Pagos Oportunos'!$X$41=1,AE200,IF('Simulador Pagos Oportunos'!$X$41=2,AF200,IF('Simulador Pagos Oportunos'!$X$41=3,AG200,AC200)))))","v":""},{"$f":"IF(AO200<=0,0,IF('Simulador Pagos Oportunos'!$Y$71=1,0,AO200*'Simulador Pagos Oportunos'!$Y$74))+IF(AO200<=0,0,IF('Simulador Pagos Oportunos'!$X$41=4,'Simulador Pagos Oportunos'!$I$55,IF('Simulador Pagos Oportunos'!$X$41=1,'Simulador Pagos Oportunos'!$K$55,IF('Simulador Pagos Oportunos'!$X$41=2,'Simulador Pagos Oportunos'!$M$55,'Simulador Pagos Oportunos'!$O$55))))","v":0},null,0,0,"",0,184]
[185,0,null,{"$f":"IF(B201+F201-D200<=0,B201+F201,IF(A201=$B$9,$F$9,IF(A201=$B$10,$F$10,IF(AND('Simulador Pagos Oportunos'!$AH$45=2,L200=0),D200*(1+Z201),IF($AL$3=2,B201*AI201,D200*(1+Z201))))))","v":0},null,0,null,0,null,null,null,null,null,{"$f":"IF('Simulador Pagos Oportunos'!$V$66=1,0,L201*'Simulador Pagos Oportunos'!$O$69*'Simulador Pagos Oportunos'!$W$65)","v":0},null,{"$f":"IF(B201=0,\"\",IF('Simulador Pagos Oportunos'!$X$41=4,AD201,IF('Simulador Pagos Oportunos'!$X$41=1,AE201,IF('Simulador Pagos Oportunos'!$X$41=2,AF201,IF('Simulador Pagos Oportunos'!$X$41=3,AG201,AC201)))))","v":""},null,0,null,{"$f":"IF(B201<=0,0,B201*IF('Simulador Pagos Oportunos'!$Y$71=1,0,'Simulador Pagos Oportunos'!$Y$74))","v":0},null,{"$f":"IF(B201=0,0,IF('Simulador Pagos Oportunos'!$X$41=4,'Simulador Pagos Oportunos'!$I$55,IF('Simulador Pagos Oportunos'!$X$41=1,'Simulador Pagos Oportunos'!$K$55,IF('Simulador Pagos Oportunos'!$X$41=2,'Simulador Pagos Oportunos'!$M$55,IF('Simulador Pagos Oportunos'!$X$41=3,'Simulador Pagos Oportunos'!$O$55,0)))))","v":0},null,0,null,null,null,0,9.7499999999999976E-2,null,null,null,0.1225,0,0,15,5,0,0,0,0,0,0,0,0,{"$f":"IF(AO201=0,\"\",IF('Simulador Pagos Oportunos'!$X$41=4,AD201,IF('Simulador Pagos Oportunos'!$X$41=1,AE201,IF('Simulador Pagos Oportunos'!$X$41=2,AF201,IF('Simulador Pagos Oportunos'!$X$41=3,AG201,AC201)))))","v":""},{"$f":"IF(AO201<=0,0,IF('Simulador Pagos Oportunos'!$Y$71=1,0,AO201*'Simulador Pagos Oportunos'!$Y$74))+IF(AO201<=0,0,IF('Simulador Pagos Oportunos'!$X$41=4,'Simulador Pagos Oportunos'!$I$55,IF('Simulador Pagos Oportunos'!$X$41=1,'Simulador Pagos Oportunos'!$K$55,IF('Simulador Pagos Oportunos'!$X$41=2,'Simulador Pagos Oportunos'!$M$55,'Simulador Pagos Oportunos'!$O$55))))","v":0},null,0,0,"",0,185]
[186,0,null,{"$f":"IF(B202+F202-D201<=0,B202+F202,IF(A202=$B$9,$F$9,IF(A202=$B$10,$F$10,IF(AND('Simulador Pagos Oportunos'!$AH$45=2,L201=0),D201*(1+Z202),IF($AL$3=2,B202*AI202,D201*(1+Z202))))))","v":0},null,0,null,0,null,{"$f":"IF(B202-H202=0,0,J200)","v":0},null,null,null,{"$f":"IF('Simulador Pagos Oportunos'!$V$66=1,0,L202*'Simulador Pagos Oportunos'!$O$69*'Simulador Pagos Oportunos'!$W$65)","v":0},null,{"$f":"IF(B202=0,\"\",IF('Simulador Pagos Oportunos'!$X$41=4,AD202,IF('Simulador Pagos Oportunos'!$X$41=1,AE202,IF('Simulador Pagos Oportunos'!$X$41=2,AF202,IF('Simulador Pagos Oportunos'!$X$41=3,AG202,AC202)))))","v":""},null,0,null,{"$f":"IF(B202<=0,0,B202*IF('Simulador Pagos Oportunos'!$Y$71=1,0,'Simulador Pagos Oportunos'!$Y$74))","v":0},null,{"$f":"IF(B202=0,0,IF('Simulador Pagos Oportunos'!$X$41=4,'Simulador Pagos Oportunos'!$I$55,IF('Simulador Pagos Oportunos'!$X$41=1,'Simulador Pagos Oportunos'!$K$55,IF('Simulador Pagos Oportunos'!$X$41=2,'Simulador Pagos Oportunos'!$M$55,IF('Simulador Pagos Oportunos'!$X$41=3,'Simulador Pagos Oportunos'!$O$55,0)))))","v":0},null,0,null,null,null,0,9.7499999999999976E-2,null,null,null,{"$f":"AG201","v":0.1225},0,0,15,6,0,0,0,0,0,0,0,0,{"$f":"IF(AO202=0,\"\",IF('Simulador Pagos Oportunos'!$X$41=4,AD202,IF('Simulador Pagos Oportunos'!$X$41=1,AE202,IF('Simulador Pagos Oportunos'!$X$41=2,AF202,IF('Simulador Pagos Oportunos'!$X$41=3,AG202,AC202)))))","v":""},{"$f":"IF(AO202<=0,0,IF('Simulador Pagos Oportunos'!$Y$71=1,0,AO202*'Simulador Pagos Oportunos'!$Y$74))+IF(AO202<=0,0,IF('Simulador Pagos Oportunos'!$X$41=4,'Simulador Pagos Oportunos'!$I$55,IF('Simulador Pagos Oportunos'!$X$41=1,'Simulador Pagos Oportunos'!$K$55,IF('Simulador Pagos Oportunos'!$X$41=2,'Simulador Pagos Oportunos'!$M$55,'Simulador Pagos Oportunos'!$O$55))))","v":0},null,0,{"$f":"IFERROR(IF(AP202<=0.01,0,AX201-1),0)","v":0},"",0,186]
[187,0,null,{"$f":"IF(B203+F203-D202<=0,B203+F203,IF(A203=$B$9,$F$9,IF(A203=$B$10,$F$10,IF(AND('Simulador Pagos Oportunos'!$AH$45=2,L202=0),D202*(1+Z203),IF($AL$3=2,B203*AI203,D202*(1+Z203))))))","v":0},null,0,null,0,null,null,null,null,null,{"$f":"IF('Simulador Pagos Oportunos'!$V$66=1,0,L203*'Simulador Pagos Oportunos'!$O$69*'Simulador Pagos Oportunos'!$W$65)","v":0},null,{"$f":"IF(B203=0,\"\",IF('Simulador Pagos Oportunos'!$X$41=4,AD203,IF('Simulador Pagos Oportunos'!$X$41=1,AE203,IF('Simulador Pagos Oportunos'!$X$41=2,AF203,IF('Simulador Pagos Oportunos'!$X$41=3,AG203,AC203)))))","v":""},null,0,null,{"$f":"IF(B203<=0,0,B203*IF('Simulador Pagos Oportunos'!$Y$71=1,0,'Simulador Pagos Oportunos'!$Y$74))","v":0},null,{"$f":"IF(B203=0,0,IF('Simulador Pagos Oportunos'!$X$41=4,'Simulador Pagos Oportunos'!$I$55,IF('Simulador Pagos Oportunos'!$X$41=1,'Simulador Pagos Oportunos'!$K$55,IF('Simulador Pagos Oportunos'!$X$41=2,'Simulador Pagos Oportunos'!$M$55,IF('Simulador Pagos Oportunos'!$X$41=3,'Simulador Pagos Oportunos'!$O$55,0)))))","v":0},null,0,null,null,null,0,9.7499999999999976E-2,null,null,null,0.1225,0,0,15,7,0,0,0,0,0,0,0,0,{"$f":"IF(AO203=0,\"\",IF('Simulador Pagos Oportunos'!$X$41=4,AD203,IF('Simulador Pagos Oportunos'!$X$41=1,AE203,IF('Simulador Pagos Oportunos'!$X$41=2,AF203,IF('Simulador Pagos Oportunos'!$X$41=3,AG203,AC203)))))","v":""},{"$f":"IF(AO203<=0,0,IF('Simulador Pagos Oportunos'!$Y$71=1,0,AO203*'Simulador Pagos Oportunos'!$Y$74))+IF(AO203<=0,0,IF('Simulador Pagos Oportunos'!$X$41=4,'Simulador Pagos Oportunos'!$I$55,IF('Simulador Pagos Oportunos'!$X$41=1,'Simulador Pagos Oportunos'!$K$55,IF('Simulador Pagos Oportunos'!$X$41=2,'Simulador Pagos Oportunos'!$M$55,'Simulador Pagos Oportunos'!$O$55))))","v":0},null,0,0,"",0,187]
[188,0,null,{"$f":"IF(B204+F204-D203<=0,B204+F204,IF(A204=$B$9,$F$9,IF(A204=$B$10,$F$10,IF(AND('Simulador Pagos Oportunos'!$AH$45=2,L203=0),D203*(1+Z204),IF($AL$3=2,B204*AI204,D203*(1+Z204))))))","v":0},null,0,null,0,null,{"$f":"IF(B204-H204=0,0,J202)","v":0},null,null,null,{"$f":"IF('Simulador Pagos Oportunos'!$V$66=1,0,L204*'Simulador Pagos Oportunos'!$O$69*'Simulador Pagos Oportunos'!$W$65)","v":0},null,{"$f":"IF(B204=0,\"\",IF('Simulador Pagos Oportunos'!$X$41=4,AD204,IF('Simulador Pagos Oportunos'!$X$41=1,AE204,IF('Simulador Pagos Oportunos'!$X$41=2,AF204,IF('Simulador Pagos Oportunos'!$X$41=3,AG204,AC204)))))","v":""},null,0,null,{"$f":"IF(B204<=0,0,B204*IF('Simulador Pagos Oportunos'!$Y$71=1,0,'Simulador Pagos Oportunos'!$Y$74))","v":0},null,{"$f":"IF(B204=0,0,IF('Simulador Pagos Oportunos'!$X$41=4,'Simulador Pagos Oportunos'!$I$55,IF('Simulador Pagos Oportunos'!$X$41=1,'Simulador Pagos Oportunos'!$K$55,IF('Simulador Pagos Oportunos'!$X$41=2,'Simulador Pagos Oportunos'!$M$55,IF('Simulador Pagos Oportunos'!$X$41=3,'Simulador Pagos Oportunos'!$O$55,0)))))","v":0},null,0,null,null,null,0,9.7499999999999976E-2,null,null,null,0.1225,0,0,15,8,0,0,0,0,0,0,0,0,{"$f":"IF(AO204=0,\"\",IF('Simulador Pagos Oportunos'!$X$41=4,AD204,IF('Simulador Pagos Oportunos'!$X$41=1,AE204,IF('Simulador Pagos Oportunos'!$X$41=2,AF204,IF('Simulador Pagos Oportunos'!$X$41=3,AG204,AC204)))))","v":""},{"$f":"IF(AO204<=0,0,IF('Simulador Pagos Oportunos'!$Y$71=1,0,AO204*'Simulador Pagos Oportunos'!$Y$74))+IF(AO204<=0,0,IF('Simulador Pagos Oportunos'!$X$41=4,'Simulador Pagos Oportunos'!$I$55,IF('Simulador Pagos Oportunos'!$X$41=1,'Simulador Pagos Oportunos'!$K$55,IF('Simulador Pagos Oportunos'!$X$41=2,'Simulador Pagos Oportunos'!$M$55,'Simulador Pagos Oportunos'!$O$55))))","v":0},null,0,0,"",0,188]
[189,0,null,{"$f":"IF(B205+F205-D204<=0,B205+F205,IF(A205=$B$9,$F$9,IF(A205=$B$10,$F$10,IF(AND('Simulador Pagos Oportunos'!$AH$45=2,L204=0),D204*(1+Z205),IF($AL$3=2,B205*AI205,D204*(1+Z205))))))","v":0},null,0,null,0,null,null,null,null,null,{"$f":"IF('Simulador Pagos Oportunos'!$V$66=1,0,L205*'Simulador Pagos Oportunos'!$O$69*'Simulador Pagos Oportunos'!$W$65)","v":0},null,{"$f":"IF(B205=0,\"\",IF('Simulador Pagos Oportunos'!$X$41=4,AD205,IF('Simulador Pagos Oportunos'!$X$41=1,AE205,IF('Simulador Pagos Oportunos'!$X$41=2,AF205,IF('Simulador Pagos Oportunos'!$X$41=3,AG205,AC205)))))","v":""},null,0,null,{"$f":"IF(B205<=0,0,B205*IF('Simulador Pagos Oportunos'!$Y$71=1,0,'Simulador Pagos Oportunos'!$Y$74))","v":0},null,{"$f":"IF(B205=0,0,IF('Simulador Pagos Oportunos'!$X$41=4,'Simulador Pagos Oportunos'!$I$55,IF('Simulador Pagos Oportunos'!$X$41=1,'Simulador Pagos Oportunos'!$K$55,IF('Simulador Pagos Oportunos'!$X$41=2,'Simulador Pagos Oportunos'!$M$55,IF('Simulador Pagos Oportunos'!$X$41=3,'Simulador Pagos Oportunos'!$O$55,0)))))","v":0},null,0,null,null,null,0,9.7499999999999976E-2,null,null,null,0.1225,0,0,15,9,0,0,0,0,0,0,0,0,{"$f":"IF(AO205=0,\"\",IF('Simulador Pagos Oportunos'!$X$41=4,AD205,IF('Simulador Pagos Oportunos'!$X$41=1,AE205,IF('Simulador Pagos Oportunos'!$X$41=2,AF205,IF('Simulador Pagos Oportunos'!$X$41=3,AG205,AC205)))))","v":""},{"$f":"IF(AO205<=0,0,IF('Simulador Pagos Oportunos'!$Y$71=1,0,AO205*'Simulador Pagos Oportunos'!$Y$74))+IF(AO205<=0,0,IF('Simulador Pagos Oportunos'!$X$41=4,'Simulador Pagos Oportunos'!$I$55,IF('Simulador Pagos Oportunos'!$X$41=1,'Simulador Pagos Oportunos'!$K$55,IF('Simulador Pagos Oportunos'!$X$41=2,'Simulador Pagos Oportunos'!$M$55,'Simulador Pagos Oportunos'!$O$55))))","v":0},null,0,0,"",0,189]
[190,0,null,{"$f":"IF(B206+F206-D205<=0,B206+F206,IF(A206=$B$9,$F$9,IF(A206=$B$10,$F$10,IF(AND('Simulador Pagos Oportunos'!$AH$45=2,L205=0),D205*(1+Z206),IF($AL$3=2,B206*AI206,D205*(1+Z206))))))","v":0},null,0,null,0,null,{"$f":"IF(B206-H206=0,0,J204)","v":0},null,null,null,{"$f":"IF('Simulador Pagos Oportunos'!$V$66=1,0,L206*'Simulador Pagos Oportunos'!$O$69*'Simulador Pagos Oportunos'!$W$65)","v":0},null,{"$f":"IF(B206=0,\"\",IF('Simulador Pagos Oportunos'!$X$41=4,AD206,IF('Simulador Pagos Oportunos'!$X$41=1,AE206,IF('Simulador Pagos Oportunos'!$X$41=2,AF206,IF('Simulador Pagos Oportunos'!$X$41=3,AG206,AC206)))))","v":""},null,0,null,{"$f":"IF(B206<=0,0,B206*IF('Simulador Pagos Oportunos'!$Y$71=1,0,'Simulador Pagos Oportunos'!$Y$74))","v":0},null,{"$f":"IF(B206=0,0,IF('Simulador Pagos Oportunos'!$X$41=4,'Simulador Pagos Oportunos'!$I$55,IF('Simulador Pagos Oportunos'!$X$41=1,'Simulador Pagos Oportunos'!$K$55,IF('Simulador Pagos Oportunos'!$X$41=2,'Simulador Pagos Oportunos'!$M$55,IF('Simulador Pagos Oportunos'!$X$41=3,'Simulador Pagos Oportunos'!$O$55,0)))))","v":0},null,0,null,null,null,0,9.7499999999999976E-2,null,null,null,0.1225,0,0,15,10,0,0,0,0,0,0,0,0,{"$f":"IF(AO206=0,\"\",IF('Simulador Pagos Oportunos'!$X$41=4,AD206,IF('Simulador Pagos Oportunos'!$X$41=1,AE206,IF('Simulador Pagos Oportunos'!$X$41=2,AF206,IF('Simulador Pagos Oportunos'!$X$41=3,AG206,AC206)))))","v":""},{"$f":"IF(AO206<=0,0,IF('Simulador Pagos Oportunos'!$Y$71=1,0,AO206*'Simulador Pagos Oportunos'!$Y$74))+IF(AO206<=0,0,IF('Simulador Pagos Oportunos'!$X$41=4,'Simulador Pagos Oportunos'!$I$55,IF('Simulador Pagos Oportunos'!$X$41=1,'Simulador Pagos Oportunos'!$K$55,IF('Simulador Pagos Oportunos'!$X$41=2,'Simulador Pagos Oportunos'!$M$55,'Simulador Pagos Oportunos'!$O$55))))","v":0},null,0,0,"",0,190]
[191,0,null,{"$f":"IF(B207+F207-D206<=0,B207+F207,IF(A207=$B$9,$F$9,IF(A207=$B$10,$F$10,IF(AND('Simulador Pagos Oportunos'!$AH$45=2,L206=0),D206*(1+Z207),IF($AL$3=2,B207*AI207,D206*(1+Z207))))))","v":0},null,0,null,0,null,null,null,null,null,{"$f":"IF('Simulador Pagos Oportunos'!$V$66=1,0,L207*'Simulador Pagos Oportunos'!$O$69*'Simulador Pagos Oportunos'!$W$65)","v":0},null,{"$f":"IF(B207=0,\"\",IF('Simulador Pagos Oportunos'!$X$41=4,AD207,IF('Simulador Pagos Oportunos'!$X$41=1,AE207,IF('Simulador Pagos Oportunos'!$X$41=2,AF207,IF('Simulador Pagos Oportunos'!$X$41=3,AG207,AC207)))))","v":""},null,0,null,{"$f":"IF(B207<=0,0,B207*IF('Simulador Pagos Oportunos'!$Y$71=1,0,'Simulador Pagos Oportunos'!$Y$74))","v":0},null,{"$f":"IF(B207=0,0,IF('Simulador Pagos Oportunos'!$X$41=4,'Simulador Pagos Oportunos'!$I$55,IF('Simulador Pagos Oportunos'!$X$41=1,'Simulador Pagos Oportunos'!$K$55,IF('Simulador Pagos Oportunos'!$X$41=2,'Simulador Pagos Oportunos'!$M$55,IF('Simulador Pagos Oportunos'!$X$41=3,'Simulador Pagos Oportunos'!$O$55,0)))))","v":0},null,0,null,null,null,0,9.7499999999999976E-2,null,null,null,0.1225,0,0,15,11,0,0,0,0,0,0,0,0,{"$f":"IF(AO207=0,\"\",IF('Simulador Pagos Oportunos'!$X$41=4,AD207,IF('Simulador Pagos Oportunos'!$X$41=1,AE207,IF('Simulador Pagos Oportunos'!$X$41=2,AF207,IF('Simulador Pagos Oportunos'!$X$41=3,AG207,AC207)))))","v":""},{"$f":"IF(AO207<=0,0,IF('Simulador Pagos Oportunos'!$Y$71=1,0,AO207*'Simulador Pagos Oportunos'!$Y$74))+IF(AO207<=0,0,IF('Simulador Pagos Oportunos'!$X$41=4,'Simulador Pagos Oportunos'!$I$55,IF('Simulador Pagos Oportunos'!$X$41=1,'Simulador Pagos Oportunos'!$K$55,IF('Simulador Pagos Oportunos'!$X$41=2,'Simulador Pagos Oportunos'!$M$55,'Simulador Pagos Oportunos'!$O$55))))","v":0},null,0,0,"",0,191]
[192,0,null,{"$f":"IF(B208+F208-D207<=0,B208+F208,IF(A208=$B$9,$F$9,IF(A208=$B$10,$F$10,IF(AND('Simulador Pagos Oportunos'!$AH$45=2,L207=0),D207*(1+Z208),IF($AL$3=2,B208*AI208,D207*(1+Z208))))))","v":0},null,0,null,0,null,{"$f":"IF(B208-H208=0,0,J206)","v":0},null,null,null,{"$f":"IF('Simulador Pagos Oportunos'!$V$66=1,0,L208*'Simulador Pagos Oportunos'!$O$69*'Simulador Pagos Oportunos'!$W$65)","v":0},null,{"$f":"IF(B208=0,\"\",IF('Simulador Pagos Oportunos'!$X$41=4,AD208,IF('Simulador Pagos Oportunos'!$X$41=1,AE208,IF('Simulador Pagos Oportunos'!$X$41=2,AF208,IF('Simulador Pagos Oportunos'!$X$41=3,AG208,AC208)))))","v":""},null,0,null,{"$f":"IF(B208<=0,0,B208*IF('Simulador Pagos Oportunos'!$Y$71=1,0,'Simulador Pagos Oportunos'!$Y$74))","v":0},null,{"$f":"IF(B208=0,0,IF('Simulador Pagos Oportunos'!$X$41=4,'Simulador Pagos Oportunos'!$I$55,IF('Simulador Pagos Oportunos'!$X$41=1,'Simulador Pagos Oportunos'!$K$55,IF('Simulador Pagos Oportunos'!$X$41=2,'Simulador Pagos Oportunos'!$M$55,IF('Simulador Pagos Oportunos'!$X$41=3,'Simulador Pagos Oportunos'!$O$55,0)))))","v":0},null,0,null,null,null,0,9.7499999999999976E-2,null,null,null,0.1225,0,0,16,0,0,0,0,0,0,0,0,0,{"$f":"IF(AO208=0,\"\",IF('Simulador Pagos Oportunos'!$X$41=4,AD208,IF('Simulador Pagos Oportunos'!$X$41=1,AE208,IF('Simulador Pagos Oportunos'!$X$41=2,AF208,IF('Simulador Pagos Oportunos'!$X$41=3,AG208,AC208)))))","v":""},{"$f":"IF(AO208<=0,0,IF('Simulador Pagos Oportunos'!$Y$71=1,0,AO208*'Simulador Pagos Oportunos'!$Y$74))+IF(AO208<=0,0,IF('Simulador Pagos Oportunos'!$X$41=4,'Simulador Pagos Oportunos'!$I$55,IF('Simulador Pagos Oportunos'!$X$41=1,'Simulador Pagos Oportunos'!$K$55,IF('Simulador Pagos Oportunos'!$X$41=2,'Simulador Pagos Oportunos'!$M$55,'Simulador Pagos Oportunos'!$O$55))))","v":0},null,0,0,"",0,192]
[193,0,null,{"$f":"IF(B209+F209-D208<=0,B209+F209,IF(A209=$B$9,$F$9,IF(A209=$B$10,$F$10,IF(AND('Simulador Pagos Oportunos'!$AH$45=2,L208=0),D208*(1+Z209),IF($AL$3=2,B209*AI209,D208*(1+Z209))))))","v":0},null,0,null,0,null,null,null,null,null,{"$f":"IF('Simulador Pagos Oportunos'!$V$66=1,0,L209*'Simulador Pagos Oportunos'!$O$69*'Simulador Pagos Oportunos'!$W$65)","v":0},null,{"$f":"IF(B209=0,\"\",IF('Simulador Pagos Oportunos'!$X$41=4,AD209,IF('Simulador Pagos Oportunos'!$X$41=1,AE209,IF('Simulador Pagos Oportunos'!$X$41=2,AF209,IF('Simulador Pagos Oportunos'!$X$41=3,AG209,AC209)))))","v":""},null,0,null,{"$f":"IF(B209<=0,0,B209*IF('Simulador Pagos Oportunos'!$Y$71=1,0,'Simulador Pagos Oportunos'!$Y$74))","v":0},null,{"$f":"IF(B209=0,0,IF('Simulador Pagos Oportunos'!$X$41=4,'Simulador Pagos Oportunos'!$I$55,IF('Simulador Pagos Oportunos'!$X$41=1,'Simulador Pagos Oportunos'!$K$55,IF('Simulador Pagos Oportunos'!$X$41=2,'Simulador Pagos Oportunos'!$M$55,IF('Simulador Pagos Oportunos'!$X$41=3,'Simulador Pagos Oportunos'!$O$55,0)))))","v":0},null,0,null,{"$f":"IF(B209<=0,0,'Simulador Pagos Oportunos'!$AI$54)","v":0},null,0,{"$f":"IF(AC208=$AC$5,AC208,IF(AC208-0.25%<=$AC$5,$AC$5,AC208-0.25%))","v":9.4999999999999973E-2},null,null,null,0.1225,0,0,16,1,{"$f":"+IF(R209<=0,IF(R208>0,+A209,0),0)","v":0},0,0,0,0,0,{"$f":"+AP209-AQ209","v":0},{"$f":"+AO209-AR209","v":0},{"$f":"IF(AO209=0,\"\",IF('Simulador Pagos Oportunos'!$X$41=4,AD209,IF('Simulador Pagos Oportunos'!$X$41=1,AE209,IF('Simulador Pagos Oportunos'!$X$41=2,AF209,IF('Simulador Pagos Oportunos'!$X$41=3,AG209,AC209)))))","v":""},{"$f":"IF(AO209<=0,0,IF('Simulador Pagos Oportunos'!$Y$71=1,0,AO209*'Simulador Pagos Oportunos'!$Y$74))+IF(AO209<=0,0,IF('Simulador Pagos Oportunos'!$X$41=4,'Simulador Pagos Oportunos'!$I$55,IF('Simulador Pagos Oportunos'!$X$41=1,'Simulador Pagos Oportunos'!$K$55,IF('Simulador Pagos Oportunos'!$X$41=2,'Simulador Pagos Oportunos'!$M$55,'Simulador Pagos Oportunos'!$O$55))))","v":0},{"$f":"IF(AO209<=0,0,$AV$29)","v":0},{"$f":"AQ209+AR209+AU209","v":0},0,"",0,193]
[194,{"$f":"IF(R209<0,0,IF(A210=$B$9,R209+$D$9,IF(A210=$B$10,R209+$D$10,R209)))","v":0},null,{"$f":"IF(B210+F210-D209<=0,B210+F210,IF(A210=$B$9,$F$9,IF(A210=$B$10,$F$10,IF(AND('Simulador Pagos Oportunos'!$AH$45=2,L209=0),D209*(1+Z210),IF($AL$3=2,B210*AI210,D209*(1+Z210))))))","v":0},null,{"$f":"IF(B210=0,0,P210/360*AZ210*B210)","v":0},null,0,null,{"$f":"IF(B210-H210=0,0,J208*(1+(3%)))","v":0},null,null,null,{"$f":"IF('Simulador Pagos Oportunos'!$V$66=1,0,L210*'Simulador Pagos Oportunos'!$O$69*'Simulador Pagos Oportunos'!$W$65)","v":0},null,{"$f":"IF(B210=0,\"\",IF('Simulador Pagos Oportunos'!$X$41=4,AD210,IF('Simulador Pagos Oportunos'!$X$41=1,AE210,IF('Simulador Pagos Oportunos'!$X$41=2,AF210,IF('Simulador Pagos Oportunos'!$X$41=3,AG210,AC210)))))","v":""},null,{"$f":"B210-H210-J210-L210+N210","v":0},null,{"$f":"IF(B210<=0,0,B210*IF('Simulador Pagos Oportunos'!$Y$71=1,0,'Simulador Pagos Oportunos'!$Y$74))","v":0},null,{"$f":"IF(B210=0,0,IF('Simulador Pagos Oportunos'!$X$41=4,'Simulador Pagos Oportunos'!$I$55,IF('Simulador Pagos Oportunos'!$X$41=1,'Simulador Pagos Oportunos'!$K$55,IF('Simulador Pagos Oportunos'!$X$41=2,'Simulador Pagos Oportunos'!$M$55,IF('Simulador Pagos Oportunos'!$X$41=3,'Simulador Pagos Oportunos'!$O$55,0)))))","v":0},null,{"$f":"IF(B210<=0,0,(D210+L210+T210+V210))","v":0},null,null,null,{"$f":"X210","v":0},{"$f":"AC209","v":9.4999999999999973E-2},null,null,null,0.1225,0,{"$f":"IFERROR(AP210/AO210,0)","v":0},16,2,0,{"$f":"+IF(AL210>0,+AJ210,0)","v":0},{"$f":"+IF(AL210>0,+AK210,0)","v":0},0,0,{"$f":"IFERROR((AT210/360*AZ210*AO210),0)","v":0},0,0,{"$f":"IF(AO210=0,\"\",IF('Simulador Pagos Oportunos'!$X$41=4,AD210,IF('Simulador Pagos Oportunos'!$X$41=1,AE210,IF('Simulador Pagos Oportunos'!$X$41=2,AF210,IF('Simulador Pagos Oportunos'!$X$41=3,AG210,AC210)))))","v":""},{"$f":"IF(AO210<=0,0,IF('Simulador Pagos Oportunos'!$Y$71=1,0,AO210*'Simulador Pagos Oportunos'!$Y$74))+IF(AO210<=0,0,IF('Simulador Pagos Oportunos'!$X$41=4,'Simulador Pagos Oportunos'!$I$55,IF('Simulador Pagos Oportunos'!$X$41=1,'Simulador Pagos Oportunos'!$K$55,IF('Simulador Pagos Oportunos'!$X$41=2,'Simulador Pagos Oportunos'!$M$55,'Simulador Pagos Oportunos'!$O$55))))","v":0},null,0,0,"",{"$f":"IFERROR(DAY(DATE(YEAR(AY210),MONTH(AY210)+1,0)),0)","v":0},194]
[195,0,null,{"$f":"IF(B211+F211-D210<=0,B211+F211,IF(A211=$B$9,$F$9,IF(A211=$B$10,$F$10,IF(AND('Simulador Pagos Oportunos'!$AH$45=2,L210=0),D210*(1+Z211),IF($AL$3=2,B211*AI211,D210*(1+Z211))))))","v":0},null,0,null,{"$f":"D211-F211","v":0},null,null,null,null,null,{"$f":"IF('Simulador Pagos Oportunos'!$V$66=1,0,L211*'Simulador Pagos Oportunos'!$O$69*'Simulador Pagos Oportunos'!$W$65)","v":0},null,{"$f":"IF(B211=0,\"\",IF('Simulador Pagos Oportunos'!$X$41=4,AD211,IF('Simulador Pagos Oportunos'!$X$41=1,AE211,IF('Simulador Pagos Oportunos'!$X$41=2,AF211,IF('Simulador Pagos Oportunos'!$X$41=3,AG211,AC211)))))","v":""},null,0,null,{"$f":"IF(B211<=0,0,B211*IF('Simulador Pagos Oportunos'!$Y$71=1,0,'Simulador Pagos Oportunos'!$Y$74))","v":0},null,{"$f":"IF(B211=0,0,IF('Simulador Pagos Oportunos'!$X$41=4,'Simulador Pagos Oportunos'!$I$55,IF('Simulador Pagos Oportunos'!$X$41=1,'Simulador Pagos Oportunos'!$K$55,IF('Simulador Pagos Oportunos'!$X$41=2,'Simulador Pagos Oportunos'!$M$55,IF('Simulador Pagos Oportunos'!$X$41=3,'Simulador Pagos Oportunos'!$O$55,0)))))","v":0},null,0,null,null,null,0,{"$f":"AC210","v":9.4999999999999973E-2},null,null,null,0.1225,0,0,16,3,0,0,0,{"$f":"IF(AS210<0,0,IF($A211=$B$9,AS210+$D$9,IF($A211=$B$10,AS210+$D$10,AS210)))","v":0},{"$f":"IF(AO211+AQ211-AP210<=0,AO211+AQ211,IF($A211=$B$9,$F$9,IF($A211=$B$10,$F$10,AP210*(1+AV211))))","v":0},0,0,0,{"$f":"IF(AO211=0,\"\",IF('Simulador Pagos Oportunos'!$X$41=4,AD211,IF('Simulador Pagos Oportunos'!$X$41=1,AE211,IF('Simulador Pagos Oportunos'!$X$41=2,AF211,IF('Simulador Pagos Oportunos'!$X$41=3,AG211,AC211)))))","v":""},{"$f":"IF(AO211<=0,0,IF('Simulador Pagos Oportunos'!$Y$71=1,0,AO211*'Simulador Pagos Oportunos'!$Y$74))+IF(AO211<=0,0,IF('Simulador Pagos Oportunos'!$X$41=4,'Simulador Pagos Oportunos'!$I$55,IF('Simulador Pagos Oportunos'!$X$41=1,'Simulador Pagos Oportunos'!$K$55,IF('Simulador Pagos Oportunos'!$X$41=2,'Simulador Pagos Oportunos'!$M$55,'Simulador Pagos Oportunos'!$O$55))))","v":0},null,0,0,{"$f":"IF(AO211=0,\"\",DATE(YEAR(AY210),MONTH(AY210)+1,1))","v":""},0,195]
[196,0,null,{"$f":"IF(B212+F212-D211<=0,B212+F212,IF(A212=$B$9,$F$9,IF(A212=$B$10,$F$10,IF(AND('Simulador Pagos Oportunos'!$AH$45=2,L211=0),D211*(1+Z212),IF($AL$3=2,B212*AI212,D211*(1+Z212))))))","v":0},null,0,null,0,null,{"$f":"IF(B212-H212=0,0,J210)","v":0},null,null,null,{"$f":"IF('Simulador Pagos Oportunos'!$V$66=1,0,L212*'Simulador Pagos Oportunos'!$O$69*'Simulador Pagos Oportunos'!$W$65)","v":0},null,{"$f":"IF(B212=0,\"\",IF('Simulador Pagos Oportunos'!$X$41=4,AD212,IF('Simulador Pagos Oportunos'!$X$41=1,AE212,IF('Simulador Pagos Oportunos'!$X$41=2,AF212,IF('Simulador Pagos Oportunos'!$X$41=3,AG212,AC212)))))","v":""},null,0,null,{"$f":"IF(B212<=0,0,B212*IF('Simulador Pagos Oportunos'!$Y$71=1,0,'Simulador Pagos Oportunos'!$Y$74))","v":0},null,{"$f":"IF(B212=0,0,IF('Simulador Pagos Oportunos'!$X$41=4,'Simulador Pagos Oportunos'!$I$55,IF('Simulador Pagos Oportunos'!$X$41=1,'Simulador Pagos Oportunos'!$K$55,IF('Simulador Pagos Oportunos'!$X$41=2,'Simulador Pagos Oportunos'!$M$55,IF('Simulador Pagos Oportunos'!$X$41=3,'Simulador Pagos Oportunos'!$O$55,0)))))","v":0},null,0,null,null,null,0,9.4999999999999973E-2,null,null,null,0.1225,0,0,16,4,0,0,0,0,0,0,0,0,{"$f":"IF(AO212=0,\"\",IF('Simulador Pagos Oportunos'!$X$41=4,AD212,IF('Simulador Pagos Oportunos'!$X$41=1,AE212,IF('Simulador Pagos Oportunos'!$X$41=2,AF212,IF('Simulador Pagos Oportunos'!$X$41=3,AG212,AC212)))))","v":""},{"$f":"IF(AO212<=0,0,IF('Simulador Pagos Oportunos'!$Y$71=1,0,AO212*'Simulador Pagos Oportunos'!$Y$74))+IF(AO212<=0,0,IF('Simulador Pagos Oportunos'!$X$41=4,'Simulador Pagos Oportunos'!$I$55,IF('Simulador Pagos Oportunos'!$X$41=1,'Simulador Pagos Oportunos'!$K$55,IF('Simulador Pagos Oportunos'!$X$41=2,'Simulador Pagos Oportunos'!$M$55,'Simulador Pagos Oportunos'!$O$55))))","v":0},null,0,0,"",0,196]
[197,0,null,{"$f":"IF(B213+F213-D212<=0,B213+F213,IF(A213=$B$9,$F$9,IF(A213=$B$10,$F$10,IF(AND('Simulador Pagos Oportunos'!$AH$45=2,L212=0),D212*(1+Z213),IF($AL$3=2,B213*AI213,D212*(1+Z213))))))","v":0},null,0,null,0,null,null,null,null,null,{"$f":"IF('Simulador Pagos Oportunos'!$V$66=1,0,L213*'Simulador Pagos Oportunos'!$O$69*'Simulador Pagos Oportunos'!$W$65)","v":0},null,{"$f":"IF(B213=0,\"\",IF('Simulador Pagos Oportunos'!$X$41=4,AD213,IF('Simulador Pagos Oportunos'!$X$41=1,AE213,IF('Simulador Pagos Oportunos'!$X$41=2,AF213,IF('Simulador Pagos Oportunos'!$X$41=3,AG213,AC213)))))","v":""},null,0,null,{"$f":"IF(B213<=0,0,B213*IF('Simulador Pagos Oportunos'!$Y$71=1,0,'Simulador Pagos Oportunos'!$Y$74))","v":0},null,{"$f":"IF(B213=0,0,IF('Simulador Pagos Oportunos'!$X$41=4,'Simulador Pagos Oportunos'!$I$55,IF('Simulador Pagos Oportunos'!$X$41=1,'Simulador Pagos Oportunos'!$K$55,IF('Simulador Pagos Oportunos'!$X$41=2,'Simulador Pagos Oportunos'!$M$55,IF('Simulador Pagos Oportunos'!$X$41=3,'Simulador Pagos Oportunos'!$O$55,0)))))","v":0},null,0,null,null,null,0,9.4999999999999973E-2,null,null,null,0.1225,0,0,16,5,0,0,0,0,0,0,0,0,{"$f":"IF(AO213=0,\"\",IF('Simulador Pagos Oportunos'!$X$41=4,AD213,IF('Simulador Pagos Oportunos'!$X$41=1,AE213,IF('Simulador Pagos Oportunos'!$X$41=2,AF213,IF('Simulador Pagos Oportunos'!$X$41=3,AG213,AC213)))))","v":""},{"$f":"IF(AO213<=0,0,IF('Simulador Pagos Oportunos'!$Y$71=1,0,AO213*'Simulador Pagos Oportunos'!$Y$74))+IF(AO213<=0,0,IF('Simulador Pagos Oportunos'!$X$41=4,'Simulador Pagos Oportunos'!$I$55,IF('Simulador Pagos Oportunos'!$X$41=1,'Simulador Pagos Oportunos'!$K$55,IF('Simulador Pagos Oportunos'!$X$41=2,'Simulador Pagos Oportunos'!$M$55,'Simulador Pagos Oportunos'!$O$55))))","v":0},null,0,0,"",0,197]
[198,0,null,{"$f":"IF(B214+F214-D213<=0,B214+F214,IF(A214=$B$9,$F$9,IF(A214=$B$10,$F$10,IF(AND('Simulador Pagos Oportunos'!$AH$45=2,L213=0),D213*(1+Z214),IF($AL$3=2,B214*AI214,D213*(1+Z214))))))","v":0},null,0,null,0,null,{"$f":"IF(B214-H214=0,0,J212)","v":0},null,null,null,{"$f":"IF('Simulador Pagos Oportunos'!$V$66=1,0,L214*'Simulador Pagos Oportunos'!$O$69*'Simulador Pagos Oportunos'!$W$65)","v":0},null,{"$f":"IF(B214=0,\"\",IF('Simulador Pagos Oportunos'!$X$41=4,AD214,IF('Simulador Pagos Oportunos'!$X$41=1,AE214,IF('Simulador Pagos Oportunos'!$X$41=2,AF214,IF('Simulador Pagos Oportunos'!$X$41=3,AG214,AC214)))))","v":""},null,0,null,{"$f":"IF(B214<=0,0,B214*IF('Simulador Pagos Oportunos'!$Y$71=1,0,'Simulador Pagos Oportunos'!$Y$74))","v":0},null,{"$f":"IF(B214=0,0,IF('Simulador Pagos Oportunos'!$X$41=4,'Simulador Pagos Oportunos'!$I$55,IF('Simulador Pagos Oportunos'!$X$41=1,'Simulador Pagos Oportunos'!$K$55,IF('Simulador Pagos Oportunos'!$X$41=2,'Simulador Pagos Oportunos'!$M$55,IF('Simulador Pagos Oportunos'!$X$41=3,'Simulador Pagos Oportunos'!$O$55,0)))))","v":0},null,0,null,null,null,0,9.4999999999999973E-2,null,null,null,0.1225,0,0,16,6,0,0,0,0,0,0,0,0,{"$f":"IF(AO214=0,\"\",IF('Simulador Pagos Oportunos'!$X$41=4,AD214,IF('Simulador Pagos Oportunos'!$X$41=1,AE214,IF('Simulador Pagos Oportunos'!$X$41=2,AF214,IF('Simulador Pagos Oportunos'!$X$41=3,AG214,AC214)))))","v":""},{"$f":"IF(AO214<=0,0,IF('Simulador Pagos Oportunos'!$Y$71=1,0,AO214*'Simulador Pagos Oportunos'!$Y$74))+IF(AO214<=0,0,IF('Simulador Pagos Oportunos'!$X$41=4,'Simulador Pagos Oportunos'!$I$55,IF('Simulador Pagos Oportunos'!$X$41=1,'Simulador Pagos Oportunos'!$K$55,IF('Simulador Pagos Oportunos'!$X$41=2,'Simulador Pagos Oportunos'!$M$55,'Simulador Pagos Oportunos'!$O$55))))","v":0},null,0,0,"",0,198]
[199,0,null,{"$f":"IF(B215+F215-D214<=0,B215+F215,IF(A215=$B$9,$F$9,IF(A215=$B$10,$F$10,IF(AND('Simulador Pagos Oportunos'!$AH$45=2,L214=0),D214*(1+Z215),IF($AL$3=2,B215*AI215,D214*(1+Z215))))))","v":0},null,0,null,0,null,null,null,null,null,{"$f":"IF('Simulador Pagos Oportunos'!$V$66=1,0,L215*'Simulador Pagos Oportunos'!$O$69*'Simulador Pagos Oportunos'!$W$65)","v":0},null,{"$f":"IF(B215=0,\"\",IF('Simulador Pagos Oportunos'!$X$41=4,AD215,IF('Simulador Pagos Oportunos'!$X$41=1,AE215,IF('Simulador Pagos Oportunos'!$X$41=2,AF215,IF('Simulador Pagos Oportunos'!$X$41=3,AG215,AC215)))))","v":""},null,0,null,{"$f":"IF(B215<=0,0,B215*IF('Simulador Pagos Oportunos'!$Y$71=1,0,'Simulador Pagos Oportunos'!$Y$74))","v":0},null,{"$f":"IF(B215=0,0,IF('Simulador Pagos Oportunos'!$X$41=4,'Simulador Pagos Oportunos'!$I$55,IF('Simulador Pagos Oportunos'!$X$41=1,'Simulador Pagos Oportunos'!$K$55,IF('Simulador Pagos Oportunos'!$X$41=2,'Simulador Pagos Oportunos'!$M$55,IF('Simulador Pagos Oportunos'!$X$41=3,'Simulador Pagos Oportunos'!$O$55,0)))))","v":0},null,0,null,null,null,0,9.4999999999999973E-2,null,null,null,0.1225,0,0,16,7,0,0,0,0,0,0,0,0,{"$f":"IF(AO215=0,\"\",IF('Simulador Pagos Oportunos'!$X$41=4,AD215,IF('Simulador Pagos Oportunos'!$X$41=1,AE215,IF('Simulador Pagos Oportunos'!$X$41=2,AF215,IF('Simulador Pagos Oportunos'!$X$41=3,AG215,AC215)))))","v":""},{"$f":"IF(AO215<=0,0,IF('Simulador Pagos Oportunos'!$Y$71=1,0,AO215*'Simulador Pagos Oportunos'!$Y$74))+IF(AO215<=0,0,IF('Simulador Pagos Oportunos'!$X$41=4,'Simulador Pagos Oportunos'!$I$55,IF('Simulador Pagos Oportunos'!$X$41=1,'Simulador Pagos Oportunos'!$K$55,IF('Simulador Pagos Oportunos'!$X$41=2,'Simulador Pagos Oportunos'!$M$55,'Simulador Pagos Oportunos'!$O$55))))","v":0},null,0,0,"",0,199]
[200,0,null,{"$f":"IF(B216+F216-D215<=0,B216+F216,IF(A216=$B$9,$F$9,IF(A216=$B$10,$F$10,IF(AND('Simulador Pagos Oportunos'!$AH$45=2,L215=0),D215*(1+Z216),IF($AL$3=2,B216*AI216,D215*(1+Z216))))))","v":0},null,0,null,0,null,{"$f":"IF(B216-H216=0,0,J214)","v":0},null,null,null,{"$f":"IF('Simulador Pagos Oportunos'!$V$66=1,0,L216*'Simulador Pagos Oportunos'!$O$69*'Simulador Pagos Oportunos'!$W$65)","v":0},null,{"$f":"IF(B216=0,\"\",IF('Simulador Pagos Oportunos'!$X$41=4,AD216,IF('Simulador Pagos Oportunos'!$X$41=1,AE216,IF('Simulador Pagos Oportunos'!$X$41=2,AF216,IF('Simulador Pagos Oportunos'!$X$41=3,AG216,AC216)))))","v":""},null,0,null,{"$f":"IF(B216<=0,0,B216*IF('Simulador Pagos Oportunos'!$Y$71=1,0,'Simulador Pagos Oportunos'!$Y$74))","v":0},null,{"$f":"IF(B216=0,0,IF('Simulador Pagos Oportunos'!$X$41=4,'Simulador Pagos Oportunos'!$I$55,IF('Simulador Pagos Oportunos'!$X$41=1,'Simulador Pagos Oportunos'!$K$55,IF('Simulador Pagos Oportunos'!$X$41=2,'Simulador Pagos Oportunos'!$M$55,IF('Simulador Pagos Oportunos'!$X$41=3,'Simulador Pagos Oportunos'!$O$55,0)))))","v":0},null,0,null,null,null,0,9.4999999999999973E-2,null,null,null,0.1225,0,0,16,8,0,0,0,0,0,0,0,0,{"$f":"IF(AO216=0,\"\",IF('Simulador Pagos Oportunos'!$X$41=4,AD216,IF('Simulador Pagos Oportunos'!$X$41=1,AE216,IF('Simulador Pagos Oportunos'!$X$41=2,AF216,IF('Simulador Pagos Oportunos'!$X$41=3,AG216,AC216)))))","v":""},{"$f":"IF(AO216<=0,0,IF('Simulador Pagos Oportunos'!$Y$71=1,0,AO216*'Simulador Pagos Oportunos'!$Y$74))+IF(AO216<=0,0,IF('Simulador Pagos Oportunos'!$X$41=4,'Simulador Pagos Oportunos'!$I$55,IF('Simulador Pagos Oportunos'!$X$41=1,'Simulador Pagos Oportunos'!$K$55,IF('Simulador Pagos Oportunos'!$X$41=2,'Simulador Pagos Oportunos'!$M$55,'Simulador Pagos Oportunos'!$O$55))))","v":0},null,0,0,"",0,200]
[201,0,null,{"$f":"IF(B217+F217-D216<=0,B217+F217,IF(A217=$B$9,$F$9,IF(A217=$B$10,$F$10,IF(AND('Simulador Pagos Oportunos'!$AH$45=2,L216=0),D216*(1+Z217),IF($AL$3=2,B217*AI217,D216*(1+Z217))))))","v":0},null,0,null,0,null,null,null,null,null,{"$f":"IF('Simulador Pagos Oportunos'!$V$66=1,0,L217*'Simulador Pagos Oportunos'!$O$69*'Simulador Pagos Oportunos'!$W$65)","v":0},null,{"$f":"IF(B217=0,\"\",IF('Simulador Pagos Oportunos'!$X$41=4,AD217,IF('Simulador Pagos Oportunos'!$X$41=1,AE217,IF('Simulador Pagos Oportunos'!$X$41=2,AF217,IF('Simulador Pagos Oportunos'!$X$41=3,AG217,AC217)))))","v":""},null,0,null,{"$f":"IF(B217<=0,0,B217*IF('Simulador Pagos Oportunos'!$Y$71=1,0,'Simulador Pagos Oportunos'!$Y$74))","v":0},null,{"$f":"IF(B217=0,0,IF('Simulador Pagos Oportunos'!$X$41=4,'Simulador Pagos Oportunos'!$I$55,IF('Simulador Pagos Oportunos'!$X$41=1,'Simulador Pagos Oportunos'!$K$55,IF('Simulador Pagos Oportunos'!$X$41=2,'Simulador Pagos Oportunos'!$M$55,IF('Simulador Pagos Oportunos'!$X$41=3,'Simulador Pagos Oportunos'!$O$55,0)))))","v":0},null,0,null,null,null,0,9.4999999999999973E-2,null,null,null,0.1225,0,0,16,9,0,0,0,0,0,0,0,0,{"$f":"IF(AO217=0,\"\",IF('Simulador Pagos Oportunos'!$X$41=4,AD217,IF('Simulador Pagos Oportunos'!$X$41=1,AE217,IF('Simulador Pagos Oportunos'!$X$41=2,AF217,IF('Simulador Pagos Oportunos'!$X$41=3,AG217,AC217)))))","v":""},{"$f":"IF(AO217<=0,0,IF('Simulador Pagos Oportunos'!$Y$71=1,0,AO217*'Simulador Pagos Oportunos'!$Y$74))+IF(AO217<=0,0,IF('Simulador Pagos Oportunos'!$X$41=4,'Simulador Pagos Oportunos'!$I$55,IF('Simulador Pagos Oportunos'!$X$41=1,'Simulador Pagos Oportunos'!$K$55,IF('Simulador Pagos Oportunos'!$X$41=2,'Simulador Pagos Oportunos'!$M$55,'Simulador Pagos Oportunos'!$O$55))))","v":0},null,0,0,"",0,201]
[202,0,null,{"$f":"IF(B218+F218-D217<=0,B218+F218,IF(A218=$B$9,$F$9,IF(A218=$B$10,$F$10,IF(AND('Simulador Pagos Oportunos'!$AH$45=2,L217=0),D217*(1+Z218),IF($AL$3=2,B218*AI218,D217*(1+Z218))))))","v":0},null,0,null,0,null,{"$f":"IF(B218-H218=0,0,J216)","v":0},null,null,null,{"$f":"IF('Simulador Pagos Oportunos'!$V$66=1,0,L218*'Simulador Pagos Oportunos'!$O$69*'Simulador Pagos Oportunos'!$W$65)","v":0},null,{"$f":"IF(B218=0,\"\",IF('Simulador Pagos Oportunos'!$X$41=4,AD218,IF('Simulador Pagos Oportunos'!$X$41=1,AE218,IF('Simulador Pagos Oportunos'!$X$41=2,AF218,IF('Simulador Pagos Oportunos'!$X$41=3,AG218,AC218)))))","v":""},null,0,null,{"$f":"IF(B218<=0,0,B218*IF('Simulador Pagos Oportunos'!$Y$71=1,0,'Simulador Pagos Oportunos'!$Y$74))","v":0},null,{"$f":"IF(B218=0,0,IF('Simulador Pagos Oportunos'!$X$41=4,'Simulador Pagos Oportunos'!$I$55,IF('Simulador Pagos Oportunos'!$X$41=1,'Simulador Pagos Oportunos'!$K$55,IF('Simulador Pagos Oportunos'!$X$41=2,'Simulador Pagos Oportunos'!$M$55,IF('Simulador Pagos Oportunos'!$X$41=3,'Simulador Pagos Oportunos'!$O$55,0)))))","v":0},null,0,null,null,null,0,9.4999999999999973E-2,null,null,null,0.1225,0,0,16,10,0,0,0,0,0,0,0,0,{"$f":"IF(AO218=0,\"\",IF('Simulador Pagos Oportunos'!$X$41=4,AD218,IF('Simulador Pagos Oportunos'!$X$41=1,AE218,IF('Simulador Pagos Oportunos'!$X$41=2,AF218,IF('Simulador Pagos Oportunos'!$X$41=3,AG218,AC218)))))","v":""},{"$f":"IF(AO218<=0,0,IF('Simulador Pagos Oportunos'!$Y$71=1,0,AO218*'Simulador Pagos Oportunos'!$Y$74))+IF(AO218<=0,0,IF('Simulador Pagos Oportunos'!$X$41=4,'Simulador Pagos Oportunos'!$I$55,IF('Simulador Pagos Oportunos'!$X$41=1,'Simulador Pagos Oportunos'!$K$55,IF('Simulador Pagos Oportunos'!$X$41=2,'Simulador Pagos Oportunos'!$M$55,'Simulador Pagos Oportunos'!$O$55))))","v":0},null,0,0,"",0,202]
[203,0,null,{"$f":"IF(B219+F219-D218<=0,B219+F219,IF(A219=$B$9,$F$9,IF(A219=$B$10,$F$10,IF(AND('Simulador Pagos Oportunos'!$AH$45=2,L218=0),D218*(1+Z219),IF($AL$3=2,B219*AI219,D218*(1+Z219))))))","v":0},null,0,null,0,null,null,null,null,null,{"$f":"IF('Simulador Pagos Oportunos'!$V$66=1,0,L219*'Simulador Pagos Oportunos'!$O$69*'Simulador Pagos Oportunos'!$W$65)","v":0},null,{"$f":"IF(B219=0,\"\",IF('Simulador Pagos Oportunos'!$X$41=4,AD219,IF('Simulador Pagos Oportunos'!$X$41=1,AE219,IF('Simulador Pagos Oportunos'!$X$41=2,AF219,IF('Simulador Pagos Oportunos'!$X$41=3,AG219,AC219)))))","v":""},null,0,null,{"$f":"IF(B219<=0,0,B219*IF('Simulador Pagos Oportunos'!$Y$71=1,0,'Simulador Pagos Oportunos'!$Y$74))","v":0},null,{"$f":"IF(B219=0,0,IF('Simulador Pagos Oportunos'!$X$41=4,'Simulador Pagos Oportunos'!$I$55,IF('Simulador Pagos Oportunos'!$X$41=1,'Simulador Pagos Oportunos'!$K$55,IF('Simulador Pagos Oportunos'!$X$41=2,'Simulador Pagos Oportunos'!$M$55,IF('Simulador Pagos Oportunos'!$X$41=3,'Simulador Pagos Oportunos'!$O$55,0)))))","v":0},null,0,null,null,null,0,9.4999999999999973E-2,null,null,null,0.1225,0,0,16,11,0,0,0,0,0,0,0,0,{"$f":"IF(AO219=0,\"\",IF('Simulador Pagos Oportunos'!$X$41=4,AD219,IF('Simulador Pagos Oportunos'!$X$41=1,AE219,IF('Simulador Pagos Oportunos'!$X$41=2,AF219,IF('Simulador Pagos Oportunos'!$X$41=3,AG219,AC219)))))","v":""},{"$f":"IF(AO219<=0,0,IF('Simulador Pagos Oportunos'!$Y$71=1,0,AO219*'Simulador Pagos Oportunos'!$Y$74))+IF(AO219<=0,0,IF('Simulador Pagos Oportunos'!$X$41=4,'Simulador Pagos Oportunos'!$I$55,IF('Simulador Pagos Oportunos'!$X$41=1,'Simulador Pagos Oportunos'!$K$55,IF('Simulador Pagos Oportunos'!$X$41=2,'Simulador Pagos Oportunos'!$M$55,'Simulador Pagos Oportunos'!$O$55))))","v":0},null,0,0,"",0,203]
[204,0,null,{"$f":"IF(B220+F220-D219<=0,B220+F220,IF(A220=$B$9,$F$9,IF(A220=$B$10,$F$10,IF(AND('Simulador Pagos Oportunos'!$AH$45=2,L219=0),D219*(1+Z220),IF($AL$3=2,B220*AI220,D219*(1+Z220))))))","v":0},null,0,null,0,null,{"$f":"IF(B220-H220=0,0,J218)","v":0},null,null,null,{"$f":"IF('Simulador Pagos Oportunos'!$V$66=1,0,L220*'Simulador Pagos Oportunos'!$O$69*'Simulador Pagos Oportunos'!$W$65)","v":0},null,{"$f":"IF(B220=0,\"\",IF('Simulador Pagos Oportunos'!$X$41=4,AD220,IF('Simulador Pagos Oportunos'!$X$41=1,AE220,IF('Simulador Pagos Oportunos'!$X$41=2,AF220,IF('Simulador Pagos Oportunos'!$X$41=3,AG220,AC220)))))","v":""},null,0,null,{"$f":"IF(B220<=0,0,B220*IF('Simulador Pagos Oportunos'!$Y$71=1,0,'Simulador Pagos Oportunos'!$Y$74))","v":0},null,{"$f":"IF(B220=0,0,IF('Simulador Pagos Oportunos'!$X$41=4,'Simulador Pagos Oportunos'!$I$55,IF('Simulador Pagos Oportunos'!$X$41=1,'Simulador Pagos Oportunos'!$K$55,IF('Simulador Pagos Oportunos'!$X$41=2,'Simulador Pagos Oportunos'!$M$55,IF('Simulador Pagos Oportunos'!$X$41=3,'Simulador Pagos Oportunos'!$O$55,0)))))","v":0},null,0,null,null,null,0,9.4999999999999973E-2,null,null,null,0.1225,0,0,17,0,0,0,0,0,0,0,0,0,{"$f":"IF(AO220=0,\"\",IF('Simulador Pagos Oportunos'!$X$41=4,AD220,IF('Simulador Pagos Oportunos'!$X$41=1,AE220,IF('Simulador Pagos Oportunos'!$X$41=2,AF220,IF('Simulador Pagos Oportunos'!$X$41=3,AG220,AC220)))))","v":""},{"$f":"IF(AO220<=0,0,IF('Simulador Pagos Oportunos'!$Y$71=1,0,AO220*'Simulador Pagos Oportunos'!$Y$74))+IF(AO220<=0,0,IF('Simulador Pagos Oportunos'!$X$41=4,'Simulador Pagos Oportunos'!$I$55,IF('Simulador Pagos Oportunos'!$X$41=1,'Simulador Pagos Oportunos'!$K$55,IF('Simulador Pagos Oportunos'!$X$41=2,'Simulador Pagos Oportunos'!$M$55,'Simulador Pagos Oportunos'!$O$55))))","v":0},null,0,0,"",0,204]
[205,0,null,{"$f":"IF(B221+F221-D220<=0,B221+F221,IF(A221=$B$9,$F$9,IF(A221=$B$10,$F$10,IF(AND('Simulador Pagos Oportunos'!$AH$45=2,L220=0),D220*(1+Z221),IF($AL$3=2,B221*AI221,D220*(1+Z221))))))","v":0},null,0,null,0,null,null,null,null,null,{"$f":"IF('Simulador Pagos Oportunos'!$V$66=1,0,L221*'Simulador Pagos Oportunos'!$O$69*'Simulador Pagos Oportunos'!$W$65)","v":0},null,{"$f":"IF(B221=0,\"\",IF('Simulador Pagos Oportunos'!$X$41=4,AD221,IF('Simulador Pagos Oportunos'!$X$41=1,AE221,IF('Simulador Pagos Oportunos'!$X$41=2,AF221,IF('Simulador Pagos Oportunos'!$X$41=3,AG221,AC221)))))","v":""},null,0,null,{"$f":"IF(B221<=0,0,B221*IF('Simulador Pagos Oportunos'!$Y$71=1,0,'Simulador Pagos Oportunos'!$Y$74))","v":0},null,{"$f":"IF(B221=0,0,IF('Simulador Pagos Oportunos'!$X$41=4,'Simulador Pagos Oportunos'!$I$55,IF('Simulador Pagos Oportunos'!$X$41=1,'Simulador Pagos Oportunos'!$K$55,IF('Simulador Pagos Oportunos'!$X$41=2,'Simulador Pagos Oportunos'!$M$55,IF('Simulador Pagos Oportunos'!$X$41=3,'Simulador Pagos Oportunos'!$O$55,0)))))","v":0},null,0,null,{"$f":"IF(B221<=0,0,'Simulador Pagos Oportunos'!$AI$54)","v":0},null,0,{"$f":"IF(AC220=$AC$5,AC220,IF(AC220-0.25%<=$AC$5,$AC$5,AC220-0.25%))","v":9.2499999999999971E-2},null,null,null,0.1225,0,0,17,1,0,0,0,0,0,0,0,0,{"$f":"IF(AO221=0,\"\",IF('Simulador Pagos Oportunos'!$X$41=4,AD221,IF('Simulador Pagos Oportunos'!$X$41=1,AE221,IF('Simulador Pagos Oportunos'!$X$41=2,AF221,IF('Simulador Pagos Oportunos'!$X$41=3,AG221,AC221)))))","v":""},{"$f":"IF(AO221<=0,0,IF('Simulador Pagos Oportunos'!$Y$71=1,0,AO221*'Simulador Pagos Oportunos'!$Y$74))+IF(AO221<=0,0,IF('Simulador Pagos Oportunos'!$X$41=4,'Simulador Pagos Oportunos'!$I$55,IF('Simulador Pagos Oportunos'!$X$41=1,'Simulador Pagos Oportunos'!$K$55,IF('Simulador Pagos Oportunos'!$X$41=2,'Simulador Pagos Oportunos'!$M$55,'Simulador Pagos Oportunos'!$O$55))))","v":0},{"$f":"IF(AO221<=0,0,$AV$29)","v":0},0,0,"",0,205]
[206,0,null,{"$f":"IF(B222+F222-D221<=0,B222+F222,IF(A222=$B$9,$F$9,IF(A222=$B$10,$F$10,IF(AND('Simulador Pagos Oportunos'!$AH$45=2,L221=0),D221*(1+Z222),IF($AL$3=2,B222*AI222,D221*(1+Z222))))))","v":0},null,0,null,0,null,{"$f":"IF(B222-H222=0,0,J220*(1+(3%)))","v":0},null,null,null,{"$f":"IF('Simulador Pagos Oportunos'!$V$66=1,0,L222*'Simulador Pagos Oportunos'!$O$69*'Simulador Pagos Oportunos'!$W$65)","v":0},null,{"$f":"IF(B222=0,\"\",IF('Simulador Pagos Oportunos'!$X$41=4,AD222,IF('Simulador Pagos Oportunos'!$X$41=1,AE222,IF('Simulador Pagos Oportunos'!$X$41=2,AF222,IF('Simulador Pagos Oportunos'!$X$41=3,AG222,AC222)))))","v":""},null,0,null,{"$f":"IF(B222<=0,0,B222*IF('Simulador Pagos Oportunos'!$Y$71=1,0,'Simulador Pagos Oportunos'!$Y$74))","v":0},null,{"$f":"IF(B222=0,0,IF('Simulador Pagos Oportunos'!$X$41=4,'Simulador Pagos Oportunos'!$I$55,IF('Simulador Pagos Oportunos'!$X$41=1,'Simulador Pagos Oportunos'!$K$55,IF('Simulador Pagos Oportunos'!$X$41=2,'Simulador Pagos Oportunos'!$M$55,IF('Simulador Pagos Oportunos'!$X$41=3,'Simulador Pagos Oportunos'!$O$55,0)))))","v":0},null,0,null,null,null,0,{"$f":"AC221","v":9.2499999999999971E-2},null,null,null,0.1225,0,0,17,2,0,0,0,0,0,0,0,0,{"$f":"IF(AO222=0,\"\",IF('Simulador Pagos Oportunos'!$X$41=4,AD222,IF('Simulador Pagos Oportunos'!$X$41=1,AE222,IF('Simulador Pagos Oportunos'!$X$41=2,AF222,IF('Simulador Pagos Oportunos'!$X$41=3,AG222,AC222)))))","v":""},{"$f":"IF(AO222<=0,0,IF('Simulador Pagos Oportunos'!$Y$71=1,0,AO222*'Simulador Pagos Oportunos'!$Y$74))+IF(AO222<=0,0,IF('Simulador Pagos Oportunos'!$X$41=4,'Simulador Pagos Oportunos'!$I$55,IF('Simulador Pagos Oportunos'!$X$41=1,'Simulador Pagos Oportunos'!$K$55,IF('Simulador Pagos Oportunos'!$X$41=2,'Simulador Pagos Oportunos'!$M$55,'Simulador Pagos Oportunos'!$O$55))))","v":0},null,0,0,"",0,206]
[207,0,null,{"$f":"IF(B223+F223-D222<=0,B223+F223,IF(A223=$B$9,$F$9,IF(A223=$B$10,$F$10,IF(AND('Simulador Pagos Oportunos'!$AH$45=2,L222=0),D222*(1+Z223),IF($AL$3=2,B223*AI223,D222*(1+Z223))))))","v":0},null,0,null,0,null,null,null,null,null,{"$f":"IF('Simulador Pagos Oportunos'!$V$66=1,0,L223*'Simulador Pagos Oportunos'!$O$69*'Simulador Pagos Oportunos'!$W$65)","v":0},null,{"$f":"IF(B223=0,\"\",IF('Simulador Pagos Oportunos'!$X$41=4,AD223,IF('Simulador Pagos Oportunos'!$X$41=1,AE223,IF('Simulador Pagos Oportunos'!$X$41=2,AF223,IF('Simulador Pagos Oportunos'!$X$41=3,AG223,AC223)))))","v":""},null,0,null,{"$f":"IF(B223<=0,0,B223*IF('Simulador Pagos Oportunos'!$Y$71=1,0,'Simulador Pagos Oportunos'!$Y$74))","v":0},null,{"$f":"IF(B223=0,0,IF('Simulador Pagos Oportunos'!$X$41=4,'Simulador Pagos Oportunos'!$I$55,IF('Simulador Pagos Oportunos'!$X$41=1,'Simulador Pagos Oportunos'!$K$55,IF('Simulador Pagos Oportunos'!$X$41=2,'Simulador Pagos Oportunos'!$M$55,IF('Simulador Pagos Oportunos'!$X$41=3,'Simulador Pagos Oportunos'!$O$55,0)))))","v":0},null,0,null,null,null,0,{"$f":"AC222","v":9.2499999999999971E-2},null,null,null,0.1225,0,0,17,3,0,0,0,0,0,0,0,0,{"$f":"IF(AO223=0,\"\",IF('Simulador Pagos Oportunos'!$X$41=4,AD223,IF('Simulador Pagos Oportunos'!$X$41=1,AE223,IF('Simulador Pagos Oportunos'!$X$41=2,AF223,IF('Simulador Pagos Oportunos'!$X$41=3,AG223,AC223)))))","v":""},{"$f":"IF(AO223<=0,0,IF('Simulador Pagos Oportunos'!$Y$71=1,0,AO223*'Simulador Pagos Oportunos'!$Y$74))+IF(AO223<=0,0,IF('Simulador Pagos Oportunos'!$X$41=4,'Simulador Pagos Oportunos'!$I$55,IF('Simulador Pagos Oportunos'!$X$41=1,'Simulador Pagos Oportunos'!$K$55,IF('Simulador Pagos Oportunos'!$X$41=2,'Simulador Pagos Oportunos'!$M$55,'Simulador Pagos Oportunos'!$O$55))))","v":0},null,0,0,"",0,207]
[208,0,null,{"$f":"IF(B224+F224-D223<=0,B224+F224,IF(A224=$B$9,$F$9,IF(A224=$B$10,$F$10,IF(AND('Simulador Pagos Oportunos'!$AH$45=2,L223=0),D223*(1+Z224),IF($AL$3=2,B224*AI224,D223*(1+Z224))))))","v":0},null,0,null,0,null,{"$f":"IF(B224-H224=0,0,J222)","v":0},null,null,null,{"$f":"IF('Simulador Pagos Oportunos'!$V$66=1,0,L224*'Simulador Pagos Oportunos'!$O$69*'Simulador Pagos Oportunos'!$W$65)","v":0},null,{"$f":"IF(B224=0,\"\",IF('Simulador Pagos Oportunos'!$X$41=4,AD224,IF('Simulador Pagos Oportunos'!$X$41=1,AE224,IF('Simulador Pagos Oportunos'!$X$41=2,AF224,IF('Simulador Pagos Oportunos'!$X$41=3,AG224,AC224)))))","v":""},null,0,null,{"$f":"IF(B224<=0,0,B224*IF('Simulador Pagos Oportunos'!$Y$71=1,0,'Simulador Pagos Oportunos'!$Y$74))","v":0},null,{"$f":"IF(B224=0,0,IF('Simulador Pagos Oportunos'!$X$41=4,'Simulador Pagos Oportunos'!$I$55,IF('Simulador Pagos Oportunos'!$X$41=1,'Simulador Pagos Oportunos'!$K$55,IF('Simulador Pagos Oportunos'!$X$41=2,'Simulador Pagos Oportunos'!$M$55,IF('Simulador Pagos Oportunos'!$X$41=3,'Simulador Pagos Oportunos'!$O$55,0)))))","v":0},null,0,null,null,null,0,9.2499999999999971E-2,null,null,null,0.1225,0,0,17,4,0,0,0,0,0,0,0,0,{"$f":"IF(AO224=0,\"\",IF('Simulador Pagos Oportunos'!$X$41=4,AD224,IF('Simulador Pagos Oportunos'!$X$41=1,AE224,IF('Simulador Pagos Oportunos'!$X$41=2,AF224,IF('Simulador Pagos Oportunos'!$X$41=3,AG224,AC224)))))","v":""},{"$f":"IF(AO224<=0,0,IF('Simulador Pagos Oportunos'!$Y$71=1,0,AO224*'Simulador Pagos Oportunos'!$Y$74))+IF(AO224<=0,0,IF('Simulador Pagos Oportunos'!$X$41=4,'Simulador Pagos Oportunos'!$I$55,IF('Simulador Pagos Oportunos'!$X$41=1,'Simulador Pagos Oportunos'!$K$55,IF('Simulador Pagos Oportunos'!$X$41=2,'Simulador Pagos Oportunos'!$M$55,'Simulador Pagos Oportunos'!$O$55))))","v":0},null,0,0,"",0,208]
[209,0,null,{"$f":"IF(B225+F225-D224<=0,B225+F225,IF(A225=$B$9,$F$9,IF(A225=$B$10,$F$10,IF(AND('Simulador Pagos Oportunos'!$AH$45=2,L224=0),D224*(1+Z225),IF($AL$3=2,B225*AI225,D224*(1+Z225))))))","v":0},null,0,null,0,null,null,null,null,null,{"$f":"IF('Simulador Pagos Oportunos'!$V$66=1,0,L225*'Simulador Pagos Oportunos'!$O$69*'Simulador Pagos Oportunos'!$W$65)","v":0},null,{"$f":"IF(B225=0,\"\",IF('Simulador Pagos Oportunos'!$X$41=4,AD225,IF('Simulador Pagos Oportunos'!$X$41=1,AE225,IF('Simulador Pagos Oportunos'!$X$41=2,AF225,IF('Simulador Pagos Oportunos'!$X$41=3,AG225,AC225)))))","v":""},null,0,null,{"$f":"IF(B225<=0,0,B225*IF('Simulador Pagos Oportunos'!$Y$71=1,0,'Simulador Pagos Oportunos'!$Y$74))","v":0},null,{"$f":"IF(B225=0,0,IF('Simulador Pagos Oportunos'!$X$41=4,'Simulador Pagos Oportunos'!$I$55,IF('Simulador Pagos Oportunos'!$X$41=1,'Simulador Pagos Oportunos'!$K$55,IF('Simulador Pagos Oportunos'!$X$41=2,'Simulador Pagos Oportunos'!$M$55,IF('Simulador Pagos Oportunos'!$X$41=3,'Simulador Pagos Oportunos'!$O$55,0)))))","v":0},null,0,null,null,null,0,9.2499999999999971E-2,null,null,null,0.1225,0,0,17,5,0,0,0,0,0,0,0,0,{"$f":"IF(AO225=0,\"\",IF('Simulador Pagos Oportunos'!$X$41=4,AD225,IF('Simulador Pagos Oportunos'!$X$41=1,AE225,IF('Simulador Pagos Oportunos'!$X$41=2,AF225,IF('Simulador Pagos Oportunos'!$X$41=3,AG225,AC225)))))","v":""},{"$f":"IF(AO225<=0,0,IF('Simulador Pagos Oportunos'!$Y$71=1,0,AO225*'Simulador Pagos Oportunos'!$Y$74))+IF(AO225<=0,0,IF('Simulador Pagos Oportunos'!$X$41=4,'Simulador Pagos Oportunos'!$I$55,IF('Simulador Pagos Oportunos'!$X$41=1,'Simulador Pagos Oportunos'!$K$55,IF('Simulador Pagos Oportunos'!$X$41=2,'Simulador Pagos Oportunos'!$M$55,'Simulador Pagos Oportunos'!$O$55))))","v":0},null,0,0,"",0,209]
[210,0,null,{"$f":"IF(B226+F226-D225<=0,B226+F226,IF(A226=$B$9,$F$9,IF(A226=$B$10,$F$10,IF(AND('Simulador Pagos Oportunos'!$AH$45=2,L225=0),D225*(1+Z226),IF($AL$3=2,B226*AI226,D225*(1+Z226))))))","v":0},null,0,null,0,null,{"$f":"IF(B226-H226=0,0,J224)","v":0},null,null,null,{"$f":"IF('Simulador Pagos Oportunos'!$V$66=1,0,L226*'Simulador Pagos Oportunos'!$O$69*'Simulador Pagos Oportunos'!$W$65)","v":0},null,{"$f":"IF(B226=0,\"\",IF('Simulador Pagos Oportunos'!$X$41=4,AD226,IF('Simulador Pagos Oportunos'!$X$41=1,AE226,IF('Simulador Pagos Oportunos'!$X$41=2,AF226,IF('Simulador Pagos Oportunos'!$X$41=3,AG226,AC226)))))","v":""},null,0,null,{"$f":"IF(B226<=0,0,B226*IF('Simulador Pagos Oportunos'!$Y$71=1,0,'Simulador Pagos Oportunos'!$Y$74))","v":0},null,{"$f":"IF(B226=0,0,IF('Simulador Pagos Oportunos'!$X$41=4,'Simulador Pagos Oportunos'!$I$55,IF('Simulador Pagos Oportunos'!$X$41=1,'Simulador Pagos Oportunos'!$K$55,IF('Simulador Pagos Oportunos'!$X$41=2,'Simulador Pagos Oportunos'!$M$55,IF('Simulador Pagos Oportunos'!$X$41=3,'Simulador Pagos Oportunos'!$O$55,0)))))","v":0},null,0,null,null,null,0,9.2499999999999971E-2,null,null,null,0.1225,0,0,17,6,0,0,0,0,0,0,0,0,{"$f":"IF(AO226=0,\"\",IF('Simulador Pagos Oportunos'!$X$41=4,AD226,IF('Simulador Pagos Oportunos'!$X$41=1,AE226,IF('Simulador Pagos Oportunos'!$X$41=2,AF226,IF('Simulador Pagos Oportunos'!$X$41=3,AG226,AC226)))))","v":""},{"$f":"IF(AO226<=0,0,IF('Simulador Pagos Oportunos'!$Y$71=1,0,AO226*'Simulador Pagos Oportunos'!$Y$74))+IF(AO226<=0,0,IF('Simulador Pagos Oportunos'!$X$41=4,'Simulador Pagos Oportunos'!$I$55,IF('Simulador Pagos Oportunos'!$X$41=1,'Simulador Pagos Oportunos'!$K$55,IF('Simulador Pagos Oportunos'!$X$41=2,'Simulador Pagos Oportunos'!$M$55,'Simulador Pagos Oportunos'!$O$55))))","v":0},null,0,0,"",0,210]
[211,0,null,{"$f":"IF(B227+F227-D226<=0,B227+F227,IF(A227=$B$9,$F$9,IF(A227=$B$10,$F$10,IF(AND('Simulador Pagos Oportunos'!$AH$45=2,L226=0),D226*(1+Z227),IF($AL$3=2,B227*AI227,D226*(1+Z227))))))","v":0},null,0,null,0,null,null,null,null,null,{"$f":"IF('Simulador Pagos Oportunos'!$V$66=1,0,L227*'Simulador Pagos Oportunos'!$O$69*'Simulador Pagos Oportunos'!$W$65)","v":0},null,{"$f":"IF(B227=0,\"\",IF('Simulador Pagos Oportunos'!$X$41=4,AD227,IF('Simulador Pagos Oportunos'!$X$41=1,AE227,IF('Simulador Pagos Oportunos'!$X$41=2,AF227,IF('Simulador Pagos Oportunos'!$X$41=3,AG227,AC227)))))","v":""},null,0,null,{"$f":"IF(B227<=0,0,B227*IF('Simulador Pagos Oportunos'!$Y$71=1,0,'Simulador Pagos Oportunos'!$Y$74))","v":0},null,{"$f":"IF(B227=0,0,IF('Simulador Pagos Oportunos'!$X$41=4,'Simulador Pagos Oportunos'!$I$55,IF('Simulador Pagos Oportunos'!$X$41=1,'Simulador Pagos Oportunos'!$K$55,IF('Simulador Pagos Oportunos'!$X$41=2,'Simulador Pagos Oportunos'!$M$55,IF('Simulador Pagos Oportunos'!$X$41=3,'Simulador Pagos Oportunos'!$O$55,0)))))","v":0},null,0,null,null,null,0,9.2499999999999971E-2,null,null,null,0.1225,0,0,17,7,0,0,0,0,0,0,0,0,{"$f":"IF(AO227=0,\"\",IF('Simulador Pagos Oportunos'!$X$41=4,AD227,IF('Simulador Pagos Oportunos'!$X$41=1,AE227,IF('Simulador Pagos Oportunos'!$X$41=2,AF227,IF('Simulador Pagos Oportunos'!$X$41=3,AG227,AC227)))))","v":""},{"$f":"IF(AO227<=0,0,IF('Simulador Pagos Oportunos'!$Y$71=1,0,AO227*'Simulador Pagos Oportunos'!$Y$74))+IF(AO227<=0,0,IF('Simulador Pagos Oportunos'!$X$41=4,'Simulador Pagos Oportunos'!$I$55,IF('Simulador Pagos Oportunos'!$X$41=1,'Simulador Pagos Oportunos'!$K$55,IF('Simulador Pagos Oportunos'!$X$41=2,'Simulador Pagos Oportunos'!$M$55,'Simulador Pagos Oportunos'!$O$55))))","v":0},null,0,0,"",0,211]
[212,0,null,{"$f":"IF(B228+F228-D227<=0,B228+F228,IF(A228=$B$9,$F$9,IF(A228=$B$10,$F$10,IF(AND('Simulador Pagos Oportunos'!$AH$45=2,L227=0),D227*(1+Z228),IF($AL$3=2,B228*AI228,D227*(1+Z228))))))","v":0},null,0,null,0,null,{"$f":"IF(B228-H228=0,0,J226)","v":0},null,null,null,{"$f":"IF('Simulador Pagos Oportunos'!$V$66=1,0,L228*'Simulador Pagos Oportunos'!$O$69*'Simulador Pagos Oportunos'!$W$65)","v":0},null,{"$f":"IF(B228=0,\"\",IF('Simulador Pagos Oportunos'!$X$41=4,AD228,IF('Simulador Pagos Oportunos'!$X$41=1,AE228,IF('Simulador Pagos Oportunos'!$X$41=2,AF228,IF('Simulador Pagos Oportunos'!$X$41=3,AG228,AC228)))))","v":""},null,0,null,{"$f":"IF(B228<=0,0,B228*IF('Simulador Pagos Oportunos'!$Y$71=1,0,'Simulador Pagos Oportunos'!$Y$74))","v":0},null,{"$f":"IF(B228=0,0,IF('Simulador Pagos Oportunos'!$X$41=4,'Simulador Pagos Oportunos'!$I$55,IF('Simulador Pagos Oportunos'!$X$41=1,'Simulador Pagos Oportunos'!$K$55,IF('Simulador Pagos Oportunos'!$X$41=2,'Simulador Pagos Oportunos'!$M$55,IF('Simulador Pagos Oportunos'!$X$41=3,'Simulador Pagos Oportunos'!$O$55,0)))))","v":0},null,0,null,null,null,0,9.2499999999999971E-2,null,null,null,0.1225,0,0,17,8,0,0,0,0,0,0,0,0,{"$f":"IF(AO228=0,\"\",IF('Simulador Pagos Oportunos'!$X$41=4,AD228,IF('Simulador Pagos Oportunos'!$X$41=1,AE228,IF('Simulador Pagos Oportunos'!$X$41=2,AF228,IF('Simulador Pagos Oportunos'!$X$41=3,AG228,AC228)))))","v":""},{"$f":"IF(AO228<=0,0,IF('Simulador Pagos Oportunos'!$Y$71=1,0,AO228*'Simulador Pagos Oportunos'!$Y$74))+IF(AO228<=0,0,IF('Simulador Pagos Oportunos'!$X$41=4,'Simulador Pagos Oportunos'!$I$55,IF('Simulador Pagos Oportunos'!$X$41=1,'Simulador Pagos Oportunos'!$K$55,IF('Simulador Pagos Oportunos'!$X$41=2,'Simulador Pagos Oportunos'!$M$55,'Simulador Pagos Oportunos'!$O$55))))","v":0},null,0,0,"",0,212]
[213,0,null,{"$f":"IF(B229+F229-D228<=0,B229+F229,IF(A229=$B$9,$F$9,IF(A229=$B$10,$F$10,IF(AND('Simulador Pagos Oportunos'!$AH$45=2,L228=0),D228*(1+Z229),IF($AL$3=2,B229*AI229,D228*(1+Z229))))))","v":0},null,0,null,0,null,null,null,null,null,{"$f":"IF('Simulador Pagos Oportunos'!$V$66=1,0,L229*'Simulador Pagos Oportunos'!$O$69*'Simulador Pagos Oportunos'!$W$65)","v":0},null,{"$f":"IF(B229=0,\"\",IF('Simulador Pagos Oportunos'!$X$41=4,AD229,IF('Simulador Pagos Oportunos'!$X$41=1,AE229,IF('Simulador Pagos Oportunos'!$X$41=2,AF229,IF('Simulador Pagos Oportunos'!$X$41=3,AG229,AC229)))))","v":""},null,0,null,{"$f":"IF(B229<=0,0,B229*IF('Simulador Pagos Oportunos'!$Y$71=1,0,'Simulador Pagos Oportunos'!$Y$74))","v":0},null,{"$f":"IF(B229=0,0,IF('Simulador Pagos Oportunos'!$X$41=4,'Simulador Pagos Oportunos'!$I$55,IF('Simulador Pagos Oportunos'!$X$41=1,'Simulador Pagos Oportunos'!$K$55,IF('Simulador Pagos Oportunos'!$X$41=2,'Simulador Pagos Oportunos'!$M$55,IF('Simulador Pagos Oportunos'!$X$41=3,'Simulador Pagos Oportunos'!$O$55,0)))))","v":0},null,0,null,null,null,0,9.2499999999999971E-2,null,null,null,0.1225,0,0,17,9,0,0,0,0,0,0,0,0,{"$f":"IF(AO229=0,\"\",IF('Simulador Pagos Oportunos'!$X$41=4,AD229,IF('Simulador Pagos Oportunos'!$X$41=1,AE229,IF('Simulador Pagos Oportunos'!$X$41=2,AF229,IF('Simulador Pagos Oportunos'!$X$41=3,AG229,AC229)))))","v":""},{"$f":"IF(AO229<=0,0,IF('Simulador Pagos Oportunos'!$Y$71=1,0,AO229*'Simulador Pagos Oportunos'!$Y$74))+IF(AO229<=0,0,IF('Simulador Pagos Oportunos'!$X$41=4,'Simulador Pagos Oportunos'!$I$55,IF('Simulador Pagos Oportunos'!$X$41=1,'Simulador Pagos Oportunos'!$K$55,IF('Simulador Pagos Oportunos'!$X$41=2,'Simulador Pagos Oportunos'!$M$55,'Simulador Pagos Oportunos'!$O$55))))","v":0},null,0,0,"",0,213]
[214,0,null,{"$f":"IF(B230+F230-D229<=0,B230+F230,IF(A230=$B$9,$F$9,IF(A230=$B$10,$F$10,IF(AND('Simulador Pagos Oportunos'!$AH$45=2,L229=0),D229*(1+Z230),IF($AL$3=2,B230*AI230,D229*(1+Z230))))))","v":0},null,0,null,0,null,{"$f":"IF(B230-H230=0,0,J228)","v":0},null,null,null,{"$f":"IF('Simulador Pagos Oportunos'!$V$66=1,0,L230*'Simulador Pagos Oportunos'!$O$69*'Simulador Pagos Oportunos'!$W$65)","v":0},null,{"$f":"IF(B230=0,\"\",IF('Simulador Pagos Oportunos'!$X$41=4,AD230,IF('Simulador Pagos Oportunos'!$X$41=1,AE230,IF('Simulador Pagos Oportunos'!$X$41=2,AF230,IF('Simulador Pagos Oportunos'!$X$41=3,AG230,AC230)))))","v":""},null,0,null,{"$f":"IF(B230<=0,0,B230*IF('Simulador Pagos Oportunos'!$Y$71=1,0,'Simulador Pagos Oportunos'!$Y$74))","v":0},null,{"$f":"IF(B230=0,0,IF('Simulador Pagos Oportunos'!$X$41=4,'Simulador Pagos Oportunos'!$I$55,IF('Simulador Pagos Oportunos'!$X$41=1,'Simulador Pagos Oportunos'!$K$55,IF('Simulador Pagos Oportunos'!$X$41=2,'Simulador Pagos Oportunos'!$M$55,IF('Simulador Pagos Oportunos'!$X$41=3,'Simulador Pagos Oportunos'!$O$55,0)))))","v":0},null,0,null,null,null,0,9.2499999999999971E-2,null,null,null,0.1225,0,0,17,10,0,0,0,0,0,0,0,0,{"$f":"IF(AO230=0,\"\",IF('Simulador Pagos Oportunos'!$X$41=4,AD230,IF('Simulador Pagos Oportunos'!$X$41=1,AE230,IF('Simulador Pagos Oportunos'!$X$41=2,AF230,IF('Simulador Pagos Oportunos'!$X$41=3,AG230,AC230)))))","v":""},{"$f":"IF(AO230<=0,0,IF('Simulador Pagos Oportunos'!$Y$71=1,0,AO230*'Simulador Pagos Oportunos'!$Y$74))+IF(AO230<=0,0,IF('Simulador Pagos Oportunos'!$X$41=4,'Simulador Pagos Oportunos'!$I$55,IF('Simulador Pagos Oportunos'!$X$41=1,'Simulador Pagos Oportunos'!$K$55,IF('Simulador Pagos Oportunos'!$X$41=2,'Simulador Pagos Oportunos'!$M$55,'Simulador Pagos Oportunos'!$O$55))))","v":0},null,0,0,"",0,214]
[215,0,null,{"$f":"IF(B231+F231-D230<=0,B231+F231,IF(A231=$B$9,$F$9,IF(A231=$B$10,$F$10,IF(AND('Simulador Pagos Oportunos'!$AH$45=2,L230=0),D230*(1+Z231),IF($AL$3=2,B231*AI231,D230*(1+Z231))))))","v":0},null,0,null,0,null,null,null,null,null,{"$f":"IF('Simulador Pagos Oportunos'!$V$66=1,0,L231*'Simulador Pagos Oportunos'!$O$69*'Simulador Pagos Oportunos'!$W$65)","v":0},null,{"$f":"IF(B231=0,\"\",IF('Simulador Pagos Oportunos'!$X$41=4,AD231,IF('Simulador Pagos Oportunos'!$X$41=1,AE231,IF('Simulador Pagos Oportunos'!$X$41=2,AF231,IF('Simulador Pagos Oportunos'!$X$41=3,AG231,AC231)))))","v":""},null,0,null,{"$f":"IF(B231<=0,0,B231*IF('Simulador Pagos Oportunos'!$Y$71=1,0,'Simulador Pagos Oportunos'!$Y$74))","v":0},null,{"$f":"IF(B231=0,0,IF('Simulador Pagos Oportunos'!$X$41=4,'Simulador Pagos Oportunos'!$I$55,IF('Simulador Pagos Oportunos'!$X$41=1,'Simulador Pagos Oportunos'!$K$55,IF('Simulador Pagos Oportunos'!$X$41=2,'Simulador Pagos Oportunos'!$M$55,IF('Simulador Pagos Oportunos'!$X$41=3,'Simulador Pagos Oportunos'!$O$55,0)))))","v":0},null,0,null,null,null,0,9.2499999999999971E-2,null,null,null,0.1225,0,0,17,11,0,0,0,0,0,0,0,0,{"$f":"IF(AO231=0,\"\",IF('Simulador Pagos Oportunos'!$X$41=4,AD231,IF('Simulador Pagos Oportunos'!$X$41=1,AE231,IF('Simulador Pagos Oportunos'!$X$41=2,AF231,IF('Simulador Pagos Oportunos'!$X$41=3,AG231,AC231)))))","v":""},{"$f":"IF(AO231<=0,0,IF('Simulador Pagos Oportunos'!$Y$71=1,0,AO231*'Simulador Pagos Oportunos'!$Y$74))+IF(AO231<=0,0,IF('Simulador Pagos Oportunos'!$X$41=4,'Simulador Pagos Oportunos'!$I$55,IF('Simulador Pagos Oportunos'!$X$41=1,'Simulador Pagos Oportunos'!$K$55,IF('Simulador Pagos Oportunos'!$X$41=2,'Simulador Pagos Oportunos'!$M$55,'Simulador Pagos Oportunos'!$O$55))))","v":0},null,0,0,"",0,215]
[216,0,null,{"$f":"IF(B232+F232-D231<=0,B232+F232,IF(A232=$B$9,$F$9,IF(A232=$B$10,$F$10,IF(AND('Simulador Pagos Oportunos'!$AH$45=2,L231=0),D231*(1+Z232),IF($AL$3=2,B232*AI232,D231*(1+Z232))))))","v":0},null,0,null,0,null,{"$f":"IF(B232-H232=0,0,J230)","v":0},null,null,null,{"$f":"IF('Simulador Pagos Oportunos'!$V$66=1,0,L232*'Simulador Pagos Oportunos'!$O$69*'Simulador Pagos Oportunos'!$W$65)","v":0},null,{"$f":"IF(B232=0,\"\",IF('Simulador Pagos Oportunos'!$X$41=4,AD232,IF('Simulador Pagos Oportunos'!$X$41=1,AE232,IF('Simulador Pagos Oportunos'!$X$41=2,AF232,IF('Simulador Pagos Oportunos'!$X$41=3,AG232,AC232)))))","v":""},null,0,null,{"$f":"IF(B232<=0,0,B232*IF('Simulador Pagos Oportunos'!$Y$71=1,0,'Simulador Pagos Oportunos'!$Y$74))","v":0},null,{"$f":"IF(B232=0,0,IF('Simulador Pagos Oportunos'!$X$41=4,'Simulador Pagos Oportunos'!$I$55,IF('Simulador Pagos Oportunos'!$X$41=1,'Simulador Pagos Oportunos'!$K$55,IF('Simulador Pagos Oportunos'!$X$41=2,'Simulador Pagos Oportunos'!$M$55,IF('Simulador Pagos Oportunos'!$X$41=3,'Simulador Pagos Oportunos'!$O$55,0)))))","v":0},null,0,null,null,null,0,9.2499999999999971E-2,null,null,null,0.1225,0,0,18,0,0,0,0,0,0,0,0,0,{"$f":"IF(AO232=0,\"\",IF('Simulador Pagos Oportunos'!$X$41=4,AD232,IF('Simulador Pagos Oportunos'!$X$41=1,AE232,IF('Simulador Pagos Oportunos'!$X$41=2,AF232,IF('Simulador Pagos Oportunos'!$X$41=3,AG232,AC232)))))","v":""},{"$f":"IF(AO232<=0,0,IF('Simulador Pagos Oportunos'!$Y$71=1,0,AO232*'Simulador Pagos Oportunos'!$Y$74))+IF(AO232<=0,0,IF('Simulador Pagos Oportunos'!$X$41=4,'Simulador Pagos Oportunos'!$I$55,IF('Simulador Pagos Oportunos'!$X$41=1,'Simulador Pagos Oportunos'!$K$55,IF('Simulador Pagos Oportunos'!$X$41=2,'Simulador Pagos Oportunos'!$M$55,'Simulador Pagos Oportunos'!$O$55))))","v":0},null,0,0,"",0,216]
[217,0,null,{"$f":"IF(B233+F233-D232<=0,B233+F233,IF(A233=$B$9,$F$9,IF(A233=$B$10,$F$10,IF(AND('Simulador Pagos Oportunos'!$AH$45=2,L232=0),D232*(1+Z233),IF($AL$3=2,B233*AI233,D232*(1+Z233))))))","v":0},null,0,null,0,null,null,null,null,null,{"$f":"IF('Simulador Pagos Oportunos'!$V$66=1,0,L233*'Simulador Pagos Oportunos'!$O$69*'Simulador Pagos Oportunos'!$W$65)","v":0},null,{"$f":"IF(B233=0,\"\",IF('Simulador Pagos Oportunos'!$X$41=4,AD233,IF('Simulador Pagos Oportunos'!$X$41=1,AE233,IF('Simulador Pagos Oportunos'!$X$41=2,AF233,IF('Simulador Pagos Oportunos'!$X$41=3,AG233,AC233)))))","v":""},null,0,null,{"$f":"IF(B233<=0,0,B233*IF('Simulador Pagos Oportunos'!$Y$71=1,0,'Simulador Pagos Oportunos'!$Y$74))","v":0},null,{"$f":"IF(B233=0,0,IF('Simulador Pagos Oportunos'!$X$41=4,'Simulador Pagos Oportunos'!$I$55,IF('Simulador Pagos Oportunos'!$X$41=1,'Simulador Pagos Oportunos'!$K$55,IF('Simulador Pagos Oportunos'!$X$41=2,'Simulador Pagos Oportunos'!$M$55,IF('Simulador Pagos Oportunos'!$X$41=3,'Simulador Pagos Oportunos'!$O$55,0)))))","v":0},null,0,null,{"$f":"IF(B233<=0,0,'Simulador Pagos Oportunos'!$AI$54)","v":0},null,0,{"$f":"IF(AC232=$AC$5,AC232,IF(AC232-0.25%<=$AC$5,$AC$5,AC232-0.25%))","v":8.9999999999999969E-2},null,null,null,0.1225,0,0,18,1,0,0,0,0,0,0,0,0,{"$f":"IF(AO233=0,\"\",IF('Simulador Pagos Oportunos'!$X$41=4,AD233,IF('Simulador Pagos Oportunos'!$X$41=1,AE233,IF('Simulador Pagos Oportunos'!$X$41=2,AF233,IF('Simulador Pagos Oportunos'!$X$41=3,AG233,AC233)))))","v":""},{"$f":"IF(AO233<=0,0,IF('Simulador Pagos Oportunos'!$Y$71=1,0,AO233*'Simulador Pagos Oportunos'!$Y$74))+IF(AO233<=0,0,IF('Simulador Pagos Oportunos'!$X$41=4,'Simulador Pagos Oportunos'!$I$55,IF('Simulador Pagos Oportunos'!$X$41=1,'Simulador Pagos Oportunos'!$K$55,IF('Simulador Pagos Oportunos'!$X$41=2,'Simulador Pagos Oportunos'!$M$55,'Simulador Pagos Oportunos'!$O$55))))","v":0},{"$f":"IF(AO233<=0,0,$AV$29)","v":0},0,0,"",0,217]
[218,0,null,{"$f":"IF(B234+F234-D233<=0,B234+F234,IF(A234=$B$9,$F$9,IF(A234=$B$10,$F$10,IF(AND('Simulador Pagos Oportunos'!$AH$45=2,L233=0),D233*(1+Z234),IF($AL$3=2,B234*AI234,D233*(1+Z234))))))","v":0},null,0,null,0,null,{"$f":"IF(B234-H234=0,0,J232*(1+(3%)))","v":0},null,null,null,{"$f":"IF('Simulador Pagos Oportunos'!$V$66=1,0,L234*'Simulador Pagos Oportunos'!$O$69*'Simulador Pagos Oportunos'!$W$65)","v":0},null,{"$f":"IF(B234=0,\"\",IF('Simulador Pagos Oportunos'!$X$41=4,AD234,IF('Simulador Pagos Oportunos'!$X$41=1,AE234,IF('Simulador Pagos Oportunos'!$X$41=2,AF234,IF('Simulador Pagos Oportunos'!$X$41=3,AG234,AC234)))))","v":""},null,0,null,{"$f":"IF(B234<=0,0,B234*IF('Simulador Pagos Oportunos'!$Y$71=1,0,'Simulador Pagos Oportunos'!$Y$74))","v":0},null,{"$f":"IF(B234=0,0,IF('Simulador Pagos Oportunos'!$X$41=4,'Simulador Pagos Oportunos'!$I$55,IF('Simulador Pagos Oportunos'!$X$41=1,'Simulador Pagos Oportunos'!$K$55,IF('Simulador Pagos Oportunos'!$X$41=2,'Simulador Pagos Oportunos'!$M$55,IF('Simulador Pagos Oportunos'!$X$41=3,'Simulador Pagos Oportunos'!$O$55,0)))))","v":0},null,0,null,null,null,0,{"$f":"AC233","v":8.9999999999999969E-2},null,null,null,0.1225,0,0,18,2,0,0,0,0,0,0,0,0,{"$f":"IF(AO234=0,\"\",IF('Simulador Pagos Oportunos'!$X$41=4,AD234,IF('Simulador Pagos Oportunos'!$X$41=1,AE234,IF('Simulador Pagos Oportunos'!$X$41=2,AF234,IF('Simulador Pagos Oportunos'!$X$41=3,AG234,AC234)))))","v":""},{"$f":"IF(AO234<=0,0,IF('Simulador Pagos Oportunos'!$Y$71=1,0,AO234*'Simulador Pagos Oportunos'!$Y$74))+IF(AO234<=0,0,IF('Simulador Pagos Oportunos'!$X$41=4,'Simulador Pagos Oportunos'!$I$55,IF('Simulador Pagos Oportunos'!$X$41=1,'Simulador Pagos Oportunos'!$K$55,IF('Simulador Pagos Oportunos'!$X$41=2,'Simulador Pagos Oportunos'!$M$55,'Simulador Pagos Oportunos'!$O$55))))","v":0},null,0,0,"",0,218]
[219,0,null,{"$f":"IF(B235+F235-D234<=0,B235+F235,IF(A235=$B$9,$F$9,IF(A235=$B$10,$F$10,IF(AND('Simulador Pagos Oportunos'!$AH$45=2,L234=0),D234*(1+Z235),IF($AL$3=2,B235*AI235,D234*(1+Z235))))))","v":0},null,0,null,0,null,null,null,null,null,{"$f":"IF('Simulador Pagos Oportunos'!$V$66=1,0,L235*'Simulador Pagos Oportunos'!$O$69*'Simulador Pagos Oportunos'!$W$65)","v":0},null,{"$f":"IF(B235=0,\"\",IF('Simulador Pagos Oportunos'!$X$41=4,AD235,IF('Simulador Pagos Oportunos'!$X$41=1,AE235,IF('Simulador Pagos Oportunos'!$X$41=2,AF235,IF('Simulador Pagos Oportunos'!$X$41=3,AG235,AC235)))))","v":""},null,0,null,{"$f":"IF(B235<=0,0,B235*IF('Simulador Pagos Oportunos'!$Y$71=1,0,'Simulador Pagos Oportunos'!$Y$74))","v":0},null,{"$f":"IF(B235=0,0,IF('Simulador Pagos Oportunos'!$X$41=4,'Simulador Pagos Oportunos'!$I$55,IF('Simulador Pagos Oportunos'!$X$41=1,'Simulador Pagos Oportunos'!$K$55,IF('Simulador Pagos Oportunos'!$X$41=2,'Simulador Pagos Oportunos'!$M$55,IF('Simulador Pagos Oportunos'!$X$41=3,'Simulador Pagos Oportunos'!$O$55,0)))))","v":0},null,0,null,null,null,0,{"$f":"AC234","v":8.9999999999999969E-2},null,null,null,0.1225,0,0,18,3,0,0,0,0,0,0,0,0,{"$f":"IF(AO235=0,\"\",IF('Simulador Pagos Oportunos'!$X$41=4,AD235,IF('Simulador Pagos Oportunos'!$X$41=1,AE235,IF('Simulador Pagos Oportunos'!$X$41=2,AF235,IF('Simulador Pagos Oportunos'!$X$41=3,AG235,AC235)))))","v":""},{"$f":"IF(AO235<=0,0,IF('Simulador Pagos Oportunos'!$Y$71=1,0,AO235*'Simulador Pagos Oportunos'!$Y$74))+IF(AO235<=0,0,IF('Simulador Pagos Oportunos'!$X$41=4,'Simulador Pagos Oportunos'!$I$55,IF('Simulador Pagos Oportunos'!$X$41=1,'Simulador Pagos Oportunos'!$K$55,IF('Simulador Pagos Oportunos'!$X$41=2,'Simulador Pagos Oportunos'!$M$55,'Simulador Pagos Oportunos'!$O$55))))","v":0},null,0,0,"",0,219]
[220,0,null,{"$f":"IF(B236+F236-D235<=0,B236+F236,IF(A236=$B$9,$F$9,IF(A236=$B$10,$F$10,IF(AND('Simulador Pagos Oportunos'!$AH$45=2,L235=0),D235*(1+Z236),IF($AL$3=2,B236*AI236,D235*(1+Z236))))))","v":0},null,0,null,0,null,{"$f":"IF(B236-H236=0,0,J234)","v":0},null,null,null,{"$f":"IF('Simulador Pagos Oportunos'!$V$66=1,0,L236*'Simulador Pagos Oportunos'!$O$69*'Simulador Pagos Oportunos'!$W$65)","v":0},null,{"$f":"IF(B236=0,\"\",IF('Simulador Pagos Oportunos'!$X$41=4,AD236,IF('Simulador Pagos Oportunos'!$X$41=1,AE236,IF('Simulador Pagos Oportunos'!$X$41=2,AF236,IF('Simulador Pagos Oportunos'!$X$41=3,AG236,AC236)))))","v":""},null,0,null,{"$f":"IF(B236<=0,0,B236*IF('Simulador Pagos Oportunos'!$Y$71=1,0,'Simulador Pagos Oportunos'!$Y$74))","v":0},null,{"$f":"IF(B236=0,0,IF('Simulador Pagos Oportunos'!$X$41=4,'Simulador Pagos Oportunos'!$I$55,IF('Simulador Pagos Oportunos'!$X$41=1,'Simulador Pagos Oportunos'!$K$55,IF('Simulador Pagos Oportunos'!$X$41=2,'Simulador Pagos Oportunos'!$M$55,IF('Simulador Pagos Oportunos'!$X$41=3,'Simulador Pagos Oportunos'!$O$55,0)))))","v":0},null,0,null,null,null,0,8.9999999999999969E-2,null,null,null,0.1225,0,0,18,4,0,0,0,0,0,0,0,0,{"$f":"IF(AO236=0,\"\",IF('Simulador Pagos Oportunos'!$X$41=4,AD236,IF('Simulador Pagos Oportunos'!$X$41=1,AE236,IF('Simulador Pagos Oportunos'!$X$41=2,AF236,IF('Simulador Pagos Oportunos'!$X$41=3,AG236,AC236)))))","v":""},{"$f":"IF(AO236<=0,0,IF('Simulador Pagos Oportunos'!$Y$71=1,0,AO236*'Simulador Pagos Oportunos'!$Y$74))+IF(AO236<=0,0,IF('Simulador Pagos Oportunos'!$X$41=4,'Simulador Pagos Oportunos'!$I$55,IF('Simulador Pagos Oportunos'!$X$41=1,'Simulador Pagos Oportunos'!$K$55,IF('Simulador Pagos Oportunos'!$X$41=2,'Simulador Pagos Oportunos'!$M$55,'Simulador Pagos Oportunos'!$O$55))))","v":0},null,0,0,"",0,220]
[221,0,null,{"$f":"IF(B237+F237-D236<=0,B237+F237,IF(A237=$B$9,$F$9,IF(A237=$B$10,$F$10,IF(AND('Simulador Pagos Oportunos'!$AH$45=2,L236=0),D236*(1+Z237),IF($AL$3=2,B237*AI237,D236*(1+Z237))))))","v":0},null,0,null,0,null,null,null,null,null,{"$f":"IF('Simulador Pagos Oportunos'!$V$66=1,0,L237*'Simulador Pagos Oportunos'!$O$69*'Simulador Pagos Oportunos'!$W$65)","v":0},null,{"$f":"IF(B237=0,\"\",IF('Simulador Pagos Oportunos'!$X$41=4,AD237,IF('Simulador Pagos Oportunos'!$X$41=1,AE237,IF('Simulador Pagos Oportunos'!$X$41=2,AF237,IF('Simulador Pagos Oportunos'!$X$41=3,AG237,AC237)))))","v":""},null,0,null,{"$f":"IF(B237<=0,0,B237*IF('Simulador Pagos Oportunos'!$Y$71=1,0,'Simulador Pagos Oportunos'!$Y$74))","v":0},null,{"$f":"IF(B237=0,0,IF('Simulador Pagos Oportunos'!$X$41=4,'Simulador Pagos Oportunos'!$I$55,IF('Simulador Pagos Oportunos'!$X$41=1,'Simulador Pagos Oportunos'!$K$55,IF('Simulador Pagos Oportunos'!$X$41=2,'Simulador Pagos Oportunos'!$M$55,IF('Simulador Pagos Oportunos'!$X$41=3,'Simulador Pagos Oportunos'!$O$55,0)))))","v":0},null,0,null,null,null,0,8.9999999999999969E-2,null,null,null,0.1225,0,0,18,5,0,0,0,0,0,0,0,0,{"$f":"IF(AO237=0,\"\",IF('Simulador Pagos Oportunos'!$X$41=4,AD237,IF('Simulador Pagos Oportunos'!$X$41=1,AE237,IF('Simulador Pagos Oportunos'!$X$41=2,AF237,IF('Simulador Pagos Oportunos'!$X$41=3,AG237,AC237)))))","v":""},{"$f":"IF(AO237<=0,0,IF('Simulador Pagos Oportunos'!$Y$71=1,0,AO237*'Simulador Pagos Oportunos'!$Y$74))+IF(AO237<=0,0,IF('Simulador Pagos Oportunos'!$X$41=4,'Simulador Pagos Oportunos'!$I$55,IF('Simulador Pagos Oportunos'!$X$41=1,'Simulador Pagos Oportunos'!$K$55,IF('Simulador Pagos Oportunos'!$X$41=2,'Simulador Pagos Oportunos'!$M$55,'Simulador Pagos Oportunos'!$O$55))))","v":0},null,0,0,"",0,221]
[222,0,null,{"$f":"IF(B238+F238-D237<=0,B238+F238,IF(A238=$B$9,$F$9,IF(A238=$B$10,$F$10,IF(AND('Simulador Pagos Oportunos'!$AH$45=2,L237=0),D237*(1+Z238),IF($AL$3=2,B238*AI238,D237*(1+Z238))))))","v":0},null,0,null,0,null,{"$f":"IF(B238-H238=0,0,J236)","v":0},null,null,null,{"$f":"IF('Simulador Pagos Oportunos'!$V$66=1,0,L238*'Simulador Pagos Oportunos'!$O$69*'Simulador Pagos Oportunos'!$W$65)","v":0},null,{"$f":"IF(B238=0,\"\",IF('Simulador Pagos Oportunos'!$X$41=4,AD238,IF('Simulador Pagos Oportunos'!$X$41=1,AE238,IF('Simulador Pagos Oportunos'!$X$41=2,AF238,IF('Simulador Pagos Oportunos'!$X$41=3,AG238,AC238)))))","v":""},null,0,null,{"$f":"IF(B238<=0,0,B238*IF('Simulador Pagos Oportunos'!$Y$71=1,0,'Simulador Pagos Oportunos'!$Y$74))","v":0},null,{"$f":"IF(B238=0,0,IF('Simulador Pagos Oportunos'!$X$41=4,'Simulador Pagos Oportunos'!$I$55,IF('Simulador Pagos Oportunos'!$X$41=1,'Simulador Pagos Oportunos'!$K$55,IF('Simulador Pagos Oportunos'!$X$41=2,'Simulador Pagos Oportunos'!$M$55,IF('Simulador Pagos Oportunos'!$X$41=3,'Simulador Pagos Oportunos'!$O$55,0)))))","v":0},null,0,null,null,null,0,8.9999999999999969E-2,null,null,null,0.1225,0,0,18,6,0,0,0,0,0,0,0,0,{"$f":"IF(AO238=0,\"\",IF('Simulador Pagos Oportunos'!$X$41=4,AD238,IF('Simulador Pagos Oportunos'!$X$41=1,AE238,IF('Simulador Pagos Oportunos'!$X$41=2,AF238,IF('Simulador Pagos Oportunos'!$X$41=3,AG238,AC238)))))","v":""},{"$f":"IF(AO238<=0,0,IF('Simulador Pagos Oportunos'!$Y$71=1,0,AO238*'Simulador Pagos Oportunos'!$Y$74))+IF(AO238<=0,0,IF('Simulador Pagos Oportunos'!$X$41=4,'Simulador Pagos Oportunos'!$I$55,IF('Simulador Pagos Oportunos'!$X$41=1,'Simulador Pagos Oportunos'!$K$55,IF('Simulador Pagos Oportunos'!$X$41=2,'Simulador Pagos Oportunos'!$M$55,'Simulador Pagos Oportunos'!$O$55))))","v":0},null,0,0,"",0,222]
[223,0,null,{"$f":"IF(B239+F239-D238<=0,B239+F239,IF(A239=$B$9,$F$9,IF(A239=$B$10,$F$10,IF(AND('Simulador Pagos Oportunos'!$AH$45=2,L238=0),D238*(1+Z239),IF($AL$3=2,B239*AI239,D238*(1+Z239))))))","v":0},null,0,null,0,null,null,null,null,null,{"$f":"IF('Simulador Pagos Oportunos'!$V$66=1,0,L239*'Simulador Pagos Oportunos'!$O$69*'Simulador Pagos Oportunos'!$W$65)","v":0},null,{"$f":"IF(B239=0,\"\",IF('Simulador Pagos Oportunos'!$X$41=4,AD239,IF('Simulador Pagos Oportunos'!$X$41=1,AE239,IF('Simulador Pagos Oportunos'!$X$41=2,AF239,IF('Simulador Pagos Oportunos'!$X$41=3,AG239,AC239)))))","v":""},null,0,null,{"$f":"IF(B239<=0,0,B239*IF('Simulador Pagos Oportunos'!$Y$71=1,0,'Simulador Pagos Oportunos'!$Y$74))","v":0},null,{"$f":"IF(B239=0,0,IF('Simulador Pagos Oportunos'!$X$41=4,'Simulador Pagos Oportunos'!$I$55,IF('Simulador Pagos Oportunos'!$X$41=1,'Simulador Pagos Oportunos'!$K$55,IF('Simulador Pagos Oportunos'!$X$41=2,'Simulador Pagos Oportunos'!$M$55,IF('Simulador Pagos Oportunos'!$X$41=3,'Simulador Pagos Oportunos'!$O$55,0)))))","v":0},null,0,null,null,null,0,8.9999999999999969E-2,null,null,null,0.1225,0,0,18,7,0,0,0,0,0,0,0,0,{"$f":"IF(AO239=0,\"\",IF('Simulador Pagos Oportunos'!$X$41=4,AD239,IF('Simulador Pagos Oportunos'!$X$41=1,AE239,IF('Simulador Pagos Oportunos'!$X$41=2,AF239,IF('Simulador Pagos Oportunos'!$X$41=3,AG239,AC239)))))","v":""},{"$f":"IF(AO239<=0,0,IF('Simulador Pagos Oportunos'!$Y$71=1,0,AO239*'Simulador Pagos Oportunos'!$Y$74))+IF(AO239<=0,0,IF('Simulador Pagos Oportunos'!$X$41=4,'Simulador Pagos Oportunos'!$I$55,IF('Simulador Pagos Oportunos'!$X$41=1,'Simulador Pagos Oportunos'!$K$55,IF('Simulador Pagos Oportunos'!$X$41=2,'Simulador Pagos Oportunos'!$M$55,'Simulador Pagos Oportunos'!$O$55))))","v":0},null,0,0,"",0,223]
[224,0,null,{"$f":"IF(B240+F240-D239<=0,B240+F240,IF(A240=$B$9,$F$9,IF(A240=$B$10,$F$10,IF(AND('Simulador Pagos Oportunos'!$AH$45=2,L239=0),D239*(1+Z240),IF($AL$3=2,B240*AI240,D239*(1+Z240))))))","v":0},null,0,null,0,null,{"$f":"IF(B240-H240=0,0,J238)","v":0},null,null,null,{"$f":"IF('Simulador Pagos Oportunos'!$V$66=1,0,L240*'Simulador Pagos Oportunos'!$O$69*'Simulador Pagos Oportunos'!$W$65)","v":0},null,{"$f":"IF(B240=0,\"\",IF('Simulador Pagos Oportunos'!$X$41=4,AD240,IF('Simulador Pagos Oportunos'!$X$41=1,AE240,IF('Simulador Pagos Oportunos'!$X$41=2,AF240,IF('Simulador Pagos Oportunos'!$X$41=3,AG240,AC240)))))","v":""},null,0,null,{"$f":"IF(B240<=0,0,B240*IF('Simulador Pagos Oportunos'!$Y$71=1,0,'Simulador Pagos Oportunos'!$Y$74))","v":0},null,{"$f":"IF(B240=0,0,IF('Simulador Pagos Oportunos'!$X$41=4,'Simulador Pagos Oportunos'!$I$55,IF('Simulador Pagos Oportunos'!$X$41=1,'Simulador Pagos Oportunos'!$K$55,IF('Simulador Pagos Oportunos'!$X$41=2,'Simulador Pagos Oportunos'!$M$55,IF('Simulador Pagos Oportunos'!$X$41=3,'Simulador Pagos Oportunos'!$O$55,0)))))","v":0},null,0,null,null,null,0,8.9999999999999969E-2,null,null,null,0.1225,0,0,18,8,0,0,0,0,0,0,0,0,{"$f":"IF(AO240=0,\"\",IF('Simulador Pagos Oportunos'!$X$41=4,AD240,IF('Simulador Pagos Oportunos'!$X$41=1,AE240,IF('Simulador Pagos Oportunos'!$X$41=2,AF240,IF('Simulador Pagos Oportunos'!$X$41=3,AG240,AC240)))))","v":""},{"$f":"IF(AO240<=0,0,IF('Simulador Pagos Oportunos'!$Y$71=1,0,AO240*'Simulador Pagos Oportunos'!$Y$74))+IF(AO240<=0,0,IF('Simulador Pagos Oportunos'!$X$41=4,'Simulador Pagos Oportunos'!$I$55,IF('Simulador Pagos Oportunos'!$X$41=1,'Simulador Pagos Oportunos'!$K$55,IF('Simulador Pagos Oportunos'!$X$41=2,'Simulador Pagos Oportunos'!$M$55,'Simulador Pagos Oportunos'!$O$55))))","v":0},null,0,0,"",0,224]
[225,0,null,{"$f":"IF(B241+F241-D240<=0,B241+F241,IF(A241=$B$9,$F$9,IF(A241=$B$10,$F$10,IF(AND('Simulador Pagos Oportunos'!$AH$45=2,L240=0),D240*(1+Z241),IF($AL$3=2,B241*AI241,D240*(1+Z241))))))","v":0},null,0,null,0,null,null,null,null,null,{"$f":"IF('Simulador Pagos Oportunos'!$V$66=1,0,L241*'Simulador Pagos Oportunos'!$O$69*'Simulador Pagos Oportunos'!$W$65)","v":0},null,{"$f":"IF(B241=0,\"\",IF('Simulador Pagos Oportunos'!$X$41=4,AD241,IF('Simulador Pagos Oportunos'!$X$41=1,AE241,IF('Simulador Pagos Oportunos'!$X$41=2,AF241,IF('Simulador Pagos Oportunos'!$X$41=3,AG241,AC241)))))","v":""},null,0,null,{"$f":"IF(B241<=0,0,B241*IF('Simulador Pagos Oportunos'!$Y$71=1,0,'Simulador Pagos Oportunos'!$Y$74))","v":0},null,{"$f":"IF(B241=0,0,IF('Simulador Pagos Oportunos'!$X$41=4,'Simulador Pagos Oportunos'!$I$55,IF('Simulador Pagos Oportunos'!$X$41=1,'Simulador Pagos Oportunos'!$K$55,IF('Simulador Pagos Oportunos'!$X$41=2,'Simulador Pagos Oportunos'!$M$55,IF('Simulador Pagos Oportunos'!$X$41=3,'Simulador Pagos Oportunos'!$O$55,0)))))","v":0},null,0,null,null,null,0,8.9999999999999969E-2,null,null,null,0.1225,0,0,18,9,0,0,0,0,0,0,0,0,{"$f":"IF(AO241=0,\"\",IF('Simulador Pagos Oportunos'!$X$41=4,AD241,IF('Simulador Pagos Oportunos'!$X$41=1,AE241,IF('Simulador Pagos Oportunos'!$X$41=2,AF241,IF('Simulador Pagos Oportunos'!$X$41=3,AG241,AC241)))))","v":""},{"$f":"IF(AO241<=0,0,IF('Simulador Pagos Oportunos'!$Y$71=1,0,AO241*'Simulador Pagos Oportunos'!$Y$74))+IF(AO241<=0,0,IF('Simulador Pagos Oportunos'!$X$41=4,'Simulador Pagos Oportunos'!$I$55,IF('Simulador Pagos Oportunos'!$X$41=1,'Simulador Pagos Oportunos'!$K$55,IF('Simulador Pagos Oportunos'!$X$41=2,'Simulador Pagos Oportunos'!$M$55,'Simulador Pagos Oportunos'!$O$55))))","v":0},null,0,0,"",0,225]
[226,0,null,{"$f":"IF(B242+F242-D241<=0,B242+F242,IF(A242=$B$9,$F$9,IF(A242=$B$10,$F$10,IF(AND('Simulador Pagos Oportunos'!$AH$45=2,L241=0),D241*(1+Z242),IF($AL$3=2,B242*AI242,D241*(1+Z242))))))","v":0},null,0,null,0,null,{"$f":"IF(B242-H242=0,0,J240)","v":0},null,null,null,{"$f":"IF('Simulador Pagos Oportunos'!$V$66=1,0,L242*'Simulador Pagos Oportunos'!$O$69*'Simulador Pagos Oportunos'!$W$65)","v":0},null,{"$f":"IF(B242=0,\"\",IF('Simulador Pagos Oportunos'!$X$41=4,AD242,IF('Simulador Pagos Oportunos'!$X$41=1,AE242,IF('Simulador Pagos Oportunos'!$X$41=2,AF242,IF('Simulador Pagos Oportunos'!$X$41=3,AG242,AC242)))))","v":""},null,0,null,{"$f":"IF(B242<=0,0,B242*IF('Simulador Pagos Oportunos'!$Y$71=1,0,'Simulador Pagos Oportunos'!$Y$74))","v":0},null,{"$f":"IF(B242=0,0,IF('Simulador Pagos Oportunos'!$X$41=4,'Simulador Pagos Oportunos'!$I$55,IF('Simulador Pagos Oportunos'!$X$41=1,'Simulador Pagos Oportunos'!$K$55,IF('Simulador Pagos Oportunos'!$X$41=2,'Simulador Pagos Oportunos'!$M$55,IF('Simulador Pagos Oportunos'!$X$41=3,'Simulador Pagos Oportunos'!$O$55,0)))))","v":0},null,0,null,null,null,0,8.9999999999999969E-2,null,null,null,0.1225,0,0,18,10,0,0,0,0,0,0,0,0,{"$f":"IF(AO242=0,\"\",IF('Simulador Pagos Oportunos'!$X$41=4,AD242,IF('Simulador Pagos Oportunos'!$X$41=1,AE242,IF('Simulador Pagos Oportunos'!$X$41=2,AF242,IF('Simulador Pagos Oportunos'!$X$41=3,AG242,AC242)))))","v":""},{"$f":"IF(AO242<=0,0,IF('Simulador Pagos Oportunos'!$Y$71=1,0,AO242*'Simulador Pagos Oportunos'!$Y$74))+IF(AO242<=0,0,IF('Simulador Pagos Oportunos'!$X$41=4,'Simulador Pagos Oportunos'!$I$55,IF('Simulador Pagos Oportunos'!$X$41=1,'Simulador Pagos Oportunos'!$K$55,IF('Simulador Pagos Oportunos'!$X$41=2,'Simulador Pagos Oportunos'!$M$55,'Simulador Pagos Oportunos'!$O$55))))","v":0},null,0,0,"",0,226]
[227,0,null,{"$f":"IF(B243+F243-D242<=0,B243+F243,IF(A243=$B$9,$F$9,IF(A243=$B$10,$F$10,IF(AND('Simulador Pagos Oportunos'!$AH$45=2,L242=0),D242*(1+Z243),IF($AL$3=2,B243*AI243,D242*(1+Z243))))))","v":0},null,0,null,0,null,null,null,null,null,{"$f":"IF('Simulador Pagos Oportunos'!$V$66=1,0,L243*'Simulador Pagos Oportunos'!$O$69*'Simulador Pagos Oportunos'!$W$65)","v":0},null,{"$f":"IF(B243=0,\"\",IF('Simulador Pagos Oportunos'!$X$41=4,AD243,IF('Simulador Pagos Oportunos'!$X$41=1,AE243,IF('Simulador Pagos Oportunos'!$X$41=2,AF243,IF('Simulador Pagos Oportunos'!$X$41=3,AG243,AC243)))))","v":""},null,0,null,{"$f":"IF(B243<=0,0,B243*IF('Simulador Pagos Oportunos'!$Y$71=1,0,'Simulador Pagos Oportunos'!$Y$74))","v":0},null,{"$f":"IF(B243=0,0,IF('Simulador Pagos Oportunos'!$X$41=4,'Simulador Pagos Oportunos'!$I$55,IF('Simulador Pagos Oportunos'!$X$41=1,'Simulador Pagos Oportunos'!$K$55,IF('Simulador Pagos Oportunos'!$X$41=2,'Simulador Pagos Oportunos'!$M$55,IF('Simulador Pagos Oportunos'!$X$41=3,'Simulador Pagos Oportunos'!$O$55,0)))))","v":0},null,0,null,null,null,0,8.9999999999999969E-2,null,null,null,0.1225,0,0,18,11,0,0,0,0,0,0,0,0,{"$f":"IF(AO243=0,\"\",IF('Simulador Pagos Oportunos'!$X$41=4,AD243,IF('Simulador Pagos Oportunos'!$X$41=1,AE243,IF('Simulador Pagos Oportunos'!$X$41=2,AF243,IF('Simulador Pagos Oportunos'!$X$41=3,AG243,AC243)))))","v":""},{"$f":"IF(AO243<=0,0,IF('Simulador Pagos Oportunos'!$Y$71=1,0,AO243*'Simulador Pagos Oportunos'!$Y$74))+IF(AO243<=0,0,IF('Simulador Pagos Oportunos'!$X$41=4,'Simulador Pagos Oportunos'!$I$55,IF('Simulador Pagos Oportunos'!$X$41=1,'Simulador Pagos Oportunos'!$K$55,IF('Simulador Pagos Oportunos'!$X$41=2,'Simulador Pagos Oportunos'!$M$55,'Simulador Pagos Oportunos'!$O$55))))","v":0},null,0,0,"",0,227]
[228,0,null,{"$f":"IF(B244+F244-D243<=0,B244+F244,IF(A244=$B$9,$F$9,IF(A244=$B$10,$F$10,IF(AND('Simulador Pagos Oportunos'!$AH$45=2,L243=0),D243*(1+Z244),IF($AL$3=2,B244*AI244,D243*(1+Z244))))))","v":0},null,0,null,0,null,{"$f":"IF(B244-H244=0,0,J242)","v":0},null,null,null,{"$f":"IF('Simulador Pagos Oportunos'!$V$66=1,0,L244*'Simulador Pagos Oportunos'!$O$69*'Simulador Pagos Oportunos'!$W$65)","v":0},null,{"$f":"IF(B244=0,\"\",IF('Simulador Pagos Oportunos'!$X$41=4,AD244,IF('Simulador Pagos Oportunos'!$X$41=1,AE244,IF('Simulador Pagos Oportunos'!$X$41=2,AF244,IF('Simulador Pagos Oportunos'!$X$41=3,AG244,AC244)))))","v":""},null,0,null,{"$f":"IF(B244<=0,0,B244*IF('Simulador Pagos Oportunos'!$Y$71=1,0,'Simulador Pagos Oportunos'!$Y$74))","v":0},null,{"$f":"IF(B244=0,0,IF('Simulador Pagos Oportunos'!$X$41=4,'Simulador Pagos Oportunos'!$I$55,IF('Simulador Pagos Oportunos'!$X$41=1,'Simulador Pagos Oportunos'!$K$55,IF('Simulador Pagos Oportunos'!$X$41=2,'Simulador Pagos Oportunos'!$M$55,IF('Simulador Pagos Oportunos'!$X$41=3,'Simulador Pagos Oportunos'!$O$55,0)))))","v":0},null,0,null,null,null,0,8.9999999999999969E-2,null,null,null,0.1225,0,0,19,0,0,0,0,0,0,0,0,0,{"$f":"IF(AO244=0,\"\",IF('Simulador Pagos Oportunos'!$X$41=4,AD244,IF('Simulador Pagos Oportunos'!$X$41=1,AE244,IF('Simulador Pagos Oportunos'!$X$41=2,AF244,IF('Simulador Pagos Oportunos'!$X$41=3,AG244,AC244)))))","v":""},{"$f":"IF(AO244<=0,0,IF('Simulador Pagos Oportunos'!$Y$71=1,0,AO244*'Simulador Pagos Oportunos'!$Y$74))+IF(AO244<=0,0,IF('Simulador Pagos Oportunos'!$X$41=4,'Simulador Pagos Oportunos'!$I$55,IF('Simulador Pagos Oportunos'!$X$41=1,'Simulador Pagos Oportunos'!$K$55,IF('Simulador Pagos Oportunos'!$X$41=2,'Simulador Pagos Oportunos'!$M$55,'Simulador Pagos Oportunos'!$O$55))))","v":0},null,0,0,"",0,228]
[229,0,null,{"$f":"IF(B245+F245-D244<=0,B245+F245,IF(A245=$B$9,$F$9,IF(A245=$B$10,$F$10,IF(AND('Simulador Pagos Oportunos'!$AH$45=2,L244=0),D244*(1+Z245),IF($AL$3=2,B245*AI245,D244*(1+Z245))))))","v":0},null,0,null,0,null,null,null,null,null,{"$f":"IF('Simulador Pagos Oportunos'!$V$66=1,0,L245*'Simulador Pagos Oportunos'!$O$69*'Simulador Pagos Oportunos'!$W$65)","v":0},null,{"$f":"IF(B245=0,\"\",IF('Simulador Pagos Oportunos'!$X$41=4,AD245,IF('Simulador Pagos Oportunos'!$X$41=1,AE245,IF('Simulador Pagos Oportunos'!$X$41=2,AF245,IF('Simulador Pagos Oportunos'!$X$41=3,AG245,AC245)))))","v":""},null,0,null,{"$f":"IF(B245<=0,0,B245*IF('Simulador Pagos Oportunos'!$Y$71=1,0,'Simulador Pagos Oportunos'!$Y$74))","v":0},null,{"$f":"IF(B245=0,0,IF('Simulador Pagos Oportunos'!$X$41=4,'Simulador Pagos Oportunos'!$I$55,IF('Simulador Pagos Oportunos'!$X$41=1,'Simulador Pagos Oportunos'!$K$55,IF('Simulador Pagos Oportunos'!$X$41=2,'Simulador Pagos Oportunos'!$M$55,IF('Simulador Pagos Oportunos'!$X$41=3,'Simulador Pagos Oportunos'!$O$55,0)))))","v":0},null,0,null,{"$f":"IF(B245<=0,0,'Simulador Pagos Oportunos'!$AI$54)","v":0},null,0,{"$f":"IF(AC244=$AC$5,AC244,IF(AC244-0.25%<=$AC$5,$AC$5,AC244-0.25%))","v":8.7499999999999967E-2},null,null,null,0.1225,0,0,19,1,0,0,0,0,0,0,0,0,{"$f":"IF(AO245=0,\"\",IF('Simulador Pagos Oportunos'!$X$41=4,AD245,IF('Simulador Pagos Oportunos'!$X$41=1,AE245,IF('Simulador Pagos Oportunos'!$X$41=2,AF245,IF('Simulador Pagos Oportunos'!$X$41=3,AG245,AC245)))))","v":""},{"$f":"IF(AO245<=0,0,IF('Simulador Pagos Oportunos'!$Y$71=1,0,AO245*'Simulador Pagos Oportunos'!$Y$74))+IF(AO245<=0,0,IF('Simulador Pagos Oportunos'!$X$41=4,'Simulador Pagos Oportunos'!$I$55,IF('Simulador Pagos Oportunos'!$X$41=1,'Simulador Pagos Oportunos'!$K$55,IF('Simulador Pagos Oportunos'!$X$41=2,'Simulador Pagos Oportunos'!$M$55,'Simulador Pagos Oportunos'!$O$55))))","v":0},{"$f":"IF(AO245<=0,0,$AV$29)","v":0},0,0,"",0,229]
[230,0,null,{"$f":"IF(B246+F246-D245<=0,B246+F246,IF(A246=$B$9,$F$9,IF(A246=$B$10,$F$10,IF(AND('Simulador Pagos Oportunos'!$AH$45=2,L245=0),D245*(1+Z246),IF($AL$3=2,B246*AI246,D245*(1+Z246))))))","v":0},null,0,null,0,null,{"$f":"IF(B246-H246=0,0,J244*(1+(3%)))","v":0},null,null,null,{"$f":"IF('Simulador Pagos Oportunos'!$V$66=1,0,L246*'Simulador Pagos Oportunos'!$O$69*'Simulador Pagos Oportunos'!$W$65)","v":0},null,{"$f":"IF(B246=0,\"\",IF('Simulador Pagos Oportunos'!$X$41=4,AD246,IF('Simulador Pagos Oportunos'!$X$41=1,AE246,IF('Simulador Pagos Oportunos'!$X$41=2,AF246,IF('Simulador Pagos Oportunos'!$X$41=3,AG246,AC246)))))","v":""},null,0,null,{"$f":"IF(B246<=0,0,B246*IF('Simulador Pagos Oportunos'!$Y$71=1,0,'Simulador Pagos Oportunos'!$Y$74))","v":0},null,{"$f":"IF(B246=0,0,IF('Simulador Pagos Oportunos'!$X$41=4,'Simulador Pagos Oportunos'!$I$55,IF('Simulador Pagos Oportunos'!$X$41=1,'Simulador Pagos Oportunos'!$K$55,IF('Simulador Pagos Oportunos'!$X$41=2,'Simulador Pagos Oportunos'!$M$55,IF('Simulador Pagos Oportunos'!$X$41=3,'Simulador Pagos Oportunos'!$O$55,0)))))","v":0},null,0,null,null,null,0,{"$f":"AC245","v":8.7499999999999967E-2},null,null,null,0.1225,0,0,19,2,0,0,0,0,0,0,0,0,{"$f":"IF(AO246=0,\"\",IF('Simulador Pagos Oportunos'!$X$41=4,AD246,IF('Simulador Pagos Oportunos'!$X$41=1,AE246,IF('Simulador Pagos Oportunos'!$X$41=2,AF246,IF('Simulador Pagos Oportunos'!$X$41=3,AG246,AC246)))))","v":""},{"$f":"IF(AO246<=0,0,IF('Simulador Pagos Oportunos'!$Y$71=1,0,AO246*'Simulador Pagos Oportunos'!$Y$74))+IF(AO246<=0,0,IF('Simulador Pagos Oportunos'!$X$41=4,'Simulador Pagos Oportunos'!$I$55,IF('Simulador Pagos Oportunos'!$X$41=1,'Simulador Pagos Oportunos'!$K$55,IF('Simulador Pagos Oportunos'!$X$41=2,'Simulador Pagos Oportunos'!$M$55,'Simulador Pagos Oportunos'!$O$55))))","v":0},null,0,0,"",0,230]
[231,0,null,{"$f":"IF(B247+F247-D246<=0,B247+F247,IF(A247=$B$9,$F$9,IF(A247=$B$10,$F$10,IF(AND('Simulador Pagos Oportunos'!$AH$45=2,L246=0),D246*(1+Z247),IF($AL$3=2,B247*AI247,D246*(1+Z247))))))","v":0},null,0,null,0,null,null,null,null,null,{"$f":"IF('Simulador Pagos Oportunos'!$V$66=1,0,L247*'Simulador Pagos Oportunos'!$O$69*'Simulador Pagos Oportunos'!$W$65)","v":0},null,{"$f":"IF(B247=0,\"\",IF('Simulador Pagos Oportunos'!$X$41=4,AD247,IF('Simulador Pagos Oportunos'!$X$41=1,AE247,IF('Simulador Pagos Oportunos'!$X$41=2,AF247,IF('Simulador Pagos Oportunos'!$X$41=3,AG247,AC247)))))","v":""},null,0,null,{"$f":"IF(B247<=0,0,B247*IF('Simulador Pagos Oportunos'!$Y$71=1,0,'Simulador Pagos Oportunos'!$Y$74))","v":0},null,{"$f":"IF(B247=0,0,IF('Simulador Pagos Oportunos'!$X$41=4,'Simulador Pagos Oportunos'!$I$55,IF('Simulador Pagos Oportunos'!$X$41=1,'Simulador Pagos Oportunos'!$K$55,IF('Simulador Pagos Oportunos'!$X$41=2,'Simulador Pagos Oportunos'!$M$55,IF('Simulador Pagos Oportunos'!$X$41=3,'Simulador Pagos Oportunos'!$O$55,0)))))","v":0},null,0,null,null,null,0,{"$f":"AC246","v":8.7499999999999967E-2},null,null,null,0.1225,0,0,19,3,0,0,0,0,0,0,0,0,{"$f":"IF(AO247=0,\"\",IF('Simulador Pagos Oportunos'!$X$41=4,AD247,IF('Simulador Pagos Oportunos'!$X$41=1,AE247,IF('Simulador Pagos Oportunos'!$X$41=2,AF247,IF('Simulador Pagos Oportunos'!$X$41=3,AG247,AC247)))))","v":""},{"$f":"IF(AO247<=0,0,IF('Simulador Pagos Oportunos'!$Y$71=1,0,AO247*'Simulador Pagos Oportunos'!$Y$74))+IF(AO247<=0,0,IF('Simulador Pagos Oportunos'!$X$41=4,'Simulador Pagos Oportunos'!$I$55,IF('Simulador Pagos Oportunos'!$X$41=1,'Simulador Pagos Oportunos'!$K$55,IF('Simulador Pagos Oportunos'!$X$41=2,'Simulador Pagos Oportunos'!$M$55,'Simulador Pagos Oportunos'!$O$55))))","v":0},null,0,0,"",0,231]
[232,0,null,{"$f":"IF(B248+F248-D247<=0,B248+F248,IF(A248=$B$9,$F$9,IF(A248=$B$10,$F$10,IF(AND('Simulador Pagos Oportunos'!$AH$45=2,L247=0),D247*(1+Z248),IF($AL$3=2,B248*AI248,D247*(1+Z248))))))","v":0},null,0,null,0,null,{"$f":"IF(B248-H248=0,0,J246)","v":0},null,null,null,{"$f":"IF('Simulador Pagos Oportunos'!$V$66=1,0,L248*'Simulador Pagos Oportunos'!$O$69*'Simulador Pagos Oportunos'!$W$65)","v":0},null,{"$f":"IF(B248=0,\"\",IF('Simulador Pagos Oportunos'!$X$41=4,AD248,IF('Simulador Pagos Oportunos'!$X$41=1,AE248,IF('Simulador Pagos Oportunos'!$X$41=2,AF248,IF('Simulador Pagos Oportunos'!$X$41=3,AG248,AC248)))))","v":""},null,0,null,{"$f":"IF(B248<=0,0,B248*IF('Simulador Pagos Oportunos'!$Y$71=1,0,'Simulador Pagos Oportunos'!$Y$74))","v":0},null,{"$f":"IF(B248=0,0,IF('Simulador Pagos Oportunos'!$X$41=4,'Simulador Pagos Oportunos'!$I$55,IF('Simulador Pagos Oportunos'!$X$41=1,'Simulador Pagos Oportunos'!$K$55,IF('Simulador Pagos Oportunos'!$X$41=2,'Simulador Pagos Oportunos'!$M$55,IF('Simulador Pagos Oportunos'!$X$41=3,'Simulador Pagos Oportunos'!$O$55,0)))))","v":0},null,0,null,null,null,0,8.7499999999999967E-2,null,null,null,0.1225,0,0,19,4,0,0,0,0,0,0,0,0,{"$f":"IF(AO248=0,\"\",IF('Simulador Pagos Oportunos'!$X$41=4,AD248,IF('Simulador Pagos Oportunos'!$X$41=1,AE248,IF('Simulador Pagos Oportunos'!$X$41=2,AF248,IF('Simulador Pagos Oportunos'!$X$41=3,AG248,AC248)))))","v":""},{"$f":"IF(AO248<=0,0,IF('Simulador Pagos Oportunos'!$Y$71=1,0,AO248*'Simulador Pagos Oportunos'!$Y$74))+IF(AO248<=0,0,IF('Simulador Pagos Oportunos'!$X$41=4,'Simulador Pagos Oportunos'!$I$55,IF('Simulador Pagos Oportunos'!$X$41=1,'Simulador Pagos Oportunos'!$K$55,IF('Simulador Pagos Oportunos'!$X$41=2,'Simulador Pagos Oportunos'!$M$55,'Simulador Pagos Oportunos'!$O$55))))","v":0},null,0,0,"",0,232]
[233,0,null,{"$f":"IF(B249+F249-D248<=0,B249+F249,IF(A249=$B$9,$F$9,IF(A249=$B$10,$F$10,IF(AND('Simulador Pagos Oportunos'!$AH$45=2,L248=0),D248*(1+Z249),IF($AL$3=2,B249*AI249,D248*(1+Z249))))))","v":0},null,0,null,0,null,null,null,null,null,{"$f":"IF('Simulador Pagos Oportunos'!$V$66=1,0,L249*'Simulador Pagos Oportunos'!$O$69*'Simulador Pagos Oportunos'!$W$65)","v":0},null,{"$f":"IF(B249=0,\"\",IF('Simulador Pagos Oportunos'!$X$41=4,AD249,IF('Simulador Pagos Oportunos'!$X$41=1,AE249,IF('Simulador Pagos Oportunos'!$X$41=2,AF249,IF('Simulador Pagos Oportunos'!$X$41=3,AG249,AC249)))))","v":""},null,0,null,{"$f":"IF(B249<=0,0,B249*IF('Simulador Pagos Oportunos'!$Y$71=1,0,'Simulador Pagos Oportunos'!$Y$74))","v":0},null,{"$f":"IF(B249=0,0,IF('Simulador Pagos Oportunos'!$X$41=4,'Simulador Pagos Oportunos'!$I$55,IF('Simulador Pagos Oportunos'!$X$41=1,'Simulador Pagos Oportunos'!$K$55,IF('Simulador Pagos Oportunos'!$X$41=2,'Simulador Pagos Oportunos'!$M$55,IF('Simulador Pagos Oportunos'!$X$41=3,'Simulador Pagos Oportunos'!$O$55,0)))))","v":0},null,0,null,null,null,0,8.7499999999999967E-2,null,null,null,0.1225,0,0,19,5,0,0,0,0,0,0,0,0,{"$f":"IF(AO249=0,\"\",IF('Simulador Pagos Oportunos'!$X$41=4,AD249,IF('Simulador Pagos Oportunos'!$X$41=1,AE249,IF('Simulador Pagos Oportunos'!$X$41=2,AF249,IF('Simulador Pagos Oportunos'!$X$41=3,AG249,AC249)))))","v":""},{"$f":"IF(AO249<=0,0,IF('Simulador Pagos Oportunos'!$Y$71=1,0,AO249*'Simulador Pagos Oportunos'!$Y$74))+IF(AO249<=0,0,IF('Simulador Pagos Oportunos'!$X$41=4,'Simulador Pagos Oportunos'!$I$55,IF('Simulador Pagos Oportunos'!$X$41=1,'Simulador Pagos Oportunos'!$K$55,IF('Simulador Pagos Oportunos'!$X$41=2,'Simulador Pagos Oportunos'!$M$55,'Simulador Pagos Oportunos'!$O$55))))","v":0},null,0,0,"",0,233]
[234,0,null,{"$f":"IF(B250+F250-D249<=0,B250+F250,IF(A250=$B$9,$F$9,IF(A250=$B$10,$F$10,IF(AND('Simulador Pagos Oportunos'!$AH$45=2,L249=0),D249*(1+Z250),IF($AL$3=2,B250*AI250,D249*(1+Z250))))))","v":0},null,0,null,0,null,{"$f":"IF(B250-H250=0,0,J248)","v":0},null,null,null,{"$f":"IF('Simulador Pagos Oportunos'!$V$66=1,0,L250*'Simulador Pagos Oportunos'!$O$69*'Simulador Pagos Oportunos'!$W$65)","v":0},null,{"$f":"IF(B250=0,\"\",IF('Simulador Pagos Oportunos'!$X$41=4,AD250,IF('Simulador Pagos Oportunos'!$X$41=1,AE250,IF('Simulador Pagos Oportunos'!$X$41=2,AF250,IF('Simulador Pagos Oportunos'!$X$41=3,AG250,AC250)))))","v":""},null,0,null,{"$f":"IF(B250<=0,0,B250*IF('Simulador Pagos Oportunos'!$Y$71=1,0,'Simulador Pagos Oportunos'!$Y$74))","v":0},null,{"$f":"IF(B250=0,0,IF('Simulador Pagos Oportunos'!$X$41=4,'Simulador Pagos Oportunos'!$I$55,IF('Simulador Pagos Oportunos'!$X$41=1,'Simulador Pagos Oportunos'!$K$55,IF('Simulador Pagos Oportunos'!$X$41=2,'Simulador Pagos Oportunos'!$M$55,IF('Simulador Pagos Oportunos'!$X$41=3,'Simulador Pagos Oportunos'!$O$55,0)))))","v":0},null,0,null,null,null,0,8.7499999999999967E-2,null,null,null,0.1225,0,0,19,6,0,0,0,0,0,0,0,0,{"$f":"IF(AO250=0,\"\",IF('Simulador Pagos Oportunos'!$X$41=4,AD250,IF('Simulador Pagos Oportunos'!$X$41=1,AE250,IF('Simulador Pagos Oportunos'!$X$41=2,AF250,IF('Simulador Pagos Oportunos'!$X$41=3,AG250,AC250)))))","v":""},{"$f":"IF(AO250<=0,0,IF('Simulador Pagos Oportunos'!$Y$71=1,0,AO250*'Simulador Pagos Oportunos'!$Y$74))+IF(AO250<=0,0,IF('Simulador Pagos Oportunos'!$X$41=4,'Simulador Pagos Oportunos'!$I$55,IF('Simulador Pagos Oportunos'!$X$41=1,'Simulador Pagos Oportunos'!$K$55,IF('Simulador Pagos Oportunos'!$X$41=2,'Simulador Pagos Oportunos'!$M$55,'Simulador Pagos Oportunos'!$O$55))))","v":0},null,0,0,"",0,234]
[235,0,null,{"$f":"IF(B251+F251-D250<=0,B251+F251,IF(A251=$B$9,$F$9,IF(A251=$B$10,$F$10,IF(AND('Simulador Pagos Oportunos'!$AH$45=2,L250=0),D250*(1+Z251),IF($AL$3=2,B251*AI251,D250*(1+Z251))))))","v":0},null,0,null,0,null,null,null,null,null,{"$f":"IF('Simulador Pagos Oportunos'!$V$66=1,0,L251*'Simulador Pagos Oportunos'!$O$69*'Simulador Pagos Oportunos'!$W$65)","v":0},null,{"$f":"IF(B251=0,\"\",IF('Simulador Pagos Oportunos'!$X$41=4,AD251,IF('Simulador Pagos Oportunos'!$X$41=1,AE251,IF('Simulador Pagos Oportunos'!$X$41=2,AF251,IF('Simulador Pagos Oportunos'!$X$41=3,AG251,AC251)))))","v":""},null,0,null,{"$f":"IF(B251<=0,0,B251*IF('Simulador Pagos Oportunos'!$Y$71=1,0,'Simulador Pagos Oportunos'!$Y$74))","v":0},null,{"$f":"IF(B251=0,0,IF('Simulador Pagos Oportunos'!$X$41=4,'Simulador Pagos Oportunos'!$I$55,IF('Simulador Pagos Oportunos'!$X$41=1,'Simulador Pagos Oportunos'!$K$55,IF('Simulador Pagos Oportunos'!$X$41=2,'Simulador Pagos Oportunos'!$M$55,IF('Simulador Pagos Oportunos'!$X$41=3,'Simulador Pagos Oportunos'!$O$55,0)))))","v":0},null,0,null,null,null,0,8.7499999999999967E-2,null,null,null,0.1225,0,0,19,7,0,0,0,0,0,0,0,0,{"$f":"IF(AO251=0,\"\",IF('Simulador Pagos Oportunos'!$X$41=4,AD251,IF('Simulador Pagos Oportunos'!$X$41=1,AE251,IF('Simulador Pagos Oportunos'!$X$41=2,AF251,IF('Simulador Pagos Oportunos'!$X$41=3,AG251,AC251)))))","v":""},{"$f":"IF(AO251<=0,0,IF('Simulador Pagos Oportunos'!$Y$71=1,0,AO251*'Simulador Pagos Oportunos'!$Y$74))+IF(AO251<=0,0,IF('Simulador Pagos Oportunos'!$X$41=4,'Simulador Pagos Oportunos'!$I$55,IF('Simulador Pagos Oportunos'!$X$41=1,'Simulador Pagos Oportunos'!$K$55,IF('Simulador Pagos Oportunos'!$X$41=2,'Simulador Pagos Oportunos'!$M$55,'Simulador Pagos Oportunos'!$O$55))))","v":0},null,0,0,"",0,235]
[236,0,null,{"$f":"IF(B252+F252-D251<=0,B252+F252,IF(A252=$B$9,$F$9,IF(A252=$B$10,$F$10,IF(AND('Simulador Pagos Oportunos'!$AH$45=2,L251=0),D251*(1+Z252),IF($AL$3=2,B252*AI252,D251*(1+Z252))))))","v":0},null,0,null,0,null,{"$f":"IF(B252-H252=0,0,J250)","v":0},null,null,null,{"$f":"IF('Simulador Pagos Oportunos'!$V$66=1,0,L252*'Simulador Pagos Oportunos'!$O$69*'Simulador Pagos Oportunos'!$W$65)","v":0},null,{"$f":"IF(B252=0,\"\",IF('Simulador Pagos Oportunos'!$X$41=4,AD252,IF('Simulador Pagos Oportunos'!$X$41=1,AE252,IF('Simulador Pagos Oportunos'!$X$41=2,AF252,IF('Simulador Pagos Oportunos'!$X$41=3,AG252,AC252)))))","v":""},null,0,null,{"$f":"IF(B252<=0,0,B252*IF('Simulador Pagos Oportunos'!$Y$71=1,0,'Simulador Pagos Oportunos'!$Y$74))","v":0},null,{"$f":"IF(B252=0,0,IF('Simulador Pagos Oportunos'!$X$41=4,'Simulador Pagos Oportunos'!$I$55,IF('Simulador Pagos Oportunos'!$X$41=1,'Simulador Pagos Oportunos'!$K$55,IF('Simulador Pagos Oportunos'!$X$41=2,'Simulador Pagos Oportunos'!$M$55,IF('Simulador Pagos Oportunos'!$X$41=3,'Simulador Pagos Oportunos'!$O$55,0)))))","v":0},null,0,null,null,null,0,8.7499999999999967E-2,null,null,null,0.1225,0,0,19,8,0,0,0,0,0,0,0,0,{"$f":"IF(AO252=0,\"\",IF('Simulador Pagos Oportunos'!$X$41=4,AD252,IF('Simulador Pagos Oportunos'!$X$41=1,AE252,IF('Simulador Pagos Oportunos'!$X$41=2,AF252,IF('Simulador Pagos Oportunos'!$X$41=3,AG252,AC252)))))","v":""},{"$f":"IF(AO252<=0,0,IF('Simulador Pagos Oportunos'!$Y$71=1,0,AO252*'Simulador Pagos Oportunos'!$Y$74))+IF(AO252<=0,0,IF('Simulador Pagos Oportunos'!$X$41=4,'Simulador Pagos Oportunos'!$I$55,IF('Simulador Pagos Oportunos'!$X$41=1,'Simulador Pagos Oportunos'!$K$55,IF('Simulador Pagos Oportunos'!$X$41=2,'Simulador Pagos Oportunos'!$M$55,'Simulador Pagos Oportunos'!$O$55))))","v":0},null,0,0,"",0,236]
[237,0,null,{"$f":"IF(B253+F253-D252<=0,B253+F253,IF(A253=$B$9,$F$9,IF(A253=$B$10,$F$10,IF(AND('Simulador Pagos Oportunos'!$AH$45=2,L252=0),D252*(1+Z253),IF($AL$3=2,B253*AI253,D252*(1+Z253))))))","v":0},null,0,null,0,null,null,null,null,null,{"$f":"IF('Simulador Pagos Oportunos'!$V$66=1,0,L253*'Simulador Pagos Oportunos'!$O$69*'Simulador Pagos Oportunos'!$W$65)","v":0},null,{"$f":"IF(B253=0,\"\",IF('Simulador Pagos Oportunos'!$X$41=4,AD253,IF('Simulador Pagos Oportunos'!$X$41=1,AE253,IF('Simulador Pagos Oportunos'!$X$41=2,AF253,IF('Simulador Pagos Oportunos'!$X$41=3,AG253,AC253)))))","v":""},null,0,null,{"$f":"IF(B253<=0,0,B253*IF('Simulador Pagos Oportunos'!$Y$71=1,0,'Simulador Pagos Oportunos'!$Y$74))","v":0},null,{"$f":"IF(B253=0,0,IF('Simulador Pagos Oportunos'!$X$41=4,'Simulador Pagos Oportunos'!$I$55,IF('Simulador Pagos Oportunos'!$X$41=1,'Simulador Pagos Oportunos'!$K$55,IF('Simulador Pagos Oportunos'!$X$41=2,'Simulador Pagos Oportunos'!$M$55,IF('Simulador Pagos Oportunos'!$X$41=3,'Simulador Pagos Oportunos'!$O$55,0)))))","v":0},null,0,null,null,null,0,8.7499999999999967E-2,null,null,null,0.1225,0,0,19,9,0,0,0,0,0,0,0,0,{"$f":"IF(AO253=0,\"\",IF('Simulador Pagos Oportunos'!$X$41=4,AD253,IF('Simulador Pagos Oportunos'!$X$41=1,AE253,IF('Simulador Pagos Oportunos'!$X$41=2,AF253,IF('Simulador Pagos Oportunos'!$X$41=3,AG253,AC253)))))","v":""},{"$f":"IF(AO253<=0,0,IF('Simulador Pagos Oportunos'!$Y$71=1,0,AO253*'Simulador Pagos Oportunos'!$Y$74))+IF(AO253<=0,0,IF('Simulador Pagos Oportunos'!$X$41=4,'Simulador Pagos Oportunos'!$I$55,IF('Simulador Pagos Oportunos'!$X$41=1,'Simulador Pagos Oportunos'!$K$55,IF('Simulador Pagos Oportunos'!$X$41=2,'Simulador Pagos Oportunos'!$M$55,'Simulador Pagos Oportunos'!$O$55))))","v":0},null,0,0,"",0,237]
[238,0,null,{"$f":"IF(B254+F254-D253<=0,B254+F254,IF(A254=$B$9,$F$9,IF(A254=$B$10,$F$10,IF(AND('Simulador Pagos Oportunos'!$AH$45=2,L253=0),D253*(1+Z254),IF($AL$3=2,B254*AI254,D253*(1+Z254))))))","v":0},null,0,null,0,null,{"$f":"IF(B254-H254=0,0,J252)","v":0},null,null,null,{"$f":"IF('Simulador Pagos Oportunos'!$V$66=1,0,L254*'Simulador Pagos Oportunos'!$O$69*'Simulador Pagos Oportunos'!$W$65)","v":0},null,{"$f":"IF(B254=0,\"\",IF('Simulador Pagos Oportunos'!$X$41=4,AD254,IF('Simulador Pagos Oportunos'!$X$41=1,AE254,IF('Simulador Pagos Oportunos'!$X$41=2,AF254,IF('Simulador Pagos Oportunos'!$X$41=3,AG254,AC254)))))","v":""},null,0,null,{"$f":"IF(B254<=0,0,B254*IF('Simulador Pagos Oportunos'!$Y$71=1,0,'Simulador Pagos Oportunos'!$Y$74))","v":0},null,{"$f":"IF(B254=0,0,IF('Simulador Pagos Oportunos'!$X$41=4,'Simulador Pagos Oportunos'!$I$55,IF('Simulador Pagos Oportunos'!$X$41=1,'Simulador Pagos Oportunos'!$K$55,IF('Simulador Pagos Oportunos'!$X$41=2,'Simulador Pagos Oportunos'!$M$55,IF('Simulador Pagos Oportunos'!$X$41=3,'Simulador Pagos Oportunos'!$O$55,0)))))","v":0},null,0,null,null,null,0,8.7499999999999967E-2,null,null,null,0.1225,0,0,19,10,0,0,0,0,0,0,0,0,{"$f":"IF(AO254=0,\"\",IF('Simulador Pagos Oportunos'!$X$41=4,AD254,IF('Simulador Pagos Oportunos'!$X$41=1,AE254,IF('Simulador Pagos Oportunos'!$X$41=2,AF254,IF('Simulador Pagos Oportunos'!$X$41=3,AG254,AC254)))))","v":""},{"$f":"IF(AO254<=0,0,IF('Simulador Pagos Oportunos'!$Y$71=1,0,AO254*'Simulador Pagos Oportunos'!$Y$74))+IF(AO254<=0,0,IF('Simulador Pagos Oportunos'!$X$41=4,'Simulador Pagos Oportunos'!$I$55,IF('Simulador Pagos Oportunos'!$X$41=1,'Simulador Pagos Oportunos'!$K$55,IF('Simulador Pagos Oportunos'!$X$41=2,'Simulador Pagos Oportunos'!$M$55,'Simulador Pagos Oportunos'!$O$55))))","v":0},null,0,0,"",0,238]
[239,0,null,{"$f":"IF(B255+F255-D254<=0,B255+F255,IF(A255=$B$9,$F$9,IF(A255=$B$10,$F$10,IF(AND('Simulador Pagos Oportunos'!$AH$45=2,L254=0),D254*(1+Z255),IF($AL$3=2,B255*AI255,D254*(1+Z255))))))","v":0},null,0,null,0,null,null,null,null,null,{"$f":"IF('Simulador Pagos Oportunos'!$V$66=1,0,L255*'Simulador Pagos Oportunos'!$O$69*'Simulador Pagos Oportunos'!$W$65)","v":0},null,{"$f":"IF(B255=0,\"\",IF('Simulador Pagos Oportunos'!$X$41=4,AD255,IF('Simulador Pagos Oportunos'!$X$41=1,AE255,IF('Simulador Pagos Oportunos'!$X$41=2,AF255,IF('Simulador Pagos Oportunos'!$X$41=3,AG255,AC255)))))","v":""},null,0,null,{"$f":"IF(B255<=0,0,B255*IF('Simulador Pagos Oportunos'!$Y$71=1,0,'Simulador Pagos Oportunos'!$Y$74))","v":0},null,{"$f":"IF(B255=0,0,IF('Simulador Pagos Oportunos'!$X$41=4,'Simulador Pagos Oportunos'!$I$55,IF('Simulador Pagos Oportunos'!$X$41=1,'Simulador Pagos Oportunos'!$K$55,IF('Simulador Pagos Oportunos'!$X$41=2,'Simulador Pagos Oportunos'!$M$55,IF('Simulador Pagos Oportunos'!$X$41=3,'Simulador Pagos Oportunos'!$O$55,0)))))","v":0},null,0,null,null,null,0,8.7499999999999967E-2,null,null,null,0.1225,0,0,19,11,0,0,0,0,0,0,0,0,{"$f":"IF(AO255=0,\"\",IF('Simulador Pagos Oportunos'!$X$41=4,AD255,IF('Simulador Pagos Oportunos'!$X$41=1,AE255,IF('Simulador Pagos Oportunos'!$X$41=2,AF255,IF('Simulador Pagos Oportunos'!$X$41=3,AG255,AC255)))))","v":""},{"$f":"IF(AO255<=0,0,IF('Simulador Pagos Oportunos'!$Y$71=1,0,AO255*'Simulador Pagos Oportunos'!$Y$74))+IF(AO255<=0,0,IF('Simulador Pagos Oportunos'!$X$41=4,'Simulador Pagos Oportunos'!$I$55,IF('Simulador Pagos Oportunos'!$X$41=1,'Simulador Pagos Oportunos'!$K$55,IF('Simulador Pagos Oportunos'!$X$41=2,'Simulador Pagos Oportunos'!$M$55,'Simulador Pagos Oportunos'!$O$55))))","v":0},null,0,0,"",0,239]
[240,0,null,{"$f":"IF(B256+F256-D255<=0,B256+F256,IF(A256=$B$9,$F$9,IF(A256=$B$10,$F$10,IF(AND('Simulador Pagos Oportunos'!$AH$45=2,L255=0),D255*(1+Z256),IF($AL$3=2,B256*AI256,D255*(1+Z256))))))","v":0},null,0,null,0,null,{"$f":"IF(B256-H256=0,0,J254)","v":0},null,null,null,{"$f":"IF('Simulador Pagos Oportunos'!$V$66=1,0,L256*'Simulador Pagos Oportunos'!$O$69*'Simulador Pagos Oportunos'!$W$65)","v":0},null,{"$f":"IF(B256=0,\"\",IF('Simulador Pagos Oportunos'!$X$41=4,AD256,IF('Simulador Pagos Oportunos'!$X$41=1,AE256,IF('Simulador Pagos Oportunos'!$X$41=2,AF256,IF('Simulador Pagos Oportunos'!$X$41=3,AG256,AC256)))))","v":""},null,0,null,{"$f":"IF(B256<=0,0,B256*IF('Simulador Pagos Oportunos'!$Y$71=1,0,'Simulador Pagos Oportunos'!$Y$74))","v":0},null,{"$f":"IF(B256=0,0,IF('Simulador Pagos Oportunos'!$X$41=4,'Simulador Pagos Oportunos'!$I$55,IF('Simulador Pagos Oportunos'!$X$41=1,'Simulador Pagos Oportunos'!$K$55,IF('Simulador Pagos Oportunos'!$X$41=2,'Simulador Pagos Oportunos'!$M$55,IF('Simulador Pagos Oportunos'!$X$41=3,'Simulador Pagos Oportunos'!$O$55,0)))))","v":0},null,0,null,null,null,0,8.7499999999999967E-2,null,null,null,0.1225,0,0,20,0,0,0,0,0,0,0,0,0,{"$f":"IF(AO256=0,\"\",IF('Simulador Pagos Oportunos'!$X$41=4,AD256,IF('Simulador Pagos Oportunos'!$X$41=1,AE256,IF('Simulador Pagos Oportunos'!$X$41=2,AF256,IF('Simulador Pagos Oportunos'!$X$41=3,AG256,AC256)))))","v":""},{"$f":"IF(AO256<=0,0,IF('Simulador Pagos Oportunos'!$Y$71=1,0,AO256*'Simulador Pagos Oportunos'!$Y$74))+IF(AO256<=0,0,IF('Simulador Pagos Oportunos'!$X$41=4,'Simulador Pagos Oportunos'!$I$55,IF('Simulador Pagos Oportunos'!$X$41=1,'Simulador Pagos Oportunos'!$K$55,IF('Simulador Pagos Oportunos'!$X$41=2,'Simulador Pagos Oportunos'!$M$55,'Simulador Pagos Oportunos'!$O$55))))","v":0},null,0,0,"",0,240]
[null,null,null,"Erogación \n(a+b)",null,"Interés \n(a)",null,"Amortización (b)",null,null,null,"Prepagos a capital (c)",null,null,null,null,null,null,null,"Seguro de \nvida y desempleo (d)",null,"Seguro de daños \n(e)",null,"Pago Mensual (a+b+c+d+e)"]
[null,null,null,{"$f":"SUM(D17:D256)","v":0},null,{"$f":"SUM(F17:F256)","v":0},null,{"$f":"SUM(H17:H256)","v":0},null,null,null,{"$f":"SUM(L17:L256)","v":0},null,null,null,null,null,null,null,{"$f":"SUM(T17:T256)","v":0},null,{"$f":"SUM(V17:V256)","v":0},null,{"$f":"SUM(X17:X256)","v":0}]
[]
[null,null,null,null,null,null,null,null,null,null,null,null,null,null,null,null,null,null,null,null,null,null,null,{"$f":"SUM(X17:X257)","v":0}]

{"sheet":"Carat_Pre_PO","index":7,"n_rows":44,"n_cols":4,"rows_kept":44,"cut":false,"hidden":false,"merged":[[41,0,41,3],[42,0,42,3],[43,0,43,3],[35,0,35,3],[36,0,36,3],[37,0,37,3],[38,0,38,3],[39,0,39,3],[40,0,40,3],[19,2,19,3],[26,0,26,3],[17,1,17,3],[18,0,18,3],[19,0,19,1],[20,0,20,1],[20,2,20,3],[33,0,33,3],[34,0,34,3],[21,0,21,3],[22,0,22,3],[23,0,23,3],[24,0,24,3],[25,0,25,3],[30,2,32,3],[1,0,1,3],[6,1,6,3],[7,0,7,3],[8,0,8,3],[16,1,16,3],[11,1,14,1]]}
[]
["Carátula de Crédito "]
[null,null,null,"Nombre del Acreditado y/o Coacreditado:"]
[null,null,null,{"$f":"IF('Simulador Pagos Oportunos'!C13=\"\",\"\",'Simulador Pagos Oportunos'!C13)","v":""}]
[null,null,null,"Número de Crédito:"]
[]
["Nombre comercial del producto: ",{"$f":"\"PREVENTA PAGOS OPORTUNOS\"&\" \"&A18","v":"PREVENTA PAGOS OPORTUNOS 20 Años"}]
[]
["Tipo de Crédito: Crédito Hipotecario "]
["CAT","TASA DE INTERES","MONTO O LINEA DE","MONTO TOTAL A PAGAR O"]
["(Costo Anual Total)","ANUAL ORDINARIA","CRÉDITO","MINIMO A PAGAR"]
[{"$f":"'Tabla Pagos Oportunos'!$P$13","v":0},{"$f":"IFERROR(IF('Simulador Pagos Oportunos'!$C$24=0,0,'Simulador Pagos Oportunos'!AC77),\"\")","v":0},{"$f":"'Simulador Pagos Oportunos'!$AC$78","v":0},{"$f":"IFERROR(SUM('Tabla Pagos Oportunos'!$X$17:$X$256),0)","v":0}]
["Sin IVA",null,null,"Moneda en"]
["Para fines",null,null,"Pesos"]
["informativos y de",null,null,"Mexicanos "]
["comparación","Tasa Fija"]
["PLAZO DEL CRÉDITO:","Fecha Límite de pago: \nSi tu fecha de corte es el día 3, tu fecha de pago es el día 3 de cada mes. \nSi tu fecha de corte es el día 17, tu fecha de pago es el día 17 de cada mes. "]
[{"$f":"'Simulador Pagos Oportunos'!$AC$76","v":"20 Años"},"Fecha de corte: \nSi tu fecha de disposición es entre el dia 3 y 16, tu fecha de corte será el día 3 de cada mes. \nSi tu fecha de disposición es entre el día 17 y 2, tu fecha de corte será el día 17 de cada mes."]
["COMISIONES RELEVANTES"]
[{"$f":"\"Apertura: \"&TEXT('Tabla Pagos Oportunos'!AJ3,\"$###,###.00\")","v":"Apertura: $.00"},null,"Cobranza: $500.00 más IVA por pago tardío "]
[{"$f":"\"Prepago: \"&IF('Simulador Pagos Oportunos'!$V$66=1,\"0% \",\"3% \")&\"más IVA sobre el monto anticipado\"","v":"Prepago: 0% más IVA sobre el monto anticipado"},null,"Para otras comisiones consulte la cláusula décimo tercera"]
["ADVERTENCIAS"]
[]
["Incumplir tus obligaciones te puede generar comisiones e intereses moratorios. "]
["Contratar créditos por arriba de tu capacidad de pago puede afectar tu historial crediticio. "]
["El avalista, obligado solidario o coacreditado responderá como obligado principal por el total del pago frente a la Institución Financiera. "]
["SEGUROS"]
["Seguros Obligatorios:","Aseguradora:","Cláusulas:"]
[]
["Vida y Desempleo","Cardif México Seguros de Vida,          S.A. de C.V.","Vigésima Cuarta"]
[null,null,"Scotiabank Inverlat le ofrece al acreditado y/o coacreditado, la posibilidad de contratar a nombre de este (os) último(s) los seguros establecidos en la cláusula vigésima cuarta. Lo anterior sin perjuicio del derecho innegable que el cliente tiene de contratarlos a través de terceros."]
["Daños y Responsabilidad Civil","Cardif México Seguros Generales, S.A. de C.V."]
[]
["ESTADO DE CUENTA"]
["Envío a Domicilio ü              Consulta vía Internet ___            Envío por Correo Electrónico ___"]
["Aclaraciones y reclamaciones:"]
["Unidad Especializada de Aclaraciones:"]
["Domicilio: Río Usumacinta S/N, esq. con Fernando Montes de Oca, Col. La Presita, Municipio de Cuautitlán Izcalli, Estado de México, C.P. 54763"]
["Teléfono: (55) 5123 0990"]
["Correo electrónico: une@scotiabank.com.mx"]
["Página de Internet: www.scotiabank.com.mx "]
[{"$f":"\"Registro de Contratos de Adhesión Núm:  \"&IF('Simulador Pagos Oportunos'!C24=0,\"\",IFERROR(VLOOKUP('Simulador Pagos Oportunos'!$AH$45&\"-2-1\",RECAS!$A$3:$D$6,4,0),\"Revisa los datos ingresados\"))","v":"Registro de Contratos de Adhesión Núm:  "}]
["Comisión Nacional para la Protección y Defensa de los Usuarios de Servicios Financieros (CONDUSEF):"]
["Teléfono: 800 999 8080 y (55) 5340 0999. Página de Internet. www.condusef.gob.mx "]

{"sheet":"RECAS","index":8,"n_rows":6,"n_cols":8,"rows_kept":6,"cut":false,"hidden":false,"merged":[[0,1,0,4]]}
[null,"RELACIÓN RECAS"]
["Clave","No.","Nombre","RECA","Fecha de expedición","Tipo Crédito","Esquema","Mancomunado"]
[{"$f":"F3&\"-\"&G3&\"-\"&H3","v":"1-2-1"},17,"Preventa Pagos Oportunos","0319-138-007476/24-00069-0124","2024-01-15",1,2,1]
[{"$f":"F4&\"-\"&G4&\"-\"&H4","v":"2-2-1"},18,"Preventa Con Apoyo Pagos Oportunos","0319-138-007477/23-00070-0124","2024-01-15",2,2,1]
[{"$f":"F5&\"-\"&G5&\"-\"&H5","v":"1-1-1"},19,"Preventa Valora","0319-138-007478/24-00071-0124","2024-01-15",1,1,1]
[{"$f":"F6&\"-\"&G6&\"-\"&H6","v":"2-1-1"},20,"Preventa Con Apoyo Valora","0319-138-007479/24-00072-0124","2024-01-15",2,1,1]