{"text_format":"1","workbook":"xlsx","n_sheets":9,"sheets":["Simulador Valora","Tabla Valora","Exclusivo SB Carta Bienvenida","Oferta Vinculante","Carat_Ren_VA","Simulador Pagos Oportunos","Tabla Pagos Oportunos","Carat_Ren_PO","RECAS"],"not_rendered":{"charts":0,"images":7,"macros":1,"external_links":0,"defined_names":12,"comments":3,"pivot_tables":0},"unopened":[],"bounds":{"document_bytes":16777216,"sheet_cells":100000,"rows_first":2000,"rows_last":500,"rows_between":2000,"halvings":0,"cell_chars":16384,"cell_head_chars":4096},"cells_cut":0,"cells_raw":0,"read":"whole","date_system":"1900"}

{"sheet":"Simulador Valora","index":0,"n_rows":101,"n_cols":68,"rows_kept":101,"cut":false,"hidden":false,"merged":[[35,39,36,40],[35,45,36,46],[35,51,36,52],[35,57,36,58],[59,4,59,5],[57,12,57,13],[59,12,59,13],[59,9,59,10],[57,4,57,5],[57,9,57,10],[51,12,51,13],[53,12,53,13],[55,12,55,13],[41,9,41,10],[47,12,47,13],[49,12,49,13],[72,4,72,5],[60,12,60,13],[73,12,73,13],[69,12,69,13],[60,4,60,5],[71,4,71,5],[67,12,67,13],[67,4,67,5],[63,9,63,10],[73,9,73,10],[67,9,67,10],[71,9,71,10],[65,9,65,10],[24,33,24,35],[60,9,60,10],[69,9,69,10],[61,9,61,10],[94,26,98,26],[91,25,93,25],[91,26,93,26],[94,25,98,25],[35,21,36,22],[41,12,41,13],[37,21,37,22],[39,4,39,14],[45,12,45,13],[45,9,45,10],[43,12,43,13],[55,4,55,5],[2,2,2,15],[3,2,3,15],[36,2,36,12],[37,2,37,12],[12,2,12,4],[4,2,4,15],[15,2,15,4],[9,2,9,4],[9,6,9,10],[12,6,12,11],[19,2,20,2],[15,6,15,11],[41,4,41,5],[43,4,43,5],[45,4,45,5],[51,4,51,5],[55,9,55,10],[51,9,51,10],[53,9,53,10],[53,4,53,5],[49,9,49,10],[43,9,43,10],[47,9,47,10],[92,30,93,31],[97,29,98,30],[99,25,101,25],[47,4,47,5],[61,4,61,5],[63,4,63,5],[65,4,65,5],[49,4,49,5],[69,4,69,5],[92,28,92,29],[93,28,93,29],[73,4,73,5],[71,12,71,13],[61,12,61,13],[63,12,63,13],[65,12,65,13]]}
[null,null,null,null,null,null,null,null,null,null,null,null,null,null,null,null,null,".",null,null,null,null,null,null,null,null,null,null,null,null,null,null,null,null,null,null,null,null,null,null,null,null,null,null,null,null,null,null,null,null,null,null,null,null,null,null,null,null,null,null,null,null,null,null,null,null,null,"."]
[]
[null,null,"SIMULADOR CREDITO HIPOTECARIO",null,null,null,null,null,null,null,null,null,null,null,null,null,null,null,null,"Base de cálculo",1,null,null,"Apoyo Infonavit",1,null,"Cálculo por ingresos",null,"Gastos Notariales"]
[null,null,"CREDIRENOVACION",null,null,null,null,null,null,null,null,null,null,null,null,null,null,null,null,"Por Valor del Inmueble",null,null,null,"No aplica para renovación",null,null,null,null,{"$f":"IF(U8=3,\"SI\",\"\")","v":""}]
[null,null,"VALORA",null,null,null,null,null,null,null,null,null,null,null,null,null,null,null,null,{"$f":"IF(U8=3,\"\",\"Por Ingresos\")","v":"Por Ingresos"},null,null,null,null,null,null,null,null,{"$f":"IF(U8=3,\"NO\",\"\")","v":""}]
[]
[null,null,{"$f":"TODAY()","v":"2025-04-10"}]
[null,null,null,null,null,null,null,null,null,null,null,null,null,null,null,null,null,null,null,"Modalidad",1,{"$f":"IF(AB18=3,U8+4,U8)","v":1},"Val. proyect.","Aforo","Aforo $","Leyenda","Cred. max otro","Cred. max renov","PTI","Erogación Inicial"]
[null,null,"Lugar",null,null,null,"Sucursal",null,null,null,null,null,null,null,null,null,null,null,1,{"$f":"IF(AB18=3,\"Ecotecnologías\",\"Renovación\")","v":"Renovación"},null,null,{"$f":"$C$28","v":0},{"$f":"IF(AB18=3,95%,80%)","v":0.8},{"$f":"W9*X9","v":0},"-",0,{"$f":"MIN(Y9,$C$29)","v":0},{"$f":"IF(AB18=3,55%,35%)","v":0.35},0.25]
[null,null,null,null,null,null,null,null,null,null,null,null,null,null,null,null,null,null,2,{"$f":"IF(AB18=3,\"Compra + Ecotecnologías\", \"Compra + Renovación\")","v":"Compra + Renovación"},null,null,{"$f":"$C$30","v":0},{"$f":"IF(AB18=3,95%,80%)","v":0.8},{"$f":"W10*X10","v":0},"Crédito solicitado para la compra",{"$f":"MIN($C$28*X10,$H$29,Y10)","v":0},{"$f":"MIN(Y10-AA10,$C$29)","v":0},{"$f":"IF(AB18=3,55%,35%)","v":0.35},0.3]
[null,null,null,null,null,null,null,null,null,null,null,null,null,null,null,null,null,null,3,{"$f":"IF(AB18=3,\"\",\"Pasivo + Renovación\")","v":"Pasivo + Renovación"},null,null,{"$f":"$C$30","v":0},0.95,{"$f":"W11*X11","v":0},"Pago de pasivo: saldo con el otro banco",{"$f":"MIN($C$28,$H$29,Y11)","v":0},{"$f":"MIN(Y11-AA11,$C$29)","v":0},0.55000000000000004,0.25]
[null,null,"Nombre del cliente / Conyuge en su caso.",null,null,null,"Ejecutivo que le atendió",null,null,null,null,null,null,null,null,null,null,null,4,{"$f":"IF(AB18=3,\"\",\"2a Hipoteca con SB\")","v":"2a Hipoteca con SB"},null,null,{"$f":"$C$30","v":0},0.8,{"$f":"W12*X12","v":0},"Saldo del crédito con SB",{"$f":"MIN(Y12,$H$29)","v":0},{"$f":"MIN(Y12-AA12,$C$29)","v":0},0.35,0.25]
[null,null,null,null,null,null,null,null,null,null,null,null,null,null,null,null,null,null,null,"Modalidad",null,null,{"$f":"VLOOKUP($U$8,$S$8:$AB$12,5,0)","v":0},{"$f":"VLOOKUP($U$8,$S$8:$AB$12,6,0)","v":0.8},{"$f":"VLOOKUP($U$8,$S$8:$AB$12,7,0)","v":0},{"$f":"VLOOKUP($U$8,$S$8:$AB$12,8,0)","v":"-"},{"$f":"VLOOKUP($U$8,$S$8:$AB$12,9,0)","v":0},{"$f":"VLOOKUP($U$8,$S$8:$AB$12,10,0)","v":0},{"$f":"VLOOKUP($U$8,$S$8:$AC$12,11,0)","v":0.35},{"$f":"VLOOKUP($U$8,$S$8:$AD$12,12,0)","v":0.25}]
[]
[null,null,"Telefonos del cliente",null,null,null,"Teléfonos del ejecutivo"]
[null,null,null,null,null,null,null,null,null,null,null,null,null,null,null,null,null,null,null,"Comisión apert",1,{"$f":"IF(U16=2,3%,\"NO APLICA\")","v":"NO APLICA"}]
[null,null,null,null,null,null,null,null,null,null,null,null,null,null,null,null,null,null,null,{"$f":"IF(U8=3,\"Comisión x apertura 0% y comisión x prepago 0%\",IF(OR(AB18=2,AB18=3,AB18=5),\"Comisión x apertura 0% y comisión x prepago 0%\",\"Comisión x apertura 1% y comisión x prepago 0%\"))","v":"Comisión x apertura 0% y comisión x prepago 0%"},null,null,null,{"$f":"IF(U45=2,\" \",\"Monto a Financiar\")","v":"Monto a Financiar"},{"$f":"IF($W$40=4,IF(E52+E54=0,E50,E52+E54),IF($W$40=3,IF(J52+J54=0,J50,J52+J54),IF($W$40=1,IF(M52+M54=0,M50,M52+M54))))","v":0},{"$f":"+IF(W40=4,E50,IF(W40=3,J50,M50))","v":0},null,"CAMPAÑA","Ninguna"]
[null,null,"Paso 1",null,null,null,{"$f":"IF(AB18=1,\"Paso 3\",\"\")","v":""},null,null,null,null,null,{"$f":"IF(AB18=1,\"Paso 5\",\"Paso 4\")","v":"Paso 4"},null,null,null,null,null,null,{"$f":"IF(U8=3,\"\",IF(OR(AB18=2,AB18=3,AB18=5),\"\",\"Comisión x apertura 0% y comisión x prepago 3% más IVA\"))","v":""},null,null,null,"Línea Comp/Renov",{"$f":"IF($W$40=1,M54,IF($W$40=3,J54,IF($W$40=4,E54)))","v":0},null,null,5,"Vinculación"]
[null,null,"Escoja su base de cálculo",null,null,null,{"$f":"IF(AB18=1,\"Escoja la opción de su interés:\",\"\")","v":""},null,null,null,null,null,"Escoja el plazo y la tasa aplicable:",null,null,null,null,null,null,null,null,null,null,null,null,null,null,null,{"$f":"IF(U8=3,\"\",\"Hipoteca Green\")","v":"Hipoteca Green"}]
[null,null,"Campaña",null,null,null,null,null,null,null,null,null,"Plazo 20 años  ",null,null,null,null,null,null,{"$f":"IF($U$8=3,\"Comisión x apertura 1.5% financiada para Pasivo + Renovación\",\"\")","v":""},null,null,null,null,null,null,null,null,null,null,null,null,null,null,null,null,null,null,null,"Ninguna"]
[null,null,null,null,null,null,null,null,null,null,null,null,null,null,null,null,null,null,null,"Frontera",1,{"$f":"IF(U21=1,1.16,1.16)","v":1.1599999999999999},null,"Monto máx Renovación Pago de Pasivos",null,"Monto Máximo del pasivo",null,null,{"$f":"\"Premium / WM\"","v":"Premium / WM"},null,null,null,null,null,null,null,null,null,null,"Vinculación"]
[null,null,"Escoja su modalidad",null,null,null,null,{"$f":"IF(AB18=1,\"Comisión Manual por Apertura\",\"\")","v":""},null,null,null,null,null,null,null,null,null,null,null,null,"NO",null,null,{"$f":"IF(U8=3,C28*35%,9.99999999999999E+44)","v":9.9999999999999898E+44},null,{"$f":"+H28-H30","v":0},null,null,null,null,null,null,null,null,null,null,null,null,null,{"$f":"IF(AF11=3,\"\",\"Hipoteca Green\")","v":"Hipoteca Green"}]
[null,null,null,null,null,null,{"$f":"IF(AB18=1,\"Paso 4\",\"Paso 3\")","v":"Paso 3"},null,null,null,null,null,"Plazo 15 años  ",null,null,null,null,null,null,null,"SI",null,null,null,null,null,null,null,null,null,null,null,null,5000000,5000000,6500000]
[null,null,null,null,null,null,"Va a construir en la frontera",null,null,null,null,null,null,null,null,null,null,null,null,null,null,null,null,null,null,null,null,null,null,null,null,null,null,1,2,3,null,null,null,{"$f":"IF(AF11=3,\"\",\"Premium / WM\")","v":"Premium / WM"}]
[null,null,null,null,null,null,null,null,null,null,null,null,null,null,null,null,null,null,null,"Valora 20 años",null,null,null,null,"Valora 15 años",null,null,null,null,"Valora 10 años",null,null,null,"Aforo p/créd > $5'000,000",null,null,null,null,null,1,null,null,null,null,null,2,null,null,null,null,null,3,null,null,null,null,null,5]
[null,null,"Paso 2",null,null,null,null,null,null,null,null,null,"Plazo 10 años  ",null,null,null,null,null,"Rango","Tasas","PxM","Inc. Anual","IR",{"$f":"+S26","v":"Rango"},"Tasas","PxM","Inc. Anual",null,{"$f":"+X26","v":"Rango"},"Tasas","PxM","Inc. Anual",null,"< $5mdp","< $6.5mdp","> $6.5 mdp",null,null,null,"VALORA","ppm 20","ppm 15","ppm 10","Inc. Anual",null,"VALORA 15","ppm 20","ppm 15","ppm 10","Inc. Anual",null,"VALORA 10","ppm 20","ppm 15","ppm 10","Inc. Anual",null,"VALORA","ppm 20","ppm 15","ppm 10","Inc. Anual"]
[null,null,"Escriba los datos solicitados:",null,null,null,null,null,null,null,null,null,null,null,null,null,null,null,1,{"$f":"IF(IF($AB$18=1,AN27,IF($AB$18=2,AT27,IF($AB$18=3,AZ27,IF($AB$18=5,BF27,\"\"))))=0,\"\",IF($AB$18=1,AN27,IF($AB$18=2,AT27,IF($AB$18=3,AZ27,IF($AB$18=5,BF27,\"\")))))","v":9.7500000000000003E-2},{"$f":"IF($AB$18=1,AO27,IF($AB$18=2,AU27,IF($AB$18=3,BA27,IF($AB$18=5,BG27,\"\"))))","v":8.5399999999999991},{"$f":"IF($AB$18=1,AR27,IF($AB$18=2,AX27,IF($AB$18=3,BD27,IF($AB$18=5,BJ27,\"\"))))","v":2.5999999999999999E-2},"1+",1,{"$f":"T27","v":9.7500000000000003E-2},{"$f":"IF($AB$18=1,AP27,IF($AB$18=2,AV27,IF($AB$18=3,BB27,IF($AB$18=5,BH27,\"\"))))","v":9.64},{"$f":"V27","v":2.5999999999999999E-2},null,1,{"$f":"T27","v":9.7500000000000003E-2},{"$f":"IF($AB$18=1,AQ27,IF($AB$18=2,AW27,IF($AB$18=3,BC27,IF($AB$18=5,BI27,\"\"))))","v":12.12},{"$f":"V27","v":2.5999999999999999E-2},null,0.8,0.7,0.65,null,null,1,0.12,10.36,11.32,13.63,0.02,"1+,2+,3+,4+,R",0.1075,9.3000000000000007,10.33,12.75,2.4E-2,"1,2,3,4,R,\nEA",0.105,9.08,10.130000000000001,12.6,2.5000000000000001E-2,"1,2,3,4,R,\nEA",9.7500000000000003E-2,8.5399999999999991,9.64,12.12,2.5999999999999999E-2]
[null,null,null,null,{"$f":"IF(U3=1,\"Valor actual del inmueble\",\"Ingresos brutos mensuales\")","v":"Valor actual del inmueble"},null,null,{"$f":"IF($U$3=2,$W$13,IF($U$8=1,MIN($Y$13,$C$29),$Y$13))","v":0},null,{"$f":"IF(U3=2,\"\",\"CREDITO MAXIMO POSIBLE\")","v":"CREDITO MAXIMO POSIBLE"},null,null,null,null,null,null,null,null,2,{"$f":"IF(IF($AB$18=1,AN28,IF($AB$18=2,AT28,IF($AB$18=3,AZ28,IF($AB$18=5,BF28,\"\"))))=0,\"\",IF($AB$18=1,AN28,IF($AB$18=2,AT28,IF($AB$18=3,AZ28,IF($AB$18=5,BF28,\"\")))))","v":""},{"$f":"IF($AB$18=1,AO28,IF($AB$18=2,AU28,IF($AB$18=3,BA28,IF($AB$18=5,BG28,\"\"))))","v":0},{"$f":"IF($AB$18=1,AR28,IF($AB$18=2,AX28,IF($AB$18=3,BD28,IF($AB$18=5,BJ28,\"\"))))","v":0},1,2,{"$f":"T28","v":""},{"$f":"IF($AB$18=1,AP28,IF($AB$18=2,AV28,IF($AB$18=3,BB28,IF($AB$18=5,BH28,\"\"))))","v":0},{"$f":"V28","v":0},null,2,{"$f":"T28","v":""},{"$f":"IF($AB$18=1,AQ28,IF($AB$18=2,AW28,IF($AB$18=3,BC28,IF($AB$18=5,BI28,\"\"))))","v":0},{"$f":"V28","v":0},null,0.8,0.7,0.65,null,null,2,0.125,10.84,11.78,14.06,1.7000000000000001E-2]
[null,null,null,null,{"$f":"IF($U$3=1,IF(AB18=3,\"Monto de Ecotecnologías\",\"Monto de Renovación\"),\"\")","v":"Monto de Renovación"},null,null,null,null,{"$f":"Z13","v":"-"},null,null,null,null,null,null,null,null,3,{"$f":"IF(IF($AB$18=1,AN29,IF($AB$18=2,AT29,IF($AB$18=3,AZ29,IF($AB$18=5,BF29,\"\"))))=0,\"\",IF($AB$18=1,AN29,IF($AB$18=2,AT29,IF($AB$18=3,AZ29,IF($AB$18=5,BF29,\"\")))))","v":""},0,0,2,3,"",0,0,null,3,"",0,{"$f":"V29","v":0},null,0.8,0.7,0.65,null,null,3,0.13,11.28,12.22,14.5,1.4E-2]
[null,null,{"$f":"C28+C29","v":0},null,{"$f":"IF($U$3=1,\"Valor proyectado\",\"\")","v":"Valor proyectado"},null,null,null,null,{"$f":"IF(AB18=3,\"Crédito solicitado para ecotecnologías\",\"Crédito solicitado para renovación\")","v":"Crédito solicitado para renovación"},null,null,{"$f":"IF(AB18=1,\"Paso 6\",\"Paso5\")","v":"Paso5"},null,null,null,null,null,4,{"$f":"IF(IF($AB$18=1,AN30,IF($AB$18=2,AT30,IF($AB$18=3,AZ30,IF($AB$18=5,BF30,\"\"))))=0,\"\",IF($AB$18=1,AN30,IF($AB$18=2,AT30,IF($AB$18=3,AZ30,IF($AB$18=5,BF30,\"\")))))","v":""},0,0,3,4,"",0,0,null,4,"",0,{"$f":"V30","v":0},null,0.7,0.65,0.5,null,null,4,0.13500000000000001,11.7,12.63,14.9,1.0999999999999999E-2]
[null,null,{"$f":"IF(C28=\"\",\"\",IF(AND(U3=2,C28<20000,C28>0),\"Se requiere $20,000 como ingresos mínimos\",\"Línea máxima a otorgar puede ser menor por perfil del cliente\"))","v":""},null,null,null,null,{"$f":"IF(SUM(H29:H30)=0,H28,SUM(H29:H30))","v":0},null,"Crédito solicitado total",null,null,"El cliente opta por seguros externos",null,null,null,null,null,5,{"$f":"IF(IF($AB$18=1,AN31,IF($AB$18=2,AT31,IF($AB$18=3,AZ31,IF($AB$18=5,BF31,\"\"))))=0,\"\",IF($AB$18=1,AN31,IF($AB$18=2,AT31,IF($AB$18=3,AZ31,IF($AB$18=5,BF31,\"\")))))","v":""},0,0,"4,R",5,"",0,0,null,5,"",{"$f":"IF($AB$18=1,AQ31,IF($AB$18=2,AW31,IF($AB$18=3,BC31,IF($AB$18=5,BI31,\"\"))))","v":0},{"$f":"V31","v":0},null,0.7,0.65,0.5,null,null,"R",0.14000000000000001,12.13,13.04,15.3,7.0000000000000001E-3]
[null,null,{"$f":"IF(AND(U8=3,C29>C28*35%),\"El monto de Renovación máximo es de \"&TEXT(C28*35%,\"$0,0\"),\"\")","v":""},null,null,null,null,{"$f":"IFERROR(IF(OR(L34=\"SI\",L35>0),H31+L35,\"\"),\"\")","v":""},null,{"$f":"IF(OR(L35=\"\",L34=\"NO\"),\"\",\"Monto Máximo Pago de Pasivo + Gastos Financiados\")","v":""},null,null,null,null,null,null,null,null,null,null,null,null,null,null,null,null,null,null,null,null,null,null,null,0.7,0.65,0.5,null,null,"Piso",0.12,null,null,null,null,"Piso",0.1075,null,null,null,null,"Piso",0.105,null,null,null,null,"Piso",9.7500000000000003E-2]
[null,null,{"$f":"+IF(H29+H30>H28,\"Monto del Pasivo máximo es de \"&TEXT($Z$22,\"$0,0.00\"),\"\")","v":""},null,null,null,null,null,null,null,null,{"$f":"IF(U8=3,\"Paso 7\",\"\")","v":""},null,null,null,null,null,null,null,null,null,null,null,null,null,null,null,null,null,null,null,null,null,null,null,null,null,null,"Techo",0.14000000000000001,null,null,null,null,"Techo",0.1275,null,null,null,null,"Techo",0.125,null,null,null,null,"Techo",0.11749999999999999]
[null,null,null,null,null,null,null,null,null,{"$f":"IF(U8=3,\"Gastos Notariales Financiados\",\"\")","v":""},null,null,null,null,null,null,null,null,1,{"$f":"VLOOKUP($S$34,$S$27:$V$33,2,0)","v":9.7500000000000003E-2},{"$f":"VLOOKUP($S$34,$S$27:$V$33,3,0)","v":8.5399999999999991},{"$f":"VLOOKUP($S$34,$S$27:$V$33,4,0)","v":2.5999999999999999E-2},null,{"$f":"S34","v":1},{"$f":"VLOOKUP($X$34,$X$27:$AA$33,2,0)","v":9.7500000000000003E-2},{"$f":"VLOOKUP($X$34,$X$27:$AA$33,3,0)","v":9.64},{"$f":"VLOOKUP($X$34,$X$27:$AA$33,4,0)","v":2.5999999999999999E-2},null,{"$f":"S34","v":1},{"$f":"VLOOKUP($AC$34,$AC$27:$AF$33,2,0)","v":9.7500000000000003E-2},{"$f":"VLOOKUP($AC$34,$AC$27:$AF$33,3,0)","v":12.12},{"$f":"VLOOKUP($AC$34,$AC$27:$AF$33,4,0)","v":2.5999999999999999E-2},null,{"$f":"IF($C$23>$AJ$23,3,IF($C$23>$AI$23,2,IF($C$23<=$AH$23,1,0)))","v":1}]
[null,null,null,null,"Valor Destructible del Inmueble (si conoce el dato)",null,null,null,null,{"$f":"IF(U8=3,\"Monto Máximo Financiado\",\"\")","v":""},null,{"$f":"+IF(U8<>3,\"\",IF(OR(L34=\"NO\",L34=\"\"),0,IF(C30*X13=H31,0,IF(H31*6%+H31>H28,H28-H31,H31*6%))))","v":""},null,null,null,null,null,null,"Piso",{"$f":"IF($AB$18=1,AN32,IF($AB$18=2,AT32,IF($AB$18=3,AZ32,IF($AB$18=5,BF32,\"\"))))","v":9.7500000000000003E-2}]
[null,null,null,null,null,null,null,null,null,null,null,null,null,null,null,null,null,null,null,null,{"$f":"$H$31/1000*$U$34/$AD$13","v":0},{"$f":"IF($AB$18=1,AN36,IF($AB$18=2,AT36,IF($AB$18=3,AZ36,IF($AB$18=5,BF36))))","v":"Mínima 9.75% y \nMáxima 11.75%"},null,null,null,{"$f":"$H$31/1000*$Z$34/$AD$13","v":0},null,null,"Fórmulas no activas",null,{"$f":"$H$31/1000*$AE$34/$AD$13","v":0},null,null,null,null,null,null,null,null,"Mínima 12.00% y \nMáxima 14.00%",null,null,null,null,null,"Mínima 10.75% y \nMáxima 12.75%",null,null,null,null,null,"Mínima 10.50% y \nMáxima 12.50%",null,null,null,null,null,"Mínima 9.75% y \nMáxima 11.75%"]
[null,null,null,null,null,null,null,null,null,null,null,null,null,null,null,null,null,null,null,null,null,null,null,null,null,null,null,null,"Ingresos",{"$f":"IF(AND(Y3=2,U3=1),J27,C28)","v":0}]
[null,null,null,null,null,null,null,null,null,null,null,null,null,null,null,null,null,null,null,null,null,{"$f":"V36","v":"Mínima 9.75% y \nMáxima 11.75%"}]
[]
[null,null,null,null,"VALORA",null,null,null,null,null,null,null,null,null,null,null,null,null,null,"Esquemas",null,null,1]
[null,null,null,null,null,null,null,null,null,null,null,null,null,null,null,null,null,null,null,null,"Tasa Fija Pago Red 15",null,null,null,"Renovación",1]
[null,null,"Plazo",null,"10 AÑOS",null,null,null,null,"15 AÑOS",null,null,"20 AÑOS",null,null,null,null,null,null,null,"Pagos reducidos 20 años",null,null,null,null,null,null,{"$f":"IF(AND(U8=1,H30>=C28*0.5),C28*0.5,IF(AND(U8=1,H30<C28*0.5),H30,(C28+H30)*0.75))","v":0}]
[null,null,null,null,null,null,null,null,null,null,null,null,null,null,null,null,null,null,null,null,"Pago 9.9",null,null,"Cambio de etiqueta",{"$f":"IF(U3=1,\"Valor del inmueble\",\"Ingresos Brutos Mensuales\")","v":"Valor del inmueble"}]
[null,null,"Tasa de Interés",null,{"$f":"V38","v":"Mínima 9.75% y \nMáxima 11.75%"},null,null,null,null,{"$f":"+E44","v":"Mínima 9.75% y \nMáxima 11.75%"},null,null,{"$f":"+J44","v":"Mínima 9.75% y \nMáxima 11.75%"},null,null,null,null,null,null,null,"Tasa 1234"]
[null,null,null,null,null,null,null,null,null,null,null,null,null,null,null,null,null,null,null,"Adquisición",1,null,null,null,null,null,"Pago por mil"]
[null,null,"% máximo de financiamiento",null,{"$f":"$X$13","v":0.8},null,null,null,null,{"$f":"$X$13","v":0.8},null,null,{"$f":"$X$13","v":0.8},null,null,null,null,null,null,"Pasivo Hipotecario",null,"Cambio de pasivo o adquisi",null,{"$f":"IF(AND(U45=1,U3=1),\"Enganche\",IF(AND(U45=2,U3=1),\"Saldo actual\",\"\"))","v":"Enganche"},null,null,{"$f":"IF($W$40=1,U34,IF($W$40=3,Z34,IF($W$40=4,AE34)))","v":8.5399999999999991}]
[]
[null,null,"Valor de la vivienda",null,{"$f":"IF($U$3=2,$AD$13*$W$13/AE34*1000/$X$13,$W$13)","v":0},null,null,null,null,{"$f":"IF(U3=2,$AD$13*$W$13/Z34*1000/$X$13,$W$13)","v":0},null,null,{"$f":"IF(U3=2,$AD$13*$W$13/U34*1000/$X$13,$W$13)","v":0},null,null,null,null,null,null,null,null,"Pag Red 10.90",null,"Pag Red 10.90",null,"PAGOS OPOTUNOS","PAGOS OPOTUNOS",null,"PAGOS OPOTUNOS","PAGOS OPOTUNOS","PAGOS OPOTUNOS"]
[null,null,null,null,null,null,null,null,null,null,null,null,null,null,null,null,null,null,"Plazo",null,null,15,null,20,null,7,10,null,15,20,30]
[null,null,"Crédito solicitado",null,{"$f":"IF(AND(U8=3,L34=\"SI\"),H32,IF($U$3=2,E48*$X$13,$H$31))+IF($U$16=4,E68,0)","v":0},null,null,null,null,{"$f":"IF(AND(U8=3,L34=\"SI\"),H32,IF($U$3=2,J48*$X$13,$H$31))+IF($U$16=4,J68,0)","v":0},null,null,{"$f":"IF(AND(U8=3,L34=\"SI\"),H32,IF($U$3=2,M48*$X$13,$H$31))+IF($U$16=4,M68,0)","v":0}]
[]
[null,null,{"$f":"IF($U$8=2,\"Línea para la compra\",IF($U$8=3,\"Línea máxima para pasivo\",IF($U$8=4,\"Saldo del crédito actual\",\"Línea para la compra\")))","v":"Línea para la compra"},null,{"$f":"$H$29","v":0},null,null,null,null,{"$f":"$H$29","v":0},null,null,{"$f":"$H$29","v":0}]
[]
[null,null,{"$f":"IF(AB18=3,\"Línea para Ecotecnologías\",\"Línea para Renovación\")","v":"Línea para Renovación"},null,{"$f":"$H$30","v":0},null,null,null,null,{"$f":"$H$30","v":0},null,null,{"$f":"$H$30","v":0}]
[null,null,null,null,null,null,null,null,null,null,null,null,null,null,null,null,null,null,"Pago x mil",null,null,9.3000000000000007,null,10.3,null,17.399999999999999,14.1,null,11.8,10.86,0]
[null,null,"Erogación inicial",null,{"$f":"IF(AND($U$3=1,$U$8=4),E54/1000*$AE$34,IF($U$3=1,IF(E52+E54=0,E50,E52+E54)/1000*$AE$34,$C$28*$AD$13))","v":0},null,null,null,null,{"$f":"IF(AND($U$3=1,$U$8=4),J54/1000*$Z$34,IF($U$3=1,IF(J52+J54=0,J50,J52+J54)/1000*$Z$34,C$28*$AD$13))","v":0},null,null,{"$f":"IF(AND($U$3=1,$U$8=4),M54/1000*U$34,IF($U$3=1,IF(M52+M54=0,M50,M52+M54)/1000*$U$34,C$28*$AD$13))","v":0}]
[null,null,null,null,null,null,null,null,null,null,null,null,null,null,null,null,null,null,"Incremento anual ",null,null,0.03,null,2.1000000000000001E-2,null,0,0,null,0,0,0,null,{"$f":"IF($W$40=1,V34,IF($W$40=3,AA34,IF($W$40=4,AF34)))","v":2.5999999999999999E-2}]
[null,null,"Seguro de vida",null,{"$f":"IF($U$8=4,E54,IF((E52+E54)=0,E50,(E52+E54)))*IF($Y$76=1,0,$Y$79)","v":0},null,null,null,null,{"$f":"IF($U$8=4,J54,IF((J52+J54)=0,J50,(J52+J54)))*IF($Y$76=1,0,$Y$79)","v":0},null,null,{"$f":"IF($U$8=4,M54,IF((M52+M54)=0,M50,(M52+M54)))*IF($Y$76=1,0,$Y$79)","v":0},null,null,null,null,null,"Tasa de int.",null,null,0.109,0.13900000000000001,0.109,0.13900000000000001,0.1135,0.1158,null,0.11749999999999999,0.12,0.125]
[]
[null,null,"Seguro de daños",null,{"$f":"IF($C$35>0,$C$35,IF($U$8=4,E54,(E48+E54)))*IF(OR($U$8=4,$Y$76=1),0,$Y$80)","v":0},null,null,null,null,{"$f":"IF($C$35>0,$C$35,IF($U$8=4,J54,(J48+J54)))*IF(OR($U$8=4,$Y$76=1),0,$Y$80)","v":0},null,null,{"$f":"IF($C$35>0,$C$35,IF($U$8=4,M54,(M48+M54)))*IF(OR($U$8=4,$Y$76=1),0,$Y$80)","v":0},null,null,null,null,null,"Monto a financiar adquisición",null,null,{"$f":"IF($U$3=1,$AB$42,IF($U$3=2,M56/V55*1000,0))","v":0},null,{"$f":"IF($U$3=1,$AB$42,IF($U$3=2,J56/X55*1000,0))","v":0},null,{"$f":"IF($U$3=1,$AB$42,IF($U$3=2,E56/Z55*1000,0))","v":0},{"$f":"IF($U$3=1,$AB$42,IF($U$3=2,J56/AA55*1000,0))","v":0},null,{"$f":"IF($U$3=1,$AB$42,IF($U$3=2,L56/AC55*1000,0))","v":0},{"$f":"IF($U$3=1,$AB$42,IF($U$3=2,#REF!/AD55*1000,0))","v":0},{"$f":"IF($U$3=1,$AB$42,IF($U$3=2,#REF!/AE55*1000,0))","v":0}]
[null,null,null,null,null,null,null,null,null,null,null,null,null,null,null,null,null,null,"Monto a financiar adquisición",null,null,{"$f":"IF(V60>4000000,4000000,V60)","v":0},null,{"$f":"IF(X60>4000000,4000000,X60)","v":0},null,{"$f":"IF(Z60>4000000,4000000,Z60)","v":0},{"$f":"IF(AA60>4000000,4000000,AA60)","v":0},null,{"$f":"IF(AC60>4000000,4000000,AC60)","v":0},{"$f":"IF(AD60>4000000,4000000,AD60)","v":0},{"$f":"IF(AE60>4000000,4000000,AE60)","v":0}]
[null,null,"Total mensualidad inicial",null,{"$f":"E60+E58+E56","v":0},null,null,null,null,{"$f":"J60+J58+J56","v":0},null,null,{"$f":"M60+M58+M56","v":0},null,null,null,null,null,"erogación adquisición",null,null,{"$f":"V61/1000*V55","v":0},null,{"$f":"X61/1000*X55","v":0},null,{"$f":"Z61/1000*Z55","v":0},{"$f":"AA61/1000*AA55","v":0},null,{"$f":"AC61/1000*AC55","v":0},{"$f":"AD61/1000*AD55","v":0},{"$f":"AE61/1000*AE55","v":0}]
[null,null,null,null,null,null,null,null,null,null,null,null,null,null,null,null,null,null,"Monto a financiar pasivo",null,null,{"$f":"IF(AND($U$3=1,$X$45>=0.2),#REF!,IF($U$3=2,$M$56/V55*1000,0))","v":0},null,{"$f":"IF(AND($U$3=1,$X$45>=0.2),#REF!,IF($U$3=2,#REF!/X55*1000,0))","v":0},null,{"$f":"IF(AND($U$3=1,$X$45>=0.25),#REF!,IF($U$3=2,#REF!/Z55*1000,0))","v":0},{"$f":"IF(AND($U$3=1,$X$45>=0.25),#REF!,IF($U$3=2,#REF!/AA55*1000,0))","v":0},null,{"$f":"IF(AND($U$3=1,$X$45>=0.2),#REF!,IF($U$3=2,#REF!/AC55*1000,0))","v":0},{"$f":"IF(AND($U$3=1,$X$45>=0.2),#REF!,IF($U$3=2,#REF!/AD55*1000,0))","v":0},{"$f":"IF(AND($U$3=1,$X$45>=0.2),#REF!,IF($U$3=2,#REF!/AE55*1000,0))","v":0}]
[null,null,"Incremento anual del pago",null,{"$f":"AF34","v":2.5999999999999999E-2},null,null,null,null,{"$f":"AA34","v":2.5999999999999999E-2},null,null,{"$f":"V34","v":2.5999999999999999E-2},null,null,null,null,null,"Monto a financiar pasivo",null,null,{"$f":"IF(V63>4000000,4000000,V63)","v":0},null,{"$f":"IF(X63>4000000,4000000,X63)","v":0},null,{"$f":"IF(Z63>4000000,4000000,Z63)","v":0},{"$f":"IF(AA63>4000000,4000000,AA63)","v":0},null,{"$f":"IF(AC63>4000000,4000000,AC63)","v":0},{"$f":"IF(AD63>4000000,4000000,AD63)","v":0},{"$f":"IF(AE63>4000000,4000000,AE63)","v":0}]
[null,null,null,null,null,null,null,null,null,null,null,null,null,null,null,null,null,null,"Desición de monto a financiar",null,null,{"$f":"V60","v":0},null,{"$f":"X60","v":0},null,{"$f":"Z60","v":0},{"$f":"AA60","v":0},null,{"$f":"AC60","v":0},{"$f":"AD60","v":0},{"$f":"AE60","v":0}]
[null,null,"Ingresos brutos por comprobar",null,{"$f":"IF($U$3=1,E56/$AC$13,$C$28)","v":0},null,null,null,null,{"$f":"IF($U$3=1,J56/$AC$13,$C$28)","v":0},null,null,{"$f":"IF($U$3=1,M56/$AC$13,$C$28)","v":0}]
[]
[null,null,"Comisión por apertura",null,{"$f":"IF(U8=3,0,IF(OR(AB18=2,AB18=3,AB18=5),0,IFERROR(IF($L$22<>\"\",$L$22,IF($U$16=1,$Y$85,IF(OR($U$16=3,$U$16=4),$Y$89,0)))*IF($U$3=2,E48*$X$13,$H$31),0)))","v":0},null,null,null,null,{"$f":"IF(U8=3,0,IF(OR(AB18=2,AB18=3,AB18=5),0,IFERROR(IF($L$22<>\"\",$L$22,IF($U$16=1,$Y$85,IF(OR($U$16=3,$U$16=4),$Y$89,0)))*IF($U$3=2,J48*$X$13,$H$31),0)))","v":0},null,null,{"$f":"IF(U8=3,0,IF(OR(AB18=2,AB18=3,AB18=5),0,IFERROR(IF($L$22<>\"\",$L$22,IF($U$16=1,$Y$85,IF(OR($U$16=3,$U$16=4),$Y$89,0)))*IF($U$3=2,M48*$X$13,$H$31),0)))","v":0}]
[]
[null,null,{"$f":"\"Avalúo     \"&IF(E48>$T$94,\"'Favor de Cotizar.' - Val. apróx.\",\"\")","v":"Avalúo     "},null,{"$f":"IF(AB18=5,0,IFERROR(IF(U8=3,0,IF(AND(U8<>3,E48<=$T$94),VLOOKUP(E48,$S$74:$V$95,3))),$U$95))","v":0},null,null,null,null,{"$f":"IF(AB18=5,0,IFERROR(IF(U8=3,0,IF(AND(U8<>3,E48<=$T$94),VLOOKUP(E48,$S$74:$V$95,3))),$U$95))","v":0},null,null,{"$f":"IF(AB18=5,0,IFERROR(IF(U8=3,0,IF(AND(U8<>3,E48<=$T$94),VLOOKUP(E48,$S$74:$V$95,3))),$U$95))","v":0}]
[]
[null,null,"Dictamen técnico",null,{"$f":"IF(AB18=3,0,IFERROR(IF($C$28=\"\",0,IF(U8=3,0,MAX(MIN(IF(E52+E54=0,E50,E52+E54)*$Y$88,$Z$88),$AA$88))),0))","v":0},null,null,null,null,{"$f":"IF(AB18=3,0,IFERROR(IF($C$28=\"\",0,IF(U8=3,0,MAX(MIN(IF(J52+J54=0,J50,J52+J54)*$Y$88,$Z$88),$AA$88))),0))","v":0},null,null,{"$f":"IF(AB18=3,0,IFERROR(IF($C$28=\"\",0,IF(U8=3,0,MAX(MIN(IF(M52+M54=0,M50,M52+M54)*$Y$88,$Z$88),$AA$88))),0))","v":0},null,null,null,null,null,"AVALUO"]
[null,null,null,null,null,null,null,null,null,null,null,null,null,null,null,null,null,null,"Mayor a","Hasta a","Importe","Switch"]
[null,null,"Comisión por pagos anticipados",null,{"$f":"$V$16","v":"NO APLICA"},null,null,null,null,{"$f":"$V$16","v":"NO APLICA"},null,null,{"$f":"$V$16","v":"NO APLICA"},null,null,null,null,null,0.01,500000,1900,1253]
[null,null,null,null,null,null,null,null,null,null,null,null,null,null,null,null,null,null,500001,1000000,3300,1740,null,"Contratación de Seguros"]
[null,null,null,null,null,null,null,null,null,null,null,null,null,null,null,null,null,null,1000001,1500000,4500,2784,null,"SI ",2,null,null,null,null,null,"CALCULO PARA EL IMPORTE MAXIMO DE APORTACION PATRONAL"]
[null,null,"Ver tabla de amortización",null,null,null,null,null,null,null,null,null,null,null,null,null,null,null,1500001,2000000,5750,2784,null,"NO",null,null,null,null,null,null,"Salario diario nominal (UMA enero 2024)",null,108.57]
[null,null,"Observaciones:",null,null,null,null,null,null,null,null,null,null,null,null,null,null,null,2000001,2500000,7000,4663,null,"Seguros",null,null,null,"Valor del inmueble",{"$f":"IF($W$40=1,M48,IF($W$40=3,J48,IF($W$40=4,E48)))","v":0},null,"Tope de aportación patronal",null,25]
[null,null,"-No se incluyen los gastos notariales, los cuales se pagaran al momento de la firma del crédito",null,null,null,null,null,null,null,null,null,null,null,null,null,null,null,2500001,3000000,8200,4663,null,"Vida",5.9999999999999995E-4,5.9999999999999995E-4,null,"Pago por mil",{"$f":"IF($W$40=1,U34,IF($W$40=3,Z34,IF($W$40=4,AE34)))","v":8.5399999999999991},null,"Aportación patronal",null,{"$f":"+AG77*AG78","v":2714.25}]
[null,null,"-  El crédito solicitado dependerá de la capacidad de pago de cada cliente",null,null,null,null,null,null,null,null,null,null,null,null,null,null,null,3000001,4000000,11000,5000,null,"Daños",3.1E-4,3.1E-4,null,"Plazo",{"$f":"IF($W$40=1,\"20 Años\",IF($W$40=3,\"15 Años\",IF($W$40=4,\"10 Años\")))","v":"20 Años"},null,"Aportación Patronal 5%",null,{"$f":"+AG79*0.05","v":135.71250000000001}]
[null,null,"-  Scotiabank se reserva el derecho de solicitar información adicional y/o restringir parámetros de enganche, monto, plazo o tasa en función de las características específicas ",null,null,null,null,null,null,null,null,null,null,null,null,null,null,null,4000001,5000000,13900,5000,null,null,null,null,null,"Tasa",{"$f":"IF($W$40=1,T34,IF($W$40=3,Y34,IF($W$40=4,AD34)))","v":9.7500000000000003E-2},null,null,0.05]
[null,null,"    del solicitante y del inmueble objeto de la operación.",null,null,null,null,null,null,null,null,null,null,null,null,null,null,null,5000001,6000000,15500,5000,null,null,null,null,null,"Monto Crédito",{"$f":"IF($W$40=1,IF(E54>0,E54,M50),IF($W$40=3,IF(J54>0,J54,J50),IF($W$40=4,IF(M54>0,M54,E50))))","v":0},null,"No. de días del bimestre (promedio 60 días)",null,60.8]
[null,null,"-  En caso de que aplique, la comisión por pagos anticipados causa I.V.A.",null,null,null,null,null,null,null,null,null,null,null,null,null,null,null,6000001,7000000,19000,5000,null,null,null,null,null,null,null,null,"Aportación Patronal bimestral",null,{"$f":"+AG80*AG82","v":8251.32}]
[null,null,"- Esta cotización tiene carácter informativo, Scotiabank se reserva el derecho de cambiar cualquier condición sin previo aviso.",null,null,null,null,null,null,null,null,null,null,null,null,null,null,null,7000001,8000000,20000,5000,null,"Comisión por aut difer =",250,null,null,null,null,null,"Incremento anual promedio para las aportaciones = ",null,0.03]
[null,null,"- Este documento NO implica que el crédito ha sido autorizado, ni establece obligación alguna para Scotiabank.",null,null,null,null,null,null,null,null,null,null,null,null,null,null,null,8000001,9000000,20100,5000,null,"Comisión por Apertura =",0.01]
[null,null,"- Para los esquemas de \"Pagos Oportunos\" y \"Valora\" se deberá cumplir con las reglas establecidas en los programas para la disminución de la tasa de interés",null,null,null,null,null,null,null,null,null,null,"v2025.04",null,null,null,null,9000001,10000000,22500,5000,null,"Comisión por Prepago =",0.03]
[null,null,null,null,null,null,null,null,null,null,null,null,null,null,null,null,null,null,10000001,11000000,27000,5000,null,"Avalúo",1E-3]
[null,null,null,null,null,null,null,null,null,null,null,null,null,null,null,null,null,null,11000001,12000000,28000,5000,null,"Dictamen técnico",0.01,18000,1500]
[null,null,null,null,null,null,null,null,null,null,null,null,null,null,null,null,null,null,12000001,13000000,30000,5000,null,"Comisión por Apertura Pasivos =",0,"Máximo","Mínimo"]
[null,null,null,null,null,null,null,null,null,null,null,null,null,null,null,null,null,null,13000001,14000000,32000,5000]
[null,null,null,null,null,null,null,null,null,null,null,null,null,null,null,null,null,null,14000001,15000000,34000,5000]
[null,null,null,null,null,null,null,null,null,null,null,null,null,null,null,null,null,null,15000001,20000000,37000,5000,null,null,null,"Construcción / Renovación II, III y IV ","Renovación I",null,"Tarifas para Verificación de Avance de Obra (Dictamen Técnico) Renovación todas sus modalidades"]
[null,null,null,null,null,null,null,null,null,null,null,null,null,null,null,null,null,null,20000001,25000000,39000,5000,null,null,null,null,null,null,"Tarifa Cobrada:",null,"Distribución"]
[null,null,null,null,null,null,null,null,null,null,null,null,null,null,null,null,null,null,25000001,30000000,40000,5000,null,null,null,null,null,null,"1% sobre el monto del presupuesto de obra"]
[null,null,null,null,null,null,null,null,null,null,null,null,null,null,null,null,null,null,30000001,30000000,40000,5000,null,null,null,"Hasta el 70% del valor proyectado de la vivienda o el 100% del valor de construcción, el menor","Hasta el 70% de acuerdo al valor del avalúo de la garantía.",null,"Mínimo","Máximo","Banco","Valuador"]
[null,null,null,null,null,null,null,null,null,null,null,null,null,null,null,null,null,null,null,null,null,null,null,null,null,null,null,null,1500,18000,0.45,0.55000000000000004]
[null,null,null,null,null,null,null,null,null,null,null,null,null,null,null,null,null,null,null,null,null,null,null,null,null,null,null,null,"Tarifas para Verificación de Avance de Obra (Dictamen Técnico) Construcción y Preventa"]
[null,null,null,null,null,null,null,null,null,null,null,null,null,null,null,null,null,null,null,null,null,null,null,null,null,null,null,null,"Tarifa Cobrada:","Distribución"]
[null,null,null,null,null,null,null,null,null,null,null,null,null,null,null,null,null,null,null,null,null,null,null,null,null,null,null,null,"1% sobre el monto del presupuesto de obra"]
[null,null,null,null,null,null,null,null,null,null,null,null,null,null,null,null,null,null,null,null,null,null,null,null,null,"Nota: en el apartado A.7 se muestra la metodología de cálculo para valor proyectado o de referencia.",null,null,"Máximo","Banco","Valuador"]
[null,null,null,null,null,null,null,null,null,null,null,null,null,null,null,null,null,null,null,null,null,null,null,null,null,null,null,null,18000,0.45,0.55000000000000004]

{"sheet":"Tabla Valora","index":1,"n_rows":263,"n_cols":56,"rows_kept":263,"cut":false,"hidden":false,"merged":[[12,12,12,13],[0,0,0,26],[2,0,2,26],[4,1,4,5],[5,23,5,25],[3,0,3,26],[1,0,1,26]]}
["Scotiabank Inverlat, S.A., Institución de Banca Múltiple, Grupo Financiero Scotiabank Inverlat",null,null,null,null,null,null,null,null,null,null,null,null,null,null,null,null,null,null,null,null,null,null,null,null,null,null,null,null,null,null,null,null,null,null,null,null,null,null,null,null,null,null,null,null,null,null,null,null,null,null,null,null,null,null,"-"]
["SIMULADOR CREDITO HIPOTECARIO"]
["FINANCIAMIENTO PARA RENOVACION SCOTIABANK",null,null,null,null,null,null,null,null,null,null,null,null,null,null,null,null,null,null,null,null,null,null,null,null,null,null,null,null,null,null,null,null,"Piso",null,null,"Comision por apertura",null,null,{"$f":"IF('Simulador Valora'!$W$40=3,'Simulador Valora'!J68,IF('Simulador Valora'!$W$40=4,'Simulador Valora'!E68,IF('Simulador Valora'!$W$40=1,'Simulador Valora'!M68,)))","v":0}]
[{"$f":"IF('Simulador Valora'!W40=1,\"VALORA 20 AÑOS\",IF('Simulador Valora'!W40=3,\"VALORA 15 AÑOS\",IF('Simulador Valora'!W40=4,\"VALORA 10 AÑOS\")))","v":"VALORA 20 AÑOS"},null,null,null,null,null,null,null,null,null,null,null,null,null,null,null,null,null,null,null,null,null,null,null,null,null,null,null,null,null,null,null,null,{"$f":"'Simulador Valora'!T35","v":9.7500000000000003E-2},null,null,"Avalúo",null,null,{"$f":"IF('Simulador Valora'!$W$40=3,'Simulador Valora'!J70,IF('Simulador Valora'!$W$40=4,'Simulador Valora'!E70,IF('Simulador Valora'!$W$40=1,'Simulador Valora'!M70,)))","v":0},null,1]
[null,"Teclear los datos con celdas en blanco",null,null,null,null,null,null,null,null,null,"Observaciones",null,null,null,null,null,null,null,null,null,null,null,null,null,null,null,null,null,null,null,null,null,null,null,null,"Dictámen Técnico",null,null,{"$f":"IF('Simulador Valora'!$W$40=3,'Simulador Valora'!J72,IF('Simulador Valora'!$W$40=4,'Simulador Valora'!E72,IF('Simulador Valora'!$W$40=1,'Simulador Valora'!M72,)))","v":0},null,"Disminución de plazo"]
[null,null,null,null,null,null,null,null,null,null,null,"- La comisión por prepagos causa IVA y en la corrida ya lo incluye",null,null,null,null,null,null,null,null,null,null,null,{"$f":"'Simulador Valora'!C7","v":"2025-04-10"},null,null,null,null,null,null,null,null,null,null,null,null,null,null,null,null,null,"Disminución de pago"]
[null,"Período",null,{"$f":"IF('Simulador Valora'!U8=2,\"Monto para compra\",IF('Simulador Valora'!U8=3,\"Monto para pasivo + renovación\",\"\"))","v":""},null,"Erogación",null,null,null,null,null,"- El escenario que se presenta en la tabla de amortización siempre es considerando que se paga de manera puntual.",null,null,null,null,null,null,null,null,null,null,null,null,null,null,null,null,null,null,null,null,null,null,null,null,"Total",null,null,{"$f":"SUM(AN3:AN5)","v":0}]
[null,{"$f":"IF(B11>0,\"\",1)","v":1},null,{"$f":"IF(D11>0,0,'Simulador Valora'!Z17)","v":0},null,{"$f":"(D8/1000)*'Simulador Valora'!AA46","v":0},null,"Linea máxima de crédito",null,null,null,"- Esta cotización tiene carácter informativo, Scotiabank se reserva el derecho de cambiar cualquier condición sin previo aviso."]
[null,null,null,null,null,null,null,{"$f":"IF('Simulador Valora'!H31=0,'Simulador Valora'!H31,'Simulador Valora'!Z17)","v":0},null,null,null,"- Este documento NO implica que el crédito ha sido autorizado, ni establece obligación alguna para Scotiabank."]
[null,{"$f":"IF('Simulador Valora'!AB18=3,\"\",IF('Simulador Valora'!U8=3,\"\",\"Período\"))","v":"Período"},null,{"$f":"IF('Simulador Valora'!AB18=3,\"\",IF('Simulador Valora'!U8=3,\"\",\"Monto para renovación\"))","v":"Monto para renovación"},null,{"$f":"IF('Simulador Valora'!AB18=3,\"\",IF('Simulador Valora'!U8=3,\"\",\"Erogación\"))","v":"Erogación"},null,null,null,null,null,"- Para los esquemas \"Pagos Oportunos\" y \"Valora\" se deberán cumplir con las reglas establecidas en los programas "]
[null,null,null,null,null,{"$f":"IF(B11>12,(((D11+D8)/1000*'Simulador Valora'!AA46*Z32)+(D11+D8)/1000*'Simulador Valora'!AA46),(D11+D8)/1000*'Simulador Valora'!AA46)","v":0},null,null,null,null,null,"  para la disminución de la tasa de interés.",null,null,null,null,null,null,null,null,null,null,null,null,null,null,null,null,null,null,null,null,"Corrida CAT",{"$f":"((1+AG12)^12)-1","v":0}]
[null,null,null,null,null,{"$f":"IF(B12>12,(((D12+D11+D8)/1000*'Simulador Valora'!AA46*Z32)+(D12+D11+D8)/1000*'Simulador Valora'!AA46),(D12+D11+D8)/1000*'Simulador Valora'!AA46)","v":0},null,null,null,null,null,null,null,null,null,null,null,null,null,null,null,null,null,null,null,null,null,null,null,null,null,null,{"$f":"IFERROR(IRR(AG19:AG259,0),0)","v":0},{"$f":"AG12*12","v":0}]
[null,null,null,{"$f":"IF(H9-D8-D11-D12<0,0,H9-D8-D11-D12)","v":0},null,{"$f":"IF(B13>12,(((D13+D12+D11+D8)/1000*'Simulador Valora'!AA46*Z33)+(D13+D12+D11+D8)/1000*'Simulador Valora'!AA46),(D13+D12+D11+D8)/1000*'Simulador Valora'!AA46)","v":0},null,null,null,null,null,"- CAT =.",{"$f":"AR14","v":0},null,"\"Para fines informativos de comparación exclusivamente\" SIN IVA",null,null,null,null,null,null,null,null,null,null,null,null,null,null,null,null,null,null,null,null,null,null,null,null,null,null,null,null,{"$f":"AR17*12","v":0}]
[null,null,null,null,null,null,null,null,null,null,null,"- En caso de anticipos a capital escoja la opción:",null,null,null,null,null,null,null,null,null,null,null,null,null,null,null,null,null,null,null,null,null,null,null,null,null,null,null,null,null,null,null,{"$f":"((1+AR17)^12)-1","v":0}]
[null,{"$f":"IF((D11+D12)>H9,\"Se excede de la línea autorizada\",\"\")","v":""},null,null,null,null,null,null,null,null,null,null,null,null,null,null,null,null,null,null,null,null,null,null,null,null,null,null,null,null,null,null,null,null,null,null,null,null,null,null,null,null,null,"Corrida para CAT"]
[null,{"$f":"IFERROR(IF(AND(D11>0,B11=\"\"),\"Indique el periodo\",\"\"),\"\")","v":""},null,null,null,null,null,null,null,null,null,"El crédito se liquida",null,null,null,{"$f":"AE19","v":0},"Años",null,null,null,null,null,null,null,null,null,null,null,null,null,null,null,null,null,null,null,null,null,null,null,null,null,null,"TIR"]
[null,null,null,null,null,null,null,null,null,null,null,"por pago puntual en:",null,null,null,{"$f":"AF19","v":0},"Meses",null,null,null,null,null,null,null,null,null,null,null,null,"SI(saldo-1<=0,SI(saldo+1>0,+recibo,0),0)",null,null,null,null,null,null,null,null,null,null,null,null,null,{"$f":"IFERROR(IRR(AR18:AR259,0),0)","v":0}]
[null,null,null,null,null,null,null,null,null,null,null,null,null,null,null,null,null,null,null,null,null,null,null,null,null,null,null,null,null,null,null,null,null,null,null,null,null,null,null,null,null,null,null,{"$f":"AN7-IF(OR(D11>0,D12>0),D11+D12,D8)","v":0}]
["Período","Saldo Inicial",null,"Erogación",null,"Interés",null,"Amortización",null,"Aportación Bimestral",null,"Prepagos a capital",null,"Comisión por prepagos",null,"Tasa aplicada",null,"Saldo Final",null,"Seguro de vida y desempleo",null,"Seguro de daños",null,"Pago Mensual",null,"Inc. Pago",null,"años","meses",{"$f":"SUM(AD20:AD259)","v":1},{"$f":"SUM(AE20:AE259)","v":0},{"$f":"SUM(AF20:AF259)","v":0},{"$f":"AN7-H9","v":0},"Tasa Aplic.","Factor de pago","Saldo Inicial","Erogación","Interés","Amortización","Saldo Final","Tasa Aplic.","Seguros","Incremento Pago","Pago Mensual","Plazo","Fecha","Dias","Período","Año actual","Mes actual","Día actual","Dia/corte","sumar a mes"]
[1,{"$f":"IFERROR(IF(B11>0,VLOOKUP(A20,$B$8:$F$12,3,FALSE),VLOOKUP(A20,$B$8:$F$12,3,FALSE)),0)","v":0},null,{"$f":"IF(D8>0,F8,F11)","v":0},null,{"$f":"IF(B20=0,0,P20/360*AU20*B20)","v":0},null,{"$f":"D20-F20","v":0},null,null,null,null,null,{"$f":"IF(OR('Simulador Valora'!$U$16=1,'Simulador Valora'!$U$16=3,'Simulador Valora'!$U$16=4),0,L20*'Simulador Valora'!$M$74*'Simulador Valora'!$V$21)","v":0},null,{"$f":"IF(B20=0,0,AH20)","v":0},null,{"$f":"B20-H20-J20-L20+N20","v":0},null,{"$f":"IF(B20<=0,0,IF('Simulador Valora'!$Y$76=1,0,B20*'Simulador Valora'!$Y$79))","v":0},null,{"$f":"IF(B20<=0,0,IF('Simulador Valora'!$W$40=1,'Simulador Valora'!$M$60,IF('Simulador Valora'!$W$40=3,'Simulador Valora'!$J$60,IF('Simulador Valora'!$W$40=4,'Simulador Valora'!$E$60))))","v":0},null,{"$f":"IF(B20<=0,0,(D20+L20+T20+V20))","v":0},null,null,null,0,{"$f":"IF(B20=0,0,1)","v":0},{"$f":"+IF(R20<=0,IF(R19>0,+A20,0),0)","v":1},{"$f":"+IF(AD20>0,+AB20,0)","v":0},{"$f":"+IF(AD20>0,+AC20,0)","v":0},{"$f":"X20","v":0},{"$f":"IF('Simulador Valora'!$W$40=1,'Simulador Valora'!$T$34,IF('Simulador Valora'!$W$40=3,'Simulador Valora'!$Y$34,'Simulador Valora'!$AD$34))","v":9.7500000000000003E-2},{"$f":"IFERROR(AK20/AJ20,0)","v":0},{"$f":"B20","v":0},{"$f":"D20","v":0},{"$f":"IFERROR((AO20/360*AU20*AJ20),0)","v":0},{"$f":"+AK20-AL20","v":0},{"$f":"+AJ20-AM20","v":0},{"$f":"IF(AJ20=0,\"\",AH20)","v":""},{"$f":"IF(AJ20<=0,0,IF('Simulador Valora'!$Y$76=1,0,AJ20*'Simulador Valora'!$Y$79))+IF(AJ20<=0,0,IF('Simulador Valora'!$W$40=1,'Simulador Valora'!$M$60,IF('Simulador Valora'!$W$40=3,'Simulador Valora'!$J$60,IF('Simulador Valora'!$W$40=4,'Simulador Valora'!$E$60,0))))","v":0},null,{"$f":"AL20+AM20+AP20","v":0},{"$f":"IF('Simulador Valora'!$W$40=1,240,IF('Simulador Valora'!$W$40=3,180,120))","v":240},{"$f":"IF(AJ20=0,\"\",DATE(AW20,AX20+BA20,AZ20))","v":""},{"$f":"IFERROR(DAY(DATE(YEAR(AT20),MONTH(AT20)+1,0)),0)","v":0},1,{"$f":"IFERROR(YEAR('Simulador Valora'!C7),YEAR('Simulador Valora'!C7))","v":2025},{"$f":"IFERROR(MONTH('Simulador Valora'!C7),MONTH('Simulador Valora'!C7))","v":4},{"$f":"IFERROR(DAY('Simulador Valora'!C7),DAY('Simulador Valora'!C7))","v":10},{"$f":"IF(AND(DAY('Simulador Valora'!C7)>=3,DAY('Simulador Valora'!C7)<=16),3,17)","v":3},{"$f":"IF(AY20>AZ20,1,0)","v":1}]
[2,{"$f":"IF(R20<0,0,IF(A21=$B$11,R20+$D$11,IF(A21=$B$12,R20+$D$12,IF(A21=$B$13,R20+$D$13,R20))))","v":0},null,{"$f":"IF(B21+F21-D20<=0,B21+F21,IF(A21=$B$11,$F$11,IF(A21=$B$12,$F$12,IF(A21=$B$13,$F$13,IF($AP$4=2,B21*AI21,D20*(1+Z21))))))","v":0},null,{"$f":"IF(B21=0,0,P21/360*AU21*B21)","v":0},null,{"$f":"D21-F21","v":0},null,{"$f":"IF(B21=0,0,IF('Simulador Valora'!$Y$3=1,0,IF('Simulador Valora'!$AD$37*'Simulador Valora'!$AF$81*2>'Simulador Valora'!$AG$83,'Simulador Valora'!$AG$83,IF(B21=0,0,'Simulador Valora'!$AD$37*'Simulador Valora'!$AF$81*2))))","v":0},null,null,null,{"$f":"IF(OR('Simulador Valora'!$U$16=1,'Simulador Valora'!$U$16=3,'Simulador Valora'!$U$16=4),0,L21*'Simulador Valora'!$M$74*'Simulador Valora'!$V$21)","v":0},null,{"$f":"IF(B21=0,0,AH21)","v":0},null,{"$f":"B21-H21-J21-L21+N21","v":0},null,{"$f":"IF(B21<=0,0,IF('Simulador Valora'!$Y$76=1,0,B21*'Simulador Valora'!$Y$79))","v":0},null,{"$f":"IF(B21<=0,0,IF('Simulador Valora'!$W$40=1,'Simulador Valora'!$M$60,IF('Simulador Valora'!$W$40=3,'Simulador Valora'!$J$60,IF('Simulador Valora'!$W$40=4,'Simulador Valora'!$E$60))))","v":0},null,{"$f":"IF(B21<=0,0,(D21+L21+T21+V21))","v":0},null,null,null,0,2,{"$f":"+IF(R21<=0,IF(R20>0,+A21,0),0)","v":0},{"$f":"+IF(AD21>0,+AB21,0)","v":0},{"$f":"+IF(AD21>0,+AC21,0)","v":0},{"$f":"X21","v":0},{"$f":"IF('Simulador Valora'!$W$40=1,'Simulador Valora'!$T$34,IF('Simulador Valora'!$W$40=3,'Simulador Valora'!$Y$34,'Simulador Valora'!$AD$34))","v":9.7500000000000003E-2},{"$f":"IFERROR(AK21/AJ21,0)","v":0},{"$f":"IF(AN20<0,0,IF(A21=$B$11,AN20+$D$11,IF(A21=$B$12,AN20+$D$12,IF(A21=$B$13,AN20+$D$13,AN20))))","v":0},{"$f":"IF(AJ21+AL21-AK20<=0,AJ21+AL21,IF(A21=$B$11,$F$11,IF(A21=$B$12,$F$12,IF(A21=$B$13,$F$13,AK20*(1+AQ21)))))","v":0},{"$f":"IFERROR((AO21/360*AU21*AJ21),0)","v":0},0,0,{"$f":"IF(AJ21=0,\"\",AH21)","v":""},{"$f":"IF(AJ21<=0,0,IF('Simulador Valora'!$Y$76=1,0,AJ21*'Simulador Valora'!$Y$79))+IF(AJ21<=0,0,IF('Simulador Valora'!$W$40=1,'Simulador Valora'!$M$60,IF('Simulador Valora'!$W$40=3,'Simulador Valora'!$J$60,IF('Simulador Valora'!$W$40=4,'Simulador Valora'!$E$60,0))))","v":0},null,{"$f":"AL21+AM21+AP21","v":0},{"$f":"IFERROR(IF(AK21<=0.01,0,AS20-1),0)","v":0},{"$f":"IF(AJ21=0,\"\",DATE(YEAR(AT20),MONTH(AT20)+1,1))","v":""},{"$f":"IFERROR(DAY(DATE(YEAR(AT21),MONTH(AT21)+1,0)),0)","v":0},2]
[3,{"$f":"IF(R21<0,0,IF(A22=$B$11,R21+$D$11,IF(A22=$B$12,R21+$D$12,IF(A22=$B$13,R21+$D$13,R21))))","v":0},null,0,null,0,null,{"$f":"D22-F22","v":0},null,null,null,null,null,{"$f":"IF(OR('Simulador Valora'!$U$16=1,'Simulador Valora'!$U$16=3,'Simulador Valora'!$U$16=4),0,L22*'Simulador Valora'!$M$74*'Simulador Valora'!$V$21)","v":0},null,{"$f":"IF(B22=0,0,AH22)","v":0},null,0,null,{"$f":"IF(B22<=0,0,IF('Simulador Valora'!$Y$76=1,0,B22*'Simulador Valora'!$Y$79))","v":0},null,{"$f":"IF(B22<=0,0,IF('Simulador Valora'!$W$40=1,'Simulador Valora'!$M$60,IF('Simulador Valora'!$W$40=3,'Simulador Valora'!$J$60,IF('Simulador Valora'!$W$40=4,'Simulador Valora'!$E$60))))","v":0},null,0,null,null,null,0,3,0,0,0,0,{"$f":"IF('Simulador Valora'!$W$40=1,'Simulador Valora'!$T$34,IF('Simulador Valora'!$W$40=3,'Simulador Valora'!$Y$34,'Simulador Valora'!$AD$34))","v":9.7500000000000003E-2},0,{"$f":"IF(AN21<0,0,IF(A22=$B$11,AN21+$D$11,IF(A22=$B$12,AN21+$D$12,IF(A22=$B$13,AN21+$D$13,AN21))))","v":0},{"$f":"IF(AJ22+AL22-AK21<=0,AJ22+AL22,IF(A22=$B$11,$F$11,IF(A22=$B$12,$F$12,IF(A22=$B$13,$F$13,AK21*(1+AQ22)))))","v":0},0,0,0,"",{"$f":"IF(AJ22<=0,0,IF('Simulador Valora'!$Y$76=1,0,AJ22*'Simulador Valora'!$Y$79))+IF(AJ22<=0,0,IF('Simulador Valora'!$W$40=1,'Simulador Valora'!$M$60,IF('Simulador Valora'!$W$40=3,'Simulador Valora'!$J$60,IF('Simulador Valora'!$W$40=4,'Simulador Valora'!$E$60,0))))","v":0},null,0,0,{"$f":"IF(AJ22=0,\"\",DATE(YEAR(AT21),MONTH(AT21)+1,1))","v":""},0,3,"Días/Mes",{"$f":"365.25/12","v":30.4375}]
[4,0,null,0,null,0,null,0,null,{"$f":"IF(B23-H23=0,0,J21)","v":0},null,null,null,{"$f":"IF(OR('Simulador Valora'!$U$16=1,'Simulador Valora'!$U$16=3,'Simulador Valora'!$U$16=4),0,L23*'Simulador Valora'!$M$74*'Simulador Valora'!$V$21)","v":0},null,0,null,0,null,{"$f":"IF(B23<=0,0,IF('Simulador Valora'!$Y$76=1,0,B23*'Simulador Valora'!$Y$79))","v":0},null,{"$f":"IF(B23<=0,0,IF('Simulador Valora'!$W$40=1,'Simulador Valora'!$M$60,IF('Simulador Valora'!$W$40=3,'Simulador Valora'!$J$60,IF('Simulador Valora'!$W$40=4,'Simulador Valora'!$E$60))))","v":0},null,0,null,null,null,0,4,0,0,0,0,{"$f":"IF('Simulador Valora'!$W$40=1,'Simulador Valora'!$T$34,IF('Simulador Valora'!$W$40=3,'Simulador Valora'!$Y$34,'Simulador Valora'!$AD$34))","v":9.7500000000000003E-2},0,0,0,0,0,0,"",{"$f":"IF(AJ23<=0,0,IF('Simulador Valora'!$Y$76=1,0,AJ23*'Simulador Valora'!$Y$79))+IF(AJ23<=0,0,IF('Simulador Valora'!$W$40=1,'Simulador Valora'!$M$60,IF('Simulador Valora'!$W$40=3,'Simulador Valora'!$J$60,IF('Simulador Valora'!$W$40=4,'Simulador Valora'!$E$60,0))))","v":0},null,0,0,"",0,4,null,"Interés mensual = Sdo inicial x tasa / 360 x # días del mes"]
[5,0,null,0,null,0,null,0,null,null,null,null,null,{"$f":"IF(OR('Simulador Valora'!$U$16=1,'Simulador Valora'!$U$16=3,'Simulador Valora'!$U$16=4),0,L24*'Simulador Valora'!$M$74*'Simulador Valora'!$V$21)","v":0},null,0,null,0,null,{"$f":"IF(B24<=0,0,IF('Simulador Valora'!$Y$76=1,0,B24*'Simulador Valora'!$Y$79))","v":0},null,{"$f":"IF(B24<=0,0,IF('Simulador Valora'!$W$40=1,'Simulador Valora'!$M$60,IF('Simulador Valora'!$W$40=3,'Simulador Valora'!$J$60,IF('Simulador Valora'!$W$40=4,'Simulador Valora'!$E$60))))","v":0},null,0,null,null,null,0,5,0,0,0,0,{"$f":"IF('Simulador Valora'!$W$40=1,'Simulador Valora'!$T$34,IF('Simulador Valora'!$W$40=3,'Simulador Valora'!$Y$34,'Simulador Valora'!$AD$34))","v":9.7500000000000003E-2},0,0,0,0,0,0,"",{"$f":"IF(AJ24<=0,0,IF('Simulador Valora'!$Y$76=1,0,AJ24*'Simulador Valora'!$Y$79))+IF(AJ24<=0,0,IF('Simulador Valora'!$W$40=1,'Simulador Valora'!$M$60,IF('Simulador Valora'!$W$40=3,'Simulador Valora'!$J$60,IF('Simulador Valora'!$W$40=4,'Simulador Valora'!$E$60,0))))","v":0},null,0,0,"",0,5]
[6,0,null,0,null,0,null,0,null,{"$f":"IF(B25-H25=0,0,J23)","v":0},null,null,null,{"$f":"IF(OR('Simulador Valora'!$U$16=1,'Simulador Valora'!$U$16=3,'Simulador Valora'!$U$16=4),0,L25*'Simulador Valora'!$M$74*'Simulador Valora'!$V$21)","v":0},null,0,null,0,null,{"$f":"IF(B25<=0,0,IF('Simulador Valora'!$Y$76=1,0,B25*'Simulador Valora'!$Y$79))","v":0},null,{"$f":"IF(B25<=0,0,IF('Simulador Valora'!$W$40=1,'Simulador Valora'!$M$60,IF('Simulador Valora'!$W$40=3,'Simulador Valora'!$J$60,IF('Simulador Valora'!$W$40=4,'Simulador Valora'!$E$60))))","v":0},null,0,null,null,null,0,6,0,0,0,0,{"$f":"IF('Simulador Valora'!$W$40=1,'Simulador Valora'!$T$34,IF('Simulador Valora'!$W$40=3,'Simulador Valora'!$Y$34,'Simulador Valora'!$AD$34))","v":9.7500000000000003E-2},0,0,0,0,0,0,"",{"$f":"IF(AJ25<=0,0,IF('Simulador Valora'!$Y$76=1,0,AJ25*'Simulador Valora'!$Y$79))+IF(AJ25<=0,0,IF('Simulador Valora'!$W$40=1,'Simulador Valora'!$M$60,IF('Simulador Valora'!$W$40=3,'Simulador Valora'!$J$60,IF('Simulador Valora'!$W$40=4,'Simulador Valora'!$E$60,0))))","v":0},null,0,0,"",0,6]
[7,0,null,0,null,0,null,0,null,null,null,null,null,{"$f":"IF(OR('Simulador Valora'!$U$16=1,'Simulador Valora'!$U$16=3,'Simulador Valora'!$U$16=4),0,L26*'Simulador Valora'!$M$74*'Simulador Valora'!$V$21)","v":0},null,0,null,0,null,{"$f":"IF(B26<=0,0,IF('Simulador Valora'!$Y$76=1,0,B26*'Simulador Valora'!$Y$79))","v":0},null,{"$f":"IF(B26<=0,0,IF('Simulador Valora'!$W$40=1,'Simulador Valora'!$M$60,IF('Simulador Valora'!$W$40=3,'Simulador Valora'!$J$60,IF('Simulador Valora'!$W$40=4,'Simulador Valora'!$E$60))))","v":0},null,0,null,null,null,0,7,0,0,0,0,{"$f":"IF('Simulador Valora'!$W$40=1,'Simulador Valora'!$T$34,IF('Simulador Valora'!$W$40=3,'Simulador Valora'!$Y$34,'Simulador Valora'!$AD$34))","v":9.7500000000000003E-2},0,0,0,0,0,0,"",{"$f":"IF(AJ26<=0,0,IF('Simulador Valora'!$Y$76=1,0,AJ26*'Simulador Valora'!$Y$79))+IF(AJ26<=0,0,IF('Simulador Valora'!$W$40=1,'Simulador Valora'!$M$60,IF('Simulador Valora'!$W$40=3,'Simulador Valora'!$J$60,IF('Simulador Valora'!$W$40=4,'Simulador Valora'!$E$60,0))))","v":0},null,0,0,"",0,7]
[8,0,null,0,null,0,null,0,null,{"$f":"IF(B27-H27=0,0,J25)","v":0},null,null,null,{"$f":"IF(OR('Simulador Valora'!$U$16=1,'Simulador Valora'!$U$16=3,'Simulador Valora'!$U$16=4),0,L27*'Simulador Valora'!$M$74*'Simulador Valora'!$V$21)","v":0},null,0,null,0,null,{"$f":"IF(B27<=0,0,IF('Simulador Valora'!$Y$76=1,0,B27*'Simulador Valora'!$Y$79))","v":0},null,{"$f":"IF(B27<=0,0,IF('Simulador Valora'!$W$40=1,'Simulador Valora'!$M$60,IF('Simulador Valora'!$W$40=3,'Simulador Valora'!$J$60,IF('Simulador Valora'!$W$40=4,'Simulador Valora'!$E$60))))","v":0},null,0,null,null,null,0,8,0,0,0,0,{"$f":"IF('Simulador Valora'!$W$40=1,'Simulador Valora'!$T$34,IF('Simulador Valora'!$W$40=3,'Simulador Valora'!$Y$34,'Simulador Valora'!$AD$34))","v":9.7500000000000003E-2},0,0,0,0,0,0,"",{"$f":"IF(AJ27<=0,0,IF('Simulador Valora'!$Y$76=1,0,AJ27*'Simulador Valora'!$Y$79))+IF(AJ27<=0,0,IF('Simulador Valora'!$W$40=1,'Simulador Valora'!$M$60,IF('Simulador Valora'!$W$40=3,'Simulador Valora'!$J$60,IF('Simulador Valora'!$W$40=4,'Simulador Valora'!$E$60,0))))","v":0},null,0,0,"",0,8]
[9,0,null,0,null,0,null,0,null,null,null,null,null,{"$f":"IF(OR('Simulador Valora'!$U$16=1,'Simulador Valora'!$U$16=3,'Simulador Valora'!$U$16=4),0,L28*'Simulador Valora'!$M$74*'Simulador Valora'!$V$21)","v":0},null,0,null,0,null,{"$f":"IF(B28<=0,0,IF('Simulador Valora'!$Y$76=1,0,B28*'Simulador Valora'!$Y$79))","v":0},null,{"$f":"IF(B28<=0,0,IF('Simulador Valora'!$W$40=1,'Simulador Valora'!$M$60,IF('Simulador Valora'!$W$40=3,'Simulador Valora'!$J$60,IF('Simulador Valora'!$W$40=4,'Simulador Valora'!$E$60))))","v":0},null,0,null,null,null,0,9,0,0,0,0,{"$f":"IF('Simulador Valora'!$W$40=1,'Simulador Valora'!$T$34,IF('Simulador Valora'!$W$40=3,'Simulador Valora'!$Y$34,'Simulador Valora'!$AD$34))","v":9.7500000000000003E-2},0,0,0,0,0,0,"",{"$f":"IF(AJ28<=0,0,IF('Simulador Valora'!$Y$76=1,0,AJ28*'Simulador Valora'!$Y$79))+IF(AJ28<=0,0,IF('Simulador Valora'!$W$40=1,'Simulador Valora'!$M$60,IF('Simulador Valora'!$W$40=3,'Simulador Valora'!$J$60,IF('Simulador Valora'!$W$40=4,'Simulador Valora'!$E$60,0))))","v":0},null,0,0,"",0,9]
[10,0,null,0,null,0,null,0,null,{"$f":"IF(B29-H29=0,0,J27)","v":0},null,null,null,{"$f":"IF(OR('Simulador Valora'!$U$16=1,'Simulador Valora'!$U$16=3,'Simulador Valora'!$U$16=4),0,L29*'Simulador Valora'!$M$74*'Simulador Valora'!$V$21)","v":0},null,0,null,0,null,{"$f":"IF(B29<=0,0,IF('Simulador Valora'!$Y$76=1,0,B29*'Simulador Valora'!$Y$79))","v":0},null,{"$f":"IF(B29<=0,0,IF('Simulador Valora'!$W$40=1,'Simulador Valora'!$M$60,IF('Simulador Valora'!$W$40=3,'Simulador Valora'!$J$60,IF('Simulador Valora'!$W$40=4,'Simulador Valora'!$E$60))))","v":0},null,0,null,null,null,0,10,0,0,0,0,{"$f":"IF('Simulador Valora'!$W$40=1,'Simulador Valora'!$T$34,IF('Simulador Valora'!$W$40=3,'Simulador Valora'!$Y$34,'Simulador Valora'!$AD$34))","v":9.7500000000000003E-2},0,0,0,0,0,0,"",{"$f":"IF(AJ29<=0,0,IF('Simulador Valora'!$Y$76=1,0,AJ29*'Simulador Valora'!$Y$79))+IF(AJ29<=0,0,IF('Simulador Valora'!$W$40=1,'Simulador Valora'!$M$60,IF('Simulador Valora'!$W$40=3,'Simulador Valora'!$J$60,IF('Simulador Valora'!$W$40=4,'Simulador Valora'!$E$60,0))))","v":0},null,0,0,"",0,10]
[11,0,null,0,null,0,null,0,null,null,null,null,null,{"$f":"IF(OR('Simulador Valora'!$U$16=1,'Simulador Valora'!$U$16=3,'Simulador Valora'!$U$16=4),0,L30*'Simulador Valora'!$M$74*'Simulador Valora'!$V$21)","v":0},null,0,null,0,null,{"$f":"IF(B30<=0,0,IF('Simulador Valora'!$Y$76=1,0,B30*'Simulador Valora'!$Y$79))","v":0},null,{"$f":"IF(B30<=0,0,IF('Simulador Valora'!$W$40=1,'Simulador Valora'!$M$60,IF('Simulador Valora'!$W$40=3,'Simulador Valora'!$J$60,IF('Simulador Valora'!$W$40=4,'Simulador Valora'!$E$60))))","v":0},null,0,null,null,null,0,11,0,0,0,0,{"$f":"IF('Simulador Valora'!$W$40=1,'Simulador Valora'!$T$34,IF('Simulador Valora'!$W$40=3,'Simulador Valora'!$Y$34,'Simulador Valora'!$AD$34))","v":9.7500000000000003E-2},0,0,0,0,0,0,"",{"$f":"IF(AJ30<=0,0,IF('Simulador Valora'!$Y$76=1,0,AJ30*'Simulador Valora'!$Y$79))+IF(AJ30<=0,0,IF('Simulador Valora'!$W$40=1,'Simulador Valora'!$M$60,IF('Simulador Valora'!$W$40=3,'Simulador Valora'!$J$60,IF('Simulador Valora'!$W$40=4,'Simulador Valora'!$E$60,0))))","v":0},null,0,0,"",0,11]
[12,0,null,0,null,0,null,0,null,{"$f":"IF(B31-H31=0,0,J29)","v":0},null,null,null,{"$f":"IF(OR('Simulador Valora'!$U$16=1,'Simulador Valora'!$U$16=3,'Simulador Valora'!$U$16=4),0,L31*'Simulador Valora'!$M$74*'Simulador Valora'!$V$21)","v":0},null,0,null,0,null,{"$f":"IF(B31<=0,0,IF('Simulador Valora'!$Y$76=1,0,B31*'Simulador Valora'!$Y$79))","v":0},null,{"$f":"IF(B31<=0,0,IF('Simulador Valora'!$W$40=1,'Simulador Valora'!$M$60,IF('Simulador Valora'!$W$40=3,'Simulador Valora'!$J$60,IF('Simulador Valora'!$W$40=4,'Simulador Valora'!$E$60))))","v":0},null,0,null,null,null,1,0,0,0,0,0,{"$f":"IF('Simulador Valora'!$W$40=1,'Simulador Valora'!$T$34,IF('Simulador Valora'!$W$40=3,'Simulador Valora'!$Y$34,'Simulador Valora'!$AD$34))","v":9.7500000000000003E-2},0,0,0,0,0,0,"",{"$f":"IF(AJ31<=0,0,IF('Simulador Valora'!$Y$76=1,0,AJ31*'Simulador Valora'!$Y$79))+IF(AJ31<=0,0,IF('Simulador Valora'!$W$40=1,'Simulador Valora'!$M$60,IF('Simulador Valora'!$W$40=3,'Simulador Valora'!$J$60,IF('Simulador Valora'!$W$40=4,'Simulador Valora'!$E$60,0))))","v":0},null,0,0,"",0,12]
[13,0,null,0,null,0,null,0,null,null,null,null,null,{"$f":"IF(OR('Simulador Valora'!$U$16=1,'Simulador Valora'!$U$16=3,'Simulador Valora'!$U$16=4),0,L32*'Simulador Valora'!$M$74*'Simulador Valora'!$V$21)","v":0},null,0,null,0,null,{"$f":"IF(B32<=0,0,IF('Simulador Valora'!$Y$76=1,0,B32*'Simulador Valora'!$Y$79))","v":0},null,{"$f":"IF(B32<=0,0,IF('Simulador Valora'!$W$40=1,'Simulador Valora'!$M$60,IF('Simulador Valora'!$W$40=3,'Simulador Valora'!$J$60,IF('Simulador Valora'!$W$40=4,'Simulador Valora'!$E$60))))","v":0},null,0,null,{"$f":"IF(B32<=0,0,'Simulador Valora'!$AG$57)","v":0},null,1,1,0,0,0,0,{"$f":"IF('Simulador Valora'!$W$40=1,'Simulador Valora'!$T$34,IF('Simulador Valora'!$W$40=3,'Simulador Valora'!$Y$34,'Simulador Valora'!$AD$34))","v":9.7500000000000003E-2},0,0,0,0,0,0,"",{"$f":"IF(AJ32<=0,0,IF('Simulador Valora'!$Y$76=1,0,AJ32*'Simulador Valora'!$Y$79))+IF(AJ32<=0,0,IF('Simulador Valora'!$W$40=1,'Simulador Valora'!$M$60,IF('Simulador Valora'!$W$40=3,'Simulador Valora'!$J$60,IF('Simulador Valora'!$W$40=4,'Simulador Valora'!$E$60,0))))","v":0},{"$f":"IF(AJ32<=0,0,'Simulador Valora'!$AG$57)","v":0},0,0,"",0,13]
[14,0,null,0,null,0,null,0,null,{"$f":"IF(B33-H33=0,0,J31*(1+(3%)))","v":0},null,null,null,{"$f":"IF(OR('Simulador Valora'!$U$16=1,'Simulador Valora'!$U$16=3,'Simulador Valora'!$U$16=4),0,L33*'Simulador Valora'!$M$74*'Simulador Valora'!$V$21)","v":0},null,0,null,0,null,{"$f":"IF(B33<=0,0,IF('Simulador Valora'!$Y$76=1,0,B33*'Simulador Valora'!$Y$79))","v":0},null,{"$f":"IF(B33<=0,0,IF('Simulador Valora'!$W$40=1,'Simulador Valora'!$M$60,IF('Simulador Valora'!$W$40=3,'Simulador Valora'!$J$60,IF('Simulador Valora'!$W$40=4,'Simulador Valora'!$E$60))))","v":0},null,0,null,null,null,1,2,0,0,0,0,{"$f":"IF('Simulador Valora'!$W$40=1,'Simulador Valora'!$T$34,IF('Simulador Valora'!$W$40=3,'Simulador Valora'!$Y$34,'Simulador Valora'!$AD$34))","v":9.7500000000000003E-2},0,0,0,0,0,0,"",{"$f":"IF(AJ33<=0,0,IF('Simulador Valora'!$Y$76=1,0,AJ33*'Simulador Valora'!$Y$79))+IF(AJ33<=0,0,IF('Simulador Valora'!$W$40=1,'Simulador Valora'!$M$60,IF('Simulador Valora'!$W$40=3,'Simulador Valora'!$J$60,IF('Simulador Valora'!$W$40=4,'Simulador Valora'!$E$60,0))))","v":0},null,0,0,"",0,14]
[15,0,null,0,null,0,null,0,null,null,null,null,null,{"$f":"IF(OR('Simulador Valora'!$U$16=1,'Simulador Valora'!$U$16=3,'Simulador Valora'!$U$16=4),0,L34*'Simulador Valora'!$M$74*'Simulador Valora'!$V$21)","v":0},null,0,null,0,null,{"$f":"IF(B34<=0,0,IF('Simulador Valora'!$Y$76=1,0,B34*'Simulador Valora'!$Y$79))","v":0},null,{"$f":"IF(B34<=0,0,IF('Simulador Valora'!$W$40=1,'Simulador Valora'!$M$60,IF('Simulador Valora'!$W$40=3,'Simulador Valora'!$J$60,IF('Simulador Valora'!$W$40=4,'Simulador Valora'!$E$60))))","v":0},null,0,null,null,null,1,3,0,0,0,0,{"$f":"IF('Simulador Valora'!$W$40=1,'Simulador Valora'!$T$34,IF('Simulador Valora'!$W$40=3,'Simulador Valora'!$Y$34,'Simulador Valora'!$AD$34))","v":9.7500000000000003E-2},0,0,0,0,0,0,"",{"$f":"IF(AJ34<=0,0,IF('Simulador Valora'!$Y$76=1,0,AJ34*'Simulador Valora'!$Y$79))+IF(AJ34<=0,0,IF('Simulador Valora'!$W$40=1,'Simulador Valora'!$M$60,IF('Simulador Valora'!$W$40=3,'Simulador Valora'!$J$60,IF('Simulador Valora'!$W$40=4,'Simulador Valora'!$E$60,0))))","v":0},null,0,0,"",0,15]
[16,0,null,0,null,0,null,0,null,{"$f":"IF(B35-H35=0,0,J33)","v":0},null,null,null,{"$f":"IF(OR('Simulador Valora'!$U$16=1,'Simulador Valora'!$U$16=3,'Simulador Valora'!$U$16=4),0,L35*'Simulador Valora'!$M$74*'Simulador Valora'!$V$21)","v":0},null,0,null,0,null,{"$f":"IF(B35<=0,0,IF('Simulador Valora'!$Y$76=1,0,B35*'Simulador Valora'!$Y$79))","v":0},null,{"$f":"IF(B35<=0,0,IF('Simulador Valora'!$W$40=1,'Simulador Valora'!$M$60,IF('Simulador Valora'!$W$40=3,'Simulador Valora'!$J$60,IF('Simulador Valora'!$W$40=4,'Simulador Valora'!$E$60))))","v":0},null,0,null,null,null,1,4,0,0,0,0,{"$f":"IF('Simulador Valora'!$W$40=1,'Simulador Valora'!$T$34,IF('Simulador Valora'!$W$40=3,'Simulador Valora'!$Y$34,'Simulador Valora'!$AD$34))","v":9.7500000000000003E-2},0,0,0,0,0,0,"",{"$f":"IF(AJ35<=0,0,IF('Simulador Valora'!$Y$76=1,0,AJ35*'Simulador Valora'!$Y$79))+IF(AJ35<=0,0,IF('Simulador Valora'!$W$40=1,'Simulador Valora'!$M$60,IF('Simulador Valora'!$W$40=3,'Simulador Valora'!$J$60,IF('Simulador Valora'!$W$40=4,'Simulador Valora'!$E$60,0))))","v":0},null,0,0,"",0,16]
[17,0,null,0,null,0,null,0,null,null,null,null,null,{"$f":"IF(OR('Simulador Valora'!$U$16=1,'Simulador Valora'!$U$16=3,'Simulador Valora'!$U$16=4),0,L36*'Simulador Valora'!$M$74*'Simulador Valora'!$V$21)","v":0},null,0,null,0,null,{"$f":"IF(B36<=0,0,IF('Simulador Valora'!$Y$76=1,0,B36*'Simulador Valora'!$Y$79))","v":0},null,{"$f":"IF(B36<=0,0,IF('Simulador Valora'!$W$40=1,'Simulador Valora'!$M$60,IF('Simulador Valora'!$W$40=3,'Simulador Valora'!$J$60,IF('Simulador Valora'!$W$40=4,'Simulador Valora'!$E$60))))","v":0},null,0,null,null,null,1,5,0,0,0,0,{"$f":"IF('Simulador Valora'!$W$40=1,'Simulador Valora'!$T$34,IF('Simulador Valora'!$W$40=3,'Simulador Valora'!$Y$34,'Simulador Valora'!$AD$34))","v":9.7500000000000003E-2},0,0,0,0,0,0,"",{"$f":"IF(AJ36<=0,0,IF('Simulador Valora'!$Y$76=1,0,AJ36*'Simulador Valora'!$Y$79))+IF(AJ36<=0,0,IF('Simulador Valora'!$W$40=1,'Simulador Valora'!$M$60,IF('Simulador Valora'!$W$40=3,'Simulador Valora'!$J$60,IF('Simulador Valora'!$W$40=4,'Simulador Valora'!$E$60,0))))","v":0},null,0,0,"",0,17]
[18,0,null,0,null,0,null,0,null,{"$f":"IF(B37-H37=0,0,J35)","v":0},null,null,null,{"$f":"IF(OR('Simulador Valora'!$U$16=1,'Simulador Valora'!$U$16=3,'Simulador Valora'!$U$16=4),0,L37*'Simulador Valora'!$M$74*'Simulador Valora'!$V$21)","v":0},null,0,null,0,null,{"$f":"IF(B37<=0,0,IF('Simulador Valora'!$Y$76=1,0,B37*'Simulador Valora'!$Y$79))","v":0},null,{"$f":"IF(B37<=0,0,IF('Simulador Valora'!$W$40=1,'Simulador Valora'!$M$60,IF('Simulador Valora'!$W$40=3,'Simulador Valora'!$J$60,IF('Simulador Valora'!$W$40=4,'Simulador Valora'!$E$60))))","v":0},null,0,null,null,null,1,6,0,0,0,0,{"$f":"IF('Simulador Valora'!$W$40=1,'Simulador Valora'!$T$34,IF('Simulador Valora'!$W$40=3,'Simulador Valora'!$Y$34,'Simulador Valora'!$AD$34))","v":9.7500000000000003E-2},0,0,0,0,0,0,"",{"$f":"IF(AJ37<=0,0,IF('Simulador Valora'!$Y$76=1,0,AJ37*'Simulador Valora'!$Y$79))+IF(AJ37<=0,0,IF('Simulador Valora'!$W$40=1,'Simulador Valora'!$M$60,IF('Simulador Valora'!$W$40=3,'Simulador Valora'!$J$60,IF('Simulador Valora'!$W$40=4,'Simulador Valora'!$E$60,0))))","v":0},null,0,0,"",0,18]
[19,0,null,0,null,0,null,0,null,null,null,null,null,{"$f":"IF(OR('Simulador Valora'!$U$16=1,'Simulador Valora'!$U$16=3,'Simulador Valora'!$U$16=4),0,L38*'Simulador Valora'!$M$74*'Simulador Valora'!$V$21)","v":0},null,0,null,0,null,{"$f":"IF(B38<=0,0,IF('Simulador Valora'!$Y$76=1,0,B38*'Simulador Valora'!$Y$79))","v":0},null,{"$f":"IF(B38<=0,0,IF('Simulador Valora'!$W$40=1,'Simulador Valora'!$M$60,IF('Simulador Valora'!$W$40=3,'Simulador Valora'!$J$60,IF('Simulador Valora'!$W$40=4,'Simulador Valora'!$E$60))))","v":0},null,0,null,null,null,1,7,0,0,0,0,{"$f":"IF('Simulador Valora'!$W$40=1,'Simulador Valora'!$T$34,IF('Simulador Valora'!$W$40=3,'Simulador Valora'!$Y$34,'Simulador Valora'!$AD$34))","v":9.7500000000000003E-2},0,0,0,0,0,0,"",{"$f":"IF(AJ38<=0,0,IF('Simulador Valora'!$Y$76=1,0,AJ38*'Simulador Valora'!$Y$79))+IF(AJ38<=0,0,IF('Simulador Valora'!$W$40=1,'Simulador Valora'!$M$60,IF('Simulador Valora'!$W$40=3,'Simulador Valora'!$J$60,IF('Simulador Valora'!$W$40=4,'Simulador Valora'!$E$60,0))))","v":0},null,0,0,"",0,19]
[20,0,null,0,null,0,null,0,null,{"$f":"IF(B39-H39=0,0,J37)","v":0},null,null,null,{"$f":"IF(OR('Simulador Valora'!$U$16=1,'Simulador Valora'!$U$16=3,'Simulador Valora'!$U$16=4),0,L39*'Simulador Valora'!$M$74*'Simulador Valora'!$V$21)","v":0},null,0,null,0,null,{"$f":"IF(B39<=0,0,IF('Simulador Valora'!$Y$76=1,0,B39*'Simulador Valora'!$Y$79))","v":0},null,{"$f":"IF(B39<=0,0,IF('Simulador Valora'!$W$40=1,'Simulador Valora'!$M$60,IF('Simulador Valora'!$W$40=3,'Simulador Valora'!$J$60,IF('Simulador Valora'!$W$40=4,'Simulador Valora'!$E$60))))","v":0},null,0,null,null,null,1,8,0,0,0,0,{"$f":"IF('Simulador Valora'!$W$40=1,'Simulador Valora'!$T$34,IF('Simulador Valora'!$W$40=3,'Simulador Valora'!$Y$34,'Simulador Valora'!$AD$34))","v":9.7500000000000003E-2},0,0,0,0,0,0,"",{"$f":"IF(AJ39<=0,0,IF('Simulador Valora'!$Y$76=1,0,AJ39*'Simulador Valora'!$Y$79))+IF(AJ39<=0,0,IF('Simulador Valora'!$W$40=1,'Simulador Valora'!$M$60,IF('Simulador Valora'!$W$40=3,'Simulador Valora'!$J$60,IF('Simulador Valora'!$W$40=4,'Simulador Valora'!$E$60,0))))","v":0},null,0,0,"",0,20]
[21,0,null,0,null,0,null,0,null,null,null,null,null,{"$f":"IF(OR('Simulador Valora'!$U$16=1,'Simulador Valora'!$U$16=3,'Simulador Valora'!$U$16=4),0,L40*'Simulador Valora'!$M$74*'Simulador Valora'!$V$21)","v":0},null,0,null,0,null,{"$f":"IF(B40<=0,0,IF('Simulador Valora'!$Y$76=1,0,B40*'Simulador Valora'!$Y$79))","v":0},null,{"$f":"IF(B40<=0,0,IF('Simulador Valora'!$W$40=1,'Simulador Valora'!$M$60,IF('Simulador Valora'!$W$40=3,'Simulador Valora'!$J$60,IF('Simulador Valora'!$W$40=4,'Simulador Valora'!$E$60))))","v":0},null,0,null,null,null,1,9,0,0,0,0,{"$f":"IF('Simulador Valora'!$W$40=1,'Simulador Valora'!$T$34,IF('Simulador Valora'!$W$40=3,'Simulador Valora'!$Y$34,'Simulador Valora'!$AD$34))","v":9.7500000000000003E-2},0,0,0,0,0,0,"",{"$f":"IF(AJ40<=0,0,IF('Simulador Valora'!$Y$76=1,0,AJ40*'Simulador Valora'!$Y$79))+IF(AJ40<=0,0,IF('Simulador Valora'!$W$40=1,'Simulador Valora'!$M$60,IF('Simulador Valora'!$W$40=3,'Simulador Valora'!$J$60,IF('Simulador Valora'!$W$40=4,'Simulador Valora'!$E$60,0))))","v":0},null,0,0,"",0,21]
[22,0,null,0,null,0,null,0,null,{"$f":"IF(B41-H41=0,0,J39)","v":0},null,null,null,{"$f":"IF(OR('Simulador Valora'!$U$16=1,'Simulador Valora'!$U$16=3,'Simulador Valora'!$U$16=4),0,L41*'Simulador Valora'!$M$74*'Simulador Valora'!$V$21)","v":0},null,0,null,0,null,{"$f":"IF(B41<=0,0,IF('Simulador Valora'!$Y$76=1,0,B41*'Simulador Valora'!$Y$79))","v":0},null,{"$f":"IF(B41<=0,0,IF('Simulador Valora'!$W$40=1,'Simulador Valora'!$M$60,IF('Simulador Valora'!$W$40=3,'Simulador Valora'!$J$60,IF('Simulador Valora'!$W$40=4,'Simulador Valora'!$E$60))))","v":0},null,0,null,null,null,1,10,0,0,0,0,{"$f":"IF('Simulador Valora'!$W$40=1,'Simulador Valora'!$T$34,IF('Simulador Valora'!$W$40=3,'Simulador Valora'!$Y$34,'Simulador Valora'!$AD$34))","v":9.7500000000000003E-2},0,0,0,0,0,0,"",{"$f":"IF(AJ41<=0,0,IF('Simulador Valora'!$Y$76=1,0,AJ41*'Simulador Valora'!$Y$79))+IF(AJ41<=0,0,IF('Simulador Valora'!$W$40=1,'Simulador Valora'!$M$60,IF('Simulador Valora'!$W$40=3,'Simulador Valora'!$J$60,IF('Simulador Valora'!$W$40=4,'Simulador Valora'!$E$60,0))))","v":0},null,0,0,"",0,22]
[23,0,null,0,null,0,null,0,null,null,null,null,null,{"$f":"IF(OR('Simulador Valora'!$U$16=1,'Simulador Valora'!$U$16=3,'Simulador Valora'!$U$16=4),0,L42*'Simulador Valora'!$M$74*'Simulador Valora'!$V$21)","v":0},null,0,null,0,null,{"$f":"IF(B42<=0,0,IF('Simulador Valora'!$Y$76=1,0,B42*'Simulador Valora'!$Y$79))","v":0},null,{"$f":"IF(B42<=0,0,IF('Simulador Valora'!$W$40=1,'Simulador Valora'!$M$60,IF('Simulador Valora'!$W$40=3,'Simulador Valora'!$J$60,IF('Simulador Valora'!$W$40=4,'Simulador Valora'!$E$60))))","v":0},null,0,null,null,null,1,11,0,0,0,0,{"$f":"IF('Simulador Valora'!$W$40=1,'Simulador Valora'!$T$34,IF('Simulador Valora'!$W$40=3,'Simulador Valora'!$Y$34,'Simulador Valora'!$AD$34))","v":9.7500000000000003E-2},0,0,0,0,0,0,"",{"$f":"IF(AJ42<=0,0,IF('Simulador Valora'!$Y$76=1,0,AJ42*'Simulador Valora'!$Y$79))+IF(AJ42<=0,0,IF('Simulador Valora'!$W$40=1,'Simulador Valora'!$M$60,IF('Simulador Valora'!$W$40=3,'Simulador Valora'!$J$60,IF('Simulador Valora'!$W$40=4,'Simulador Valora'!$E$60,0))))","v":0},null,0,0,"",0,23]
[24,0,null,0,null,0,null,0,null,{"$f":"IF(B43-H43=0,0,J41)","v":0},null,null,null,{"$f":"IF(OR('Simulador Valora'!$U$16=1,'Simulador Valora'!$U$16=3,'Simulador Valora'!$U$16=4),0,L43*'Simulador Valora'!$M$74*'Simulador Valora'!$V$21)","v":0},null,0,null,0,null,{"$f":"IF(B43<=0,0,IF('Simulador Valora'!$Y$76=1,0,B43*'Simulador Valora'!$Y$79))","v":0},null,{"$f":"IF(B43<=0,0,IF('Simulador Valora'!$W$40=1,'Simulador Valora'!$M$60,IF('Simulador Valora'!$W$40=3,'Simulador Valora'!$J$60,IF('Simulador Valora'!$W$40=4,'Simulador Valora'!$E$60))))","v":0},null,0,null,null,null,2,0,0,0,0,0,{"$f":"IF('Simulador Valora'!$W$40=1,'Simulador Valora'!$T$34,IF('Simulador Valora'!$W$40=3,'Simulador Valora'!$Y$34,'Simulador Valora'!$AD$34))","v":9.7500000000000003E-2},0,0,0,0,0,0,"",{"$f":"IF(AJ43<=0,0,IF('Simulador Valora'!$Y$76=1,0,AJ43*'Simulador Valora'!$Y$79))+IF(AJ43<=0,0,IF('Simulador Valora'!$W$40=1,'Simulador Valora'!$M$60,IF('Simulador Valora'!$W$40=3,'Simulador Valora'!$J$60,IF('Simulador Valora'!$W$40=4,'Simulador Valora'!$E$60,0))))","v":0},null,0,0,"",0,24]
[25,0,null,0,null,0,null,0,null,null,null,null,null,{"$f":"IF(OR('Simulador Valora'!$U$16=1,'Simulador Valora'!$U$16=3,'Simulador Valora'!$U$16=4),0,L44*'Simulador Valora'!$M$74*'Simulador Valora'!$V$21)","v":0},null,0,null,0,null,{"$f":"IF(B44<=0,0,IF('Simulador Valora'!$Y$76=1,0,B44*'Simulador Valora'!$Y$79))","v":0},null,{"$f":"IF(B44<=0,0,IF('Simulador Valora'!$W$40=1,'Simulador Valora'!$M$60,IF('Simulador Valora'!$W$40=3,'Simulador Valora'!$J$60,IF('Simulador Valora'!$W$40=4,'Simulador Valora'!$E$60))))","v":0},null,0,null,{"$f":"IF(B44<=0,0,'Simulador Valora'!$AG$57)","v":0},null,2,1,0,0,0,0,{"$f":"IF('Simulador Valora'!$W$40=1,'Simulador Valora'!$T$34,IF('Simulador Valora'!$W$40=3,'Simulador Valora'!$Y$34,'Simulador Valora'!$AD$34))","v":9.7500000000000003E-2},0,0,0,0,0,0,"",{"$f":"IF(AJ44<=0,0,IF('Simulador Valora'!$Y$76=1,0,AJ44*'Simulador Valora'!$Y$79))+IF(AJ44<=0,0,IF('Simulador Valora'!$W$40=1,'Simulador Valora'!$M$60,IF('Simulador Valora'!$W$40=3,'Simulador Valora'!$J$60,IF('Simulador Valora'!$W$40=4,'Simulador Valora'!$E$60,0))))","v":0},{"$f":"IF(AJ44<=0,0,$AQ$32)","v":0},0,0,"",0,25]
[26,0,null,0,null,0,null,0,null,{"$f":"IF(B45-H45=0,0,J43*(1+(3%)))","v":0},null,null,null,{"$f":"IF(OR('Simulador Valora'!$U$16=1,'Simulador Valora'!$U$16=3,'Simulador Valora'!$U$16=4),0,L45*'Simulador Valora'!$M$74*'Simulador Valora'!$V$21)","v":0},null,0,null,0,null,{"$f":"IF(B45<=0,0,IF('Simulador Valora'!$Y$76=1,0,B45*'Simulador Valora'!$Y$79))","v":0},null,{"$f":"IF(B45<=0,0,IF('Simulador Valora'!$W$40=1,'Simulador Valora'!$M$60,IF('Simulador Valora'!$W$40=3,'Simulador Valora'!$J$60,IF('Simulador Valora'!$W$40=4,'Simulador Valora'!$E$60))))","v":0},null,0,null,null,null,2,2,0,0,0,0,{"$f":"IF('Simulador Valora'!$W$40=1,'Simulador Valora'!$T$34,IF('Simulador Valora'!$W$40=3,'Simulador Valora'!$Y$34,'Simulador Valora'!$AD$34))","v":9.7500000000000003E-2},0,0,0,0,0,0,"",{"$f":"IF(AJ45<=0,0,IF('Simulador Valora'!$Y$76=1,0,AJ45*'Simulador Valora'!$Y$79))+IF(AJ45<=0,0,IF('Simulador Valora'!$W$40=1,'Simulador Valora'!$M$60,IF('Simulador Valora'!$W$40=3,'Simulador Valora'!$J$60,IF('Simulador Valora'!$W$40=4,'Simulador Valora'!$E$60,0))))","v":0},null,0,0,"",0,26]
[27,0,null,0,null,0,null,0,null,null,null,null,null,{"$f":"IF(OR('Simulador Valora'!$U$16=1,'Simulador Valora'!$U$16=3,'Simulador Valora'!$U$16=4),0,L46*'Simulador Valora'!$M$74*'Simulador Valora'!$V$21)","v":0},null,0,null,0,null,{"$f":"IF(B46<=0,0,IF('Simulador Valora'!$Y$76=1,0,B46*'Simulador Valora'!$Y$79))","v":0},null,{"$f":"IF(B46<=0,0,IF('Simulador Valora'!$W$40=1,'Simulador Valora'!$M$60,IF('Simulador Valora'!$W$40=3,'Simulador Valora'!$J$60,IF('Simulador Valora'!$W$40=4,'Simulador Valora'!$E$60))))","v":0},null,0,null,null,null,2,3,0,0,0,0,{"$f":"IF('Simulador Valora'!$W$40=1,'Simulador Valora'!$T$34,IF('Simulador Valora'!$W$40=3,'Simulador Valora'!$Y$34,'Simulador Valora'!$AD$34))","v":9.7500000000000003E-2},0,0,0,0,0,0,"",{"$f":"IF(AJ46<=0,0,IF('Simulador Valora'!$Y$76=1,0,AJ46*'Simulador Valora'!$Y$79))+IF(AJ46<=0,0,IF('Simulador Valora'!$W$40=1,'Simulador Valora'!$M$60,IF('Simulador Valora'!$W$40=3,'Simulador Valora'!$J$60,IF('Simulador Valora'!$W$40=4,'Simulador Valora'!$E$60,0))))","v":0},null,0,0,"",0,27]
[28,0,null,0,null,0,null,0,null,{"$f":"IF(B47-H47=0,0,J45)","v":0},null,null,null,{"$f":"IF(OR('Simulador Valora'!$U$16=1,'Simulador Valora'!$U$16=3,'Simulador Valora'!$U$16=4),0,L47*'Simulador Valora'!$M$74*'Simulador Valora'!$V$21)","v":0},null,0,null,0,null,{"$f":"IF(B47<=0,0,IF('Simulador Valora'!$Y$76=1,0,B47*'Simulador Valora'!$Y$79))","v":0},null,{"$f":"IF(B47<=0,0,IF('Simulador Valora'!$W$40=1,'Simulador Valora'!$M$60,IF('Simulador Valora'!$W$40=3,'Simulador Valora'!$J$60,IF('Simulador Valora'!$W$40=4,'Simulador Valora'!$E$60))))","v":0},null,0,null,null,null,2,4,0,0,0,0,{"$f":"IF('Simulador Valora'!$W$40=1,'Simulador Valora'!$T$34,IF('Simulador Valora'!$W$40=3,'Simulador Valora'!$Y$34,'Simulador Valora'!$AD$34))","v":9.7500000000000003E-2},0,0,0,0,0,0,"",{"$f":"IF(AJ47<=0,0,IF('Simulador Valora'!$Y$76=1,0,AJ47*'Simulador Valora'!$Y$79))+IF(AJ47<=0,0,IF('Simulador Valora'!$W$40=1,'Simulador Valora'!$M$60,IF('Simulador Valora'!$W$40=3,'Simulador Valora'!$J$60,IF('Simulador Valora'!$W$40=4,'Simulador Valora'!$E$60,0))))","v":0},null,0,0,"",0,28]
[29,0,null,0,null,0,null,0,null,null,null,null,null,{"$f":"IF(OR('Simulador Valora'!$U$16=1,'Simulador Valora'!$U$16=3,'Simulador Valora'!$U$16=4),0,L48*'Simulador Valora'!$M$74*'Simulador Valora'!$V$21)","v":0},null,0,null,0,null,{"$f":"IF(B48<=0,0,IF('Simulador Valora'!$Y$76=1,0,B48*'Simulador Valora'!$Y$79))","v":0},null,{"$f":"IF(B48<=0,0,IF('Simulador Valora'!$W$40=1,'Simulador Valora'!$M$60,IF('Simulador Valora'!$W$40=3,'Simulador Valora'!$J$60,IF('Simulador Valora'!$W$40=4,'Simulador Valora'!$E$60))))","v":0},null,0,null,null,null,2,5,0,0,0,0,{"$f":"IF('Simulador Valora'!$W$40=1,'Simulador Valora'!$T$34,IF('Simulador Valora'!$W$40=3,'Simulador Valora'!$Y$34,'Simulador Valora'!$AD$34))","v":9.7500000000000003E-2},0,0,0,0,0,0,"",{"$f":"IF(AJ48<=0,0,IF('Simulador Valora'!$Y$76=1,0,AJ48*'Simulador Valora'!$Y$79))+IF(AJ48<=0,0,IF('Simulador Valora'!$W$40=1,'Simulador Valora'!$M$60,IF('Simulador Valora'!$W$40=3,'Simulador Valora'!$J$60,IF('Simulador Valora'!$W$40=4,'Simulador Valora'!$E$60,0))))","v":0},null,0,0,"",0,29]
[30,0,null,0,null,0,null,0,null,{"$f":"IF(B49-H49=0,0,J47)","v":0},null,null,null,{"$f":"IF(OR('Simulador Valora'!$U$16=1,'Simulador Valora'!$U$16=3,'Simulador Valora'!$U$16=4),0,L49*'Simulador Valora'!$M$74*'Simulador Valora'!$V$21)","v":0},null,0,null,0,null,{"$f":"IF(B49<=0,0,IF('Simulador Valora'!$Y$76=1,0,B49*'Simulador Valora'!$Y$79))","v":0},null,{"$f":"IF(B49<=0,0,IF('Simulador Valora'!$W$40=1,'Simulador Valora'!$M$60,IF('Simulador Valora'!$W$40=3,'Simulador Valora'!$J$60,IF('Simulador Valora'!$W$40=4,'Simulador Valora'!$E$60))))","v":0},null,0,null,null,null,2,6,0,0,0,0,{"$f":"IF('Simulador Valora'!$W$40=1,'Simulador Valora'!$T$34,IF('Simulador Valora'!$W$40=3,'Simulador Valora'!$Y$34,'Simulador Valora'!$AD$34))","v":9.7500000000000003E-2},0,0,0,0,0,0,"",{"$f":"IF(AJ49<=0,0,IF('Simulador Valora'!$Y$76=1,0,AJ49*'Simulador Valora'!$Y$79))+IF(AJ49<=0,0,IF('Simulador Valora'!$W$40=1,'Simulador Valora'!$M$60,IF('Simulador Valora'!$W$40=3,'Simulador Valora'!$J$60,IF('Simulador Valora'!$W$40=4,'Simulador Valora'!$E$60,0))))","v":0},null,0,0,"",0,30]
[31,0,null,0,null,0,null,0,null,null,null,null,null,{"$f":"IF(OR('Simulador Valora'!$U$16=1,'Simulador Valora'!$U$16=3,'Simulador Valora'!$U$16=4),0,L50*'Simulador Valora'!$M$74*'Simulador Valora'!$V$21)","v":0},null,0,null,0,null,{"$f":"IF(B50<=0,0,IF('Simulador Valora'!$Y$76=1,0,B50*'Simulador Valora'!$Y$79))","v":0},null,{"$f":"IF(B50<=0,0,IF('Simulador Valora'!$W$40=1,'Simulador Valora'!$M$60,IF('Simulador Valora'!$W$40=3,'Simulador Valora'!$J$60,IF('Simulador Valora'!$W$40=4,'Simulador Valora'!$E$60))))","v":0},null,0,null,null,null,2,7,0,0,0,0,{"$f":"IF('Simulador Valora'!$W$40=1,'Simulador Valora'!$T$34,IF('Simulador Valora'!$W$40=3,'Simulador Valora'!$Y$34,'Simulador Valora'!$AD$34))","v":9.7500000000000003E-2},0,0,0,0,0,0,"",{"$f":"IF(AJ50<=0,0,IF('Simulador Valora'!$Y$76=1,0,AJ50*'Simulador Valora'!$Y$79))+IF(AJ50<=0,0,IF('Simulador Valora'!$W$40=1,'Simulador Valora'!$M$60,IF('Simulador Valora'!$W$40=3,'Simulador Valora'!$J$60,IF('Simulador Valora'!$W$40=4,'Simulador Valora'!$E$60,0))))","v":0},null,0,0,"",0,31]
[32,0,null,0,null,0,null,0,null,{"$f":"IF(B51-H51=0,0,J49)","v":0},null,null,null,{"$f":"IF(OR('Simulador Valora'!$U$16=1,'Simulador Valora'!$U$16=3,'Simulador Valora'!$U$16=4),0,L51*'Simulador Valora'!$M$74*'Simulador Valora'!$V$21)","v":0},null,0,null,0,null,{"$f":"IF(B51<=0,0,IF('Simulador Valora'!$Y$76=1,0,B51*'Simulador Valora'!$Y$79))","v":0},null,{"$f":"IF(B51<=0,0,IF('Simulador Valora'!$W$40=1,'Simulador Valora'!$M$60,IF('Simulador Valora'!$W$40=3,'Simulador Valora'!$J$60,IF('Simulador Valora'!$W$40=4,'Simulador Valora'!$E$60))))","v":0},null,0,null,null,null,2,8,0,0,0,0,{"$f":"IF('Simulador Valora'!$W$40=1,'Simulador Valora'!$T$34,IF('Simulador Valora'!$W$40=3,'Simulador Valora'!$Y$34,'Simulador Valora'!$AD$34))","v":9.7500000000000003E-2},0,0,0,0,0,0,"",{"$f":"IF(AJ51<=0,0,IF('Simulador Valora'!$Y$76=1,0,AJ51*'Simulador Valora'!$Y$79))+IF(AJ51<=0,0,IF('Simulador Valora'!$W$40=1,'Simulador Valora'!$M$60,IF('Simulador Valora'!$W$40=3,'Simulador Valora'!$J$60,IF('Simulador Valora'!$W$40=4,'Simulador Valora'!$E$60,0))))","v":0},null,0,0,"",0,32]
[33,0,null,0,null,0,null,0,null,null,null,null,null,{"$f":"IF(OR('Simulador Valora'!$U$16=1,'Simulador Valora'!$U$16=3,'Simulador Valora'!$U$16=4),0,L52*'Simulador Valora'!$M$74*'Simulador Valora'!$V$21)","v":0},null,0,null,0,null,{"$f":"IF(B52<=0,0,IF('Simulador Valora'!$Y$76=1,0,B52*'Simulador Valora'!$Y$79))","v":0},null,{"$f":"IF(B52<=0,0,IF('Simulador Valora'!$W$40=1,'Simulador Valora'!$M$60,IF('Simulador Valora'!$W$40=3,'Simulador Valora'!$J$60,IF('Simulador Valora'!$W$40=4,'Simulador Valora'!$E$60))))","v":0},null,0,null,null,null,2,9,0,0,0,0,{"$f":"IF('Simulador Valora'!$W$40=1,'Simulador Valora'!$T$34,IF('Simulador Valora'!$W$40=3,'Simulador Valora'!$Y$34,'Simulador Valora'!$AD$34))","v":9.7500000000000003E-2},0,0,0,0,0,0,"",{"$f":"IF(AJ52<=0,0,IF('Simulador Valora'!$Y$76=1,0,AJ52*'Simulador Valora'!$Y$79))+IF(AJ52<=0,0,IF('Simulador Valora'!$W$40=1,'Simulador Valora'!$M$60,IF('Simulador Valora'!$W$40=3,'Simulador Valora'!$J$60,IF('Simulador Valora'!$W$40=4,'Simulador Valora'!$E$60,0))))","v":0},null,0,0,"",0,33]
[34,0,null,0,null,0,null,0,null,{"$f":"IF(B53-H53=0,0,J51)","v":0},null,null,null,{"$f":"IF(OR('Simulador Valora'!$U$16=1,'Simulador Valora'!$U$16=3,'Simulador Valora'!$U$16=4),0,L53*'Simulador Valora'!$M$74*'Simulador Valora'!$V$21)","v":0},null,0,null,0,null,{"$f":"IF(B53<=0,0,IF('Simulador Valora'!$Y$76=1,0,B53*'Simulador Valora'!$Y$79))","v":0},null,{"$f":"IF(B53<=0,0,IF('Simulador Valora'!$W$40=1,'Simulador Valora'!$M$60,IF('Simulador Valora'!$W$40=3,'Simulador Valora'!$J$60,IF('Simulador Valora'!$W$40=4,'Simulador Valora'!$E$60))))","v":0},null,0,null,null,null,2,10,0,0,0,0,{"$f":"IF('Simulador Valora'!$W$40=1,'Simulador Valora'!$T$34,IF('Simulador Valora'!$W$40=3,'Simulador Valora'!$Y$34,'Simulador Valora'!$AD$34))","v":9.7500000000000003E-2},0,0,0,0,0,0,"",{"$f":"IF(AJ53<=0,0,IF('Simulador Valora'!$Y$76=1,0,AJ53*'Simulador Valora'!$Y$79))+IF(AJ53<=0,0,IF('Simulador Valora'!$W$40=1,'Simulador Valora'!$M$60,IF('Simulador Valora'!$W$40=3,'Simulador Valora'!$J$60,IF('Simulador Valora'!$W$40=4,'Simulador Valora'!$E$60,0))))","v":0},null,0,0,"",0,34]
[35,0,null,0,null,0,null,0,null,null,null,null,null,{"$f":"IF(OR('Simulador Valora'!$U$16=1,'Simulador Valora'!$U$16=3,'Simulador Valora'!$U$16=4),0,L54*'Simulador Valora'!$M$74*'Simulador Valora'!$V$21)","v":0},null,0,null,0,null,{"$f":"IF(B54<=0,0,IF('Simulador Valora'!$Y$76=1,0,B54*'Simulador Valora'!$Y$79))","v":0},null,{"$f":"IF(B54<=0,0,IF('Simulador Valora'!$W$40=1,'Simulador Valora'!$M$60,IF('Simulador Valora'!$W$40=3,'Simulador Valora'!$J$60,IF('Simulador Valora'!$W$40=4,'Simulador Valora'!$E$60))))","v":0},null,0,null,null,null,2,11,0,0,0,0,{"$f":"IF('Simulador Valora'!$W$40=1,'Simulador Valora'!$T$34,IF('Simulador Valora'!$W$40=3,'Simulador Valora'!$Y$34,'Simulador Valora'!$AD$34))","v":9.7500000000000003E-2},0,0,0,0,0,0,"",{"$f":"IF(AJ54<=0,0,IF('Simulador Valora'!$Y$76=1,0,AJ54*'Simulador Valora'!$Y$79))+IF(AJ54<=0,0,IF('Simulador Valora'!$W$40=1,'Simulador Valora'!$M$60,IF('Simulador Valora'!$W$40=3,'Simulador Valora'!$J$60,IF('Simulador Valora'!$W$40=4,'Simulador Valora'!$E$60,0))))","v":0},null,0,0,"",0,35]
[36,0,null,0,null,0,null,0,null,{"$f":"IF(B55-H55=0,0,J53)","v":0},null,null,null,{"$f":"IF(OR('Simulador Valora'!$U$16=1,'Simulador Valora'!$U$16=3,'Simulador Valora'!$U$16=4),0,L55*'Simulador Valora'!$M$74*'Simulador Valora'!$V$21)","v":0},null,0,null,0,null,{"$f":"IF(B55<=0,0,IF('Simulador Valora'!$Y$76=1,0,B55*'Simulador Valora'!$Y$79))","v":0},null,{"$f":"IF(B55<=0,0,IF('Simulador Valora'!$W$40=1,'Simulador Valora'!$M$60,IF('Simulador Valora'!$W$40=3,'Simulador Valora'!$J$60,IF('Simulador Valora'!$W$40=4,'Simulador Valora'!$E$60))))","v":0},null,0,null,null,null,3,0,0,0,0,0,{"$f":"IF('Simulador Valora'!$W$40=1,'Simulador Valora'!$T$34,IF('Simulador Valora'!$W$40=3,'Simulador Valora'!$Y$34,'Simulador Valora'!$AD$34))","v":9.7500000000000003E-2},0,0,0,0,0,0,"",{"$f":"IF(AJ55<=0,0,IF('Simulador Valora'!$Y$76=1,0,AJ55*'Simulador Valora'!$Y$79))+IF(AJ55<=0,0,IF('Simulador Valora'!$W$40=1,'Simulador Valora'!$M$60,IF('Simulador Valora'!$W$40=3,'Simulador Valora'!$J$60,IF('Simulador Valora'!$W$40=4,'Simulador Valora'!$E$60,0))))","v":0},null,0,0,"",0,36]
[37,0,null,0,null,0,null,0,null,null,null,null,null,{"$f":"IF(OR('Simulador Valora'!$U$16=1,'Simulador Valora'!$U$16=3,'Simulador Valora'!$U$16=4),0,L56*'Simulador Valora'!$M$74*'Simulador Valora'!$V$21)","v":0},null,0,null,0,null,{"$f":"IF(B56<=0,0,IF('Simulador Valora'!$Y$76=1,0,B56*'Simulador Valora'!$Y$79))","v":0},null,{"$f":"IF(B56<=0,0,IF('Simulador Valora'!$W$40=1,'Simulador Valora'!$M$60,IF('Simulador Valora'!$W$40=3,'Simulador Valora'!$J$60,IF('Simulador Valora'!$W$40=4,'Simulador Valora'!$E$60))))","v":0},null,0,null,{"$f":"IF(B56<=0,0,'Simulador Valora'!$AG$57)","v":0},null,3,1,0,0,0,0,{"$f":"IF(AH55=$AH$4,AH55,IF(AH55-0.25%<=$AH$4,$AH$4,AH55-0.25%))","v":9.7500000000000003E-2},0,0,0,0,0,0,"",{"$f":"IF(AJ56<=0,0,IF('Simulador Valora'!$Y$76=1,0,AJ56*'Simulador Valora'!$Y$79))+IF(AJ56<=0,0,IF('Simulador Valora'!$W$40=1,'Simulador Valora'!$M$60,IF('Simulador Valora'!$W$40=3,'Simulador Valora'!$J$60,IF('Simulador Valora'!$W$40=4,'Simulador Valora'!$E$60,0))))","v":0},{"$f":"IF(AJ56<=0,0,$AQ$32)","v":0},0,0,"",0,37]
[38,0,null,0,null,0,null,0,null,{"$f":"IF(B57-H57=0,0,J55*(1+(3%)))","v":0},null,null,null,{"$f":"IF(OR('Simulador Valora'!$U$16=1,'Simulador Valora'!$U$16=3,'Simulador Valora'!$U$16=4),0,L57*'Simulador Valora'!$M$74*'Simulador Valora'!$V$21)","v":0},null,0,null,0,null,{"$f":"IF(B57<=0,0,IF('Simulador Valora'!$Y$76=1,0,B57*'Simulador Valora'!$Y$79))","v":0},null,{"$f":"IF(B57<=0,0,IF('Simulador Valora'!$W$40=1,'Simulador Valora'!$M$60,IF('Simulador Valora'!$W$40=3,'Simulador Valora'!$J$60,IF('Simulador Valora'!$W$40=4,'Simulador Valora'!$E$60))))","v":0},null,0,null,null,null,3,2,0,0,0,0,{"$f":"AH56","v":9.7500000000000003E-2},0,0,0,0,0,0,"",{"$f":"IF(AJ57<=0,0,IF('Simulador Valora'!$Y$76=1,0,AJ57*'Simulador Valora'!$Y$79))+IF(AJ57<=0,0,IF('Simulador Valora'!$W$40=1,'Simulador Valora'!$M$60,IF('Simulador Valora'!$W$40=3,'Simulador Valora'!$J$60,IF('Simulador Valora'!$W$40=4,'Simulador Valora'!$E$60,0))))","v":0},null,0,0,"",0,38]
[39,0,null,0,null,0,null,0,null,null,null,null,null,{"$f":"IF(OR('Simulador Valora'!$U$16=1,'Simulador Valora'!$U$16=3,'Simulador Valora'!$U$16=4),0,L58*'Simulador Valora'!$M$74*'Simulador Valora'!$V$21)","v":0},null,0,null,0,null,{"$f":"IF(B58<=0,0,IF('Simulador Valora'!$Y$76=1,0,B58*'Simulador Valora'!$Y$79))","v":0},null,{"$f":"IF(B58<=0,0,IF('Simulador Valora'!$W$40=1,'Simulador Valora'!$M$60,IF('Simulador Valora'!$W$40=3,'Simulador Valora'!$J$60,IF('Simulador Valora'!$W$40=4,'Simulador Valora'!$E$60))))","v":0},null,0,null,null,null,3,3,0,0,0,0,{"$f":"AH57","v":9.7500000000000003E-2},0,0,0,0,0,0,"",{"$f":"IF(AJ58<=0,0,IF('Simulador Valora'!$Y$76=1,0,AJ58*'Simulador Valora'!$Y$79))+IF(AJ58<=0,0,IF('Simulador Valora'!$W$40=1,'Simulador Valora'!$M$60,IF('Simulador Valora'!$W$40=3,'Simulador Valora'!$J$60,IF('Simulador Valora'!$W$40=4,'Simulador Valora'!$E$60,0))))","v":0},null,0,0,"",0,39]
[40,0,null,0,null,0,null,0,null,{"$f":"IF(B59-H59=0,0,J57)","v":0},null,null,null,{"$f":"IF(OR('Simulador Valora'!$U$16=1,'Simulador Valora'!$U$16=3,'Simulador Valora'!$U$16=4),0,L59*'Simulador Valora'!$M$74*'Simulador Valora'!$V$21)","v":0},null,0,null,0,null,{"$f":"IF(B59<=0,0,IF('Simulador Valora'!$Y$76=1,0,B59*'Simulador Valora'!$Y$79))","v":0},null,{"$f":"IF(B59<=0,0,IF('Simulador Valora'!$W$40=1,'Simulador Valora'!$M$60,IF('Simulador Valora'!$W$40=3,'Simulador Valora'!$J$60,IF('Simulador Valora'!$W$40=4,'Simulador Valora'!$E$60))))","v":0},null,0,null,null,null,3,4,0,0,0,0,9.7500000000000003E-2,0,0,0,0,0,0,"",{"$f":"IF(AJ59<=0,0,IF('Simulador Valora'!$Y$76=1,0,AJ59*'Simulador Valora'!$Y$79))+IF(AJ59<=0,0,IF('Simulador Valora'!$W$40=1,'Simulador Valora'!$M$60,IF('Simulador Valora'!$W$40=3,'Simulador Valora'!$J$60,IF('Simulador Valora'!$W$40=4,'Simulador Valora'!$E$60,0))))","v":0},null,0,0,"",0,40]
[41,0,null,0,null,0,null,0,null,null,null,null,null,{"$f":"IF(OR('Simulador Valora'!$U$16=1,'Simulador Valora'!$U$16=3,'Simulador Valora'!$U$16=4),0,L60*'Simulador Valora'!$M$74*'Simulador Valora'!$V$21)","v":0},null,0,null,0,null,{"$f":"IF(B60<=0,0,IF('Simulador Valora'!$Y$76=1,0,B60*'Simulador Valora'!$Y$79))","v":0},null,{"$f":"IF(B60<=0,0,IF('Simulador Valora'!$W$40=1,'Simulador Valora'!$M$60,IF('Simulador Valora'!$W$40=3,'Simulador Valora'!$J$60,IF('Simulador Valora'!$W$40=4,'Simulador Valora'!$E$60))))","v":0},null,0,null,null,null,3,5,0,0,0,0,9.7500000000000003E-2,0,0,0,0,0,0,"",{"$f":"IF(AJ60<=0,0,IF('Simulador Valora'!$Y$76=1,0,AJ60*'Simulador Valora'!$Y$79))+IF(AJ60<=0,0,IF('Simulador Valora'!$W$40=1,'Simulador Valora'!$M$60,IF('Simulador Valora'!$W$40=3,'Simulador Valora'!$J$60,IF('Simulador Valora'!$W$40=4,'Simulador Valora'!$E$60,0))))","v":0},null,0,0,"",0,41]
[42,0,null,0,null,0,null,0,null,{"$f":"IF(B61-H61=0,0,J59)","v":0},null,null,null,{"$f":"IF(OR('Simulador Valora'!$U$16=1,'Simulador Valora'!$U$16=3,'Simulador Valora'!$U$16=4),0,L61*'Simulador Valora'!$M$74*'Simulador Valora'!$V$21)","v":0},null,0,null,0,null,{"$f":"IF(B61<=0,0,IF('Simulador Valora'!$Y$76=1,0,B61*'Simulador Valora'!$Y$79))","v":0},null,{"$f":"IF(B61<=0,0,IF('Simulador Valora'!$W$40=1,'Simulador Valora'!$M$60,IF('Simulador Valora'!$W$40=3,'Simulador Valora'!$J$60,IF('Simulador Valora'!$W$40=4,'Simulador Valora'!$E$60))))","v":0},null,0,null,null,null,3,6,0,0,0,0,9.7500000000000003E-2,0,0,0,0,0,0,"",{"$f":"IF(AJ61<=0,0,IF('Simulador Valora'!$Y$76=1,0,AJ61*'Simulador Valora'!$Y$79))+IF(AJ61<=0,0,IF('Simulador Valora'!$W$40=1,'Simulador Valora'!$M$60,IF('Simulador Valora'!$W$40=3,'Simulador Valora'!$J$60,IF('Simulador Valora'!$W$40=4,'Simulador Valora'!$E$60,0))))","v":0},null,0,0,"",0,42]
[43,0,null,0,null,0,null,0,null,null,null,null,null,{"$f":"IF(OR('Simulador Valora'!$U$16=1,'Simulador Valora'!$U$16=3,'Simulador Valora'!$U$16=4),0,L62*'Simulador Valora'!$M$74*'Simulador Valora'!$V$21)","v":0},null,0,null,0,null,{"$f":"IF(B62<=0,0,IF('Simulador Valora'!$Y$76=1,0,B62*'Simulador Valora'!$Y$79))","v":0},null,{"$f":"IF(B62<=0,0,IF('Simulador Valora'!$W$40=1,'Simulador Valora'!$M$60,IF('Simulador Valora'!$W$40=3,'Simulador Valora'!$J$60,IF('Simulador Valora'!$W$40=4,'Simulador Valora'!$E$60))))","v":0},null,0,null,null,null,3,7,0,0,0,0,9.7500000000000003E-2,0,0,0,0,0,0,"",{"$f":"IF(AJ62<=0,0,IF('Simulador Valora'!$Y$76=1,0,AJ62*'Simulador Valora'!$Y$79))+IF(AJ62<=0,0,IF('Simulador Valora'!$W$40=1,'Simulador Valora'!$M$60,IF('Simulador Valora'!$W$40=3,'Simulador Valora'!$J$60,IF('Simulador Valora'!$W$40=4,'Simulador Valora'!$E$60,0))))","v":0},null,0,0,"",0,43]
[44,0,null,0,null,0,null,0,null,{"$f":"IF(B63-H63=0,0,J61)","v":0},null,null,null,{"$f":"IF(OR('Simulador Valora'!$U$16=1,'Simulador Valora'!$U$16=3,'Simulador Valora'!$U$16=4),0,L63*'Simulador Valora'!$M$74*'Simulador Valora'!$V$21)","v":0},null,0,null,0,null,{"$f":"IF(B63<=0,0,IF('Simulador Valora'!$Y$76=1,0,B63*'Simulador Valora'!$Y$79))","v":0},null,{"$f":"IF(B63<=0,0,IF('Simulador Valora'!$W$40=1,'Simulador Valora'!$M$60,IF('Simulador Valora'!$W$40=3,'Simulador Valora'!$J$60,IF('Simulador Valora'!$W$40=4,'Simulador Valora'!$E$60))))","v":0},null,0,null,null,null,3,8,0,0,0,0,9.7500000000000003E-2,0,0,0,0,0,0,"",{"$f":"IF(AJ63<=0,0,IF('Simulador Valora'!$Y$76=1,0,AJ63*'Simulador Valora'!$Y$79))+IF(AJ63<=0,0,IF('Simulador Valora'!$W$40=1,'Simulador Valora'!$M$60,IF('Simulador Valora'!$W$40=3,'Simulador Valora'!$J$60,IF('Simulador Valora'!$W$40=4,'Simulador Valora'!$E$60,0))))","v":0},null,0,0,"",0,44]
[45,0,null,0,null,0,null,0,null,null,null,null,null,{"$f":"IF(OR('Simulador Valora'!$U$16=1,'Simulador Valora'!$U$16=3,'Simulador Valora'!$U$16=4),0,L64*'Simulador Valora'!$M$74*'Simulador Valora'!$V$21)","v":0},null,0,null,0,null,{"$f":"IF(B64<=0,0,IF('Simulador Valora'!$Y$76=1,0,B64*'Simulador Valora'!$Y$79))","v":0},null,{"$f":"IF(B64<=0,0,IF('Simulador Valora'!$W$40=1,'Simulador Valora'!$M$60,IF('Simulador Valora'!$W$40=3,'Simulador Valora'!$J$60,IF('Simulador Valora'!$W$40=4,'Simulador Valora'!$E$60))))","v":0},null,0,null,null,null,3,9,0,0,0,0,9.7500000000000003E-2,0,0,0,0,0,0,"",{"$f":"IF(AJ64<=0,0,IF('Simulador Valora'!$Y$76=1,0,AJ64*'Simulador Valora'!$Y$79))+IF(AJ64<=0,0,IF('Simulador Valora'!$W$40=1,'Simulador Valora'!$M$60,IF('Simulador Valora'!$W$40=3,'Simulador Valora'!$J$60,IF('Simulador Valora'!$W$40=4,'Simulador Valora'!$E$60,0))))","v":0},null,0,0,"",0,45]
[46,0,null,0,null,0,null,0,null,{"$f":"IF(B65-H65=0,0,J63)","v":0},null,null,null,{"$f":"IF(OR('Simulador Valora'!$U$16=1,'Simulador Valora'!$U$16=3,'Simulador Valora'!$U$16=4),0,L65*'Simulador Valora'!$M$74*'Simulador Valora'!$V$21)","v":0},null,0,null,0,null,{"$f":"IF(B65<=0,0,IF('Simulador Valora'!$Y$76=1,0,B65*'Simulador Valora'!$Y$79))","v":0},null,{"$f":"IF(B65<=0,0,IF('Simulador Valora'!$W$40=1,'Simulador Valora'!$M$60,IF('Simulador Valora'!$W$40=3,'Simulador Valora'!$J$60,IF('Simulador Valora'!$W$40=4,'Simulador Valora'!$E$60))))","v":0},null,0,null,null,null,3,10,0,0,0,0,9.7500000000000003E-2,0,0,0,0,0,0,"",{"$f":"IF(AJ65<=0,0,IF('Simulador Valora'!$Y$76=1,0,AJ65*'Simulador Valora'!$Y$79))+IF(AJ65<=0,0,IF('Simulador Valora'!$W$40=1,'Simulador Valora'!$M$60,IF('Simulador Valora'!$W$40=3,'Simulador Valora'!$J$60,IF('Simulador Valora'!$W$40=4,'Simulador Valora'!$E$60,0))))","v":0},null,0,0,"",0,46]
[47,0,null,0,null,0,null,0,null,null,null,null,null,{"$f":"IF(OR('Simulador Valora'!$U$16=1,'Simulador Valora'!$U$16=3,'Simulador Valora'!$U$16=4),0,L66*'Simulador Valora'!$M$74*'Simulador Valora'!$V$21)","v":0},null,0,null,0,null,{"$f":"IF(B66<=0,0,IF('Simulador Valora'!$Y$76=1,0,B66*'Simulador Valora'!$Y$79))","v":0},null,{"$f":"IF(B66<=0,0,IF('Simulador Valora'!$W$40=1,'Simulador Valora'!$M$60,IF('Simulador Valora'!$W$40=3,'Simulador Valora'!$J$60,IF('Simulador Valora'!$W$40=4,'Simulador Valora'!$E$60))))","v":0},null,0,null,null,null,3,11,0,0,0,0,9.7500000000000003E-2,0,0,0,0,0,0,"",{"$f":"IF(AJ66<=0,0,IF('Simulador Valora'!$Y$76=1,0,AJ66*'Simulador Valora'!$Y$79))+IF(AJ66<=0,0,IF('Simulador Valora'!$W$40=1,'Simulador Valora'!$M$60,IF('Simulador Valora'!$W$40=3,'Simulador Valora'!$J$60,IF('Simulador Valora'!$W$40=4,'Simulador Valora'!$E$60,0))))","v":0},null,0,0,"",0,47]
[48,0,null,0,null,0,null,0,null,{"$f":"IF(B67-H67=0,0,J65)","v":0},null,null,null,{"$f":"IF(OR('Simulador Valora'!$U$16=1,'Simulador Valora'!$U$16=3,'Simulador Valora'!$U$16=4),0,L67*'Simulador Valora'!$M$74*'Simulador Valora'!$V$21)","v":0},null,0,null,0,null,{"$f":"IF(B67<=0,0,IF('Simulador Valora'!$Y$76=1,0,B67*'Simulador Valora'!$Y$79))","v":0},null,{"$f":"IF(B67<=0,0,IF('Simulador Valora'!$W$40=1,'Simulador Valora'!$M$60,IF('Simulador Valora'!$W$40=3,'Simulador Valora'!$J$60,IF('Simulador Valora'!$W$40=4,'Simulador Valora'!$E$60))))","v":0},null,0,null,null,null,4,0,0,0,0,0,9.7500000000000003E-2,0,0,0,0,0,0,"",{"$f":"IF(AJ67<=0,0,IF('Simulador Valora'!$Y$76=1,0,AJ67*'Simulador Valora'!$Y$79))+IF(AJ67<=0,0,IF('Simulador Valora'!$W$40=1,'Simulador Valora'!$M$60,IF('Simulador Valora'!$W$40=3,'Simulador Valora'!$J$60,IF('Simulador Valora'!$W$40=4,'Simulador Valora'!$E$60,0))))","v":0},null,0,0,"",0,48]
[49,0,null,0,null,0,null,0,null,null,null,null,null,{"$f":"IF(OR('Simulador Valora'!$U$16=1,'Simulador Valora'!$U$16=3,'Simulador Valora'!$U$16=4),0,L68*'Simulador Valora'!$M$74*'Simulador Valora'!$V$21)","v":0},null,0,null,0,null,{"$f":"IF(B68<=0,0,IF('Simulador Valora'!$Y$76=1,0,B68*'Simulador Valora'!$Y$79))","v":0},null,{"$f":"IF(B68<=0,0,IF('Simulador Valora'!$W$40=1,'Simulador Valora'!$M$60,IF('Simulador Valora'!$W$40=3,'Simulador Valora'!$J$60,IF('Simulador Valora'!$W$40=4,'Simulador Valora'!$E$60))))","v":0},null,0,null,{"$f":"IF(B68<=0,0,'Simulador Valora'!$AG$57)","v":0},null,4,1,0,0,0,0,{"$f":"IF(AH67=$AH$4,AH67,IF(AH67-0.25%<=$AH$4,$AH$4,AH67-0.25%))","v":9.7500000000000003E-2},0,0,0,0,0,0,"",{"$f":"IF(AJ68<=0,0,IF('Simulador Valora'!$Y$76=1,0,AJ68*'Simulador Valora'!$Y$79))+IF(AJ68<=0,0,IF('Simulador Valora'!$W$40=1,'Simulador Valora'!$M$60,IF('Simulador Valora'!$W$40=3,'Simulador Valora'!$J$60,IF('Simulador Valora'!$W$40=4,'Simulador Valora'!$E$60,0))))","v":0},{"$f":"IF(AJ68<=0,0,$AQ$32)","v":0},0,0,"",0,49]
[50,0,null,0,null,0,null,0,null,{"$f":"IF(B69-H69=0,0,J67*(1+(3%)))","v":0},null,null,null,{"$f":"IF(OR('Simulador Valora'!$U$16=1,'Simulador Valora'!$U$16=3,'Simulador Valora'!$U$16=4),0,L69*'Simulador Valora'!$M$74*'Simulador Valora'!$V$21)","v":0},null,0,null,0,null,{"$f":"IF(B69<=0,0,IF('Simulador Valora'!$Y$76=1,0,B69*'Simulador Valora'!$Y$79))","v":0},null,{"$f":"IF(B69<=0,0,IF('Simulador Valora'!$W$40=1,'Simulador Valora'!$M$60,IF('Simulador Valora'!$W$40=3,'Simulador Valora'!$J$60,IF('Simulador Valora'!$W$40=4,'Simulador Valora'!$E$60))))","v":0},null,0,null,null,null,4,2,0,0,0,0,{"$f":"AH68","v":9.7500000000000003E-2},0,0,0,0,0,0,"",{"$f":"IF(AJ69<=0,0,IF('Simulador Valora'!$Y$76=1,0,AJ69*'Simulador Valora'!$Y$79))+IF(AJ69<=0,0,IF('Simulador Valora'!$W$40=1,'Simulador Valora'!$M$60,IF('Simulador Valora'!$W$40=3,'Simulador Valora'!$J$60,IF('Simulador Valora'!$W$40=4,'Simulador Valora'!$E$60,0))))","v":0},null,0,0,"",0,50]
[51,0,null,0,null,0,null,0,null,null,null,null,null,{"$f":"IF(OR('Simulador Valora'!$U$16=1,'Simulador Valora'!$U$16=3,'Simulador Valora'!$U$16=4),0,L70*'Simulador Valora'!$M$74*'Simulador Valora'!$V$21)","v":0},null,0,null,0,null,{"$f":"IF(B70<=0,0,IF('Simulador Valora'!$Y$76=1,0,B70*'Simulador Valora'!$Y$79))","v":0},null,{"$f":"IF(B70<=0,0,IF('Simulador Valora'!$W$40=1,'Simulador Valora'!$M$60,IF('Simulador Valora'!$W$40=3,'Simulador Valora'!$J$60,IF('Simulador Valora'!$W$40=4,'Simulador Valora'!$E$60))))","v":0},null,0,null,null,null,4,3,0,0,0,0,{"$f":"AH69","v":9.7500000000000003E-2},0,0,0,0,0,0,"",{"$f":"IF(AJ70<=0,0,IF('Simulador Valora'!$Y$76=1,0,AJ70*'Simulador Valora'!$Y$79))+IF(AJ70<=0,0,IF('Simulador Valora'!$W$40=1,'Simulador Valora'!$M$60,IF('Simulador Valora'!$W$40=3,'Simulador Valora'!$J$60,IF('Simulador Valora'!$W$40=4,'Simulador Valora'!$E$60,0))))","v":0},null,0,0,"",0,51]
[52,0,null,0,null,0,null,0,null,{"$f":"IF(B71-H71=0,0,J69)","v":0},null,null,null,{"$f":"IF(OR('Simulador Valora'!$U$16=1,'Simulador Valora'!$U$16=3,'Simulador Valora'!$U$16=4),0,L71*'Simulador Valora'!$M$74*'Simulador Valora'!$V$21)","v":0},null,0,null,0,null,{"$f":"IF(B71<=0,0,IF('Simulador Valora'!$Y$76=1,0,B71*'Simulador Valora'!$Y$79))","v":0},null,{"$f":"IF(B71<=0,0,IF('Simulador Valora'!$W$40=1,'Simulador Valora'!$M$60,IF('Simulador Valora'!$W$40=3,'Simulador Valora'!$J$60,IF('Simulador Valora'!$W$40=4,'Simulador Valora'!$E$60))))","v":0},null,0,null,null,null,4,4,0,0,0,0,9.7500000000000003E-2,0,0,0,0,0,0,"",{"$f":"IF(AJ71<=0,0,IF('Simulador Valora'!$Y$76=1,0,AJ71*'Simulador Valora'!$Y$79))+IF(AJ71<=0,0,IF('Simulador Valora'!$W$40=1,'Simulador Valora'!$M$60,IF('Simulador Valora'!$W$40=3,'Simulador Valora'!$J$60,IF('Simulador Valora'!$W$40=4,'Simulador Valora'!$E$60,0))))","v":0},null,0,0,"",0,52]
[53,0,null,0,null,0,null,0,null,null,null,null,null,{"$f":"IF(OR('Simulador Valora'!$U$16=1,'Simulador Valora'!$U$16=3,'Simulador Valora'!$U$16=4),0,L72*'Simulador Valora'!$M$74*'Simulador Valora'!$V$21)","v":0},null,0,null,0,null,{"$f":"IF(B72<=0,0,IF('Simulador Valora'!$Y$76=1,0,B72*'Simulador Valora'!$Y$79))","v":0},null,{"$f":"IF(B72<=0,0,IF('Simulador Valora'!$W$40=1,'Simulador Valora'!$M$60,IF('Simulador Valora'!$W$40=3,'Simulador Valora'!$J$60,IF('Simulador Valora'!$W$40=4,'Simulador Valora'!$E$60))))","v":0},null,0,null,null,null,4,5,0,0,0,0,9.7500000000000003E-2,0,0,0,0,0,0,"",{"$f":"IF(AJ72<=0,0,IF('Simulador Valora'!$Y$76=1,0,AJ72*'Simulador Valora'!$Y$79))+IF(AJ72<=0,0,IF('Simulador Valora'!$W$40=1,'Simulador Valora'!$M$60,IF('Simulador Valora'!$W$40=3,'Simulador Valora'!$J$60,IF('Simulador Valora'!$W$40=4,'Simulador Valora'!$E$60,0))))","v":0},null,0,0,"",0,53]
[54,0,null,0,null,0,null,0,null,{"$f":"IF(B73-H73=0,0,J71)","v":0},null,null,null,{"$f":"IF(OR('Simulador Valora'!$U$16=1,'Simulador Valora'!$U$16=3,'Simulador Valora'!$U$16=4),0,L73*'Simulador Valora'!$M$74*'Simulador Valora'!$V$21)","v":0},null,0,null,0,null,{"$f":"IF(B73<=0,0,IF('Simulador Valora'!$Y$76=1,0,B73*'Simulador Valora'!$Y$79))","v":0},null,{"$f":"IF(B73<=0,0,IF('Simulador Valora'!$W$40=1,'Simulador Valora'!$M$60,IF('Simulador Valora'!$W$40=3,'Simulador Valora'!$J$60,IF('Simulador Valora'!$W$40=4,'Simulador Valora'!$E$60))))","v":0},null,0,null,null,null,4,6,0,0,0,0,9.7500000000000003E-2,0,0,0,0,0,0,"",{"$f":"IF(AJ73<=0,0,IF('Simulador Valora'!$Y$76=1,0,AJ73*'Simulador Valora'!$Y$79))+IF(AJ73<=0,0,IF('Simulador Valora'!$W$40=1,'Simulador Valora'!$M$60,IF('Simulador Valora'!$W$40=3,'Simulador Valora'!$J$60,IF('Simulador Valora'!$W$40=4,'Simulador Valora'!$E$60,0))))","v":0},null,0,0,"",0,54]
[55,0,null,0,null,0,null,0,null,null,null,null,null,{"$f":"IF(OR('Simulador Valora'!$U$16=1,'Simulador Valora'!$U$16=3,'Simulador Valora'!$U$16=4),0,L74*'Simulador Valora'!$M$74*'Simulador Valora'!$V$21)","v":0},null,0,null,0,null,{"$f":"IF(B74<=0,0,IF('Simulador Valora'!$Y$76=1,0,B74*'Simulador Valora'!$Y$79))","v":0},null,{"$f":"IF(B74<=0,0,IF('Simulador Valora'!$W$40=1,'Simulador Valora'!$M$60,IF('Simulador Valora'!$W$40=3,'Simulador Valora'!$J$60,IF('Simulador Valora'!$W$40=4,'Simulador Valora'!$E$60))))","v":0},null,0,null,null,null,4,7,0,0,0,0,9.7500000000000003E-2,0,0,0,0,0,0,"",{"$f":"IF(AJ74<=0,0,IF('Simulador Valora'!$Y$76=1,0,AJ74*'Simulador Valora'!$Y$79))+IF(AJ74<=0,0,IF('Simulador Valora'!$W$40=1,'Simulador Valora'!$M$60,IF('Simulador Valora'!$W$40=3,'Simulador Valora'!$J$60,IF('Simulador Valora'!$W$40=4,'Simulador Valora'!$E$60,0))))","v":0},null,0,0,"",0,55]
[56,0,null,0,null,0,null,0,null,{"$f":"IF(B75-H75=0,0,J73)","v":0},null,null,null,{"$f":"IF(OR('Simulador Valora'!$U$16=1,'Simulador Valora'!$U$16=3,'Simulador Valora'!$U$16=4),0,L75*'Simulador Valora'!$M$74*'Simulador Valora'!$V$21)","v":0},null,0,null,0,null,{"$f":"IF(B75<=0,0,IF('Simulador Valora'!$Y$76=1,0,B75*'Simulador Valora'!$Y$79))","v":0},null,{"$f":"IF(B75<=0,0,IF('Simulador Valora'!$W$40=1,'Simulador Valora'!$M$60,IF('Simulador Valora'!$W$40=3,'Simulador Valora'!$J$60,IF('Simulador Valora'!$W$40=4,'Simulador Valora'!$E$60))))","v":0},null,0,null,null,null,4,8,0,0,0,0,9.7500000000000003E-2,0,0,0,0,0,0,"",{"$f":"IF(AJ75<=0,0,IF('Simulador Valora'!$Y$76=1,0,AJ75*'Simulador Valora'!$Y$79))+IF(AJ75<=0,0,IF('Simulador Valora'!$W$40=1,'Simulador Valora'!$M$60,IF('Simulador Valora'!$W$40=3,'Simulador Valora'!$J$60,IF('Simulador Valora'!$W$40=4,'Simulador Valora'!$E$60,0))))","v":0},null,0,0,"",0,56]
[57,0,null,0,null,0,null,0,null,null,null,null,null,{"$f":"IF(OR('Simulador Valora'!$U$16=1,'Simulador Valora'!$U$16=3,'Simulador Valora'!$U$16=4),0,L76*'Simulador Valora'!$M$74*'Simulador Valora'!$V$21)","v":0},null,0,null,0,null,{"$f":"IF(B76<=0,0,IF('Simulador Valora'!$Y$76=1,0,B76*'Simulador Valora'!$Y$79))","v":0},null,{"$f":"IF(B76<=0,0,IF('Simulador Valora'!$W$40=1,'Simulador Valora'!$M$60,IF('Simulador Valora'!$W$40=3,'Simulador Valora'!$J$60,IF('Simulador Valora'!$W$40=4,'Simulador Valora'!$E$60))))","v":0},null,0,null,null,null,4,9,0,0,0,0,9.7500000000000003E-2,0,0,0,0,0,0,"",{"$f":"IF(AJ76<=0,0,IF('Simulador Valora'!$Y$76=1,0,AJ76*'Simulador Valora'!$Y$79))+IF(AJ76<=0,0,IF('Simulador Valora'!$W$40=1,'Simulador Valora'!$M$60,IF('Simulador Valora'!$W$40=3,'Simulador Valora'!$J$60,IF('Simulador Valora'!$W$40=4,'Simulador Valora'!$E$60,0))))","v":0},null,0,0,"",0,57]
[58,0,null,0,null,0,null,0,null,{"$f":"IF(B77-H77=0,0,J75)","v":0},null,null,null,{"$f":"IF(OR('Simulador Valora'!$U$16=1,'Simulador Valora'!$U$16=3,'Simulador Valora'!$U$16=4),0,L77*'Simulador Valora'!$M$74*'Simulador Valora'!$V$21)","v":0},null,0,null,0,null,{"$f":"IF(B77<=0,0,IF('Simulador Valora'!$Y$76=1,0,B77*'Simulador Valora'!$Y$79))","v":0},null,{"$f":"IF(B77<=0,0,IF('Simulador Valora'!$W$40=1,'Simulador Valora'!$M$60,IF('Simulador Valora'!$W$40=3,'Simulador Valora'!$J$60,IF('Simulador Valora'!$W$40=4,'Simulador Valora'!$E$60))))","v":0},null,0,null,null,null,4,10,0,0,0,0,9.7500000000000003E-2,0,0,0,0,0,0,"",{"$f":"IF(AJ77<=0,0,IF('Simulador Valora'!$Y$76=1,0,AJ77*'Simulador Valora'!$Y$79))+IF(AJ77<=0,0,IF('Simulador Valora'!$W$40=1,'Simulador Valora'!$M$60,IF('Simulador Valora'!$W$40=3,'Simulador Valora'!$J$60,IF('Simulador Valora'!$W$40=4,'Simulador Valora'!$E$60,0))))","v":0},null,0,0,"",0,58]
[59,0,null,0,null,0,null,0,null,null,null,null,null,{"$f":"IF(OR('Simulador Valora'!$U$16=1,'Simulador Valora'!$U$16=3,'Simulador Valora'!$U$16=4),0,L78*'Simulador Valora'!$M$74*'Simulador Valora'!$V$21)","v":0},null,0,null,0,null,{"$f":"IF(B78<=0,0,IF('Simulador Valora'!$Y$76=1,0,B78*'Simulador Valora'!$Y$79))","v":0},null,{"$f":"IF(B78<=0,0,IF('Simulador Valora'!$W$40=1,'Simulador Valora'!$M$60,IF('Simulador Valora'!$W$40=3,'Simulador Valora'!$J$60,IF('Simulador Valora'!$W$40=4,'Simulador Valora'!$E$60))))","v":0},null,0,null,null,null,4,11,0,0,0,0,9.7500000000000003E-2,0,0,0,0,0,0,"",{"$f":"IF(AJ78<=0,0,IF('Simulador Valora'!$Y$76=1,0,AJ78*'Simulador Valora'!$Y$79))+IF(AJ78<=0,0,IF('Simulador Valora'!$W$40=1,'Simulador Valora'!$M$60,IF('Simulador Valora'!$W$40=3,'Simulador Valora'!$J$60,IF('Simulador Valora'!$W$40=4,'Simulador Valora'!$E$60,0))))","v":0},null,0,0,"",0,59]
[60,0,null,0,null,0,null,0,null,{"$f":"IF(B79-H79=0,0,J77)","v":0},null,null,null,{"$f":"IF(OR('Simulador Valora'!$U$16=1,'Simulador Valora'!$U$16=3,'Simulador Valora'!$U$16=4),0,L79*'Simulador Valora'!$M$74*'Simulador Valora'!$V$21)","v":0},null,0,null,0,null,{"$f":"IF(B79<=0,0,IF('Simulador Valora'!$Y$76=1,0,B79*'Simulador Valora'!$Y$79))","v":0},null,{"$f":"IF(B79<=0,0,IF('Simulador Valora'!$W$40=1,'Simulador Valora'!$M$60,IF('Simulador Valora'!$W$40=3,'Simulador Valora'!$J$60,IF('Simulador Valora'!$W$40=4,'Simulador Valora'!$E$60))))","v":0},null,0,null,null,null,5,0,0,0,0,0,9.7500000000000003E-2,0,0,0,0,0,0,"",{"$f":"IF(AJ79<=0,0,IF('Simulador Valora'!$Y$76=1,0,AJ79*'Simulador Valora'!$Y$79))+IF(AJ79<=0,0,IF('Simulador Valora'!$W$40=1,'Simulador Valora'!$M$60,IF('Simulador Valora'!$W$40=3,'Simulador Valora'!$J$60,IF('Simulador Valora'!$W$40=4,'Simulador Valora'!$E$60,0))))","v":0},null,0,0,"",0,60]
[61,0,null,0,null,0,null,0,null,null,null,null,null,{"$f":"IF(OR('Simulador Valora'!$U$16=1,'Simulador Valora'!$U$16=3,'Simulador Valora'!$U$16=4),0,L80*'Simulador Valora'!$M$74*'Simulador Valora'!$V$21)","v":0},null,0,null,0,null,{"$f":"IF(B80<=0,0,IF('Simulador Valora'!$Y$76=1,0,B80*'Simulador Valora'!$Y$79))","v":0},null,{"$f":"IF(B80<=0,0,IF('Simulador Valora'!$W$40=1,'Simulador Valora'!$M$60,IF('Simulador Valora'!$W$40=3,'Simulador Valora'!$J$60,IF('Simulador Valora'!$W$40=4,'Simulador Valora'!$E$60))))","v":0},null,0,null,{"$f":"IF(B80<=0,0,'Simulador Valora'!$AG$57)","v":0},null,5,1,0,0,0,0,{"$f":"IF(AH79=$AH$4,AH79,IF(AH79-0.25%<=$AH$4,$AH$4,AH79-0.25%))","v":9.7500000000000003E-2},0,0,0,0,0,0,"",{"$f":"IF(AJ80<=0,0,IF('Simulador Valora'!$Y$76=1,0,AJ80*'Simulador Valora'!$Y$79))+IF(AJ80<=0,0,IF('Simulador Valora'!$W$40=1,'Simulador Valora'!$M$60,IF('Simulador Valora'!$W$40=3,'Simulador Valora'!$J$60,IF('Simulador Valora'!$W$40=4,'Simulador Valora'!$E$60,0))))","v":0},{"$f":"IF(AJ80<=0,0,$AQ$32)","v":0},0,0,"",0,61]
[62,0,null,0,null,0,null,0,null,{"$f":"IF(B81-H81=0,0,J79*(1+(3%)))","v":0},null,null,null,{"$f":"IF(OR('Simulador Valora'!$U$16=1,'Simulador Valora'!$U$16=3,'Simulador Valora'!$U$16=4),0,L81*'Simulador Valora'!$M$74*'Simulador Valora'!$V$21)","v":0},null,0,null,0,null,{"$f":"IF(B81<=0,0,IF('Simulador Valora'!$Y$76=1,0,B81*'Simulador Valora'!$Y$79))","v":0},null,{"$f":"IF(B81<=0,0,IF('Simulador Valora'!$W$40=1,'Simulador Valora'!$M$60,IF('Simulador Valora'!$W$40=3,'Simulador Valora'!$J$60,IF('Simulador Valora'!$W$40=4,'Simulador Valora'!$E$60))))","v":0},null,0,null,null,null,5,2,0,0,0,0,{"$f":"AH80","v":9.7500000000000003E-2},0,0,0,0,0,0,"",{"$f":"IF(AJ81<=0,0,IF('Simulador Valora'!$Y$76=1,0,AJ81*'Simulador Valora'!$Y$79))+IF(AJ81<=0,0,IF('Simulador Valora'!$W$40=1,'Simulador Valora'!$M$60,IF('Simulador Valora'!$W$40=3,'Simulador Valora'!$J$60,IF('Simulador Valora'!$W$40=4,'Simulador Valora'!$E$60,0))))","v":0},null,0,0,"",0,62]
[63,0,null,0,null,0,null,0,null,null,null,null,null,{"$f":"IF(OR('Simulador Valora'!$U$16=1,'Simulador Valora'!$U$16=3,'Simulador Valora'!$U$16=4),0,L82*'Simulador Valora'!$M$74*'Simulador Valora'!$V$21)","v":0},null,0,null,0,null,{"$f":"IF(B82<=0,0,IF('Simulador Valora'!$Y$76=1,0,B82*'Simulador Valora'!$Y$79))","v":0},null,{"$f":"IF(B82<=0,0,IF('Simulador Valora'!$W$40=1,'Simulador Valora'!$M$60,IF('Simulador Valora'!$W$40=3,'Simulador Valora'!$J$60,IF('Simulador Valora'!$W$40=4,'Simulador Valora'!$E$60))))","v":0},null,0,null,null,null,5,3,0,0,0,0,{"$f":"AH81","v":9.7500000000000003E-2},0,0,0,0,0,0,"",{"$f":"IF(AJ82<=0,0,IF('Simulador Valora'!$Y$76=1,0,AJ82*'Simulador Valora'!$Y$79))+IF(AJ82<=0,0,IF('Simulador Valora'!$W$40=1,'Simulador Valora'!$M$60,IF('Simulador Valora'!$W$40=3,'Simulador Valora'!$J$60,IF('Simulador Valora'!$W$40=4,'Simulador Valora'!$E$60,0))))","v":0},null,0,0,"",0,63]
[64,0,null,0,null,0,null,0,null,{"$f":"IF(B83-H83=0,0,J81)","v":0},null,null,null,{"$f":"IF(OR('Simulador Valora'!$U$16=1,'Simulador Valora'!$U$16=3,'Simulador Valora'!$U$16=4),0,L83*'Simulador Valora'!$M$74*'Simulador Valora'!$V$21)","v":0},null,0,null,0,null,{"$f":"IF(B83<=0,0,IF('Simulador Valora'!$Y$76=1,0,B83*'Simulador Valora'!$Y$79))","v":0},null,{"$f":"IF(B83<=0,0,IF('Simulador Valora'!$W$40=1,'Simulador Valora'!$M$60,IF('Simulador Valora'!$W$40=3,'Simulador Valora'!$J$60,IF('Simulador Valora'!$W$40=4,'Simulador Valora'!$E$60))))","v":0},null,0,null,null,null,5,4,0,0,0,0,9.7500000000000003E-2,0,0,0,0,0,0,"",{"$f":"IF(AJ83<=0,0,IF('Simulador Valora'!$Y$76=1,0,AJ83*'Simulador Valora'!$Y$79))+IF(AJ83<=0,0,IF('Simulador Valora'!$W$40=1,'Simulador Valora'!$M$60,IF('Simulador Valora'!$W$40=3,'Simulador Valora'!$J$60,IF('Simulador Valora'!$W$40=4,'Simulador Valora'!$E$60,0))))","v":0},null,0,0,"",0,64]
[65,0,null,0,null,0,null,0,null,null,null,null,null,{"$f":"IF(OR('Simulador Valora'!$U$16=1,'Simulador Valora'!$U$16=3,'Simulador Valora'!$U$16=4),0,L84*'Simulador Valora'!$M$74*'Simulador Valora'!$V$21)","v":0},null,0,null,0,null,{"$f":"IF(B84<=0,0,IF('Simulador Valora'!$Y$76=1,0,B84*'Simulador Valora'!$Y$79))","v":0},null,{"$f":"IF(B84<=0,0,IF('Simulador Valora'!$W$40=1,'Simulador Valora'!$M$60,IF('Simulador Valora'!$W$40=3,'Simulador Valora'!$J$60,IF('Simulador Valora'!$W$40=4,'Simulador Valora'!$E$60))))","v":0},null,0,null,null,null,5,5,0,0,0,0,9.7500000000000003E-2,0,0,0,0,{"$f":"+AK84-AL84","v":0},{"$f":"+AJ84-AM84","v":0},"",{"$f":"IF(AJ84<=0,0,IF('Simulador Valora'!$Y$76=1,0,AJ84*'Simulador Valora'!$Y$79))+IF(AJ84<=0,0,IF('Simulador Valora'!$W$40=1,'Simulador Valora'!$M$60,IF('Simulador Valora'!$W$40=3,'Simulador Valora'!$J$60,IF('Simulador Valora'!$W$40=4,'Simulador Valora'!$E$60,0))))","v":0},null,0,0,"",0,65]
[66,0,null,{"$f":"IF(B85+F85-D84<=0,B85+F85,IF(A85=$B$11,$F$11,IF(A85=$B$12,$F$12,IF(A85=$B$13,$F$13,IF($AP$4=2,B85*AI85,D84*(1+Z85))))))","v":0},null,{"$f":"IF(B85=0,0,P85/360*AU85*B85)","v":0},null,0,null,{"$f":"IF(B85-H85=0,0,J83)","v":0},null,null,null,{"$f":"IF(OR('Simulador Valora'!$U$16=1,'Simulador Valora'!$U$16=3,'Simulador Valora'!$U$16=4),0,L85*'Simulador Valora'!$M$74*'Simulador Valora'!$V$21)","v":0},null,0,null,{"$f":"B85-H85-J85-L85+N85","v":0},null,{"$f":"IF(B85<=0,0,IF('Simulador Valora'!$Y$76=1,0,B85*'Simulador Valora'!$Y$79))","v":0},null,{"$f":"IF(B85<=0,0,IF('Simulador Valora'!$W$40=1,'Simulador Valora'!$M$60,IF('Simulador Valora'!$W$40=3,'Simulador Valora'!$J$60,IF('Simulador Valora'!$W$40=4,'Simulador Valora'!$E$60))))","v":0},null,{"$f":"IF(B85<=0,0,(D85+L85+T85+V85))","v":0},null,null,null,5,6,{"$f":"+IF(R85<=0,IF(R84>0,+A85,0),0)","v":0},{"$f":"+IF(AD85>0,+AB85,0)","v":0},{"$f":"+IF(AD85>0,+AC85,0)","v":0},{"$f":"X85","v":0},9.7500000000000003E-2,{"$f":"IFERROR(AK85/AJ85,0)","v":0},0,0,{"$f":"IFERROR((AO85/360*AU85*AJ85),0)","v":0},0,0,{"$f":"IF(AJ85=0,\"\",AH85)","v":""},{"$f":"IF(AJ85<=0,0,IF('Simulador Valora'!$Y$76=1,0,AJ85*'Simulador Valora'!$Y$79))+IF(AJ85<=0,0,IF('Simulador Valora'!$W$40=1,'Simulador Valora'!$M$60,IF('Simulador Valora'!$W$40=3,'Simulador Valora'!$J$60,IF('Simulador Valora'!$W$40=4,'Simulador Valora'!$E$60,0))))","v":0},null,{"$f":"AL85+AM85+AP85","v":0},{"$f":"IFERROR(IF(AK85<=0.01,0,AS84-1),0)","v":0},"",{"$f":"IFERROR(DAY(DATE(YEAR(AT85),MONTH(AT85)+1,0)),0)","v":0},66]
[67,{"$f":"IF(R85<0,0,IF(A86=$B$11,R85+$D$11,IF(A86=$B$12,R85+$D$12,IF(A86=$B$13,R85+$D$13,R85))))","v":0},null,0,null,0,null,{"$f":"D86-F86","v":0},null,null,null,null,null,{"$f":"IF(OR('Simulador Valora'!$U$16=1,'Simulador Valora'!$U$16=3,'Simulador Valora'!$U$16=4),0,L86*'Simulador Valora'!$M$74*'Simulador Valora'!$V$21)","v":0},null,{"$f":"IF(B86=0,0,AH86)","v":0},null,0,null,{"$f":"IF(B86<=0,0,IF('Simulador Valora'!$Y$76=1,0,B86*'Simulador Valora'!$Y$79))","v":0},null,{"$f":"IF(B86<=0,0,IF('Simulador Valora'!$W$40=1,'Simulador Valora'!$M$60,IF('Simulador Valora'!$W$40=3,'Simulador Valora'!$J$60,IF('Simulador Valora'!$W$40=4,'Simulador Valora'!$E$60))))","v":0},null,0,null,null,null,5,7,0,0,0,0,9.7500000000000003E-2,0,{"$f":"IF(AN85<0,0,IF(A86=$B$11,AN85+$D$11,IF(A86=$B$12,AN85+$D$12,IF(A86=$B$13,AN85+$D$13,AN85))))","v":0},{"$f":"IF(AJ86+AL86-AK85<=0,AJ86+AL86,IF(A86=$B$11,$F$11,IF(A86=$B$12,$F$12,IF(A86=$B$13,$F$13,AK85*(1+AQ86)))))","v":0},0,0,0,"",{"$f":"IF(AJ86<=0,0,IF('Simulador Valora'!$Y$76=1,0,AJ86*'Simulador Valora'!$Y$79))+IF(AJ86<=0,0,IF('Simulador Valora'!$W$40=1,'Simulador Valora'!$M$60,IF('Simulador Valora'!$W$40=3,'Simulador Valora'!$J$60,IF('Simulador Valora'!$W$40=4,'Simulador Valora'!$E$60,0))))","v":0},null,0,0,{"$f":"IF(AJ86=0,\"\",DATE(YEAR(AT85),MONTH(AT85)+1,1))","v":""},0,67]
[68,0,null,0,null,0,null,0,null,{"$f":"IF(B87-H87=0,0,J85)","v":0},null,null,null,{"$f":"IF(OR('Simulador Valora'!$U$16=1,'Simulador Valora'!$U$16=3,'Simulador Valora'!$U$16=4),0,L87*'Simulador Valora'!$M$74*'Simulador Valora'!$V$21)","v":0},null,0,null,0,null,{"$f":"IF(B87<=0,0,IF('Simulador Valora'!$Y$76=1,0,B87*'Simulador Valora'!$Y$79))","v":0},null,{"$f":"IF(B87<=0,0,IF('Simulador Valora'!$W$40=1,'Simulador Valora'!$M$60,IF('Simulador Valora'!$W$40=3,'Simulador Valora'!$J$60,IF('Simulador Valora'!$W$40=4,'Simulador Valora'!$E$60))))","v":0},null,0,null,null,null,5,8,0,0,0,0,9.7500000000000003E-2,0,0,0,0,0,0,"",{"$f":"IF(AJ87<=0,0,IF('Simulador Valora'!$Y$76=1,0,AJ87*'Simulador Valora'!$Y$79))+IF(AJ87<=0,0,IF('Simulador Valora'!$W$40=1,'Simulador Valora'!$M$60,IF('Simulador Valora'!$W$40=3,'Simulador Valora'!$J$60,IF('Simulador Valora'!$W$40=4,'Simulador Valora'!$E$60,0))))","v":0},null,0,0,"",0,68]
[69,0,null,0,null,0,null,0,null,null,null,null,null,{"$f":"IF(OR('Simulador Valora'!$U$16=1,'Simulador Valora'!$U$16=3,'Simulador Valora'!$U$16=4),0,L88*'Simulador Valora'!$M$74*'Simulador Valora'!$V$21)","v":0},null,0,null,0,null,{"$f":"IF(B88<=0,0,IF('Simulador Valora'!$Y$76=1,0,B88*'Simulador Valora'!$Y$79))","v":0},null,{"$f":"IF(B88<=0,0,IF('Simulador Valora'!$W$40=1,'Simulador Valora'!$M$60,IF('Simulador Valora'!$W$40=3,'Simulador Valora'!$J$60,IF('Simulador Valora'!$W$40=4,'Simulador Valora'!$E$60))))","v":0},null,0,null,null,null,5,9,0,0,0,0,9.7500000000000003E-2,0,0,0,0,0,0,"",{"$f":"IF(AJ88<=0,0,IF('Simulador Valora'!$Y$76=1,0,AJ88*'Simulador Valora'!$Y$79))+IF(AJ88<=0,0,IF('Simulador Valora'!$W$40=1,'Simulador Valora'!$M$60,IF('Simulador Valora'!$W$40=3,'Simulador Valora'!$J$60,IF('Simulador Valora'!$W$40=4,'Simulador Valora'!$E$60,0))))","v":0},null,0,0,"",0,69]
[70,0,null,0,null,0,null,0,null,{"$f":"IF(B89-H89=0,0,J87)","v":0},null,null,null,{"$f":"IF(OR('Simulador Valora'!$U$16=1,'Simulador Valora'!$U$16=3,'Simulador Valora'!$U$16=4),0,L89*'Simulador Valora'!$M$74*'Simulador Valora'!$V$21)","v":0},null,0,null,0,null,{"$f":"IF(B89<=0,0,IF('Simulador Valora'!$Y$76=1,0,B89*'Simulador Valora'!$Y$79))","v":0},null,{"$f":"IF(B89<=0,0,IF('Simulador Valora'!$W$40=1,'Simulador Valora'!$M$60,IF('Simulador Valora'!$W$40=3,'Simulador Valora'!$J$60,IF('Simulador Valora'!$W$40=4,'Simulador Valora'!$E$60))))","v":0},null,0,null,null,null,5,10,0,0,0,0,9.7500000000000003E-2,0,0,0,0,0,0,"",{"$f":"IF(AJ89<=0,0,IF('Simulador Valora'!$Y$76=1,0,AJ89*'Simulador Valora'!$Y$79))+IF(AJ89<=0,0,IF('Simulador Valora'!$W$40=1,'Simulador Valora'!$M$60,IF('Simulador Valora'!$W$40=3,'Simulador Valora'!$J$60,IF('Simulador Valora'!$W$40=4,'Simulador Valora'!$E$60,0))))","v":0},null,0,0,"",0,70]
[71,0,null,0,null,0,null,0,null,null,null,null,null,{"$f":"IF(OR('Simulador Valora'!$U$16=1,'Simulador Valora'!$U$16=3,'Simulador Valora'!$U$16=4),0,L90*'Simulador Valora'!$M$74*'Simulador Valora'!$V$21)","v":0},null,0,null,0,null,{"$f":"IF(B90<=0,0,IF('Simulador Valora'!$Y$76=1,0,B90*'Simulador Valora'!$Y$79))","v":0},null,{"$f":"IF(B90<=0,0,IF('Simulador Valora'!$W$40=1,'Simulador Valora'!$M$60,IF('Simulador Valora'!$W$40=3,'Simulador Valora'!$J$60,IF('Simulador Valora'!$W$40=4,'Simulador Valora'!$E$60))))","v":0},null,0,null,null,null,5,11,0,0,0,0,9.7500000000000003E-2,0,0,0,0,0,0,"",{"$f":"IF(AJ90<=0,0,IF('Simulador Valora'!$Y$76=1,0,AJ90*'Simulador Valora'!$Y$79))+IF(AJ90<=0,0,IF('Simulador Valora'!$W$40=1,'Simulador Valora'!$M$60,IF('Simulador Valora'!$W$40=3,'Simulador Valora'!$J$60,IF('Simulador Valora'!$W$40=4,'Simulador Valora'!$E$60,0))))","v":0},null,0,0,"",0,71]
[72,0,null,0,null,0,null,0,null,{"$f":"IF(B91-H91=0,0,J89)","v":0},null,null,null,{"$f":"IF(OR('Simulador Valora'!$U$16=1,'Simulador Valora'!$U$16=3,'Simulador Valora'!$U$16=4),0,L91*'Simulador Valora'!$M$74*'Simulador Valora'!$V$21)","v":0},null,0,null,0,null,{"$f":"IF(B91<=0,0,IF('Simulador Valora'!$Y$76=1,0,B91*'Simulador Valora'!$Y$79))","v":0},null,{"$f":"IF(B91<=0,0,IF('Simulador Valora'!$W$40=1,'Simulador Valora'!$M$60,IF('Simulador Valora'!$W$40=3,'Simulador Valora'!$J$60,IF('Simulador Valora'!$W$40=4,'Simulador Valora'!$E$60))))","v":0},null,0,null,null,null,6,0,0,0,0,0,9.7500000000000003E-2,0,0,0,0,0,0,"",{"$f":"IF(AJ91<=0,0,IF('Simulador Valora'!$Y$76=1,0,AJ91*'Simulador Valora'!$Y$79))+IF(AJ91<=0,0,IF('Simulador Valora'!$W$40=1,'Simulador Valora'!$M$60,IF('Simulador Valora'!$W$40=3,'Simulador Valora'!$J$60,IF('Simulador Valora'!$W$40=4,'Simulador Valora'!$E$60,0))))","v":0},null,0,0,"",0,72]
[73,0,null,0,null,0,null,0,null,null,null,null,null,{"$f":"IF(OR('Simulador Valora'!$U$16=1,'Simulador Valora'!$U$16=3,'Simulador Valora'!$U$16=4),0,L92*'Simulador Valora'!$M$74*'Simulador Valora'!$V$21)","v":0},null,0,null,0,null,{"$f":"IF(B92<=0,0,IF('Simulador Valora'!$Y$76=1,0,B92*'Simulador Valora'!$Y$79))","v":0},null,{"$f":"IF(B92<=0,0,IF('Simulador Valora'!$W$40=1,'Simulador Valora'!$M$60,IF('Simulador Valora'!$W$40=3,'Simulador Valora'!$J$60,IF('Simulador Valora'!$W$40=4,'Simulador Valora'!$E$60))))","v":0},null,0,null,{"$f":"IF(B92<=0,0,'Simulador Valora'!$AG$57)","v":0},null,6,1,0,0,0,0,{"$f":"IF(AH91=$AH$4,AH91,IF(AH91-0.25%<=$AH$4,$AH$4,AH91-0.25%))","v":9.7500000000000003E-2},0,0,0,0,0,0,"",{"$f":"IF(AJ92<=0,0,IF('Simulador Valora'!$Y$76=1,0,AJ92*'Simulador Valora'!$Y$79))+IF(AJ92<=0,0,IF('Simulador Valora'!$W$40=1,'Simulador Valora'!$M$60,IF('Simulador Valora'!$W$40=3,'Simulador Valora'!$J$60,IF('Simulador Valora'!$W$40=4,'Simulador Valora'!$E$60,0))))","v":0},{"$f":"IF(AJ92<=0,0,$AQ$32)","v":0},0,0,"",0,73]
[74,0,null,0,null,0,null,0,null,{"$f":"IF(B93-H93=0,0,J91*(1+(3%)))","v":0},null,null,null,{"$f":"IF(OR('Simulador Valora'!$U$16=1,'Simulador Valora'!$U$16=3,'Simulador Valora'!$U$16=4),0,L93*'Simulador Valora'!$M$74*'Simulador Valora'!$V$21)","v":0},null,0,null,0,null,{"$f":"IF(B93<=0,0,IF('Simulador Valora'!$Y$76=1,0,B93*'Simulador Valora'!$Y$79))","v":0},null,{"$f":"IF(B93<=0,0,IF('Simulador Valora'!$W$40=1,'Simulador Valora'!$M$60,IF('Simulador Valora'!$W$40=3,'Simulador Valora'!$J$60,IF('Simulador Valora'!$W$40=4,'Simulador Valora'!$E$60))))","v":0},null,0,null,null,null,6,2,0,0,0,0,{"$f":"AH92","v":9.7500000000000003E-2},0,0,0,0,0,0,"",{"$f":"IF(AJ93<=0,0,IF('Simulador Valora'!$Y$76=1,0,AJ93*'Simulador Valora'!$Y$79))+IF(AJ93<=0,0,IF('Simulador Valora'!$W$40=1,'Simulador Valora'!$M$60,IF('Simulador Valora'!$W$40=3,'Simulador Valora'!$J$60,IF('Simulador Valora'!$W$40=4,'Simulador Valora'!$E$60,0))))","v":0},null,0,0,"",0,74]
[75,0,null,0,null,0,null,0,null,null,null,null,null,{"$f":"IF(OR('Simulador Valora'!$U$16=1,'Simulador Valora'!$U$16=3,'Simulador Valora'!$U$16=4),0,L94*'Simulador Valora'!$M$74*'Simulador Valora'!$V$21)","v":0},null,0,null,0,null,{"$f":"IF(B94<=0,0,IF('Simulador Valora'!$Y$76=1,0,B94*'Simulador Valora'!$Y$79))","v":0},null,{"$f":"IF(B94<=0,0,IF('Simulador Valora'!$W$40=1,'Simulador Valora'!$M$60,IF('Simulador Valora'!$W$40=3,'Simulador Valora'!$J$60,IF('Simulador Valora'!$W$40=4,'Simulador Valora'!$E$60))))","v":0},null,0,null,null,null,6,3,0,0,0,0,{"$f":"AH93","v":9.7500000000000003E-2},0,0,0,0,0,0,"",{"$f":"IF(AJ94<=0,0,IF('Simulador Valora'!$Y$76=1,0,AJ94*'Simulador Valora'!$Y$79))+IF(AJ94<=0,0,IF('Simulador Valora'!$W$40=1,'Simulador Valora'!$M$60,IF('Simulador Valora'!$W$40=3,'Simulador Valora'!$J$60,IF('Simulador Valora'!$W$40=4,'Simulador Valora'!$E$60,0))))","v":0},null,0,0,"",0,75]
[76,0,null,0,null,0,null,0,null,{"$f":"IF(B95-H95=0,0,J93)","v":0},null,null,null,{"$f":"IF(OR('Simulador Valora'!$U$16=1,'Simulador Valora'!$U$16=3,'Simulador Valora'!$U$16=4),0,L95*'Simulador Valora'!$M$74*'Simulador Valora'!$V$21)","v":0},null,0,null,0,null,{"$f":"IF(B95<=0,0,IF('Simulador Valora'!$Y$76=1,0,B95*'Simulador Valora'!$Y$79))","v":0},null,{"$f":"IF(B95<=0,0,IF('Simulador Valora'!$W$40=1,'Simulador Valora'!$M$60,IF('Simulador Valora'!$W$40=3,'Simulador Valora'!$J$60,IF('Simulador Valora'!$W$40=4,'Simulador Valora'!$E$60))))","v":0},null,0,null,null,null,6,4,0,0,0,0,9.7500000000000003E-2,0,0,0,0,0,0,"",{"$f":"IF(AJ95<=0,0,IF('Simulador Valora'!$Y$76=1,0,AJ95*'Simulador Valora'!$Y$79))+IF(AJ95<=0,0,IF('Simulador Valora'!$W$40=1,'Simulador Valora'!$M$60,IF('Simulador Valora'!$W$40=3,'Simulador Valora'!$J$60,IF('Simulador Valora'!$W$40=4,'Simulador Valora'!$E$60,0))))","v":0},null,0,0,"",0,76]
[77,0,null,0,null,0,null,0,null,null,null,null,null,{"$f":"IF(OR('Simulador Valora'!$U$16=1,'Simulador Valora'!$U$16=3,'Simulador Valora'!$U$16=4),0,L96*'Simulador Valora'!$M$74*'Simulador Valora'!$V$21)","v":0},null,0,null,0,null,{"$f":"IF(B96<=0,0,IF('Simulador Valora'!$Y$76=1,0,B96*'Simulador Valora'!$Y$79))","v":0},null,{"$f":"IF(B96<=0,0,IF('Simulador Valora'!$W$40=1,'Simulador Valora'!$M$60,IF('Simulador Valora'!$W$40=3,'Simulador Valora'!$J$60,IF('Simulador Valora'!$W$40=4,'Simulador Valora'!$E$60))))","v":0},null,0,null,null,null,6,5,0,0,0,0,9.7500000000000003E-2,0,0,0,0,0,0,"",{"$f":"IF(AJ96<=0,0,IF('Simulador Valora'!$Y$76=1,0,AJ96*'Simulador Valora'!$Y$79))+IF(AJ96<=0,0,IF('Simulador Valora'!$W$40=1,'Simulador Valora'!$M$60,IF('Simulador Valora'!$W$40=3,'Simulador Valora'!$J$60,IF('Simulador Valora'!$W$40=4,'Simulador Valora'!$E$60,0))))","v":0},null,0,0,"",0,77]
[78,0,null,0,null,0,null,0,null,{"$f":"IF(B97-H97=0,0,J95)","v":0},null,null,null,{"$f":"IF(OR('Simulador Valora'!$U$16=1,'Simulador Valora'!$U$16=3,'Simulador Valora'!$U$16=4),0,L97*'Simulador Valora'!$M$74*'Simulador Valora'!$V$21)","v":0},null,0,null,0,null,{"$f":"IF(B97<=0,0,IF('Simulador Valora'!$Y$76=1,0,B97*'Simulador Valora'!$Y$79))","v":0},null,{"$f":"IF(B97<=0,0,IF('Simulador Valora'!$W$40=1,'Simulador Valora'!$M$60,IF('Simulador Valora'!$W$40=3,'Simulador Valora'!$J$60,IF('Simulador Valora'!$W$40=4,'Simulador Valora'!$E$60))))","v":0},null,0,null,null,null,6,6,0,0,0,0,9.7500000000000003E-2,0,0,0,0,0,0,"",{"$f":"IF(AJ97<=0,0,IF('Simulador Valora'!$Y$76=1,0,AJ97*'Simulador Valora'!$Y$79))+IF(AJ97<=0,0,IF('Simulador Valora'!$W$40=1,'Simulador Valora'!$M$60,IF('Simulador Valora'!$W$40=3,'Simulador Valora'!$J$60,IF('Simulador Valora'!$W$40=4,'Simulador Valora'!$E$60,0))))","v":0},null,0,0,"",0,78]
[79,0,null,0,null,0,null,0,null,null,null,null,null,{"$f":"IF(OR('Simulador Valora'!$U$16=1,'Simulador Valora'!$U$16=3,'Simulador Valora'!$U$16=4),0,L98*'Simulador Valora'!$M$74*'Simulador Valora'!$V$21)","v":0},null,0,null,0,null,{"$f":"IF(B98<=0,0,IF('Simulador Valora'!$Y$76=1,0,B98*'Simulador Valora'!$Y$79))","v":0},null,{"$f":"IF(B98<=0,0,IF('Simulador Valora'!$W$40=1,'Simulador Valora'!$M$60,IF('Simulador Valora'!$W$40=3,'Simulador Valora'!$J$60,IF('Simulador Valora'!$W$40=4,'Simulador Valora'!$E$60))))","v":0},null,0,null,null,null,6,7,0,0,0,0,9.7500000000000003E-2,0,0,0,0,0,0,"",{"$f":"IF(AJ98<=0,0,IF('Simulador Valora'!$Y$76=1,0,AJ98*'Simulador Valora'!$Y$79))+IF(AJ98<=0,0,IF('Simulador Valora'!$W$40=1,'Simulador Valora'!$M$60,IF('Simulador Valora'!$W$40=3,'Simulador Valora'!$J$60,IF('Simulador Valora'!$W$40=4,'Simulador Valora'!$E$60,0))))","v":0},null,0,0,"",0,79]
[80,0,null,0,null,0,null,0,null,{"$f":"IF(B99-H99=0,0,J97)","v":0},null,null,null,{"$f":"IF(OR('Simulador Valora'!$U$16=1,'Simulador Valora'!$U$16=3,'Simulador Valora'!$U$16=4),0,L99*'Simulador Valora'!$M$74*'Simulador Valora'!$V$21)","v":0},null,0,null,0,null,{"$f":"IF(B99<=0,0,IF('Simulador Valora'!$Y$76=1,0,B99*'Simulador Valora'!$Y$79))","v":0},null,{"$f":"IF(B99<=0,0,IF('Simulador Valora'!$W$40=1,'Simulador Valora'!$M$60,IF('Simulador Valora'!$W$40=3,'Simulador Valora'!$J$60,IF('Simulador Valora'!$W$40=4,'Simulador Valora'!$E$60))))","v":0},null,0,null,null,null,6,8,0,0,0,0,9.7500000000000003E-2,0,0,0,0,0,0,"",{"$f":"IF(AJ99<=0,0,IF('Simulador Valora'!$Y$76=1,0,AJ99*'Simulador Valora'!$Y$79))+IF(AJ99<=0,0,IF('Simulador Valora'!$W$40=1,'Simulador Valora'!$M$60,IF('Simulador Valora'!$W$40=3,'Simulador Valora'!$J$60,IF('Simulador Valora'!$W$40=4,'Simulador Valora'!$E$60,0))))","v":0},null,0,0,"",0,80]
[81,0,null,0,null,0,null,0,null,null,null,null,null,{"$f":"IF(OR('Simulador Valora'!$U$16=1,'Simulador Valora'!$U$16=3,'Simulador Valora'!$U$16=4),0,L100*'Simulador Valora'!$M$74*'Simulador Valora'!$V$21)","v":0},null,0,null,0,null,{"$f":"IF(B100<=0,0,IF('Simulador Valora'!$Y$76=1,0,B100*'Simulador Valora'!$Y$79))","v":0},null,{"$f":"IF(B100<=0,0,IF('Simulador Valora'!$W$40=1,'Simulador Valora'!$M$60,IF('Simulador Valora'!$W$40=3,'Simulador Valora'!$J$60,IF('Simulador Valora'!$W$40=4,'Simulador Valora'!$E$60))))","v":0},null,0,null,null,null,6,9,0,0,0,0,9.7500000000000003E-2,0,0,0,0,0,0,"",{"$f":"IF(AJ100<=0,0,IF('Simulador Valora'!$Y$76=1,0,AJ100*'Simulador Valora'!$Y$79))+IF(AJ100<=0,0,IF('Simulador Valora'!$W$40=1,'Simulador Valora'!$M$60,IF('Simulador Valora'!$W$40=3,'Simulador Valora'!$J$60,IF('Simulador Valora'!$W$40=4,'Simulador Valora'!$E$60,0))))","v":0},null,0,0,"",0,81]
[82,0,null,0,null,0,null,0,null,{"$f":"IF(B101-H101=0,0,J99)","v":0},null,null,null,{"$f":"IF(OR('Simulador Valora'!$U$16=1,'Simulador Valora'!$U$16=3,'Simulador Valora'!$U$16=4),0,L101*'Simulador Valora'!$M$74*'Simulador Valora'!$V$21)","v":0},null,0,null,0,null,{"$f":"IF(B101<=0,0,IF('Simulador Valora'!$Y$76=1,0,B101*'Simulador Valora'!$Y$79))","v":0},null,{"$f":"IF(B101<=0,0,IF('Simulador Valora'!$W$40=1,'Simulador Valora'!$M$60,IF('Simulador Valora'!$W$40=3,'Simulador Valora'!$J$60,IF('Simulador Valora'!$W$40=4,'Simulador Valora'!$E$60))))","v":0},null,0,null,null,null,6,10,0,0,0,0,9.7500000000000003E-2,0,0,0,0,0,0,"",{"$f":"IF(AJ101<=0,0,IF('Simulador Valora'!$Y$76=1,0,AJ101*'Simulador Valora'!$Y$79))+IF(AJ101<=0,0,IF('Simulador Valora'!$W$40=1,'Simulador Valora'!$M$60,IF('Simulador Valora'!$W$40=3,'Simulador Valora'!$J$60,IF('Simulador Valora'!$W$40=4,'Simulador Valora'!$E$60,0))))","v":0},null,0,0,"",0,82]
[83,0,null,0,null,0,null,0,null,null,null,null,null,{"$f":"IF(OR('Simulador Valora'!$U$16=1,'Simulador Valora'!$U$16=3,'Simulador Valora'!$U$16=4),0,L102*'Simulador Valora'!$M$74*'Simulador Valora'!$V$21)","v":0},null,0,null,0,null,{"$f":"IF(B102<=0,0,IF('Simulador Valora'!$Y$76=1,0,B102*'Simulador Valora'!$Y$79))","v":0},null,{"$f":"IF(B102<=0,0,IF('Simulador Valora'!$W$40=1,'Simulador Valora'!$M$60,IF('Simulador Valora'!$W$40=3,'Simulador Valora'!$J$60,IF('Simulador Valora'!$W$40=4,'Simulador Valora'!$E$60))))","v":0},null,0,null,null,null,6,11,0,0,0,0,9.7500000000000003E-2,0,0,0,0,0,0,"",{"$f":"IF(AJ102<=0,0,IF('Simulador Valora'!$Y$76=1,0,AJ102*'Simulador Valora'!$Y$79))+IF(AJ102<=0,0,IF('Simulador Valora'!$W$40=1,'Simulador Valora'!$M$60,IF('Simulador Valora'!$W$40=3,'Simulador Valora'!$J$60,IF('Simulador Valora'!$W$40=4,'Simulador Valora'!$E$60,0))))","v":0},null,0,0,"",0,83]
[84,0,null,0,null,0,null,0,null,{"$f":"IF(B103-H103=0,0,J101)","v":0},null,null,null,{"$f":"IF(OR('Simulador Valora'!$U$16=1,'Simulador Valora'!$U$16=3,'Simulador Valora'!$U$16=4),0,L103*'Simulador Valora'!$M$74*'Simulador Valora'!$V$21)","v":0},null,0,null,0,null,{"$f":"IF(B103<=0,0,IF('Simulador Valora'!$Y$76=1,0,B103*'Simulador Valora'!$Y$79))","v":0},null,{"$f":"IF(B103<=0,0,IF('Simulador Valora'!$W$40=1,'Simulador Valora'!$M$60,IF('Simulador Valora'!$W$40=3,'Simulador Valora'!$J$60,IF('Simulador Valora'!$W$40=4,'Simulador Valora'!$E$60))))","v":0},null,0,null,null,null,7,0,0,0,0,0,9.7500000000000003E-2,0,0,0,0,0,0,"",{"$f":"IF(AJ103<=0,0,IF('Simulador Valora'!$Y$76=1,0,AJ103*'Simulador Valora'!$Y$79))+IF(AJ103<=0,0,IF('Simulador Valora'!$W$40=1,'Simulador Valora'!$M$60,IF('Simulador Valora'!$W$40=3,'Simulador Valora'!$J$60,IF('Simulador Valora'!$W$40=4,'Simulador Valora'!$E$60,0))))","v":0},null,0,0,"",0,84]
[85,0,null,0,null,0,null,0,null,null,null,null,null,{"$f":"IF(OR('Simulador Valora'!$U$16=1,'Simulador Valora'!$U$16=3,'Simulador Valora'!$U$16=4),0,L104*'Simulador Valora'!$M$74*'Simulador Valora'!$V$21)","v":0},null,0,null,0,null,{"$f":"IF(B104<=0,0,IF('Simulador Valora'!$Y$76=1,0,B104*'Simulador Valora'!$Y$79))","v":0},null,{"$f":"IF(B104<=0,0,IF('Simulador Valora'!$W$40=1,'Simulador Valora'!$M$60,IF('Simulador Valora'!$W$40=3,'Simulador Valora'!$J$60,IF('Simulador Valora'!$W$40=4,'Simulador Valora'!$E$60))))","v":0},null,0,null,{"$f":"IF(B104<=0,0,'Simulador Valora'!$AG$57)","v":0},null,7,1,0,0,0,0,{"$f":"IF(AH103=$AH$4,AH103,IF(AH103-0.25%<=$AH$4,$AH$4,AH103-0.25%))","v":9.7500000000000003E-2},0,0,0,0,0,0,"",{"$f":"IF(AJ104<=0,0,IF('Simulador Valora'!$Y$76=1,0,AJ104*'Simulador Valora'!$Y$79))+IF(AJ104<=0,0,IF('Simulador Valora'!$W$40=1,'Simulador Valora'!$M$60,IF('Simulador Valora'!$W$40=3,'Simulador Valora'!$J$60,IF('Simulador Valora'!$W$40=4,'Simulador Valora'!$E$60,0))))","v":0},{"$f":"IF(AJ104<=0,0,$AQ$32)","v":0},0,0,"",0,85]
[86,0,null,0,null,0,null,0,null,{"$f":"IF(B105-H105=0,0,J103*(1+(3%)))","v":0},null,null,null,{"$f":"IF(OR('Simulador Valora'!$U$16=1,'Simulador Valora'!$U$16=3,'Simulador Valora'!$U$16=4),0,L105*'Simulador Valora'!$M$74*'Simulador Valora'!$V$21)","v":0},null,0,null,0,null,{"$f":"IF(B105<=0,0,IF('Simulador Valora'!$Y$76=1,0,B105*'Simulador Valora'!$Y$79))","v":0},null,{"$f":"IF(B105<=0,0,IF('Simulador Valora'!$W$40=1,'Simulador Valora'!$M$60,IF('Simulador Valora'!$W$40=3,'Simulador Valora'!$J$60,IF('Simulador Valora'!$W$40=4,'Simulador Valora'!$E$60))))","v":0},null,0,null,null,null,7,2,0,0,0,0,{"$f":"AH104","v":9.7500000000000003E-2},0,0,0,0,0,0,"",{"$f":"IF(AJ105<=0,0,IF('Simulador Valora'!$Y$76=1,0,AJ105*'Simulador Valora'!$Y$79))+IF(AJ105<=0,0,IF('Simulador Valora'!$W$40=1,'Simulador Valora'!$M$60,IF('Simulador Valora'!$W$40=3,'Simulador Valora'!$J$60,IF('Simulador Valora'!$W$40=4,'Simulador Valora'!$E$60,0))))","v":0},null,0,0,"",0,86]
[87,0,null,0,null,0,null,0,null,null,null,null,null,{"$f":"IF(OR('Simulador Valora'!$U$16=1,'Simulador Valora'!$U$16=3,'Simulador Valora'!$U$16=4),0,L106*'Simulador Valora'!$M$74*'Simulador Valora'!$V$21)","v":0},null,0,null,0,null,{"$f":"IF(B106<=0,0,IF('Simulador Valora'!$Y$76=1,0,B106*'Simulador Valora'!$Y$79))","v":0},null,{"$f":"IF(B106<=0,0,IF('Simulador Valora'!$W$40=1,'Simulador Valora'!$M$60,IF('Simulador Valora'!$W$40=3,'Simulador Valora'!$J$60,IF('Simulador Valora'!$W$40=4,'Simulador Valora'!$E$60))))","v":0},null,0,null,null,null,7,3,0,0,0,0,{"$f":"AH105","v":9.7500000000000003E-2},0,0,0,0,0,0,"",{"$f":"IF(AJ106<=0,0,IF('Simulador Valora'!$Y$76=1,0,AJ106*'Simulador Valora'!$Y$79))+IF(AJ106<=0,0,IF('Simulador Valora'!$W$40=1,'Simulador Valora'!$M$60,IF('Simulador Valora'!$W$40=3,'Simulador Valora'!$J$60,IF('Simulador Valora'!$W$40=4,'Simulador Valora'!$E$60,0))))","v":0},null,0,0,"",0,87]
[88,0,null,0,null,0,null,0,null,{"$f":"IF(B107-H107=0,0,J105)","v":0},null,null,null,{"$f":"IF(OR('Simulador Valora'!$U$16=1,'Simulador Valora'!$U$16=3,'Simulador Valora'!$U$16=4),0,L107*'Simulador Valora'!$M$74*'Simulador Valora'!$V$21)","v":0},null,0,null,0,null,{"$f":"IF(B107<=0,0,IF('Simulador Valora'!$Y$76=1,0,B107*'Simulador Valora'!$Y$79))","v":0},null,{"$f":"IF(B107<=0,0,IF('Simulador Valora'!$W$40=1,'Simulador Valora'!$M$60,IF('Simulador Valora'!$W$40=3,'Simulador Valora'!$J$60,IF('Simulador Valora'!$W$40=4,'Simulador Valora'!$E$60))))","v":0},null,0,null,null,null,7,4,0,0,0,0,9.7500000000000003E-2,0,0,0,0,0,0,"",{"$f":"IF(AJ107<=0,0,IF('Simulador Valora'!$Y$76=1,0,AJ107*'Simulador Valora'!$Y$79))+IF(AJ107<=0,0,IF('Simulador Valora'!$W$40=1,'Simulador Valora'!$M$60,IF('Simulador Valora'!$W$40=3,'Simulador Valora'!$J$60,IF('Simulador Valora'!$W$40=4,'Simulador Valora'!$E$60,0))))","v":0},null,0,0,"",0,88]
[89,0,null,0,null,0,null,0,null,null,null,null,null,{"$f":"IF(OR('Simulador Valora'!$U$16=1,'Simulador Valora'!$U$16=3,'Simulador Valora'!$U$16=4),0,L108*'Simulador Valora'!$M$74*'Simulador Valora'!$V$21)","v":0},null,0,null,0,null,{"$f":"IF(B108<=0,0,IF('Simulador Valora'!$Y$76=1,0,B108*'Simulador Valora'!$Y$79))","v":0},null,{"$f":"IF(B108<=0,0,IF('Simulador Valora'!$W$40=1,'Simulador Valora'!$M$60,IF('Simulador Valora'!$W$40=3,'Simulador Valora'!$J$60,IF('Simulador Valora'!$W$40=4,'Simulador Valora'!$E$60))))","v":0},null,0,null,null,null,7,5,0,0,0,0,9.7500000000000003E-2,0,0,0,0,0,0,"",{"$f":"IF(AJ108<=0,0,IF('Simulador Valora'!$Y$76=1,0,AJ108*'Simulador Valora'!$Y$79))+IF(AJ108<=0,0,IF('Simulador Valora'!$W$40=1,'Simulador Valora'!$M$60,IF('Simulador Valora'!$W$40=3,'Simulador Valora'!$J$60,IF('Simulador Valora'!$W$40=4,'Simulador Valora'!$E$60,0))))","v":0},null,0,0,"",0,89]
[90,0,null,0,null,0,null,0,null,{"$f":"IF(B109-H109=0,0,J107)","v":0},null,null,null,{"$f":"IF(OR('Simulador Valora'!$U$16=1,'Simulador Valora'!$U$16=3,'Simulador Valora'!$U$16=4),0,L109*'Simulador Valora'!$M$74*'Simulador Valora'!$V$21)","v":0},null,0,null,0,null,{"$f":"IF(B109<=0,0,IF('Simulador Valora'!$Y$76=1,0,B109*'Simulador Valora'!$Y$79))","v":0},null,{"$f":"IF(B109<=0,0,IF('Simulador Valora'!$W$40=1,'Simulador Valora'!$M$60,IF('Simulador Valora'!$W$40=3,'Simulador Valora'!$J$60,IF('Simulador Valora'!$W$40=4,'Simulador Valora'!$E$60))))","v":0},null,0,null,null,null,7,6,0,0,0,0,9.7500000000000003E-2,0,0,0,0,0,0,"",{"$f":"IF(AJ109<=0,0,IF('Simulador Valora'!$Y$76=1,0,AJ109*'Simulador Valora'!$Y$79))+IF(AJ109<=0,0,IF('Simulador Valora'!$W$40=1,'Simulador Valora'!$M$60,IF('Simulador Valora'!$W$40=3,'Simulador Valora'!$J$60,IF('Simulador Valora'!$W$40=4,'Simulador Valora'!$E$60,0))))","v":0},null,0,0,"",0,90]
[91,0,null,0,null,0,null,0,null,null,null,null,null,{"$f":"IF(OR('Simulador Valora'!$U$16=1,'Simulador Valora'!$U$16=3,'Simulador Valora'!$U$16=4),0,L110*'Simulador Valora'!$M$74*'Simulador Valora'!$V$21)","v":0},null,0,null,0,null,{"$f":"IF(B110<=0,0,IF('Simulador Valora'!$Y$76=1,0,B110*'Simulador Valora'!$Y$79))","v":0},null,{"$f":"IF(B110<=0,0,IF('Simulador Valora'!$W$40=1,'Simulador Valora'!$M$60,IF('Simulador Valora'!$W$40=3,'Simulador Valora'!$J$60,IF('Simulador Valora'!$W$40=4,'Simulador Valora'!$E$60))))","v":0},null,0,null,null,null,7,7,0,0,0,0,9.7500000000000003E-2,0,0,0,0,0,0,"",{"$f":"IF(AJ110<=0,0,IF('Simulador Valora'!$Y$76=1,0,AJ110*'Simulador Valora'!$Y$79))+IF(AJ110<=0,0,IF('Simulador Valora'!$W$40=1,'Simulador Valora'!$M$60,IF('Simulador Valora'!$W$40=3,'Simulador Valora'!$J$60,IF('Simulador Valora'!$W$40=4,'Simulador Valora'!$E$60,0))))","v":0},null,0,0,"",0,91]
[92,0,null,0,null,0,null,0,null,{"$f":"IF(B111-H111=0,0,J109)","v":0},null,null,null,{"$f":"IF(OR('Simulador Valora'!$U$16=1,'Simulador Valora'!$U$16=3,'Simulador Valora'!$U$16=4),0,L111*'Simulador Valora'!$M$74*'Simulador Valora'!$V$21)","v":0},null,0,null,0,null,{"$f":"IF(B111<=0,0,IF('Simulador Valora'!$Y$76=1,0,B111*'Simulador Valora'!$Y$79))","v":0},null,{"$f":"IF(B111<=0,0,IF('Simulador Valora'!$W$40=1,'Simulador Valora'!$M$60,IF('Simulador Valora'!$W$40=3,'Simulador Valora'!$J$60,IF('Simulador Valora'!$W$40=4,'Simulador Valora'!$E$60))))","v":0},null,0,null,null,null,7,8,0,0,0,0,9.7500000000000003E-2,0,0,0,0,0,0,"",{"$f":"IF(AJ111<=0,0,IF('Simulador Valora'!$Y$76=1,0,AJ111*'Simulador Valora'!$Y$79))+IF(AJ111<=0,0,IF('Simulador Valora'!$W$40=1,'Simulador Valora'!$M$60,IF('Simulador Valora'!$W$40=3,'Simulador Valora'!$J$60,IF('Simulador Valora'!$W$40=4,'Simulador Valora'!$E$60,0))))","v":0},null,0,0,"",0,92]
[93,0,null,0,null,0,null,0,null,null,null,null,null,{"$f":"IF(OR('Simulador Valora'!$U$16=1,'Simulador Valora'!$U$16=3,'Simulador Valora'!$U$16=4),0,L112*'Simulador Valora'!$M$74*'Simulador Valora'!$V$21)","v":0},null,0,null,0,null,{"$f":"IF(B112<=0,0,IF('Simulador Valora'!$Y$76=1,0,B112*'Simulador Valora'!$Y$79))","v":0},null,{"$f":"IF(B112<=0,0,IF('Simulador Valora'!$W$40=1,'Simulador Valora'!$M$60,IF('Simulador Valora'!$W$40=3,'Simulador Valora'!$J$60,IF('Simulador Valora'!$W$40=4,'Simulador Valora'!$E$60))))","v":0},null,0,null,null,null,7,9,0,0,0,0,9.7500000000000003E-2,0,0,0,0,0,0,"",{"$f":"IF(AJ112<=0,0,IF('Simulador Valora'!$Y$76=1,0,AJ112*'Simulador Valora'!$Y$79))+IF(AJ112<=0,0,IF('Simulador Valora'!$W$40=1,'Simulador Valora'!$M$60,IF('Simulador Valora'!$W$40=3,'Simulador Valora'!$J$60,IF('Simulador Valora'!$W$40=4,'Simulador Valora'!$E$60,0))))","v":0},null,0,0,"",0,93]
[94,0,null,0,null,0,null,0,null,{"$f":"IF(B113-H113=0,0,J111)","v":0},null,null,null,{"$f":"IF(OR('Simulador Valora'!$U$16=1,'Simulador Valora'!$U$16=3,'Simulador Valora'!$U$16=4),0,L113*'Simulador Valora'!$M$74*'Simulador Valora'!$V$21)","v":0},null,0,null,0,null,{"$f":"IF(B113<=0,0,IF('Simulador Valora'!$Y$76=1,0,B113*'Simulador Valora'!$Y$79))","v":0},null,{"$f":"IF(B113<=0,0,IF('Simulador Valora'!$W$40=1,'Simulador Valora'!$M$60,IF('Simulador Valora'!$W$40=3,'Simulador Valora'!$J$60,IF('Simulador Valora'!$W$40=4,'Simulador Valora'!$E$60))))","v":0},null,0,null,null,null,7,10,0,0,0,0,9.7500000000000003E-2,0,0,0,0,0,0,"",{"$f":"IF(AJ113<=0,0,IF('Simulador Valora'!$Y$76=1,0,AJ113*'Simulador Valora'!$Y$79))+IF(AJ113<=0,0,IF('Simulador Valora'!$W$40=1,'Simulador Valora'!$M$60,IF('Simulador Valora'!$W$40=3,'Simulador Valora'!$J$60,IF('Simulador Valora'!$W$40=4,'Simulador Valora'!$E$60,0))))","v":0},null,0,0,"",0,94]
[95,0,null,0,null,0,null,0,null,null,null,null,null,{"$f":"IF(OR('Simulador Valora'!$U$16=1,'Simulador Valora'!$U$16=3,'Simulador Valora'!$U$16=4),0,L114*'Simulador Valora'!$M$74*'Simulador Valora'!$V$21)","v":0},null,0,null,0,null,{"$f":"IF(B114<=0,0,IF('Simulador Valora'!$Y$76=1,0,B114*'Simulador Valora'!$Y$79))","v":0},null,{"$f":"IF(B114<=0,0,IF('Simulador Valora'!$W$40=1,'Simulador Valora'!$M$60,IF('Simulador Valora'!$W$40=3,'Simulador Valora'!$J$60,IF('Simulador Valora'!$W$40=4,'Simulador Valora'!$E$60))))","v":0},null,0,null,null,null,7,11,0,0,0,0,9.7500000000000003E-2,0,0,0,0,0,0,"",{"$f":"IF(AJ114<=0,0,IF('Simulador Valora'!$Y$76=1,0,AJ114*'Simulador Valora'!$Y$79))+IF(AJ114<=0,0,IF('Simulador Valora'!$W$40=1,'Simulador Valora'!$M$60,IF('Simulador Valora'!$W$40=3,'Simulador Valora'!$J$60,IF('Simulador Valora'!$W$40=4,'Simulador Valora'!$E$60,0))))","v":0},null,0,0,"",0,95]
[96,0,null,0,null,0,null,0,null,{"$f":"IF(B115-H115=0,0,J113)","v":0},null,null,null,{"$f":"IF(OR('Simulador Valora'!$U$16=1,'Simulador Valora'!$U$16=3,'Simulador Valora'!$U$16=4),0,L115*'Simulador Valora'!$M$74*'Simulador Valora'!$V$21)","v":0},null,0,null,0,null,{"$f":"IF(B115<=0,0,IF('Simulador Valora'!$Y$76=1,0,B115*'Simulador Valora'!$Y$79))","v":0},null,{"$f":"IF(B115<=0,0,IF('Simulador Valora'!$W$40=1,'Simulador Valora'!$M$60,IF('Simulador Valora'!$W$40=3,'Simulador Valora'!$J$60,IF('Simulador Valora'!$W$40=4,'Simulador Valora'!$E$60))))","v":0},null,0,null,null,null,8,0,0,0,0,0,9.7500000000000003E-2,0,0,0,0,0,0,"",{"$f":"IF(AJ115<=0,0,IF('Simulador Valora'!$Y$76=1,0,AJ115*'Simulador Valora'!$Y$79))+IF(AJ115<=0,0,IF('Simulador Valora'!$W$40=1,'Simulador Valora'!$M$60,IF('Simulador Valora'!$W$40=3,'Simulador Valora'!$J$60,IF('Simulador Valora'!$W$40=4,'Simulador Valora'!$E$60,0))))","v":0},null,0,0,"",0,96]
[97,0,null,0,null,0,null,0,null,null,null,null,null,{"$f":"IF(OR('Simulador Valora'!$U$16=1,'Simulador Valora'!$U$16=3,'Simulador Valora'!$U$16=4),0,L116*'Simulador Valora'!$M$74*'Simulador Valora'!$V$21)","v":0},null,0,null,0,null,{"$f":"IF(B116<=0,0,IF('Simulador Valora'!$Y$76=1,0,B116*'Simulador Valora'!$Y$79))","v":0},null,{"$f":"IF(B116<=0,0,IF('Simulador Valora'!$W$40=1,'Simulador Valora'!$M$60,IF('Simulador Valora'!$W$40=3,'Simulador Valora'!$J$60,IF('Simulador Valora'!$W$40=4,'Simulador Valora'!$E$60))))","v":0},null,0,null,{"$f":"IF(B116<=0,0,'Simulador Valora'!$AG$57)","v":0},null,8,1,0,0,0,0,{"$f":"IF(AH115=$AH$4,AH115,IF(AH115-0.25%<=$AH$4,$AH$4,AH115-0.25%))","v":9.7500000000000003E-2},0,0,0,0,0,0,"",{"$f":"IF(AJ116<=0,0,IF('Simulador Valora'!$Y$76=1,0,AJ116*'Simulador Valora'!$Y$79))+IF(AJ116<=0,0,IF('Simulador Valora'!$W$40=1,'Simulador Valora'!$M$60,IF('Simulador Valora'!$W$40=3,'Simulador Valora'!$J$60,IF('Simulador Valora'!$W$40=4,'Simulador Valora'!$E$60,0))))","v":0},{"$f":"IF(AJ116<=0,0,$AQ$32)","v":0},0,0,"",0,97]
[98,0,null,0,null,0,null,0,null,{"$f":"IF(B117-H117=0,0,J115*(1+(3%)))","v":0},null,null,null,{"$f":"IF(OR('Simulador Valora'!$U$16=1,'Simulador Valora'!$U$16=3,'Simulador Valora'!$U$16=4),0,L117*'Simulador Valora'!$M$74*'Simulador Valora'!$V$21)","v":0},null,0,null,0,null,{"$f":"IF(B117<=0,0,IF('Simulador Valora'!$Y$76=1,0,B117*'Simulador Valora'!$Y$79))","v":0},null,{"$f":"IF(B117<=0,0,IF('Simulador Valora'!$W$40=1,'Simulador Valora'!$M$60,IF('Simulador Valora'!$W$40=3,'Simulador Valora'!$J$60,IF('Simulador Valora'!$W$40=4,'Simulador Valora'!$E$60))))","v":0},null,0,null,null,null,8,2,0,0,0,0,{"$f":"AH116","v":9.7500000000000003E-2},0,0,0,0,0,0,"",{"$f":"IF(AJ117<=0,0,IF('Simulador Valora'!$Y$76=1,0,AJ117*'Simulador Valora'!$Y$79))+IF(AJ117<=0,0,IF('Simulador Valora'!$W$40=1,'Simulador Valora'!$M$60,IF('Simulador Valora'!$W$40=3,'Simulador Valora'!$J$60,IF('Simulador Valora'!$W$40=4,'Simulador Valora'!$E$60,0))))","v":0},null,0,0,"",0,98]
[99,0,null,0,null,0,null,0,null,null,null,null,null,{"$f":"IF(OR('Simulador Valora'!$U$16=1,'Simulador Valora'!$U$16=3,'Simulador Valora'!$U$16=4),0,L118*'Simulador Valora'!$M$74*'Simulador Valora'!$V$21)","v":0},null,0,null,0,null,{"$f":"IF(B118<=0,0,IF('Simulador Valora'!$Y$76=1,0,B118*'Simulador Valora'!$Y$79))","v":0},null,{"$f":"IF(B118<=0,0,IF('Simulador Valora'!$W$40=1,'Simulador Valora'!$M$60,IF('Simulador Valora'!$W$40=3,'Simulador Valora'!$J$60,IF('Simulador Valora'!$W$40=4,'Simulador Valora'!$E$60))))","v":0},null,0,null,null,null,8,3,0,0,0,0,{"$f":"AH117","v":9.7500000000000003E-2},0,0,0,0,0,0,"",{"$f":"IF(AJ118<=0,0,IF('Simulador Valora'!$Y$76=1,0,AJ118*'Simulador Valora'!$Y$79))+IF(AJ118<=0,0,IF('Simulador Valora'!$W$40=1,'Simulador Valora'!$M$60,IF('Simulador Valora'!$W$40=3,'Simulador Valora'!$J$60,IF('Simulador Valora'!$W$40=4,'Simulador Valora'!$E$60,0))))","v":0},null,0,0,"",0,99]
[100,0,null,0,null,0,null,0,null,{"$f":"IF(B119-H119=0,0,J117)","v":0},null,null,null,{"$f":"IF(OR('Simulador Valora'!$U$16=1,'Simulador Valora'!$U$16=3,'Simulador Valora'!$U$16=4),0,L119*'Simulador Valora'!$M$74*'Simulador Valora'!$V$21)","v":0},null,0,null,0,null,{"$f":"IF(B119<=0,0,IF('Simulador Valora'!$Y$76=1,0,B119*'Simulador Valora'!$Y$79))","v":0},null,{"$f":"IF(B119<=0,0,IF('Simulador Valora'!$W$40=1,'Simulador Valora'!$M$60,IF('Simulador Valora'!$W$40=3,'Simulador Valora'!$J$60,IF('Simulador Valora'!$W$40=4,'Simulador Valora'!$E$60))))","v":0},null,0,null,null,null,8,4,0,0,0,0,9.7500000000000003E-2,0,0,0,0,0,0,"",{"$f":"IF(AJ119<=0,0,IF('Simulador Valora'!$Y$76=1,0,AJ119*'Simulador Valora'!$Y$79))+IF(AJ119<=0,0,IF('Simulador Valora'!$W$40=1,'Simulador Valora'!$M$60,IF('Simulador Valora'!$W$40=3,'Simulador Valora'!$J$60,IF('Simulador Valora'!$W$40=4,'Simulador Valora'!$E$60,0))))","v":0},null,0,0,"",0,100]
[101,0,null,0,null,0,null,0,null,null,null,null,null,{"$f":"IF(OR('Simulador Valora'!$U$16=1,'Simulador Valora'!$U$16=3,'Simulador Valora'!$U$16=4),0,L120*'Simulador Valora'!$M$74*'Simulador Valora'!$V$21)","v":0},null,0,null,0,null,{"$f":"IF(B120<=0,0,IF('Simulador Valora'!$Y$76=1,0,B120*'Simulador Valora'!$Y$79))","v":0},null,{"$f":"IF(B120<=0,0,IF('Simulador Valora'!$W$40=1,'Simulador Valora'!$M$60,IF('Simulador Valora'!$W$40=3,'Simulador Valora'!$J$60,IF('Simulador Valora'!$W$40=4,'Simulador Valora'!$E$60))))","v":0},null,0,null,null,null,8,5,0,0,0,0,9.7500000000000003E-2,0,0,0,0,0,0,"",{"$f":"IF(AJ120<=0,0,IF('Simulador Valora'!$Y$76=1,0,AJ120*'Simulador Valora'!$Y$79))+IF(AJ120<=0,0,IF('Simulador Valora'!$W$40=1,'Simulador Valora'!$M$60,IF('Simulador Valora'!$W$40=3,'Simulador Valora'!$J$60,IF('Simulador Valora'!$W$40=4,'Simulador Valora'!$E$60,0))))","v":0},null,0,0,"",0,101]
[102,0,null,0,null,0,null,0,null,{"$f":"IF(B121-H121=0,0,J119)","v":0},null,null,null,{"$f":"IF(OR('Simulador Valora'!$U$16=1,'Simulador Valora'!$U$16=3,'Simulador Valora'!$U$16=4),0,L121*'Simulador Valora'!$M$74*'Simulador Valora'!$V$21)","v":0},null,0,null,0,null,{"$f":"IF(B121<=0,0,IF('Simulador Valora'!$Y$76=1,0,B121*'Simulador Valora'!$Y$79))","v":0},null,{"$f":"IF(B121<=0,0,IF('Simulador Valora'!$W$40=1,'Simulador Valora'!$M$60,IF('Simulador Valora'!$W$40=3,'Simulador Valora'!$J$60,IF('Simulador Valora'!$W$40=4,'Simulador Valora'!$E$60))))","v":0},null,0,null,null,null,8,6,0,0,0,0,9.7500000000000003E-2,0,0,0,0,0,0,"",{"$f":"IF(AJ121<=0,0,IF('Simulador Valora'!$Y$76=1,0,AJ121*'Simulador Valora'!$Y$79))+IF(AJ121<=0,0,IF('Simulador Valora'!$W$40=1,'Simulador Valora'!$M$60,IF('Simulador Valora'!$W$40=3,'Simulador Valora'!$J$60,IF('Simulador Valora'!$W$40=4,'Simulador Valora'!$E$60,0))))","v":0},null,0,0,"",0,102]
[103,0,null,0,null,0,null,0,null,null,null,null,null,{"$f":"IF(OR('Simulador Valora'!$U$16=1,'Simulador Valora'!$U$16=3,'Simulador Valora'!$U$16=4),0,L122*'Simulador Valora'!$M$74*'Simulador Valora'!$V$21)","v":0},null,0,null,0,null,{"$f":"IF(B122<=0,0,IF('Simulador Valora'!$Y$76=1,0,B122*'Simulador Valora'!$Y$79))","v":0},null,{"$f":"IF(B122<=0,0,IF('Simulador Valora'!$W$40=1,'Simulador Valora'!$M$60,IF('Simulador Valora'!$W$40=3,'Simulador Valora'!$J$60,IF('Simulador Valora'!$W$40=4,'Simulador Valora'!$E$60))))","v":0},null,0,null,null,null,8,7,0,0,0,0,9.7500000000000003E-2,0,0,0,0,0,0,"",{"$f":"IF(AJ122<=0,0,IF('Simulador Valora'!$Y$76=1,0,AJ122*'Simulador Valora'!$Y$79))+IF(AJ122<=0,0,IF('Simulador Valora'!$W$40=1,'Simulador Valora'!$M$60,IF('Simulador Valora'!$W$40=3,'Simulador Valora'!$J$60,IF('Simulador Valora'!$W$40=4,'Simulador Valora'!$E$60,0))))","v":0},null,0,0,"",0,103]
[104,0,null,0,null,0,null,0,null,{"$f":"IF(B123-H123=0,0,J121)","v":0},null,null,null,{"$f":"IF(OR('Simulador Valora'!$U$16=1,'Simulador Valora'!$U$16=3,'Simulador Valora'!$U$16=4),0,L123*'Simulador Valora'!$M$74*'Simulador Valora'!$V$21)","v":0},null,0,null,0,null,{"$f":"IF(B123<=0,0,IF('Simulador Valora'!$Y$76=1,0,B123*'Simulador Valora'!$Y$79))","v":0},null,{"$f":"IF(B123<=0,0,IF('Simulador Valora'!$W$40=1,'Simulador Valora'!$M$60,IF('Simulador Valora'!$W$40=3,'Simulador Valora'!$J$60,IF('Simulador Valora'!$W$40=4,'Simulador Valora'!$E$60))))","v":0},null,0,null,null,null,8,8,0,0,0,0,9.7500000000000003E-2,0,0,0,0,0,0,"",{"$f":"IF(AJ123<=0,0,IF('Simulador Valora'!$Y$76=1,0,AJ123*'Simulador Valora'!$Y$79))+IF(AJ123<=0,0,IF('Simulador Valora'!$W$40=1,'Simulador Valora'!$M$60,IF('Simulador Valora'!$W$40=3,'Simulador Valora'!$J$60,IF('Simulador Valora'!$W$40=4,'Simulador Valora'!$E$60,0))))","v":0},null,0,0,"",0,104]
[105,0,null,0,null,0,null,0,null,null,null,null,null,{"$f":"IF(OR('Simulador Valora'!$U$16=1,'Simulador Valora'!$U$16=3,'Simulador Valora'!$U$16=4),0,L124*'Simulador Valora'!$M$74*'Simulador Valora'!$V$21)","v":0},null,0,null,0,null,{"$f":"IF(B124<=0,0,IF('Simulador Valora'!$Y$76=1,0,B124*'Simulador Valora'!$Y$79))","v":0},null,{"$f":"IF(B124<=0,0,IF('Simulador Valora'!$W$40=1,'Simulador Valora'!$M$60,IF('Simulador Valora'!$W$40=3,'Simulador Valora'!$J$60,IF('Simulador Valora'!$W$40=4,'Simulador Valora'!$E$60))))","v":0},null,0,null,null,null,8,9,0,0,0,0,9.7500000000000003E-2,0,0,0,0,0,0,"",{"$f":"IF(AJ124<=0,0,IF('Simulador Valora'!$Y$76=1,0,AJ124*'Simulador Valora'!$Y$79))+IF(AJ124<=0,0,IF('Simulador Valora'!$W$40=1,'Simulador Valora'!$M$60,IF('Simulador Valora'!$W$40=3,'Simulador Valora'!$J$60,IF('Simulador Valora'!$W$40=4,'Simulador Valora'!$E$60,0))))","v":0},null,0,0,"",0,105]
[106,0,null,0,null,0,null,0,null,{"$f":"IF(B125-H125=0,0,J123)","v":0},null,null,null,{"$f":"IF(OR('Simulador Valora'!$U$16=1,'Simulador Valora'!$U$16=3,'Simulador Valora'!$U$16=4),0,L125*'Simulador Valora'!$M$74*'Simulador Valora'!$V$21)","v":0},null,0,null,0,null,{"$f":"IF(B125<=0,0,IF('Simulador Valora'!$Y$76=1,0,B125*'Simulador Valora'!$Y$79))","v":0},null,{"$f":"IF(B125<=0,0,IF('Simulador Valora'!$W$40=1,'Simulador Valora'!$M$60,IF('Simulador Valora'!$W$40=3,'Simulador Valora'!$J$60,IF('Simulador Valora'!$W$40=4,'Simulador Valora'!$E$60))))","v":0},null,0,null,null,null,8,10,0,0,0,0,9.7500000000000003E-2,0,0,0,0,0,0,"",{"$f":"IF(AJ125<=0,0,IF('Simulador Valora'!$Y$76=1,0,AJ125*'Simulador Valora'!$Y$79))+IF(AJ125<=0,0,IF('Simulador Valora'!$W$40=1,'Simulador Valora'!$M$60,IF('Simulador Valora'!$W$40=3,'Simulador Valora'!$J$60,IF('Simulador Valora'!$W$40=4,'Simulador Valora'!$E$60,0))))","v":0},null,0,0,"",0,106]
[107,0,null,0,null,0,null,0,null,null,null,null,null,{"$f":"IF(OR('Simulador Valora'!$U$16=1,'Simulador Valora'!$U$16=3,'Simulador Valora'!$U$16=4),0,L126*'Simulador Valora'!$M$74*'Simulador Valora'!$V$21)","v":0},null,0,null,0,null,{"$f":"IF(B126<=0,0,IF('Simulador Valora'!$Y$76=1,0,B126*'Simulador Valora'!$Y$79))","v":0},null,{"$f":"IF(B126<=0,0,IF('Simulador Valora'!$W$40=1,'Simulador Valora'!$M$60,IF('Simulador Valora'!$W$40=3,'Simulador Valora'!$J$60,IF('Simulador Valora'!$W$40=4,'Simulador Valora'!$E$60))))","v":0},null,0,null,null,null,8,11,0,0,0,0,9.7500000000000003E-2,0,0,0,0,0,0,"",{"$f":"IF(AJ126<=0,0,IF('Simulador Valora'!$Y$76=1,0,AJ126*'Simulador Valora'!$Y$79))+IF(AJ126<=0,0,IF('Simulador Valora'!$W$40=1,'Simulador Valora'!$M$60,IF('Simulador Valora'!$W$40=3,'Simulador Valora'!$J$60,IF('Simulador Valora'!$W$40=4,'Simulador Valora'!$E$60,0))))","v":0},null,0,0,"",0,107]
[108,0,null,0,null,0,null,0,null,{"$f":"IF(B127-H127=0,0,J125)","v":0},null,null,null,{"$f":"IF(OR('Simulador Valora'!$U$16=1,'Simulador Valora'!$U$16=3,'Simulador Valora'!$U$16=4),0,L127*'Simulador Valora'!$M$74*'Simulador Valora'!$V$21)","v":0},null,0,null,0,null,{"$f":"IF(B127<=0,0,IF('Simulador Valora'!$Y$76=1,0,B127*'Simulador Valora'!$Y$79))","v":0},null,{"$f":"IF(B127<=0,0,IF('Simulador Valora'!$W$40=1,'Simulador Valora'!$M$60,IF('Simulador Valora'!$W$40=3,'Simulador Valora'!$J$60,IF('Simulador Valora'!$W$40=4,'Simulador Valora'!$E$60))))","v":0},null,0,null,null,null,9,0,0,0,0,0,9.7500000000000003E-2,0,0,0,0,0,0,"",{"$f":"IF(AJ127<=0,0,IF('Simulador Valora'!$Y$76=1,0,AJ127*'Simulador Valora'!$Y$79))+IF(AJ127<=0,0,IF('Simulador Valora'!$W$40=1,'Simulador Valora'!$M$60,IF('Simulador Valora'!$W$40=3,'Simulador Valora'!$J$60,IF('Simulador Valora'!$W$40=4,'Simulador Valora'!$E$60,0))))","v":0},null,0,0,"",0,108]
[109,0,null,0,null,0,null,0,null,null,null,null,null,{"$f":"IF(OR('Simulador Valora'!$U$16=1,'Simulador Valora'!$U$16=3,'Simulador Valora'!$U$16=4),0,L128*'Simulador Valora'!$M$74*'Simulador Valora'!$V$21)","v":0},null,0,null,0,null,{"$f":"IF(B128<=0,0,IF('Simulador Valora'!$Y$76=1,0,B128*'Simulador Valora'!$Y$79))","v":0},null,{"$f":"IF(B128<=0,0,IF('Simulador Valora'!$W$40=1,'Simulador Valora'!$M$60,IF('Simulador Valora'!$W$40=3,'Simulador Valora'!$J$60,IF('Simulador Valora'!$W$40=4,'Simulador Valora'!$E$60))))","v":0},null,0,null,{"$f":"IF(B128<=0,0,'Simulador Valora'!$AG$57)","v":0},null,9,1,0,0,0,0,{"$f":"IF(AH127=$AH$4,AH127,IF(AH127-0.25%<=$AH$4,$AH$4,AH127-0.25%))","v":9.7500000000000003E-2},0,0,0,0,0,0,"",{"$f":"IF(AJ128<=0,0,IF('Simulador Valora'!$Y$76=1,0,AJ128*'Simulador Valora'!$Y$79))+IF(AJ128<=0,0,IF('Simulador Valora'!$W$40=1,'Simulador Valora'!$M$60,IF('Simulador Valora'!$W$40=3,'Simulador Valora'!$J$60,IF('Simulador Valora'!$W$40=4,'Simulador Valora'!$E$60,0))))","v":0},{"$f":"IF(AJ128<=0,0,$AQ$32)","v":0},0,0,"",0,109]
[110,0,null,0,null,0,null,0,null,{"$f":"IF(B129-H129=0,0,J127*(1+(3%)))","v":0},null,null,null,{"$f":"IF(OR('Simulador Valora'!$U$16=1,'Simulador Valora'!$U$16=3,'Simulador Valora'!$U$16=4),0,L129*'Simulador Valora'!$M$74*'Simulador Valora'!$V$21)","v":0},null,0,null,0,null,{"$f":"IF(B129<=0,0,IF('Simulador Valora'!$Y$76=1,0,B129*'Simulador Valora'!$Y$79))","v":0},null,{"$f":"IF(B129<=0,0,IF('Simulador Valora'!$W$40=1,'Simulador Valora'!$M$60,IF('Simulador Valora'!$W$40=3,'Simulador Valora'!$J$60,IF('Simulador Valora'!$W$40=4,'Simulador Valora'!$E$60))))","v":0},null,0,null,null,null,9,2,0,0,0,0,{"$f":"AH128","v":9.7500000000000003E-2},0,0,0,0,0,0,"",{"$f":"IF(AJ129<=0,0,IF('Simulador Valora'!$Y$76=1,0,AJ129*'Simulador Valora'!$Y$79))+IF(AJ129<=0,0,IF('Simulador Valora'!$W$40=1,'Simulador Valora'!$M$60,IF('Simulador Valora'!$W$40=3,'Simulador Valora'!$J$60,IF('Simulador Valora'!$W$40=4,'Simulador Valora'!$E$60,0))))","v":0},null,0,0,"",0,110]
[111,0,null,0,null,0,null,0,null,null,null,null,null,{"$f":"IF(OR('Simulador Valora'!$U$16=1,'Simulador Valora'!$U$16=3,'Simulador Valora'!$U$16=4),0,L130*'Simulador Valora'!$M$74*'Simulador Valora'!$V$21)","v":0},null,0,null,0,null,{"$f":"IF(B130<=0,0,IF('Simulador Valora'!$Y$76=1,0,B130*'Simulador Valora'!$Y$79))","v":0},null,{"$f":"IF(B130<=0,0,IF('Simulador Valora'!$W$40=1,'Simulador Valora'!$M$60,IF('Simulador Valora'!$W$40=3,'Simulador Valora'!$J$60,IF('Simulador Valora'!$W$40=4,'Simulador Valora'!$E$60))))","v":0},null,0,null,null,null,9,3,0,0,0,0,{"$f":"AH129","v":9.7500000000000003E-2},0,0,0,0,0,0,"",{"$f":"IF(AJ130<=0,0,IF('Simulador Valora'!$Y$76=1,0,AJ130*'Simulador Valora'!$Y$79))+IF(AJ130<=0,0,IF('Simulador Valora'!$W$40=1,'Simulador Valora'!$M$60,IF('Simulador Valora'!$W$40=3,'Simulador Valora'!$J$60,IF('Simulador Valora'!$W$40=4,'Simulador Valora'!$E$60,0))))","v":0},null,0,0,"",0,111]
[112,0,null,0,null,0,null,0,null,{"$f":"IF(B131-H131=0,0,J129)","v":0},null,null,null,{"$f":"IF(OR('Simulador Valora'!$U$16=1,'Simulador Valora'!$U$16=3,'Simulador Valora'!$U$16=4),0,L131*'Simulador Valora'!$M$74*'Simulador Valora'!$V$21)","v":0},null,0,null,0,null,{"$f":"IF(B131<=0,0,IF('Simulador Valora'!$Y$76=1,0,B131*'Simulador Valora'!$Y$79))","v":0},null,{"$f":"IF(B131<=0,0,IF('Simulador Valora'!$W$40=1,'Simulador Valora'!$M$60,IF('Simulador Valora'!$W$40=3,'Simulador Valora'!$J$60,IF('Simulador Valora'!$W$40=4,'Simulador Valora'!$E$60))))","v":0},null,0,null,null,null,9,4,0,0,0,0,9.7500000000000003E-2,0,0,0,0,0,0,"",{"$f":"IF(AJ131<=0,0,IF('Simulador Valora'!$Y$76=1,0,AJ131*'Simulador Valora'!$Y$79))+IF(AJ131<=0,0,IF('Simulador Valora'!$W$40=1,'Simulador Valora'!$M$60,IF('Simulador Valora'!$W$40=3,'Simulador Valora'!$J$60,IF('Simulador Valora'!$W$40=4,'Simulador Valora'!$E$60,0))))","v":0},null,0,0,"",0,112]
[113,0,null,0,null,0,null,0,null,null,null,null,null,{"$f":"IF(OR('Simulador Valora'!$U$16=1,'Simulador Valora'!$U$16=3,'Simulador Valora'!$U$16=4),0,L132*'Simulador Valora'!$M$74*'Simulador Valora'!$V$21)","v":0},null,0,null,0,null,{"$f":"IF(B132<=0,0,IF('Simulador Valora'!$Y$76=1,0,B132*'Simulador Valora'!$Y$79))","v":0},null,{"$f":"IF(B132<=0,0,IF('Simulador Valora'!$W$40=1,'Simulador Valora'!$M$60,IF('Simulador Valora'!$W$40=3,'Simulador Valora'!$J$60,IF('Simulador Valora'!$W$40=4,'Simulador Valora'!$E$60))))","v":0},null,0,null,null,null,9,5,0,0,0,0,9.7500000000000003E-2,0,0,0,0,0,0,"",{"$f":"IF(AJ132<=0,0,IF('Simulador Valora'!$Y$76=1,0,AJ132*'Simulador Valora'!$Y$79))+IF(AJ132<=0,0,IF('Simulador Valora'!$W$40=1,'Simulador Valora'!$M$60,IF('Simulador Valora'!$W$40=3,'Simulador Valora'!$J$60,IF('Simulador Valora'!$W$40=4,'Simulador Valora'!$E$60,0))))","v":0},null,0,0,"",0,113]
[114,0,null,0,null,0,null,0,null,{"$f":"IF(B133-H133=0,0,J131)","v":0},null,null,null,{"$f":"IF(OR('Simulador Valora'!$U$16=1,'Simulador Valora'!$U$16=3,'Simulador Valora'!$U$16=4),0,L133*'Simulador Valora'!$M$74*'Simulador Valora'!$V$21)","v":0},null,0,null,0,null,{"$f":"IF(B133<=0,0,IF('Simulador Valora'!$Y$76=1,0,B133*'Simulador Valora'!$Y$79))","v":0},null,{"$f":"IF(B133<=0,0,IF('Simulador Valora'!$W$40=1,'Simulador Valora'!$M$60,IF('Simulador Valora'!$W$40=3,'Simulador Valora'!$J$60,IF('Simulador Valora'!$W$40=4,'Simulador Valora'!$E$60))))","v":0},null,0,null,null,null,9,6,0,0,0,0,9.7500000000000003E-2,0,0,0,0,0,0,"",{"$f":"IF(AJ133<=0,0,IF('Simulador Valora'!$Y$76=1,0,AJ133*'Simulador Valora'!$Y$79))+IF(AJ133<=0,0,IF('Simulador Valora'!$W$40=1,'Simulador Valora'!$M$60,IF('Simulador Valora'!$W$40=3,'Simulador Valora'!$J$60,IF('Simulador Valora'!$W$40=4,'Simulador Valora'!$E$60,0))))","v":0},null,0,0,"",0,114]
[115,0,null,0,null,0,null,0,null,null,null,null,null,{"$f":"IF(OR('Simulador Valora'!$U$16=1,'Simulador Valora'!$U$16=3,'Simulador Valora'!$U$16=4),0,L134*'Simulador Valora'!$M$74*'Simulador Valora'!$V$21)","v":0},null,0,null,0,null,{"$f":"IF(B134<=0,0,IF('Simulador Valora'!$Y$76=1,0,B134*'Simulador Valora'!$Y$79))","v":0},null,{"$f":"IF(B134<=0,0,IF('Simulador Valora'!$W$40=1,'Simulador Valora'!$M$60,IF('Simulador Valora'!$W$40=3,'Simulador Valora'!$J$60,IF('Simulador Valora'!$W$40=4,'Simulador Valora'!$E$60))))","v":0},null,0,null,null,null,9,7,0,0,0,0,9.7500000000000003E-2,0,0,0,0,0,0,"",{"$f":"IF(AJ134<=0,0,IF('Simulador Valora'!$Y$76=1,0,AJ134*'Simulador Valora'!$Y$79))+IF(AJ134<=0,0,IF('Simulador Valora'!$W$40=1,'Simulador Valora'!$M$60,IF('Simulador Valora'!$W$40=3,'Simulador Valora'!$J$60,IF('Simulador Valora'!$W$40=4,'Simulador Valora'!$E$60,0))))","v":0},null,0,0,"",0,115]
[116,0,null,0,null,0,null,0,null,{"$f":"IF(B135-H135=0,0,J133)","v":0},null,null,null,{"$f":"IF(OR('Simulador Valora'!$U$16=1,'Simulador Valora'!$U$16=3,'Simulador Valora'!$U$16=4),0,L135*'Simulador Valora'!$M$74*'Simulador Valora'!$V$21)","v":0},null,0,null,0,null,{"$f":"IF(B135<=0,0,IF('Simulador Valora'!$Y$76=1,0,B135*'Simulador Valora'!$Y$79))","v":0},null,{"$f":"IF(B135<=0,0,IF('Simulador Valora'!$W$40=1,'Simulador Valora'!$M$60,IF('Simulador Valora'!$W$40=3,'Simulador Valora'!$J$60,IF('Simulador Valora'!$W$40=4,'Simulador Valora'!$E$60))))","v":0},null,0,null,null,null,9,8,0,0,0,0,9.7500000000000003E-2,0,0,0,0,0,0,"",{"$f":"IF(AJ135<=0,0,IF('Simulador Valora'!$Y$76=1,0,AJ135*'Simulador Valora'!$Y$79))+IF(AJ135<=0,0,IF('Simulador Valora'!$W$40=1,'Simulador Valora'!$M$60,IF('Simulador Valora'!$W$40=3,'Simulador Valora'!$J$60,IF('Simulador Valora'!$W$40=4,'Simulador Valora'!$E$60,0))))","v":0},null,0,0,"",0,116]
[117,0,null,0,null,0,null,0,null,null,null,null,null,{"$f":"IF(OR('Simulador Valora'!$U$16=1,'Simulador Valora'!$U$16=3,'Simulador Valora'!$U$16=4),0,L136*'Simulador Valora'!$M$74*'Simulador Valora'!$V$21)","v":0},null,0,null,0,null,{"$f":"IF(B136<=0,0,IF('Simulador Valora'!$Y$76=1,0,B136*'Simulador Valora'!$Y$79))","v":0},null,{"$f":"IF(B136<=0,0,IF('Simulador Valora'!$W$40=1,'Simulador Valora'!$M$60,IF('Simulador Valora'!$W$40=3,'Simulador Valora'!$J$60,IF('Simulador Valora'!$W$40=4,'Simulador Valora'!$E$60))))","v":0},null,0,null,null,null,9,9,0,0,0,0,9.7500000000000003E-2,0,0,0,0,0,0,"",{"$f":"IF(AJ136<=0,0,IF('Simulador Valora'!$Y$76=1,0,AJ136*'Simulador Valora'!$Y$79))+IF(AJ136<=0,0,IF('Simulador Valora'!$W$40=1,'Simulador Valora'!$M$60,IF('Simulador Valora'!$W$40=3,'Simulador Valora'!$J$60,IF('Simulador Valora'!$W$40=4,'Simulador Valora'!$E$60,0))))","v":0},null,0,0,"",0,117]
[118,0,null,0,null,0,null,0,null,{"$f":"IF(B137-H137=0,0,J135)","v":0},null,null,null,{"$f":"IF(OR('Simulador Valora'!$U$16=1,'Simulador Valora'!$U$16=3,'Simulador Valora'!$U$16=4),0,L137*'Simulador Valora'!$M$74*'Simulador Valora'!$V$21)","v":0},null,0,null,0,null,{"$f":"IF(B137<=0,0,IF('Simulador Valora'!$Y$76=1,0,B137*'Simulador Valora'!$Y$79))","v":0},null,{"$f":"IF(B137<=0,0,IF('Simulador Valora'!$W$40=1,'Simulador Valora'!$M$60,IF('Simulador Valora'!$W$40=3,'Simulador Valora'!$J$60,IF('Simulador Valora'!$W$40=4,'Simulador Valora'!$E$60))))","v":0},null,0,null,null,null,9,10,0,0,0,0,9.7500000000000003E-2,0,0,0,0,0,0,"",{"$f":"IF(AJ137<=0,0,IF('Simulador Valora'!$Y$76=1,0,AJ137*'Simulador Valora'!$Y$79))+IF(AJ137<=0,0,IF('Simulador Valora'!$W$40=1,'Simulador Valora'!$M$60,IF('Simulador Valora'!$W$40=3,'Simulador Valora'!$J$60,IF('Simulador Valora'!$W$40=4,'Simulador Valora'!$E$60,0))))","v":0},null,0,0,"",0,118]
[119,0,null,0,null,0,null,0,null,null,null,null,null,{"$f":"IF(OR('Simulador Valora'!$U$16=1,'Simulador Valora'!$U$16=3,'Simulador Valora'!$U$16=4),0,L138*'Simulador Valora'!$M$74*'Simulador Valora'!$V$21)","v":0},null,0,null,0,null,{"$f":"IF(B138<=0,0,IF('Simulador Valora'!$Y$76=1,0,B138*'Simulador Valora'!$Y$79))","v":0},null,{"$f":"IF(B138<=0,0,IF('Simulador Valora'!$W$40=1,'Simulador Valora'!$M$60,IF('Simulador Valora'!$W$40=3,'Simulador Valora'!$J$60,IF('Simulador Valora'!$W$40=4,'Simulador Valora'!$E$60))))","v":0},null,0,null,null,null,9,11,0,0,0,0,9.7500000000000003E-2,0,0,0,0,0,0,"",{"$f":"IF(AJ138<=0,0,IF('Simulador Valora'!$Y$76=1,0,AJ138*'Simulador Valora'!$Y$79))+IF(AJ138<=0,0,IF('Simulador Valora'!$W$40=1,'Simulador Valora'!$M$60,IF('Simulador Valora'!$W$40=3,'Simulador Valora'!$J$60,IF('Simulador Valora'!$W$40=4,'Simulador Valora'!$E$60,0))))","v":0},null,0,0,"",0,119]
[120,0,null,0,null,0,null,0,null,{"$f":"IF(B139-H139=0,0,J137)","v":0},null,null,null,{"$f":"IF(OR('Simulador Valora'!$U$16=1,'Simulador Valora'!$U$16=3,'Simulador Valora'!$U$16=4),0,L139*'Simulador Valora'!$M$74*'Simulador Valora'!$V$21)","v":0},null,0,null,0,null,{"$f":"IF(B139<=0,0,IF('Simulador Valora'!$Y$76=1,0,B139*'Simulador Valora'!$Y$79))","v":0},null,{"$f":"IF(B139<=0,0,IF('Simulador Valora'!$W$40=1,'Simulador Valora'!$M$60,IF('Simulador Valora'!$W$40=3,'Simulador Valora'!$J$60,IF('Simulador Valora'!$W$40=4,'Simulador Valora'!$E$60))))","v":0},null,0,null,null,null,10,0,0,0,0,0,9.7500000000000003E-2,0,0,0,0,0,0,"",{"$f":"IF(AJ139<=0,0,IF('Simulador Valora'!$Y$76=1,0,AJ139*'Simulador Valora'!$Y$79))+IF(AJ139<=0,0,IF('Simulador Valora'!$W$40=1,'Simulador Valora'!$M$60,IF('Simulador Valora'!$W$40=3,'Simulador Valora'!$J$60,IF('Simulador Valora'!$W$40=4,'Simulador Valora'!$E$60,0))))","v":0},null,0,0,"",0,120]
[121,0,null,0,null,0,null,0,null,null,null,null,null,{"$f":"IF(OR('Simulador Valora'!$U$16=1,'Simulador Valora'!$U$16=3,'Simulador Valora'!$U$16=4),0,L140*'Simulador Valora'!$M$74*'Simulador Valora'!$V$21)","v":0},null,0,null,0,null,{"$f":"IF(B140<=0,0,IF('Simulador Valora'!$Y$76=1,0,B140*'Simulador Valora'!$Y$79))","v":0},null,{"$f":"IF(B140<=0,0,IF('Simulador Valora'!$W$40=1,'Simulador Valora'!$M$60,IF('Simulador Valora'!$W$40=3,'Simulador Valora'!$J$60,IF('Simulador Valora'!$W$40=4,'Simulador Valora'!$E$60))))","v":0},null,0,null,{"$f":"IF(B140<=0,0,'Simulador Valora'!$AG$57)","v":0},null,10,1,0,0,0,0,{"$f":"IF(AH139=$AH$4,AH139,IF(AH139-0.25%<=$AH$4,$AH$4,AH139-0.25%))","v":9.7500000000000003E-2},0,0,0,0,0,0,"",{"$f":"IF(AJ140<=0,0,IF('Simulador Valora'!$Y$76=1,0,AJ140*'Simulador Valora'!$Y$79))+IF(AJ140<=0,0,IF('Simulador Valora'!$W$40=1,'Simulador Valora'!$M$60,IF('Simulador Valora'!$W$40=3,'Simulador Valora'!$J$60,IF('Simulador Valora'!$W$40=4,'Simulador Valora'!$E$60,0))))","v":0},{"$f":"IF(AJ140<=0,0,$AQ$32)","v":0},0,{"$f":"IFERROR(IF(AK140<=0.01,0,AS139-1),0)","v":0},"",0,121]
[122,0,null,0,null,0,null,0,null,{"$f":"IF(B141-H141=0,0,J139*(1+(3%)))","v":0},null,null,null,{"$f":"IF(OR('Simulador Valora'!$U$16=1,'Simulador Valora'!$U$16=3,'Simulador Valora'!$U$16=4),0,L141*'Simulador Valora'!$M$74*'Simulador Valora'!$V$21)","v":0},null,0,null,0,null,{"$f":"IF(B141<=0,0,IF('Simulador Valora'!$Y$76=1,0,B141*'Simulador Valora'!$Y$79))","v":0},null,{"$f":"IF(B141<=0,0,IF('Simulador Valora'!$W$40=1,'Simulador Valora'!$M$60,IF('Simulador Valora'!$W$40=3,'Simulador Valora'!$J$60,IF('Simulador Valora'!$W$40=4,'Simulador Valora'!$E$60))))","v":0},null,0,null,null,null,10,2,0,0,0,0,{"$f":"AH140","v":9.7500000000000003E-2},0,0,0,0,0,0,"",{"$f":"IF(AJ141<=0,0,IF('Simulador Valora'!$Y$76=1,0,AJ141*'Simulador Valora'!$Y$79))+IF(AJ141<=0,0,IF('Simulador Valora'!$W$40=1,'Simulador Valora'!$M$60,IF('Simulador Valora'!$W$40=3,'Simulador Valora'!$J$60,IF('Simulador Valora'!$W$40=4,'Simulador Valora'!$E$60,0))))","v":0},null,0,{"$f":"IFERROR(IF(AK141<=0.01,0,AS140-1),0)","v":0},"",0,122]
[123,0,null,0,null,0,null,0,null,null,null,null,null,{"$f":"IF(OR('Simulador Valora'!$U$16=1,'Simulador Valora'!$U$16=3,'Simulador Valora'!$U$16=4),0,L142*'Simulador Valora'!$M$74*'Simulador Valora'!$V$21)","v":0},null,0,null,0,null,{"$f":"IF(B142<=0,0,IF('Simulador Valora'!$Y$76=1,0,B142*'Simulador Valora'!$Y$79))","v":0},null,{"$f":"IF(B142<=0,0,IF('Simulador Valora'!$W$40=1,'Simulador Valora'!$M$60,IF('Simulador Valora'!$W$40=3,'Simulador Valora'!$J$60,IF('Simulador Valora'!$W$40=4,'Simulador Valora'!$E$60))))","v":0},null,0,null,null,null,10,3,0,0,0,0,{"$f":"AH141","v":9.7500000000000003E-2},0,0,0,0,0,0,"",{"$f":"IF(AJ142<=0,0,IF('Simulador Valora'!$Y$76=1,0,AJ142*'Simulador Valora'!$Y$79))+IF(AJ142<=0,0,IF('Simulador Valora'!$W$40=1,'Simulador Valora'!$M$60,IF('Simulador Valora'!$W$40=3,'Simulador Valora'!$J$60,IF('Simulador Valora'!$W$40=4,'Simulador Valora'!$E$60,0))))","v":0},null,0,0,"",0,123]
[124,0,null,0,null,0,null,0,null,{"$f":"IF(B143-H143=0,0,J141)","v":0},null,null,null,{"$f":"IF(OR('Simulador Valora'!$U$16=1,'Simulador Valora'!$U$16=3,'Simulador Valora'!$U$16=4),0,L143*'Simulador Valora'!$M$74*'Simulador Valora'!$V$21)","v":0},null,0,null,0,null,{"$f":"IF(B143<=0,0,IF('Simulador Valora'!$Y$76=1,0,B143*'Simulador Valora'!$Y$79))","v":0},null,{"$f":"IF(B143<=0,0,IF('Simulador Valora'!$W$40=1,'Simulador Valora'!$M$60,IF('Simulador Valora'!$W$40=3,'Simulador Valora'!$J$60,IF('Simulador Valora'!$W$40=4,'Simulador Valora'!$E$60))))","v":0},null,0,null,null,null,10,4,0,0,0,0,9.7500000000000003E-2,0,0,0,0,0,0,"",{"$f":"IF(AJ143<=0,0,IF('Simulador Valora'!$Y$76=1,0,AJ143*'Simulador Valora'!$Y$79))+IF(AJ143<=0,0,IF('Simulador Valora'!$W$40=1,'Simulador Valora'!$M$60,IF('Simulador Valora'!$W$40=3,'Simulador Valora'!$J$60,IF('Simulador Valora'!$W$40=4,'Simulador Valora'!$E$60,0))))","v":0},null,0,0,"",0,124]
[125,0,null,0,null,0,null,0,null,null,null,null,null,{"$f":"IF(OR('Simulador Valora'!$U$16=1,'Simulador Valora'!$U$16=3,'Simulador Valora'!$U$16=4),0,L144*'Simulador Valora'!$M$74*'Simulador Valora'!$V$21)","v":0},null,0,null,0,null,{"$f":"IF(B144<=0,0,IF('Simulador Valora'!$Y$76=1,0,B144*'Simulador Valora'!$Y$79))","v":0},null,{"$f":"IF(B144<=0,0,IF('Simulador Valora'!$W$40=1,'Simulador Valora'!$M$60,IF('Simulador Valora'!$W$40=3,'Simulador Valora'!$J$60,IF('Simulador Valora'!$W$40=4,'Simulador Valora'!$E$60))))","v":0},null,0,null,null,null,10,5,0,0,0,0,9.7500000000000003E-2,0,0,0,0,0,0,"",{"$f":"IF(AJ144<=0,0,IF('Simulador Valora'!$Y$76=1,0,AJ144*'Simulador Valora'!$Y$79))+IF(AJ144<=0,0,IF('Simulador Valora'!$W$40=1,'Simulador Valora'!$M$60,IF('Simulador Valora'!$W$40=3,'Simulador Valora'!$J$60,IF('Simulador Valora'!$W$40=4,'Simulador Valora'!$E$60,0))))","v":0},null,0,0,"",0,125]
[126,0,null,0,null,0,null,0,null,{"$f":"IF(B145-H145=0,0,J143)","v":0},null,null,null,{"$f":"IF(OR('Simulador Valora'!$U$16=1,'Simulador Valora'!$U$16=3,'Simulador Valora'!$U$16=4),0,L145*'Simulador Valora'!$M$74*'Simulador Valora'!$V$21)","v":0},null,0,null,0,null,{"$f":"IF(B145<=0,0,IF('Simulador Valora'!$Y$76=1,0,B145*'Simulador Valora'!$Y$79))","v":0},null,{"$f":"IF(B145<=0,0,IF('Simulador Valora'!$W$40=1,'Simulador Valora'!$M$60,IF('Simulador Valora'!$W$40=3,'Simulador Valora'!$J$60,IF('Simulador Valora'!$W$40=4,'Simulador Valora'!$E$60))))","v":0},null,0,null,null,null,10,6,0,0,0,0,9.7500000000000003E-2,0,0,0,0,0,0,"",{"$f":"IF(AJ145<=0,0,IF('Simulador Valora'!$Y$76=1,0,AJ145*'Simulador Valora'!$Y$79))+IF(AJ145<=0,0,IF('Simulador Valora'!$W$40=1,'Simulador Valora'!$M$60,IF('Simulador Valora'!$W$40=3,'Simulador Valora'!$J$60,IF('Simulador Valora'!$W$40=4,'Simulador Valora'!$E$60,0))))","v":0},null,0,0,"",0,126]
[127,0,null,0,null,0,null,0,null,null,null,null,null,{"$f":"IF(OR('Simulador Valora'!$U$16=1,'Simulador Valora'!$U$16=3,'Simulador Valora'!$U$16=4),0,L146*'Simulador Valora'!$M$74*'Simulador Valora'!$V$21)","v":0},null,0,null,0,null,{"$f":"IF(B146<=0,0,IF('Simulador Valora'!$Y$76=1,0,B146*'Simulador Valora'!$Y$79))","v":0},null,{"$f":"IF(B146<=0,0,IF('Simulador Valora'!$W$40=1,'Simulador Valora'!$M$60,IF('Simulador Valora'!$W$40=3,'Simulador Valora'!$J$60,IF('Simulador Valora'!$W$40=4,'Simulador Valora'!$E$60))))","v":0},null,0,null,null,null,10,7,0,0,0,0,9.7500000000000003E-2,0,0,0,0,0,0,"",{"$f":"IF(AJ146<=0,0,IF('Simulador Valora'!$Y$76=1,0,AJ146*'Simulador Valora'!$Y$79))+IF(AJ146<=0,0,IF('Simulador Valora'!$W$40=1,'Simulador Valora'!$M$60,IF('Simulador Valora'!$W$40=3,'Simulador Valora'!$J$60,IF('Simulador Valora'!$W$40=4,'Simulador Valora'!$E$60,0))))","v":0},null,0,0,"",0,127]
[128,0,null,0,null,0,null,0,null,{"$f":"IF(B147-H147=0,0,J145)","v":0},null,null,null,{"$f":"IF(OR('Simulador Valora'!$U$16=1,'Simulador Valora'!$U$16=3,'Simulador Valora'!$U$16=4),0,L147*'Simulador Valora'!$M$74*'Simulador Valora'!$V$21)","v":0},null,0,null,0,null,{"$f":"IF(B147<=0,0,IF('Simulador Valora'!$Y$76=1,0,B147*'Simulador Valora'!$Y$79))","v":0},null,{"$f":"IF(B147<=0,0,IF('Simulador Valora'!$W$40=1,'Simulador Valora'!$M$60,IF('Simulador Valora'!$W$40=3,'Simulador Valora'!$J$60,IF('Simulador Valora'!$W$40=4,'Simulador Valora'!$E$60))))","v":0},null,0,null,null,null,10,8,0,0,0,0,9.7500000000000003E-2,0,0,0,0,0,0,"",{"$f":"IF(AJ147<=0,0,IF('Simulador Valora'!$Y$76=1,0,AJ147*'Simulador Valora'!$Y$79))+IF(AJ147<=0,0,IF('Simulador Valora'!$W$40=1,'Simulador Valora'!$M$60,IF('Simulador Valora'!$W$40=3,'Simulador Valora'!$J$60,IF('Simulador Valora'!$W$40=4,'Simulador Valora'!$E$60,0))))","v":0},null,0,0,"",0,128]
[129,0,null,0,null,0,null,0,null,null,null,null,null,{"$f":"IF(OR('Simulador Valora'!$U$16=1,'Simulador Valora'!$U$16=3,'Simulador Valora'!$U$16=4),0,L148*'Simulador Valora'!$M$74*'Simulador Valora'!$V$21)","v":0},null,0,null,0,null,{"$f":"IF(B148<=0,0,IF('Simulador Valora'!$Y$76=1,0,B148*'Simulador Valora'!$Y$79))","v":0},null,{"$f":"IF(B148<=0,0,IF('Simulador Valora'!$W$40=1,'Simulador Valora'!$M$60,IF('Simulador Valora'!$W$40=3,'Simulador Valora'!$J$60,IF('Simulador Valora'!$W$40=4,'Simulador Valora'!$E$60))))","v":0},null,0,null,null,null,10,9,0,0,0,0,9.7500000000000003E-2,0,0,0,0,{"$f":"+AK148-AL148","v":0},{"$f":"+AJ148-AM148","v":0},"",{"$f":"IF(AJ148<=0,0,IF('Simulador Valora'!$Y$76=1,0,AJ148*'Simulador Valora'!$Y$79))+IF(AJ148<=0,0,IF('Simulador Valora'!$W$40=1,'Simulador Valora'!$M$60,IF('Simulador Valora'!$W$40=3,'Simulador Valora'!$J$60,IF('Simulador Valora'!$W$40=4,'Simulador Valora'!$E$60,0))))","v":0},null,0,0,"",0,129]
[130,0,null,{"$f":"IF(B149+F149-D148<=0,B149+F149,IF(A149=$B$11,$F$11,IF(A149=$B$12,$F$12,IF(A149=$B$13,$F$13,IF($AP$4=2,B149*AI149,D148*(1+Z149))))))","v":0},null,{"$f":"IF(B149=0,0,P149/360*AU149*B149)","v":0},null,0,null,{"$f":"IF(B149-H149=0,0,J147)","v":0},null,null,null,{"$f":"IF(OR('Simulador Valora'!$U$16=1,'Simulador Valora'!$U$16=3,'Simulador Valora'!$U$16=4),0,L149*'Simulador Valora'!$M$74*'Simulador Valora'!$V$21)","v":0},null,0,null,{"$f":"B149-H149-J149-L149+N149","v":0},null,{"$f":"IF(B149<=0,0,IF('Simulador Valora'!$Y$76=1,0,B149*'Simulador Valora'!$Y$79))","v":0},null,{"$f":"IF(B149<=0,0,IF('Simulador Valora'!$W$40=1,'Simulador Valora'!$M$60,IF('Simulador Valora'!$W$40=3,'Simulador Valora'!$J$60,IF('Simulador Valora'!$W$40=4,'Simulador Valora'!$E$60))))","v":0},null,{"$f":"IF(B149<=0,0,(D149+L149+T149+V149))","v":0},null,null,null,10,10,{"$f":"+IF(R149<=0,IF(R148>0,+A149,0),0)","v":0},{"$f":"+IF(AD149>0,+AB149,0)","v":0},{"$f":"+IF(AD149>0,+AC149,0)","v":0},{"$f":"X149","v":0},9.7500000000000003E-2,{"$f":"IFERROR(AK149/AJ149,0)","v":0},0,0,{"$f":"IFERROR((AO149/360*AU149*AJ149),0)","v":0},0,0,{"$f":"IF(AJ149=0,\"\",AH149)","v":""},{"$f":"IF(AJ149<=0,0,IF('Simulador Valora'!$Y$76=1,0,AJ149*'Simulador Valora'!$Y$79))+IF(AJ149<=0,0,IF('Simulador Valora'!$W$40=1,'Simulador Valora'!$M$60,IF('Simulador Valora'!$W$40=3,'Simulador Valora'!$J$60,IF('Simulador Valora'!$W$40=4,'Simulador Valora'!$E$60,0))))","v":0},null,{"$f":"AL149+AM149+AP149","v":0},0,"",{"$f":"IFERROR(DAY(DATE(YEAR(AT149),MONTH(AT149)+1,0)),0)","v":0},130]
[131,{"$f":"IF(R149<0,0,IF(A150=$B$11,R149+$D$11,IF(A150=$B$12,R149+$D$12,IF(A150=$B$13,R149+$D$13,R149))))","v":0},null,0,null,0,null,{"$f":"D150-F150","v":0},null,null,null,null,null,{"$f":"IF(OR('Simulador Valora'!$U$16=1,'Simulador Valora'!$U$16=3,'Simulador Valora'!$U$16=4),0,L150*'Simulador Valora'!$M$74*'Simulador Valora'!$V$21)","v":0},null,{"$f":"IF(B150=0,0,AH150)","v":0},null,0,null,{"$f":"IF(B150<=0,0,IF('Simulador Valora'!$Y$76=1,0,B150*'Simulador Valora'!$Y$79))","v":0},null,{"$f":"IF(B150<=0,0,IF('Simulador Valora'!$W$40=1,'Simulador Valora'!$M$60,IF('Simulador Valora'!$W$40=3,'Simulador Valora'!$J$60,IF('Simulador Valora'!$W$40=4,'Simulador Valora'!$E$60))))","v":0},null,0,null,null,null,10,11,0,0,0,0,9.7500000000000003E-2,0,{"$f":"IF(AN149<0,0,IF(A150=$B$11,AN149+$D$11,IF(A150=$B$12,AN149+$D$12,IF(A150=$B$13,AN149+$D$13,AN149))))","v":0},{"$f":"IF(AJ150+AL150-AK149<=0,AJ150+AL150,IF(A150=$B$11,$F$11,IF(A150=$B$12,$F$12,IF(A150=$B$13,$F$13,AK149*(1+AQ150)))))","v":0},0,0,0,"",{"$f":"IF(AJ150<=0,0,IF('Simulador Valora'!$Y$76=1,0,AJ150*'Simulador Valora'!$Y$79))+IF(AJ150<=0,0,IF('Simulador Valora'!$W$40=1,'Simulador Valora'!$M$60,IF('Simulador Valora'!$W$40=3,'Simulador Valora'!$J$60,IF('Simulador Valora'!$W$40=4,'Simulador Valora'!$E$60,0))))","v":0},null,0,0,{"$f":"IF(AJ150=0,\"\",DATE(YEAR(AT149),MONTH(AT149)+1,1))","v":""},0,131]
[132,0,null,0,null,0,null,0,null,{"$f":"IF(B151-H151=0,0,J149)","v":0},null,null,null,{"$f":"IF(OR('Simulador Valora'!$U$16=1,'Simulador Valora'!$U$16=3,'Simulador Valora'!$U$16=4),0,L151*'Simulador Valora'!$M$74*'Simulador Valora'!$V$21)","v":0},null,0,null,0,null,{"$f":"IF(B151<=0,0,IF('Simulador Valora'!$Y$76=1,0,B151*'Simulador Valora'!$Y$79))","v":0},null,{"$f":"IF(B151<=0,0,IF('Simulador Valora'!$W$40=1,'Simulador Valora'!$M$60,IF('Simulador Valora'!$W$40=3,'Simulador Valora'!$J$60,IF('Simulador Valora'!$W$40=4,'Simulador Valora'!$E$60))))","v":0},null,0,null,null,null,11,0,0,0,0,0,9.7500000000000003E-2,0,0,0,0,0,0,"",{"$f":"IF(AJ151<=0,0,IF('Simulador Valora'!$Y$76=1,0,AJ151*'Simulador Valora'!$Y$79))+IF(AJ151<=0,0,IF('Simulador Valora'!$W$40=1,'Simulador Valora'!$M$60,IF('Simulador Valora'!$W$40=3,'Simulador Valora'!$J$60,IF('Simulador Valora'!$W$40=4,'Simulador Valora'!$E$60,0))))","v":0},null,0,0,"",0,132]
[133,0,null,0,null,0,null,0,null,null,null,null,null,{"$f":"IF(OR('Simulador Valora'!$U$16=1,'Simulador Valora'!$U$16=3,'Simulador Valora'!$U$16=4),0,L152*'Simulador Valora'!$M$74*'Simulador Valora'!$V$21)","v":0},null,0,null,0,null,{"$f":"IF(B152<=0,0,IF('Simulador Valora'!$Y$76=1,0,B152*'Simulador Valora'!$Y$79))","v":0},null,{"$f":"IF(B152<=0,0,IF('Simulador Valora'!$W$40=1,'Simulador Valora'!$M$60,IF('Simulador Valora'!$W$40=3,'Simulador Valora'!$J$60,IF('Simulador Valora'!$W$40=4,'Simulador Valora'!$E$60))))","v":0},null,0,null,{"$f":"IF(B152<=0,0,'Simulador Valora'!$AG$57)","v":0},null,11,1,0,0,0,0,{"$f":"IF(AH151=$AH$4,AH151,IF(AH151-0.25%<=$AH$4,$AH$4,AH151-0.25%))","v":9.7500000000000003E-2},0,0,0,0,0,0,"",{"$f":"IF(AJ152<=0,0,IF('Simulador Valora'!$Y$76=1,0,AJ152*'Simulador Valora'!$Y$79))+IF(AJ152<=0,0,IF('Simulador Valora'!$W$40=1,'Simulador Valora'!$M$60,IF('Simulador Valora'!$W$40=3,'Simulador Valora'!$J$60,IF('Simulador Valora'!$W$40=4,'Simulador Valora'!$E$60,0))))","v":0},{"$f":"IF(AJ152<=0,0,$AQ$32)","v":0},0,0,"",0,133]
[134,0,null,0,null,0,null,0,null,{"$f":"IF(B153-H153=0,0,J151*(1+(3%)))","v":0},null,null,null,{"$f":"IF(OR('Simulador Valora'!$U$16=1,'Simulador Valora'!$U$16=3,'Simulador Valora'!$U$16=4),0,L153*'Simulador Valora'!$M$74*'Simulador Valora'!$V$21)","v":0},null,0,null,0,null,{"$f":"IF(B153<=0,0,IF('Simulador Valora'!$Y$76=1,0,B153*'Simulador Valora'!$Y$79))","v":0},null,{"$f":"IF(B153<=0,0,IF('Simulador Valora'!$W$40=1,'Simulador Valora'!$M$60,IF('Simulador Valora'!$W$40=3,'Simulador Valora'!$J$60,IF('Simulador Valora'!$W$40=4,'Simulador Valora'!$E$60))))","v":0},null,0,null,null,null,11,2,0,0,0,0,{"$f":"AH152","v":9.7500000000000003E-2},0,0,0,0,0,0,"",{"$f":"IF(AJ153<=0,0,IF('Simulador Valora'!$Y$76=1,0,AJ153*'Simulador Valora'!$Y$79))+IF(AJ153<=0,0,IF('Simulador Valora'!$W$40=1,'Simulador Valora'!$M$60,IF('Simulador Valora'!$W$40=3,'Simulador Valora'!$J$60,IF('Simulador Valora'!$W$40=4,'Simulador Valora'!$E$60,0))))","v":0},null,0,0,"",0,134]
[135,0,null,0,null,0,null,0,null,null,null,null,null,{"$f":"IF(OR('Simulador Valora'!$U$16=1,'Simulador Valora'!$U$16=3,'Simulador Valora'!$U$16=4),0,L154*'Simulador Valora'!$M$74*'Simulador Valora'!$V$21)","v":0},null,0,null,0,null,{"$f":"IF(B154<=0,0,IF('Simulador Valora'!$Y$76=1,0,B154*'Simulador Valora'!$Y$79))","v":0},null,{"$f":"IF(B154<=0,0,IF('Simulador Valora'!$W$40=1,'Simulador Valora'!$M$60,IF('Simulador Valora'!$W$40=3,'Simulador Valora'!$J$60,IF('Simulador Valora'!$W$40=4,'Simulador Valora'!$E$60))))","v":0},null,0,null,null,null,11,3,0,0,0,0,{"$f":"AH153","v":9.7500000000000003E-2},0,0,0,0,0,0,"",{"$f":"IF(AJ154<=0,0,IF('Simulador Valora'!$Y$76=1,0,AJ154*'Simulador Valora'!$Y$79))+IF(AJ154<=0,0,IF('Simulador Valora'!$W$40=1,'Simulador Valora'!$M$60,IF('Simulador Valora'!$W$40=3,'Simulador Valora'!$J$60,IF('Simulador Valora'!$W$40=4,'Simulador Valora'!$E$60,0))))","v":0},null,0,0,"",0,135]
[136,0,null,0,null,0,null,0,null,{"$f":"IF(B155-H155=0,0,J153)","v":0},null,null,null,{"$f":"IF(OR('Simulador Valora'!$U$16=1,'Simulador Valora'!$U$16=3,'Simulador Valora'!$U$16=4),0,L155*'Simulador Valora'!$M$74*'Simulador Valora'!$V$21)","v":0},null,0,null,0,null,{"$f":"IF(B155<=0,0,IF('Simulador Valora'!$Y$76=1,0,B155*'Simulador Valora'!$Y$79))","v":0},null,{"$f":"IF(B155<=0,0,IF('Simulador Valora'!$W$40=1,'Simulador Valora'!$M$60,IF('Simulador Valora'!$W$40=3,'Simulador Valora'!$J$60,IF('Simulador Valora'!$W$40=4,'Simulador Valora'!$E$60))))","v":0},null,0,null,null,null,11,4,0,0,0,0,9.7500000000000003E-2,0,0,0,0,0,0,"",{"$f":"IF(AJ155<=0,0,IF('Simulador Valora'!$Y$76=1,0,AJ155*'Simulador Valora'!$Y$79))+IF(AJ155<=0,0,IF('Simulador Valora'!$W$40=1,'Simulador Valora'!$M$60,IF('Simulador Valora'!$W$40=3,'Simulador Valora'!$J$60,IF('Simulador Valora'!$W$40=4,'Simulador Valora'!$E$60,0))))","v":0},null,0,0,"",0,136]
[137,0,null,0,null,0,null,0,null,null,null,null,null,{"$f":"IF(OR('Simulador Valora'!$U$16=1,'Simulador Valora'!$U$16=3,'Simulador Valora'!$U$16=4),0,L156*'Simulador Valora'!$M$74*'Simulador Valora'!$V$21)","v":0},null,0,null,0,null,{"$f":"IF(B156<=0,0,IF('Simulador Valora'!$Y$76=1,0,B156*'Simulador Valora'!$Y$79))","v":0},null,{"$f":"IF(B156<=0,0,IF('Simulador Valora'!$W$40=1,'Simulador Valora'!$M$60,IF('Simulador Valora'!$W$40=3,'Simulador Valora'!$J$60,IF('Simulador Valora'!$W$40=4,'Simulador Valora'!$E$60))))","v":0},null,0,null,null,null,11,5,0,0,0,0,9.7500000000000003E-2,0,0,0,0,0,0,"",{"$f":"IF(AJ156<=0,0,IF('Simulador Valora'!$Y$76=1,0,AJ156*'Simulador Valora'!$Y$79))+IF(AJ156<=0,0,IF('Simulador Valora'!$W$40=1,'Simulador Valora'!$M$60,IF('Simulador Valora'!$W$40=3,'Simulador Valora'!$J$60,IF('Simulador Valora'!$W$40=4,'Simulador Valora'!$E$60,0))))","v":0},null,0,0,"",0,137]
[138,0,null,0,null,0,null,0,null,{"$f":"IF(B157-H157=0,0,J155)","v":0},null,null,null,{"$f":"IF(OR('Simulador Valora'!$U$16=1,'Simulador Valora'!$U$16=3,'Simulador Valora'!$U$16=4),0,L157*'Simulador Valora'!$M$74*'Simulador Valora'!$V$21)","v":0},null,0,null,0,null,{"$f":"IF(B157<=0,0,IF('Simulador Valora'!$Y$76=1,0,B157*'Simulador Valora'!$Y$79))","v":0},null,{"$f":"IF(B157<=0,0,IF('Simulador Valora'!$W$40=1,'Simulador Valora'!$M$60,IF('Simulador Valora'!$W$40=3,'Simulador Valora'!$J$60,IF('Simulador Valora'!$W$40=4,'Simulador Valora'!$E$60))))","v":0},null,0,null,null,null,11,6,0,0,0,0,9.7500000000000003E-2,0,0,0,0,0,0,"",{"$f":"IF(AJ157<=0,0,IF('Simulador Valora'!$Y$76=1,0,AJ157*'Simulador Valora'!$Y$79))+IF(AJ157<=0,0,IF('Simulador Valora'!$W$40=1,'Simulador Valora'!$M$60,IF('Simulador Valora'!$W$40=3,'Simulador Valora'!$J$60,IF('Simulador Valora'!$W$40=4,'Simulador Valora'!$E$60,0))))","v":0},null,0,0,"",0,138]
[139,0,null,0,null,0,null,0,null,null,null,null,null,{"$f":"IF(OR('Simulador Valora'!$U$16=1,'Simulador Valora'!$U$16=3,'Simulador Valora'!$U$16=4),0,L158*'Simulador Valora'!$M$74*'Simulador Valora'!$V$21)","v":0},null,0,null,0,null,{"$f":"IF(B158<=0,0,IF('Simulador Valora'!$Y$76=1,0,B158*'Simulador Valora'!$Y$79))","v":0},null,{"$f":"IF(B158<=0,0,IF('Simulador Valora'!$W$40=1,'Simulador Valora'!$M$60,IF('Simulador Valora'!$W$40=3,'Simulador Valora'!$J$60,IF('Simulador Valora'!$W$40=4,'Simulador Valora'!$E$60))))","v":0},null,0,null,null,null,11,7,0,0,0,0,9.7500000000000003E-2,0,0,0,0,0,0,"",{"$f":"IF(AJ158<=0,0,IF('Simulador Valora'!$Y$76=1,0,AJ158*'Simulador Valora'!$Y$79))+IF(AJ158<=0,0,IF('Simulador Valora'!$W$40=1,'Simulador Valora'!$M$60,IF('Simulador Valora'!$W$40=3,'Simulador Valora'!$J$60,IF('Simulador Valora'!$W$40=4,'Simulador Valora'!$E$60,0))))","v":0},null,0,0,"",0,139]
[140,0,null,0,null,0,null,0,null,{"$f":"IF(B159-H159=0,0,J157)","v":0},null,null,null,{"$f":"IF(OR('Simulador Valora'!$U$16=1,'Simulador Valora'!$U$16=3,'Simulador Valora'!$U$16=4),0,L159*'Simulador Valora'!$M$74*'Simulador Valora'!$V$21)","v":0},null,0,null,0,null,{"$f":"IF(B159<=0,0,IF('Simulador Valora'!$Y$76=1,0,B159*'Simulador Valora'!$Y$79))","v":0},null,{"$f":"IF(B159<=0,0,IF('Simulador Valora'!$W$40=1,'Simulador Valora'!$M$60,IF('Simulador Valora'!$W$40=3,'Simulador Valora'!$J$60,IF('Simulador Valora'!$W$40=4,'Simulador Valora'!$E$60))))","v":0},null,0,null,null,null,11,8,0,0,0,0,9.7500000000000003E-2,0,0,0,0,0,0,"",{"$f":"IF(AJ159<=0,0,IF('Simulador Valora'!$Y$76=1,0,AJ159*'Simulador Valora'!$Y$79))+IF(AJ159<=0,0,IF('Simulador Valora'!$W$40=1,'Simulador Valora'!$M$60,IF('Simulador Valora'!$W$40=3,'Simulador Valora'!$J$60,IF('Simulador Valora'!$W$40=4,'Simulador Valora'!$E$60,0))))","v":0},null,0,0,"",0,140]
[141,0,null,0,null,0,null,0,null,null,null,null,null,{"$f":"IF(OR('Simulador Valora'!$U$16=1,'Simulador Valora'!$U$16=3,'Simulador Valora'!$U$16=4),0,L160*'Simulador Valora'!$M$74*'Simulador Valora'!$V$21)","v":0},null,0,null,0,null,{"$f":"IF(B160<=0,0,IF('Simulador Valora'!$Y$76=1,0,B160*'Simulador Valora'!$Y$79))","v":0},null,{"$f":"IF(B160<=0,0,IF('Simulador Valora'!$W$40=1,'Simulador Valora'!$M$60,IF('Simulador Valora'!$W$40=3,'Simulador Valora'!$J$60,IF('Simulador Valora'!$W$40=4,'Simulador Valora'!$E$60))))","v":0},null,0,null,null,null,11,9,0,0,0,0,9.7500000000000003E-2,0,0,0,0,0,0,"",{"$f":"IF(AJ160<=0,0,IF('Simulador Valora'!$Y$76=1,0,AJ160*'Simulador Valora'!$Y$79))+IF(AJ160<=0,0,IF('Simulador Valora'!$W$40=1,'Simulador Valora'!$M$60,IF('Simulador Valora'!$W$40=3,'Simulador Valora'!$J$60,IF('Simulador Valora'!$W$40=4,'Simulador Valora'!$E$60,0))))","v":0},null,0,0,"",0,141]
[142,0,null,0,null,0,null,0,null,{"$f":"IF(B161-H161=0,0,J159)","v":0},null,null,null,{"$f":"IF(OR('Simulador Valora'!$U$16=1,'Simulador Valora'!$U$16=3,'Simulador Valora'!$U$16=4),0,L161*'Simulador Valora'!$M$74*'Simulador Valora'!$V$21)","v":0},null,0,null,0,null,{"$f":"IF(B161<=0,0,IF('Simulador Valora'!$Y$76=1,0,B161*'Simulador Valora'!$Y$79))","v":0},null,{"$f":"IF(B161<=0,0,IF('Simulador Valora'!$W$40=1,'Simulador Valora'!$M$60,IF('Simulador Valora'!$W$40=3,'Simulador Valora'!$J$60,IF('Simulador Valora'!$W$40=4,'Simulador Valora'!$E$60))))","v":0},null,0,null,null,null,11,10,0,0,0,0,9.7500000000000003E-2,0,0,0,0,0,0,"",{"$f":"IF(AJ161<=0,0,IF('Simulador Valora'!$Y$76=1,0,AJ161*'Simulador Valora'!$Y$79))+IF(AJ161<=0,0,IF('Simulador Valora'!$W$40=1,'Simulador Valora'!$M$60,IF('Simulador Valora'!$W$40=3,'Simulador Valora'!$J$60,IF('Simulador Valora'!$W$40=4,'Simulador Valora'!$E$60,0))))","v":0},null,0,0,"",0,142]
[143,0,null,0,null,0,null,0,null,null,null,null,null,{"$f":"IF(OR('Simulador Valora'!$U$16=1,'Simulador Valora'!$U$16=3,'Simulador Valora'!$U$16=4),0,L162*'Simulador Valora'!$M$74*'Simulador Valora'!$V$21)","v":0},null,0,null,0,null,{"$f":"IF(B162<=0,0,IF('Simulador Valora'!$Y$76=1,0,B162*'Simulador Valora'!$Y$79))","v":0},null,{"$f":"IF(B162<=0,0,IF('Simulador Valora'!$W$40=1,'Simulador Valora'!$M$60,IF('Simulador Valora'!$W$40=3,'Simulador Valora'!$J$60,IF('Simulador Valora'!$W$40=4,'Simulador Valora'!$E$60))))","v":0},null,0,null,null,null,11,11,0,0,0,0,9.7500000000000003E-2,0,0,0,0,0,0,"",{"$f":"IF(AJ162<=0,0,IF('Simulador Valora'!$Y$76=1,0,AJ162*'Simulador Valora'!$Y$79))+IF(AJ162<=0,0,IF('Simulador Valora'!$W$40=1,'Simulador Valora'!$M$60,IF('Simulador Valora'!$W$40=3,'Simulador Valora'!$J$60,IF('Simulador Valora'!$W$40=4,'Simulador Valora'!$E$60,0))))","v":0},null,0,0,"",0,143]
[144,0,null,0,null,0,null,0,null,{"$f":"IF(B163-H163=0,0,J161)","v":0},null,null,null,{"$f":"IF(OR('Simulador Valora'!$U$16=1,'Simulador Valora'!$U$16=3,'Simulador Valora'!$U$16=4),0,L163*'Simulador Valora'!$M$74*'Simulador Valora'!$V$21)","v":0},null,0,null,0,null,{"$f":"IF(B163<=0,0,IF('Simulador Valora'!$Y$76=1,0,B163*'Simulador Valora'!$Y$79))","v":0},null,{"$f":"IF(B163<=0,0,IF('Simulador Valora'!$W$40=1,'Simulador Valora'!$M$60,IF('Simulador Valora'!$W$40=3,'Simulador Valora'!$J$60,IF('Simulador Valora'!$W$40=4,'Simulador Valora'!$E$60))))","v":0},null,0,null,null,null,12,0,0,0,0,0,9.7500000000000003E-2,0,0,0,0,0,0,"",{"$f":"IF(AJ163<=0,0,IF('Simulador Valora'!$Y$76=1,0,AJ163*'Simulador Valora'!$Y$79))+IF(AJ163<=0,0,IF('Simulador Valora'!$W$40=1,'Simulador Valora'!$M$60,IF('Simulador Valora'!$W$40=3,'Simulador Valora'!$J$60,IF('Simulador Valora'!$W$40=4,'Simulador Valora'!$E$60,0))))","v":0},null,0,0,"",0,144]
[145,0,null,0,null,0,null,0,null,null,null,null,null,{"$f":"IF(OR('Simulador Valora'!$U$16=1,'Simulador Valora'!$U$16=3,'Simulador Valora'!$U$16=4),0,L164*'Simulador Valora'!$M$74*'Simulador Valora'!$V$21)","v":0},null,0,null,0,null,{"$f":"IF(B164<=0,0,IF('Simulador Valora'!$Y$76=1,0,B164*'Simulador Valora'!$Y$79))","v":0},null,{"$f":"IF(B164<=0,0,IF('Simulador Valora'!$W$40=1,'Simulador Valora'!$M$60,IF('Simulador Valora'!$W$40=3,'Simulador Valora'!$J$60,IF('Simulador Valora'!$W$40=4,'Simulador Valora'!$E$60))))","v":0},null,0,null,{"$f":"IF(B164<=0,0,'Simulador Valora'!$AG$57)","v":0},null,12,1,0,0,0,0,{"$f":"IF(AH163=$AH$4,AH163,IF(AH163-0.25%<=$AH$4,$AH$4,AH163-0.25%))","v":9.7500000000000003E-2},0,0,0,0,0,0,"",{"$f":"IF(AJ164<=0,0,IF('Simulador Valora'!$Y$76=1,0,AJ164*'Simulador Valora'!$Y$79))+IF(AJ164<=0,0,IF('Simulador Valora'!$W$40=1,'Simulador Valora'!$M$60,IF('Simulador Valora'!$W$40=3,'Simulador Valora'!$J$60,IF('Simulador Valora'!$W$40=4,'Simulador Valora'!$E$60,0))))","v":0},{"$f":"IF(AJ164<=0,0,$AQ$32)","v":0},0,0,"",0,145]
[146,0,null,0,null,0,null,0,null,{"$f":"IF(B165-H165=0,0,J163*(1+(3%)))","v":0},null,null,null,{"$f":"IF(OR('Simulador Valora'!$U$16=1,'Simulador Valora'!$U$16=3,'Simulador Valora'!$U$16=4),0,L165*'Simulador Valora'!$M$74*'Simulador Valora'!$V$21)","v":0},null,0,null,0,null,{"$f":"IF(B165<=0,0,IF('Simulador Valora'!$Y$76=1,0,B165*'Simulador Valora'!$Y$79))","v":0},null,{"$f":"IF(B165<=0,0,IF('Simulador Valora'!$W$40=1,'Simulador Valora'!$M$60,IF('Simulador Valora'!$W$40=3,'Simulador Valora'!$J$60,IF('Simulador Valora'!$W$40=4,'Simulador Valora'!$E$60))))","v":0},null,0,null,null,null,12,2,0,0,0,0,{"$f":"AH164","v":9.7500000000000003E-2},0,0,0,0,0,0,"",{"$f":"IF(AJ165<=0,0,IF('Simulador Valora'!$Y$76=1,0,AJ165*'Simulador Valora'!$Y$79))+IF(AJ165<=0,0,IF('Simulador Valora'!$W$40=1,'Simulador Valora'!$M$60,IF('Simulador Valora'!$W$40=3,'Simulador Valora'!$J$60,IF('Simulador Valora'!$W$40=4,'Simulador Valora'!$E$60,0))))","v":0},null,0,0,"",0,146]
[147,0,null,0,null,0,null,0,null,null,null,null,null,{"$f":"IF(OR('Simulador Valora'!$U$16=1,'Simulador Valora'!$U$16=3,'Simulador Valora'!$U$16=4),0,L166*'Simulador Valora'!$M$74*'Simulador Valora'!$V$21)","v":0},null,0,null,0,null,{"$f":"IF(B166<=0,0,IF('Simulador Valora'!$Y$76=1,0,B166*'Simulador Valora'!$Y$79))","v":0},null,{"$f":"IF(B166<=0,0,IF('Simulador Valora'!$W$40=1,'Simulador Valora'!$M$60,IF('Simulador Valora'!$W$40=3,'Simulador Valora'!$J$60,IF('Simulador Valora'!$W$40=4,'Simulador Valora'!$E$60))))","v":0},null,0,null,null,null,12,3,0,0,0,0,{"$f":"AH165","v":9.7500000000000003E-2},0,0,0,0,0,0,"",{"$f":"IF(AJ166<=0,0,IF('Simulador Valora'!$Y$76=1,0,AJ166*'Simulador Valora'!$Y$79))+IF(AJ166<=0,0,IF('Simulador Valora'!$W$40=1,'Simulador Valora'!$M$60,IF('Simulador Valora'!$W$40=3,'Simulador Valora'!$J$60,IF('Simulador Valora'!$W$40=4,'Simulador Valora'!$E$60,0))))","v":0},null,0,0,"",0,147]
[148,0,null,0,null,0,null,0,null,{"$f":"IF(B167-H167=0,0,J165)","v":0},null,null,null,{"$f":"IF(OR('Simulador Valora'!$U$16=1,'Simulador Valora'!$U$16=3,'Simulador Valora'!$U$16=4),0,L167*'Simulador Valora'!$M$74*'Simulador Valora'!$V$21)","v":0},null,0,null,0,null,{"$f":"IF(B167<=0,0,IF('Simulador Valora'!$Y$76=1,0,B167*'Simulador Valora'!$Y$79))","v":0},null,{"$f":"IF(B167<=0,0,IF('Simulador Valora'!$W$40=1,'Simulador Valora'!$M$60,IF('Simulador Valora'!$W$40=3,'Simulador Valora'!$J$60,IF('Simulador Valora'!$W$40=4,'Simulador Valora'!$E$60))))","v":0},null,0,null,null,null,12,4,0,0,0,0,9.7500000000000003E-2,0,0,0,0,0,0,"",{"$f":"IF(AJ167<=0,0,IF('Simulador Valora'!$Y$76=1,0,AJ167*'Simulador Valora'!$Y$79))+IF(AJ167<=0,0,IF('Simulador Valora'!$W$40=1,'Simulador Valora'!$M$60,IF('Simulador Valora'!$W$40=3,'Simulador Valora'!$J$60,IF('Simulador Valora'!$W$40=4,'Simulador Valora'!$E$60,0))))","v":0},null,0,0,"",0,148]
[149,0,null,0,null,0,null,0,null,null,null,null,null,{"$f":"IF(OR('Simulador Valora'!$U$16=1,'Simulador Valora'!$U$16=3,'Simulador Valora'!$U$16=4),0,L168*'Simulador Valora'!$M$74*'Simulador Valora'!$V$21)","v":0},null,0,null,0,null,{"$f":"IF(B168<=0,0,IF('Simulador Valora'!$Y$76=1,0,B168*'Simulador Valora'!$Y$79))","v":0},null,{"$f":"IF(B168<=0,0,IF('Simulador Valora'!$W$40=1,'Simulador Valora'!$M$60,IF('Simulador Valora'!$W$40=3,'Simulador Valora'!$J$60,IF('Simulador Valora'!$W$40=4,'Simulador Valora'!$E$60))))","v":0},null,0,null,null,null,12,5,0,0,0,0,9.7500000000000003E-2,0,0,0,0,0,0,"",{"$f":"IF(AJ168<=0,0,IF('Simulador Valora'!$Y$76=1,0,AJ168*'Simulador Valora'!$Y$79))+IF(AJ168<=0,0,IF('Simulador Valora'!$W$40=1,'Simulador Valora'!$M$60,IF('Simulador Valora'!$W$40=3,'Simulador Valora'!$J$60,IF('Simulador Valora'!$W$40=4,'Simulador Valora'!$E$60,0))))","v":0},null,0,0,"",0,149]
[150,0,null,0,null,0,null,0,null,{"$f":"IF(B169-H169=0,0,J167)","v":0},null,null,null,{"$f":"IF(OR('Simulador Valora'!$U$16=1,'Simulador Valora'!$U$16=3,'Simulador Valora'!$U$16=4),0,L169*'Simulador Valora'!$M$74*'Simulador Valora'!$V$21)","v":0},null,0,null,0,null,{"$f":"IF(B169<=0,0,IF('Simulador Valora'!$Y$76=1,0,B169*'Simulador Valora'!$Y$79))","v":0},null,{"$f":"IF(B169<=0,0,IF('Simulador Valora'!$W$40=1,'Simulador Valora'!$M$60,IF('Simulador Valora'!$W$40=3,'Simulador Valora'!$J$60,IF('Simulador Valora'!$W$40=4,'Simulador Valora'!$E$60))))","v":0},null,0,null,null,null,12,6,0,0,0,0,9.7500000000000003E-2,0,0,0,0,0,0,"",{"$f":"IF(AJ169<=0,0,IF('Simulador Valora'!$Y$76=1,0,AJ169*'Simulador Valora'!$Y$79))+IF(AJ169<=0,0,IF('Simulador Valora'!$W$40=1,'Simulador Valora'!$M$60,IF('Simulador Valora'!$W$40=3,'Simulador Valora'!$J$60,IF('Simulador Valora'!$W$40=4,'Simulador Valora'!$E$60,0))))","v":0},null,0,0,"",0,150]
[151,0,null,0,null,0,null,0,null,null,null,null,null,{"$f":"IF(OR('Simulador Valora'!$U$16=1,'Simulador Valora'!$U$16=3,'Simulador Valora'!$U$16=4),0,L170*'Simulador Valora'!$M$74*'Simulador Valora'!$V$21)","v":0},null,0,null,0,null,{"$f":"IF(B170<=0,0,IF('Simulador Valora'!$Y$76=1,0,B170*'Simulador Valora'!$Y$79))","v":0},null,{"$f":"IF(B170<=0,0,IF('Simulador Valora'!$W$40=1,'Simulador Valora'!$M$60,IF('Simulador Valora'!$W$40=3,'Simulador Valora'!$J$60,IF('Simulador Valora'!$W$40=4,'Simulador Valora'!$E$60))))","v":0},null,0,null,null,null,12,7,0,0,0,0,9.7500000000000003E-2,0,0,0,0,0,0,"",{"$f":"IF(AJ170<=0,0,IF('Simulador Valora'!$Y$76=1,0,AJ170*'Simulador Valora'!$Y$79))+IF(AJ170<=0,0,IF('Simulador Valora'!$W$40=1,'Simulador Valora'!$M$60,IF('Simulador Valora'!$W$40=3,'Simulador Valora'!$J$60,IF('Simulador Valora'!$W$40=4,'Simulador Valora'!$E$60,0))))","v":0},null,0,0,"",0,151]
[152,0,null,0,null,0,null,0,null,{"$f":"IF(B171-H171=0,0,J169)","v":0},null,null,null,{"$f":"IF(OR('Simulador Valora'!$U$16=1,'Simulador Valora'!$U$16=3,'Simulador Valora'!$U$16=4),0,L171*'Simulador Valora'!$M$74*'Simulador Valora'!$V$21)","v":0},null,0,null,0,null,{"$f":"IF(B171<=0,0,IF('Simulador Valora'!$Y$76=1,0,B171*'Simulador Valora'!$Y$79))","v":0},null,{"$f":"IF(B171<=0,0,IF('Simulador Valora'!$W$40=1,'Simulador Valora'!$M$60,IF('Simulador Valora'!$W$40=3,'Simulador Valora'!$J$60,IF('Simulador Valora'!$W$40=4,'Simulador Valora'!$E$60))))","v":0},null,0,null,null,null,12,8,0,0,0,0,9.7500000000000003E-2,0,0,0,0,0,0,"",{"$f":"IF(AJ171<=0,0,IF('Simulador Valora'!$Y$76=1,0,AJ171*'Simulador Valora'!$Y$79))+IF(AJ171<=0,0,IF('Simulador Valora'!$W$40=1,'Simulador Valora'!$M$60,IF('Simulador Valora'!$W$40=3,'Simulador Valora'!$J$60,IF('Simulador Valora'!$W$40=4,'Simulador Valora'!$E$60,0))))","v":0},null,0,0,"",0,152]
[153,0,null,0,null,0,null,0,null,null,null,null,null,{"$f":"IF(OR('Simulador Valora'!$U$16=1,'Simulador Valora'!$U$16=3,'Simulador Valora'!$U$16=4),0,L172*'Simulador Valora'!$M$74*'Simulador Valora'!$V$21)","v":0},null,0,null,0,null,{"$f":"IF(B172<=0,0,IF('Simulador Valora'!$Y$76=1,0,B172*'Simulador Valora'!$Y$79))","v":0},null,{"$f":"IF(B172<=0,0,IF('Simulador Valora'!$W$40=1,'Simulador Valora'!$M$60,IF('Simulador Valora'!$W$40=3,'Simulador Valora'!$J$60,IF('Simulador Valora'!$W$40=4,'Simulador Valora'!$E$60))))","v":0},null,0,null,null,null,12,9,0,0,0,0,9.7500000000000003E-2,0,0,0,0,0,0,"",{"$f":"IF(AJ172<=0,0,IF('Simulador Valora'!$Y$76=1,0,AJ172*'Simulador Valora'!$Y$79))+IF(AJ172<=0,0,IF('Simulador Valora'!$W$40=1,'Simulador Valora'!$M$60,IF('Simulador Valora'!$W$40=3,'Simulador Valora'!$J$60,IF('Simulador Valora'!$W$40=4,'Simulador Valora'!$E$60,0))))","v":0},null,0,0,"",0,153]
[154,0,null,0,null,0,null,0,null,{"$f":"IF(B173-H173=0,0,J171)","v":0},null,null,null,{"$f":"IF(OR('Simulador Valora'!$U$16=1,'Simulador Valora'!$U$16=3,'Simulador Valora'!$U$16=4),0,L173*'Simulador Valora'!$M$74*'Simulador Valora'!$V$21)","v":0},null,0,null,0,null,{"$f":"IF(B173<=0,0,IF('Simulador Valora'!$Y$76=1,0,B173*'Simulador Valora'!$Y$79))","v":0},null,{"$f":"IF(B173<=0,0,IF('Simulador Valora'!$W$40=1,'Simulador Valora'!$M$60,IF('Simulador Valora'!$W$40=3,'Simulador Valora'!$J$60,IF('Simulador Valora'!$W$40=4,'Simulador Valora'!$E$60))))","v":0},null,0,null,null,null,12,10,0,0,0,0,9.7500000000000003E-2,0,0,0,0,0,0,"",{"$f":"IF(AJ173<=0,0,IF('Simulador Valora'!$Y$76=1,0,AJ173*'Simulador Valora'!$Y$79))+IF(AJ173<=0,0,IF('Simulador Valora'!$W$40=1,'Simulador Valora'!$M$60,IF('Simulador Valora'!$W$40=3,'Simulador Valora'!$J$60,IF('Simulador Valora'!$W$40=4,'Simulador Valora'!$E$60,0))))","v":0},null,0,0,"",0,154]
[155,0,null,0,null,0,null,0,null,null,null,null,null,{"$f":"IF(OR('Simulador Valora'!$U$16=1,'Simulador Valora'!$U$16=3,'Simulador Valora'!$U$16=4),0,L174*'Simulador Valora'!$M$74*'Simulador Valora'!$V$21)","v":0},null,0,null,0,null,{"$f":"IF(B174<=0,0,IF('Simulador Valora'!$Y$76=1,0,B174*'Simulador Valora'!$Y$79))","v":0},null,{"$f":"IF(B174<=0,0,IF('Simulador Valora'!$W$40=1,'Simulador Valora'!$M$60,IF('Simulador Valora'!$W$40=3,'Simulador Valora'!$J$60,IF('Simulador Valora'!$W$40=4,'Simulador Valora'!$E$60))))","v":0},null,0,null,null,null,12,11,0,0,0,0,9.7500000000000003E-2,0,0,0,0,0,0,"",{"$f":"IF(AJ174<=0,0,IF('Simulador Valora'!$Y$76=1,0,AJ174*'Simulador Valora'!$Y$79))+IF(AJ174<=0,0,IF('Simulador Valora'!$W$40=1,'Simulador Valora'!$M$60,IF('Simulador Valora'!$W$40=3,'Simulador Valora'!$J$60,IF('Simulador Valora'!$W$40=4,'Simulador Valora'!$E$60,0))))","v":0},null,0,0,"",0,155]
[156,0,null,0,null,0,null,0,null,{"$f":"IF(B175-H175=0,0,J173)","v":0},null,null,null,{"$f":"IF(OR('Simulador Valora'!$U$16=1,'Simulador Valora'!$U$16=3,'Simulador Valora'!$U$16=4),0,L175*'Simulador Valora'!$M$74*'Simulador Valora'!$V$21)","v":0},null,0,null,0,null,{"$f":"IF(B175<=0,0,IF('Simulador Valora'!$Y$76=1,0,B175*'Simulador Valora'!$Y$79))","v":0},null,{"$f":"IF(B175<=0,0,IF('Simulador Valora'!$W$40=1,'Simulador Valora'!$M$60,IF('Simulador Valora'!$W$40=3,'Simulador Valora'!$J$60,IF('Simulador Valora'!$W$40=4,'Simulador Valora'!$E$60))))","v":0},null,0,null,null,null,13,0,0,0,0,0,9.7500000000000003E-2,0,0,0,0,0,0,"",{"$f":"IF(AJ175<=0,0,IF('Simulador Valora'!$Y$76=1,0,AJ175*'Simulador Valora'!$Y$79))+IF(AJ175<=0,0,IF('Simulador Valora'!$W$40=1,'Simulador Valora'!$M$60,IF('Simulador Valora'!$W$40=3,'Simulador Valora'!$J$60,IF('Simulador Valora'!$W$40=4,'Simulador Valora'!$E$60,0))))","v":0},null,0,0,"",0,156]
[157,0,null,0,null,0,null,0,null,null,null,null,null,{"$f":"IF(OR('Simulador Valora'!$U$16=1,'Simulador Valora'!$U$16=3,'Simulador Valora'!$U$16=4),0,L176*'Simulador Valora'!$M$74*'Simulador Valora'!$V$21)","v":0},null,0,null,0,null,{"$f":"IF(B176<=0,0,IF('Simulador Valora'!$Y$76=1,0,B176*'Simulador Valora'!$Y$79))","v":0},null,{"$f":"IF(B176<=0,0,IF('Simulador Valora'!$W$40=1,'Simulador Valora'!$M$60,IF('Simulador Valora'!$W$40=3,'Simulador Valora'!$J$60,IF('Simulador Valora'!$W$40=4,'Simulador Valora'!$E$60))))","v":0},null,0,null,{"$f":"IF(B176<=0,0,'Simulador Valora'!$AG$57)","v":0},null,13,1,0,0,0,0,{"$f":"IF(AH175=$AH$4,AH175,IF(AH175-0.25%<=$AH$4,$AH$4,AH175-0.25%))","v":9.7500000000000003E-2},0,0,0,0,0,0,"",{"$f":"IF(AJ176<=0,0,IF('Simulador Valora'!$Y$76=1,0,AJ176*'Simulador Valora'!$Y$79))+IF(AJ176<=0,0,IF('Simulador Valora'!$W$40=1,'Simulador Valora'!$M$60,IF('Simulador Valora'!$W$40=3,'Simulador Valora'!$J$60,IF('Simulador Valora'!$W$40=4,'Simulador Valora'!$E$60,0))))","v":0},{"$f":"IF(AJ176<=0,0,$AQ$32)","v":0},0,0,"",0,157]
[158,0,null,0,null,0,null,0,null,{"$f":"IF(B177-H177=0,0,J175*(1+(3%)))","v":0},null,null,null,{"$f":"IF(OR('Simulador Valora'!$U$16=1,'Simulador Valora'!$U$16=3,'Simulador Valora'!$U$16=4),0,L177*'Simulador Valora'!$M$74*'Simulador Valora'!$V$21)","v":0},null,0,null,0,null,{"$f":"IF(B177<=0,0,IF('Simulador Valora'!$Y$76=1,0,B177*'Simulador Valora'!$Y$79))","v":0},null,{"$f":"IF(B177<=0,0,IF('Simulador Valora'!$W$40=1,'Simulador Valora'!$M$60,IF('Simulador Valora'!$W$40=3,'Simulador Valora'!$J$60,IF('Simulador Valora'!$W$40=4,'Simulador Valora'!$E$60))))","v":0},null,0,null,null,null,13,2,0,0,0,0,{"$f":"AH176","v":9.7500000000000003E-2},0,0,0,0,0,0,"",{"$f":"IF(AJ177<=0,0,IF('Simulador Valora'!$Y$76=1,0,AJ177*'Simulador Valora'!$Y$79))+IF(AJ177<=0,0,IF('Simulador Valora'!$W$40=1,'Simulador Valora'!$M$60,IF('Simulador Valora'!$W$40=3,'Simulador Valora'!$J$60,IF('Simulador Valora'!$W$40=4,'Simulador Valora'!$E$60,0))))","v":0},null,0,0,"",0,158]
[159,0,null,0,null,0,null,0,null,null,null,null,null,{"$f":"IF(OR('Simulador Valora'!$U$16=1,'Simulador Valora'!$U$16=3,'Simulador Valora'!$U$16=4),0,L178*'Simulador Valora'!$M$74*'Simulador Valora'!$V$21)","v":0},null,0,null,0,null,{"$f":"IF(B178<=0,0,IF('Simulador Valora'!$Y$76=1,0,B178*'Simulador Valora'!$Y$79))","v":0},null,{"$f":"IF(B178<=0,0,IF('Simulador Valora'!$W$40=1,'Simulador Valora'!$M$60,IF('Simulador Valora'!$W$40=3,'Simulador Valora'!$J$60,IF('Simulador Valora'!$W$40=4,'Simulador Valora'!$E$60))))","v":0},null,0,null,null,null,13,3,0,0,0,0,{"$f":"AH177","v":9.7500000000000003E-2},0,0,0,0,0,0,"",{"$f":"IF(AJ178<=0,0,IF('Simulador Valora'!$Y$76=1,0,AJ178*'Simulador Valora'!$Y$79))+IF(AJ178<=0,0,IF('Simulador Valora'!$W$40=1,'Simulador Valora'!$M$60,IF('Simulador Valora'!$W$40=3,'Simulador Valora'!$J$60,IF('Simulador Valora'!$W$40=4,'Simulador Valora'!$E$60,0))))","v":0},null,0,0,"",0,159]
[160,0,null,0,null,0,null,0,null,{"$f":"IF(B179-H179=0,0,J177)","v":0},null,null,null,{"$f":"IF(OR('Simulador Valora'!$U$16=1,'Simulador Valora'!$U$16=3,'Simulador Valora'!$U$16=4),0,L179*'Simulador Valora'!$M$74*'Simulador Valora'!$V$21)","v":0},null,0,null,0,null,{"$f":"IF(B179<=0,0,IF('Simulador Valora'!$Y$76=1,0,B179*'Simulador Valora'!$Y$79))","v":0},null,{"$f":"IF(B179<=0,0,IF('Simulador Valora'!$W$40=1,'Simulador Valora'!$M$60,IF('Simulador Valora'!$W$40=3,'Simulador Valora'!$J$60,IF('Simulador Valora'!$W$40=4,'Simulador Valora'!$E$60))))","v":0},null,0,null,null,null,13,4,0,0,0,0,9.7500000000000003E-2,0,0,0,0,0,0,"",{"$f":"IF(AJ179<=0,0,IF('Simulador Valora'!$Y$76=1,0,AJ179*'Simulador Valora'!$Y$79))+IF(AJ179<=0,0,IF('Simulador Valora'!$W$40=1,'Simulador Valora'!$M$60,IF('Simulador Valora'!$W$40=3,'Simulador Valora'!$J$60,IF('Simulador Valora'!$W$40=4,'Simulador Valora'!$E$60,0))))","v":0},null,0,0,"",0,160]
[161,0,null,0,null,0,null,0,null,null,null,null,null,{"$f":"IF(OR('Simulador Valora'!$U$16=1,'Simulador Valora'!$U$16=3,'Simulador Valora'!$U$16=4),0,L180*'Simulador Valora'!$M$74*'Simulador Valora'!$V$21)","v":0},null,0,null,0,null,{"$f":"IF(B180<=0,0,IF('Simulador Valora'!$Y$76=1,0,B180*'Simulador Valora'!$Y$79))","v":0},null,{"$f":"IF(B180<=0,0,IF('Simulador Valora'!$W$40=1,'Simulador Valora'!$M$60,IF('Simulador Valora'!$W$40=3,'Simulador Valora'!$J$60,IF('Simulador Valora'!$W$40=4,'Simulador Valora'!$E$60))))","v":0},null,0,null,null,null,13,5,0,0,0,0,9.7500000000000003E-2,0,0,0,0,0,0,"",{"$f":"IF(AJ180<=0,0,IF('Simulador Valora'!$Y$76=1,0,AJ180*'Simulador Valora'!$Y$79))+IF(AJ180<=0,0,IF('Simulador Valora'!$W$40=1,'Simulador Valora'!$M$60,IF('Simulador Valora'!$W$40=3,'Simulador Valora'!$J$60,IF('Simulador Valora'!$W$40=4,'Simulador Valora'!$E$60,0))))","v":0},null,0,0,"",0,161]
[162,0,null,0,null,0,null,0,null,{"$f":"IF(B181-H181=0,0,J179)","v":0},null,null,null,{"$f":"IF(OR('Simulador Valora'!$U$16=1,'Simulador Valora'!$U$16=3,'Simulador Valora'!$U$16=4),0,L181*'Simulador Valora'!$M$74*'Simulador Valora'!$V$21)","v":0},null,0,null,0,null,{"$f":"IF(B181<=0,0,IF('Simulador Valora'!$Y$76=1,0,B181*'Simulador Valora'!$Y$79))","v":0},null,{"$f":"IF(B181<=0,0,IF('Simulador Valora'!$W$40=1,'Simulador Valora'!$M$60,IF('Simulador Valora'!$W$40=3,'Simulador Valora'!$J$60,IF('Simulador Valora'!$W$40=4,'Simulador Valora'!$E$60))))","v":0},null,0,null,null,null,13,6,0,0,0,0,9.7500000000000003E-2,0,0,0,0,0,0,"",{"$f":"IF(AJ181<=0,0,IF('Simulador Valora'!$Y$76=1,0,AJ181*'Simulador Valora'!$Y$79))+IF(AJ181<=0,0,IF('Simulador Valora'!$W$40=1,'Simulador Valora'!$M$60,IF('Simulador Valora'!$W$40=3,'Simulador Valora'!$J$60,IF('Simulador Valora'!$W$40=4,'Simulador Valora'!$E$60,0))))","v":0},null,0,0,"",0,162]
[163,0,null,0,null,0,null,0,null,null,null,null,null,{"$f":"IF(OR('Simulador Valora'!$U$16=1,'Simulador Valora'!$U$16=3,'Simulador Valora'!$U$16=4),0,L182*'Simulador Valora'!$M$74*'Simulador Valora'!$V$21)","v":0},null,0,null,0,null,{"$f":"IF(B182<=0,0,IF('Simulador Valora'!$Y$76=1,0,B182*'Simulador Valora'!$Y$79))","v":0},null,{"$f":"IF(B182<=0,0,IF('Simulador Valora'!$W$40=1,'Simulador Valora'!$M$60,IF('Simulador Valora'!$W$40=3,'Simulador Valora'!$J$60,IF('Simulador Valora'!$W$40=4,'Simulador Valora'!$E$60))))","v":0},null,0,null,null,null,13,7,0,0,0,0,9.7500000000000003E-2,0,0,0,0,0,0,"",{"$f":"IF(AJ182<=0,0,IF('Simulador Valora'!$Y$76=1,0,AJ182*'Simulador Valora'!$Y$79))+IF(AJ182<=0,0,IF('Simulador Valora'!$W$40=1,'Simulador Valora'!$M$60,IF('Simulador Valora'!$W$40=3,'Simulador Valora'!$J$60,IF('Simulador Valora'!$W$40=4,'Simulador Valora'!$E$60,0))))","v":0},null,0,0,"",0,163]
[164,0,null,0,null,0,null,0,null,{"$f":"IF(B183-H183=0,0,J181)","v":0},null,null,null,{"$f":"IF(OR('Simulador Valora'!$U$16=1,'Simulador Valora'!$U$16=3,'Simulador Valora'!$U$16=4),0,L183*'Simulador Valora'!$M$74*'Simulador Valora'!$V$21)","v":0},null,0,null,0,null,{"$f":"IF(B183<=0,0,IF('Simulador Valora'!$Y$76=1,0,B183*'Simulador Valora'!$Y$79))","v":0},null,{"$f":"IF(B183<=0,0,IF('Simulador Valora'!$W$40=1,'Simulador Valora'!$M$60,IF('Simulador Valora'!$W$40=3,'Simulador Valora'!$J$60,IF('Simulador Valora'!$W$40=4,'Simulador Valora'!$E$60))))","v":0},null,0,null,null,null,13,8,0,0,0,0,9.7500000000000003E-2,0,0,0,0,0,0,"",{"$f":"IF(AJ183<=0,0,IF('Simulador Valora'!$Y$76=1,0,AJ183*'Simulador Valora'!$Y$79))+IF(AJ183<=0,0,IF('Simulador Valora'!$W$40=1,'Simulador Valora'!$M$60,IF('Simulador Valora'!$W$40=3,'Simulador Valora'!$J$60,IF('Simulador Valora'!$W$40=4,'Simulador Valora'!$E$60,0))))","v":0},null,0,0,"",0,164]
[165,0,null,0,null,0,null,0,null,null,null,null,null,{"$f":"IF(OR('Simulador Valora'!$U$16=1,'Simulador Valora'!$U$16=3,'Simulador Valora'!$U$16=4),0,L184*'Simulador Valora'!$M$74*'Simulador Valora'!$V$21)","v":0},null,0,null,0,null,{"$f":"IF(B184<=0,0,IF('Simulador Valora'!$Y$76=1,0,B184*'Simulador Valora'!$Y$79))","v":0},null,{"$f":"IF(B184<=0,0,IF('Simulador Valora'!$W$40=1,'Simulador Valora'!$M$60,IF('Simulador Valora'!$W$40=3,'Simulador Valora'!$J$60,IF('Simulador Valora'!$W$40=4,'Simulador Valora'!$E$60))))","v":0},null,0,null,null,null,13,9,0,0,0,0,9.7500000000000003E-2,0,0,0,0,0,0,"",{"$f":"IF(AJ184<=0,0,IF('Simulador Valora'!$Y$76=1,0,AJ184*'Simulador Valora'!$Y$79))+IF(AJ184<=0,0,IF('Simulador Valora'!$W$40=1,'Simulador Valora'!$M$60,IF('Simulador Valora'!$W$40=3,'Simulador Valora'!$J$60,IF('Simulador Valora'!$W$40=4,'Simulador Valora'!$E$60,0))))","v":0},null,0,0,"",0,165]
[166,0,null,0,null,0,null,0,null,{"$f":"IF(B185-H185=0,0,J183)","v":0},null,null,null,{"$f":"IF(OR('Simulador Valora'!$U$16=1,'Simulador Valora'!$U$16=3,'Simulador Valora'!$U$16=4),0,L185*'Simulador Valora'!$M$74*'Simulador Valora'!$V$21)","v":0},null,0,null,0,null,{"$f":"IF(B185<=0,0,IF('Simulador Valora'!$Y$76=1,0,B185*'Simulador Valora'!$Y$79))","v":0},null,{"$f":"IF(B185<=0,0,IF('Simulador Valora'!$W$40=1,'Simulador Valora'!$M$60,IF('Simulador Valora'!$W$40=3,'Simulador Valora'!$J$60,IF('Simulador Valora'!$W$40=4,'Simulador Valora'!$E$60))))","v":0},null,0,null,null,null,13,10,0,0,0,0,9.7500000000000003E-2,0,0,0,0,0,0,"",{"$f":"IF(AJ185<=0,0,IF('Simulador Valora'!$Y$76=1,0,AJ185*'Simulador Valora'!$Y$79))+IF(AJ185<=0,0,IF('Simulador Valora'!$W$40=1,'Simulador Valora'!$M$60,IF('Simulador Valora'!$W$40=3,'Simulador Valora'!$J$60,IF('Simulador Valora'!$W$40=4,'Simulador Valora'!$E$60,0))))","v":0},null,0,0,"",0,166]
[167,0,null,0,null,0,null,0,null,null,null,null,null,{"$f":"IF(OR('Simulador Valora'!$U$16=1,'Simulador Valora'!$U$16=3,'Simulador Valora'!$U$16=4),0,L186*'Simulador Valora'!$M$74*'Simulador Valora'!$V$21)","v":0},null,0,null,0,null,{"$f":"IF(B186<=0,0,IF('Simulador Valora'!$Y$76=1,0,B186*'Simulador Valora'!$Y$79))","v":0},null,{"$f":"IF(B186<=0,0,IF('Simulador Valora'!$W$40=1,'Simulador Valora'!$M$60,IF('Simulador Valora'!$W$40=3,'Simulador Valora'!$J$60,IF('Simulador Valora'!$W$40=4,'Simulador Valora'!$E$60))))","v":0},null,0,null,null,null,13,11,0,0,0,0,9.7500000000000003E-2,0,0,0,0,0,0,"",{"$f":"IF(AJ186<=0,0,IF('Simulador Valora'!$Y$76=1,0,AJ186*'Simulador Valora'!$Y$79))+IF(AJ186<=0,0,IF('Simulador Valora'!$W$40=1,'Simulador Valora'!$M$60,IF('Simulador Valora'!$W$40=3,'Simulador Valora'!$J$60,IF('Simulador Valora'!$W$40=4,'Simulador Valora'!$E$60,0))))","v":0},null,0,0,"",0,167]
[168,0,null,0,null,0,null,0,null,{"$f":"IF(B187-H187=0,0,J185)","v":0},null,null,null,{"$f":"IF(OR('Simulador Valora'!$U$16=1,'Simulador Valora'!$U$16=3,'Simulador Valora'!$U$16=4),0,L187*'Simulador Valora'!$M$74*'Simulador Valora'!$V$21)","v":0},null,0,null,0,null,{"$f":"IF(B187<=0,0,IF('Simulador Valora'!$Y$76=1,0,B187*'Simulador Valora'!$Y$79))","v":0},null,{"$f":"IF(B187<=0,0,IF('Simulador Valora'!$W$40=1,'Simulador Valora'!$M$60,IF('Simulador Valora'!$W$40=3,'Simulador Valora'!$J$60,IF('Simulador Valora'!$W$40=4,'Simulador Valora'!$E$60))))","v":0},null,0,null,null,null,14,0,0,0,0,0,9.7500000000000003E-2,0,0,0,0,0,0,"",{"$f":"IF(AJ187<=0,0,IF('Simulador Valora'!$Y$76=1,0,AJ187*'Simulador Valora'!$Y$79))+IF(AJ187<=0,0,IF('Simulador Valora'!$W$40=1,'Simulador Valora'!$M$60,IF('Simulador Valora'!$W$40=3,'Simulador Valora'!$J$60,IF('Simulador Valora'!$W$40=4,'Simulador Valora'!$E$60,0))))","v":0},null,0,0,"",0,168]
[169,0,null,0,null,0,null,0,null,null,null,null,null,{"$f":"IF(OR('Simulador Valora'!$U$16=1,'Simulador Valora'!$U$16=3,'Simulador Valora'!$U$16=4),0,L188*'Simulador Valora'!$M$74*'Simulador Valora'!$V$21)","v":0},null,0,null,0,null,{"$f":"IF(B188<=0,0,IF('Simulador Valora'!$Y$76=1,0,B188*'Simulador Valora'!$Y$79))","v":0},null,{"$f":"IF(B188<=0,0,IF('Simulador Valora'!$W$40=1,'Simulador Valora'!$M$60,IF('Simulador Valora'!$W$40=3,'Simulador Valora'!$J$60,IF('Simulador Valora'!$W$40=4,'Simulador Valora'!$E$60))))","v":0},null,0,null,{"$f":"IF(B188<=0,0,'Simulador Valora'!$AG$57)","v":0},null,14,1,0,0,0,0,{"$f":"IF(AH187=$AH$4,AH187,IF(AH187-0.25%<=$AH$4,$AH$4,AH187-0.25%))","v":9.7500000000000003E-2},0,0,0,0,0,0,"",{"$f":"IF(AJ188<=0,0,IF('Simulador Valora'!$Y$76=1,0,AJ188*'Simulador Valora'!$Y$79))+IF(AJ188<=0,0,IF('Simulador Valora'!$W$40=1,'Simulador Valora'!$M$60,IF('Simulador Valora'!$W$40=3,'Simulador Valora'!$J$60,IF('Simulador Valora'!$W$40=4,'Simulador Valora'!$E$60,0))))","v":0},{"$f":"IF(AJ188<=0,0,$AQ$32)","v":0},0,0,"",0,169]
[170,0,null,0,null,0,null,0,null,{"$f":"IF(B189-H189=0,0,J187*(1+(3%)))","v":0},null,null,null,{"$f":"IF(OR('Simulador Valora'!$U$16=1,'Simulador Valora'!$U$16=3,'Simulador Valora'!$U$16=4),0,L189*'Simulador Valora'!$M$74*'Simulador Valora'!$V$21)","v":0},null,0,null,0,null,{"$f":"IF(B189<=0,0,IF('Simulador Valora'!$Y$76=1,0,B189*'Simulador Valora'!$Y$79))","v":0},null,{"$f":"IF(B189<=0,0,IF('Simulador Valora'!$W$40=1,'Simulador Valora'!$M$60,IF('Simulador Valora'!$W$40=3,'Simulador Valora'!$J$60,IF('Simulador Valora'!$W$40=4,'Simulador Valora'!$E$60))))","v":0},null,0,null,null,null,14,2,0,0,0,0,{"$f":"AH188","v":9.7500000000000003E-2},0,0,0,0,0,0,"",{"$f":"IF(AJ189<=0,0,IF('Simulador Valora'!$Y$76=1,0,AJ189*'Simulador Valora'!$Y$79))+IF(AJ189<=0,0,IF('Simulador Valora'!$W$40=1,'Simulador Valora'!$M$60,IF('Simulador Valora'!$W$40=3,'Simulador Valora'!$J$60,IF('Simulador Valora'!$W$40=4,'Simulador Valora'!$E$60,0))))","v":0},null,0,0,"",0,170]
[171,0,null,0,null,0,null,0,null,null,null,null,null,{"$f":"IF(OR('Simulador Valora'!$U$16=1,'Simulador Valora'!$U$16=3,'Simulador Valora'!$U$16=4),0,L190*'Simulador Valora'!$M$74*'Simulador Valora'!$V$21)","v":0},null,0,null,0,null,{"$f":"IF(B190<=0,0,IF('Simulador Valora'!$Y$76=1,0,B190*'Simulador Valora'!$Y$79))","v":0},null,{"$f":"IF(B190<=0,0,IF('Simulador Valora'!$W$40=1,'Simulador Valora'!$M$60,IF('Simulador Valora'!$W$40=3,'Simulador Valora'!$J$60,IF('Simulador Valora'!$W$40=4,'Simulador Valora'!$E$60))))","v":0},null,0,null,null,null,14,3,0,0,0,0,{"$f":"AH189","v":9.7500000000000003E-2},0,0,0,0,0,0,"",{"$f":"IF(AJ190<=0,0,IF('Simulador Valora'!$Y$76=1,0,AJ190*'Simulador Valora'!$Y$79))+IF(AJ190<=0,0,IF('Simulador Valora'!$W$40=1,'Simulador Valora'!$M$60,IF('Simulador Valora'!$W$40=3,'Simulador Valora'!$J$60,IF('Simulador Valora'!$W$40=4,'Simulador Valora'!$E$60,0))))","v":0},null,0,0,"",0,171]
[172,0,null,0,null,0,null,0,null,{"$f":"IF(B191-H191=0,0,J189)","v":0},null,null,null,{"$f":"IF(OR('Simulador Valora'!$U$16=1,'Simulador Valora'!$U$16=3,'Simulador Valora'!$U$16=4),0,L191*'Simulador Valora'!$M$74*'Simulador Valora'!$V$21)","v":0},null,0,null,0,null,{"$f":"IF(B191<=0,0,IF('Simulador Valora'!$Y$76=1,0,B191*'Simulador Valora'!$Y$79))","v":0},null,{"$f":"IF(B191<=0,0,IF('Simulador Valora'!$W$40=1,'Simulador Valora'!$M$60,IF('Simulador Valora'!$W$40=3,'Simulador Valora'!$J$60,IF('Simulador Valora'!$W$40=4,'Simulador Valora'!$E$60))))","v":0},null,0,null,null,null,14,4,0,0,0,0,9.7500000000000003E-2,0,0,0,0,0,0,"",{"$f":"IF(AJ191<=0,0,IF('Simulador Valora'!$Y$76=1,0,AJ191*'Simulador Valora'!$Y$79))+IF(AJ191<=0,0,IF('Simulador Valora'!$W$40=1,'Simulador Valora'!$M$60,IF('Simulador Valora'!$W$40=3,'Simulador Valora'!$J$60,IF('Simulador Valora'!$W$40=4,'Simulador Valora'!$E$60,0))))","v":0},null,0,0,"",0,172]
[173,0,null,0,null,0,null,0,null,null,null,null,null,{"$f":"IF(OR('Simulador Valora'!$U$16=1,'Simulador Valora'!$U$16=3,'Simulador Valora'!$U$16=4),0,L192*'Simulador Valora'!$M$74*'Simulador Valora'!$V$21)","v":0},null,0,null,0,null,{"$f":"IF(B192<=0,0,IF('Simulador Valora'!$Y$76=1,0,B192*'Simulador Valora'!$Y$79))","v":0},null,{"$f":"IF(B192<=0,0,IF('Simulador Valora'!$W$40=1,'Simulador Valora'!$M$60,IF('Simulador Valora'!$W$40=3,'Simulador Valora'!$J$60,IF('Simulador Valora'!$W$40=4,'Simulador Valora'!$E$60))))","v":0},null,0,null,null,null,14,5,0,0,0,0,9.7500000000000003E-2,0,0,0,0,0,0,"",{"$f":"IF(AJ192<=0,0,IF('Simulador Valora'!$Y$76=1,0,AJ192*'Simulador Valora'!$Y$79))+IF(AJ192<=0,0,IF('Simulador Valora'!$W$40=1,'Simulador Valora'!$M$60,IF('Simulador Valora'!$W$40=3,'Simulador Valora'!$J$60,IF('Simulador Valora'!$W$40=4,'Simulador Valora'!$E$60,0))))","v":0},null,0,0,"",0,173]
[174,0,null,0,null,0,null,0,null,{"$f":"IF(B193-H193=0,0,J191)","v":0},null,null,null,{"$f":"IF(OR('Simulador Valora'!$U$16=1,'Simulador Valora'!$U$16=3,'Simulador Valora'!$U$16=4),0,L193*'Simulador Valora'!$M$74*'Simulador Valora'!$V$21)","v":0},null,0,null,0,null,{"$f":"IF(B193<=0,0,IF('Simulador Valora'!$Y$76=1,0,B193*'Simulador Valora'!$Y$79))","v":0},null,{"$f":"IF(B193<=0,0,IF('Simulador Valora'!$W$40=1,'Simulador Valora'!$M$60,IF('Simulador Valora'!$W$40=3,'Simulador Valora'!$J$60,IF('Simulador Valora'!$W$40=4,'Simulador Valora'!$E$60))))","v":0},null,0,null,null,null,14,6,0,0,0,0,9.7500000000000003E-2,0,0,0,0,0,0,"",{"$f":"IF(AJ193<=0,0,IF('Simulador Valora'!$Y$76=1,0,AJ193*'Simulador Valora'!$Y$79))+IF(AJ193<=0,0,IF('Simulador Valora'!$W$40=1,'Simulador Valora'!$M$60,IF('Simulador Valora'!$W$40=3,'Simulador Valora'!$J$60,IF('Simulador Valora'!$W$40=4,'Simulador Valora'!$E$60,0))))","v":0},null,0,0,"",0,174]
[175,0,null,0,null,0,null,0,null,null,null,null,null,{"$f":"IF(OR('Simulador Valora'!$U$16=1,'Simulador Valora'!$U$16=3,'Simulador Valora'!$U$16=4),0,L194*'Simulador Valora'!$M$74*'Simulador Valora'!$V$21)","v":0},null,0,null,0,null,{"$f":"IF(B194<=0,0,IF('Simulador Valora'!$Y$76=1,0,B194*'Simulador Valora'!$Y$79))","v":0},null,{"$f":"IF(B194<=0,0,IF('Simulador Valora'!$W$40=1,'Simulador Valora'!$M$60,IF('Simulador Valora'!$W$40=3,'Simulador Valora'!$J$60,IF('Simulador Valora'!$W$40=4,'Simulador Valora'!$E$60))))","v":0},null,0,null,null,null,14,7,0,0,0,0,9.7500000000000003E-2,0,0,0,0,0,0,"",{"$f":"IF(AJ194<=0,0,IF('Simulador Valora'!$Y$76=1,0,AJ194*'Simulador Valora'!$Y$79))+IF(AJ194<=0,0,IF('Simulador Valora'!$W$40=1,'Simulador Valora'!$M$60,IF('Simulador Valora'!$W$40=3,'Simulador Valora'!$J$60,IF('Simulador Valora'!$W$40=4,'Simulador Valora'!$E$60,0))))","v":0},null,0,0,"",0,175]
[176,0,null,0,null,0,null,0,null,{"$f":"IF(B195-H195=0,0,J193)","v":0},null,null,null,{"$f":"IF(OR('Simulador Valora'!$U$16=1,'Simulador Valora'!$U$16=3,'Simulador Valora'!$U$16=4),0,L195*'Simulador Valora'!$M$74*'Simulador Valora'!$V$21)","v":0},null,0,null,0,null,{"$f":"IF(B195<=0,0,IF('Simulador Valora'!$Y$76=1,0,B195*'Simulador Valora'!$Y$79))","v":0},null,{"$f":"IF(B195<=0,0,IF('Simulador Valora'!$W$40=1,'Simulador Valora'!$M$60,IF('Simulador Valora'!$W$40=3,'Simulador Valora'!$J$60,IF('Simulador Valora'!$W$40=4,'Simulador Valora'!$E$60))))","v":0},null,0,null,null,null,14,8,0,0,0,0,9.7500000000000003E-2,0,0,0,0,0,0,"",{"$f":"IF(AJ195<=0,0,IF('Simulador Valora'!$Y$76=1,0,AJ195*'Simulador Valora'!$Y$79))+IF(AJ195<=0,0,IF('Simulador Valora'!$W$40=1,'Simulador Valora'!$M$60,IF('Simulador Valora'!$W$40=3,'Simulador Valora'!$J$60,IF('Simulador Valora'!$W$40=4,'Simulador Valora'!$E$60,0))))","v":0},null,0,0,"",0,176]
[177,0,null,0,null,0,null,0,null,null,null,null,null,{"$f":"IF(OR('Simulador Valora'!$U$16=1,'Simulador Valora'!$U$16=3,'Simulador Valora'!$U$16=4),0,L196*'Simulador Valora'!$M$74*'Simulador Valora'!$V$21)","v":0},null,0,null,0,null,{"$f":"IF(B196<=0,0,IF('Simulador Valora'!$Y$76=1,0,B196*'Simulador Valora'!$Y$79))","v":0},null,{"$f":"IF(B196<=0,0,IF('Simulador Valora'!$W$40=1,'Simulador Valora'!$M$60,IF('Simulador Valora'!$W$40=3,'Simulador Valora'!$J$60,IF('Simulador Valora'!$W$40=4,'Simulador Valora'!$E$60))))","v":0},null,0,null,null,null,14,9,0,0,0,0,9.7500000000000003E-2,0,0,0,0,0,0,"",{"$f":"IF(AJ196<=0,0,IF('Simulador Valora'!$Y$76=1,0,AJ196*'Simulador Valora'!$Y$79))+IF(AJ196<=0,0,IF('Simulador Valora'!$W$40=1,'Simulador Valora'!$M$60,IF('Simulador Valora'!$W$40=3,'Simulador Valora'!$J$60,IF('Simulador Valora'!$W$40=4,'Simulador Valora'!$E$60,0))))","v":0},null,0,0,"",0,177]
[178,0,null,0,null,0,null,0,null,{"$f":"IF(B197-H197=0,0,J195)","v":0},null,null,null,{"$f":"IF(OR('Simulador Valora'!$U$16=1,'Simulador Valora'!$U$16=3,'Simulador Valora'!$U$16=4),0,L197*'Simulador Valora'!$M$74*'Simulador Valora'!$V$21)","v":0},null,0,null,0,null,{"$f":"IF(B197<=0,0,IF('Simulador Valora'!$Y$76=1,0,B197*'Simulador Valora'!$Y$79))","v":0},null,{"$f":"IF(B197<=0,0,IF('Simulador Valora'!$W$40=1,'Simulador Valora'!$M$60,IF('Simulador Valora'!$W$40=3,'Simulador Valora'!$J$60,IF('Simulador Valora'!$W$40=4,'Simulador Valora'!$E$60))))","v":0},null,0,null,null,null,14,10,0,0,0,0,9.7500000000000003E-2,0,0,0,0,0,0,"",{"$f":"IF(AJ197<=0,0,IF('Simulador Valora'!$Y$76=1,0,AJ197*'Simulador Valora'!$Y$79))+IF(AJ197<=0,0,IF('Simulador Valora'!$W$40=1,'Simulador Valora'!$M$60,IF('Simulador Valora'!$W$40=3,'Simulador Valora'!$J$60,IF('Simulador Valora'!$W$40=4,'Simulador Valora'!$E$60,0))))","v":0},null,0,0,"",0,178]
[179,0,null,0,null,0,null,0,null,null,null,null,null,{"$f":"IF(OR('Simulador Valora'!$U$16=1,'Simulador Valora'!$U$16=3,'Simulador Valora'!$U$16=4),0,L198*'Simulador Valora'!$M$74*'Simulador Valora'!$V$21)","v":0},null,0,null,0,null,{"$f":"IF(B198<=0,0,IF('Simulador Valora'!$Y$76=1,0,B198*'Simulador Valora'!$Y$79))","v":0},null,{"$f":"IF(B198<=0,0,IF('Simulador Valora'!$W$40=1,'Simulador Valora'!$M$60,IF('Simulador Valora'!$W$40=3,'Simulador Valora'!$J$60,IF('Simulador Valora'!$W$40=4,'Simulador Valora'!$E$60))))","v":0},null,0,null,null,null,14,11,0,0,0,0,9.7500000000000003E-2,0,0,0,0,0,0,"",{"$f":"IF(AJ198<=0,0,IF('Simulador Valora'!$Y$76=1,0,AJ198*'Simulador Valora'!$Y$79))+IF(AJ198<=0,0,IF('Simulador Valora'!$W$40=1,'Simulador Valora'!$M$60,IF('Simulador Valora'!$W$40=3,'Simulador Valora'!$J$60,IF('Simulador Valora'!$W$40=4,'Simulador Valora'!$E$60,0))))","v":0},null,0,0,"",0,179]
[180,0,null,0,null,0,null,0,null,{"$f":"IF(B199-H199=0,0,J197)","v":0},null,null,null,{"$f":"IF(OR('Simulador Valora'!$U$16=1,'Simulador Valora'!$U$16=3,'Simulador Valora'!$U$16=4),0,L199*'Simulador Valora'!$M$74*'Simulador Valora'!$V$21)","v":0},null,0,null,0,null,{"$f":"IF(B199<=0,0,IF('Simulador Valora'!$Y$76=1,0,B199*'Simulador Valora'!$Y$79))","v":0},null,{"$f":"IF(B199<=0,0,IF('Simulador Valora'!$W$40=1,'Simulador Valora'!$M$60,IF('Simulador Valora'!$W$40=3,'Simulador Valora'!$J$60,IF('Simulador Valora'!$W$40=4,'Simulador Valora'!$E$60))))","v":0},null,0,null,null,null,15,0,0,0,0,0,9.7500000000000003E-2,0,0,0,0,0,0,"",{"$f":"IF(AJ199<=0,0,IF('Simulador Valora'!$Y$76=1,0,AJ199*'Simulador Valora'!$Y$79))+IF(AJ199<=0,0,IF('Simulador Valora'!$W$40=1,'Simulador Valora'!$M$60,IF('Simulador Valora'!$W$40=3,'Simulador Valora'!$J$60,IF('Simulador Valora'!$W$40=4,'Simulador Valora'!$E$60,0))))","v":0},null,0,0,"",0,180]
[181,0,null,0,null,0,null,0,null,null,null,null,null,{"$f":"IF(OR('Simulador Valora'!$U$16=1,'Simulador Valora'!$U$16=3,'Simulador Valora'!$U$16=4),0,L200*'Simulador Valora'!$M$74*'Simulador Valora'!$V$21)","v":0},null,0,null,0,null,{"$f":"IF(B200<=0,0,IF('Simulador Valora'!$Y$76=1,0,B200*'Simulador Valora'!$Y$79))","v":0},null,{"$f":"IF(B200<=0,0,IF('Simulador Valora'!$W$40=1,'Simulador Valora'!$M$60,IF('Simulador Valora'!$W$40=3,'Simulador Valora'!$J$60,IF('Simulador Valora'!$W$40=4,'Simulador Valora'!$E$60))))","v":0},null,0,null,{"$f":"IF(B200<=0,0,'Simulador Valora'!$AG$57)","v":0},null,15,1,0,0,0,0,{"$f":"IF(AH199=$AH$4,AH199,IF(AH199-0.25%<=$AH$4,$AH$4,AH199-0.25%))","v":9.7500000000000003E-2},0,0,0,0,0,0,"",{"$f":"IF(AJ200<=0,0,IF('Simulador Valora'!$Y$76=1,0,AJ200*'Simulador Valora'!$Y$79))+IF(AJ200<=0,0,IF('Simulador Valora'!$W$40=1,'Simulador Valora'!$M$60,IF('Simulador Valora'!$W$40=3,'Simulador Valora'!$J$60,IF('Simulador Valora'!$W$40=4,'Simulador Valora'!$E$60,0))))","v":0},{"$f":"IF(AJ200<=0,0,$AQ$32)","v":0},0,0,"",0,181]
[182,0,null,0,null,0,null,0,null,{"$f":"IF(B201-H201=0,0,J199*(1+(3%)))","v":0},null,null,null,{"$f":"IF(OR('Simulador Valora'!$U$16=1,'Simulador Valora'!$U$16=3,'Simulador Valora'!$U$16=4),0,L201*'Simulador Valora'!$M$74*'Simulador Valora'!$V$21)","v":0},null,0,null,0,null,{"$f":"IF(B201<=0,0,IF('Simulador Valora'!$Y$76=1,0,B201*'Simulador Valora'!$Y$79))","v":0},null,{"$f":"IF(B201<=0,0,IF('Simulador Valora'!$W$40=1,'Simulador Valora'!$M$60,IF('Simulador Valora'!$W$40=3,'Simulador Valora'!$J$60,IF('Simulador Valora'!$W$40=4,'Simulador Valora'!$E$60))))","v":0},null,0,null,null,null,15,2,0,0,0,0,{"$f":"AH200","v":9.7500000000000003E-2},0,0,0,0,0,0,"",{"$f":"IF(AJ201<=0,0,IF('Simulador Valora'!$Y$76=1,0,AJ201*'Simulador Valora'!$Y$79))+IF(AJ201<=0,0,IF('Simulador Valora'!$W$40=1,'Simulador Valora'!$M$60,IF('Simulador Valora'!$W$40=3,'Simulador Valora'!$J$60,IF('Simulador Valora'!$W$40=4,'Simulador Valora'!$E$60,0))))","v":0},null,0,0,"",0,182]
[183,0,null,0,null,0,null,0,null,null,null,null,null,{"$f":"IF(OR('Simulador Valora'!$U$16=1,'Simulador Valora'!$U$16=3,'Simulador Valora'!$U$16=4),0,L202*'Simulador Valora'!$M$74*'Simulador Valora'!$V$21)","v":0},null,0,null,0,null,{"$f":"IF(B202<=0,0,IF('Simulador Valora'!$Y$76=1,0,B202*'Simulador Valora'!$Y$79))","v":0},null,{"$f":"IF(B202<=0,0,IF('Simulador Valora'!$W$40=1,'Simulador Valora'!$M$60,IF('Simulador Valora'!$W$40=3,'Simulador Valora'!$J$60,IF('Simulador Valora'!$W$40=4,'Simulador Valora'!$E$60))))","v":0},null,0,null,null,null,15,3,0,0,0,0,{"$f":"AH201","v":9.7500000000000003E-2},0,0,0,0,0,0,"",{"$f":"IF(AJ202<=0,0,IF('Simulador Valora'!$Y$76=1,0,AJ202*'Simulador Valora'!$Y$79))+IF(AJ202<=0,0,IF('Simulador Valora'!$W$40=1,'Simulador Valora'!$M$60,IF('Simulador Valora'!$W$40=3,'Simulador Valora'!$J$60,IF('Simulador Valora'!$W$40=4,'Simulador Valora'!$E$60,0))))","v":0},null,0,0,"",0,183]
[184,0,null,0,null,0,null,0,null,{"$f":"IF(B203-H203=0,0,J201)","v":0},null,null,null,{"$f":"IF(OR('Simulador Valora'!$U$16=1,'Simulador Valora'!$U$16=3,'Simulador Valora'!$U$16=4),0,L203*'Simulador Valora'!$M$74*'Simulador Valora'!$V$21)","v":0},null,0,null,0,null,{"$f":"IF(B203<=0,0,IF('Simulador Valora'!$Y$76=1,0,B203*'Simulador Valora'!$Y$79))","v":0},null,{"$f":"IF(B203<=0,0,IF('Simulador Valora'!$W$40=1,'Simulador Valora'!$M$60,IF('Simulador Valora'!$W$40=3,'Simulador Valora'!$J$60,IF('Simulador Valora'!$W$40=4,'Simulador Valora'!$E$60))))","v":0},null,0,null,null,null,15,4,0,0,0,0,9.7500000000000003E-2,0,0,0,0,0,0,"",{"$f":"IF(AJ203<=0,0,IF('Simulador Valora'!$Y$76=1,0,AJ203*'Simulador Valora'!$Y$79))+IF(AJ203<=0,0,IF('Simulador Valora'!$W$40=1,'Simulador Valora'!$M$60,IF('Simulador Valora'!$W$40=3,'Simulador Valora'!$J$60,IF('Simulador Valora'!$W$40=4,'Simulador Valora'!$E$60,0))))","v":0},null,0,0,"",0,184]
[185,0,null,0,null,0,null,0,null,null,null,null,null,{"$f":"IF(OR('Simulador Valora'!$U$16=1,'Simulador Valora'!$U$16=3,'Simulador Valora'!$U$16=4),0,L204*'Simulador Valora'!$M$74*'Simulador Valora'!$V$21)","v":0},null,0,null,0,null,{"$f":"IF(B204<=0,0,IF('Simulador Valora'!$Y$76=1,0,B204*'Simulador Valora'!$Y$79))","v":0},null,{"$f":"IF(B204<=0,0,IF('Simulador Valora'!$W$40=1,'Simulador Valora'!$M$60,IF('Simulador Valora'!$W$40=3,'Simulador Valora'!$J$60,IF('Simulador Valora'!$W$40=4,'Simulador Valora'!$E$60))))","v":0},null,0,null,null,null,15,5,0,0,0,0,9.7500000000000003E-2,0,0,0,0,0,0,"",{"$f":"IF(AJ204<=0,0,IF('Simulador Valora'!$Y$76=1,0,AJ204*'Simulador Valora'!$Y$79))+IF(AJ204<=0,0,IF('Simulador Valora'!$W$40=1,'Simulador Valora'!$M$60,IF('Simulador Valora'!$W$40=3,'Simulador Valora'!$J$60,IF('Simulador Valora'!$W$40=4,'Simulador Valora'!$E$60,0))))","v":0},null,0,0,"",0,185]
[186,0,null,0,null,0,null,0,null,{"$f":"IF(B205-H205=0,0,J203)","v":0},null,null,null,{"$f":"IF(OR('Simulador Valora'!$U$16=1,'Simulador Valora'!$U$16=3,'Simulador Valora'!$U$16=4),0,L205*'Simulador Valora'!$M$74*'Simulador Valora'!$V$21)","v":0},null,0,null,0,null,{"$f":"IF(B205<=0,0,IF('Simulador Valora'!$Y$76=1,0,B205*'Simulador Valora'!$Y$79))","v":0},null,{"$f":"IF(B205<=0,0,IF('Simulador Valora'!$W$40=1,'Simulador Valora'!$M$60,IF('Simulador Valora'!$W$40=3,'Simulador Valora'!$J$60,IF('Simulador Valora'!$W$40=4,'Simulador Valora'!$E$60))))","v":0},null,0,null,null,null,15,6,0,0,0,0,9.7500000000000003E-2,0,0,0,0,0,0,"",{"$f":"IF(AJ205<=0,0,IF('Simulador Valora'!$Y$76=1,0,AJ205*'Simulador Valora'!$Y$79))+IF(AJ205<=0,0,IF('Simulador Valora'!$W$40=1,'Simulador Valora'!$M$60,IF('Simulador Valora'!$W$40=3,'Simulador Valora'!$J$60,IF('Simulador Valora'!$W$40=4,'Simulador Valora'!$E$60,0))))","v":0},null,0,{"$f":"IFERROR(IF(AK205<=0.01,0,AS204-1),0)","v":0},"",0,186]
[187,0,null,0,null,0,null,0,null,null,null,null,null,{"$f":"IF(OR('Simulador Valora'!$U$16=1,'Simulador Valora'!$U$16=3,'Simulador Valora'!$U$16=4),0,L206*'Simulador Valora'!$M$74*'Simulador Valora'!$V$21)","v":0},null,0,null,0,null,{"$f":"IF(B206<=0,0,IF('Simulador Valora'!$Y$76=1,0,B206*'Simulador Valora'!$Y$79))","v":0},null,{"$f":"IF(B206<=0,0,IF('Simulador Valora'!$W$40=1,'Simulador Valora'!$M$60,IF('Simulador Valora'!$W$40=3,'Simulador Valora'!$J$60,IF('Simulador Valora'!$W$40=4,'Simulador Valora'!$E$60))))","v":0},null,0,null,null,null,15,7,0,0,0,0,9.7500000000000003E-2,0,0,0,0,0,0,"",{"$f":"IF(AJ206<=0,0,IF('Simulador Valora'!$Y$76=1,0,AJ206*'Simulador Valora'!$Y$79))+IF(AJ206<=0,0,IF('Simulador Valora'!$W$40=1,'Simulador Valora'!$M$60,IF('Simulador Valora'!$W$40=3,'Simulador Valora'!$J$60,IF('Simulador Valora'!$W$40=4,'Simulador Valora'!$E$60,0))))","v":0},null,0,0,"",0,187]
[188,0,null,0,null,0,null,0,null,{"$f":"IF(B207-H207=0,0,J205)","v":0},null,null,null,{"$f":"IF(OR('Simulador Valora'!$U$16=1,'Simulador Valora'!$U$16=3,'Simulador Valora'!$U$16=4),0,L207*'Simulador Valora'!$M$74*'Simulador Valora'!$V$21)","v":0},null,0,null,0,null,{"$f":"IF(B207<=0,0,IF('Simulador Valora'!$Y$76=1,0,B207*'Simulador Valora'!$Y$79))","v":0},null,{"$f":"IF(B207<=0,0,IF('Simulador Valora'!$W$40=1,'Simulador Valora'!$M$60,IF('Simulador Valora'!$W$40=3,'Simulador Valora'!$J$60,IF('Simulador Valora'!$W$40=4,'Simulador Valora'!$E$60))))","v":0},null,0,null,null,null,15,8,0,0,0,0,9.7500000000000003E-2,0,0,0,0,0,0,"",{"$f":"IF(AJ207<=0,0,IF('Simulador Valora'!$Y$76=1,0,AJ207*'Simulador Valora'!$Y$79))+IF(AJ207<=0,0,IF('Simulador Valora'!$W$40=1,'Simulador Valora'!$M$60,IF('Simulador Valora'!$W$40=3,'Simulador Valora'!$J$60,IF('Simulador Valora'!$W$40=4,'Simulador Valora'!$E$60,0))))","v":0},null,0,0,"",0,188]
[189,0,null,0,null,0,null,0,null,null,null,null,null,{"$f":"IF(OR('Simulador Valora'!$U$16=1,'Simulador Valora'!$U$16=3,'Simulador Valora'!$U$16=4),0,L208*'Simulador Valora'!$M$74*'Simulador Valora'!$V$21)","v":0},null,0,null,0,null,{"$f":"IF(B208<=0,0,IF('Simulador Valora'!$Y$76=1,0,B208*'Simulador Valora'!$Y$79))","v":0},null,{"$f":"IF(B208<=0,0,IF('Simulador Valora'!$W$40=1,'Simulador Valora'!$M$60,IF('Simulador Valora'!$W$40=3,'Simulador Valora'!$J$60,IF('Simulador Valora'!$W$40=4,'Simulador Valora'!$E$60))))","v":0},null,0,null,null,null,15,9,0,0,0,0,9.7500000000000003E-2,0,0,0,0,0,0,"",{"$f":"IF(AJ208<=0,0,IF('Simulador Valora'!$Y$76=1,0,AJ208*'Simulador Valora'!$Y$79))+IF(AJ208<=0,0,IF('Simulador Valora'!$W$40=1,'Simulador Valora'!$M$60,IF('Simulador Valora'!$W$40=3,'Simulador Valora'!$J$60,IF('Simulador Valora'!$W$40=4,'Simulador Valora'!$E$60,0))))","v":0},null,0,0,"",0,189]
[190,0,null,0,null,0,null,0,null,{"$f":"IF(B209-H209=0,0,J207)","v":0},null,null,null,{"$f":"IF(OR('Simulador Valora'!$U$16=1,'Simulador Valora'!$U$16=3,'Simulador Valora'!$U$16=4),0,L209*'Simulador Valora'!$M$74*'Simulador Valora'!$V$21)","v":0},null,0,null,0,null,{"$f":"IF(B209<=0,0,IF('Simulador Valora'!$Y$76=1,0,B209*'Simulador Valora'!$Y$79))","v":0},null,{"$f":"IF(B209<=0,0,IF('Simulador Valora'!$W$40=1,'Simulador Valora'!$M$60,IF('Simulador Valora'!$W$40=3,'Simulador Valora'!$J$60,IF('Simulador Valora'!$W$40=4,'Simulador Valora'!$E$60))))","v":0},null,0,null,null,null,15,10,0,0,0,0,9.7500000000000003E-2,0,0,0,0,0,0,"",{"$f":"IF(AJ209<=0,0,IF('Simulador Valora'!$Y$76=1,0,AJ209*'Simulador Valora'!$Y$79))+IF(AJ209<=0,0,IF('Simulador Valora'!$W$40=1,'Simulador Valora'!$M$60,IF('Simulador Valora'!$W$40=3,'Simulador Valora'!$J$60,IF('Simulador Valora'!$W$40=4,'Simulador Valora'!$E$60,0))))","v":0},null,0,0,"",0,190]
[191,0,null,0,null,0,null,0,null,null,null,null,null,{"$f":"IF(OR('Simulador Valora'!$U$16=1,'Simulador Valora'!$U$16=3,'Simulador Valora'!$U$16=4),0,L210*'Simulador Valora'!$M$74*'Simulador Valora'!$V$21)","v":0},null,0,null,0,null,{"$f":"IF(B210<=0,0,IF('Simulador Valora'!$Y$76=1,0,B210*'Simulador Valora'!$Y$79))","v":0},null,{"$f":"IF(B210<=0,0,IF('Simulador Valora'!$W$40=1,'Simulador Valora'!$M$60,IF('Simulador Valora'!$W$40=3,'Simulador Valora'!$J$60,IF('Simulador Valora'!$W$40=4,'Simulador Valora'!$E$60))))","v":0},null,0,null,null,null,15,11,0,0,0,0,9.7500000000000003E-2,0,0,0,0,0,0,"",{"$f":"IF(AJ210<=0,0,IF('Simulador Valora'!$Y$76=1,0,AJ210*'Simulador Valora'!$Y$79))+IF(AJ210<=0,0,IF('Simulador Valora'!$W$40=1,'Simulador Valora'!$M$60,IF('Simulador Valora'!$W$40=3,'Simulador Valora'!$J$60,IF('Simulador Valora'!$W$40=4,'Simulador Valora'!$E$60,0))))","v":0},null,0,0,"",0,191]
[192,0,null,0,null,0,null,0,null,{"$f":"IF(B211-H211=0,0,J209)","v":0},null,null,null,{"$f":"IF(OR('Simulador Valora'!$U$16=1,'Simulador Valora'!$U$16=3,'Simulador Valora'!$U$16=4),0,L211*'Simulador Valora'!$M$74*'Simulador Valora'!$V$21)","v":0},null,0,null,0,null,{"$f":"IF(B211<=0,0,IF('Simulador Valora'!$Y$76=1,0,B211*'Simulador Valora'!$Y$79))","v":0},null,{"$f":"IF(B211<=0,0,IF('Simulador Valora'!$W$40=1,'Simulador Valora'!$M$60,IF('Simulador Valora'!$W$40=3,'Simulador Valora'!$J$60,IF('Simulador Valora'!$W$40=4,'Simulador Valora'!$E$60))))","v":0},null,0,null,null,null,16,0,0,0,0,0,9.7500000000000003E-2,0,0,0,0,0,0,"",{"$f":"IF(AJ211<=0,0,IF('Simulador Valora'!$Y$76=1,0,AJ211*'Simulador Valora'!$Y$79))+IF(AJ211<=0,0,IF('Simulador Valora'!$W$40=1,'Simulador Valora'!$M$60,IF('Simulador Valora'!$W$40=3,'Simulador Valora'!$J$60,IF('Simulador Valora'!$W$40=4,'Simulador Valora'!$E$60,0))))","v":0},null,0,0,"",0,192]
[193,0,null,0,null,0,null,0,null,null,null,null,null,{"$f":"IF(OR('Simulador Valora'!$U$16=1,'Simulador Valora'!$U$16=3,'Simulador Valora'!$U$16=4),0,L212*'Simulador Valora'!$M$74*'Simulador Valora'!$V$21)","v":0},null,0,null,0,null,{"$f":"IF(B212<=0,0,IF('Simulador Valora'!$Y$76=1,0,B212*'Simulador Valora'!$Y$79))","v":0},null,{"$f":"IF(B212<=0,0,IF('Simulador Valora'!$W$40=1,'Simulador Valora'!$M$60,IF('Simulador Valora'!$W$40=3,'Simulador Valora'!$J$60,IF('Simulador Valora'!$W$40=4,'Simulador Valora'!$E$60))))","v":0},null,0,null,{"$f":"IF(B212<=0,0,'Simulador Valora'!$AG$57)","v":0},null,16,1,0,0,0,0,{"$f":"IF(AH211=$AH$4,AH211,IF(AH211-0.25%<=$AH$4,$AH$4,AH211-0.25%))","v":9.7500000000000003E-2},0,0,0,0,{"$f":"+AK212-AL212","v":0},{"$f":"+AJ212-AM212","v":0},"",{"$f":"IF(AJ212<=0,0,IF('Simulador Valora'!$Y$76=1,0,AJ212*'Simulador Valora'!$Y$79))+IF(AJ212<=0,0,IF('Simulador Valora'!$W$40=1,'Simulador Valora'!$M$60,IF('Simulador Valora'!$W$40=3,'Simulador Valora'!$J$60,IF('Simulador Valora'!$W$40=4,'Simulador Valora'!$E$60,0))))","v":0},{"$f":"IF(AJ212<=0,0,$AQ$32)","v":0},0,0,"",0,193]
[194,0,null,{"$f":"IF(B213+F213-D212<=0,B213+F213,IF(A213=$B$11,$F$11,IF(A213=$B$12,$F$12,IF(A213=$B$13,$F$13,IF($AP$4=2,B213*AI213,D212*(1+Z213))))))","v":0},null,{"$f":"IF(B213=0,0,P213/360*AU213*B213)","v":0},null,0,null,{"$f":"IF(B213-H213=0,0,J211*(1+(3%)))","v":0},null,null,null,{"$f":"IF(OR('Simulador Valora'!$U$16=1,'Simulador Valora'!$U$16=3,'Simulador Valora'!$U$16=4),0,L213*'Simulador Valora'!$M$74*'Simulador Valora'!$V$21)","v":0},null,0,null,{"$f":"B213-H213-J213-L213+N213","v":0},null,{"$f":"IF(B213<=0,0,IF('Simulador Valora'!$Y$76=1,0,B213*'Simulador Valora'!$Y$79))","v":0},null,{"$f":"IF(B213<=0,0,IF('Simulador Valora'!$W$40=1,'Simulador Valora'!$M$60,IF('Simulador Valora'!$W$40=3,'Simulador Valora'!$J$60,IF('Simulador Valora'!$W$40=4,'Simulador Valora'!$E$60))))","v":0},null,{"$f":"IF(B213<=0,0,(D213+L213+T213+V213))","v":0},null,null,null,16,2,{"$f":"+IF(R213<=0,IF(R212>0,+A213,0),0)","v":0},{"$f":"+IF(AD213>0,+AB213,0)","v":0},{"$f":"+IF(AD213>0,+AC213,0)","v":0},{"$f":"X213","v":0},{"$f":"AH212","v":9.7500000000000003E-2},{"$f":"IFERROR(AK213/AJ213,0)","v":0},0,0,{"$f":"IFERROR((AO213/360*AU213*AJ213),0)","v":0},0,0,{"$f":"IF(AJ213=0,\"\",AH213)","v":""},{"$f":"IF(AJ213<=0,0,IF('Simulador Valora'!$Y$76=1,0,AJ213*'Simulador Valora'!$Y$79))+IF(AJ213<=0,0,IF('Simulador Valora'!$W$40=1,'Simulador Valora'!$M$60,IF('Simulador Valora'!$W$40=3,'Simulador Valora'!$J$60,IF('Simulador Valora'!$W$40=4,'Simulador Valora'!$E$60,0))))","v":0},null,{"$f":"AL213+AM213+AP213","v":0},0,"",{"$f":"IFERROR(DAY(DATE(YEAR(AT213),MONTH(AT213)+1,0)),0)","v":0},194]
[195,{"$f":"IF(R213<0,0,IF(A214=$B$11,R213+$D$11,IF(A214=$B$12,R213+$D$12,IF(A214=$B$13,R213+$D$13,R213))))","v":0},null,0,null,0,null,{"$f":"D214-F214","v":0},null,null,null,null,null,{"$f":"IF(OR('Simulador Valora'!$U$16=1,'Simulador Valora'!$U$16=3,'Simulador Valora'!$U$16=4),0,L214*'Simulador Valora'!$M$74*'Simulador Valora'!$V$21)","v":0},null,{"$f":"IF(B214=0,0,AH214)","v":0},null,0,null,{"$f":"IF(B214<=0,0,IF('Simulador Valora'!$Y$76=1,0,B214*'Simulador Valora'!$Y$79))","v":0},null,{"$f":"IF(B214<=0,0,IF('Simulador Valora'!$W$40=1,'Simulador Valora'!$M$60,IF('Simulador Valora'!$W$40=3,'Simulador Valora'!$J$60,IF('Simulador Valora'!$W$40=4,'Simulador Valora'!$E$60))))","v":0},null,0,null,null,null,16,3,0,0,0,0,{"$f":"AH213","v":9.7500000000000003E-2},0,{"$f":"IF(AN213<0,0,IF(A214=$B$11,AN213+$D$11,IF(A214=$B$12,AN213+$D$12,IF(A214=$B$13,AN213+$D$13,AN213))))","v":0},{"$f":"IF(AJ214+AL214-AK213<=0,AJ214+AL214,IF(A214=$B$11,$F$11,IF(A214=$B$12,$F$12,IF(A214=$B$13,$F$13,AK213*(1+AQ214)))))","v":0},0,0,0,"",{"$f":"IF(AJ214<=0,0,IF('Simulador Valora'!$Y$76=1,0,AJ214*'Simulador Valora'!$Y$79))+IF(AJ214<=0,0,IF('Simulador Valora'!$W$40=1,'Simulador Valora'!$M$60,IF('Simulador Valora'!$W$40=3,'Simulador Valora'!$J$60,IF('Simulador Valora'!$W$40=4,'Simulador Valora'!$E$60,0))))","v":0},null,0,0,{"$f":"IF(AJ214=0,\"\",DATE(YEAR(AT213),MONTH(AT213)+1,1))","v":""},0,195]
[196,0,null,0,null,0,null,0,null,{"$f":"IF(B215-H215=0,0,J213)","v":0},null,null,null,{"$f":"IF(OR('Simulador Valora'!$U$16=1,'Simulador Valora'!$U$16=3,'Simulador Valora'!$U$16=4),0,L215*'Simulador Valora'!$M$74*'Simulador Valora'!$V$21)","v":0},null,0,null,0,null,{"$f":"IF(B215<=0,0,IF('Simulador Valora'!$Y$76=1,0,B215*'Simulador Valora'!$Y$79))","v":0},null,{"$f":"IF(B215<=0,0,IF('Simulador Valora'!$W$40=1,'Simulador Valora'!$M$60,IF('Simulador Valora'!$W$40=3,'Simulador Valora'!$J$60,IF('Simulador Valora'!$W$40=4,'Simulador Valora'!$E$60))))","v":0},null,0,null,null,null,16,4,0,0,0,0,9.7500000000000003E-2,0,0,0,0,0,0,"",{"$f":"IF(AJ215<=0,0,IF('Simulador Valora'!$Y$76=1,0,AJ215*'Simulador Valora'!$Y$79))+IF(AJ215<=0,0,IF('Simulador Valora'!$W$40=1,'Simulador Valora'!$M$60,IF('Simulador Valora'!$W$40=3,'Simulador Valora'!$J$60,IF('Simulador Valora'!$W$40=4,'Simulador Valora'!$E$60,0))))","v":0},null,0,0,"",0,196]
[197,0,null,0,null,0,null,0,null,null,null,null,null,{"$f":"IF(OR('Simulador Valora'!$U$16=1,'Simulador Valora'!$U$16=3,'Simulador Valora'!$U$16=4),0,L216*'Simulador Valora'!$M$74*'Simulador Valora'!$V$21)","v":0},null,0,null,0,null,{"$f":"IF(B216<=0,0,IF('Simulador Valora'!$Y$76=1,0,B216*'Simulador Valora'!$Y$79))","v":0},null,{"$f":"IF(B216<=0,0,IF('Simulador Valora'!$W$40=1,'Simulador Valora'!$M$60,IF('Simulador Valora'!$W$40=3,'Simulador Valora'!$J$60,IF('Simulador Valora'!$W$40=4,'Simulador Valora'!$E$60))))","v":0},null,0,null,null,null,16,5,0,0,0,0,9.7500000000000003E-2,0,0,0,0,0,0,"",{"$f":"IF(AJ216<=0,0,IF('Simulador Valora'!$Y$76=1,0,AJ216*'Simulador Valora'!$Y$79))+IF(AJ216<=0,0,IF('Simulador Valora'!$W$40=1,'Simulador Valora'!$M$60,IF('Simulador Valora'!$W$40=3,'Simulador Valora'!$J$60,IF('Simulador Valora'!$W$40=4,'Simulador Valora'!$E$60,0))))","v":0},null,0,0,"",0,197]
[198,0,null,0,null,0,null,0,null,{"$f":"IF(B217-H217=0,0,J215)","v":0},null,null,null,{"$f":"IF(OR('Simulador Valora'!$U$16=1,'Simulador Valora'!$U$16=3,'Simulador Valora'!$U$16=4),0,L217*'Simulador Valora'!$M$74*'Simulador Valora'!$V$21)","v":0},null,0,null,0,null,{"$f":"IF(B217<=0,0,IF('Simulador Valora'!$Y$76=1,0,B217*'Simulador Valora'!$Y$79))","v":0},null,{"$f":"IF(B217<=0,0,IF('Simulador Valora'!$W$40=1,'Simulador Valora'!$M$60,IF('Simulador Valora'!$W$40=3,'Simulador Valora'!$J$60,IF('Simulador Valora'!$W$40=4,'Simulador Valora'!$E$60))))","v":0},null,0,null,null,null,16,6,0,0,0,0,9.7500000000000003E-2,0,0,0,0,0,0,"",{"$f":"IF(AJ217<=0,0,IF('Simulador Valora'!$Y$76=1,0,AJ217*'Simulador Valora'!$Y$79))+IF(AJ217<=0,0,IF('Simulador Valora'!$W$40=1,'Simulador Valora'!$M$60,IF('Simulador Valora'!$W$40=3,'Simulador Valora'!$J$60,IF('Simulador Valora'!$W$40=4,'Simulador Valora'!$E$60,0))))","v":0},null,0,0,"",0,198]
[199,0,null,0,null,0,null,0,null,null,null,null,null,{"$f":"IF(OR('Simulador Valora'!$U$16=1,'Simulador Valora'!$U$16=3,'Simulador Valora'!$U$16=4),0,L218*'Simulador Valora'!$M$74*'Simulador Valora'!$V$21)","v":0},null,0,null,0,null,{"$f":"IF(B218<=0,0,IF('Simulador Valora'!$Y$76=1,0,B218*'Simulador Valora'!$Y$79))","v":0},null,{"$f":"IF(B218<=0,0,IF('Simulador Valora'!$W$40=1,'Simulador Valora'!$M$60,IF('Simulador Valora'!$W$40=3,'Simulador Valora'!$J$60,IF('Simulador Valora'!$W$40=4,'Simulador Valora'!$E$60))))","v":0},null,0,null,null,null,16,7,0,0,0,0,9.7500000000000003E-2,0,0,0,0,0,0,"",{"$f":"IF(AJ218<=0,0,IF('Simulador Valora'!$Y$76=1,0,AJ218*'Simulador Valora'!$Y$79))+IF(AJ218<=0,0,IF('Simulador Valora'!$W$40=1,'Simulador Valora'!$M$60,IF('Simulador Valora'!$W$40=3,'Simulador Valora'!$J$60,IF('Simulador Valora'!$W$40=4,'Simulador Valora'!$E$60,0))))","v":0},null,0,0,"",0,199]
[200,0,null,0,null,0,null,0,null,{"$f":"IF(B219-H219=0,0,J217)","v":0},null,null,null,{"$f":"IF(OR('Simulador Valora'!$U$16=1,'Simulador Valora'!$U$16=3,'Simulador Valora'!$U$16=4),0,L219*'Simulador Valora'!$M$74*'Simulador Valora'!$V$21)","v":0},null,0,null,0,null,{"$f":"IF(B219<=0,0,IF('Simulador Valora'!$Y$76=1,0,B219*'Simulador Valora'!$Y$79))","v":0},null,{"$f":"IF(B219<=0,0,IF('Simulador Valora'!$W$40=1,'Simulador Valora'!$M$60,IF('Simulador Valora'!$W$40=3,'Simulador Valora'!$J$60,IF('Simulador Valora'!$W$40=4,'Simulador Valora'!$E$60))))","v":0},null,0,null,null,null,16,8,0,0,0,0,9.7500000000000003E-2,0,0,0,0,0,0,"",{"$f":"IF(AJ219<=0,0,IF('Simulador Valora'!$Y$76=1,0,AJ219*'Simulador Valora'!$Y$79))+IF(AJ219<=0,0,IF('Simulador Valora'!$W$40=1,'Simulador Valora'!$M$60,IF('Simulador Valora'!$W$40=3,'Simulador Valora'!$J$60,IF('Simulador Valora'!$W$40=4,'Simulador Valora'!$E$60,0))))","v":0},null,0,0,"",0,200]
[201,0,null,0,null,0,null,0,null,null,null,null,null,{"$f":"IF(OR('Simulador Valora'!$U$16=1,'Simulador Valora'!$U$16=3,'Simulador Valora'!$U$16=4),0,L220*'Simulador Valora'!$M$74*'Simulador Valora'!$V$21)","v":0},null,0,null,0,null,{"$f":"IF(B220<=0,0,IF('Simulador Valora'!$Y$76=1,0,B220*'Simulador Valora'!$Y$79))","v":0},null,{"$f":"IF(B220<=0,0,IF('Simulador Valora'!$W$40=1,'Simulador Valora'!$M$60,IF('Simulador Valora'!$W$40=3,'Simulador Valora'!$J$60,IF('Simulador Valora'!$W$40=4,'Simulador Valora'!$E$60))))","v":0},null,0,null,null,null,16,9,0,0,0,0,9.7500000000000003E-2,0,0,0,0,0,0,"",{"$f":"IF(AJ220<=0,0,IF('Simulador Valora'!$Y$76=1,0,AJ220*'Simulador Valora'!$Y$79))+IF(AJ220<=0,0,IF('Simulador Valora'!$W$40=1,'Simulador Valora'!$M$60,IF('Simulador Valora'!$W$40=3,'Simulador Valora'!$J$60,IF('Simulador Valora'!$W$40=4,'Simulador Valora'!$E$60,0))))","v":0},null,0,0,"",0,201]
[202,0,null,0,null,0,null,0,null,{"$f":"IF(B221-H221=0,0,J219)","v":0},null,null,null,{"$f":"IF(OR('Simulador Valora'!$U$16=1,'Simulador Valora'!$U$16=3,'Simulador Valora'!$U$16=4),0,L221*'Simulador Valora'!$M$74*'Simulador Valora'!$V$21)","v":0},null,0,null,0,null,{"$f":"IF(B221<=0,0,IF('Simulador Valora'!$Y$76=1,0,B221*'Simulador Valora'!$Y$79))","v":0},null,{"$f":"IF(B221<=0,0,IF('Simulador Valora'!$W$40=1,'Simulador Valora'!$M$60,IF('Simulador Valora'!$W$40=3,'Simulador Valora'!$J$60,IF('Simulador Valora'!$W$40=4,'Simulador Valora'!$E$60))))","v":0},null,0,null,null,null,16,10,0,0,0,0,9.7500000000000003E-2,0,0,0,0,0,0,"",{"$f":"IF(AJ221<=0,0,IF('Simulador Valora'!$Y$76=1,0,AJ221*'Simulador Valora'!$Y$79))+IF(AJ221<=0,0,IF('Simulador Valora'!$W$40=1,'Simulador Valora'!$M$60,IF('Simulador Valora'!$W$40=3,'Simulador Valora'!$J$60,IF('Simulador Valora'!$W$40=4,'Simulador Valora'!$E$60,0))))","v":0},null,0,0,"",0,202]
[203,0,null,0,null,0,null,0,null,null,null,null,null,{"$f":"IF(OR('Simulador Valora'!$U$16=1,'Simulador Valora'!$U$16=3,'Simulador Valora'!$U$16=4),0,L222*'Simulador Valora'!$M$74*'Simulador Valora'!$V$21)","v":0},null,0,null,0,null,{"$f":"IF(B222<=0,0,IF('Simulador Valora'!$Y$76=1,0,B222*'Simulador Valora'!$Y$79))","v":0},null,{"$f":"IF(B222<=0,0,IF('Simulador Valora'!$W$40=1,'Simulador Valora'!$M$60,IF('Simulador Valora'!$W$40=3,'Simulador Valora'!$J$60,IF('Simulador Valora'!$W$40=4,'Simulador Valora'!$E$60))))","v":0},null,0,null,null,null,16,11,0,0,0,0,9.7500000000000003E-2,0,0,0,0,0,0,"",{"$f":"IF(AJ222<=0,0,IF('Simulador Valora'!$Y$76=1,0,AJ222*'Simulador Valora'!$Y$79))+IF(AJ222<=0,0,IF('Simulador Valora'!$W$40=1,'Simulador Valora'!$M$60,IF('Simulador Valora'!$W$40=3,'Simulador Valora'!$J$60,IF('Simulador Valora'!$W$40=4,'Simulador Valora'!$E$60,0))))","v":0},null,0,0,"",0,203]
[204,0,null,0,null,0,null,0,null,{"$f":"IF(B223-H223=0,0,J221)","v":0},null,null,null,{"$f":"IF(OR('Simulador Valora'!$U$16=1,'Simulador Valora'!$U$16=3,'Simulador Valora'!$U$16=4),0,L223*'Simulador Valora'!$M$74*'Simulador Valora'!$V$21)","v":0},null,0,null,0,null,{"$f":"IF(B223<=0,0,IF('Simulador Valora'!$Y$76=1,0,B223*'Simulador Valora'!$Y$79))","v":0},null,{"$f":"IF(B223<=0,0,IF('Simulador Valora'!$W$40=1,'Simulador Valora'!$M$60,IF('Simulador Valora'!$W$40=3,'Simulador Valora'!$J$60,IF('Simulador Valora'!$W$40=4,'Simulador Valora'!$E$60))))","v":0},null,0,null,null,null,17,0,0,0,0,0,9.7500000000000003E-2,0,0,0,0,0,0,"",{"$f":"IF(AJ223<=0,0,IF('Simulador Valora'!$Y$76=1,0,AJ223*'Simulador Valora'!$Y$79))+IF(AJ223<=0,0,IF('Simulador Valora'!$W$40=1,'Simulador Valora'!$M$60,IF('Simulador Valora'!$W$40=3,'Simulador Valora'!$J$60,IF('Simulador Valora'!$W$40=4,'Simulador Valora'!$E$60,0))))","v":0},null,0,0,"",0,204]
[205,0,null,0,null,0,null,0,null,null,null,null,null,{"$f":"IF(OR('Simulador Valora'!$U$16=1,'Simulador Valora'!$U$16=3,'Simulador Valora'!$U$16=4),0,L224*'Simulador Valora'!$M$74*'Simulador Valora'!$V$21)","v":0},null,0,null,0,null,{"$f":"IF(B224<=0,0,IF('Simulador Valora'!$Y$76=1,0,B224*'Simulador Valora'!$Y$79))","v":0},null,{"$f":"IF(B224<=0,0,IF('Simulador Valora'!$W$40=1,'Simulador Valora'!$M$60,IF('Simulador Valora'!$W$40=3,'Simulador Valora'!$J$60,IF('Simulador Valora'!$W$40=4,'Simulador Valora'!$E$60))))","v":0},null,0,null,{"$f":"IF(B224<=0,0,'Simulador Valora'!$AG$57)","v":0},null,17,1,0,0,0,0,{"$f":"IF(AH223=$AH$4,AH223,IF(AH223-0.25%<=$AH$4,$AH$4,AH223-0.25%))","v":9.7500000000000003E-2},0,0,0,0,0,0,"",{"$f":"IF(AJ224<=0,0,IF('Simulador Valora'!$Y$76=1,0,AJ224*'Simulador Valora'!$Y$79))+IF(AJ224<=0,0,IF('Simulador Valora'!$W$40=1,'Simulador Valora'!$M$60,IF('Simulador Valora'!$W$40=3,'Simulador Valora'!$J$60,IF('Simulador Valora'!$W$40=4,'Simulador Valora'!$E$60,0))))","v":0},{"$f":"IF(AJ224<=0,0,$AQ$32)","v":0},0,0,"",0,205]
[206,0,null,0,null,0,null,0,null,{"$f":"IF(B225-H225=0,0,J223*(1+(3%)))","v":0},null,null,null,{"$f":"IF(OR('Simulador Valora'!$U$16=1,'Simulador Valora'!$U$16=3,'Simulador Valora'!$U$16=4),0,L225*'Simulador Valora'!$M$74*'Simulador Valora'!$V$21)","v":0},null,0,null,0,null,{"$f":"IF(B225<=0,0,IF('Simulador Valora'!$Y$76=1,0,B225*'Simulador Valora'!$Y$79))","v":0},null,{"$f":"IF(B225<=0,0,IF('Simulador Valora'!$W$40=1,'Simulador Valora'!$M$60,IF('Simulador Valora'!$W$40=3,'Simulador Valora'!$J$60,IF('Simulador Valora'!$W$40=4,'Simulador Valora'!$E$60))))","v":0},null,0,null,null,null,17,2,0,0,0,0,{"$f":"AH224","v":9.7500000000000003E-2},0,0,0,0,0,0,"",{"$f":"IF(AJ225<=0,0,IF('Simulador Valora'!$Y$76=1,0,AJ225*'Simulador Valora'!$Y$79))+IF(AJ225<=0,0,IF('Simulador Valora'!$W$40=1,'Simulador Valora'!$M$60,IF('Simulador Valora'!$W$40=3,'Simulador Valora'!$J$60,IF('Simulador Valora'!$W$40=4,'Simulador Valora'!$E$60,0))))","v":0},null,0,0,"",0,206]
[207,0,null,0,null,0,null,0,null,null,null,null,null,{"$f":"IF(OR('Simulador Valora'!$U$16=1,'Simulador Valora'!$U$16=3,'Simulador Valora'!$U$16=4),0,L226*'Simulador Valora'!$M$74*'Simulador Valora'!$V$21)","v":0},null,0,null,0,null,{"$f":"IF(B226<=0,0,IF('Simulador Valora'!$Y$76=1,0,B226*'Simulador Valora'!$Y$79))","v":0},null,{"$f":"IF(B226<=0,0,IF('Simulador Valora'!$W$40=1,'Simulador Valora'!$M$60,IF('Simulador Valora'!$W$40=3,'Simulador Valora'!$J$60,IF('Simulador Valora'!$W$40=4,'Simulador Valora'!$E$60))))","v":0},null,0,null,null,null,17,3,0,0,0,0,{"$f":"AH225","v":9.7500000000000003E-2},0,0,0,0,0,0,"",{"$f":"IF(AJ226<=0,0,IF('Simulador Valora'!$Y$76=1,0,AJ226*'Simulador Valora'!$Y$79))+IF(AJ226<=0,0,IF('Simulador Valora'!$W$40=1,'Simulador Valora'!$M$60,IF('Simulador Valora'!$W$40=3,'Simulador Valora'!$J$60,IF('Simulador Valora'!$W$40=4,'Simulador Valora'!$E$60,0))))","v":0},null,0,0,"",0,207]
[208,0,null,0,null,0,null,0,null,{"$f":"IF(B227-H227=0,0,J225)","v":0},null,null,null,{"$f":"IF(OR('Simulador Valora'!$U$16=1,'Simulador Valora'!$U$16=3,'Simulador Valora'!$U$16=4),0,L227*'Simulador Valora'!$M$74*'Simulador Valora'!$V$21)","v":0},null,0,null,0,null,{"$f":"IF(B227<=0,0,IF('Simulador Valora'!$Y$76=1,0,B227*'Simulador Valora'!$Y$79))","v":0},null,{"$f":"IF(B227<=0,0,IF('Simulador Valora'!$W$40=1,'Simulador Valora'!$M$60,IF('Simulador Valora'!$W$40=3,'Simulador Valora'!$J$60,IF('Simulador Valora'!$W$40=4,'Simulador Valora'!$E$60))))","v":0},null,0,null,null,null,17,4,0,0,0,0,9.7500000000000003E-2,0,0,0,0,0,0,"",{"$f":"IF(AJ227<=0,0,IF('Simulador Valora'!$Y$76=1,0,AJ227*'Simulador Valora'!$Y$79))+IF(AJ227<=0,0,IF('Simulador Valora'!$W$40=1,'Simulador Valora'!$M$60,IF('Simulador Valora'!$W$40=3,'Simulador Valora'!$J$60,IF('Simulador Valora'!$W$40=4,'Simulador Valora'!$E$60,0))))","v":0},null,0,0,"",0,208]
[209,0,null,0,null,0,null,0,null,null,null,null,null,{"$f":"IF(OR('Simulador Valora'!$U$16=1,'Simulador Valora'!$U$16=3,'Simulador Valora'!$U$16=4),0,L228*'Simulador Valora'!$M$74*'Simulador Valora'!$V$21)","v":0},null,0,null,0,null,{"$f":"IF(B228<=0,0,IF('Simulador Valora'!$Y$76=1,0,B228*'Simulador Valora'!$Y$79))","v":0},null,{"$f":"IF(B228<=0,0,IF('Simulador Valora'!$W$40=1,'Simulador Valora'!$M$60,IF('Simulador Valora'!$W$40=3,'Simulador Valora'!$J$60,IF('Simulador Valora'!$W$40=4,'Simulador Valora'!$E$60))))","v":0},null,0,null,null,null,17,5,0,0,0,0,9.7500000000000003E-2,0,0,0,0,0,0,"",{"$f":"IF(AJ228<=0,0,IF('Simulador Valora'!$Y$76=1,0,AJ228*'Simulador Valora'!$Y$79))+IF(AJ228<=0,0,IF('Simulador Valora'!$W$40=1,'Simulador Valora'!$M$60,IF('Simulador Valora'!$W$40=3,'Simulador Valora'!$J$60,IF('Simulador Valora'!$W$40=4,'Simulador Valora'!$E$60,0))))","v":0},null,0,0,"",0,209]
[210,0,null,0,null,0,null,0,null,{"$f":"IF(B229-H229=0,0,J227)","v":0},null,null,null,{"$f":"IF(OR('Simulador Valora'!$U$16=1,'Simulador Valora'!$U$16=3,'Simulador Valora'!$U$16=4),0,L229*'Simulador Valora'!$M$74*'Simulador Valora'!$V$21)","v":0},null,0,null,0,null,{"$f":"IF(B229<=0,0,IF('Simulador Valora'!$Y$76=1,0,B229*'Simulador Valora'!$Y$79))","v":0},null,{"$f":"IF(B229<=0,0,IF('Simulador Valora'!$W$40=1,'Simulador Valora'!$M$60,IF('Simulador Valora'!$W$40=3,'Simulador Valora'!$J$60,IF('Simulador Valora'!$W$40=4,'Simulador Valora'!$E$60))))","v":0},null,0,null,null,null,17,6,0,0,0,0,9.7500000000000003E-2,0,0,0,0,0,0,"",{"$f":"IF(AJ229<=0,0,IF('Simulador Valora'!$Y$76=1,0,AJ229*'Simulador Valora'!$Y$79))+IF(AJ229<=0,0,IF('Simulador Valora'!$W$40=1,'Simulador Valora'!$M$60,IF('Simulador Valora'!$W$40=3,'Simulador Valora'!$J$60,IF('Simulador Valora'!$W$40=4,'Simulador Valora'!$E$60,0))))","v":0},null,0,0,"",0,210]
[211,0,null,0,null,0,null,0,null,null,null,null,null,{"$f":"IF(OR('Simulador Valora'!$U$16=1,'Simulador Valora'!$U$16=3,'Simulador Valora'!$U$16=4),0,L230*'Simulador Valora'!$M$74*'Simulador Valora'!$V$21)","v":0},null,0,null,0,null,{"$f":"IF(B230<=0,0,IF('Simulador Valora'!$Y$76=1,0,B230*'Simulador Valora'!$Y$79))","v":0},null,{"$f":"IF(B230<=0,0,IF('Simulador Valora'!$W$40=1,'Simulador Valora'!$M$60,IF('Simulador Valora'!$W$40=3,'Simulador Valora'!$J$60,IF('Simulador Valora'!$W$40=4,'Simulador Valora'!$E$60))))","v":0},null,0,null,null,null,17,7,0,0,0,0,9.7500000000000003E-2,0,0,0,0,0,0,"",{"$f":"IF(AJ230<=0,0,IF('Simulador Valora'!$Y$76=1,0,AJ230*'Simulador Valora'!$Y$79))+IF(AJ230<=0,0,IF('Simulador Valora'!$W$40=1,'Simulador Valora'!$M$60,IF('Simulador Valora'!$W$40=3,'Simulador Valora'!$J$60,IF('Simulador Valora'!$W$40=4,'Simulador Valora'!$E$60,0))))","v":0},null,0,0,"",0,211]
[212,0,null,0,null,0,null,0,null,{"$f":"IF(B231-H231=0,0,J229)","v":0},null,null,null,{"$f":"IF(OR('Simulador Valora'!$U$16=1,'Simulador Valora'!$U$16=3,'Simulador Valora'!$U$16=4),0,L231*'Simulador Valora'!$M$74*'Simulador Valora'!$V$21)","v":0},null,0,null,0,null,{"$f":"IF(B231<=0,0,IF('Simulador Valora'!$Y$76=1,0,B231*'Simulador Valora'!$Y$79))","v":0},null,{"$f":"IF(B231<=0,0,IF('Simulador Valora'!$W$40=1,'Simulador Valora'!$M$60,IF('Simulador Valora'!$W$40=3,'Simulador Valora'!$J$60,IF('Simulador Valora'!$W$40=4,'Simulador Valora'!$E$60))))","v":0},null,0,null,null,null,17,8,0,0,0,0,9.7500000000000003E-2,0,0,0,0,0,0,"",{"$f":"IF(AJ231<=0,0,IF('Simulador Valora'!$Y$76=1,0,AJ231*'Simulador Valora'!$Y$79))+IF(AJ231<=0,0,IF('Simulador Valora'!$W$40=1,'Simulador Valora'!$M$60,IF('Simulador Valora'!$W$40=3,'Simulador Valora'!$J$60,IF('Simulador Valora'!$W$40=4,'Simulador Valora'!$E$60,0))))","v":0},null,0,0,"",0,212]
[213,0,null,0,null,0,null,0,null,null,null,null,null,{"$f":"IF(OR('Simulador Valora'!$U$16=1,'Simulador Valora'!$U$16=3,'Simulador Valora'!$U$16=4),0,L232*'Simulador Valora'!$M$74*'Simulador Valora'!$V$21)","v":0},null,0,null,0,null,{"$f":"IF(B232<=0,0,IF('Simulador Valora'!$Y$76=1,0,B232*'Simulador Valora'!$Y$79))","v":0},null,{"$f":"IF(B232<=0,0,IF('Simulador Valora'!$W$40=1,'Simulador Valora'!$M$60,IF('Simulador Valora'!$W$40=3,'Simulador Valora'!$J$60,IF('Simulador Valora'!$W$40=4,'Simulador Valora'!$E$60))))","v":0},null,0,null,null,null,17,9,0,0,0,0,9.7500000000000003E-2,0,0,0,0,0,0,"",{"$f":"IF(AJ232<=0,0,IF('Simulador Valora'!$Y$76=1,0,AJ232*'Simulador Valora'!$Y$79))+IF(AJ232<=0,0,IF('Simulador Valora'!$W$40=1,'Simulador Valora'!$M$60,IF('Simulador Valora'!$W$40=3,'Simulador Valora'!$J$60,IF('Simulador Valora'!$W$40=4,'Simulador Valora'!$E$60,0))))","v":0},null,0,0,"",0,213]
[214,0,null,0,null,0,null,0,null,{"$f":"IF(B233-H233=0,0,J231)","v":0},null,null,null,{"$f":"IF(OR('Simulador Valora'!$U$16=1,'Simulador Valora'!$U$16=3,'Simulador Valora'!$U$16=4),0,L233*'Simulador Valora'!$M$74*'Simulador Valora'!$V$21)","v":0},null,0,null,0,null,{"$f":"IF(B233<=0,0,IF('Simulador Valora'!$Y$76=1,0,B233*'Simulador Valora'!$Y$79))","v":0},null,{"$f":"IF(B233<=0,0,IF('Simulador Valora'!$W$40=1,'Simulador Valora'!$M$60,IF('Simulador Valora'!$W$40=3,'Simulador Valora'!$J$60,IF('Simulador Valora'!$W$40=4,'Simulador Valora'!$E$60))))","v":0},null,0,null,null,null,17,10,0,0,0,0,9.7500000000000003E-2,0,0,0,0,0,0,"",{"$f":"IF(AJ233<=0,0,IF('Simulador Valora'!$Y$76=1,0,AJ233*'Simulador Valora'!$Y$79))+IF(AJ233<=0,0,IF('Simulador Valora'!$W$40=1,'Simulador Valora'!$M$60,IF('Simulador Valora'!$W$40=3,'Simulador Valora'!$J$60,IF('Simulador Valora'!$W$40=4,'Simulador Valora'!$E$60,0))))","v":0},null,0,0,"",0,214]
[215,0,null,0,null,0,null,0,null,null,null,null,null,{"$f":"IF(OR('Simulador Valora'!$U$16=1,'Simulador Valora'!$U$16=3,'Simulador Valora'!$U$16=4),0,L234*'Simulador Valora'!$M$74*'Simulador Valora'!$V$21)","v":0},null,0,null,0,null,{"$f":"IF(B234<=0,0,IF('Simulador Valora'!$Y$76=1,0,B234*'Simulador Valora'!$Y$79))","v":0},null,{"$f":"IF(B234<=0,0,IF('Simulador Valora'!$W$40=1,'Simulador Valora'!$M$60,IF('Simulador Valora'!$W$40=3,'Simulador Valora'!$J$60,IF('Simulador Valora'!$W$40=4,'Simulador Valora'!$E$60))))","v":0},null,0,null,null,null,17,11,0,0,0,0,9.7500000000000003E-2,0,0,0,0,0,0,"",{"$f":"IF(AJ234<=0,0,IF('Simulador Valora'!$Y$76=1,0,AJ234*'Simulador Valora'!$Y$79))+IF(AJ234<=0,0,IF('Simulador Valora'!$W$40=1,'Simulador Valora'!$M$60,IF('Simulador Valora'!$W$40=3,'Simulador Valora'!$J$60,IF('Simulador Valora'!$W$40=4,'Simulador Valora'!$E$60,0))))","v":0},null,0,0,"",0,215]
[216,0,null,0,null,0,null,0,null,{"$f":"IF(B235-H235=0,0,J233)","v":0},null,null,null,{"$f":"IF(OR('Simulador Valora'!$U$16=1,'Simulador Valora'!$U$16=3,'Simulador Valora'!$U$16=4),0,L235*'Simulador Valora'!$M$74*'Simulador Valora'!$V$21)","v":0},null,0,null,0,null,{"$f":"IF(B235<=0,0,IF('Simulador Valora'!$Y$76=1,0,B235*'Simulador Valora'!$Y$79))","v":0},null,{"$f":"IF(B235<=0,0,IF('Simulador Valora'!$W$40=1,'Simulador Valora'!$M$60,IF('Simulador Valora'!$W$40=3,'Simulador Valora'!$J$60,IF('Simulador Valora'!$W$40=4,'Simulador Valora'!$E$60))))","v":0},null,0,null,null,null,18,0,0,0,0,0,9.7500000000000003E-2,0,0,0,0,0,0,"",{"$f":"IF(AJ235<=0,0,IF('Simulador Valora'!$Y$76=1,0,AJ235*'Simulador Valora'!$Y$79))+IF(AJ235<=0,0,IF('Simulador Valora'!$W$40=1,'Simulador Valora'!$M$60,IF('Simulador Valora'!$W$40=3,'Simulador Valora'!$J$60,IF('Simulador Valora'!$W$40=4,'Simulador Valora'!$E$60,0))))","v":0},null,0,0,"",0,216]
[217,0,null,0,null,0,null,0,null,null,null,null,null,{"$f":"IF(OR('Simulador Valora'!$U$16=1,'Simulador Valora'!$U$16=3,'Simulador Valora'!$U$16=4),0,L236*'Simulador Valora'!$M$74*'Simulador Valora'!$V$21)","v":0},null,0,null,0,null,{"$f":"IF(B236<=0,0,IF('Simulador Valora'!$Y$76=1,0,B236*'Simulador Valora'!$Y$79))","v":0},null,{"$f":"IF(B236<=0,0,IF('Simulador Valora'!$W$40=1,'Simulador Valora'!$M$60,IF('Simulador Valora'!$W$40=3,'Simulador Valora'!$J$60,IF('Simulador Valora'!$W$40=4,'Simulador Valora'!$E$60))))","v":0},null,0,null,{"$f":"IF(B236<=0,0,'Simulador Valora'!$AG$57)","v":0},null,18,1,0,0,0,0,{"$f":"IF(AH235=$AH$4,AH235,IF(AH235-0.25%<=$AH$4,$AH$4,AH235-0.25%))","v":9.7500000000000003E-2},0,0,0,0,0,0,"",{"$f":"IF(AJ236<=0,0,IF('Simulador Valora'!$Y$76=1,0,AJ236*'Simulador Valora'!$Y$79))+IF(AJ236<=0,0,IF('Simulador Valora'!$W$40=1,'Simulador Valora'!$M$60,IF('Simulador Valora'!$W$40=3,'Simulador Valora'!$J$60,IF('Simulador Valora'!$W$40=4,'Simulador Valora'!$E$60,0))))","v":0},{"$f":"IF(AJ236<=0,0,$AQ$32)","v":0},0,0,"",0,217]
[218,0,null,0,null,0,null,0,null,{"$f":"IF(B237-H237=0,0,J235*(1+(3%)))","v":0},null,null,null,{"$f":"IF(OR('Simulador Valora'!$U$16=1,'Simulador Valora'!$U$16=3,'Simulador Valora'!$U$16=4),0,L237*'Simulador Valora'!$M$74*'Simulador Valora'!$V$21)","v":0},null,0,null,0,null,{"$f":"IF(B237<=0,0,IF('Simulador Valora'!$Y$76=1,0,B237*'Simulador Valora'!$Y$79))","v":0},null,{"$f":"IF(B237<=0,0,IF('Simulador Valora'!$W$40=1,'Simulador Valora'!$M$60,IF('Simulador Valora'!$W$40=3,'Simulador Valora'!$J$60,IF('Simulador Valora'!$W$40=4,'Simulador Valora'!$E$60))))","v":0},null,0,null,null,null,18,2,0,0,0,0,{"$f":"AH236","v":9.7500000000000003E-2},0,0,0,0,0,0,"",{"$f":"IF(AJ237<=0,0,IF('Simulador Valora'!$Y$76=1,0,AJ237*'Simulador Valora'!$Y$79))+IF(AJ237<=0,0,IF('Simulador Valora'!$W$40=1,'Simulador Valora'!$M$60,IF('Simulador Valora'!$W$40=3,'Simulador Valora'!$J$60,IF('Simulador Valora'!$W$40=4,'Simulador Valora'!$E$60,0))))","v":0},null,0,0,"",0,218]
[219,0,null,0,null,0,null,0,null,null,null,null,null,{"$f":"IF(OR('Simulador Valora'!$U$16=1,'Simulador Valora'!$U$16=3,'Simulador Valora'!$U$16=4),0,L238*'Simulador Valora'!$M$74*'Simulador Valora'!$V$21)","v":0},null,0,null,0,null,{"$f":"IF(B238<=0,0,IF('Simulador Valora'!$Y$76=1,0,B238*'Simulador Valora'!$Y$79))","v":0},null,{"$f":"IF(B238<=0,0,IF('Simulador Valora'!$W$40=1,'Simulador Valora'!$M$60,IF('Simulador Valora'!$W$40=3,'Simulador Valora'!$J$60,IF('Simulador Valora'!$W$40=4,'Simulador Valora'!$E$60))))","v":0},null,0,null,null,null,18,3,0,0,0,0,{"$f":"AH237","v":9.7500000000000003E-2},0,0,0,0,0,0,"",{"$f":"IF(AJ238<=0,0,IF('Simulador Valora'!$Y$76=1,0,AJ238*'Simulador Valora'!$Y$79))+IF(AJ238<=0,0,IF('Simulador Valora'!$W$40=1,'Simulador Valora'!$M$60,IF('Simulador Valora'!$W$40=3,'Simulador Valora'!$J$60,IF('Simulador Valora'!$W$40=4,'Simulador Valora'!$E$60,0))))","v":0},null,0,0,"",0,219]
[220,0,null,0,null,0,null,0,null,{"$f":"IF(B239-H239=0,0,J237)","v":0},null,null,null,{"$f":"IF(OR('Simulador Valora'!$U$16=1,'Simulador Valora'!$U$16=3,'Simulador Valora'!$U$16=4),0,L239*'Simulador Valora'!$M$74*'Simulador Valora'!$V$21)","v":0},null,0,null,0,null,{"$f":"IF(B239<=0,0,IF('Simulador Valora'!$Y$76=1,0,B239*'Simulador Valora'!$Y$79))","v":0},null,{"$f":"IF(B239<=0,0,IF('Simulador Valora'!$W$40=1,'Simulador Valora'!$M$60,IF('Simulador Valora'!$W$40=3,'Simulador Valora'!$J$60,IF('Simulador Valora'!$W$40=4,'Simulador Valora'!$E$60))))","v":0},null,0,null,null,null,18,4,0,0,0,0,9.7500000000000003E-2,0,0,0,0,0,0,"",{"$f":"IF(AJ239<=0,0,IF('Simulador Valora'!$Y$76=1,0,AJ239*'Simulador Valora'!$Y$79))+IF(AJ239<=0,0,IF('Simulador Valora'!$W$40=1,'Simulador Valora'!$M$60,IF('Simulador Valora'!$W$40=3,'Simulador Valora'!$J$60,IF('Simulador Valora'!$W$40=4,'Simulador Valora'!$E$60,0))))","v":0},null,0,0,"",0,220]
[221,0,null,0,null,0,null,0,null,null,null,null,null,{"$f":"IF(OR('Simulador Valora'!$U$16=1,'Simulador Valora'!$U$16=3,'Simulador Valora'!$U$16=4),0,L240*'Simulador Valora'!$M$74*'Simulador Valora'!$V$21)","v":0},null,0,null,0,null,{"$f":"IF(B240<=0,0,IF('Simulador Valora'!$Y$76=1,0,B240*'Simulador Valora'!$Y$79))","v":0},null,{"$f":"IF(B240<=0,0,IF('Simulador Valora'!$W$40=1,'Simulador Valora'!$M$60,IF('Simulador Valora'!$W$40=3,'Simulador Valora'!$J$60,IF('Simulador Valora'!$W$40=4,'Simulador Valora'!$E$60))))","v":0},null,0,null,null,null,18,5,0,0,0,0,9.7500000000000003E-2,0,0,0,0,0,0,"",{"$f":"IF(AJ240<=0,0,IF('Simulador Valora'!$Y$76=1,0,AJ240*'Simulador Valora'!$Y$79))+IF(AJ240<=0,0,IF('Simulador Valora'!$W$40=1,'Simulador Valora'!$M$60,IF('Simulador Valora'!$W$40=3,'Simulador Valora'!$J$60,IF('Simulador Valora'!$W$40=4,'Simulador Valora'!$E$60,0))))","v":0},null,0,0,"",0,221]
[222,0,null,0,null,0,null,0,null,{"$f":"IF(B241-H241=0,0,J239)","v":0},null,null,null,{"$f":"IF(OR('Simulador Valora'!$U$16=1,'Simulador Valora'!$U$16=3,'Simulador Valora'!$U$16=4),0,L241*'Simulador Valora'!$M$74*'Simulador Valora'!$V$21)","v":0},null,0,null,0,null,{"$f":"IF(B241<=0,0,IF('Simulador Valora'!$Y$76=1,0,B241*'Simulador Valora'!$Y$79))","v":0},null,{"$f":"IF(B241<=0,0,IF('Simulador Valora'!$W$40=1,'Simulador Valora'!$M$60,IF('Simulador Valora'!$W$40=3,'Simulador Valora'!$J$60,IF('Simulador Valora'!$W$40=4,'Simulador Valora'!$E$60))))","v":0},null,0,null,null,null,18,6,0,0,0,0,9.7500000000000003E-2,0,0,0,0,0,0,"",{"$f":"IF(AJ241<=0,0,IF('Simulador Valora'!$Y$76=1,0,AJ241*'Simulador Valora'!$Y$79))+IF(AJ241<=0,0,IF('Simulador Valora'!$W$40=1,'Simulador Valora'!$M$60,IF('Simulador Valora'!$W$40=3,'Simulador Valora'!$J$60,IF('Simulador Valora'!$W$40=4,'Simulador Valora'!$E$60,0))))","v":0},null,0,0,"",0,222]
[223,0,null,0,null,0,null,0,null,null,null,null,null,{"$f":"IF(OR('Simulador Valora'!$U$16=1,'Simulador Valora'!$U$16=3,'Simulador Valora'!$U$16=4),0,L242*'Simulador Valora'!$M$74*'Simulador Valora'!$V$21)","v":0},null,0,null,0,null,{"$f":"IF(B242<=0,0,IF('Simulador Valora'!$Y$76=1,0,B242*'Simulador Valora'!$Y$79))","v":0},null,{"$f":"IF(B242<=0,0,IF('Simulador Valora'!$W$40=1,'Simulador Valora'!$M$60,IF('Simulador Valora'!$W$40=3,'Simulador Valora'!$J$60,IF('Simulador Valora'!$W$40=4,'Simulador Valora'!$E$60))))","v":0},null,0,null,null,null,18,7,0,0,0,0,9.7500000000000003E-2,0,0,0,0,0,0,"",{"$f":"IF(AJ242<=0,0,IF('Simulador Valora'!$Y$76=1,0,AJ242*'Simulador Valora'!$Y$79))+IF(AJ242<=0,0,IF('Simulador Valora'!$W$40=1,'Simulador Valora'!$M$60,IF('Simulador Valora'!$W$40=3,'Simulador Valora'!$J$60,IF('Simulador Valora'!$W$40=4,'Simulador Valora'!$E$60,0))))","v":0},null,0,0,"",0,223]
[224,0,null,0,null,0,null,0,null,{"$f":"IF(B243-H243=0,0,J241)","v":0},null,null,null,{"$f":"IF(OR('Simulador Valora'!$U$16=1,'Simulador Valora'!$U$16=3,'Simulador Valora'!$U$16=4),0,L243*'Simulador Valora'!$M$74*'Simulador Valora'!$V$21)","v":0},null,0,null,0,null,{"$f":"IF(B243<=0,0,IF('Simulador Valora'!$Y$76=1,0,B243*'Simulador Valora'!$Y$79))","v":0},null,{"$f":"IF(B243<=0,0,IF('Simulador Valora'!$W$40=1,'Simulador Valora'!$M$60,IF('Simulador Valora'!$W$40=3,'Simulador Valora'!$J$60,IF('Simulador Valora'!$W$40=4,'Simulador Valora'!$E$60))))","v":0},null,0,null,null,null,18,8,0,0,0,0,9.7500000000000003E-2,0,0,0,0,0,0,"",{"$f":"IF(AJ243<=0,0,IF('Simulador Valora'!$Y$76=1,0,AJ243*'Simulador Valora'!$Y$79))+IF(AJ243<=0,0,IF('Simulador Valora'!$W$40=1,'Simulador Valora'!$M$60,IF('Simulador Valora'!$W$40=3,'Simulador Valora'!$J$60,IF('Simulador Valora'!$W$40=4,'Simulador Valora'!$E$60,0))))","v":0},null,0,0,"",0,224]
[225,0,null,0,null,0,null,0,null,null,null,null,null,{"$f":"IF(OR('Simulador Valora'!$U$16=1,'Simulador Valora'!$U$16=3,'Simulador Valora'!$U$16=4),0,L244*'Simulador Valora'!$M$74*'Simulador Valora'!$V$21)","v":0},null,0,null,0,null,{"$f":"IF(B244<=0,0,IF('Simulador Valora'!$Y$76=1,0,B244*'Simulador Valora'!$Y$79))","v":0},null,{"$f":"IF(B244<=0,0,IF('Simulador Valora'!$W$40=1,'Simulador Valora'!$M$60,IF('Simulador Valora'!$W$40=3,'Simulador Valora'!$J$60,IF('Simulador Valora'!$W$40=4,'Simulador Valora'!$E$60))))","v":0},null,0,null,null,null,18,9,0,0,0,0,9.7500000000000003E-2,0,0,0,0,0,0,"",{"$f":"IF(AJ244<=0,0,IF('Simulador Valora'!$Y$76=1,0,AJ244*'Simulador Valora'!$Y$79))+IF(AJ244<=0,0,IF('Simulador Valora'!$W$40=1,'Simulador Valora'!$M$60,IF('Simulador Valora'!$W$40=3,'Simulador Valora'!$J$60,IF('Simulador Valora'!$W$40=4,'Simulador Valora'!$E$60,0))))","v":0},null,0,0,"",0,225]
[226,0,null,0,null,0,null,0,null,{"$f":"IF(B245-H245=0,0,J243)","v":0},null,null,null,{"$f":"IF(OR('Simulador Valora'!$U$16=1,'Simulador Valora'!$U$16=3,'Simulador Valora'!$U$16=4),0,L245*'Simulador Valora'!$M$74*'Simulador Valora'!$V$21)","v":0},null,0,null,0,null,{"$f":"IF(B245<=0,0,IF('Simulador Valora'!$Y$76=1,0,B245*'Simulador Valora'!$Y$79))","v":0},null,{"$f":"IF(B245<=0,0,IF('Simulador Valora'!$W$40=1,'Simulador Valora'!$M$60,IF('Simulador Valora'!$W$40=3,'Simulador Valora'!$J$60,IF('Simulador Valora'!$W$40=4,'Simulador Valora'!$E$60))))","v":0},null,0,null,null,null,18,10,0,0,0,0,9.7500000000000003E-2,0,0,0,0,0,0,"",{"$f":"IF(AJ245<=0,0,IF('Simulador Valora'!$Y$76=1,0,AJ245*'Simulador Valora'!$Y$79))+IF(AJ245<=0,0,IF('Simulador Valora'!$W$40=1,'Simulador Valora'!$M$60,IF('Simulador Valora'!$W$40=3,'Simulador Valora'!$J$60,IF('Simulador Valora'!$W$40=4,'Simulador Valora'!$E$60,0))))","v":0},null,0,0,"",0,226]
[227,0,null,0,null,0,null,0,null,null,null,null,null,{"$f":"IF(OR('Simulador Valora'!$U$16=1,'Simulador Valora'!$U$16=3,'Simulador Valora'!$U$16=4),0,L246*'Simulador Valora'!$M$74*'Simulador Valora'!$V$21)","v":0},null,0,null,0,null,{"$f":"IF(B246<=0,0,IF('Simulador Valora'!$Y$76=1,0,B246*'Simulador Valora'!$Y$79))","v":0},null,{"$f":"IF(B246<=0,0,IF('Simulador Valora'!$W$40=1,'Simulador Valora'!$M$60,IF('Simulador Valora'!$W$40=3,'Simulador Valora'!$J$60,IF('Simulador Valora'!$W$40=4,'Simulador Valora'!$E$60))))","v":0},null,0,null,null,null,18,11,0,0,0,0,9.7500000000000003E-2,0,0,0,0,0,0,"",{"$f":"IF(AJ246<=0,0,IF('Simulador Valora'!$Y$76=1,0,AJ246*'Simulador Valora'!$Y$79))+IF(AJ246<=0,0,IF('Simulador Valora'!$W$40=1,'Simulador Valora'!$M$60,IF('Simulador Valora'!$W$40=3,'Simulador Valora'!$J$60,IF('Simulador Valora'!$W$40=4,'Simulador Valora'!$E$60,0))))","v":0},null,0,0,"",0,227]
[228,0,null,0,null,0,null,0,null,{"$f":"IF(B247-H247=0,0,J245)","v":0},null,null,null,{"$f":"IF(OR('Simulador Valora'!$U$16=1,'Simulador Valora'!$U$16=3,'Simulador Valora'!$U$16=4),0,L247*'Simulador Valora'!$M$74*'Simulador Valora'!$V$21)","v":0},null,0,null,0,null,{"$f":"IF(B247<=0,0,IF('Simulador Valora'!$Y$76=1,0,B247*'Simulador Valora'!$Y$79))","v":0},null,{"$f":"IF(B247<=0,0,IF('Simulador Valora'!$W$40=1,'Simulador Valora'!$M$60,IF('Simulador Valora'!$W$40=3,'Simulador Valora'!$J$60,IF('Simulador Valora'!$W$40=4,'Simulador Valora'!$E$60))))","v":0},null,0,null,null,null,19,0,0,0,0,0,9.7500000000000003E-2,0,0,0,0,0,0,"",{"$f":"IF(AJ247<=0,0,IF('Simulador Valora'!$Y$76=1,0,AJ247*'Simulador Valora'!$Y$79))+IF(AJ247<=0,0,IF('Simulador Valora'!$W$40=1,'Simulador Valora'!$M$60,IF('Simulador Valora'!$W$40=3,'Simulador Valora'!$J$60,IF('Simulador Valora'!$W$40=4,'Simulador Valora'!$E$60,0))))","v":0},null,0,0,"",0,228]
[229,0,null,0,null,0,null,0,null,null,null,null,null,{"$f":"IF(OR('Simulador Valora'!$U$16=1,'Simulador Valora'!$U$16=3,'Simulador Valora'!$U$16=4),0,L248*'Simulador Valora'!$M$74*'Simulador Valora'!$V$21)","v":0},null,0,null,0,null,{"$f":"IF(B248<=0,0,IF('Simulador Valora'!$Y$76=1,0,B248*'Simulador Valora'!$Y$79))","v":0},null,{"$f":"IF(B248<=0,0,IF('Simulador Valora'!$W$40=1,'Simulador Valora'!$M$60,IF('Simulador Valora'!$W$40=3,'Simulador Valora'!$J$60,IF('Simulador Valora'!$W$40=4,'Simulador Valora'!$E$60))))","v":0},null,0,null,{"$f":"IF(B248<=0,0,'Simulador Valora'!$AG$57)","v":0},null,19,1,0,0,0,0,{"$f":"IF(AH247=$AH$4,AH247,IF(AH247-0.25%<=$AH$4,$AH$4,AH247-0.25%))","v":9.7500000000000003E-2},0,0,0,0,0,0,"",{"$f":"IF(AJ248<=0,0,IF('Simulador Valora'!$Y$76=1,0,AJ248*'Simulador Valora'!$Y$79))+IF(AJ248<=0,0,IF('Simulador Valora'!$W$40=1,'Simulador Valora'!$M$60,IF('Simulador Valora'!$W$40=3,'Simulador Valora'!$J$60,IF('Simulador Valora'!$W$40=4,'Simulador Valora'!$E$60,0))))","v":0},{"$f":"IF(AJ248<=0,0,$AQ$32)","v":0},0,0,"",0,229]
[230,0,null,0,null,0,null,0,null,{"$f":"IF(B249-H249=0,0,J247*(1+(3%)))","v":0},null,null,null,{"$f":"IF(OR('Simulador Valora'!$U$16=1,'Simulador Valora'!$U$16=3,'Simulador Valora'!$U$16=4),0,L249*'Simulador Valora'!$M$74*'Simulador Valora'!$V$21)","v":0},null,0,null,0,null,{"$f":"IF(B249<=0,0,IF('Simulador Valora'!$Y$76=1,0,B249*'Simulador Valora'!$Y$79))","v":0},null,{"$f":"IF(B249<=0,0,IF('Simulador Valora'!$W$40=1,'Simulador Valora'!$M$60,IF('Simulador Valora'!$W$40=3,'Simulador Valora'!$J$60,IF('Simulador Valora'!$W$40=4,'Simulador Valora'!$E$60))))","v":0},null,0,null,null,null,19,2,0,0,0,0,{"$f":"AH248","v":9.7500000000000003E-2},0,0,0,0,0,0,"",{"$f":"IF(AJ249<=0,0,IF('Simulador Valora'!$Y$76=1,0,AJ249*'Simulador Valora'!$Y$79))+IF(AJ249<=0,0,IF('Simulador Valora'!$W$40=1,'Simulador Valora'!$M$60,IF('Simulador Valora'!$W$40=3,'Simulador Valora'!$J$60,IF('Simulador Valora'!$W$40=4,'Simulador Valora'!$E$60,0))))","v":0},null,0,0,"",0,230]
[231,0,null,0,null,0,null,0,null,null,null,null,null,{"$f":"IF(OR('Simulador Valora'!$U$16=1,'Simulador Valora'!$U$16=3,'Simulador Valora'!$U$16=4),0,L250*'Simulador Valora'!$M$74*'Simulador Valora'!$V$21)","v":0},null,0,null,0,null,{"$f":"IF(B250<=0,0,IF('Simulador Valora'!$Y$76=1,0,B250*'Simulador Valora'!$Y$79))","v":0},null,{"$f":"IF(B250<=0,0,IF('Simulador Valora'!$W$40=1,'Simulador Valora'!$M$60,IF('Simulador Valora'!$W$40=3,'Simulador Valora'!$J$60,IF('Simulador Valora'!$W$40=4,'Simulador Valora'!$E$60))))","v":0},null,0,null,null,null,19,3,0,0,0,0,{"$f":"AH249","v":9.7500000000000003E-2},0,0,0,0,0,0,"",{"$f":"IF(AJ250<=0,0,IF('Simulador Valora'!$Y$76=1,0,AJ250*'Simulador Valora'!$Y$79))+IF(AJ250<=0,0,IF('Simulador Valora'!$W$40=1,'Simulador Valora'!$M$60,IF('Simulador Valora'!$W$40=3,'Simulador Valora'!$J$60,IF('Simulador Valora'!$W$40=4,'Simulador Valora'!$E$60,0))))","v":0},null,0,0,"",0,231]
[232,0,null,0,null,0,null,0,null,{"$f":"IF(B251-H251=0,0,J249)","v":0},null,null,null,{"$f":"IF(OR('Simulador Valora'!$U$16=1,'Simulador Valora'!$U$16=3,'Simulador Valora'!$U$16=4),0,L251*'Simulador Valora'!$M$74*'Simulador Valora'!$V$21)","v":0},null,0,null,0,null,{"$f":"IF(B251<=0,0,IF('Simulador Valora'!$Y$76=1,0,B251*'Simulador Valora'!$Y$79))","v":0},null,{"$f":"IF(B251<=0,0,IF('Simulador Valora'!$W$40=1,'Simulador Valora'!$M$60,IF('Simulador Valora'!$W$40=3,'Simulador Valora'!$J$60,IF('Simulador Valora'!$W$40=4,'Simulador Valora'!$E$60))))","v":0},null,0,null,null,null,19,4,0,0,0,0,9.7500000000000003E-2,0,0,0,0,0,0,"",{"$f":"IF(AJ251<=0,0,IF('Simulador Valora'!$Y$76=1,0,AJ251*'Simulador Valora'!$Y$79))+IF(AJ251<=0,0,IF('Simulador Valora'!$W$40=1,'Simulador Valora'!$M$60,IF('Simulador Valora'!$W$40=3,'Simulador Valora'!$J$60,IF('Simulador Valora'!$W$40=4,'Simulador Valora'!$E$60,0))))","v":0},null,0,0,"",0,232]
[233,0,null,0,null,0,null,0,null,null,null,null,null,{"$f":"IF(OR('Simulador Valora'!$U$16=1,'Simulador Valora'!$U$16=3,'Simulador Valora'!$U$16=4),0,L252*'Simulador Valora'!$M$74*'Simulador Valora'!$V$21)","v":0},null,0,null,0,null,{"$f":"IF(B252<=0,0,IF('Simulador Valora'!$Y$76=1,0,B252*'Simulador Valora'!$Y$79))","v":0},null,{"$f":"IF(B252<=0,0,IF('Simulador Valora'!$W$40=1,'Simulador Valora'!$M$60,IF('Simulador Valora'!$W$40=3,'Simulador Valora'!$J$60,IF('Simulador Valora'!$W$40=4,'Simulador Valora'!$E$60))))","v":0},null,0,null,null,null,19,5,0,0,0,0,9.7500000000000003E-2,0,0,0,0,0,0,"",{"$f":"IF(AJ252<=0,0,IF('Simulador Valora'!$Y$76=1,0,AJ252*'Simulador Valora'!$Y$79))+IF(AJ252<=0,0,IF('Simulador Valora'!$W$40=1,'Simulador Valora'!$M$60,IF('Simulador Valora'!$W$40=3,'Simulador Valora'!$J$60,IF('Simulador Valora'!$W$40=4,'Simulador Valora'!$E$60,0))))","v":0},null,0,0,"",0,233]
[234,0,null,0,null,0,null,0,null,{"$f":"IF(B253-H253=0,0,J251)","v":0},null,null,null,{"$f":"IF(OR('Simulador Valora'!$U$16=1,'Simulador Valora'!$U$16=3,'Simulador Valora'!$U$16=4),0,L253*'Simulador Valora'!$M$74*'Simulador Valora'!$V$21)","v":0},null,0,null,0,null,{"$f":"IF(B253<=0,0,IF('Simulador Valora'!$Y$76=1,0,B253*'Simulador Valora'!$Y$79))","v":0},null,{"$f":"IF(B253<=0,0,IF('Simulador Valora'!$W$40=1,'Simulador Valora'!$M$60,IF('Simulador Valora'!$W$40=3,'Simulador Valora'!$J$60,IF('Simulador Valora'!$W$40=4,'Simulador Valora'!$E$60))))","v":0},null,0,null,null,null,19,6,0,0,0,0,9.7500000000000003E-2,0,0,0,0,0,0,"",{"$f":"IF(AJ253<=0,0,IF('Simulador Valora'!$Y$76=1,0,AJ253*'Simulador Valora'!$Y$79))+IF(AJ253<=0,0,IF('Simulador Valora'!$W$40=1,'Simulador Valora'!$M$60,IF('Simulador Valora'!$W$40=3,'Simulador Valora'!$J$60,IF('Simulador Valora'!$W$40=4,'Simulador Valora'!$E$60,0))))","v":0},null,0,0,"",0,234]
[235,0,null,0,null,0,null,0,null,null,null,null,null,{"$f":"IF(OR('Simulador Valora'!$U$16=1,'Simulador Valora'!$U$16=3,'Simulador Valora'!$U$16=4),0,L254*'Simulador Valora'!$M$74*'Simulador Valora'!$V$21)","v":0},null,0,null,0,null,{"$f":"IF(B254<=0,0,IF('Simulador Valora'!$Y$76=1,0,B254*'Simulador Valora'!$Y$79))","v":0},null,{"$f":"IF(B254<=0,0,IF('Simulador Valora'!$W$40=1,'Simulador Valora'!$M$60,IF('Simulador Valora'!$W$40=3,'Simulador Valora'!$J$60,IF('Simulador Valora'!$W$40=4,'Simulador Valora'!$E$60))))","v":0},null,0,null,null,null,19,7,0,0,0,0,9.7500000000000003E-2,0,0,0,0,0,0,"",{"$f":"IF(AJ254<=0,0,IF('Simulador Valora'!$Y$76=1,0,AJ254*'Simulador Valora'!$Y$79))+IF(AJ254<=0,0,IF('Simulador Valora'!$W$40=1,'Simulador Valora'!$M$60,IF('Simulador Valora'!$W$40=3,'Simulador Valora'!$J$60,IF('Simulador Valora'!$W$40=4,'Simulador Valora'!$E$60,0))))","v":0},null,0,0,"",0,235]
[236,0,null,0,null,0,null,0,null,{"$f":"IF(B255-H255=0,0,J253)","v":0},null,null,null,{"$f":"IF(OR('Simulador Valora'!$U$16=1,'Simulador Valora'!$U$16=3,'Simulador Valora'!$U$16=4),0,L255*'Simulador Valora'!$M$74*'Simulador Valora'!$V$21)","v":0},null,0,null,0,null,{"$f":"IF(B255<=0,0,IF('Simulador Valora'!$Y$76=1,0,B255*'Simulador Valora'!$Y$79))","v":0},null,{"$f":"IF(B255<=0,0,IF('Simulador Valora'!$W$40=1,'Simulador Valora'!$M$60,IF('Simulador Valora'!$W$40=3,'Simulador Valora'!$J$60,IF('Simulador Valora'!$W$40=4,'Simulador Valora'!$E$60))))","v":0},null,0,null,null,null,19,8,0,0,0,0,9.7500000000000003E-2,0,0,0,0,0,0,"",{"$f":"IF(AJ255<=0,0,IF('Simulador Valora'!$Y$76=1,0,AJ255*'Simulador Valora'!$Y$79))+IF(AJ255<=0,0,IF('Simulador Valora'!$W$40=1,'Simulador Valora'!$M$60,IF('Simulador Valora'!$W$40=3,'Simulador Valora'!$J$60,IF('Simulador Valora'!$W$40=4,'Simulador Valora'!$E$60,0))))","v":0},null,0,0,"",0,236]
[237,0,null,0,null,0,null,0,null,null,null,null,null,{"$f":"IF(OR('Simulador Valora'!$U$16=1,'Simulador Valora'!$U$16=3,'Simulador Valora'!$U$16=4),0,L256*'Simulador Valora'!$M$74*'Simulador Valora'!$V$21)","v":0},null,0,null,0,null,{"$f":"IF(B256<=0,0,IF('Simulador Valora'!$Y$76=1,0,B256*'Simulador Valora'!$Y$79))","v":0},null,{"$f":"IF(B256<=0,0,IF('Simulador Valora'!$W$40=1,'Simulador Valora'!$M$60,IF('Simulador Valora'!$W$40=3,'Simulador Valora'!$J$60,IF('Simulador Valora'!$W$40=4,'Simulador Valora'!$E$60))))","v":0},null,0,null,null,null,19,9,0,0,0,0,9.7500000000000003E-2,0,0,0,0,0,0,"",{"$f":"IF(AJ256<=0,0,IF('Simulador Valora'!$Y$76=1,0,AJ256*'Simulador Valora'!$Y$79))+IF(AJ256<=0,0,IF('Simulador Valora'!$W$40=1,'Simulador Valora'!$M$60,IF('Simulador Valora'!$W$40=3,'Simulador Valora'!$J$60,IF('Simulador Valora'!$W$40=4,'Simulador Valora'!$E$60,0))))","v":0},null,0,0,"",0,237]
[238,0,null,0,null,0,null,0,null,{"$f":"IF(B257-H257=0,0,J255)","v":0},null,null,null,{"$f":"IF(OR('Simulador Valora'!$U$16=1,'Simulador Valora'!$U$16=3,'Simulador Valora'!$U$16=4),0,L257*'Simulador Valora'!$M$74*'Simulador Valora'!$V$21)","v":0},null,0,null,0,null,{"$f":"IF(B257<=0,0,IF('Simulador Valora'!$Y$76=1,0,B257*'Simulador Valora'!$Y$79))","v":0},null,{"$f":"IF(B257<=0,0,IF('Simulador Valora'!$W$40=1,'Simulador Valora'!$M$60,IF('Simulador Valora'!$W$40=3,'Simulador Valora'!$J$60,IF('Simulador Valora'!$W$40=4,'Simulador Valora'!$E$60))))","v":0},null,0,null,null,null,19,10,0,0,0,0,9.7500000000000003E-2,0,0,0,0,0,0,"",{"$f":"IF(AJ257<=0,0,IF('Simulador Valora'!$Y$76=1,0,AJ257*'Simulador Valora'!$Y$79))+IF(AJ257<=0,0,IF('Simulador Valora'!$W$40=1,'Simulador Valora'!$M$60,IF('Simulador Valora'!$W$40=3,'Simulador Valora'!$J$60,IF('Simulador Valora'!$W$40=4,'Simulador Valora'!$E$60,0))))","v":0},null,0,0,"",0,238]
[239,0,null,0,null,0,null,0,null,null,null,null,null,{"$f":"IF(OR('Simulador Valora'!$U$16=1,'Simulador Valora'!$U$16=3,'Simulador Valora'!$U$16=4),0,L258*'Simulador Valora'!$M$74*'Simulador Valora'!$V$21)","v":0},null,0,null,0,null,{"$f":"IF(B258<=0,0,IF('Simulador Valora'!$Y$76=1,0,B258*'Simulador Valora'!$Y$79))","v":0},null,{"$f":"IF(B258<=0,0,IF('Simulador Valora'!$W$40=1,'Simulador Valora'!$M$60,IF('Simulador Valora'!$W$40=3,'Simulador Valora'!$J$60,IF('Simulador Valora'!$W$40=4,'Simulador Valora'!$E$60))))","v":0},null,0,null,null,null,19,11,0,0,0,0,9.7500000000000003E-2,0,0,0,0,0,0,"",{"$f":"IF(AJ258<=0,0,IF('Simulador Valora'!$Y$76=1,0,AJ258*'Simulador Valora'!$Y$79))+IF(AJ258<=0,0,IF('Simulador Valora'!$W$40=1,'Simulador Valora'!$M$60,IF('Simulador Valora'!$W$40=3,'Simulador Valora'!$J$60,IF('Simulador Valora'!$W$40=4,'Simulador Valora'!$E$60,0))))","v":0},null,0,0,"",0,239]
[240,0,null,0,null,0,null,0,null,{"$f":"IF(B259-H259=0,0,J257)","v":0},null,null,null,{"$f":"IF(OR('Simulador Valora'!$U$16=1,'Simulador Valora'!$U$16=3,'Simulador Valora'!$U$16=4),0,L259*'Simulador Valora'!$M$74*'Simulador Valora'!$V$21)","v":0},null,0,null,0,null,{"$f":"IF(B259<=0,0,IF('Simulador Valora'!$Y$76=1,0,B259*'Simulador Valora'!$Y$79))","v":0},null,{"$f":"IF(B259<=0,0,IF('Simulador Valora'!$W$40=1,'Simulador Valora'!$M$60,IF('Simulador Valora'!$W$40=3,'Simulador Valora'!$J$60,IF('Simulador Valora'!$W$40=4,'Simulador Valora'!$E$60))))","v":0},null,0,null,null,null,20,0,0,0,0,0,9.7500000000000003E-2,0,0,0,0,0,0,"",{"$f":"IF(AJ259<=0,0,IF('Simulador Valora'!$Y$76=1,0,AJ259*'Simulador Valora'!$Y$79))+IF(AJ259<=0,0,IF('Simulador Valora'!$W$40=1,'Simulador Valora'!$M$60,IF('Simulador Valora'!$W$40=3,'Simulador Valora'!$J$60,IF('Simulador Valora'!$W$40=4,'Simulador Valora'!$E$60,0))))","v":0},null,0,0,"",0,240]
[null,null,null,"Erogación \n(a+b)",null,"Interés \n(a)",null,"Amortización (b)",null,null,null,"Prepagos a capital (c)",null,null,null,null,null,null,null,"Seguro de \nvida y desempleo (d)",null,"Seguro de daños \n(e)",null,"Pago Mensual (a+b+c+d+e)"]
[null,null,null,{"$f":"SUM(D20:D259)","v":0},null,{"$f":"SUM(F20:F259)","v":0},null,{"$f":"SUM(H20:H259)","v":0},null,null,null,{"$f":"SUM(L20:L259)","v":0},null,null,null,null,null,null,null,{"$f":"SUM(T20:T259)","v":0},null,{"$f":"SUM(V20:V259)","v":0},null,{"$f":"SUM(X20:X259)","v":0}]
[]
[null,null,null,null,null,null,null,null,null,null,null,null,null,null,null,null,null,null,null,null,null,null,null,{"$f":"SUM(X20:X260)","v":0}]

{"sheet":"Exclusivo SB Carta Bienvenida","index":2,"n_rows":63,"n_cols":18,"rows_kept":63,"cut":false,"hidden":true,"merged":[[17,6,17,7]]}
["Liga para obtener certificado vida",null,null,"Certificado de seguro de vida"]
["Liga para obtener certificado daños",null,null,"Certificado de seguro de daños"]
["Liga para obtener certificado obra civil",null,null,"Certificado de seguro obra civil"]
["Datos de entrada"]
["Fecha de Operación (cuando se depositó el crédito):",null,null,null,null,"(DD/MM/AAAA)",null,null,null,null,null,null,null,"Crédito",{"$f":"'Tabla Valora'!B20","v":0},null,"dia",{"$f":"DAY(E5)","v":0}]
["Numero de crédito:",null,null,null,null,null,null,null,null,null,null,null,null,"Tasa",{"$f":"'Tabla Valora'!P20","v":0},null,"Mes",{"$f":"MONTH(E5)","v":1}]
[null,null,null,null,null,null,null,null,null,null,null,null,null,"Fecha de vencimiento",{"$f":"VALUE(CONCATENATE(\"17\",\"-\",R7,\"-\",R9))","v":"1900-01-17"},null,"Mes siguiente",{"$f":"IF(R5<17,R6,IF(R6=12,1,R6+1))","v":1}]
[null,null,null,null,null,null,null,null,null,null,null,null,null,"Días transcurridos",{"$f":"O7-E5","v":17},null,"Año",{"$f":"YEAR(E5)","v":1900}]
[null,null,null,null,null,null,null,null,null,null,null,null,null,"Intereses",{"$f":"ROUND($O$5*O6/360*$O$8,2)","v":0},null,"Año siguiente",{"$f":"IF(AND(R6=12,R5>=17),R8+1,R8)","v":1900}]
["Para que los calculos de la carta sean correctos es necesario que en el simulador se simule el crédito autorizado y el esquema que el cliente escogió",null,null,null,null,null,null,null,null,null,null,null,null,"Seguro hipotecario",{"$f":"ROUND($O$5*E7/360*$O$8,2)","v":0}]
[null,null,null,null,null,null,null,null,null,null,null,null,null,"Total",{"$f":"IF(R5=17,0,O9+O10)","v":0}]
[]
[]
[]
[]
[]
[]
[null,null,null,null,null,null,{"$f":"E5","v":"00:00:00"}]
[]
[]
["Estimado (s) Clientes (s):"]
[]
["ScotiaBank lo(s) felicita por la construcción de su nueva casa y se complace en ser parte importante de la"]
["consolidación de su patrimonio familiar, a través de su crédito hipotecario Scotiabank."]
[]
["A continuación le proporcionamos información importante relativa a su Financiamiento:"]
[]
[{"$f":"CONCATENATE(\"Su  número  de  crédito  es el No \",E6,\" que  le  servirá  como   referencia  para  cualquier  aclaración\")","v":"Su  número  de  crédito  es el No  que  le  servirá  como   referencia  para  cualquier  aclaración"}]
["futura  que  tenga  con  su  crédito, en  caso  de querer  realizar anticipos a capital, deberá abonar a este"]
["número a través de nuestra red de sucursales con cheque a favor de Scotiabank Inverlat S.A."]
[]
["La fecha de pago de sus mensualidades serán los días 17 de cada mes. Este pago lo realizará mediante"]
["cargo  automático  a  su  cuenta  de  cheques. Si  el  día de pago fuera inhábil, el cargo automático a su "]
["cuenta de cheques se realizará el día hábil inmediato siguiente."]
[]
["Le  recomendamos  depositar  el  importe de su pago mensual antes de la fecha de pago, especialmente"]
["si su depósito es con cheque de otro banco."]
[]
["Es   importante   mencionar   que  el  cálculo  del  seguro  de  daños  se  realiza  con  base  en  el  valor "]
["destructible  del  inmueble, por  lo que  es posible que difiera de las tablas de amortización que le hemos"]
["entregado, y además tenga variaciones en el tiempo."]
[]
[{"$f":"IF(R5=17,\"Su   primer   pago   deberá   ser   por   la   mensualidad   completa  que   se   establece  en  su  contrato\",\"El  importe  de  su  primer  pago  será  por  la  cantidad  de  $\"&TEXT(O11,\"#,##0.00\")&\" que  corresponden a  los intereses\")","v":"El  importe  de  su  primer  pago  será  por  la  cantidad  de  $0.00 que  corresponden a  los intereses"}]
[{"$f":"IF(R5=17,\"de crédito y que le será informada mediante su estado de cuenta.\",\"que se devengarán entre hoy y el próximo día 17.\")","v":"que se devengarán entre hoy y el próximo día 17."}]
[{"$f":"IF(AND(E7>0,R5<>17),\"Esta cantidad ya tiene incluida la parte proporcional de la prima de seguro de crédito a la vivienda\",\"\")","v":""}]
[]
["A  partir  de  este  momento, usted  cuenta  con  un  seguro  de  vida  e invalidez total y permanente, un "]
["seguro  de  obra  civil, durante  la  etapa  de  construcción  del  inmueble y un seguro de daños sobre la"]
["propiedad ya construida, anexo a la presente, las cartas de cobertura correspondientes."]
[]
["Si  por  algún  motivo no  recibiera  su  estado  de  cuenta  con oportunidad  o tuviera dudas relacionadas"]
["con   su   crédito,  le   sugerimos  llamar   a   nuestro   Centro  de  Atención  Telefónica  a  los  teléfonos"]
["5728-1900 para  el  D.F. y  para  el  interior  de  la  República,  sin  costo para usted, al 01-800-70459-00;"]
["donde con gusto le atenderán."]
[]
["Con su financiamiento Scotiabank, el hogar de sus sueños es hoy una realidad."]
[]
["Atentamente"]
[]
[]
[]
["Ejecutivo Especializado"]
["Crédito Hipotecario."]

{"sheet":"Oferta Vinculante","index":3,"n_rows":177,"n_cols":9,"rows_kept":177,"cut":false,"hidden":true,"merged":[[12,1,12,2],[14,1,14,4],[16,1,16,4],[71,0,71,5],[169,0,169,1],[45,1,45,3],[46,1,46,3],[50,1,50,3],[51,1,51,3],[56,1,56,3],[57,1,57,3],[58,1,58,3],[59,1,59,3]]}
[]
[]
[]
[]
[]
[]
["Scotiabank Inverlat, S.A.,"]
["Institución de Banca Múltiple, "]
["Grupo Financiero Scotiabank Inverlat                                                    "]
[null,"OFERTA VINCULANTE "]
[]
[]
["Lugar y Fecha:",{"$f":"'Simulador Valora'!C10&\"  a\"","v":"  a"},null,{"$f":"'Simulador Valora'!C7","v":"2025-04-10"}]
[]
["Nombre del Solicitante y Cónyuge, en su caso:",{"$f":"'Simulador Valora'!C13","v":0}]
[]
["Destino del crédito:",{"$f":"IF('Simulador Valora'!U8=1,\"Remodelación de vivienda\",IF('Simulador Valora'!U8=2,\"Adquisición de vivienda y remodelación\",IF('Simulador Valora'!U8=3,\"Pasivo Hipotecario y remodelación de vivienda\",IF('Simulador Valora'!U8=4,\"Remodelación de vivienda\"))))","v":"Remodelación de vivienda"}]
[]
[]
["Importe del Crédito Solicitado:",{"$f":"'Tabla Valora'!H9","v":0}]
[]
["Valor Estimado de la garantía*:",{"$f":"'Simulador Valora'!AC78","v":0},{"$f":"\"Aforo (máximo \"&TEXT('Simulador Valora'!#REF!,\"0.00%\")&\")* \"","v":{"$error":"#REF!"}},null,{"$f":"B20/B22","v":{"$error":"#DIV/0!"}}]
[]
["Comisión por Apertura:",{"$f":"'Tabla Valora'!AN3","v":0},"Comisión por dictámen técnico:",null,{"$f":"'Tabla Valora'!AN5","v":0}]
[]
["Seguro de Vida:",{"$f":"B20*0.0005","v":0},"Seguro de Daños:",null,{"$f":"B22*0.0002623","v":0}]
[]
[null,null,"Gastos Notariales y"]
["Costo de Avalúo*:",{"$f":"'Tabla Valora'!AN4","v":0}," de Escrituración (Aprox):",null,{"$f":"B22*7%","v":0}]
[]
["*El valor real se conocerá hasta tener el avalúo correspondiente del inmueble"]
[]
["Condiciones del Crédito:"]
["Tasa de interés ordinaria anual: ",{"$f":"'Tabla Valora'!P20","v":0}," Fija inicial"]
["Tasa moratoria anual:",{"$f":"B34*1.5","v":0}," Fija inicial"]
["Pago por cada mil pesos de préstamo:",{"$f":"'Simulador Valora'!AC79","v":8.5399999999999991}," Inicial"]
["Plazo:",{"$f":"'Simulador Valora'!AC80","v":"20 Años"}]
["Financiamiento máximo (Aforo)",{"$f":"'Simulador Valora'!#REF!","v":{"$error":"#REF!"}}]
["Costo Anual Total (1):",{"$f":"'Tabla Valora'!M13","v":0},null,null,null,null,null,null,5.0000000000000001E-4]
["Forma de Amortización:","Amortización mensual creciente"]
["Gastos notariales y de escrituración (Aproximados):",7.0000000000000007E-2,"sobre valor del inmueble"]
["Forma de entrega del préstamo","En parcialidades de acuerdo con los avances de obra que se fijen"]
[]
["Comisiones del Crédito:"]
[]
["Comisión por Apertura de Crédito (2)","2% sobre importe de crédito autorizado."]
["Comisión por Pago Anticipado de Crédito (2)","3% más impuesto al valor agregado (I.V.A) sobre el importe a anticipar"]
[]
["Comisiones Adicionales del Crédito:"]
[]
["Por copia de documento o certificación del estado de cuenta (copia del estado de cuenta, certificación del saldo, integración, amortización o desglose). Costo por hoja.","$25.00 (veinticinco pesos, moneda nacional) más el impuesto al valor agregado (I.V.A.)"]
["Por concepto de gastos de cobranza, por cada mensualidad no pagada","$350.00 (trescientos cincuenta pesos, moneda nacional) más el impuesto al valor agragado (I.V.A.)"]
["Nota: Las comisiones adicionales al crédito se cobrarán en caso de que el cliente solicite el servicio o incurra en ellos."]
[]
["Costos del Crédito:"]
[]
["Seguro de Vida","0.50 al millar sobre el saldo insoluto del crédito"]
["Seguro de Daños","0.2623 al millar sobre el valor de construcción"]
["Costo del Avalúo","Depende del valor del inmueble (ver tabla de costos anexa)"]
["Dictamen Técnico","0.55% sobre el monto del crédito con un costo máximo de $6,600 y mínimo de $1,500"]
[]
[]
["(1)Costo Anual Total (CAT promedio sin IVA)): factor que anualiza la  totalidad de los costos por el Crédito Garantizado (Hipotecario), incluyendo  seguro de vida y daños,"]
["avalúo, comisiones e intereses, excluyendo las contribuciones federales y locales, así como los costos correspondientes a trámites y servicios prestados por terceros."]
["Costo Anual Total de créditos denominados en moneda nacional a tasa fija para fines informativos y de comparación exclusivamente. Este CAT sólo es comprable con el"]
["CAT de otros créditos denominados en moneda nacional a tasa fija."]
[]
["(2) El cliente elige entre la comisión por apertura o la comisión por pagos anticipados, esta opción solo aplica para el esquema de Valora (I.V.A.: Impuesto al valor agregado)"]
[]
[]
[]
["Condiciones y Especificaciones de la Oferta Vinculante."]
[]
[]
[]
[]
[]
[]
[]
[]
[]
[]
[]
[]
[]
[]
[]
[]
[]
[]
[]
[]
[]
[]
[]
[]
[]
[]
[]
[]
[]
[]
[]
[]
[]
[]
[]
[]
[]
[]
[]
[]
[]
[]
[]
[]
[]
[]
[]
[]
[]
[]
[]
[]
[]
[]
[]
[]
[]
[]
[]
[]
[]
[]
[]
[]
[]
[]
[]
[]
[]
[]
[]
[]
[]
[]
[]
[]
[]
[]
[]
[]
[]
[]
[]
[]
[]
[]
[]
[]
[]
[]
[]
[]
[]
[]
[]
[]
[]
[{"$f":"'Simulador Valora'!G13","v":0},null,null,{"$f":"B15","v":0}]
["Nombre del Ejecutivo",null,null,"Firma del Solicitante"]
[{"$f":"CONCATENATE(\"Sucursal: \",'Simulador Valora'!G10)","v":"Sucursal: "}]
[]
[]
[]
[null,{"$f":"D13","v":"2025-04-10"}]
[null,"Fecha de Recepción"]

{"sheet":"Carat_Ren_VA","index":4,"n_rows":44,"n_cols":4,"rows_kept":44,"cut":false,"hidden":false,"merged":[[41,0,41,3],[42,0,42,3],[43,0,43,3],[35,0,35,3],[36,0,36,3],[37,0,37,3],[38,0,38,3],[39,0,39,3],[40,0,40,3],[33,0,33,3],[34,0,34,3],[21,0,21,3],[22,0,22,3],[23,0,23,3],[24,0,24,3],[25,0,25,3],[26,0,26,3],[30,2,32,3],[17,1,17,3],[18,0,18,3],[19,0,19,1],[19,2,19,3],[20,0,20,1],[20,2,20,3],[1,0,1,3],[6,1,6,3],[7,0,7,3],[8,0,8,3],[16,1,16,3],[11,1,14,1]]}
[]
["Carátula de Crédito "]
[null,null,null,"Nombre del Acreditado y/o Coacreditado:"]
[null,null,null,{"$f":"IF('Simulador Valora'!C13=\"\",\"\",'Simulador Valora'!C13)","v":""}]
[null,null,null,"Número de Crédito:"]
[]
["Nombre comercial del producto: ",{"$f":"\"CREDIRENOVACION VALORA\"&\" \"&A18","v":"CREDIRENOVACION VALORA 20 Años"}]
[]
["Tipo de Crédito: Crédito Hipotecario "]
["CAT","TASA DE INTERES","MONTO O LINEA DE","MONTO TOTAL A PAGAR O"]
["(Costo Anual Total)","ANUAL ORDINARIA","CRÉDITO","MINIMO A PAGAR"]
[{"$f":"'Tabla Valora'!$M$13","v":0},{"$f":"IF('Simulador Valora'!C28=0,0,'Simulador Valora'!$AC$81)","v":0},{"$f":"-'Tabla Valora'!AR18+'Tabla Valora'!AN7","v":0},{"$f":"IFERROR(SUM('Tabla Valora'!$X$20:$X$259),0)","v":0}]
["Sin IVA",null,null,"Moneda en"]
["Para fines",null,null,"Pesos"]
["informativos y de",null,null,"Mexicanos "]
["comparación","Tasa Fija"]
["PLAZO DEL CRÉDITO:","Fecha Límite de pago: \nSi tu fecha de corte es el día 3, tu fecha de pago es el día 3 de cada mes. \nSi tu fecha de corte es el día 17, tu fecha de pago es el día 17 de cada mes. "]
[{"$f":"'Simulador Valora'!$AC$80","v":"20 Años"},"Fecha de corte: \nSi tu fecha de disposición es entre el dia 3 y 16, tu fecha de corte será el día 3 de cada mes. \nSi tu fecha de disposición es entre el día 17 y 2, tu fecha de corte será el día 17 de cada mes."]
["COMISIONES RELEVANTES"]
[{"$f":"\"Apertura: \"&TEXT('Tabla Valora'!AN3,\"$###,###.00\")","v":"Apertura: $.00"},null,"Cobranza: $500.00 más IVA por pago tardío "]
[{"$f":"\"Prepago: \"&IF('Simulador Valora'!$U$16=2,\"3% \",\"0% \")&\"más IVA sobre el monto anticipado\"","v":"Prepago: 0% más IVA sobre el monto anticipado"},null,"Para otras comisiones consulte la cláusula décimo tercera"]
["ADVERTENCIAS"]
[]
["Incumplir tus obligaciones te puede generar comisiones e intereses moratorios. "]
["Contratar créditos que excedan de tu capacidad de pago afecta tu historial crediticio. "]
["El avalista, obligado solidario o coacreditado responderá como obligado principal por el total del pago frente a la Institución Financiera. "]
["SEGUROS"]
["Seguros Obligatorios:","Aseguradora:","Cláusulas:"]
[]
["Vida y Desempleo","Cardif México Seguros de Vida,          S.A. de C.V.","Vigésima Cuarta"]
[null,null,"Scotiabank Inverlat le ofrece al acreditado y/o coacreditado, la posibilidad de contratar a nombre de este (os) último(s) los seguros establecidos en la cláusula vigésima cuarta. Lo anterior sin perjuicio del derecho innegable que el cliente tiene de contratarlos a través de terceros."]
["Daños y Responsabilidad Civil","Cardif México Seguros Generales, S.A. de C.V."]
[]
["ESTADO DE CUENTA"]
["Envío a Domicilio ü              Consulta vía Internet ___            Envío por Correo Electrónico ___"]
["Aclaraciones y reclamaciones:"]
["Unidad Especializada de Aclaraciones:"]
["Domicilio: Río Usumacinta S/N, esq. con Fernando Montes de Oca, Col. La Presita, Municipio de Cuautitlán Izcalli, Estado de México, C.P. 54763"]
["Teléfono: (55) 5123 0990"]
["Correo electrónico: une@scotiabank.com.mx"]
["Página de Internet: www.scotiabank.com.mx "]
[{"$f":"\"Registro de Contratos de Adhesión Núm:  \"&IF('Simulador Valora'!C28=0,\"\",IFERROR(VLOOKUP('Simulador Valora'!$V$8&\"-1-1\",RECAS!$A$3:$D$14,4,0),\"Revisa los datos ingresados\"))","v":"Registro de Contratos de Adhesión Núm:  "}]
["Comisión Nacional para la Protección y Defensa de los Usuarios de Servicios Financieros (CONDUSEF):"]
["Teléfono: 800 999 8080 y (55) 5340 0999. Página de Internet. www.condusef.gob.mx "]

{"sheet":"Simulador Pagos Oportunos","index":5,"n_rows":100,"n_cols":50,"rows_kept":100,"cut":false,"hidden":false,"merged":[[49,44,53,44],[49,45,53,45],[49,46,53,46],[49,47,53,47],[55,44,59,44],[55,45,59,45],[55,46,59,46],[55,47,59,47],[43,44,47,44],[43,45,47,45],[43,46,47,46],[43,47,47,47],[41,4,41,5],[37,46,41,46],[37,47,41,47],[72,34,72,36],[49,9,49,10],[49,11,49,12],[49,13,49,14],[37,45,41,45],[67,9,67,10],[67,11,67,12],[67,13,67,14],[37,2,37,12],[39,4,39,5],[39,7,39,14],[37,44,41,44],[45,4,45,5],[47,4,47,5],[69,4,69,5],[71,4,71,5],[15,6,15,11],[36,2,36,12],[43,4,43,5],[15,2,15,4],[19,2,20,2],[2,2,2,15],[3,2,3,15],[9,2,9,4],[9,6,9,10],[12,2,12,4],[4,2,4,15],[12,6,12,11],[73,4,73,5],[60,4,60,5],[61,4,61,5],[63,4,63,5],[67,4,67,5],[65,4,65,5],[49,4,49,5],[51,4,51,5],[53,4,53,5],[55,4,55,5],[67,7,67,8],[49,7,49,8],[57,4,57,5],[59,4,59,5]]}
[null,null,null,null,null,null,null,null,null,null,null,null,null,null,null,null,null,".",null,null,null,null,null,null,null,null,null,null,null,null,null,null,null,null,null,null,null,null,null,null,null,null,null,null,null,null,null,null,null,"."]
[]
[null,null,"SIMULADOR CREDITO HIPOTECARIO",null,null,null,null,null,null,null,null,null,null,null,null,null,null,null,null,"Base de cálculo",1,null,null,"Apoyo Infonavit",1,null,null,null,"Gastos Notariales"]
[null,null,"CREDIRENOVACION",null,null,null,null,null,null,null,null,null,null,null,null,null,null,null,null,"Por Valor del Inmueble",null,null,null,"No aplica para renovación",null,null,null,null,{"$f":"IF(U8=3,\"SI\",\"\")","v":""}]
[null,null,"PAGOS OPORTUNOS",null,null,null,null,null,null,null,null,null,null,null,null,null,null,null,null,{"$f":"IF(U8=3,\"\",\"Por Ingresos\")","v":"Por Ingresos"},null,null,null,null,null,null,null,null,{"$f":"IF(U8=3,\"NO\",\"\")","v":""}]
[]
[null,null,{"$f":"TODAY()","v":"2025-04-10"}]
[null,null,null,null,null,null,null,null,null,null,null,null,null,null,null,null,null,null,null,"Modalidad",1,{"$f":"IF(T25=3,U8+4,U8)","v":1},"Val. proyect.","Aforo","Aforo $","Leyenda","Cred. max otro","Cred. max renov","PTI","Erogación Inicial"]
[null,null,"Lugar",null,null,null,"Sucursal",null,null,null,null,null,null,null,null,null,null,null,1,{"$f":"IF(T25=3,\"Ecotecnologías\",\"Renovación\")","v":"Renovación"},null,null,{"$f":"IF($U$8=1,$C$28,$C$28+$C$29)","v":0},{"$f":"IF(T25=3,95%,80%)","v":0.8},{"$f":"W9*X9","v":0},"-",0,{"$f":"MIN(Y9,$C$29)","v":0},{"$f":"IF(T25=3,55%,35%)","v":0.35},0.25]
[null,null,null,null,null,null,null,null,null,null,null,null,null,null,null,null,null,null,2,{"$f":"IF(T25=3,\"Compra + Ecotecnologías\", \"Compra + Renovación\")","v":"Compra + Renovación"},null,null,{"$f":"$C$28+$C$29","v":0},{"$f":"IF(T25=3,95%,80%)","v":0.8},{"$f":"W10*X10","v":0},"Crédito solicitado para la compra",{"$f":"MIN($C$28*80%,$H$29,Y10)","v":0},{"$f":"MIN(Y10-AA10,$C$29)","v":0},{"$f":"IF(T25=3,55%,35%)","v":0.35},0.3]
[null,null,null,null,null,null,null,null,null,null,null,null,null,null,null,null,null,null,3,{"$f":"IF(T25=3,\"\",\"Pasivo + Renovación\")","v":"Pasivo + Renovación"},null,null,{"$f":"$C$28+$C$29","v":0},0.95,{"$f":"W11*X11","v":0},"Pago de pasivo: saldo con el otro banco",{"$f":"MIN($C$28,$H$29,Y11)","v":0},{"$f":"MIN(Y11-AA11,$C$29)","v":0},0.55000000000000004,0.25]
[null,null,"Nombre del cliente / Conyuge en su caso.",null,null,null,"Ejecutivo que le atendió",null,null,null,null,null,null,null,null,null,null,null,4,{"$f":"IF(T25=3,\"\",\"2a Hipoteca con SB\")","v":"2a Hipoteca con SB"},null,null,{"$f":"$C$28+$C$29","v":0},0.8,{"$f":"W12*X12","v":0},"Saldo del crédito con SB",{"$f":"MIN(Y12,$H$29)","v":0},{"$f":"MIN(Y12-AA12,$C$29)","v":0},0.35,0.25]
[null,null,null,null,null,null,null,null,null,null,null,null,null,null,null,null,null,null,null,"Modalidad",null,null,{"$f":"VLOOKUP($U$8,$S$8:$AB$12,5,0)","v":0},{"$f":"VLOOKUP($U$8,$S$8:$AB$12,6,0)","v":0.8},{"$f":"VLOOKUP($U$8,$S$8:$AB$12,7,0)","v":0},{"$f":"VLOOKUP($U$8,$S$8:$AB$12,8,0)","v":"-"},{"$f":"VLOOKUP($U$8,$S$8:$AB$12,9,0)","v":0},{"$f":"VLOOKUP($U$8,$S$8:$AB$12,10,0)","v":0},{"$f":"VLOOKUP($U$8,$S$8:$AC$12,11,0)","v":0.35},{"$f":"VLOOKUP($U$8,$S$8:$AD$12,12,0)","v":0.25}]
[]
[null,null,"Telefonos del cliente",null,null,null,"Teléfonos del ejecutivo",null,null,null,null,null,null,null,null,null,null,null,1,"Comisión apert",{"$f":"S15","v":1},{"$f":"IF(U15=5,\"NO APLICA\",IF(U15=2,3%,\"NO APLICA\"))","v":"NO APLICA"}]
[null,null,null,null,null,null,null,null,null,null,null,null,null,null,null,null,null,null,null,{"$f":"IF(U8=3,\"Comisión x apertura 0% y comisión x prepago 0%\",IF(OR(T25=2,T25=3,T25=4),\"Comisión x apertura 0% y comisión x prepago 0%\",\"Comisión x apertura 1% y comisión x prepago 0%\"))","v":"Comisión x apertura 1% y comisión x prepago 0%"},3]
[null,null,null,null,null,null,null,null,null,null,null,null,null,null,null,null,null,null,null,{"$f":"IF(U8=3,\"\",IF(OR(T25=2,T25=3,T25=4),\"\",\"Comisión x apertura 0% y comisión x prepago 3% más IVA\"))","v":"Comisión x apertura 0% y comisión x prepago 3% más IVA"}]
[null,null,"Paso 1",null,null,null,{"$f":"IF(T25=1,\"Paso 3\",\"\")","v":"Paso 3"}]
[null,null,"Escoja su base de cálculo",null,null,null,{"$f":"IF(T25=1,\"Escoja la opción de su interés:\",\"\")","v":"Escoja la opción de su interés:"}]
[null,null,"CAMPAÑA"]
[null,null,null,null,null,null,null,null,null,null,null,null,null,null,null,null,null,null,null,"Frontera",1,{"$f":"IF(U21=1,1.16,1.16)","v":1.1599999999999999},null,"Monto máx Renovación Pago de Pasivos",null,"Monto Máximo del pasivo"]
[null,null,"Escoja su modalidad",null,null,null,null,{"$f":"IF(T25=1,\"Comisión Manual por Apertura\",\"\")","v":"Comisión Manual por Apertura"},null,null,null,null,null,null,null,null,null,null,null,"Frontera","NO",null,null,{"$f":"IF(U8=3,C28*35%,9.99999999999999E+44)","v":9.9999999999999898E+44},null,{"$f":"+H28-H30","v":0}]
[null,null,null,null,null,null,{"$f":"IF(T25=1,\"Paso 4\",\"Paso 3\")","v":"Paso 4"},null,null,null,{"$f":"IF(T25=1,\"Paso 5\",\"Paso 4\")","v":"Paso 5"},null,null,null,null,null,null,null,null,"IVA","SI"]
[null,null,null,null,null,null,"Va a construir en la frontera",null,null,null,"El cliente opta por seguros externos",null,null,null,null,null,null,null,null,"CAMPAÑA","Ninguna"]
[null,null,null,null,null,null,null,null,null,null,null,null,null,null,null,null,null,null,null,1,"Vinculación"]
[null,null,"Paso 2",null,null,null,null,null,null,null,null,null,null,null,null,null,null,null,null,null,{"$f":"IF(U8=3,\"\",\"Hipoteca Green\")","v":"Hipoteca Green"}]
[null,null,"Escriba los datos solicitados:",null,null,null,null,null,null,null,null,null,null,null,null,null,null,null,null,null,{"$f":"\"Premium / WM\"","v":"Premium / WM"}]
[null,null,null,null,{"$f":"IF(U3=1,\"Valor actual del inmueble\",\"Ingresos brutos mensuales\")","v":"Valor actual del inmueble"},null,null,{"$f":"IF(U3=2,$W$13,IF(U8=1,MIN($Y$13,$C$29),$Y$13))","v":0},null,{"$f":"IF(U3=2,\"\",\"CREDITO MAXIMO POSIBLE\")","v":"CREDITO MAXIMO POSIBLE"}]
[null,null,null,null,{"$f":"IF($U$3=1,IF(T25=3,\"Monto de Ecotecnologías\",\"Monto de Renovación\"),\"\")","v":"Monto de Renovación"},null,null,null,null,{"$f":"Z13","v":"-"}]
[null,null,{"$f":"C28+C29","v":0},null,{"$f":"IF($U$3=1,\"Valor proyectado\",\"\")","v":"Valor proyectado"},null,null,null,null,{"$f":"IF(T25=3,\"Crédito solicitado para ecotecnologías\",\"Crédito solicitado para renovación\")","v":"Crédito solicitado para renovación"}]
[null,null,{"$f":"IF(C28=\"\",\"\",IF(AND(U3=2,C28<20000,C28>0),\"Se requiere $20,000 como ingresos mínimos\",\"Línea máxima a otorgar puede ser menor por perfil del cliente\"))","v":""},null,null,null,null,{"$f":"IF(SUM(H29:H30)=0,H28,SUM(H29:H30))","v":0},null,"Crédito solicitado total",null,null,null,null,null,null,null,null,"Pagos Oportunos",1,2,null,3,4,null,1,"PO","ppm",null,2,"PO","ppm",null,3,"PO","ppm",null,4,"PO","ppm"]
[null,null,{"$f":"IF(AND(U8=3,C29>C28*35%),\"El monto de Renovación máximo es de \"&TEXT(C28*35%,\"$0,0\"),\"\")","v":""},null,null,null,null,{"$f":"IFERROR(IF(OR(L34=\"SI\",L35>0),H31+L35,\"\"),\"\")","v":""},null,{"$f":"IF(OR(L35=\"\",L34=\"NO\"),\"\",\"Monto Máximo Pago de Pasivo + Gastos Financiados\")","v":""},null,null,null,null,null,null,null,null,null,"7 AÑOS","10 AÑOS",null,"15 AÑOS","20 AÑOS",null,7,0.13,18.38,null,7,0.1075,17.100000000000001,null,7,0.105,16.95,null,7,9.7500000000000003E-2,16.55]
[null,null,{"$f":"+IF(H29+H30>H28,\"Monto del Pasivo máximo es de \"&TEXT($Z$22,\"$0,0.00\"),\"\")","v":""},null,null,null,null,null,null,null,null,{"$f":"IF(U8=3,\"Paso 7\",\"\")","v":""},null,null,null,null,null,null,"Tasa",{"$f":"IF($T$25=1,AA32,IF($T$25=2,AE32,IF($T$25=3,AI32,IF($T$25=4,AM32,\"\"))))","v":0.13},{"$f":"IF($T$25=1,AA33,IF($T$25=2,AE33,IF($T$25=3,AI33,IF($T$25=4,AM33,\"\"))))","v":0.13},null,{"$f":"IF($T$25=1,AA34,IF($T$25=2,AE34,IF($T$25=3,AI34,IF($T$25=4,AM34,\"\"))))","v":0.13},{"$f":"IF($T$25=1,AA35,IF($T$25=2,AE35,IF($T$25=3,AI35,IF($T$25=4,AM35,\"\"))))","v":0.13},null,10,0.13,15.05,null,10,0.1075,13.73,null,10,0.105,13.6,null,10,9.7500000000000003E-2,13.16]
[null,null,null,null,null,null,null,null,null,{"$f":"IF(U8=3,\"Gastos Notariales Financiados\",\"\")","v":""},null,null,null,null,null,null,null,null,"ppm",{"$f":"IF($T$25=1,AB32,IF($T$25=2,AF32,IF($T$25=3,AJ32,IF($T$25=4,AN32,\"\"))))","v":18.38},{"$f":"IF($T$25=1,AB33,IF($T$25=2,AF33,IF($T$25=3,AJ33,IF($T$25=4,AN33,\"\"))))","v":15.05},null,{"$f":"IF($T$25=1,AB34,IF($T$25=2,AF34,IF($T$25=3,AJ34,IF($T$25=4,AN34,\"\"))))","v":12.79},{"$f":"IF($T$25=1,AB35,IF($T$25=2,AF35,IF($T$25=3,AJ35,IF($T$25=4,AN35,\"\"))))","v":11.86},null,15,0.13,12.79,null,15,0.1075,11.32,null,15,0.105,11.16,null,15,9.7500000000000003E-2,10.7]
[null,null,null,null,"Valor Destructible del Inmueble (si conoce el dato)",null,null,null,null,{"$f":"IF(U8=3,\"Monto Máximo Financiado\",\"\")","v":""},null,{"$f":"+IF(U8<>3,\"\",IF(OR(L34=\"NO\",L34=\"\"),0,IF(C30*X13=H31,0,IF(H31*6%+H31>H28,H28-H31,H31*6%))))","v":""},null,null,null,null,null,null,"Incremento",0,0,null,0,0,null,20,0.13,11.86,null,20,0.1075,10.27,null,20,0.105,10.1,null,20,9.7500000000000003E-2,9.59]
[null,null,null,null,null,null,null,null,null,null,null,null,null,null,null,null,null,null,"tasa por esquema ",{"$f":"T33","v":0.13},{"$f":"U33","v":0.13},null,0.13,0.13]
[null,null,null,null,null,null,null,null,null,null,null,null,null,null,null,null,null,null,"ppm por esquema ",{"$f":"T34","v":18.38},{"$f":"U34","v":15.05},null,12.79,11.86]
[null,null,null,null,null,null,null,null,null,null,null,null,null,null,null,null,null,null,"Pagos Oportunos",1,2,null,3,4,null,null,null,null,null,null,null,null,null,null,null,null,null,null,null,null,null,null,null,null,"1 año / 13.00%\n2 año / 12.80%\n3 año / 12.60%\n4 año / 12.40%\n5 al 7 /  12.25%","1 año / 13.00%\n2 año / 12.80%\n3 año / 12.60%\n4 año / 12.40%\n5 al 10 /  12.25%","1 año / 13.00%\n2 año / 12.80%\n3 año / 12.60%\n4 año / 12.40%\n5 al 15 /  12.25%","1 año / 13.00%\n2 año / 12.80%\n3 año / 12.60%\n4 año / 12.40%\n5 al 20 /  12.25%"]
[null,null,null,null,null,null,null,null,null,null,null,null,null,null,null,null,null,null,"Pago de Pasivos","7 AÑOS","10 AÑOS",null,"15 AÑOS","20 AÑOS",null,null,null,null,null,null,null,"Fórmulas no activas"]
[null,null,null,null,null,null,null,"PAGOS OPORTUNOS",null,null,null,null,null,null,null,null,null,null,"Tasa",{"$f":"IF($U$8=3,T33,\"\")","v":""},{"$f":"IF($U$8=3,U33,\"\")","v":""},null,"","",null,null,null,null,null,null,null,"Ingresos",{"$f":"IF(AND(Y3=2,U3=1),J27,C28)","v":0}]
[null,null,null,null,null,null,null,null,null,null,null,null,null,null,null,null,null,null,"ppm",{"$f":"IF($U$8=3,T34,\"\")","v":""},"",null,"",""]
[null,null,"Plazo",null,null,null,null,"7 AÑOS",null,"10 AÑOS",null,"15 AÑOS",null,"20 AÑOS",null,null,null,null,"Incremento",0,0,null,0,0]
[]
[null,null,"Tasa de Interés",null,null,null,null,{"$f":"IF($T$25=1,AS38,IF($T$25=2,AS44,IF($T$25=3,AS50,IF($T$25=4,AS56,\"\"))))","v":"1 año / 13.00%\n2 año / 12.80%\n3 año / 12.60%\n4 año / 12.40%\n5 al 7 /  12.25%"},null,{"$f":"IF($T$25=1,AT38,IF($T$25=2,AT44,IF($T$25=3,AT50,IF($T$25=4,AT56,\"\"))))","v":"1 año / 13.00%\n2 año / 12.80%\n3 año / 12.60%\n4 año / 12.40%\n5 al 10 /  12.25%"},null,{"$f":"IF($T$25=1,AU38,IF($T$25=2,AU44,IF($T$25=3,AU50,IF($T$25=4,AU56,\"\"))))","v":"1 año / 13.00%\n2 año / 12.80%\n3 año / 12.60%\n4 año / 12.40%\n5 al 15 /  12.25%"},null,{"$f":"IF($T$25=1,AV38,IF($T$25=2,AV44,IF($T$25=3,AV50,IF($T$25=4,AV56,\"\"))))","v":"1 año / 13.00%\n2 año / 12.80%\n3 año / 12.60%\n4 año / 12.40%\n5 al 20 /  12.25%"},null,null,null,null,null,null,null,null,null,null,null,null,null,null,null,null,null,null,null,null,null,null,null,null,null,null,null,null,null,null,"1 año / 10.75%\n2 año / 10.55%\n3 año / 10.35%\n4 año / 10.15%\n5 al 7 /  10.00%","1 año / 10.75%\n2 año / 10.55%\n3 año / 10.35%\n4 año / 10.15%\n5 al 10 /  10.00%","1 año / 10.75%\n2 año / 10.55%\n3 año / 10.35%\n4 año / 10.15%\n5 al 15 /  10.00%","1 año / 10.75%\n2 año / 10.55%\n3 año / 10.35%\n4 año / 10.15%\n5 al 20 /  10.00%"]
[null,null,null,null,null,null,null,null,null,null,null,null,null,null,null,null,null,null,null,"Esquemas","Pagos reducidos 15 años",null,4,{"$f":"+IF(W45=1,H50,IF(W45=2,J50,IF(W45=3,L50,N50)))","v":0}]
[null,null,"% máximo de financiamiento",null,null,null,null,{"$f":"$X$13","v":0.8},null,{"$f":"$X$13","v":0.8},null,{"$f":"$X$13","v":0.8},null,{"$f":"$X$13","v":0.8},null,null,null,null,null,null,"Tasa Fija Pago Red 15",null,null,null,"Renovación",1,null,null,null,{"$f":"IF((W13+H30)<((C28+H30)*0.7),\"Se necesita mayor capital invertido\",\"\")","v":""}]
[null,null,null,null,null,null,null,null,null,null,null,null,null,null,null,null,null,null,null,{"$f":"IF(U8=1,E54/E48,E50/(E48+H30))","v":{"$error":"#DIV/0!"}},"Pagos reducidos 20 años",null,null,null,null,null,null,{"$f":"IF(AND(U8=1,H30>=C28*0.5),C28*0.5,IF(AND(U8=1,H30<C28*0.5),H30,(C28+H30)*0.75))","v":0}]
[null,null,"Valor de la vivienda",null,null,null,null,{"$f":"IF($U$3=2,$AD$13*$W$13/$T$37*1000/$X$13,$W$13)","v":0},null,{"$f":"IF($U$3=2,$AD$13*$W$13/$U$37*1000/$X$13,$W$13)","v":0},null,{"$f":"IF($U$3=2,$AD$13*$W$13/$W$37*1000/$X$13,$W$13)","v":0},null,{"$f":"IF($U$3=2,$AD$13*$W$13/$X$37*1000/$X$13,$W$13)","v":0},null,null,null,null,null,null,"Pago 9.9",null,null,"Cambio de etiqueta",{"$f":"IF(U3=1,\"Valor del inmueble\",\"Ingresos Brutos Mensuales\")","v":"Valor del inmueble"}]
[null,null,null,null,null,null,null,null,null,null,null,null,null,null,null,null,null,null,null,null,"Tasa 1234"]
[null,null,"Crédito solicitado",null,null,null,null,{"$f":"IFERROR(IF(U8=3,H31,IF($U$3=2,H48*$X$13,$H$31))+IF($U$15=4,H68,0),0)","v":0},null,{"$f":"IFERROR(IF(U8=3,H31,IF($U$3=2,J48*$X$13,$H$31))+IF($U$15=4,J68,0),0)","v":0},null,{"$f":"IFERROR(IF(U8=3,H31,IF($U$3=2,L48*$X$13,$H$31))+IF($U$15=4,L68,0),0)","v":0},null,{"$f":"IFERROR(IF(U8=3,H31,IF($U$3=2,N48*$X$13,$H$31))+IF($U$15=4,N68,0),0)","v":0},null,null,null,null,null,"Adquisición",1,null,null,null,{"$f":"IF(U50=2,\" \",\"Monto a Financiar\")","v":"Monto a Financiar"},null,"Pago por mil",null,null,null,null,null,null,null,null,null,null,null,null,null,null,null,null,null,"1 año / 10.50%\n2 año / 10.30%\n3 año / 10.10%\n4 año / 9.90%\n5 al 7 /  9.75%","1 año / 10.50%\n2 año / 10.30%\n3 año / 10.10%\n4 año / 9.90%\n5 al 10 /  9.75%","1 año / 10.50%\n2 año / 10.30%\n3 año / 10.10%\n4 año / 9.90%\n5 al 15 /  9.75%","1 año / 10.50%\n2 año / 10.30%\n3 año / 10.10%\n4 año / 9.90%\n5 al 20 /  9.75%"]
[null,null,null,null,null,null,null,null,null,null,null,null,null,null,null,null,null,null,null,"Pasivo Hipotecario",null,"Cambio de pasivo o adquisi",null,{"$f":"IF(AND(U50=1,U3=1),\"Enganche\",IF(AND(U50=2,U3=1),\"Saldo actual\",\"\"))","v":"Enganche"},{"$f":"+IF(W45=1,H50,IF(W45=2,J50,IF(W45=3,L50,N50)))","v":0},null,{"$f":"HLOOKUP(W45,T31:X37,7,0)","v":11.86}]
[null,null,{"$f":"IF($U$8=2,\"Línea para la compra\",IF($U$8=3,\"Línea máxima para pasivo\",IF($U$8=4,\"Saldo del crédito actual\",\"Línea para la compra\")))","v":"Línea para la compra"},null,null,null,null,{"$f":"$H$29","v":0},null,{"$f":"$H$29","v":0},null,{"$f":"$H$29","v":0},null,{"$f":"$H$29","v":0},null,null,null,null,null,null,null,null,null,null,{"$f":"IF($W$45=1,H54,IF($W$45=2,J54,IF($W$45=3,L54,IF($W$45=4,N54,))))","v":0}]
[null,null,null,null,null,null,null,null,null,null,null,null,null,null,null,null,null,null,null,null,null,"Pag Red 10.90",null,"Pag Red 10.90"]
[null,null,{"$f":"IF(T25=3,\"Línea para Ecotecnologías\",\"Línea para Renovación\")","v":"Línea para Renovación"},null,null,null,null,{"$f":"$H$30","v":0},null,{"$f":"$H$30","v":0},null,{"$f":"$H$30","v":0},null,{"$f":"$H$30","v":0},null,null,null,null,"Plazo",null,null,15,null,20]
[]
[null,null,"Erogación inicial",null,null,null,null,{"$f":"IF(AND($U$3=1,$U$8=4),H54/1000*$T$37,IF($U$3=1,IF(H52+H54=0,H50,H52+H54)/1000*$T$37,$C$28*$AD$13))","v":0},null,{"$f":"IF(AND($U$3=1,$U$8=4),J54/1000*$U$37,IF($U$3=1,IF(J52+J54=0,J50,J52+J54)/1000*$U$37,$C$28*$AD$13))","v":0},null,{"$f":"IF(AND($U$3=1,$U$8=4),L54/1000*$W$37,IF($U$3=1,IF(L52+L54=0,L50,L52+L54)/1000*$W$37,$C$28*$AD$13))","v":0},null,{"$f":"IF(AND($U$3=1,$U$8=4),N54/1000*$X$37,IF($U$3=1,IF(N52+N54=0,N50,N52+N54)/1000*$X$37,$C$28*$AD$13))","v":0},null,null,null,null,null,null,null,null,null,null,null,null,null,null,null,null,null,null,null,null,null,null,null,null,null,null,null,null,null,null,"1 año / 9.75%\n2 año / 9.55%\n3 año / 9.35%\n4 año / 9.15%\n5 al 7 /  9.00%","1 año / 9.75%\n2 año / 9.55%\n3 año / 9.35%\n4 año / 9.15%\n5 al 10 /  9.00%","1 año / 9.75%\n2 año / 9.55%\n3 año / 9.35%\n4 año / 9.15%\n5 al 15 /  9.00%","1 año / 9.75%\n2 año / 9.55%\n3 año / 9.35%\n4 año / 9.15%\n5 al 20 /  9.00%"]
[]
[null,null,"Seguro de vida",null,null,null,null,{"$f":"IF($U$8=4,H54,IF(H52+H54<=0,H50,H52+H54))*IF($Y$80=1,0,$Y$83)","v":0},null,{"$f":"IF($U$8=4,J54,IF(J52+J54<=0,J50,J52+J54))*IF($Y$80=1,0,$Y$83)","v":0},null,{"$f":"IF($U$8=4,L54,IF(L52+L54<=0,L50,L52+L54))*IF($Y$80=1,0,$Y$83)","v":0},null,{"$f":"IF($U$8=4,N54,IF(N52+N54<=0,N50,N52+N54))*IF($Y$80=1,0,$Y$83)","v":0}]
[]
[null,null,"Seguro de daños",null,null,null,null,{"$f":"IF($C$35>0,$C$35,IF($U$8=4,H54,(H48+H54)))*IF(OR($U$8=4,$Y$80=1),0,$Y$84)","v":0},null,{"$f":"IF($C$35>0,$C$35,IF($U$8=4,J54,(J48+J54)))*IF(OR($U$8=4,$Y$80=1),0,$Y$84)","v":0},null,{"$f":"IF($C$35>0,$C$35,IF($U$8=4,L54,(L48+L54)))*IF(OR($U$8=4,$Y$80=1),0,$Y$84)","v":0},null,{"$f":"IF($C$35>0,$C$35,IF($U$8=4,N54,(N48+N54)))*IF(OR($U$8=4,$Y$80=1),0,$Y$84)","v":0},null,null,null,null,"Pago x mil",null,null,10.55,null,9.76,null,null,null,null,null,null,null,null,{"$f":"IF($W$45=1,$V$60*$E$50/1000,IF($W$45=2,$X$60*#REF!/1000,0))","v":0}]
[]
[null,null,"Total mensualidad inicial",null,null,null,null,{"$f":"H60+H58+H56","v":0},null,{"$f":"J60+J58+J56","v":0},null,{"$f":"L60+L58+L56","v":0},null,{"$f":"N60+N58+N56","v":0},null,null,null,null,"Incremento anual ",null,null,0.03,null,2.1000000000000001E-2,null,null,null,null,null,null,null,null,0]
[null,null,null,null,null,null,null,null,null,null,null,null,null,null,null,null,null,null,"Tasa de int.",null,null,0.109,0.13900000000000001,0.109,0.13900000000000001]
[null,null,"Incremento anual del pago",null,null,null,null,"No aplica",null,"No aplica",null,"No aplica",null,"No aplica"]
[null,null,null,null,null,null,null,null,null,null,null,null,null,null,null,null,null,null,"Monto a financiar adquisición",null,null,{"$f":"IF($U$3=1,$AB$47,IF($U$3=2,E56/V60*1000,0))","v":0},null,{"$f":"IF($U$3=1,$AB$47,IF($U$3=2,#REF!/X60*1000,0))","v":0},null,{"$f":"IF($U$3=1,$AB$47,IF($U$3=2,H56/T37*1000,0))","v":0},{"$f":"IF($U$3=1,$AB$47,IF($U$3=2,J56/U34*1000,0))","v":0},null,{"$f":"IF($U$3=1,$AB$47,IF($U$3=2,L56/W34*1000,0))","v":0},{"$f":"IF($U$3=1,$AB$47,IF($U$3=2,N56/X34*1000,0))","v":0},{"$f":"IF($U$3=1,$AB$47,IF($U$3=2,#REF!/Y34*1000,0))","v":0}]
[null,null,"Ingresos brutos por comprobar",null,null,null,null,{"$f":"IF($U$3=1,H56/$AC$13,$C$28)","v":0},null,{"$f":"IF($U$3=1,J56/$AC$13,$C$28)","v":0},null,{"$f":"IF($U$3=1,L56/$AC$13,$C$28)","v":0},null,{"$f":"IF($U$3=1,N56/$AC$13,$C$28)","v":0},null,null,null,null,"Monto a financiar adquisición",null,null,{"$f":"IF(V65>4000000,4000000,V65)","v":0},null,{"$f":"IF(X65>4000000,4000000,X65)","v":0},null,{"$f":"IF(Z65>4000000,4000000,Z65)","v":0},{"$f":"IF(AA65>4000000,4000000,AA65)","v":0},null,{"$f":"IF(AC65>4000000,4000000,AC65)","v":0},{"$f":"IF(AD65>4000000,4000000,AD65)","v":0},{"$f":"IF(AE65>4000000,4000000,AE65)","v":0}]
[null,null,null,null,null,null,null,null,null,null,null,null,null,null,null,null,null,null,"erogación adquisición",null,null,{"$f":"V66/1000*V60","v":0},null,{"$f":"X66/1000*X60","v":0},null,{"$f":"Z66/1000*T37","v":0},{"$f":"AA66/1000*U34","v":0},null,{"$f":"AC66/1000*W34","v":0},{"$f":"AD66/1000*X34","v":0},{"$f":"AE66/1000*Y34","v":0}]
[null,null,"Comisión por apertura",null,null,null,null,{"$f":"IF(OR(T25=2,T25=3,T25=4),0,IF(U8=3,0,IFERROR(IF($L$22<>\"\",$L$22,IF($U$15=1,$Y$92,IF(OR($U$15=3,$U$15=4),$Y$96,0)))*IF($U$3=2,H48*$X$13,$H$31),0)))","v":0},null,{"$f":"IF(OR(T25=2,T25=3,T25=4),0,IF(U8=3,0,IFERROR(IF($L$22<>\"\",$L$22,IF($U$15=1,$Y$92,IF(OR($U$15=3,$U$15=4),$Y$96,0)))*IF($U$3=2,J48*$X$13,$H$31),0)))","v":0},null,{"$f":"IF(OR(T25=2,T25=3,T25=4),0,IF(U8=3,0,IFERROR(IF($L$22<>\"\",$L$22,IF($U$15=1,$Y$92,IF(OR($U$15=3,$U$15=4),$Y$96,0)))*IF($U$3=2,L48*$X$13,$H$31),0)))","v":0},null,{"$f":"IF(OR(T25=2,T25=3,T25=4),0,IF(U8=3,0,IFERROR(IF($L$22<>\"\",$L$22,IF($U$15=1,$Y$92,IF(OR($U$15=3,$U$15=4),$Y$96,0)))*IF($U$3=2,N48*$X$13,$H$31),0)))","v":0},null,null,null,null,"Monto a financiar pasivo",null,null,{"$f":"IF(AND($U$3=1,$X$50>=0.2),#REF!,IF($U$3=2,$E$56/V60*1000,0))","v":0},null,{"$f":"IF(AND($U$3=1,$X$50>=0.2),#REF!,IF($U$3=2,#REF!/X60*1000,0))","v":0},null,{"$f":"IF(AND($U$3=1,$X$50>=0.25),#REF!,IF($U$3=2,#REF!/T37*1000,0))","v":0},{"$f":"IF(AND($U$3=1,$X$50>=0.25),#REF!,IF($U$3=2,#REF!/U34*1000,0))","v":0},null,{"$f":"IF(AND($U$3=1,$X$50>=0.2),#REF!,IF($U$3=2,#REF!/W34*1000,0))","v":0},{"$f":"IF(AND($U$3=1,$X$50>=0.2),#REF!,IF($U$3=2,#REF!/X34*1000,0))","v":0},{"$f":"IF(AND($U$3=1,$X$50>=0.2),#REF!,IF($U$3=2,#REF!/Y34*1000,0))","v":0}]
[null,null,null,null,null,null,null,null,null,null,null,null,null,null,null,null,null,null,"Monto a financiar pasivo",null,null,{"$f":"IF(V68>4000000,4000000,V68)","v":0},null,{"$f":"IF(X68>4000000,4000000,X68)","v":0},null,{"$f":"IF(Z68>4000000,4000000,Z68)","v":0},{"$f":"IF(AA68>4000000,4000000,AA68)","v":0},null,{"$f":"IF(AC68>4000000,4000000,AC68)","v":0},{"$f":"IF(AD68>4000000,4000000,AD68)","v":0},{"$f":"IF(AE68>4000000,4000000,AE68)","v":0}]
[null,null,{"$f":"\"Avalúo     \"&IF(H48>$T$99,\"'Favor de Cotizar.' - Val. apróx.\",\"\")","v":"Avalúo     "},null,null,null,null,{"$f":"IF(T25=4,0,IFERROR(IF(U8=3,0,IF(AND(U8<>3,H48<=$T$99),VLOOKUP(H48,$S$79:$V$100,3))),$U$100))","v":40000},null,{"$f":"IF(T25=4,0,IFERROR(IF(U8=3,0,IF(AND(U8<>3,H48<=$T$99),VLOOKUP(H48,$S$79:$V$100,3))),$U$100))","v":40000},null,{"$f":"IF(T25=4,0,IFERROR(IF(U8=3,0,IF(AND(U8<>3,H48<=$T$99),VLOOKUP(H48,$S$79:$V$100,3))),$U$100))","v":40000},null,{"$f":"IF(T25=4,0,IFERROR(IF(U8=3,0,IF(AND(U8<>3,H48<=$T$99),VLOOKUP(H48,$S$79:$V$100,3))),$U$100))","v":40000},null,null,null,null,"Desición de monto a financiar",null,null,{"$f":"V65","v":0},null,{"$f":"X65","v":0},null,{"$f":"Z65","v":0},{"$f":"AA65","v":0},null,{"$f":"AC65","v":0},{"$f":"AD65","v":0},{"$f":"AE65","v":0}]
[null,null,null,null,null,null,null,null,null,null,null,null,null,null,null,null,null,null,null,null,null,null,null,null,null,null,null,null,null,null,null,null,null,null,5000000,5000000,6500000]
[null,null,"Dictamen técnico",null,null,null,null,{"$f":"IF(T25=3,0,IFERROR(IF($C$28=\"\",0,IF(U8=3,0,MAX(MIN(IF(H52+H54=0,H50,H52+H54)*$Y$95,$Z$95),$AA$95))),0))","v":0},null,{"$f":"IF(T25=3,0,IFERROR(IF($C$28=\"\",0,IF(U8=3,0,MAX(MIN(IF(J52+J54=0,J50,J52+J54)*$Y$95,$Z$95),$AA$95))),0))","v":0},null,{"$f":"IF(T25=3,0,IFERROR(IF($C$28=\"\",0,IF(U8=3,0,MAX(MIN(IF(L52+L54=0,L50,L52+L54)*$Y$95,$Z$95),$AA$95))),0))","v":0},null,{"$f":"IF(T25=3,0,IFERROR(IF($C$28=\"\",0,IF(U8=3,0,MAX(MIN(IF(N52+N54=0,N50,N52+N54)*$Y$95,$Z$95),$AA$95))),0))","v":0},null,null,null,null,null,null,null,null,null,null,null,null,null,null,null,null,null,null,null,null,1,2,3]
[null,null,null,null,null,null,null,null,null,null,null,null,null,null,null,null,null,null,null,null,null,null,null,null,null,null,null,null,null,null,null,null,null,null,"Aforo p/créd > $5'000,000"]
[null,null,"Comisión por pagos anticipados",null,null,null,null,{"$f":"$V$15","v":"NO APLICA"},null,{"$f":"$V$15","v":"NO APLICA"},null,{"$f":"$V$15","v":"NO APLICA"},null,{"$f":"$V$15","v":"NO APLICA"},null,null,null,null,null,null,null,null,null,null,null,null,null,"Tasas PAR",null,null,null,null,null,null,"< $5mdp","< $6.5mdp","> $6.5 mdp"]
[null,null,null,null,null,null,null,null,null,null,null,null,null,null,null,null,null,null,null,null,null,null,null,null,null,null,1,8.5000000000000006E-2,7.8,2.4E-2,1,null,null,null,0.8,0.7,0.65]
[null,null,null,null,null,null,null,null,null,null,null,null,null,null,null,null,null,null,null,null,null,null,null,null,null,null,2,8.7499999999999994E-2,7.92,2.4E-2,{"$f":"IF($AE$75=1,AC75,IF($AE$75=2,AC76,IF($AE$75=3,AC77,IF($AE$75=4,AC78,IF($AE$75=5,AC79,IF($AE$75=6,AC80,AC81))))))","v":7.8},null,null,null,0.8,0.7,0.65]
[null,null,"Ver tabla de amortización",null,null,null,null,null,null,null,null,null,null,null,null,null,null,null,"AVALUO",null,null,null,null,null,null,null,3,9.2499999999999999E-2,8.15,2.4E-2,{"$f":"IF($AE$75=1,AD75,IF($AE$75=2,AD76,IF($AE$75=3,AD77,IF($AE$75=4,AD78,IF($AE$75=5,AD79,IF($AE$75=6,AD80,AD81))))))","v":2.4E-2},null,null,null,0.8,0.7,0.65]
[null,null,"Observaciones:",null,null,null,null,null,null,null,null,null,null,null,null,null,null,null,"Mayor a","Hasta a","Importe","Switch",null,null,null,null,4,9.5000000000000001E-2,8.25,2.4E-2,{"$f":"IF($AE$75=1,AB75,IF($AE$75=2,AB76,IF($AE$75=3,AB77,IF($AE$75=4,AB78,IF($AE$75=5,AB79,IF($AE$75=6,AB80,AB81))))))","v":8.5000000000000006E-2},null,null,null,0.7,0.65,0.5]
[null,null,"-No se incluyen los gastos notariales, los cuales se pagaran al momento de la firma del crédito",null,null,null,null,null,null,null,null,null,null,null,null,null,null,null,0.01,500000,1900,1253,null,"Contratación de Seguros",null,null,5,0.1,8.5500000000000007,2.1999999999999999E-2,null,null,null,null,0.7,0.65,0.5]
[null,null,"-  El crédito solicitado dependerá de la capacidad de pago de cada cliente",null,null,null,null,null,null,null,null,null,null,null,null,null,null,null,500001,1000000,3300,1740,null,"SI ",2,null,6,0.10249999999999999,8.75,1.95E-2,null,null,null,null,0.7,0.65,0.5]
[null,null,"-  Scotiabank se reserva el derecho de solicitar información adicional y/o restringir parámetros de enganche, monto, plazo o tasa en función de las características específicas del solicitante ",null,null,null,null,null,null,null,null,null,null,null,null,null,null,null,1000001,1500000,4500,2784,null,"NO",null,null,7,0.105,8.9499999999999993,1.7000000000000001E-2,null,null,null,null,0.7,0.65,0.5]
[null,null,"    y del inmueble objeto de la operación.",null,null,null,null,null,null,null,null,null,null,null,null,null,null,null,1500001,2000000,5750,2784,null,"Seguros",null,null,null,null,null,null,null,null,null,null,{"$f":"IF($C$23>$AK$71,3,IF($C$23>$AJ$71,2,IF($C$23<=$AI$71,1,0)))","v":1}]
[null,null,"-  En caso de que aplique, la comisión por pagos anticipados causa I.V.A.",null,null,null,null,null,null,null,null,null,null,null,null,null,null,null,2000001,2500000,7000,4663,null,"Vida",5.9999999999999995E-4,5.5599999999999996E-4]
[null,null,"- Esta cotización tiene carácter informativo, Scotiabank se reserva el derecho de cambiar cualquier condición sin previo aviso.",null,null,null,null,null,null,null,null,null,null,null,null,null,null,null,2500001,3000000,8200,4663,null,"Daños",3.1E-4,3.0160000000000001E-4,null,"Valor del inmueble",{"$f":"IF($W$45=1,H48,IF($W$45=2,J48,IF($W$45=3,L48,IF($W$45=4,N48))))","v":0},null,"CALCULO PARA EL IMPORTE MAXIMO DE APORTACION PATRONAL"]
[null,null,"- Este documento NO implica que el crédito ha sido autorizado, ni establece obligación alguna para Scotiabank.",null,null,null,null,null,null,null,null,null,null,null,null,null,null,null,3000001,4000000,11000,5000,null,null,null,null,null,"Pago por mil",{"$f":"HLOOKUP(W45,T31:X37,7,0)","v":11.86},null,{"$f":"'Simulador Valora'!AE77","v":"Salario diario nominal (UMA enero 2024)"},null,{"$f":"'Simulador Valora'!AG77","v":108.57}]
[null,null,"- Para los esquemas de \"Pagos Oportunos\" y \"Valora\" se deberá cumplir con las reglas establecidas en los programas para la disminución de la tasa de interés",null,null,null,null,null,null,null,null,null,null,{"$f":"'Simulador Valora'!N86","v":"v2025.04"},null,null,null,null,4000001,5000000,13900,5000,null,null,null,null,null,"Plazo",{"$f":"HLOOKUP(W45,T31:X34,2,0)","v":"20 AÑOS"},null,"Tope de aportación patronal",null,25]
[null,null,null,null,null,null,null,null,null,null,null,null,null,null,null,null,null,null,5000001,6000000,15500,5000,null,null,null,null,null,"Tasa",{"$f":"HLOOKUP(W45,T31:X36,6,0)","v":0.13},null,"Aportación patronal",null,{"$f":"+AG85*AG86","v":2714.25}]
[null,null,null,null,null,null,null,null,null,null,null,null,null,null,null,null,null,null,6000001,7000000,19000,5000,null,null,null,null,null,"Monto Crédito",{"$f":"IF($W$45=1,IF(H54>0,H54,H50),IF($W$45=2,IF(J54>0,J54,J50),IF($W$45=3,IF(L54>0,L54,L50),IF($W$45=4,IF(N54>0,N54,N50)))))","v":0},null,"Aportación Patronal 5%",null,{"$f":"+AG87*0.05","v":135.71250000000001}]
[null,null,null,null,null,null,null,null,null,null,null,null,null,null,null,null,null,null,7000001,8000000,20000,5000,null,null,null,null,null,null,null,null,null,0.05]
[null,null,null,null,null,null,null,null,null,null,null,null,null,null,null,null,null,null,8000001,9000000,20100,5000,null,null,null,null,null,null,null,null,"No. de días del bimestre (promedio 60 días)",null,{"$f":"'Simulador Valora'!AG82","v":60.8}]
[null,null,null,null,null,null,null,null,null,null,null,null,null,null,null,null,null,null,9000001,10000000,22500,5000,null,"Comisión por aut difer =",250,null,null,null,null,null,"Aportación Patronal bimestral",null,{"$f":"+AG88*AG90","v":8251.32}]
[null,null,null,null,null,null,null,null,null,null,null,null,null,null,null,null,null,null,10000001,11000000,27000,5000,null,"Comisión por Apertura =",0.01]
[null,null,null,null,null,null,null,null,null,null,null,null,null,null,null,null,null,null,11000001,12000000,28000,5000,null,"Comisión por Prepago =",0.03]
[null,null,null,null,null,null,null,null,null,null,null,null,null,null,null,null,null,null,12000001,13000000,30000,5000,null,"Avalúo",1E-3]
[null,null,null,null,null,null,null,null,null,null,null,null,null,null,null,null,null,null,13000001,14000000,32000,5000,null,"Dictamen técnico",0.01,18000,1500]
[null,null,null,null,null,null,null,null,null,null,null,null,null,null,null,null,null,null,14000001,15000000,34000,5000,null,"Comisión por Apertura Pasivos =",1.4999999999999999E-2,"Máximo","Mínimo"]
[null,null,null,null,null,null,null,null,null,null,null,null,null,null,null,null,null,null,15000001,20000000,37000,5000]
[null,null,null,null,null,null,null,null,null,null,null,null,null,null,null,null,null,null,20000001,25000000,39000,5000]
[null,null,null,null,null,null,null,null,null,null,null,null,null,null,null,null,null,null,25000001,30000000,40000,5000]
[null,null,null,null,null,null,null,null,null,null,null,null,null,null,null,null,null,null,30000001,30000000,40000,5000]

{"sheet":"Tabla Pagos Oportunos","index":6,"n_rows":263,"n_cols":65,"rows_kept":263,"cut":false,"hidden":false,"merged":[[12,11,12,12],[0,0,0,25],[2,0,2,25],[3,0,3,25],[4,1,4,5],[5,22,5,24],[1,0,1,25]]}
["Scotiabank Inverlat, S.A., Institución de Banca Múltiple, Grupo Financiero Scotiabank Inverlat",null,null,null,null,null,null,null,null,null,null,null,null,null,null,null,null,null,null,null,null,null,null,null,null,null,"-",null,null,null,null,null,null,null,null,null,null,null,null,null,null,null,null,null,null,null,null,null,null,null,null,null,null,null,null,null,null,null,null,null,null,null,null,null,"-"]
["SIMULADOR CREDITO HIPOTECARIO"]
["FINANCIAMIENTO PARA RENOVACION SCOTIABANK",null,null,null,null,null,null,null,null,null,null,null,null,null,null,null,null,null,null,null,null,null,null,null,null,null,null,null,null,null,null,null,null,null,null,"Comision por apertura",null,null,{"$f":"IF('Simulador Pagos Oportunos'!$W$45=1,'Simulador Pagos Oportunos'!H68,IF('Simulador Pagos Oportunos'!$W$45=2,'Simulador Pagos Oportunos'!J68,IF('Simulador Pagos Oportunos'!$W$45=3,'Simulador Pagos Oportunos'!L68,IF('Simulador Pagos Oportunos'!$W$45=4,'Simulador Pagos Oportunos'!N68,))))","v":0}]
[{"$f":"\"PAGOS OPORTUNOS \"&'Simulador Pagos Oportunos'!AC86","v":"PAGOS OPORTUNOS 20 AÑOS"},null,null,null,null,null,null,null,null,null,null,null,null,null,null,null,null,null,null,null,null,null,null,null,null,null,null,null,null,null,null,null,null,null,null,"Avalúo",null,null,{"$f":"IF('Simulador Pagos Oportunos'!$W$45=1,'Simulador Pagos Oportunos'!H70,IF('Simulador Pagos Oportunos'!$W$45=2,'Simulador Pagos Oportunos'!J70,IF('Simulador Pagos Oportunos'!$W$45=3,'Simulador Pagos Oportunos'!L70,IF('Simulador Pagos Oportunos'!$W$45=4,'Simulador Pagos Oportunos'!N70,))))","v":40000},null,1]
[null,"Teclear los datos con celdas en blanco",null,null,null,null,null,null,null,null,"Observaciones",null,null,null,null,null,null,null,null,null,null,null,null,null,null,null,null,null,null,null,null,null,null,null,null,"Dictámen Técnico",null,null,{"$f":"IF('Simulador Pagos Oportunos'!$W$45=1,'Simulador Pagos Oportunos'!H72,IF('Simulador Pagos Oportunos'!$W$45=2,'Simulador Pagos Oportunos'!J72,IF('Simulador Pagos Oportunos'!$W$45=3,'Simulador Pagos Oportunos'!L72,IF('Simulador Pagos Oportunos'!$W$45=4,'Simulador Pagos Oportunos'!N72,))))","v":0},null,"Disminución de plazo"]
[null,null,null,null,null,null,null,null,null,null,"- La comisión por prepagos causa IVA y en la corrida ya lo incluye",null,null,null,null,null,null,null,null,null,null,null,{"$f":"'Simulador Pagos Oportunos'!C7","v":"2025-04-10"},null,null,null,null,null,null,null,null,null,null,null,null,null,null,null,null,null,"Disminución de pago"]
[null,"Período",null,{"$f":"IF('Simulador Pagos Oportunos'!U8=2,\"Monto para compra\",IF('Simulador Pagos Oportunos'!U8=3,\"Monto para pasivo + Renovación\",\"\"))","v":""},null,"Erogación",null,null,null,null,"- El escenario que se presenta en la tabla de amortización siempre es considerando que se paga de manera puntual.",null,null,null,null,null,null,null,null,null,null,null,null,null,null,null,null,null,null,null,null,null,null,null,null,"Total",null,null,{"$f":"SUM(AM3:AM5)","v":40000}]
[null,{"$f":"IF(B11>0,\"\",1)","v":1},null,{"$f":"IF(D11>0,0,'Simulador Pagos Oportunos'!X45)","v":0},null,{"$f":"(D8/1000)*'Simulador Pagos Oportunos'!AA51","v":0},null,"Linea máxima de crédito",null,null,"- Esta cotización tiene carácter informativo, Scotiabank se reserva el derecho de cambiar cualquier condición sin previo aviso."]
[null,null,null,null,null,null,null,{"$f":"IF('Simulador Pagos Oportunos'!U8=4,'Simulador Pagos Oportunos'!Y52,'Simulador Pagos Oportunos'!X45)","v":0},null,null,"- Este documento NO implica que el crédito ha sido autorizado, ni establece obligación alguna para Scotiabank."]
[null,{"$f":"IF('Simulador Pagos Oportunos'!T25=3,\"\",IF('Simulador Pagos Oportunos'!U8=3,\"\",\"Período\"))","v":"Período"},null,{"$f":"IF('Simulador Pagos Oportunos'!T25=3,\"\",IF('Simulador Pagos Oportunos'!U8=3,\"\",\"Monto para renovación\"))","v":"Monto para renovación"},null,{"$f":"IF('Simulador Pagos Oportunos'!T25=3,\"\",IF('Simulador Pagos Oportunos'!U8=3,\"\",\"Erogación\"))","v":"Erogación"},null,null,null,null,"- Para los esquemas \"Pagos Oportunos\" y \"Valora\" se deberán cumplir con las reglas establecidas en los programas "]
[null,null,null,null,null,{"$f":"IF(B11>12,(((D11+D8)/1000*'Simulador Pagos Oportunos'!AA51*Y32)+(D11+D8)/1000*'Simulador Pagos Oportunos'!AA51),(D11+D8)/1000*'Simulador Pagos Oportunos'!AA51)","v":0},null,null,null,null,"  para la disminución de la tasa de interés.",null,null,null,null,null,null,null,null,null,null,null,null,null,null,null,null,null,null,null,null,"Corrida CAT",{"$f":"((1+AF12)^12)-1","v":0}]
[null,null,null,null,null,{"$f":"IF(B12>12,(((D12+D11+D8)/1000*'Simulador Pagos Oportunos'!AA51*Y32)+(D12+D11+D8)/1000*'Simulador Pagos Oportunos'!AA51),(D12+D11+D8)/1000*'Simulador Pagos Oportunos'!AA51)","v":0},null,null,null,null,null,null,null,null,null,null,null,null,null,null,null,null,null,null,null,null,null,null,null,null,null,{"$f":"IFERROR(IRR(AF19:AF259,0),0)","v":0},{"$f":"AF12*12","v":0}]
[null,null,null,{"$f":"IF(H9-D8-D11-D12<0,0,H9-D8-D11-D12)","v":0},null,{"$f":"IF(B13>12,(((D13+D12+D11+D8)/1000*'Simulador Pagos Oportunos'!AA51*Y33)+(D13+D12+D11+D8)/1000*'Simulador Pagos Oportunos'!AA51),(D13+D12+D11+D8)/1000*'Simulador Pagos Oportunos'!AA51)","v":0},null,null,null,null,"- CAT =.",{"$f":"AV14","v":0},null,"\"Para fines informativos de comparación exclusivamente\" SIN IVA",null,null,null,null,null,null,null,null,null,null,null,null,null,null,null,null,null,null,null,null,null,null,null,null,null,null,null,null,null,null,null,null,null,{"$f":"AV17*12","v":0}]
[null,null,null,null,null,null,null,null,null,null,"- En caso de anticipos a capital escoja la opción:",null,null,null,null,null,null,null,null,null,null,null,null,null,null,null,null,null,null,null,null,null,null,null,null,null,null,null,null,null,null,null,null,null,null,null,null,{"$f":"((1+AV17)^12)-1","v":0}]
[null,{"$f":"IF((D11+D12)>H9,\"Se excede de la línea autorizada\",\"\")","v":""},null,null,null,null,null,null,null,null,null,null,null,null,null,null,null,null,null,null,null,null,null,null,null,null,null,null,null,null,null,null,null,null,null,null,null,null,null,null,null,null,null,null,null,null,null,"Corrida para CAT"]
[null,{"$f":"IFERROR(IF(AND(D11>0,B11=\"\"),\"Indique el periodo\",\"\"),\"\")","v":""},null,null,null,null,null,null,null,null,"El crédito se liquida",null,null,null,{"$f":"AD19","v":0},"Años",null,null,null,null,null,null,null,null,null,null,null,null,null,null,null,null,null,null,null,null,null,null,null,null,null,null,null,null,null,null,null,"TIR"]
[null,null,null,null,null,null,null,null,null,null,"por pago puntual en:",null,null,null,{"$f":"AE19","v":0},"Meses",null,null,null,null,null,null,null,null,null,null,null,null,null,null,null,null,null,null,null,null,null,null,null,null,null,null,null,null,null,null,null,{"$f":"IFERROR(IRR(AV18:AV259,0),0)","v":0}]
[null,null,null,null,null,null,null,null,null,null,null,null,null,null,null,null,null,null,null,null,null,null,null,null,null,null,null,null,null,null,null,null,null,null,null,null,null,null,null,null,null,null,null,null,null,null,null,{"$f":"AM7-IF(OR(D11>0,D12>0),D11+D12,D8)","v":40000}]
["Período","Saldo Inicial",null,"Erogación",null,"Interés",null,"Amortización",null,null,"Prepagos a capital",null,"Comisión por prepagos",null,"Tasa aplicada",null,"Saldo Final",null,"Seguro de vida y desempleo",null,"Seguro de daños",null,"Pago Mensual",null,"Inc. Pago",null,"años","meses",{"$f":"SUM(AC20:AC259)","v":1},{"$f":"SUM(AD20:AD259)","v":0},{"$f":"SUM(AE20:AE259)","v":0},{"$f":"AM7-H9","v":40000},"Tasa Aplic.","7 años","10 años","15 años","20 años","30 años","Factor de pago","Saldo Inicial","Erogación","Interés","Amortización","Saldo Final","Tasa Aplic.","Seguros","Incremento Pago","Pago Mensual","Plazo","Fecha","Dias","Período","Año actual","Mes actual","Día actual","Dia/corte","sumar a mes"]
[1,{"$f":"IFERROR(VLOOKUP(A20,$B$8:$F$12,3,FALSE),0)","v":0},null,{"$f":"IF(D8>0,F8,F11)","v":0},null,{"$f":"IF(B20=0,0,O20/360*AY20*B20)","v":0},null,{"$f":"D20-F20","v":0},null,null,null,null,{"$f":"IF(OR('Simulador Pagos Oportunos'!$U$15=5,'Simulador Pagos Oportunos'!$U$15=1,'Simulador Pagos Oportunos'!$U$15=3,'Simulador Pagos Oportunos'!$U$15=4),0,K20*'Simulador Pagos Oportunos'!$N$74*'Simulador Pagos Oportunos'!$V$21)","v":0},null,{"$f":"IF(B20=0,\"\",IF('Simulador Pagos Oportunos'!$W$45=1,AH20,IF('Simulador Pagos Oportunos'!$W$45=2,AI20,IF('Simulador Pagos Oportunos'!$W$45=3,AJ20,IF('Simulador Pagos Oportunos'!$W$45=4,'Tabla Pagos Oportunos'!AK20,AG20)))))","v":""},null,{"$f":"B20-H20-K20+M20","v":0},null,{"$f":"IF(B20<=0,0,IF('Simulador Pagos Oportunos'!$Y$80=1,0,B20*'Simulador Pagos Oportunos'!$Y$83))","v":0},null,{"$f":"IF(B20<=0,0,IF('Simulador Pagos Oportunos'!$W$45=1,'Simulador Pagos Oportunos'!$H$60,IF('Simulador Pagos Oportunos'!$W$45=2,'Simulador Pagos Oportunos'!$J$60,IF('Simulador Pagos Oportunos'!$W$45=3,'Simulador Pagos Oportunos'!$L$60,IF('Simulador Pagos Oportunos'!$W$45=4,'Simulador Pagos Oportunos'!$N$60)))))","v":0},null,{"$f":"IF(B20<=0,0,(D20+K20+S20+U20))","v":0},null,null,null,0,{"$f":"IF(B20=0,0,1)","v":0},{"$f":"+IF(Q20<=0,IF(Q19>0,+A20,0),0)","v":1},{"$f":"+IF(AC20>0,+AA20,0)","v":0},{"$f":"+IF(AC20>0,+AB20,0)","v":0},{"$f":"W20","v":0},{"$f":"'Simulador Pagos Oportunos'!$AC$87","v":0.13},{"$f":"'Simulador Pagos Oportunos'!T36","v":0.13},{"$f":"'Simulador Pagos Oportunos'!U36","v":0.13},{"$f":"'Simulador Pagos Oportunos'!W36","v":0.13},{"$f":"'Simulador Pagos Oportunos'!X36","v":0.13},0,{"$f":"IFERROR(AO20/AN20,0)","v":0},{"$f":"B20","v":0},{"$f":"D20","v":0},{"$f":"IFERROR((AS20/360*AY20*AN20),0)","v":0},{"$f":"+AO20-AP20","v":0},{"$f":"+AN20-AQ20","v":0},{"$f":"IF(AN20=0,\"\",IF('Simulador Pagos Oportunos'!$W$45=1,AH20,IF('Simulador Pagos Oportunos'!$W$45=2,AI20,IF('Simulador Pagos Oportunos'!$W$45=3,AJ20,IF('Simulador Pagos Oportunos'!$W$45=4,AK20,AG20)))))","v":""},{"$f":"IF(AN20<=0,0,IF('Simulador Pagos Oportunos'!$Y$80=1,0,AN20*'Simulador Pagos Oportunos'!$Y$83))+IF(AN20<=0,0,IF('Simulador Pagos Oportunos'!$W$45=1,'Simulador Pagos Oportunos'!$H$60,IF('Simulador Pagos Oportunos'!$W$45=2,'Simulador Pagos Oportunos'!$J$60,IF('Simulador Pagos Oportunos'!$W$45=3,'Simulador Pagos Oportunos'!$L$60,'Simulador Pagos Oportunos'!$N$60))))","v":0},null,{"$f":"AP20+AQ20+AT20","v":0},{"$f":"IF('Simulador Pagos Oportunos'!$W$45=1,84,IF('Simulador Pagos Oportunos'!$W$45=2,120,IF('Simulador Pagos Oportunos'!$W$45=3,180,240)))","v":240},{"$f":"IF(AN20=0,\"\",DATE(BA20,BB20+BE20,BC20))","v":""},{"$f":"IFERROR(DAY(DATE(YEAR(AX20),MONTH(AX20)+1,0)),0)","v":0},1,{"$f":"IFERROR(YEAR('Simulador Pagos Oportunos'!C7),YEAR('Simulador Pagos Oportunos'!C7))","v":2025},{"$f":"IFERROR(MONTH('Simulador Pagos Oportunos'!C7),MONTH('Simulador Pagos Oportunos'!C7))","v":4},{"$f":"IFERROR(DAY('Simulador Pagos Oportunos'!C7),DAY('Simulador Pagos Oportunos'!C7))","v":10},{"$f":"IF(AND(DAY('Simulador Valora'!C7)>=3,DAY('Simulador Pagos Oportunos'!C7)<=16),3,17)","v":3},{"$f":"IF(BC20>BD20,1,0)","v":1}]
[2,{"$f":"IF(Q20<0,0,IF(A21=$B$11,Q20+$D$11,IF(A21=$B$12,Q20+$D$12,IF(A21=$B$13,Q20+$D$13,Q20))))","v":0},null,{"$f":"IF(B21+F21-D20<=0,B21+F21,IF(A21=$B$11,$F$11,IF(A21=$B$12,$F$12,IF(A21=$B$13,$F$13,IF($AO$4=2,B21*AM21,D20*(1+Y21))))))","v":0},null,{"$f":"IF(B21=0,0,O21/360*AY21*B21)","v":0},null,{"$f":"D21-F21","v":0},null,null,null,null,{"$f":"IF(OR('Simulador Pagos Oportunos'!$U$15=5,'Simulador Pagos Oportunos'!$U$15=1,'Simulador Pagos Oportunos'!$U$15=3,'Simulador Pagos Oportunos'!$U$15=4),0,K21*'Simulador Pagos Oportunos'!$N$74*'Simulador Pagos Oportunos'!$V$21)","v":0},null,{"$f":"IF(B21=0,\"\",IF('Simulador Pagos Oportunos'!$W$45=1,AH21,IF('Simulador Pagos Oportunos'!$W$45=2,AI21,IF('Simulador Pagos Oportunos'!$W$45=3,AJ21,IF('Simulador Pagos Oportunos'!$W$45=4,'Tabla Pagos Oportunos'!AK21,AG21)))))","v":""},null,0,null,{"$f":"IF(B21<=0,0,IF('Simulador Pagos Oportunos'!$Y$80=1,0,B21*'Simulador Pagos Oportunos'!$Y$83))","v":0},null,{"$f":"IF(B21<=0,0,IF('Simulador Pagos Oportunos'!$W$45=1,'Simulador Pagos Oportunos'!$H$60,IF('Simulador Pagos Oportunos'!$W$45=2,'Simulador Pagos Oportunos'!$J$60,IF('Simulador Pagos Oportunos'!$W$45=3,'Simulador Pagos Oportunos'!$L$60,IF('Simulador Pagos Oportunos'!$W$45=4,'Simulador Pagos Oportunos'!$N$60)))))","v":0},null,{"$f":"IF(B21<=0,0,(D21+K21+S21+U21))","v":0},null,null,null,0,2,0,{"$f":"+IF(AC21>0,+AA21,0)","v":0},{"$f":"+IF(AC21>0,+AB21,0)","v":0},{"$f":"W21","v":0},{"$f":"'Simulador Pagos Oportunos'!$AC$87","v":0.13},{"$f":"AH20","v":0.13},{"$f":"AI20","v":0.13},0.13,0.13,0,{"$f":"IFERROR(AO21/AN21,0)","v":0},{"$f":"IF(AR20<0,0,IF(A21=$B$11,AR20+$D$11,IF(A21=$B$12,AR20+$D$12,IF(A21=$B$13,AR20+$D$13,AR20))))","v":0},{"$f":"IF(AN21+AP21-AO20<=0,AN21+AP21,IF(A21=$B$11,$F$11,IF(A21=$B$12,$F$12,IF(A21=$B$13,$F$13,AO20*(1+AU21)))))","v":0},{"$f":"IFERROR((AS21/360*AY21*AN21),0)","v":0},0,0,{"$f":"IF(AN21=0,\"\",IF('Simulador Pagos Oportunos'!$W$45=1,AH21,IF('Simulador Pagos Oportunos'!$W$45=2,AI21,IF('Simulador Pagos Oportunos'!$W$45=3,AJ21,IF('Simulador Pagos Oportunos'!$W$45=4,AK21,AG21)))))","v":""},{"$f":"IF(AN21<=0,0,IF('Simulador Pagos Oportunos'!$Y$80=1,0,AN21*'Simulador Pagos Oportunos'!$Y$83))+IF(AN21<=0,0,IF('Simulador Pagos Oportunos'!$W$45=1,'Simulador Pagos Oportunos'!$H$60,IF('Simulador Pagos Oportunos'!$W$45=2,'Simulador Pagos Oportunos'!$J$60,IF('Simulador Pagos Oportunos'!$W$45=3,'Simulador Pagos Oportunos'!$L$60,'Simulador Pagos Oportunos'!$N$60))))","v":0},null,{"$f":"AP21+AQ21+AT21","v":0},{"$f":"IFERROR(IF(AO21<=0.01,0,AW20-1),0)","v":0},{"$f":"IF(AN21=0,\"\",DATE(YEAR(AX20),MONTH(AX20)+1,1))","v":""},{"$f":"IFERROR(DAY(DATE(YEAR(AX21),MONTH(AX21)+1,0)),0)","v":0},2]
[3,0,null,0,null,0,null,{"$f":"D22-F22","v":0},null,null,null,null,{"$f":"IF(OR('Simulador Pagos Oportunos'!$U$15=5,'Simulador Pagos Oportunos'!$U$15=1,'Simulador Pagos Oportunos'!$U$15=3,'Simulador Pagos Oportunos'!$U$15=4),0,K22*'Simulador Pagos Oportunos'!$N$74*'Simulador Pagos Oportunos'!$V$21)","v":0},null,{"$f":"IF(B22=0,\"\",IF('Simulador Pagos Oportunos'!$W$45=1,AH22,IF('Simulador Pagos Oportunos'!$W$45=2,AI22,IF('Simulador Pagos Oportunos'!$W$45=3,AJ22,IF('Simulador Pagos Oportunos'!$W$45=4,'Tabla Pagos Oportunos'!AK22,AG22)))))","v":""},null,0,null,{"$f":"IF(B22<=0,0,IF('Simulador Pagos Oportunos'!$Y$80=1,0,B22*'Simulador Pagos Oportunos'!$Y$83))","v":0},null,{"$f":"IF(B22<=0,0,IF('Simulador Pagos Oportunos'!$W$45=1,'Simulador Pagos Oportunos'!$H$60,IF('Simulador Pagos Oportunos'!$W$45=2,'Simulador Pagos Oportunos'!$J$60,IF('Simulador Pagos Oportunos'!$W$45=3,'Simulador Pagos Oportunos'!$L$60,IF('Simulador Pagos Oportunos'!$W$45=4,'Simulador Pagos Oportunos'!$N$60)))))","v":0},null,0,null,null,null,0,3,0,0,0,0,{"$f":"'Simulador Pagos Oportunos'!$AC$87","v":0.13},{"$f":"AH21","v":0.13},0.13,0.13,0.13,0,0,{"$f":"IF(AR21<0,0,IF(A22=$B$11,AR21+$D$11,IF(A22=$B$12,AR21+$D$12,IF(A22=$B$13,AR21+$D$13,AR21))))","v":0},{"$f":"IF(AN22+AP22-AO21<=0,AN22+AP22,IF(A22=$B$11,$F$11,IF(A22=$B$12,$F$12,IF(A22=$B$13,$F$13,AO21*(1+AU22)))))","v":0},0,0,0,{"$f":"IF(AN22=0,\"\",IF('Simulador Pagos Oportunos'!$W$45=1,AH22,IF('Simulador Pagos Oportunos'!$W$45=2,AI22,IF('Simulador Pagos Oportunos'!$W$45=3,AJ22,IF('Simulador Pagos Oportunos'!$W$45=4,AK22,AG22)))))","v":""},{"$f":"IF(AN22<=0,0,IF('Simulador Pagos Oportunos'!$Y$80=1,0,AN22*'Simulador Pagos Oportunos'!$Y$83))+IF(AN22<=0,0,IF('Simulador Pagos Oportunos'!$W$45=1,'Simulador Pagos Oportunos'!$H$60,IF('Simulador Pagos Oportunos'!$W$45=2,'Simulador Pagos Oportunos'!$J$60,IF('Simulador Pagos Oportunos'!$W$45=3,'Simulador Pagos Oportunos'!$L$60,'Simulador Pagos Oportunos'!$N$60))))","v":0},null,0,0,{"$f":"IF(AN22=0,\"\",DATE(YEAR(AX21),MONTH(AX21)+1,1))","v":""},0,3,"Días/Mes",{"$f":"365.25/12","v":30.4375}]
[4,0,null,0,null,0,null,0,null,null,null,null,{"$f":"IF(OR('Simulador Pagos Oportunos'!$U$15=5,'Simulador Pagos Oportunos'!$U$15=1,'Simulador Pagos Oportunos'!$U$15=3,'Simulador Pagos Oportunos'!$U$15=4),0,K23*'Simulador Pagos Oportunos'!$N$74*'Simulador Pagos Oportunos'!$V$21)","v":0},null,{"$f":"IF(B23=0,\"\",IF('Simulador Pagos Oportunos'!$W$45=1,AH23,IF('Simulador Pagos Oportunos'!$W$45=2,AI23,IF('Simulador Pagos Oportunos'!$W$45=3,AJ23,IF('Simulador Pagos Oportunos'!$W$45=4,'Tabla Pagos Oportunos'!AK23,AG23)))))","v":""},null,0,null,{"$f":"IF(B23<=0,0,IF('Simulador Pagos Oportunos'!$Y$80=1,0,B23*'Simulador Pagos Oportunos'!$Y$83))","v":0},null,{"$f":"IF(B23<=0,0,IF('Simulador Pagos Oportunos'!$W$45=1,'Simulador Pagos Oportunos'!$H$60,IF('Simulador Pagos Oportunos'!$W$45=2,'Simulador Pagos Oportunos'!$J$60,IF('Simulador Pagos Oportunos'!$W$45=3,'Simulador Pagos Oportunos'!$L$60,IF('Simulador Pagos Oportunos'!$W$45=4,'Simulador Pagos Oportunos'!$N$60)))))","v":0},null,0,null,null,null,0,4,0,0,0,0,{"$f":"'Simulador Pagos Oportunos'!$AC$87","v":0.13},0.13,0.13,0.13,0.13,0,0,0,0,0,0,0,{"$f":"IF(AN23=0,\"\",IF('Simulador Pagos Oportunos'!$W$45=1,AH23,IF('Simulador Pagos Oportunos'!$W$45=2,AI23,IF('Simulador Pagos Oportunos'!$W$45=3,AJ23,IF('Simulador Pagos Oportunos'!$W$45=4,AK23,AG23)))))","v":""},{"$f":"IF(AN23<=0,0,IF('Simulador Pagos Oportunos'!$Y$80=1,0,AN23*'Simulador Pagos Oportunos'!$Y$83))+IF(AN23<=0,0,IF('Simulador Pagos Oportunos'!$W$45=1,'Simulador Pagos Oportunos'!$H$60,IF('Simulador Pagos Oportunos'!$W$45=2,'Simulador Pagos Oportunos'!$J$60,IF('Simulador Pagos Oportunos'!$W$45=3,'Simulador Pagos Oportunos'!$L$60,'Simulador Pagos Oportunos'!$N$60))))","v":0},null,0,0,"",0,4,null,"Interés mensual = Sdo inicial x tasa / 360 x # días del mes"]
[5,0,null,0,null,0,null,0,null,null,null,null,{"$f":"IF(OR('Simulador Pagos Oportunos'!$U$15=5,'Simulador Pagos Oportunos'!$U$15=1,'Simulador Pagos Oportunos'!$U$15=3,'Simulador Pagos Oportunos'!$U$15=4),0,K24*'Simulador Pagos Oportunos'!$N$74*'Simulador Pagos Oportunos'!$V$21)","v":0},null,{"$f":"IF(B24=0,\"\",IF('Simulador Pagos Oportunos'!$W$45=1,AH24,IF('Simulador Pagos Oportunos'!$W$45=2,AI24,IF('Simulador Pagos Oportunos'!$W$45=3,AJ24,IF('Simulador Pagos Oportunos'!$W$45=4,'Tabla Pagos Oportunos'!AK24,AG24)))))","v":""},null,0,null,{"$f":"IF(B24<=0,0,IF('Simulador Pagos Oportunos'!$Y$80=1,0,B24*'Simulador Pagos Oportunos'!$Y$83))","v":0},null,{"$f":"IF(B24<=0,0,IF('Simulador Pagos Oportunos'!$W$45=1,'Simulador Pagos Oportunos'!$H$60,IF('Simulador Pagos Oportunos'!$W$45=2,'Simulador Pagos Oportunos'!$J$60,IF('Simulador Pagos Oportunos'!$W$45=3,'Simulador Pagos Oportunos'!$L$60,IF('Simulador Pagos Oportunos'!$W$45=4,'Simulador Pagos Oportunos'!$N$60)))))","v":0},null,0,null,null,null,0,5,0,0,0,0,{"$f":"'Simulador Pagos Oportunos'!$AC$87","v":0.13},0.13,0.13,0.13,0.13,0,0,0,0,0,0,0,{"$f":"IF(AN24=0,\"\",IF('Simulador Pagos Oportunos'!$W$45=1,AH24,IF('Simulador Pagos Oportunos'!$W$45=2,AI24,IF('Simulador Pagos Oportunos'!$W$45=3,AJ24,IF('Simulador Pagos Oportunos'!$W$45=4,AK24,AG24)))))","v":""},{"$f":"IF(AN24<=0,0,IF('Simulador Pagos Oportunos'!$Y$80=1,0,AN24*'Simulador Pagos Oportunos'!$Y$83))+IF(AN24<=0,0,IF('Simulador Pagos Oportunos'!$W$45=1,'Simulador Pagos Oportunos'!$H$60,IF('Simulador Pagos Oportunos'!$W$45=2,'Simulador Pagos Oportunos'!$J$60,IF('Simulador Pagos Oportunos'!$W$45=3,'Simulador Pagos Oportunos'!$L$60,'Simulador Pagos Oportunos'!$N$60))))","v":0},null,0,0,"",0,5]
[6,0,null,0,null,0,null,0,null,null,null,null,{"$f":"IF(OR('Simulador Pagos Oportunos'!$U$15=5,'Simulador Pagos Oportunos'!$U$15=1,'Simulador Pagos Oportunos'!$U$15=3,'Simulador Pagos Oportunos'!$U$15=4),0,K25*'Simulador Pagos Oportunos'!$N$74*'Simulador Pagos Oportunos'!$V$21)","v":0},null,{"$f":"IF(B25=0,\"\",IF('Simulador Pagos Oportunos'!$W$45=1,AH25,IF('Simulador Pagos Oportunos'!$W$45=2,AI25,IF('Simulador Pagos Oportunos'!$W$45=3,AJ25,IF('Simulador Pagos Oportunos'!$W$45=4,'Tabla Pagos Oportunos'!AK25,AG25)))))","v":""},null,0,null,{"$f":"IF(B25<=0,0,IF('Simulador Pagos Oportunos'!$Y$80=1,0,B25*'Simulador Pagos Oportunos'!$Y$83))","v":0},null,{"$f":"IF(B25<=0,0,IF('Simulador Pagos Oportunos'!$W$45=1,'Simulador Pagos Oportunos'!$H$60,IF('Simulador Pagos Oportunos'!$W$45=2,'Simulador Pagos Oportunos'!$J$60,IF('Simulador Pagos Oportunos'!$W$45=3,'Simulador Pagos Oportunos'!$L$60,IF('Simulador Pagos Oportunos'!$W$45=4,'Simulador Pagos Oportunos'!$N$60)))))","v":0},null,0,null,null,null,0,6,0,0,0,0,{"$f":"'Simulador Pagos Oportunos'!$AC$87","v":0.13},0.13,0.13,0.13,0.13,0,0,0,0,0,0,0,{"$f":"IF(AN25=0,\"\",IF('Simulador Pagos Oportunos'!$W$45=1,AH25,IF('Simulador Pagos Oportunos'!$W$45=2,AI25,IF('Simulador Pagos Oportunos'!$W$45=3,AJ25,IF('Simulador Pagos Oportunos'!$W$45=4,AK25,AG25)))))","v":""},{"$f":"IF(AN25<=0,0,IF('Simulador Pagos Oportunos'!$Y$80=1,0,AN25*'Simulador Pagos Oportunos'!$Y$83))+IF(AN25<=0,0,IF('Simulador Pagos Oportunos'!$W$45=1,'Simulador Pagos Oportunos'!$H$60,IF('Simulador Pagos Oportunos'!$W$45=2,'Simulador Pagos Oportunos'!$J$60,IF('Simulador Pagos Oportunos'!$W$45=3,'Simulador Pagos Oportunos'!$L$60,'Simulador Pagos Oportunos'!$N$60))))","v":0},null,0,0,"",0,6]
[7,0,null,0,null,0,null,0,null,null,null,null,{"$f":"IF(OR('Simulador Pagos Oportunos'!$U$15=5,'Simulador Pagos Oportunos'!$U$15=1,'Simulador Pagos Oportunos'!$U$15=3,'Simulador Pagos Oportunos'!$U$15=4),0,K26*'Simulador Pagos Oportunos'!$N$74*'Simulador Pagos Oportunos'!$V$21)","v":0},null,{"$f":"IF(B26=0,\"\",IF('Simulador Pagos Oportunos'!$W$45=1,AH26,IF('Simulador Pagos Oportunos'!$W$45=2,AI26,IF('Simulador Pagos Oportunos'!$W$45=3,AJ26,IF('Simulador Pagos Oportunos'!$W$45=4,'Tabla Pagos Oportunos'!AK26,AG26)))))","v":""},null,0,null,{"$f":"IF(B26<=0,0,IF('Simulador Pagos Oportunos'!$Y$80=1,0,B26*'Simulador Pagos Oportunos'!$Y$83))","v":0},null,{"$f":"IF(B26<=0,0,IF('Simulador Pagos Oportunos'!$W$45=1,'Simulador Pagos Oportunos'!$H$60,IF('Simulador Pagos Oportunos'!$W$45=2,'Simulador Pagos Oportunos'!$J$60,IF('Simulador Pagos Oportunos'!$W$45=3,'Simulador Pagos Oportunos'!$L$60,IF('Simulador Pagos Oportunos'!$W$45=4,'Simulador Pagos Oportunos'!$N$60)))))","v":0},null,0,null,null,null,0,7,0,0,0,0,{"$f":"'Simulador Pagos Oportunos'!$AC$87","v":0.13},0.13,0.13,0.13,0.13,0,0,0,0,0,0,0,{"$f":"IF(AN26=0,\"\",IF('Simulador Pagos Oportunos'!$W$45=1,AH26,IF('Simulador Pagos Oportunos'!$W$45=2,AI26,IF('Simulador Pagos Oportunos'!$W$45=3,AJ26,IF('Simulador Pagos Oportunos'!$W$45=4,AK26,AG26)))))","v":""},{"$f":"IF(AN26<=0,0,IF('Simulador Pagos Oportunos'!$Y$80=1,0,AN26*'Simulador Pagos Oportunos'!$Y$83))+IF(AN26<=0,0,IF('Simulador Pagos Oportunos'!$W$45=1,'Simulador Pagos Oportunos'!$H$60,IF('Simulador Pagos Oportunos'!$W$45=2,'Simulador Pagos Oportunos'!$J$60,IF('Simulador Pagos Oportunos'!$W$45=3,'Simulador Pagos Oportunos'!$L$60,'Simulador Pagos Oportunos'!$N$60))))","v":0},null,0,0,"",0,7]
[8,0,null,0,null,0,null,0,null,null,null,null,{"$f":"IF(OR('Simulador Pagos Oportunos'!$U$15=5,'Simulador Pagos Oportunos'!$U$15=1,'Simulador Pagos Oportunos'!$U$15=3,'Simulador Pagos Oportunos'!$U$15=4),0,K27*'Simulador Pagos Oportunos'!$N$74*'Simulador Pagos Oportunos'!$V$21)","v":0},null,{"$f":"IF(B27=0,\"\",IF('Simulador Pagos Oportunos'!$W$45=1,AH27,IF('Simulador Pagos Oportunos'!$W$45=2,AI27,IF('Simulador Pagos Oportunos'!$W$45=3,AJ27,IF('Simulador Pagos Oportunos'!$W$45=4,'Tabla Pagos Oportunos'!AK27,AG27)))))","v":""},null,0,null,{"$f":"IF(B27<=0,0,IF('Simulador Pagos Oportunos'!$Y$80=1,0,B27*'Simulador Pagos Oportunos'!$Y$83))","v":0},null,{"$f":"IF(B27<=0,0,IF('Simulador Pagos Oportunos'!$W$45=1,'Simulador Pagos Oportunos'!$H$60,IF('Simulador Pagos Oportunos'!$W$45=2,'Simulador Pagos Oportunos'!$J$60,IF('Simulador Pagos Oportunos'!$W$45=3,'Simulador Pagos Oportunos'!$L$60,IF('Simulador Pagos Oportunos'!$W$45=4,'Simulador Pagos Oportunos'!$N$60)))))","v":0},null,0,null,null,null,0,8,0,0,0,0,{"$f":"'Simulador Pagos Oportunos'!$AC$87","v":0.13},0.13,0.13,0.13,0.13,0,0,0,0,0,0,0,{"$f":"IF(AN27=0,\"\",IF('Simulador Pagos Oportunos'!$W$45=1,AH27,IF('Simulador Pagos Oportunos'!$W$45=2,AI27,IF('Simulador Pagos Oportunos'!$W$45=3,AJ27,IF('Simulador Pagos Oportunos'!$W$45=4,AK27,AG27)))))","v":""},{"$f":"IF(AN27<=0,0,IF('Simulador Pagos Oportunos'!$Y$80=1,0,AN27*'Simulador Pagos Oportunos'!$Y$83))+IF(AN27<=0,0,IF('Simulador Pagos Oportunos'!$W$45=1,'Simulador Pagos Oportunos'!$H$60,IF('Simulador Pagos Oportunos'!$W$45=2,'Simulador Pagos Oportunos'!$J$60,IF('Simulador Pagos Oportunos'!$W$45=3,'Simulador Pagos Oportunos'!$L$60,'Simulador Pagos Oportunos'!$N$60))))","v":0},null,0,0,"",0,8]
[9,0,null,0,null,0,null,0,null,null,null,null,{"$f":"IF(OR('Simulador Pagos Oportunos'!$U$15=5,'Simulador Pagos Oportunos'!$U$15=1,'Simulador Pagos Oportunos'!$U$15=3,'Simulador Pagos Oportunos'!$U$15=4),0,K28*'Simulador Pagos Oportunos'!$N$74*'Simulador Pagos Oportunos'!$V$21)","v":0},null,{"$f":"IF(B28=0,\"\",IF('Simulador Pagos Oportunos'!$W$45=1,AH28,IF('Simulador Pagos Oportunos'!$W$45=2,AI28,IF('Simulador Pagos Oportunos'!$W$45=3,AJ28,IF('Simulador Pagos Oportunos'!$W$45=4,'Tabla Pagos Oportunos'!AK28,AG28)))))","v":""},null,0,null,{"$f":"IF(B28<=0,0,IF('Simulador Pagos Oportunos'!$Y$80=1,0,B28*'Simulador Pagos Oportunos'!$Y$83))","v":0},null,{"$f":"IF(B28<=0,0,IF('Simulador Pagos Oportunos'!$W$45=1,'Simulador Pagos Oportunos'!$H$60,IF('Simulador Pagos Oportunos'!$W$45=2,'Simulador Pagos Oportunos'!$J$60,IF('Simulador Pagos Oportunos'!$W$45=3,'Simulador Pagos Oportunos'!$L$60,IF('Simulador Pagos Oportunos'!$W$45=4,'Simulador Pagos Oportunos'!$N$60)))))","v":0},null,0,null,null,null,0,9,0,0,0,0,{"$f":"'Simulador Pagos Oportunos'!$AC$87","v":0.13},0.13,0.13,0.13,0.13,0,0,0,0,0,0,0,{"$f":"IF(AN28=0,\"\",IF('Simulador Pagos Oportunos'!$W$45=1,AH28,IF('Simulador Pagos Oportunos'!$W$45=2,AI28,IF('Simulador Pagos Oportunos'!$W$45=3,AJ28,IF('Simulador Pagos Oportunos'!$W$45=4,AK28,AG28)))))","v":""},{"$f":"IF(AN28<=0,0,IF('Simulador Pagos Oportunos'!$Y$80=1,0,AN28*'Simulador Pagos Oportunos'!$Y$83))+IF(AN28<=0,0,IF('Simulador Pagos Oportunos'!$W$45=1,'Simulador Pagos Oportunos'!$H$60,IF('Simulador Pagos Oportunos'!$W$45=2,'Simulador Pagos Oportunos'!$J$60,IF('Simulador Pagos Oportunos'!$W$45=3,'Simulador Pagos Oportunos'!$L$60,'Simulador Pagos Oportunos'!$N$60))))","v":0},null,0,0,"",0,9]
[10,0,null,0,null,0,null,0,null,null,null,null,{"$f":"IF(OR('Simulador Pagos Oportunos'!$U$15=5,'Simulador Pagos Oportunos'!$U$15=1,'Simulador Pagos Oportunos'!$U$15=3,'Simulador Pagos Oportunos'!$U$15=4),0,K29*'Simulador Pagos Oportunos'!$N$74*'Simulador Pagos Oportunos'!$V$21)","v":0},null,{"$f":"IF(B29=0,\"\",IF('Simulador Pagos Oportunos'!$W$45=1,AH29,IF('Simulador Pagos Oportunos'!$W$45=2,AI29,IF('Simulador Pagos Oportunos'!$W$45=3,AJ29,IF('Simulador Pagos Oportunos'!$W$45=4,'Tabla Pagos Oportunos'!AK29,AG29)))))","v":""},null,0,null,{"$f":"IF(B29<=0,0,IF('Simulador Pagos Oportunos'!$Y$80=1,0,B29*'Simulador Pagos Oportunos'!$Y$83))","v":0},null,{"$f":"IF(B29<=0,0,IF('Simulador Pagos Oportunos'!$W$45=1,'Simulador Pagos Oportunos'!$H$60,IF('Simulador Pagos Oportunos'!$W$45=2,'Simulador Pagos Oportunos'!$J$60,IF('Simulador Pagos Oportunos'!$W$45=3,'Simulador Pagos Oportunos'!$L$60,IF('Simulador Pagos Oportunos'!$W$45=4,'Simulador Pagos Oportunos'!$N$60)))))","v":0},null,0,null,null,null,0,10,0,0,0,0,{"$f":"'Simulador Pagos Oportunos'!$AC$87","v":0.13},0.13,0.13,0.13,0.13,0,0,0,0,0,0,0,{"$f":"IF(AN29=0,\"\",IF('Simulador Pagos Oportunos'!$W$45=1,AH29,IF('Simulador Pagos Oportunos'!$W$45=2,AI29,IF('Simulador Pagos Oportunos'!$W$45=3,AJ29,IF('Simulador Pagos Oportunos'!$W$45=4,AK29,AG29)))))","v":""},{"$f":"IF(AN29<=0,0,IF('Simulador Pagos Oportunos'!$Y$80=1,0,AN29*'Simulador Pagos Oportunos'!$Y$83))+IF(AN29<=0,0,IF('Simulador Pagos Oportunos'!$W$45=1,'Simulador Pagos Oportunos'!$H$60,IF('Simulador Pagos Oportunos'!$W$45=2,'Simulador Pagos Oportunos'!$J$60,IF('Simulador Pagos Oportunos'!$W$45=3,'Simulador Pagos Oportunos'!$L$60,'Simulador Pagos Oportunos'!$N$60))))","v":0},null,0,0,"",0,10]
[11,0,null,0,null,0,null,0,null,null,null,null,{"$f":"IF(OR('Simulador Pagos Oportunos'!$U$15=5,'Simulador Pagos Oportunos'!$U$15=1,'Simulador Pagos Oportunos'!$U$15=3,'Simulador Pagos Oportunos'!$U$15=4),0,K30*'Simulador Pagos Oportunos'!$N$74*'Simulador Pagos Oportunos'!$V$21)","v":0},null,{"$f":"IF(B30=0,\"\",IF('Simulador Pagos Oportunos'!$W$45=1,AH30,IF('Simulador Pagos Oportunos'!$W$45=2,AI30,IF('Simulador Pagos Oportunos'!$W$45=3,AJ30,IF('Simulador Pagos Oportunos'!$W$45=4,'Tabla Pagos Oportunos'!AK30,AG30)))))","v":""},null,0,null,{"$f":"IF(B30<=0,0,IF('Simulador Pagos Oportunos'!$Y$80=1,0,B30*'Simulador Pagos Oportunos'!$Y$83))","v":0},null,{"$f":"IF(B30<=0,0,IF('Simulador Pagos Oportunos'!$W$45=1,'Simulador Pagos Oportunos'!$H$60,IF('Simulador Pagos Oportunos'!$W$45=2,'Simulador Pagos Oportunos'!$J$60,IF('Simulador Pagos Oportunos'!$W$45=3,'Simulador Pagos Oportunos'!$L$60,IF('Simulador Pagos Oportunos'!$W$45=4,'Simulador Pagos Oportunos'!$N$60)))))","v":0},null,0,null,null,null,0,11,0,0,0,0,{"$f":"'Simulador Pagos Oportunos'!$AC$87","v":0.13},0.13,0.13,0.13,0.13,0,0,0,0,0,0,0,{"$f":"IF(AN30=0,\"\",IF('Simulador Pagos Oportunos'!$W$45=1,AH30,IF('Simulador Pagos Oportunos'!$W$45=2,AI30,IF('Simulador Pagos Oportunos'!$W$45=3,AJ30,IF('Simulador Pagos Oportunos'!$W$45=4,AK30,AG30)))))","v":""},{"$f":"IF(AN30<=0,0,IF('Simulador Pagos Oportunos'!$Y$80=1,0,AN30*'Simulador Pagos Oportunos'!$Y$83))+IF(AN30<=0,0,IF('Simulador Pagos Oportunos'!$W$45=1,'Simulador Pagos Oportunos'!$H$60,IF('Simulador Pagos Oportunos'!$W$45=2,'Simulador Pagos Oportunos'!$J$60,IF('Simulador Pagos Oportunos'!$W$45=3,'Simulador Pagos Oportunos'!$L$60,'Simulador Pagos Oportunos'!$N$60))))","v":0},null,0,0,"",0,11]
[12,0,null,0,null,0,null,0,null,null,null,null,{"$f":"IF(OR('Simulador Pagos Oportunos'!$U$15=5,'Simulador Pagos Oportunos'!$U$15=1,'Simulador Pagos Oportunos'!$U$15=3,'Simulador Pagos Oportunos'!$U$15=4),0,K31*'Simulador Pagos Oportunos'!$N$74*'Simulador Pagos Oportunos'!$V$21)","v":0},null,{"$f":"IF(B31=0,\"\",IF('Simulador Pagos Oportunos'!$W$45=1,AH31,IF('Simulador Pagos Oportunos'!$W$45=2,AI31,IF('Simulador Pagos Oportunos'!$W$45=3,AJ31,IF('Simulador Pagos Oportunos'!$W$45=4,'Tabla Pagos Oportunos'!AK31,AG31)))))","v":""},null,0,null,{"$f":"IF(B31<=0,0,IF('Simulador Pagos Oportunos'!$Y$80=1,0,B31*'Simulador Pagos Oportunos'!$Y$83))","v":0},null,{"$f":"IF(B31<=0,0,IF('Simulador Pagos Oportunos'!$W$45=1,'Simulador Pagos Oportunos'!$H$60,IF('Simulador Pagos Oportunos'!$W$45=2,'Simulador Pagos Oportunos'!$J$60,IF('Simulador Pagos Oportunos'!$W$45=3,'Simulador Pagos Oportunos'!$L$60,IF('Simulador Pagos Oportunos'!$W$45=4,'Simulador Pagos Oportunos'!$N$60)))))","v":0},null,0,null,null,null,1,0,0,0,0,0,{"$f":"'Simulador Pagos Oportunos'!$AC$87","v":0.13},0.13,0.13,0.13,0.13,0,0,0,0,0,0,0,{"$f":"IF(AN31=0,\"\",IF('Simulador Pagos Oportunos'!$W$45=1,AH31,IF('Simulador Pagos Oportunos'!$W$45=2,AI31,IF('Simulador Pagos Oportunos'!$W$45=3,AJ31,IF('Simulador Pagos Oportunos'!$W$45=4,AK31,AG31)))))","v":""},{"$f":"IF(AN31<=0,0,IF('Simulador Pagos Oportunos'!$Y$80=1,0,AN31*'Simulador Pagos Oportunos'!$Y$83))+IF(AN31<=0,0,IF('Simulador Pagos Oportunos'!$W$45=1,'Simulador Pagos Oportunos'!$H$60,IF('Simulador Pagos Oportunos'!$W$45=2,'Simulador Pagos Oportunos'!$J$60,IF('Simulador Pagos Oportunos'!$W$45=3,'Simulador Pagos Oportunos'!$L$60,'Simulador Pagos Oportunos'!$N$60))))","v":0},null,0,0,"",0,12]
[13,0,null,0,null,0,null,0,null,null,null,null,{"$f":"IF(OR('Simulador Pagos Oportunos'!$U$15=5,'Simulador Pagos Oportunos'!$U$15=1,'Simulador Pagos Oportunos'!$U$15=3,'Simulador Pagos Oportunos'!$U$15=4),0,K32*'Simulador Pagos Oportunos'!$N$74*'Simulador Pagos Oportunos'!$V$21)","v":0},null,{"$f":"IF(B32=0,\"\",IF('Simulador Pagos Oportunos'!$W$45=1,AH32,IF('Simulador Pagos Oportunos'!$W$45=2,AI32,IF('Simulador Pagos Oportunos'!$W$45=3,AJ32,IF('Simulador Pagos Oportunos'!$W$45=4,'Tabla Pagos Oportunos'!AK32,AG32)))))","v":""},null,0,null,{"$f":"IF(B32<=0,0,IF('Simulador Pagos Oportunos'!$Y$80=1,0,B32*'Simulador Pagos Oportunos'!$Y$83))","v":0},null,{"$f":"IF(B32<=0,0,IF('Simulador Pagos Oportunos'!$W$45=1,'Simulador Pagos Oportunos'!$H$60,IF('Simulador Pagos Oportunos'!$W$45=2,'Simulador Pagos Oportunos'!$J$60,IF('Simulador Pagos Oportunos'!$W$45=3,'Simulador Pagos Oportunos'!$L$60,IF('Simulador Pagos Oportunos'!$W$45=4,'Simulador Pagos Oportunos'!$N$60)))))","v":0},null,0,null,{"$f":"IF(B32<=0,0,'Simulador Pagos Oportunos'!$AG$62)","v":0},null,1,1,0,0,0,0,{"$f":"'Simulador Pagos Oportunos'!$AC$87","v":0.13},{"$f":"AH31-0.2%","v":0.128},{"$f":"AI31-0.2%","v":0.128},{"$f":"AJ31-0.2%","v":0.128},{"$f":"AK31-0.2%","v":0.128},0,0,0,0,0,0,0,{"$f":"IF(AN32=0,\"\",IF('Simulador Pagos Oportunos'!$W$45=1,AH32,IF('Simulador Pagos Oportunos'!$W$45=2,AI32,IF('Simulador Pagos Oportunos'!$W$45=3,AJ32,IF('Simulador Pagos Oportunos'!$W$45=4,AK32,AG32)))))","v":""},{"$f":"IF(AN32<=0,0,IF('Simulador Pagos Oportunos'!$Y$80=1,0,AN32*'Simulador Pagos Oportunos'!$Y$83))+IF(AN32<=0,0,IF('Simulador Pagos Oportunos'!$W$45=1,'Simulador Pagos Oportunos'!$H$60,IF('Simulador Pagos Oportunos'!$W$45=2,'Simulador Pagos Oportunos'!$J$60,IF('Simulador Pagos Oportunos'!$W$45=3,'Simulador Pagos Oportunos'!$L$60,'Simulador Pagos Oportunos'!$N$60))))","v":0},{"$f":"IF(AN32<=0,0,'Simulador Pagos Oportunos'!$AG$62)","v":0},0,0,"",0,13]
[14,0,null,0,null,0,null,0,null,null,null,null,{"$f":"IF(OR('Simulador Pagos Oportunos'!$U$15=5,'Simulador Pagos Oportunos'!$U$15=1,'Simulador Pagos Oportunos'!$U$15=3,'Simulador Pagos Oportunos'!$U$15=4),0,K33*'Simulador Pagos Oportunos'!$N$74*'Simulador Pagos Oportunos'!$V$21)","v":0},null,{"$f":"IF(B33=0,\"\",IF('Simulador Pagos Oportunos'!$W$45=1,AH33,IF('Simulador Pagos Oportunos'!$W$45=2,AI33,IF('Simulador Pagos Oportunos'!$W$45=3,AJ33,IF('Simulador Pagos Oportunos'!$W$45=4,'Tabla Pagos Oportunos'!AK33,AG33)))))","v":""},null,0,null,{"$f":"IF(B33<=0,0,IF('Simulador Pagos Oportunos'!$Y$80=1,0,B33*'Simulador Pagos Oportunos'!$Y$83))","v":0},null,{"$f":"IF(B33<=0,0,IF('Simulador Pagos Oportunos'!$W$45=1,'Simulador Pagos Oportunos'!$H$60,IF('Simulador Pagos Oportunos'!$W$45=2,'Simulador Pagos Oportunos'!$J$60,IF('Simulador Pagos Oportunos'!$W$45=3,'Simulador Pagos Oportunos'!$L$60,IF('Simulador Pagos Oportunos'!$W$45=4,'Simulador Pagos Oportunos'!$N$60)))))","v":0},null,0,null,null,null,1,2,0,0,0,0,{"$f":"'Simulador Pagos Oportunos'!$AC$87","v":0.13},{"$f":"AH32","v":0.128},{"$f":"AI32","v":0.128},0.128,0.128,0,0,0,0,0,0,0,{"$f":"IF(AN33=0,\"\",IF('Simulador Pagos Oportunos'!$W$45=1,AH33,IF('Simulador Pagos Oportunos'!$W$45=2,AI33,IF('Simulador Pagos Oportunos'!$W$45=3,AJ33,IF('Simulador Pagos Oportunos'!$W$45=4,AK33,AG33)))))","v":""},{"$f":"IF(AN33<=0,0,IF('Simulador Pagos Oportunos'!$Y$80=1,0,AN33*'Simulador Pagos Oportunos'!$Y$83))+IF(AN33<=0,0,IF('Simulador Pagos Oportunos'!$W$45=1,'Simulador Pagos Oportunos'!$H$60,IF('Simulador Pagos Oportunos'!$W$45=2,'Simulador Pagos Oportunos'!$J$60,IF('Simulador Pagos Oportunos'!$W$45=3,'Simulador Pagos Oportunos'!$L$60,'Simulador Pagos Oportunos'!$N$60))))","v":0},null,0,0,"",0,14]
[15,0,null,0,null,0,null,0,null,null,null,null,{"$f":"IF(OR('Simulador Pagos Oportunos'!$U$15=5,'Simulador Pagos Oportunos'!$U$15=1,'Simulador Pagos Oportunos'!$U$15=3,'Simulador Pagos Oportunos'!$U$15=4),0,K34*'Simulador Pagos Oportunos'!$N$74*'Simulador Pagos Oportunos'!$V$21)","v":0},null,{"$f":"IF(B34=0,\"\",IF('Simulador Pagos Oportunos'!$W$45=1,AH34,IF('Simulador Pagos Oportunos'!$W$45=2,AI34,IF('Simulador Pagos Oportunos'!$W$45=3,AJ34,IF('Simulador Pagos Oportunos'!$W$45=4,'Tabla Pagos Oportunos'!AK34,AG34)))))","v":""},null,0,null,{"$f":"IF(B34<=0,0,IF('Simulador Pagos Oportunos'!$Y$80=1,0,B34*'Simulador Pagos Oportunos'!$Y$83))","v":0},null,{"$f":"IF(B34<=0,0,IF('Simulador Pagos Oportunos'!$W$45=1,'Simulador Pagos Oportunos'!$H$60,IF('Simulador Pagos Oportunos'!$W$45=2,'Simulador Pagos Oportunos'!$J$60,IF('Simulador Pagos Oportunos'!$W$45=3,'Simulador Pagos Oportunos'!$L$60,IF('Simulador Pagos Oportunos'!$W$45=4,'Simulador Pagos Oportunos'!$N$60)))))","v":0},null,0,null,null,null,1,3,0,0,0,0,{"$f":"'Simulador Pagos Oportunos'!$AC$87","v":0.13},{"$f":"AH33","v":0.128},0.128,0.128,0.128,0,0,0,0,0,0,0,{"$f":"IF(AN34=0,\"\",IF('Simulador Pagos Oportunos'!$W$45=1,AH34,IF('Simulador Pagos Oportunos'!$W$45=2,AI34,IF('Simulador Pagos Oportunos'!$W$45=3,AJ34,IF('Simulador Pagos Oportunos'!$W$45=4,AK34,AG34)))))","v":""},{"$f":"IF(AN34<=0,0,IF('Simulador Pagos Oportunos'!$Y$80=1,0,AN34*'Simulador Pagos Oportunos'!$Y$83))+IF(AN34<=0,0,IF('Simulador Pagos Oportunos'!$W$45=1,'Simulador Pagos Oportunos'!$H$60,IF('Simulador Pagos Oportunos'!$W$45=2,'Simulador Pagos Oportunos'!$J$60,IF('Simulador Pagos Oportunos'!$W$45=3,'Simulador Pagos Oportunos'!$L$60,'Simulador Pagos Oportunos'!$N$60))))","v":0},null,0,0,"",0,15]
[16,0,null,0,null,0,null,0,null,null,null,null,{"$f":"IF(OR('Simulador Pagos Oportunos'!$U$15=5,'Simulador Pagos Oportunos'!$U$15=1,'Simulador Pagos Oportunos'!$U$15=3,'Simulador Pagos Oportunos'!$U$15=4),0,K35*'Simulador Pagos Oportunos'!$N$74*'Simulador Pagos Oportunos'!$V$21)","v":0},null,{"$f":"IF(B35=0,\"\",IF('Simulador Pagos Oportunos'!$W$45=1,AH35,IF('Simulador Pagos Oportunos'!$W$45=2,AI35,IF('Simulador Pagos Oportunos'!$W$45=3,AJ35,IF('Simulador Pagos Oportunos'!$W$45=4,'Tabla Pagos Oportunos'!AK35,AG35)))))","v":""},null,0,null,{"$f":"IF(B35<=0,0,IF('Simulador Pagos Oportunos'!$Y$80=1,0,B35*'Simulador Pagos Oportunos'!$Y$83))","v":0},null,{"$f":"IF(B35<=0,0,IF('Simulador Pagos Oportunos'!$W$45=1,'Simulador Pagos Oportunos'!$H$60,IF('Simulador Pagos Oportunos'!$W$45=2,'Simulador Pagos Oportunos'!$J$60,IF('Simulador Pagos Oportunos'!$W$45=3,'Simulador Pagos Oportunos'!$L$60,IF('Simulador Pagos Oportunos'!$W$45=4,'Simulador Pagos Oportunos'!$N$60)))))","v":0},null,0,null,null,null,1,4,0,0,0,0,{"$f":"'Simulador Pagos Oportunos'!$AC$87","v":0.13},0.128,0.128,0.128,0.128,0,0,0,0,0,0,0,{"$f":"IF(AN35=0,\"\",IF('Simulador Pagos Oportunos'!$W$45=1,AH35,IF('Simulador Pagos Oportunos'!$W$45=2,AI35,IF('Simulador Pagos Oportunos'!$W$45=3,AJ35,IF('Simulador Pagos Oportunos'!$W$45=4,AK35,AG35)))))","v":""},{"$f":"IF(AN35<=0,0,IF('Simulador Pagos Oportunos'!$Y$80=1,0,AN35*'Simulador Pagos Oportunos'!$Y$83))+IF(AN35<=0,0,IF('Simulador Pagos Oportunos'!$W$45=1,'Simulador Pagos Oportunos'!$H$60,IF('Simulador Pagos Oportunos'!$W$45=2,'Simulador Pagos Oportunos'!$J$60,IF('Simulador Pagos Oportunos'!$W$45=3,'Simulador Pagos Oportunos'!$L$60,'Simulador Pagos Oportunos'!$N$60))))","v":0},null,0,0,"",0,16]
[17,0,null,0,null,0,null,0,null,null,null,null,{"$f":"IF(OR('Simulador Pagos Oportunos'!$U$15=5,'Simulador Pagos Oportunos'!$U$15=1,'Simulador Pagos Oportunos'!$U$15=3,'Simulador Pagos Oportunos'!$U$15=4),0,K36*'Simulador Pagos Oportunos'!$N$74*'Simulador Pagos Oportunos'!$V$21)","v":0},null,{"$f":"IF(B36=0,\"\",IF('Simulador Pagos Oportunos'!$W$45=1,AH36,IF('Simulador Pagos Oportunos'!$W$45=2,AI36,IF('Simulador Pagos Oportunos'!$W$45=3,AJ36,IF('Simulador Pagos Oportunos'!$W$45=4,'Tabla Pagos Oportunos'!AK36,AG36)))))","v":""},null,0,null,{"$f":"IF(B36<=0,0,IF('Simulador Pagos Oportunos'!$Y$80=1,0,B36*'Simulador Pagos Oportunos'!$Y$83))","v":0},null,{"$f":"IF(B36<=0,0,IF('Simulador Pagos Oportunos'!$W$45=1,'Simulador Pagos Oportunos'!$H$60,IF('Simulador Pagos Oportunos'!$W$45=2,'Simulador Pagos Oportunos'!$J$60,IF('Simulador Pagos Oportunos'!$W$45=3,'Simulador Pagos Oportunos'!$L$60,IF('Simulador Pagos Oportunos'!$W$45=4,'Simulador Pagos Oportunos'!$N$60)))))","v":0},null,0,null,null,null,1,5,0,0,0,0,{"$f":"'Simulador Pagos Oportunos'!$AC$87","v":0.13},0.128,0.128,0.128,0.128,0,0,0,0,0,0,0,{"$f":"IF(AN36=0,\"\",IF('Simulador Pagos Oportunos'!$W$45=1,AH36,IF('Simulador Pagos Oportunos'!$W$45=2,AI36,IF('Simulador Pagos Oportunos'!$W$45=3,AJ36,IF('Simulador Pagos Oportunos'!$W$45=4,AK36,AG36)))))","v":""},{"$f":"IF(AN36<=0,0,IF('Simulador Pagos Oportunos'!$Y$80=1,0,AN36*'Simulador Pagos Oportunos'!$Y$83))+IF(AN36<=0,0,IF('Simulador Pagos Oportunos'!$W$45=1,'Simulador Pagos Oportunos'!$H$60,IF('Simulador Pagos Oportunos'!$W$45=2,'Simulador Pagos Oportunos'!$J$60,IF('Simulador Pagos Oportunos'!$W$45=3,'Simulador Pagos Oportunos'!$L$60,'Simulador Pagos Oportunos'!$N$60))))","v":0},null,0,0,"",0,17]
[18,0,null,0,null,0,null,0,null,null,null,null,{"$f":"IF(OR('Simulador Pagos Oportunos'!$U$15=5,'Simulador Pagos Oportunos'!$U$15=1,'Simulador Pagos Oportunos'!$U$15=3,'Simulador Pagos Oportunos'!$U$15=4),0,K37*'Simulador Pagos Oportunos'!$N$74*'Simulador Pagos Oportunos'!$V$21)","v":0},null,{"$f":"IF(B37=0,\"\",IF('Simulador Pagos Oportunos'!$W$45=1,AH37,IF('Simulador Pagos Oportunos'!$W$45=2,AI37,IF('Simulador Pagos Oportunos'!$W$45=3,AJ37,IF('Simulador Pagos Oportunos'!$W$45=4,'Tabla Pagos Oportunos'!AK37,AG37)))))","v":""},null,0,null,{"$f":"IF(B37<=0,0,IF('Simulador Pagos Oportunos'!$Y$80=1,0,B37*'Simulador Pagos Oportunos'!$Y$83))","v":0},null,{"$f":"IF(B37<=0,0,IF('Simulador Pagos Oportunos'!$W$45=1,'Simulador Pagos Oportunos'!$H$60,IF('Simulador Pagos Oportunos'!$W$45=2,'Simulador Pagos Oportunos'!$J$60,IF('Simulador Pagos Oportunos'!$W$45=3,'Simulador Pagos Oportunos'!$L$60,IF('Simulador Pagos Oportunos'!$W$45=4,'Simulador Pagos Oportunos'!$N$60)))))","v":0},null,0,null,null,null,1,6,0,0,0,0,{"$f":"'Simulador Pagos Oportunos'!$AC$87","v":0.13},0.128,0.128,0.128,0.128,0,0,0,0,0,0,0,{"$f":"IF(AN37=0,\"\",IF('Simulador Pagos Oportunos'!$W$45=1,AH37,IF('Simulador Pagos Oportunos'!$W$45=2,AI37,IF('Simulador Pagos Oportunos'!$W$45=3,AJ37,IF('Simulador Pagos Oportunos'!$W$45=4,AK37,AG37)))))","v":""},{"$f":"IF(AN37<=0,0,IF('Simulador Pagos Oportunos'!$Y$80=1,0,AN37*'Simulador Pagos Oportunos'!$Y$83))+IF(AN37<=0,0,IF('Simulador Pagos Oportunos'!$W$45=1,'Simulador Pagos Oportunos'!$H$60,IF('Simulador Pagos Oportunos'!$W$45=2,'Simulador Pagos Oportunos'!$J$60,IF('Simulador Pagos Oportunos'!$W$45=3,'Simulador Pagos Oportunos'!$L$60,'Simulador Pagos Oportunos'!$N$60))))","v":0},null,0,0,"",0,18]
[19,0,null,0,null,0,null,0,null,null,null,null,{"$f":"IF(OR('Simulador Pagos Oportunos'!$U$15=5,'Simulador Pagos Oportunos'!$U$15=1,'Simulador Pagos Oportunos'!$U$15=3,'Simulador Pagos Oportunos'!$U$15=4),0,K38*'Simulador Pagos Oportunos'!$N$74*'Simulador Pagos Oportunos'!$V$21)","v":0},null,{"$f":"IF(B38=0,\"\",IF('Simulador Pagos Oportunos'!$W$45=1,AH38,IF('Simulador Pagos Oportunos'!$W$45=2,AI38,IF('Simulador Pagos Oportunos'!$W$45=3,AJ38,IF('Simulador Pagos Oportunos'!$W$45=4,'Tabla Pagos Oportunos'!AK38,AG38)))))","v":""},null,0,null,{"$f":"IF(B38<=0,0,IF('Simulador Pagos Oportunos'!$Y$80=1,0,B38*'Simulador Pagos Oportunos'!$Y$83))","v":0},null,{"$f":"IF(B38<=0,0,IF('Simulador Pagos Oportunos'!$W$45=1,'Simulador Pagos Oportunos'!$H$60,IF('Simulador Pagos Oportunos'!$W$45=2,'Simulador Pagos Oportunos'!$J$60,IF('Simulador Pagos Oportunos'!$W$45=3,'Simulador Pagos Oportunos'!$L$60,IF('Simulador Pagos Oportunos'!$W$45=4,'Simulador Pagos Oportunos'!$N$60)))))","v":0},null,0,null,null,null,1,7,0,0,0,0,{"$f":"'Simulador Pagos Oportunos'!$AC$87","v":0.13},0.128,0.128,0.128,0.128,0,0,0,0,0,0,0,{"$f":"IF(AN38=0,\"\",IF('Simulador Pagos Oportunos'!$W$45=1,AH38,IF('Simulador Pagos Oportunos'!$W$45=2,AI38,IF('Simulador Pagos Oportunos'!$W$45=3,AJ38,IF('Simulador Pagos Oportunos'!$W$45=4,AK38,AG38)))))","v":""},{"$f":"IF(AN38<=0,0,IF('Simulador Pagos Oportunos'!$Y$80=1,0,AN38*'Simulador Pagos Oportunos'!$Y$83))+IF(AN38<=0,0,IF('Simulador Pagos Oportunos'!$W$45=1,'Simulador Pagos Oportunos'!$H$60,IF('Simulador Pagos Oportunos'!$W$45=2,'Simulador Pagos Oportunos'!$J$60,IF('Simulador Pagos Oportunos'!$W$45=3,'Simulador Pagos Oportunos'!$L$60,'Simulador Pagos Oportunos'!$N$60))))","v":0},null,0,0,"",0,19]
[20,0,null,0,null,0,null,0,null,null,null,null,{"$f":"IF(OR('Simulador Pagos Oportunos'!$U$15=5,'Simulador Pagos Oportunos'!$U$15=1,'Simulador Pagos Oportunos'!$U$15=3,'Simulador Pagos Oportunos'!$U$15=4),0,K39*'Simulador Pagos Oportunos'!$N$74*'Simulador Pagos Oportunos'!$V$21)","v":0},null,{"$f":"IF(B39=0,\"\",IF('Simulador Pagos Oportunos'!$W$45=1,AH39,IF('Simulador Pagos Oportunos'!$W$45=2,AI39,IF('Simulador Pagos Oportunos'!$W$45=3,AJ39,IF('Simulador Pagos Oportunos'!$W$45=4,'Tabla Pagos Oportunos'!AK39,AG39)))))","v":""},null,0,null,{"$f":"IF(B39<=0,0,IF('Simulador Pagos Oportunos'!$Y$80=1,0,B39*'Simulador Pagos Oportunos'!$Y$83))","v":0},null,{"$f":"IF(B39<=0,0,IF('Simulador Pagos Oportunos'!$W$45=1,'Simulador Pagos Oportunos'!$H$60,IF('Simulador Pagos Oportunos'!$W$45=2,'Simulador Pagos Oportunos'!$J$60,IF('Simulador Pagos Oportunos'!$W$45=3,'Simulador Pagos Oportunos'!$L$60,IF('Simulador Pagos Oportunos'!$W$45=4,'Simulador Pagos Oportunos'!$N$60)))))","v":0},null,0,null,null,null,1,8,0,0,0,0,{"$f":"'Simulador Pagos Oportunos'!$AC$87","v":0.13},0.128,0.128,0.128,0.128,0,0,0,0,0,0,0,{"$f":"IF(AN39=0,\"\",IF('Simulador Pagos Oportunos'!$W$45=1,AH39,IF('Simulador Pagos Oportunos'!$W$45=2,AI39,IF('Simulador Pagos Oportunos'!$W$45=3,AJ39,IF('Simulador Pagos Oportunos'!$W$45=4,AK39,AG39)))))","v":""},{"$f":"IF(AN39<=0,0,IF('Simulador Pagos Oportunos'!$Y$80=1,0,AN39*'Simulador Pagos Oportunos'!$Y$83))+IF(AN39<=0,0,IF('Simulador Pagos Oportunos'!$W$45=1,'Simulador Pagos Oportunos'!$H$60,IF('Simulador Pagos Oportunos'!$W$45=2,'Simulador Pagos Oportunos'!$J$60,IF('Simulador Pagos Oportunos'!$W$45=3,'Simulador Pagos Oportunos'!$L$60,'Simulador Pagos Oportunos'!$N$60))))","v":0},null,0,0,"",0,20]
[21,0,null,0,null,0,null,0,null,null,null,null,{"$f":"IF(OR('Simulador Pagos Oportunos'!$U$15=5,'Simulador Pagos Oportunos'!$U$15=1,'Simulador Pagos Oportunos'!$U$15=3,'Simulador Pagos Oportunos'!$U$15=4),0,K40*'Simulador Pagos Oportunos'!$N$74*'Simulador Pagos Oportunos'!$V$21)","v":0},null,{"$f":"IF(B40=0,\"\",IF('Simulador Pagos Oportunos'!$W$45=1,AH40,IF('Simulador Pagos Oportunos'!$W$45=2,AI40,IF('Simulador Pagos Oportunos'!$W$45=3,AJ40,IF('Simulador Pagos Oportunos'!$W$45=4,'Tabla Pagos Oportunos'!AK40,AG40)))))","v":""},null,0,null,{"$f":"IF(B40<=0,0,IF('Simulador Pagos Oportunos'!$Y$80=1,0,B40*'Simulador Pagos Oportunos'!$Y$83))","v":0},null,{"$f":"IF(B40<=0,0,IF('Simulador Pagos Oportunos'!$W$45=1,'Simulador Pagos Oportunos'!$H$60,IF('Simulador Pagos Oportunos'!$W$45=2,'Simulador Pagos Oportunos'!$J$60,IF('Simulador Pagos Oportunos'!$W$45=3,'Simulador Pagos Oportunos'!$L$60,IF('Simulador Pagos Oportunos'!$W$45=4,'Simulador Pagos Oportunos'!$N$60)))))","v":0},null,0,null,null,null,1,9,0,0,0,0,{"$f":"'Simulador Pagos Oportunos'!$AC$87","v":0.13},0.128,0.128,0.128,0.128,0,0,0,0,0,0,0,{"$f":"IF(AN40=0,\"\",IF('Simulador Pagos Oportunos'!$W$45=1,AH40,IF('Simulador Pagos Oportunos'!$W$45=2,AI40,IF('Simulador Pagos Oportunos'!$W$45=3,AJ40,IF('Simulador Pagos Oportunos'!$W$45=4,AK40,AG40)))))","v":""},{"$f":"IF(AN40<=0,0,IF('Simulador Pagos Oportunos'!$Y$80=1,0,AN40*'Simulador Pagos Oportunos'!$Y$83))+IF(AN40<=0,0,IF('Simulador Pagos Oportunos'!$W$45=1,'Simulador Pagos Oportunos'!$H$60,IF('Simulador Pagos Oportunos'!$W$45=2,'Simulador Pagos Oportunos'!$J$60,IF('Simulador Pagos Oportunos'!$W$45=3,'Simulador Pagos Oportunos'!$L$60,'Simulador Pagos Oportunos'!$N$60))))","v":0},null,0,0,"",0,21]
[22,0,null,0,null,0,null,0,null,null,null,null,{"$f":"IF(OR('Simulador Pagos Oportunos'!$U$15=5,'Simulador Pagos Oportunos'!$U$15=1,'Simulador Pagos Oportunos'!$U$15=3,'Simulador Pagos Oportunos'!$U$15=4),0,K41*'Simulador Pagos Oportunos'!$N$74*'Simulador Pagos Oportunos'!$V$21)","v":0},null,{"$f":"IF(B41=0,\"\",IF('Simulador Pagos Oportunos'!$W$45=1,AH41,IF('Simulador Pagos Oportunos'!$W$45=2,AI41,IF('Simulador Pagos Oportunos'!$W$45=3,AJ41,IF('Simulador Pagos Oportunos'!$W$45=4,'Tabla Pagos Oportunos'!AK41,AG41)))))","v":""},null,0,null,{"$f":"IF(B41<=0,0,IF('Simulador Pagos Oportunos'!$Y$80=1,0,B41*'Simulador Pagos Oportunos'!$Y$83))","v":0},null,{"$f":"IF(B41<=0,0,IF('Simulador Pagos Oportunos'!$W$45=1,'Simulador Pagos Oportunos'!$H$60,IF('Simulador Pagos Oportunos'!$W$45=2,'Simulador Pagos Oportunos'!$J$60,IF('Simulador Pagos Oportunos'!$W$45=3,'Simulador Pagos Oportunos'!$L$60,IF('Simulador Pagos Oportunos'!$W$45=4,'Simulador Pagos Oportunos'!$N$60)))))","v":0},null,0,null,null,null,1,10,0,0,0,0,{"$f":"'Simulador Pagos Oportunos'!$AC$87","v":0.13},0.128,0.128,0.128,0.128,0,0,0,0,0,0,0,{"$f":"IF(AN41=0,\"\",IF('Simulador Pagos Oportunos'!$W$45=1,AH41,IF('Simulador Pagos Oportunos'!$W$45=2,AI41,IF('Simulador Pagos Oportunos'!$W$45=3,AJ41,IF('Simulador Pagos Oportunos'!$W$45=4,AK41,AG41)))))","v":""},{"$f":"IF(AN41<=0,0,IF('Simulador Pagos Oportunos'!$Y$80=1,0,AN41*'Simulador Pagos Oportunos'!$Y$83))+IF(AN41<=0,0,IF('Simulador Pagos Oportunos'!$W$45=1,'Simulador Pagos Oportunos'!$H$60,IF('Simulador Pagos Oportunos'!$W$45=2,'Simulador Pagos Oportunos'!$J$60,IF('Simulador Pagos Oportunos'!$W$45=3,'Simulador Pagos Oportunos'!$L$60,'Simulador Pagos Oportunos'!$N$60))))","v":0},null,0,0,"",0,22]
[23,0,null,0,null,0,null,0,null,null,null,null,{"$f":"IF(OR('Simulador Pagos Oportunos'!$U$15=5,'Simulador Pagos Oportunos'!$U$15=1,'Simulador Pagos Oportunos'!$U$15=3,'Simulador Pagos Oportunos'!$U$15=4),0,K42*'Simulador Pagos Oportunos'!$N$74*'Simulador Pagos Oportunos'!$V$21)","v":0},null,{"$f":"IF(B42=0,\"\",IF('Simulador Pagos Oportunos'!$W$45=1,AH42,IF('Simulador Pagos Oportunos'!$W$45=2,AI42,IF('Simulador Pagos Oportunos'!$W$45=3,AJ42,IF('Simulador Pagos Oportunos'!$W$45=4,'Tabla Pagos Oportunos'!AK42,AG42)))))","v":""},null,0,null,{"$f":"IF(B42<=0,0,IF('Simulador Pagos Oportunos'!$Y$80=1,0,B42*'Simulador Pagos Oportunos'!$Y$83))","v":0},null,{"$f":"IF(B42<=0,0,IF('Simulador Pagos Oportunos'!$W$45=1,'Simulador Pagos Oportunos'!$H$60,IF('Simulador Pagos Oportunos'!$W$45=2,'Simulador Pagos Oportunos'!$J$60,IF('Simulador Pagos Oportunos'!$W$45=3,'Simulador Pagos Oportunos'!$L$60,IF('Simulador Pagos Oportunos'!$W$45=4,'Simulador Pagos Oportunos'!$N$60)))))","v":0},null,0,null,null,null,1,11,0,0,0,0,{"$f":"'Simulador Pagos Oportunos'!$AC$87","v":0.13},0.128,0.128,0.128,0.128,0,0,0,0,0,0,0,{"$f":"IF(AN42=0,\"\",IF('Simulador Pagos Oportunos'!$W$45=1,AH42,IF('Simulador Pagos Oportunos'!$W$45=2,AI42,IF('Simulador Pagos Oportunos'!$W$45=3,AJ42,IF('Simulador Pagos Oportunos'!$W$45=4,AK42,AG42)))))","v":""},{"$f":"IF(AN42<=0,0,IF('Simulador Pagos Oportunos'!$Y$80=1,0,AN42*'Simulador Pagos Oportunos'!$Y$83))+IF(AN42<=0,0,IF('Simulador Pagos Oportunos'!$W$45=1,'Simulador Pagos Oportunos'!$H$60,IF('Simulador Pagos Oportunos'!$W$45=2,'Simulador Pagos Oportunos'!$J$60,IF('Simulador Pagos Oportunos'!$W$45=3,'Simulador Pagos Oportunos'!$L$60,'Simulador Pagos Oportunos'!$N$60))))","v":0},null,0,0,"",0,23]
[24,0,null,0,null,0,null,0,null,null,null,null,{"$f":"IF(OR('Simulador Pagos Oportunos'!$U$15=5,'Simulador Pagos Oportunos'!$U$15=1,'Simulador Pagos Oportunos'!$U$15=3,'Simulador Pagos Oportunos'!$U$15=4),0,K43*'Simulador Pagos Oportunos'!$N$74*'Simulador Pagos Oportunos'!$V$21)","v":0},null,{"$f":"IF(B43=0,\"\",IF('Simulador Pagos Oportunos'!$W$45=1,AH43,IF('Simulador Pagos Oportunos'!$W$45=2,AI43,IF('Simulador Pagos Oportunos'!$W$45=3,AJ43,IF('Simulador Pagos Oportunos'!$W$45=4,'Tabla Pagos Oportunos'!AK43,AG43)))))","v":""},null,0,null,{"$f":"IF(B43<=0,0,IF('Simulador Pagos Oportunos'!$Y$80=1,0,B43*'Simulador Pagos Oportunos'!$Y$83))","v":0},null,{"$f":"IF(B43<=0,0,IF('Simulador Pagos Oportunos'!$W$45=1,'Simulador Pagos Oportunos'!$H$60,IF('Simulador Pagos Oportunos'!$W$45=2,'Simulador Pagos Oportunos'!$J$60,IF('Simulador Pagos Oportunos'!$W$45=3,'Simulador Pagos Oportunos'!$L$60,IF('Simulador Pagos Oportunos'!$W$45=4,'Simulador Pagos Oportunos'!$N$60)))))","v":0},null,0,null,null,null,2,0,0,0,0,0,{"$f":"'Simulador Pagos Oportunos'!$AC$87","v":0.13},0.128,0.128,0.128,0.128,0,0,0,0,0,0,0,{"$f":"IF(AN43=0,\"\",IF('Simulador Pagos Oportunos'!$W$45=1,AH43,IF('Simulador Pagos Oportunos'!$W$45=2,AI43,IF('Simulador Pagos Oportunos'!$W$45=3,AJ43,IF('Simulador Pagos Oportunos'!$W$45=4,AK43,AG43)))))","v":""},{"$f":"IF(AN43<=0,0,IF('Simulador Pagos Oportunos'!$Y$80=1,0,AN43*'Simulador Pagos Oportunos'!$Y$83))+IF(AN43<=0,0,IF('Simulador Pagos Oportunos'!$W$45=1,'Simulador Pagos Oportunos'!$H$60,IF('Simulador Pagos Oportunos'!$W$45=2,'Simulador Pagos Oportunos'!$J$60,IF('Simulador Pagos Oportunos'!$W$45=3,'Simulador Pagos Oportunos'!$L$60,'Simulador Pagos Oportunos'!$N$60))))","v":0},null,0,0,"",0,24]
[25,0,null,0,null,0,null,0,null,null,null,null,{"$f":"IF(OR('Simulador Pagos Oportunos'!$U$15=5,'Simulador Pagos Oportunos'!$U$15=1,'Simulador Pagos Oportunos'!$U$15=3,'Simulador Pagos Oportunos'!$U$15=4),0,K44*'Simulador Pagos Oportunos'!$N$74*'Simulador Pagos Oportunos'!$V$21)","v":0},null,{"$f":"IF(B44=0,\"\",IF('Simulador Pagos Oportunos'!$W$45=1,AH44,IF('Simulador Pagos Oportunos'!$W$45=2,AI44,IF('Simulador Pagos Oportunos'!$W$45=3,AJ44,IF('Simulador Pagos Oportunos'!$W$45=4,'Tabla Pagos Oportunos'!AK44,AG44)))))","v":""},null,0,null,{"$f":"IF(B44<=0,0,IF('Simulador Pagos Oportunos'!$Y$80=1,0,B44*'Simulador Pagos Oportunos'!$Y$83))","v":0},null,{"$f":"IF(B44<=0,0,IF('Simulador Pagos Oportunos'!$W$45=1,'Simulador Pagos Oportunos'!$H$60,IF('Simulador Pagos Oportunos'!$W$45=2,'Simulador Pagos Oportunos'!$J$60,IF('Simulador Pagos Oportunos'!$W$45=3,'Simulador Pagos Oportunos'!$L$60,IF('Simulador Pagos Oportunos'!$W$45=4,'Simulador Pagos Oportunos'!$N$60)))))","v":0},null,0,null,{"$f":"IF(B44<=0,0,'Simulador Pagos Oportunos'!$AG$62)","v":0},null,2,1,0,0,0,0,{"$f":"'Simulador Pagos Oportunos'!$AC$87","v":0.13},{"$f":"AH43-0.2%","v":0.126},{"$f":"AI43-0.2%","v":0.126},{"$f":"AJ43-0.2%","v":0.126},{"$f":"AK43-0.2%","v":0.126},0,0,0,0,0,0,0,{"$f":"IF(AN44=0,\"\",IF('Simulador Pagos Oportunos'!$W$45=1,AH44,IF('Simulador Pagos Oportunos'!$W$45=2,AI44,IF('Simulador Pagos Oportunos'!$W$45=3,AJ44,IF('Simulador Pagos Oportunos'!$W$45=4,AK44,AG44)))))","v":""},{"$f":"IF(AN44<=0,0,IF('Simulador Pagos Oportunos'!$Y$80=1,0,AN44*'Simulador Pagos Oportunos'!$Y$83))+IF(AN44<=0,0,IF('Simulador Pagos Oportunos'!$W$45=1,'Simulador Pagos Oportunos'!$H$60,IF('Simulador Pagos Oportunos'!$W$45=2,'Simulador Pagos Oportunos'!$J$60,IF('Simulador Pagos Oportunos'!$W$45=3,'Simulador Pagos Oportunos'!$L$60,'Simulador Pagos Oportunos'!$N$60))))","v":0},{"$f":"IF(AN44<=0,0,$AU$32)","v":0},0,0,"",0,25]
[26,0,null,0,null,0,null,0,null,null,null,null,{"$f":"IF(OR('Simulador Pagos Oportunos'!$U$15=5,'Simulador Pagos Oportunos'!$U$15=1,'Simulador Pagos Oportunos'!$U$15=3,'Simulador Pagos Oportunos'!$U$15=4),0,K45*'Simulador Pagos Oportunos'!$N$74*'Simulador Pagos Oportunos'!$V$21)","v":0},null,{"$f":"IF(B45=0,\"\",IF('Simulador Pagos Oportunos'!$W$45=1,AH45,IF('Simulador Pagos Oportunos'!$W$45=2,AI45,IF('Simulador Pagos Oportunos'!$W$45=3,AJ45,IF('Simulador Pagos Oportunos'!$W$45=4,'Tabla Pagos Oportunos'!AK45,AG45)))))","v":""},null,0,null,{"$f":"IF(B45<=0,0,IF('Simulador Pagos Oportunos'!$Y$80=1,0,B45*'Simulador Pagos Oportunos'!$Y$83))","v":0},null,{"$f":"IF(B45<=0,0,IF('Simulador Pagos Oportunos'!$W$45=1,'Simulador Pagos Oportunos'!$H$60,IF('Simulador Pagos Oportunos'!$W$45=2,'Simulador Pagos Oportunos'!$J$60,IF('Simulador Pagos Oportunos'!$W$45=3,'Simulador Pagos Oportunos'!$L$60,IF('Simulador Pagos Oportunos'!$W$45=4,'Simulador Pagos Oportunos'!$N$60)))))","v":0},null,0,null,null,null,2,2,0,0,0,0,{"$f":"'Simulador Pagos Oportunos'!$AC$87","v":0.13},{"$f":"AH44","v":0.126},{"$f":"AI44","v":0.126},0.126,0.126,0,0,0,0,0,0,0,{"$f":"IF(AN45=0,\"\",IF('Simulador Pagos Oportunos'!$W$45=1,AH45,IF('Simulador Pagos Oportunos'!$W$45=2,AI45,IF('Simulador Pagos Oportunos'!$W$45=3,AJ45,IF('Simulador Pagos Oportunos'!$W$45=4,AK45,AG45)))))","v":""},{"$f":"IF(AN45<=0,0,IF('Simulador Pagos Oportunos'!$Y$80=1,0,AN45*'Simulador Pagos Oportunos'!$Y$83))+IF(AN45<=0,0,IF('Simulador Pagos Oportunos'!$W$45=1,'Simulador Pagos Oportunos'!$H$60,IF('Simulador Pagos Oportunos'!$W$45=2,'Simulador Pagos Oportunos'!$J$60,IF('Simulador Pagos Oportunos'!$W$45=3,'Simulador Pagos Oportunos'!$L$60,'Simulador Pagos Oportunos'!$N$60))))","v":0},null,0,0,"",0,26]
[27,0,null,0,null,0,null,0,null,null,null,null,{"$f":"IF(OR('Simulador Pagos Oportunos'!$U$15=5,'Simulador Pagos Oportunos'!$U$15=1,'Simulador Pagos Oportunos'!$U$15=3,'Simulador Pagos Oportunos'!$U$15=4),0,K46*'Simulador Pagos Oportunos'!$N$74*'Simulador Pagos Oportunos'!$V$21)","v":0},null,{"$f":"IF(B46=0,\"\",IF('Simulador Pagos Oportunos'!$W$45=1,AH46,IF('Simulador Pagos Oportunos'!$W$45=2,AI46,IF('Simulador Pagos Oportunos'!$W$45=3,AJ46,IF('Simulador Pagos Oportunos'!$W$45=4,'Tabla Pagos Oportunos'!AK46,AG46)))))","v":""},null,0,null,{"$f":"IF(B46<=0,0,IF('Simulador Pagos Oportunos'!$Y$80=1,0,B46*'Simulador Pagos Oportunos'!$Y$83))","v":0},null,{"$f":"IF(B46<=0,0,IF('Simulador Pagos Oportunos'!$W$45=1,'Simulador Pagos Oportunos'!$H$60,IF('Simulador Pagos Oportunos'!$W$45=2,'Simulador Pagos Oportunos'!$J$60,IF('Simulador Pagos Oportunos'!$W$45=3,'Simulador Pagos Oportunos'!$L$60,IF('Simulador Pagos Oportunos'!$W$45=4,'Simulador Pagos Oportunos'!$N$60)))))","v":0},null,0,null,null,null,2,3,0,0,0,0,{"$f":"'Simulador Pagos Oportunos'!$AC$87","v":0.13},{"$f":"AH45","v":0.126},0.126,0.126,0.126,0,0,0,0,0,0,0,{"$f":"IF(AN46=0,\"\",IF('Simulador Pagos Oportunos'!$W$45=1,AH46,IF('Simulador Pagos Oportunos'!$W$45=2,AI46,IF('Simulador Pagos Oportunos'!$W$45=3,AJ46,IF('Simulador Pagos Oportunos'!$W$45=4,AK46,AG46)))))","v":""},{"$f":"IF(AN46<=0,0,IF('Simulador Pagos Oportunos'!$Y$80=1,0,AN46*'Simulador Pagos Oportunos'!$Y$83))+IF(AN46<=0,0,IF('Simulador Pagos Oportunos'!$W$45=1,'Simulador Pagos Oportunos'!$H$60,IF('Simulador Pagos Oportunos'!$W$45=2,'Simulador Pagos Oportunos'!$J$60,IF('Simulador Pagos Oportunos'!$W$45=3,'Simulador Pagos Oportunos'!$L$60,'Simulador Pagos Oportunos'!$N$60))))","v":0},null,0,0,"",0,27]
[28,0,null,0,null,0,null,0,null,null,null,null,{"$f":"IF(OR('Simulador Pagos Oportunos'!$U$15=5,'Simulador Pagos Oportunos'!$U$15=1,'Simulador Pagos Oportunos'!$U$15=3,'Simulador Pagos Oportunos'!$U$15=4),0,K47*'Simulador Pagos Oportunos'!$N$74*'Simulador Pagos Oportunos'!$V$21)","v":0},null,{"$f":"IF(B47=0,\"\",IF('Simulador Pagos Oportunos'!$W$45=1,AH47,IF('Simulador Pagos Oportunos'!$W$45=2,AI47,IF('Simulador Pagos Oportunos'!$W$45=3,AJ47,IF('Simulador Pagos Oportunos'!$W$45=4,'Tabla Pagos Oportunos'!AK47,AG47)))))","v":""},null,0,null,{"$f":"IF(B47<=0,0,IF('Simulador Pagos Oportunos'!$Y$80=1,0,B47*'Simulador Pagos Oportunos'!$Y$83))","v":0},null,{"$f":"IF(B47<=0,0,IF('Simulador Pagos Oportunos'!$W$45=1,'Simulador Pagos Oportunos'!$H$60,IF('Simulador Pagos Oportunos'!$W$45=2,'Simulador Pagos Oportunos'!$J$60,IF('Simulador Pagos Oportunos'!$W$45=3,'Simulador Pagos Oportunos'!$L$60,IF('Simulador Pagos Oportunos'!$W$45=4,'Simulador Pagos Oportunos'!$N$60)))))","v":0},null,0,null,null,null,2,4,0,0,0,0,{"$f":"'Simulador Pagos Oportunos'!$AC$87","v":0.13},0.126,0.126,0.126,0.126,0,0,0,0,0,0,0,{"$f":"IF(AN47=0,\"\",IF('Simulador Pagos Oportunos'!$W$45=1,AH47,IF('Simulador Pagos Oportunos'!$W$45=2,AI47,IF('Simulador Pagos Oportunos'!$W$45=3,AJ47,IF('Simulador Pagos Oportunos'!$W$45=4,AK47,AG47)))))","v":""},{"$f":"IF(AN47<=0,0,IF('Simulador Pagos Oportunos'!$Y$80=1,0,AN47*'Simulador Pagos Oportunos'!$Y$83))+IF(AN47<=0,0,IF('Simulador Pagos Oportunos'!$W$45=1,'Simulador Pagos Oportunos'!$H$60,IF('Simulador Pagos Oportunos'!$W$45=2,'Simulador Pagos Oportunos'!$J$60,IF('Simulador Pagos Oportunos'!$W$45=3,'Simulador Pagos Oportunos'!$L$60,'Simulador Pagos Oportunos'!$N$60))))","v":0},null,0,0,"",0,28]
[29,0,null,0,null,0,null,0,null,null,null,null,{"$f":"IF(OR('Simulador Pagos Oportunos'!$U$15=5,'Simulador Pagos Oportunos'!$U$15=1,'Simulador Pagos Oportunos'!$U$15=3,'Simulador Pagos Oportunos'!$U$15=4),0,K48*'Simulador Pagos Oportunos'!$N$74*'Simulador Pagos Oportunos'!$V$21)","v":0},null,{"$f":"IF(B48=0,\"\",IF('Simulador Pagos Oportunos'!$W$45=1,AH48,IF('Simulador Pagos Oportunos'!$W$45=2,AI48,IF('Simulador Pagos Oportunos'!$W$45=3,AJ48,IF('Simulador Pagos Oportunos'!$W$45=4,'Tabla Pagos Oportunos'!AK48,AG48)))))","v":""},null,0,null,{"$f":"IF(B48<=0,0,IF('Simulador Pagos Oportunos'!$Y$80=1,0,B48*'Simulador Pagos Oportunos'!$Y$83))","v":0},null,{"$f":"IF(B48<=0,0,IF('Simulador Pagos Oportunos'!$W$45=1,'Simulador Pagos Oportunos'!$H$60,IF('Simulador Pagos Oportunos'!$W$45=2,'Simulador Pagos Oportunos'!$J$60,IF('Simulador Pagos Oportunos'!$W$45=3,'Simulador Pagos Oportunos'!$L$60,IF('Simulador Pagos Oportunos'!$W$45=4,'Simulador Pagos Oportunos'!$N$60)))))","v":0},null,0,null,null,null,2,5,0,0,0,0,{"$f":"'Simulador Pagos Oportunos'!$AC$87","v":0.13},0.126,0.126,0.126,0.126,0,0,0,0,0,0,0,{"$f":"IF(AN48=0,\"\",IF('Simulador Pagos Oportunos'!$W$45=1,AH48,IF('Simulador Pagos Oportunos'!$W$45=2,AI48,IF('Simulador Pagos Oportunos'!$W$45=3,AJ48,IF('Simulador Pagos Oportunos'!$W$45=4,AK48,AG48)))))","v":""},{"$f":"IF(AN48<=0,0,IF('Simulador Pagos Oportunos'!$Y$80=1,0,AN48*'Simulador Pagos Oportunos'!$Y$83))+IF(AN48<=0,0,IF('Simulador Pagos Oportunos'!$W$45=1,'Simulador Pagos Oportunos'!$H$60,IF('Simulador Pagos Oportunos'!$W$45=2,'Simulador Pagos Oportunos'!$J$60,IF('Simulador Pagos Oportunos'!$W$45=3,'Simulador Pagos Oportunos'!$L$60,'Simulador Pagos Oportunos'!$N$60))))","v":0},null,0,0,"",0,29]
[30,0,null,0,null,0,null,0,null,null,null,null,{"$f":"IF(OR('Simulador Pagos Oportunos'!$U$15=5,'Simulador Pagos Oportunos'!$U$15=1,'Simulador Pagos Oportunos'!$U$15=3,'Simulador Pagos Oportunos'!$U$15=4),0,K49*'Simulador Pagos Oportunos'!$N$74*'Simulador Pagos Oportunos'!$V$21)","v":0},null,{"$f":"IF(B49=0,\"\",IF('Simulador Pagos Oportunos'!$W$45=1,AH49,IF('Simulador Pagos Oportunos'!$W$45=2,AI49,IF('Simulador Pagos Oportunos'!$W$45=3,AJ49,IF('Simulador Pagos Oportunos'!$W$45=4,'Tabla Pagos Oportunos'!AK49,AG49)))))","v":""},null,0,null,{"$f":"IF(B49<=0,0,IF('Simulador Pagos Oportunos'!$Y$80=1,0,B49*'Simulador Pagos Oportunos'!$Y$83))","v":0},null,{"$f":"IF(B49<=0,0,IF('Simulador Pagos Oportunos'!$W$45=1,'Simulador Pagos Oportunos'!$H$60,IF('Simulador Pagos Oportunos'!$W$45=2,'Simulador Pagos Oportunos'!$J$60,IF('Simulador Pagos Oportunos'!$W$45=3,'Simulador Pagos Oportunos'!$L$60,IF('Simulador Pagos Oportunos'!$W$45=4,'Simulador Pagos Oportunos'!$N$60)))))","v":0},null,0,null,null,null,2,6,0,0,0,0,{"$f":"'Simulador Pagos Oportunos'!$AC$87","v":0.13},0.126,0.126,0.126,0.126,0,0,0,0,0,0,0,{"$f":"IF(AN49=0,\"\",IF('Simulador Pagos Oportunos'!$W$45=1,AH49,IF('Simulador Pagos Oportunos'!$W$45=2,AI49,IF('Simulador Pagos Oportunos'!$W$45=3,AJ49,IF('Simulador Pagos Oportunos'!$W$45=4,AK49,AG49)))))","v":""},{"$f":"IF(AN49<=0,0,IF('Simulador Pagos Oportunos'!$Y$80=1,0,AN49*'Simulador Pagos Oportunos'!$Y$83))+IF(AN49<=0,0,IF('Simulador Pagos Oportunos'!$W$45=1,'Simulador Pagos Oportunos'!$H$60,IF('Simulador Pagos Oportunos'!$W$45=2,'Simulador Pagos Oportunos'!$J$60,IF('Simulador Pagos Oportunos'!$W$45=3,'Simulador Pagos Oportunos'!$L$60,'Simulador Pagos Oportunos'!$N$60))))","v":0},null,0,0,"",0,30]
[31,0,null,0,null,0,null,0,null,null,null,null,{"$f":"IF(OR('Simulador Pagos Oportunos'!$U$15=5,'Simulador Pagos Oportunos'!$U$15=1,'Simulador Pagos Oportunos'!$U$15=3,'Simulador Pagos Oportunos'!$U$15=4),0,K50*'Simulador Pagos Oportunos'!$N$74*'Simulador Pagos Oportunos'!$V$21)","v":0},null,{"$f":"IF(B50=0,\"\",IF('Simulador Pagos Oportunos'!$W$45=1,AH50,IF('Simulador Pagos Oportunos'!$W$45=2,AI50,IF('Simulador Pagos Oportunos'!$W$45=3,AJ50,IF('Simulador Pagos Oportunos'!$W$45=4,'Tabla Pagos Oportunos'!AK50,AG50)))))","v":""},null,0,null,{"$f":"IF(B50<=0,0,IF('Simulador Pagos Oportunos'!$Y$80=1,0,B50*'Simulador Pagos Oportunos'!$Y$83))","v":0},null,{"$f":"IF(B50<=0,0,IF('Simulador Pagos Oportunos'!$W$45=1,'Simulador Pagos Oportunos'!$H$60,IF('Simulador Pagos Oportunos'!$W$45=2,'Simulador Pagos Oportunos'!$J$60,IF('Simulador Pagos Oportunos'!$W$45=3,'Simulador Pagos Oportunos'!$L$60,IF('Simulador Pagos Oportunos'!$W$45=4,'Simulador Pagos Oportunos'!$N$60)))))","v":0},null,0,null,null,null,2,7,0,0,0,0,{"$f":"'Simulador Pagos Oportunos'!$AC$87","v":0.13},0.126,0.126,0.126,0.126,0,0,0,0,0,0,0,{"$f":"IF(AN50=0,\"\",IF('Simulador Pagos Oportunos'!$W$45=1,AH50,IF('Simulador Pagos Oportunos'!$W$45=2,AI50,IF('Simulador Pagos Oportunos'!$W$45=3,AJ50,IF('Simulador Pagos Oportunos'!$W$45=4,AK50,AG50)))))","v":""},{"$f":"IF(AN50<=0,0,IF('Simulador Pagos Oportunos'!$Y$80=1,0,AN50*'Simulador Pagos Oportunos'!$Y$83))+IF(AN50<=0,0,IF('Simulador Pagos Oportunos'!$W$45=1,'Simulador Pagos Oportunos'!$H$60,IF('Simulador Pagos Oportunos'!$W$45=2,'Simulador Pagos Oportunos'!$J$60,IF('Simulador Pagos Oportunos'!$W$45=3,'Simulador Pagos Oportunos'!$L$60,'Simulador Pagos Oportunos'!$N$60))))","v":0},null,0,0,"",0,31]
[32,0,null,0,null,0,null,0,null,null,null,null,{"$f":"IF(OR('Simulador Pagos Oportunos'!$U$15=5,'Simulador Pagos Oportunos'!$U$15=1,'Simulador Pagos Oportunos'!$U$15=3,'Simulador Pagos Oportunos'!$U$15=4),0,K51*'Simulador Pagos Oportunos'!$N$74*'Simulador Pagos Oportunos'!$V$21)","v":0},null,{"$f":"IF(B51=0,\"\",IF('Simulador Pagos Oportunos'!$W$45=1,AH51,IF('Simulador Pagos Oportunos'!$W$45=2,AI51,IF('Simulador Pagos Oportunos'!$W$45=3,AJ51,IF('Simulador Pagos Oportunos'!$W$45=4,'Tabla Pagos Oportunos'!AK51,AG51)))))","v":""},null,0,null,{"$f":"IF(B51<=0,0,IF('Simulador Pagos Oportunos'!$Y$80=1,0,B51*'Simulador Pagos Oportunos'!$Y$83))","v":0},null,{"$f":"IF(B51<=0,0,IF('Simulador Pagos Oportunos'!$W$45=1,'Simulador Pagos Oportunos'!$H$60,IF('Simulador Pagos Oportunos'!$W$45=2,'Simulador Pagos Oportunos'!$J$60,IF('Simulador Pagos Oportunos'!$W$45=3,'Simulador Pagos Oportunos'!$L$60,IF('Simulador Pagos Oportunos'!$W$45=4,'Simulador Pagos Oportunos'!$N$60)))))","v":0},null,0,null,null,null,2,8,0,0,0,0,{"$f":"'Simulador Pagos Oportunos'!$AC$87","v":0.13},0.126,0.126,0.126,0.126,0,0,0,0,0,0,0,{"$f":"IF(AN51=0,\"\",IF('Simulador Pagos Oportunos'!$W$45=1,AH51,IF('Simulador Pagos Oportunos'!$W$45=2,AI51,IF('Simulador Pagos Oportunos'!$W$45=3,AJ51,IF('Simulador Pagos Oportunos'!$W$45=4,AK51,AG51)))))","v":""},{"$f":"IF(AN51<=0,0,IF('Simulador Pagos Oportunos'!$Y$80=1,0,AN51*'Simulador Pagos Oportunos'!$Y$83))+IF(AN51<=0,0,IF('Simulador Pagos Oportunos'!$W$45=1,'Simulador Pagos Oportunos'!$H$60,IF('Simulador Pagos Oportunos'!$W$45=2,'Simulador Pagos Oportunos'!$J$60,IF('Simulador Pagos Oportunos'!$W$45=3,'Simulador Pagos Oportunos'!$L$60,'Simulador Pagos Oportunos'!$N$60))))","v":0},null,0,0,"",0,32]
[33,0,null,0,null,0,null,0,null,null,null,null,{"$f":"IF(OR('Simulador Pagos Oportunos'!$U$15=5,'Simulador Pagos Oportunos'!$U$15=1,'Simulador Pagos Oportunos'!$U$15=3,'Simulador Pagos Oportunos'!$U$15=4),0,K52*'Simulador Pagos Oportunos'!$N$74*'Simulador Pagos Oportunos'!$V$21)","v":0},null,{"$f":"IF(B52=0,\"\",IF('Simulador Pagos Oportunos'!$W$45=1,AH52,IF('Simulador Pagos Oportunos'!$W$45=2,AI52,IF('Simulador Pagos Oportunos'!$W$45=3,AJ52,IF('Simulador Pagos Oportunos'!$W$45=4,'Tabla Pagos Oportunos'!AK52,AG52)))))","v":""},null,0,null,{"$f":"IF(B52<=0,0,IF('Simulador Pagos Oportunos'!$Y$80=1,0,B52*'Simulador Pagos Oportunos'!$Y$83))","v":0},null,{"$f":"IF(B52<=0,0,IF('Simulador Pagos Oportunos'!$W$45=1,'Simulador Pagos Oportunos'!$H$60,IF('Simulador Pagos Oportunos'!$W$45=2,'Simulador Pagos Oportunos'!$J$60,IF('Simulador Pagos Oportunos'!$W$45=3,'Simulador Pagos Oportunos'!$L$60,IF('Simulador Pagos Oportunos'!$W$45=4,'Simulador Pagos Oportunos'!$N$60)))))","v":0},null,0,null,null,null,2,9,0,0,0,0,{"$f":"'Simulador Pagos Oportunos'!$AC$87","v":0.13},0.126,0.126,0.126,0.126,0,0,0,0,0,0,0,{"$f":"IF(AN52=0,\"\",IF('Simulador Pagos Oportunos'!$W$45=1,AH52,IF('Simulador Pagos Oportunos'!$W$45=2,AI52,IF('Simulador Pagos Oportunos'!$W$45=3,AJ52,IF('Simulador Pagos Oportunos'!$W$45=4,AK52,AG52)))))","v":""},{"$f":"IF(AN52<=0,0,IF('Simulador Pagos Oportunos'!$Y$80=1,0,AN52*'Simulador Pagos Oportunos'!$Y$83))+IF(AN52<=0,0,IF('Simulador Pagos Oportunos'!$W$45=1,'Simulador Pagos Oportunos'!$H$60,IF('Simulador Pagos Oportunos'!$W$45=2,'Simulador Pagos Oportunos'!$J$60,IF('Simulador Pagos Oportunos'!$W$45=3,'Simulador Pagos Oportunos'!$L$60,'Simulador Pagos Oportunos'!$N$60))))","v":0},null,0,0,"",0,33]
[34,0,null,0,null,0,null,0,null,null,null,null,{"$f":"IF(OR('Simulador Pagos Oportunos'!$U$15=5,'Simulador Pagos Oportunos'!$U$15=1,'Simulador Pagos Oportunos'!$U$15=3,'Simulador Pagos Oportunos'!$U$15=4),0,K53*'Simulador Pagos Oportunos'!$N$74*'Simulador Pagos Oportunos'!$V$21)","v":0},null,{"$f":"IF(B53=0,\"\",IF('Simulador Pagos Oportunos'!$W$45=1,AH53,IF('Simulador Pagos Oportunos'!$W$45=2,AI53,IF('Simulador Pagos Oportunos'!$W$45=3,AJ53,IF('Simulador Pagos Oportunos'!$W$45=4,'Tabla Pagos Oportunos'!AK53,AG53)))))","v":""},null,0,null,{"$f":"IF(B53<=0,0,IF('Simulador Pagos Oportunos'!$Y$80=1,0,B53*'Simulador Pagos Oportunos'!$Y$83))","v":0},null,{"$f":"IF(B53<=0,0,IF('Simulador Pagos Oportunos'!$W$45=1,'Simulador Pagos Oportunos'!$H$60,IF('Simulador Pagos Oportunos'!$W$45=2,'Simulador Pagos Oportunos'!$J$60,IF('Simulador Pagos Oportunos'!$W$45=3,'Simulador Pagos Oportunos'!$L$60,IF('Simulador Pagos Oportunos'!$W$45=4,'Simulador Pagos Oportunos'!$N$60)))))","v":0},null,0,null,null,null,2,10,0,0,0,0,{"$f":"'Simulador Pagos Oportunos'!$AC$87","v":0.13},0.126,0.126,0.126,0.126,0,0,0,0,0,0,0,{"$f":"IF(AN53=0,\"\",IF('Simulador Pagos Oportunos'!$W$45=1,AH53,IF('Simulador Pagos Oportunos'!$W$45=2,AI53,IF('Simulador Pagos Oportunos'!$W$45=3,AJ53,IF('Simulador Pagos Oportunos'!$W$45=4,AK53,AG53)))))","v":""},{"$f":"IF(AN53<=0,0,IF('Simulador Pagos Oportunos'!$Y$80=1,0,AN53*'Simulador Pagos Oportunos'!$Y$83))+IF(AN53<=0,0,IF('Simulador Pagos Oportunos'!$W$45=1,'Simulador Pagos Oportunos'!$H$60,IF('Simulador Pagos Oportunos'!$W$45=2,'Simulador Pagos Oportunos'!$J$60,IF('Simulador Pagos Oportunos'!$W$45=3,'Simulador Pagos Oportunos'!$L$60,'Simulador Pagos Oportunos'!$N$60))))","v":0},null,0,0,"",0,34]
[35,0,null,0,null,0,null,0,null,null,null,null,{"$f":"IF(OR('Simulador Pagos Oportunos'!$U$15=5,'Simulador Pagos Oportunos'!$U$15=1,'Simulador Pagos Oportunos'!$U$15=3,'Simulador Pagos Oportunos'!$U$15=4),0,K54*'Simulador Pagos Oportunos'!$N$74*'Simulador Pagos Oportunos'!$V$21)","v":0},null,{"$f":"IF(B54=0,\"\",IF('Simulador Pagos Oportunos'!$W$45=1,AH54,IF('Simulador Pagos Oportunos'!$W$45=2,AI54,IF('Simulador Pagos Oportunos'!$W$45=3,AJ54,IF('Simulador Pagos Oportunos'!$W$45=4,'Tabla Pagos Oportunos'!AK54,AG54)))))","v":""},null,0,null,{"$f":"IF(B54<=0,0,IF('Simulador Pagos Oportunos'!$Y$80=1,0,B54*'Simulador Pagos Oportunos'!$Y$83))","v":0},null,{"$f":"IF(B54<=0,0,IF('Simulador Pagos Oportunos'!$W$45=1,'Simulador Pagos Oportunos'!$H$60,IF('Simulador Pagos Oportunos'!$W$45=2,'Simulador Pagos Oportunos'!$J$60,IF('Simulador Pagos Oportunos'!$W$45=3,'Simulador Pagos Oportunos'!$L$60,IF('Simulador Pagos Oportunos'!$W$45=4,'Simulador Pagos Oportunos'!$N$60)))))","v":0},null,0,null,null,null,2,11,0,0,0,0,{"$f":"'Simulador Pagos Oportunos'!$AC$87","v":0.13},0.126,0.126,0.126,0.126,0,0,0,0,0,0,0,{"$f":"IF(AN54=0,\"\",IF('Simulador Pagos Oportunos'!$W$45=1,AH54,IF('Simulador Pagos Oportunos'!$W$45=2,AI54,IF('Simulador Pagos Oportunos'!$W$45=3,AJ54,IF('Simulador Pagos Oportunos'!$W$45=4,AK54,AG54)))))","v":""},{"$f":"IF(AN54<=0,0,IF('Simulador Pagos Oportunos'!$Y$80=1,0,AN54*'Simulador Pagos Oportunos'!$Y$83))+IF(AN54<=0,0,IF('Simulador Pagos Oportunos'!$W$45=1,'Simulador Pagos Oportunos'!$H$60,IF('Simulador Pagos Oportunos'!$W$45=2,'Simulador Pagos Oportunos'!$J$60,IF('Simulador Pagos Oportunos'!$W$45=3,'Simulador Pagos Oportunos'!$L$60,'Simulador Pagos Oportunos'!$N$60))))","v":0},null,0,0,"",0,35]
[36,0,null,0,null,0,null,0,null,null,null,null,{"$f":"IF(OR('Simulador Pagos Oportunos'!$U$15=5,'Simulador Pagos Oportunos'!$U$15=1,'Simulador Pagos Oportunos'!$U$15=3,'Simulador Pagos Oportunos'!$U$15=4),0,K55*'Simulador Pagos Oportunos'!$N$74*'Simulador Pagos Oportunos'!$V$21)","v":0},null,{"$f":"IF(B55=0,\"\",IF('Simulador Pagos Oportunos'!$W$45=1,AH55,IF('Simulador Pagos Oportunos'!$W$45=2,AI55,IF('Simulador Pagos Oportunos'!$W$45=3,AJ55,IF('Simulador Pagos Oportunos'!$W$45=4,'Tabla Pagos Oportunos'!AK55,AG55)))))","v":""},null,0,null,{"$f":"IF(B55<=0,0,IF('Simulador Pagos Oportunos'!$Y$80=1,0,B55*'Simulador Pagos Oportunos'!$Y$83))","v":0},null,{"$f":"IF(B55<=0,0,IF('Simulador Pagos Oportunos'!$W$45=1,'Simulador Pagos Oportunos'!$H$60,IF('Simulador Pagos Oportunos'!$W$45=2,'Simulador Pagos Oportunos'!$J$60,IF('Simulador Pagos Oportunos'!$W$45=3,'Simulador Pagos Oportunos'!$L$60,IF('Simulador Pagos Oportunos'!$W$45=4,'Simulador Pagos Oportunos'!$N$60)))))","v":0},null,0,null,null,null,3,0,0,0,0,0,{"$f":"'Simulador Pagos Oportunos'!$AC$87","v":0.13},0.126,0.126,0.126,0.126,0,0,0,0,0,0,0,{"$f":"IF(AN55=0,\"\",IF('Simulador Pagos Oportunos'!$W$45=1,AH55,IF('Simulador Pagos Oportunos'!$W$45=2,AI55,IF('Simulador Pagos Oportunos'!$W$45=3,AJ55,IF('Simulador Pagos Oportunos'!$W$45=4,AK55,AG55)))))","v":""},{"$f":"IF(AN55<=0,0,IF('Simulador Pagos Oportunos'!$Y$80=1,0,AN55*'Simulador Pagos Oportunos'!$Y$83))+IF(AN55<=0,0,IF('Simulador Pagos Oportunos'!$W$45=1,'Simulador Pagos Oportunos'!$H$60,IF('Simulador Pagos Oportunos'!$W$45=2,'Simulador Pagos Oportunos'!$J$60,IF('Simulador Pagos Oportunos'!$W$45=3,'Simulador Pagos Oportunos'!$L$60,'Simulador Pagos Oportunos'!$N$60))))","v":0},null,0,0,"",0,36]
[37,0,null,0,null,0,null,0,null,null,null,null,{"$f":"IF(OR('Simulador Pagos Oportunos'!$U$15=5,'Simulador Pagos Oportunos'!$U$15=1,'Simulador Pagos Oportunos'!$U$15=3,'Simulador Pagos Oportunos'!$U$15=4),0,K56*'Simulador Pagos Oportunos'!$N$74*'Simulador Pagos Oportunos'!$V$21)","v":0},null,{"$f":"IF(B56=0,\"\",IF('Simulador Pagos Oportunos'!$W$45=1,AH56,IF('Simulador Pagos Oportunos'!$W$45=2,AI56,IF('Simulador Pagos Oportunos'!$W$45=3,AJ56,IF('Simulador Pagos Oportunos'!$W$45=4,'Tabla Pagos Oportunos'!AK56,AG56)))))","v":""},null,0,null,{"$f":"IF(B56<=0,0,IF('Simulador Pagos Oportunos'!$Y$80=1,0,B56*'Simulador Pagos Oportunos'!$Y$83))","v":0},null,{"$f":"IF(B56<=0,0,IF('Simulador Pagos Oportunos'!$W$45=1,'Simulador Pagos Oportunos'!$H$60,IF('Simulador Pagos Oportunos'!$W$45=2,'Simulador Pagos Oportunos'!$J$60,IF('Simulador Pagos Oportunos'!$W$45=3,'Simulador Pagos Oportunos'!$L$60,IF('Simulador Pagos Oportunos'!$W$45=4,'Simulador Pagos Oportunos'!$N$60)))))","v":0},null,0,null,{"$f":"IF(B56<=0,0,'Simulador Pagos Oportunos'!$AG$62)","v":0},null,3,1,0,0,0,0,{"$f":"IF(AG55=$AG$4,AG55,IF(AG55-0.25%<=$AG$4,$AG$4,AG55-0.25%))","v":0.1275},{"$f":"AH55-0.2%","v":0.124},{"$f":"AI55-0.2%","v":0.124},{"$f":"AJ55-0.2%","v":0.124},{"$f":"AK55-0.2%","v":0.124},0,0,0,0,0,0,0,{"$f":"IF(AN56=0,\"\",IF('Simulador Pagos Oportunos'!$W$45=1,AH56,IF('Simulador Pagos Oportunos'!$W$45=2,AI56,IF('Simulador Pagos Oportunos'!$W$45=3,AJ56,IF('Simulador Pagos Oportunos'!$W$45=4,AK56,AG56)))))","v":""},{"$f":"IF(AN56<=0,0,IF('Simulador Pagos Oportunos'!$Y$80=1,0,AN56*'Simulador Pagos Oportunos'!$Y$83))+IF(AN56<=0,0,IF('Simulador Pagos Oportunos'!$W$45=1,'Simulador Pagos Oportunos'!$H$60,IF('Simulador Pagos Oportunos'!$W$45=2,'Simulador Pagos Oportunos'!$J$60,IF('Simulador Pagos Oportunos'!$W$45=3,'Simulador Pagos Oportunos'!$L$60,'Simulador Pagos Oportunos'!$N$60))))","v":0},{"$f":"IF(AN56<=0,0,$AU$32)","v":0},0,0,"",0,37]
[38,0,null,0,null,0,null,0,null,null,null,null,{"$f":"IF(OR('Simulador Pagos Oportunos'!$U$15=5,'Simulador Pagos Oportunos'!$U$15=1,'Simulador Pagos Oportunos'!$U$15=3,'Simulador Pagos Oportunos'!$U$15=4),0,K57*'Simulador Pagos Oportunos'!$N$74*'Simulador Pagos Oportunos'!$V$21)","v":0},null,{"$f":"IF(B57=0,\"\",IF('Simulador Pagos Oportunos'!$W$45=1,AH57,IF('Simulador Pagos Oportunos'!$W$45=2,AI57,IF('Simulador Pagos Oportunos'!$W$45=3,AJ57,IF('Simulador Pagos Oportunos'!$W$45=4,'Tabla Pagos Oportunos'!AK57,AG57)))))","v":""},null,0,null,{"$f":"IF(B57<=0,0,IF('Simulador Pagos Oportunos'!$Y$80=1,0,B57*'Simulador Pagos Oportunos'!$Y$83))","v":0},null,{"$f":"IF(B57<=0,0,IF('Simulador Pagos Oportunos'!$W$45=1,'Simulador Pagos Oportunos'!$H$60,IF('Simulador Pagos Oportunos'!$W$45=2,'Simulador Pagos Oportunos'!$J$60,IF('Simulador Pagos Oportunos'!$W$45=3,'Simulador Pagos Oportunos'!$L$60,IF('Simulador Pagos Oportunos'!$W$45=4,'Simulador Pagos Oportunos'!$N$60)))))","v":0},null,0,null,null,null,3,2,0,0,0,0,{"$f":"AG56","v":0.1275},{"$f":"AH56","v":0.124},{"$f":"AI56","v":0.124},0.124,0.124,0,0,0,0,0,0,0,{"$f":"IF(AN57=0,\"\",IF('Simulador Pagos Oportunos'!$W$45=1,AH57,IF('Simulador Pagos Oportunos'!$W$45=2,AI57,IF('Simulador Pagos Oportunos'!$W$45=3,AJ57,IF('Simulador Pagos Oportunos'!$W$45=4,AK57,AG57)))))","v":""},{"$f":"IF(AN57<=0,0,IF('Simulador Pagos Oportunos'!$Y$80=1,0,AN57*'Simulador Pagos Oportunos'!$Y$83))+IF(AN57<=0,0,IF('Simulador Pagos Oportunos'!$W$45=1,'Simulador Pagos Oportunos'!$H$60,IF('Simulador Pagos Oportunos'!$W$45=2,'Simulador Pagos Oportunos'!$J$60,IF('Simulador Pagos Oportunos'!$W$45=3,'Simulador Pagos Oportunos'!$L$60,'Simulador Pagos Oportunos'!$N$60))))","v":0},null,0,0,"",0,38]
[39,0,null,0,null,0,null,0,null,null,null,null,{"$f":"IF(OR('Simulador Pagos Oportunos'!$U$15=5,'Simulador Pagos Oportunos'!$U$15=1,'Simulador Pagos Oportunos'!$U$15=3,'Simulador Pagos Oportunos'!$U$15=4),0,K58*'Simulador Pagos Oportunos'!$N$74*'Simulador Pagos Oportunos'!$V$21)","v":0},null,{"$f":"IF(B58=0,\"\",IF('Simulador Pagos Oportunos'!$W$45=1,AH58,IF('Simulador Pagos Oportunos'!$W$45=2,AI58,IF('Simulador Pagos Oportunos'!$W$45=3,AJ58,IF('Simulador Pagos Oportunos'!$W$45=4,'Tabla Pagos Oportunos'!AK58,AG58)))))","v":""},null,0,null,{"$f":"IF(B58<=0,0,IF('Simulador Pagos Oportunos'!$Y$80=1,0,B58*'Simulador Pagos Oportunos'!$Y$83))","v":0},null,{"$f":"IF(B58<=0,0,IF('Simulador Pagos Oportunos'!$W$45=1,'Simulador Pagos Oportunos'!$H$60,IF('Simulador Pagos Oportunos'!$W$45=2,'Simulador Pagos Oportunos'!$J$60,IF('Simulador Pagos Oportunos'!$W$45=3,'Simulador Pagos Oportunos'!$L$60,IF('Simulador Pagos Oportunos'!$W$45=4,'Simulador Pagos Oportunos'!$N$60)))))","v":0},null,0,null,null,null,3,3,0,0,0,0,{"$f":"AG57","v":0.1275},0.124,0.124,0.124,0.124,0,0,0,0,0,0,0,{"$f":"IF(AN58=0,\"\",IF('Simulador Pagos Oportunos'!$W$45=1,AH58,IF('Simulador Pagos Oportunos'!$W$45=2,AI58,IF('Simulador Pagos Oportunos'!$W$45=3,AJ58,IF('Simulador Pagos Oportunos'!$W$45=4,AK58,AG58)))))","v":""},{"$f":"IF(AN58<=0,0,IF('Simulador Pagos Oportunos'!$Y$80=1,0,AN58*'Simulador Pagos Oportunos'!$Y$83))+IF(AN58<=0,0,IF('Simulador Pagos Oportunos'!$W$45=1,'Simulador Pagos Oportunos'!$H$60,IF('Simulador Pagos Oportunos'!$W$45=2,'Simulador Pagos Oportunos'!$J$60,IF('Simulador Pagos Oportunos'!$W$45=3,'Simulador Pagos Oportunos'!$L$60,'Simulador Pagos Oportunos'!$N$60))))","v":0},null,0,0,"",0,39]
[40,0,null,0,null,0,null,0,null,null,null,null,{"$f":"IF(OR('Simulador Pagos Oportunos'!$U$15=5,'Simulador Pagos Oportunos'!$U$15=1,'Simulador Pagos Oportunos'!$U$15=3,'Simulador Pagos Oportunos'!$U$15=4),0,K59*'Simulador Pagos Oportunos'!$N$74*'Simulador Pagos Oportunos'!$V$21)","v":0},null,{"$f":"IF(B59=0,\"\",IF('Simulador Pagos Oportunos'!$W$45=1,AH59,IF('Simulador Pagos Oportunos'!$W$45=2,AI59,IF('Simulador Pagos Oportunos'!$W$45=3,AJ59,IF('Simulador Pagos Oportunos'!$W$45=4,'Tabla Pagos Oportunos'!AK59,AG59)))))","v":""},null,0,null,{"$f":"IF(B59<=0,0,IF('Simulador Pagos Oportunos'!$Y$80=1,0,B59*'Simulador Pagos Oportunos'!$Y$83))","v":0},null,{"$f":"IF(B59<=0,0,IF('Simulador Pagos Oportunos'!$W$45=1,'Simulador Pagos Oportunos'!$H$60,IF('Simulador Pagos Oportunos'!$W$45=2,'Simulador Pagos Oportunos'!$J$60,IF('Simulador Pagos Oportunos'!$W$45=3,'Simulador Pagos Oportunos'!$L$60,IF('Simulador Pagos Oportunos'!$W$45=4,'Simulador Pagos Oportunos'!$N$60)))))","v":0},null,0,null,null,null,3,4,0,0,0,0,0.1275,0.124,0.124,0.124,0.124,0,0,0,0,0,0,0,{"$f":"IF(AN59=0,\"\",IF('Simulador Pagos Oportunos'!$W$45=1,AH59,IF('Simulador Pagos Oportunos'!$W$45=2,AI59,IF('Simulador Pagos Oportunos'!$W$45=3,AJ59,IF('Simulador Pagos Oportunos'!$W$45=4,AK59,AG59)))))","v":""},{"$f":"IF(AN59<=0,0,IF('Simulador Pagos Oportunos'!$Y$80=1,0,AN59*'Simulador Pagos Oportunos'!$Y$83))+IF(AN59<=0,0,IF('Simulador Pagos Oportunos'!$W$45=1,'Simulador Pagos Oportunos'!$H$60,IF('Simulador Pagos Oportunos'!$W$45=2,'Simulador Pagos Oportunos'!$J$60,IF('Simulador Pagos Oportunos'!$W$45=3,'Simulador Pagos Oportunos'!$L$60,'Simulador Pagos Oportunos'!$N$60))))","v":0},null,0,0,"",0,40]
[41,0,null,0,null,0,null,0,null,null,null,null,{"$f":"IF(OR('Simulador Pagos Oportunos'!$U$15=5,'Simulador Pagos Oportunos'!$U$15=1,'Simulador Pagos Oportunos'!$U$15=3,'Simulador Pagos Oportunos'!$U$15=4),0,K60*'Simulador Pagos Oportunos'!$N$74*'Simulador Pagos Oportunos'!$V$21)","v":0},null,{"$f":"IF(B60=0,\"\",IF('Simulador Pagos Oportunos'!$W$45=1,AH60,IF('Simulador Pagos Oportunos'!$W$45=2,AI60,IF('Simulador Pagos Oportunos'!$W$45=3,AJ60,IF('Simulador Pagos Oportunos'!$W$45=4,'Tabla Pagos Oportunos'!AK60,AG60)))))","v":""},null,0,null,{"$f":"IF(B60<=0,0,IF('Simulador Pagos Oportunos'!$Y$80=1,0,B60*'Simulador Pagos Oportunos'!$Y$83))","v":0},null,{"$f":"IF(B60<=0,0,IF('Simulador Pagos Oportunos'!$W$45=1,'Simulador Pagos Oportunos'!$H$60,IF('Simulador Pagos Oportunos'!$W$45=2,'Simulador Pagos Oportunos'!$J$60,IF('Simulador Pagos Oportunos'!$W$45=3,'Simulador Pagos Oportunos'!$L$60,IF('Simulador Pagos Oportunos'!$W$45=4,'Simulador Pagos Oportunos'!$N$60)))))","v":0},null,0,null,null,null,3,5,0,0,0,0,0.1275,0.124,0.124,0.124,0.124,0,0,0,0,0,0,0,{"$f":"IF(AN60=0,\"\",IF('Simulador Pagos Oportunos'!$W$45=1,AH60,IF('Simulador Pagos Oportunos'!$W$45=2,AI60,IF('Simulador Pagos Oportunos'!$W$45=3,AJ60,IF('Simulador Pagos Oportunos'!$W$45=4,AK60,AG60)))))","v":""},{"$f":"IF(AN60<=0,0,IF('Simulador Pagos Oportunos'!$Y$80=1,0,AN60*'Simulador Pagos Oportunos'!$Y$83))+IF(AN60<=0,0,IF('Simulador Pagos Oportunos'!$W$45=1,'Simulador Pagos Oportunos'!$H$60,IF('Simulador Pagos Oportunos'!$W$45=2,'Simulador Pagos Oportunos'!$J$60,IF('Simulador Pagos Oportunos'!$W$45=3,'Simulador Pagos Oportunos'!$L$60,'Simulador Pagos Oportunos'!$N$60))))","v":0},null,0,0,"",0,41]
[42,0,null,0,null,0,null,0,null,null,null,null,{"$f":"IF(OR('Simulador Pagos Oportunos'!$U$15=5,'Simulador Pagos Oportunos'!$U$15=1,'Simulador Pagos Oportunos'!$U$15=3,'Simulador Pagos Oportunos'!$U$15=4),0,K61*'Simulador Pagos Oportunos'!$N$74*'Simulador Pagos Oportunos'!$V$21)","v":0},null,{"$f":"IF(B61=0,\"\",IF('Simulador Pagos Oportunos'!$W$45=1,AH61,IF('Simulador Pagos Oportunos'!$W$45=2,AI61,IF('Simulador Pagos Oportunos'!$W$45=3,AJ61,IF('Simulador Pagos Oportunos'!$W$45=4,'Tabla Pagos Oportunos'!AK61,AG61)))))","v":""},null,0,null,{"$f":"IF(B61<=0,0,IF('Simulador Pagos Oportunos'!$Y$80=1,0,B61*'Simulador Pagos Oportunos'!$Y$83))","v":0},null,{"$f":"IF(B61<=0,0,IF('Simulador Pagos Oportunos'!$W$45=1,'Simulador Pagos Oportunos'!$H$60,IF('Simulador Pagos Oportunos'!$W$45=2,'Simulador Pagos Oportunos'!$J$60,IF('Simulador Pagos Oportunos'!$W$45=3,'Simulador Pagos Oportunos'!$L$60,IF('Simulador Pagos Oportunos'!$W$45=4,'Simulador Pagos Oportunos'!$N$60)))))","v":0},null,0,null,null,null,3,6,0,0,0,0,0.1275,0.124,0.124,0.124,0.124,0,0,0,0,0,0,0,{"$f":"IF(AN61=0,\"\",IF('Simulador Pagos Oportunos'!$W$45=1,AH61,IF('Simulador Pagos Oportunos'!$W$45=2,AI61,IF('Simulador Pagos Oportunos'!$W$45=3,AJ61,IF('Simulador Pagos Oportunos'!$W$45=4,AK61,AG61)))))","v":""},{"$f":"IF(AN61<=0,0,IF('Simulador Pagos Oportunos'!$Y$80=1,0,AN61*'Simulador Pagos Oportunos'!$Y$83))+IF(AN61<=0,0,IF('Simulador Pagos Oportunos'!$W$45=1,'Simulador Pagos Oportunos'!$H$60,IF('Simulador Pagos Oportunos'!$W$45=2,'Simulador Pagos Oportunos'!$J$60,IF('Simulador Pagos Oportunos'!$W$45=3,'Simulador Pagos Oportunos'!$L$60,'Simulador Pagos Oportunos'!$N$60))))","v":0},null,0,0,"",0,42]
[43,0,null,0,null,0,null,0,null,null,null,null,{"$f":"IF(OR('Simulador Pagos Oportunos'!$U$15=5,'Simulador Pagos Oportunos'!$U$15=1,'Simulador Pagos Oportunos'!$U$15=3,'Simulador Pagos Oportunos'!$U$15=4),0,K62*'Simulador Pagos Oportunos'!$N$74*'Simulador Pagos Oportunos'!$V$21)","v":0},null,{"$f":"IF(B62=0,\"\",IF('Simulador Pagos Oportunos'!$W$45=1,AH62,IF('Simulador Pagos Oportunos'!$W$45=2,AI62,IF('Simulador Pagos Oportunos'!$W$45=3,AJ62,IF('Simulador Pagos Oportunos'!$W$45=4,'Tabla Pagos Oportunos'!AK62,AG62)))))","v":""},null,0,null,{"$f":"IF(B62<=0,0,IF('Simulador Pagos Oportunos'!$Y$80=1,0,B62*'Simulador Pagos Oportunos'!$Y$83))","v":0},null,{"$f":"IF(B62<=0,0,IF('Simulador Pagos Oportunos'!$W$45=1,'Simulador Pagos Oportunos'!$H$60,IF('Simulador Pagos Oportunos'!$W$45=2,'Simulador Pagos Oportunos'!$J$60,IF('Simulador Pagos Oportunos'!$W$45=3,'Simulador Pagos Oportunos'!$L$60,IF('Simulador Pagos Oportunos'!$W$45=4,'Simulador Pagos Oportunos'!$N$60)))))","v":0},null,0,null,null,null,3,7,0,0,0,0,0.1275,0.124,0.124,0.124,0.124,0,0,0,0,0,0,0,{"$f":"IF(AN62=0,\"\",IF('Simulador Pagos Oportunos'!$W$45=1,AH62,IF('Simulador Pagos Oportunos'!$W$45=2,AI62,IF('Simulador Pagos Oportunos'!$W$45=3,AJ62,IF('Simulador Pagos Oportunos'!$W$45=4,AK62,AG62)))))","v":""},{"$f":"IF(AN62<=0,0,IF('Simulador Pagos Oportunos'!$Y$80=1,0,AN62*'Simulador Pagos Oportunos'!$Y$83))+IF(AN62<=0,0,IF('Simulador Pagos Oportunos'!$W$45=1,'Simulador Pagos Oportunos'!$H$60,IF('Simulador Pagos Oportunos'!$W$45=2,'Simulador Pagos Oportunos'!$J$60,IF('Simulador Pagos Oportunos'!$W$45=3,'Simulador Pagos Oportunos'!$L$60,'Simulador Pagos Oportunos'!$N$60))))","v":0},null,0,0,"",0,43]
[44,0,null,0,null,0,null,0,null,null,null,null,{"$f":"IF(OR('Simulador Pagos Oportunos'!$U$15=5,'Simulador Pagos Oportunos'!$U$15=1,'Simulador Pagos Oportunos'!$U$15=3,'Simulador Pagos Oportunos'!$U$15=4),0,K63*'Simulador Pagos Oportunos'!$N$74*'Simulador Pagos Oportunos'!$V$21)","v":0},null,{"$f":"IF(B63=0,\"\",IF('Simulador Pagos Oportunos'!$W$45=1,AH63,IF('Simulador Pagos Oportunos'!$W$45=2,AI63,IF('Simulador Pagos Oportunos'!$W$45=3,AJ63,IF('Simulador Pagos Oportunos'!$W$45=4,'Tabla Pagos Oportunos'!AK63,AG63)))))","v":""},null,0,null,{"$f":"IF(B63<=0,0,IF('Simulador Pagos Oportunos'!$Y$80=1,0,B63*'Simulador Pagos Oportunos'!$Y$83))","v":0},null,{"$f":"IF(B63<=0,0,IF('Simulador Pagos Oportunos'!$W$45=1,'Simulador Pagos Oportunos'!$H$60,IF('Simulador Pagos Oportunos'!$W$45=2,'Simulador Pagos Oportunos'!$J$60,IF('Simulador Pagos Oportunos'!$W$45=3,'Simulador Pagos Oportunos'!$L$60,IF('Simulador Pagos Oportunos'!$W$45=4,'Simulador Pagos Oportunos'!$N$60)))))","v":0},null,0,null,null,null,3,8,0,0,0,0,0.1275,0.124,0.124,0.124,0.124,0,0,0,0,0,0,0,{"$f":"IF(AN63=0,\"\",IF('Simulador Pagos Oportunos'!$W$45=1,AH63,IF('Simulador Pagos Oportunos'!$W$45=2,AI63,IF('Simulador Pagos Oportunos'!$W$45=3,AJ63,IF('Simulador Pagos Oportunos'!$W$45=4,AK63,AG63)))))","v":""},{"$f":"IF(AN63<=0,0,IF('Simulador Pagos Oportunos'!$Y$80=1,0,AN63*'Simulador Pagos Oportunos'!$Y$83))+IF(AN63<=0,0,IF('Simulador Pagos Oportunos'!$W$45=1,'Simulador Pagos Oportunos'!$H$60,IF('Simulador Pagos Oportunos'!$W$45=2,'Simulador Pagos Oportunos'!$J$60,IF('Simulador Pagos Oportunos'!$W$45=3,'Simulador Pagos Oportunos'!$L$60,'Simulador Pagos Oportunos'!$N$60))))","v":0},null,0,0,"",0,44]
[45,0,null,0,null,0,null,0,null,null,null,null,{"$f":"IF(OR('Simulador Pagos Oportunos'!$U$15=5,'Simulador Pagos Oportunos'!$U$15=1,'Simulador Pagos Oportunos'!$U$15=3,'Simulador Pagos Oportunos'!$U$15=4),0,K64*'Simulador Pagos Oportunos'!$N$74*'Simulador Pagos Oportunos'!$V$21)","v":0},null,{"$f":"IF(B64=0,\"\",IF('Simulador Pagos Oportunos'!$W$45=1,AH64,IF('Simulador Pagos Oportunos'!$W$45=2,AI64,IF('Simulador Pagos Oportunos'!$W$45=3,AJ64,IF('Simulador Pagos Oportunos'!$W$45=4,'Tabla Pagos Oportunos'!AK64,AG64)))))","v":""},null,0,null,{"$f":"IF(B64<=0,0,IF('Simulador Pagos Oportunos'!$Y$80=1,0,B64*'Simulador Pagos Oportunos'!$Y$83))","v":0},null,{"$f":"IF(B64<=0,0,IF('Simulador Pagos Oportunos'!$W$45=1,'Simulador Pagos Oportunos'!$H$60,IF('Simulador Pagos Oportunos'!$W$45=2,'Simulador Pagos Oportunos'!$J$60,IF('Simulador Pagos Oportunos'!$W$45=3,'Simulador Pagos Oportunos'!$L$60,IF('Simulador Pagos Oportunos'!$W$45=4,'Simulador Pagos Oportunos'!$N$60)))))","v":0},null,0,null,null,null,3,9,0,0,0,0,0.1275,0.124,0.124,0.124,0.124,0,0,0,0,0,0,0,{"$f":"IF(AN64=0,\"\",IF('Simulador Pagos Oportunos'!$W$45=1,AH64,IF('Simulador Pagos Oportunos'!$W$45=2,AI64,IF('Simulador Pagos Oportunos'!$W$45=3,AJ64,IF('Simulador Pagos Oportunos'!$W$45=4,AK64,AG64)))))","v":""},{"$f":"IF(AN64<=0,0,IF('Simulador Pagos Oportunos'!$Y$80=1,0,AN64*'Simulador Pagos Oportunos'!$Y$83))+IF(AN64<=0,0,IF('Simulador Pagos Oportunos'!$W$45=1,'Simulador Pagos Oportunos'!$H$60,IF('Simulador Pagos Oportunos'!$W$45=2,'Simulador Pagos Oportunos'!$J$60,IF('Simulador Pagos Oportunos'!$W$45=3,'Simulador Pagos Oportunos'!$L$60,'Simulador Pagos Oportunos'!$N$60))))","v":0},null,0,0,"",0,45]
[46,0,null,0,null,0,null,0,null,null,null,null,{"$f":"IF(OR('Simulador Pagos Oportunos'!$U$15=5,'Simulador Pagos Oportunos'!$U$15=1,'Simulador Pagos Oportunos'!$U$15=3,'Simulador Pagos Oportunos'!$U$15=4),0,K65*'Simulador Pagos Oportunos'!$N$74*'Simulador Pagos Oportunos'!$V$21)","v":0},null,{"$f":"IF(B65=0,\"\",IF('Simulador Pagos Oportunos'!$W$45=1,AH65,IF('Simulador Pagos Oportunos'!$W$45=2,AI65,IF('Simulador Pagos Oportunos'!$W$45=3,AJ65,IF('Simulador Pagos Oportunos'!$W$45=4,'Tabla Pagos Oportunos'!AK65,AG65)))))","v":""},null,0,null,{"$f":"IF(B65<=0,0,IF('Simulador Pagos Oportunos'!$Y$80=1,0,B65*'Simulador Pagos Oportunos'!$Y$83))","v":0},null,{"$f":"IF(B65<=0,0,IF('Simulador Pagos Oportunos'!$W$45=1,'Simulador Pagos Oportunos'!$H$60,IF('Simulador Pagos Oportunos'!$W$45=2,'Simulador Pagos Oportunos'!$J$60,IF('Simulador Pagos Oportunos'!$W$45=3,'Simulador Pagos Oportunos'!$L$60,IF('Simulador Pagos Oportunos'!$W$45=4,'Simulador Pagos Oportunos'!$N$60)))))","v":0},null,0,null,null,null,3,10,0,0,0,0,0.1275,0.124,0.124,0.124,0.124,0,0,0,0,0,0,0,{"$f":"IF(AN65=0,\"\",IF('Simulador Pagos Oportunos'!$W$45=1,AH65,IF('Simulador Pagos Oportunos'!$W$45=2,AI65,IF('Simulador Pagos Oportunos'!$W$45=3,AJ65,IF('Simulador Pagos Oportunos'!$W$45=4,AK65,AG65)))))","v":""},{"$f":"IF(AN65<=0,0,IF('Simulador Pagos Oportunos'!$Y$80=1,0,AN65*'Simulador Pagos Oportunos'!$Y$83))+IF(AN65<=0,0,IF('Simulador Pagos Oportunos'!$W$45=1,'Simulador Pagos Oportunos'!$H$60,IF('Simulador Pagos Oportunos'!$W$45=2,'Simulador Pagos Oportunos'!$J$60,IF('Simulador Pagos Oportunos'!$W$45=3,'Simulador Pagos Oportunos'!$L$60,'Simulador Pagos Oportunos'!$N$60))))","v":0},null,0,0,"",0,46]
[47,0,null,0,null,0,null,0,null,null,null,null,{"$f":"IF(OR('Simulador Pagos Oportunos'!$U$15=5,'Simulador Pagos Oportunos'!$U$15=1,'Simulador Pagos Oportunos'!$U$15=3,'Simulador Pagos Oportunos'!$U$15=4),0,K66*'Simulador Pagos Oportunos'!$N$74*'Simulador Pagos Oportunos'!$V$21)","v":0},null,{"$f":"IF(B66=0,\"\",IF('Simulador Pagos Oportunos'!$W$45=1,AH66,IF('Simulador Pagos Oportunos'!$W$45=2,AI66,IF('Simulador Pagos Oportunos'!$W$45=3,AJ66,IF('Simulador Pagos Oportunos'!$W$45=4,'Tabla Pagos Oportunos'!AK66,AG66)))))","v":""},null,0,null,{"$f":"IF(B66<=0,0,IF('Simulador Pagos Oportunos'!$Y$80=1,0,B66*'Simulador Pagos Oportunos'!$Y$83))","v":0},null,{"$f":"IF(B66<=0,0,IF('Simulador Pagos Oportunos'!$W$45=1,'Simulador Pagos Oportunos'!$H$60,IF('Simulador Pagos Oportunos'!$W$45=2,'Simulador Pagos Oportunos'!$J$60,IF('Simulador Pagos Oportunos'!$W$45=3,'Simulador Pagos Oportunos'!$L$60,IF('Simulador Pagos Oportunos'!$W$45=4,'Simulador Pagos Oportunos'!$N$60)))))","v":0},null,0,null,null,null,3,11,0,0,0,0,0.1275,0.124,0.124,0.124,0.124,0,0,0,0,0,0,0,{"$f":"IF(AN66=0,\"\",IF('Simulador Pagos Oportunos'!$W$45=1,AH66,IF('Simulador Pagos Oportunos'!$W$45=2,AI66,IF('Simulador Pagos Oportunos'!$W$45=3,AJ66,IF('Simulador Pagos Oportunos'!$W$45=4,AK66,AG66)))))","v":""},{"$f":"IF(AN66<=0,0,IF('Simulador Pagos Oportunos'!$Y$80=1,0,AN66*'Simulador Pagos Oportunos'!$Y$83))+IF(AN66<=0,0,IF('Simulador Pagos Oportunos'!$W$45=1,'Simulador Pagos Oportunos'!$H$60,IF('Simulador Pagos Oportunos'!$W$45=2,'Simulador Pagos Oportunos'!$J$60,IF('Simulador Pagos Oportunos'!$W$45=3,'Simulador Pagos Oportunos'!$L$60,'Simulador Pagos Oportunos'!$N$60))))","v":0},null,0,0,"",0,47]
[48,0,null,0,null,0,null,0,null,null,null,null,{"$f":"IF(OR('Simulador Pagos Oportunos'!$U$15=5,'Simulador Pagos Oportunos'!$U$15=1,'Simulador Pagos Oportunos'!$U$15=3,'Simulador Pagos Oportunos'!$U$15=4),0,K67*'Simulador Pagos Oportunos'!$N$74*'Simulador Pagos Oportunos'!$V$21)","v":0},null,{"$f":"IF(B67=0,\"\",IF('Simulador Pagos Oportunos'!$W$45=1,AH67,IF('Simulador Pagos Oportunos'!$W$45=2,AI67,IF('Simulador Pagos Oportunos'!$W$45=3,AJ67,IF('Simulador Pagos Oportunos'!$W$45=4,'Tabla Pagos Oportunos'!AK67,AG67)))))","v":""},null,0,null,{"$f":"IF(B67<=0,0,IF('Simulador Pagos Oportunos'!$Y$80=1,0,B67*'Simulador Pagos Oportunos'!$Y$83))","v":0},null,{"$f":"IF(B67<=0,0,IF('Simulador Pagos Oportunos'!$W$45=1,'Simulador Pagos Oportunos'!$H$60,IF('Simulador Pagos Oportunos'!$W$45=2,'Simulador Pagos Oportunos'!$J$60,IF('Simulador Pagos Oportunos'!$W$45=3,'Simulador Pagos Oportunos'!$L$60,IF('Simulador Pagos Oportunos'!$W$45=4,'Simulador Pagos Oportunos'!$N$60)))))","v":0},null,0,null,null,null,4,0,0,0,0,0,0.1275,0.124,0.124,0.124,0.124,0,0,0,0,0,0,0,{"$f":"IF(AN67=0,\"\",IF('Simulador Pagos Oportunos'!$W$45=1,AH67,IF('Simulador Pagos Oportunos'!$W$45=2,AI67,IF('Simulador Pagos Oportunos'!$W$45=3,AJ67,IF('Simulador Pagos Oportunos'!$W$45=4,AK67,AG67)))))","v":""},{"$f":"IF(AN67<=0,0,IF('Simulador Pagos Oportunos'!$Y$80=1,0,AN67*'Simulador Pagos Oportunos'!$Y$83))+IF(AN67<=0,0,IF('Simulador Pagos Oportunos'!$W$45=1,'Simulador Pagos Oportunos'!$H$60,IF('Simulador Pagos Oportunos'!$W$45=2,'Simulador Pagos Oportunos'!$J$60,IF('Simulador Pagos Oportunos'!$W$45=3,'Simulador Pagos Oportunos'!$L$60,'Simulador Pagos Oportunos'!$N$60))))","v":0},null,0,0,"",0,48]
[49,0,null,0,null,0,null,0,null,null,null,null,{"$f":"IF(OR('Simulador Pagos Oportunos'!$U$15=5,'Simulador Pagos Oportunos'!$U$15=1,'Simulador Pagos Oportunos'!$U$15=3,'Simulador Pagos Oportunos'!$U$15=4),0,K68*'Simulador Pagos Oportunos'!$N$74*'Simulador Pagos Oportunos'!$V$21)","v":0},null,{"$f":"IF(B68=0,\"\",IF('Simulador Pagos Oportunos'!$W$45=1,AH68,IF('Simulador Pagos Oportunos'!$W$45=2,AI68,IF('Simulador Pagos Oportunos'!$W$45=3,AJ68,IF('Simulador Pagos Oportunos'!$W$45=4,'Tabla Pagos Oportunos'!AK68,AG68)))))","v":""},null,0,null,{"$f":"IF(B68<=0,0,IF('Simulador Pagos Oportunos'!$Y$80=1,0,B68*'Simulador Pagos Oportunos'!$Y$83))","v":0},null,{"$f":"IF(B68<=0,0,IF('Simulador Pagos Oportunos'!$W$45=1,'Simulador Pagos Oportunos'!$H$60,IF('Simulador Pagos Oportunos'!$W$45=2,'Simulador Pagos Oportunos'!$J$60,IF('Simulador Pagos Oportunos'!$W$45=3,'Simulador Pagos Oportunos'!$L$60,IF('Simulador Pagos Oportunos'!$W$45=4,'Simulador Pagos Oportunos'!$N$60)))))","v":0},null,0,null,{"$f":"IF(B68<=0,0,'Simulador Pagos Oportunos'!$AG$62)","v":0},null,4,1,0,0,0,0,{"$f":"IF(AG67=$AG$4,AG67,IF(AG67-0.25%<=$AG$4,$AG$4,AG67-0.25%))","v":0.125},{"$f":"AH67-0.15%","v":0.1225},{"$f":"AI67-0.15%","v":0.1225},{"$f":"AJ67-0.15%","v":0.1225},{"$f":"AK67-0.15%","v":0.1225},0,0,0,0,0,0,0,{"$f":"IF(AN68=0,\"\",IF('Simulador Pagos Oportunos'!$W$45=1,AH68,IF('Simulador Pagos Oportunos'!$W$45=2,AI68,IF('Simulador Pagos Oportunos'!$W$45=3,AJ68,IF('Simulador Pagos Oportunos'!$W$45=4,AK68,AG68)))))","v":""},{"$f":"IF(AN68<=0,0,IF('Simulador Pagos Oportunos'!$Y$80=1,0,AN68*'Simulador Pagos Oportunos'!$Y$83))+IF(AN68<=0,0,IF('Simulador Pagos Oportunos'!$W$45=1,'Simulador Pagos Oportunos'!$H$60,IF('Simulador Pagos Oportunos'!$W$45=2,'Simulador Pagos Oportunos'!$J$60,IF('Simulador Pagos Oportunos'!$W$45=3,'Simulador Pagos Oportunos'!$L$60,'Simulador Pagos Oportunos'!$N$60))))","v":0},{"$f":"IF(AN68<=0,0,$AU$32)","v":0},0,0,"",0,49]
[50,0,null,0,null,0,null,0,null,null,null,null,{"$f":"IF(OR('Simulador Pagos Oportunos'!$U$15=5,'Simulador Pagos Oportunos'!$U$15=1,'Simulador Pagos Oportunos'!$U$15=3,'Simulador Pagos Oportunos'!$U$15=4),0,K69*'Simulador Pagos Oportunos'!$N$74*'Simulador Pagos Oportunos'!$V$21)","v":0},null,{"$f":"IF(B69=0,\"\",IF('Simulador Pagos Oportunos'!$W$45=1,AH69,IF('Simulador Pagos Oportunos'!$W$45=2,AI69,IF('Simulador Pagos Oportunos'!$W$45=3,AJ69,IF('Simulador Pagos Oportunos'!$W$45=4,'Tabla Pagos Oportunos'!AK69,AG69)))))","v":""},null,0,null,{"$f":"IF(B69<=0,0,IF('Simulador Pagos Oportunos'!$Y$80=1,0,B69*'Simulador Pagos Oportunos'!$Y$83))","v":0},null,{"$f":"IF(B69<=0,0,IF('Simulador Pagos Oportunos'!$W$45=1,'Simulador Pagos Oportunos'!$H$60,IF('Simulador Pagos Oportunos'!$W$45=2,'Simulador Pagos Oportunos'!$J$60,IF('Simulador Pagos Oportunos'!$W$45=3,'Simulador Pagos Oportunos'!$L$60,IF('Simulador Pagos Oportunos'!$W$45=4,'Simulador Pagos Oportunos'!$N$60)))))","v":0},null,0,null,null,null,4,2,0,0,0,0,{"$f":"AG68","v":0.125},{"$f":"AH68","v":0.1225},0.1225,0.1225,0.1225,0,0,0,0,0,0,0,{"$f":"IF(AN69=0,\"\",IF('Simulador Pagos Oportunos'!$W$45=1,AH69,IF('Simulador Pagos Oportunos'!$W$45=2,AI69,IF('Simulador Pagos Oportunos'!$W$45=3,AJ69,IF('Simulador Pagos Oportunos'!$W$45=4,AK69,AG69)))))","v":""},{"$f":"IF(AN69<=0,0,IF('Simulador Pagos Oportunos'!$Y$80=1,0,AN69*'Simulador Pagos Oportunos'!$Y$83))+IF(AN69<=0,0,IF('Simulador Pagos Oportunos'!$W$45=1,'Simulador Pagos Oportunos'!$H$60,IF('Simulador Pagos Oportunos'!$W$45=2,'Simulador Pagos Oportunos'!$J$60,IF('Simulador Pagos Oportunos'!$W$45=3,'Simulador Pagos Oportunos'!$L$60,'Simulador Pagos Oportunos'!$N$60))))","v":0},null,0,0,"",0,50]
[51,0,null,0,null,0,null,0,null,null,null,null,{"$f":"IF(OR('Simulador Pagos Oportunos'!$U$15=5,'Simulador Pagos Oportunos'!$U$15=1,'Simulador Pagos Oportunos'!$U$15=3,'Simulador Pagos Oportunos'!$U$15=4),0,K70*'Simulador Pagos Oportunos'!$N$74*'Simulador Pagos Oportunos'!$V$21)","v":0},null,{"$f":"IF(B70=0,\"\",IF('Simulador Pagos Oportunos'!$W$45=1,AH70,IF('Simulador Pagos Oportunos'!$W$45=2,AI70,IF('Simulador Pagos Oportunos'!$W$45=3,AJ70,IF('Simulador Pagos Oportunos'!$W$45=4,'Tabla Pagos Oportunos'!AK70,AG70)))))","v":""},null,0,null,{"$f":"IF(B70<=0,0,IF('Simulador Pagos Oportunos'!$Y$80=1,0,B70*'Simulador Pagos Oportunos'!$Y$83))","v":0},null,{"$f":"IF(B70<=0,0,IF('Simulador Pagos Oportunos'!$W$45=1,'Simulador Pagos Oportunos'!$H$60,IF('Simulador Pagos Oportunos'!$W$45=2,'Simulador Pagos Oportunos'!$J$60,IF('Simulador Pagos Oportunos'!$W$45=3,'Simulador Pagos Oportunos'!$L$60,IF('Simulador Pagos Oportunos'!$W$45=4,'Simulador Pagos Oportunos'!$N$60)))))","v":0},null,0,null,null,null,4,3,0,0,0,0,{"$f":"AG69","v":0.125},0.1225,0.1225,0.1225,0.1225,0,0,0,0,0,0,0,{"$f":"IF(AN70=0,\"\",IF('Simulador Pagos Oportunos'!$W$45=1,AH70,IF('Simulador Pagos Oportunos'!$W$45=2,AI70,IF('Simulador Pagos Oportunos'!$W$45=3,AJ70,IF('Simulador Pagos Oportunos'!$W$45=4,AK70,AG70)))))","v":""},{"$f":"IF(AN70<=0,0,IF('Simulador Pagos Oportunos'!$Y$80=1,0,AN70*'Simulador Pagos Oportunos'!$Y$83))+IF(AN70<=0,0,IF('Simulador Pagos Oportunos'!$W$45=1,'Simulador Pagos Oportunos'!$H$60,IF('Simulador Pagos Oportunos'!$W$45=2,'Simulador Pagos Oportunos'!$J$60,IF('Simulador Pagos Oportunos'!$W$45=3,'Simulador Pagos Oportunos'!$L$60,'Simulador Pagos Oportunos'!$N$60))))","v":0},null,0,0,"",0,51]
[52,0,null,0,null,0,null,0,null,null,null,null,{"$f":"IF(OR('Simulador Pagos Oportunos'!$U$15=5,'Simulador Pagos Oportunos'!$U$15=1,'Simulador Pagos Oportunos'!$U$15=3,'Simulador Pagos Oportunos'!$U$15=4),0,K71*'Simulador Pagos Oportunos'!$N$74*'Simulador Pagos Oportunos'!$V$21)","v":0},null,{"$f":"IF(B71=0,\"\",IF('Simulador Pagos Oportunos'!$W$45=1,AH71,IF('Simulador Pagos Oportunos'!$W$45=2,AI71,IF('Simulador Pagos Oportunos'!$W$45=3,AJ71,IF('Simulador Pagos Oportunos'!$W$45=4,'Tabla Pagos Oportunos'!AK71,AG71)))))","v":""},null,0,null,{"$f":"IF(B71<=0,0,IF('Simulador Pagos Oportunos'!$Y$80=1,0,B71*'Simulador Pagos Oportunos'!$Y$83))","v":0},null,{"$f":"IF(B71<=0,0,IF('Simulador Pagos Oportunos'!$W$45=1,'Simulador Pagos Oportunos'!$H$60,IF('Simulador Pagos Oportunos'!$W$45=2,'Simulador Pagos Oportunos'!$J$60,IF('Simulador Pagos Oportunos'!$W$45=3,'Simulador Pagos Oportunos'!$L$60,IF('Simulador Pagos Oportunos'!$W$45=4,'Simulador Pagos Oportunos'!$N$60)))))","v":0},null,0,null,null,null,4,4,0,0,0,0,0.125,0.1225,0.1225,0.1225,0.1225,0,0,0,0,0,0,0,{"$f":"IF(AN71=0,\"\",IF('Simulador Pagos Oportunos'!$W$45=1,AH71,IF('Simulador Pagos Oportunos'!$W$45=2,AI71,IF('Simulador Pagos Oportunos'!$W$45=3,AJ71,IF('Simulador Pagos Oportunos'!$W$45=4,AK71,AG71)))))","v":""},{"$f":"IF(AN71<=0,0,IF('Simulador Pagos Oportunos'!$Y$80=1,0,AN71*'Simulador Pagos Oportunos'!$Y$83))+IF(AN71<=0,0,IF('Simulador Pagos Oportunos'!$W$45=1,'Simulador Pagos Oportunos'!$H$60,IF('Simulador Pagos Oportunos'!$W$45=2,'Simulador Pagos Oportunos'!$J$60,IF('Simulador Pagos Oportunos'!$W$45=3,'Simulador Pagos Oportunos'!$L$60,'Simulador Pagos Oportunos'!$N$60))))","v":0},null,0,0,"",0,52]
[53,0,null,0,null,0,null,0,null,null,null,null,{"$f":"IF(OR('Simulador Pagos Oportunos'!$U$15=5,'Simulador Pagos Oportunos'!$U$15=1,'Simulador Pagos Oportunos'!$U$15=3,'Simulador Pagos Oportunos'!$U$15=4),0,K72*'Simulador Pagos Oportunos'!$N$74*'Simulador Pagos Oportunos'!$V$21)","v":0},null,{"$f":"IF(B72=0,\"\",IF('Simulador Pagos Oportunos'!$W$45=1,AH72,IF('Simulador Pagos Oportunos'!$W$45=2,AI72,IF('Simulador Pagos Oportunos'!$W$45=3,AJ72,IF('Simulador Pagos Oportunos'!$W$45=4,'Tabla Pagos Oportunos'!AK72,AG72)))))","v":""},null,0,null,{"$f":"IF(B72<=0,0,IF('Simulador Pagos Oportunos'!$Y$80=1,0,B72*'Simulador Pagos Oportunos'!$Y$83))","v":0},null,{"$f":"IF(B72<=0,0,IF('Simulador Pagos Oportunos'!$W$45=1,'Simulador Pagos Oportunos'!$H$60,IF('Simulador Pagos Oportunos'!$W$45=2,'Simulador Pagos Oportunos'!$J$60,IF('Simulador Pagos Oportunos'!$W$45=3,'Simulador Pagos Oportunos'!$L$60,IF('Simulador Pagos Oportunos'!$W$45=4,'Simulador Pagos Oportunos'!$N$60)))))","v":0},null,0,null,null,null,4,5,0,0,0,0,0.125,0.1225,0.1225,0.1225,0.1225,0,0,0,0,0,0,0,{"$f":"IF(AN72=0,\"\",IF('Simulador Pagos Oportunos'!$W$45=1,AH72,IF('Simulador Pagos Oportunos'!$W$45=2,AI72,IF('Simulador Pagos Oportunos'!$W$45=3,AJ72,IF('Simulador Pagos Oportunos'!$W$45=4,AK72,AG72)))))","v":""},{"$f":"IF(AN72<=0,0,IF('Simulador Pagos Oportunos'!$Y$80=1,0,AN72*'Simulador Pagos Oportunos'!$Y$83))+IF(AN72<=0,0,IF('Simulador Pagos Oportunos'!$W$45=1,'Simulador Pagos Oportunos'!$H$60,IF('Simulador Pagos Oportunos'!$W$45=2,'Simulador Pagos Oportunos'!$J$60,IF('Simulador Pagos Oportunos'!$W$45=3,'Simulador Pagos Oportunos'!$L$60,'Simulador Pagos Oportunos'!$N$60))))","v":0},null,0,0,"",0,53]
[54,0,null,0,null,0,null,0,null,null,null,null,{"$f":"IF(OR('Simulador Pagos Oportunos'!$U$15=5,'Simulador Pagos Oportunos'!$U$15=1,'Simulador Pagos Oportunos'!$U$15=3,'Simulador Pagos Oportunos'!$U$15=4),0,K73*'Simulador Pagos Oportunos'!$N$74*'Simulador Pagos Oportunos'!$V$21)","v":0},null,{"$f":"IF(B73=0,\"\",IF('Simulador Pagos Oportunos'!$W$45=1,AH73,IF('Simulador Pagos Oportunos'!$W$45=2,AI73,IF('Simulador Pagos Oportunos'!$W$45=3,AJ73,IF('Simulador Pagos Oportunos'!$W$45=4,'Tabla Pagos Oportunos'!AK73,AG73)))))","v":""},null,0,null,{"$f":"IF(B73<=0,0,IF('Simulador Pagos Oportunos'!$Y$80=1,0,B73*'Simulador Pagos Oportunos'!$Y$83))","v":0},null,{"$f":"IF(B73<=0,0,IF('Simulador Pagos Oportunos'!$W$45=1,'Simulador Pagos Oportunos'!$H$60,IF('Simulador Pagos Oportunos'!$W$45=2,'Simulador Pagos Oportunos'!$J$60,IF('Simulador Pagos Oportunos'!$W$45=3,'Simulador Pagos Oportunos'!$L$60,IF('Simulador Pagos Oportunos'!$W$45=4,'Simulador Pagos Oportunos'!$N$60)))))","v":0},null,0,null,null,null,4,6,0,0,0,0,0.125,0.1225,0.1225,0.1225,0.1225,0,0,0,0,0,0,0,{"$f":"IF(AN73=0,\"\",IF('Simulador Pagos Oportunos'!$W$45=1,AH73,IF('Simulador Pagos Oportunos'!$W$45=2,AI73,IF('Simulador Pagos Oportunos'!$W$45=3,AJ73,IF('Simulador Pagos Oportunos'!$W$45=4,AK73,AG73)))))","v":""},{"$f":"IF(AN73<=0,0,IF('Simulador Pagos Oportunos'!$Y$80=1,0,AN73*'Simulador Pagos Oportunos'!$Y$83))+IF(AN73<=0,0,IF('Simulador Pagos Oportunos'!$W$45=1,'Simulador Pagos Oportunos'!$H$60,IF('Simulador Pagos Oportunos'!$W$45=2,'Simulador Pagos Oportunos'!$J$60,IF('Simulador Pagos Oportunos'!$W$45=3,'Simulador Pagos Oportunos'!$L$60,'Simulador Pagos Oportunos'!$N$60))))","v":0},null,0,0,"",0,54]
[55,0,null,0,null,0,null,0,null,null,null,null,{"$f":"IF(OR('Simulador Pagos Oportunos'!$U$15=5,'Simulador Pagos Oportunos'!$U$15=1,'Simulador Pagos Oportunos'!$U$15=3,'Simulador Pagos Oportunos'!$U$15=4),0,K74*'Simulador Pagos Oportunos'!$N$74*'Simulador Pagos Oportunos'!$V$21)","v":0},null,{"$f":"IF(B74=0,\"\",IF('Simulador Pagos Oportunos'!$W$45=1,AH74,IF('Simulador Pagos Oportunos'!$W$45=2,AI74,IF('Simulador Pagos Oportunos'!$W$45=3,AJ74,IF('Simulador Pagos Oportunos'!$W$45=4,'Tabla Pagos Oportunos'!AK74,AG74)))))","v":""},null,0,null,{"$f":"IF(B74<=0,0,IF('Simulador Pagos Oportunos'!$Y$80=1,0,B74*'Simulador Pagos Oportunos'!$Y$83))","v":0},null,{"$f":"IF(B74<=0,0,IF('Simulador Pagos Oportunos'!$W$45=1,'Simulador Pagos Oportunos'!$H$60,IF('Simulador Pagos Oportunos'!$W$45=2,'Simulador Pagos Oportunos'!$J$60,IF('Simulador Pagos Oportunos'!$W$45=3,'Simulador Pagos Oportunos'!$L$60,IF('Simulador Pagos Oportunos'!$W$45=4,'Simulador Pagos Oportunos'!$N$60)))))","v":0},null,0,null,null,null,4,7,0,0,0,0,0.125,0.1225,0.1225,0.1225,0.1225,0,0,0,0,0,0,0,{"$f":"IF(AN74=0,\"\",IF('Simulador Pagos Oportunos'!$W$45=1,AH74,IF('Simulador Pagos Oportunos'!$W$45=2,AI74,IF('Simulador Pagos Oportunos'!$W$45=3,AJ74,IF('Simulador Pagos Oportunos'!$W$45=4,AK74,AG74)))))","v":""},{"$f":"IF(AN74<=0,0,IF('Simulador Pagos Oportunos'!$Y$80=1,0,AN74*'Simulador Pagos Oportunos'!$Y$83))+IF(AN74<=0,0,IF('Simulador Pagos Oportunos'!$W$45=1,'Simulador Pagos Oportunos'!$H$60,IF('Simulador Pagos Oportunos'!$W$45=2,'Simulador Pagos Oportunos'!$J$60,IF('Simulador Pagos Oportunos'!$W$45=3,'Simulador Pagos Oportunos'!$L$60,'Simulador Pagos Oportunos'!$N$60))))","v":0},null,0,0,"",0,55]
[56,0,null,0,null,0,null,0,null,null,null,null,{"$f":"IF(OR('Simulador Pagos Oportunos'!$U$15=5,'Simulador Pagos Oportunos'!$U$15=1,'Simulador Pagos Oportunos'!$U$15=3,'Simulador Pagos Oportunos'!$U$15=4),0,K75*'Simulador Pagos Oportunos'!$N$74*'Simulador Pagos Oportunos'!$V$21)","v":0},null,{"$f":"IF(B75=0,\"\",IF('Simulador Pagos Oportunos'!$W$45=1,AH75,IF('Simulador Pagos Oportunos'!$W$45=2,AI75,IF('Simulador Pagos Oportunos'!$W$45=3,AJ75,IF('Simulador Pagos Oportunos'!$W$45=4,'Tabla Pagos Oportunos'!AK75,AG75)))))","v":""},null,0,null,{"$f":"IF(B75<=0,0,IF('Simulador Pagos Oportunos'!$Y$80=1,0,B75*'Simulador Pagos Oportunos'!$Y$83))","v":0},null,{"$f":"IF(B75<=0,0,IF('Simulador Pagos Oportunos'!$W$45=1,'Simulador Pagos Oportunos'!$H$60,IF('Simulador Pagos Oportunos'!$W$45=2,'Simulador Pagos Oportunos'!$J$60,IF('Simulador Pagos Oportunos'!$W$45=3,'Simulador Pagos Oportunos'!$L$60,IF('Simulador Pagos Oportunos'!$W$45=4,'Simulador Pagos Oportunos'!$N$60)))))","v":0},null,0,null,null,null,4,8,0,0,0,0,0.125,0.1225,0.1225,0.1225,0.1225,0,0,0,0,0,0,0,{"$f":"IF(AN75=0,\"\",IF('Simulador Pagos Oportunos'!$W$45=1,AH75,IF('Simulador Pagos Oportunos'!$W$45=2,AI75,IF('Simulador Pagos Oportunos'!$W$45=3,AJ75,IF('Simulador Pagos Oportunos'!$W$45=4,AK75,AG75)))))","v":""},{"$f":"IF(AN75<=0,0,IF('Simulador Pagos Oportunos'!$Y$80=1,0,AN75*'Simulador Pagos Oportunos'!$Y$83))+IF(AN75<=0,0,IF('Simulador Pagos Oportunos'!$W$45=1,'Simulador Pagos Oportunos'!$H$60,IF('Simulador Pagos Oportunos'!$W$45=2,'Simulador Pagos Oportunos'!$J$60,IF('Simulador Pagos Oportunos'!$W$45=3,'Simulador Pagos Oportunos'!$L$60,'Simulador Pagos Oportunos'!$N$60))))","v":0},null,0,0,"",0,56]
[57,0,null,0,null,0,null,0,null,null,null,null,{"$f":"IF(OR('Simulador Pagos Oportunos'!$U$15=5,'Simulador Pagos Oportunos'!$U$15=1,'Simulador Pagos Oportunos'!$U$15=3,'Simulador Pagos Oportunos'!$U$15=4),0,K76*'Simulador Pagos Oportunos'!$N$74*'Simulador Pagos Oportunos'!$V$21)","v":0},null,{"$f":"IF(B76=0,\"\",IF('Simulador Pagos Oportunos'!$W$45=1,AH76,IF('Simulador Pagos Oportunos'!$W$45=2,AI76,IF('Simulador Pagos Oportunos'!$W$45=3,AJ76,IF('Simulador Pagos Oportunos'!$W$45=4,'Tabla Pagos Oportunos'!AK76,AG76)))))","v":""},null,0,null,{"$f":"IF(B76<=0,0,IF('Simulador Pagos Oportunos'!$Y$80=1,0,B76*'Simulador Pagos Oportunos'!$Y$83))","v":0},null,{"$f":"IF(B76<=0,0,IF('Simulador Pagos Oportunos'!$W$45=1,'Simulador Pagos Oportunos'!$H$60,IF('Simulador Pagos Oportunos'!$W$45=2,'Simulador Pagos Oportunos'!$J$60,IF('Simulador Pagos Oportunos'!$W$45=3,'Simulador Pagos Oportunos'!$L$60,IF('Simulador Pagos Oportunos'!$W$45=4,'Simulador Pagos Oportunos'!$N$60)))))","v":0},null,0,null,null,null,4,9,0,0,0,0,0.125,0.1225,0.1225,0.1225,0.1225,0,0,0,0,0,0,0,{"$f":"IF(AN76=0,\"\",IF('Simulador Pagos Oportunos'!$W$45=1,AH76,IF('Simulador Pagos Oportunos'!$W$45=2,AI76,IF('Simulador Pagos Oportunos'!$W$45=3,AJ76,IF('Simulador Pagos Oportunos'!$W$45=4,AK76,AG76)))))","v":""},{"$f":"IF(AN76<=0,0,IF('Simulador Pagos Oportunos'!$Y$80=1,0,AN76*'Simulador Pagos Oportunos'!$Y$83))+IF(AN76<=0,0,IF('Simulador Pagos Oportunos'!$W$45=1,'Simulador Pagos Oportunos'!$H$60,IF('Simulador Pagos Oportunos'!$W$45=2,'Simulador Pagos Oportunos'!$J$60,IF('Simulador Pagos Oportunos'!$W$45=3,'Simulador Pagos Oportunos'!$L$60,'Simulador Pagos Oportunos'!$N$60))))","v":0},null,0,0,"",0,57]
[58,0,null,0,null,0,null,0,null,null,null,null,{"$f":"IF(OR('Simulador Pagos Oportunos'!$U$15=5,'Simulador Pagos Oportunos'!$U$15=1,'Simulador Pagos Oportunos'!$U$15=3,'Simulador Pagos Oportunos'!$U$15=4),0,K77*'Simulador Pagos Oportunos'!$N$74*'Simulador Pagos Oportunos'!$V$21)","v":0},null,{"$f":"IF(B77=0,\"\",IF('Simulador Pagos Oportunos'!$W$45=1,AH77,IF('Simulador Pagos Oportunos'!$W$45=2,AI77,IF('Simulador Pagos Oportunos'!$W$45=3,AJ77,IF('Simulador Pagos Oportunos'!$W$45=4,'Tabla Pagos Oportunos'!AK77,AG77)))))","v":""},null,0,null,{"$f":"IF(B77<=0,0,IF('Simulador Pagos Oportunos'!$Y$80=1,0,B77*'Simulador Pagos Oportunos'!$Y$83))","v":0},null,{"$f":"IF(B77<=0,0,IF('Simulador Pagos Oportunos'!$W$45=1,'Simulador Pagos Oportunos'!$H$60,IF('Simulador Pagos Oportunos'!$W$45=2,'Simulador Pagos Oportunos'!$J$60,IF('Simulador Pagos Oportunos'!$W$45=3,'Simulador Pagos Oportunos'!$L$60,IF('Simulador Pagos Oportunos'!$W$45=4,'Simulador Pagos Oportunos'!$N$60)))))","v":0},null,0,null,null,null,4,10,0,0,0,0,0.125,0.1225,0.1225,0.1225,0.1225,0,0,0,0,0,0,0,{"$f":"IF(AN77=0,\"\",IF('Simulador Pagos Oportunos'!$W$45=1,AH77,IF('Simulador Pagos Oportunos'!$W$45=2,AI77,IF('Simulador Pagos Oportunos'!$W$45=3,AJ77,IF('Simulador Pagos Oportunos'!$W$45=4,AK77,AG77)))))","v":""},{"$f":"IF(AN77<=0,0,IF('Simulador Pagos Oportunos'!$Y$80=1,0,AN77*'Simulador Pagos Oportunos'!$Y$83))+IF(AN77<=0,0,IF('Simulador Pagos Oportunos'!$W$45=1,'Simulador Pagos Oportunos'!$H$60,IF('Simulador Pagos Oportunos'!$W$45=2,'Simulador Pagos Oportunos'!$J$60,IF('Simulador Pagos Oportunos'!$W$45=3,'Simulador Pagos Oportunos'!$L$60,'Simulador Pagos Oportunos'!$N$60))))","v":0},null,0,0,"",0,58]
[59,0,null,0,null,0,null,0,null,null,null,null,{"$f":"IF(OR('Simulador Pagos Oportunos'!$U$15=5,'Simulador Pagos Oportunos'!$U$15=1,'Simulador Pagos Oportunos'!$U$15=3,'Simulador Pagos Oportunos'!$U$15=4),0,K78*'Simulador Pagos Oportunos'!$N$74*'Simulador Pagos Oportunos'!$V$21)","v":0},null,{"$f":"IF(B78=0,\"\",IF('Simulador Pagos Oportunos'!$W$45=1,AH78,IF('Simulador Pagos Oportunos'!$W$45=2,AI78,IF('Simulador Pagos Oportunos'!$W$45=3,AJ78,IF('Simulador Pagos Oportunos'!$W$45=4,'Tabla Pagos Oportunos'!AK78,AG78)))))","v":""},null,0,null,{"$f":"IF(B78<=0,0,IF('Simulador Pagos Oportunos'!$Y$80=1,0,B78*'Simulador Pagos Oportunos'!$Y$83))","v":0},null,{"$f":"IF(B78<=0,0,IF('Simulador Pagos Oportunos'!$W$45=1,'Simulador Pagos Oportunos'!$H$60,IF('Simulador Pagos Oportunos'!$W$45=2,'Simulador Pagos Oportunos'!$J$60,IF('Simulador Pagos Oportunos'!$W$45=3,'Simulador Pagos Oportunos'!$L$60,IF('Simulador Pagos Oportunos'!$W$45=4,'Simulador Pagos Oportunos'!$N$60)))))","v":0},null,0,null,null,null,4,11,0,0,0,0,0.125,0.1225,0.1225,0.1225,0.1225,0,0,0,0,0,0,0,{"$f":"IF(AN78=0,\"\",IF('Simulador Pagos Oportunos'!$W$45=1,AH78,IF('Simulador Pagos Oportunos'!$W$45=2,AI78,IF('Simulador Pagos Oportunos'!$W$45=3,AJ78,IF('Simulador Pagos Oportunos'!$W$45=4,AK78,AG78)))))","v":""},{"$f":"IF(AN78<=0,0,IF('Simulador Pagos Oportunos'!$Y$80=1,0,AN78*'Simulador Pagos Oportunos'!$Y$83))+IF(AN78<=0,0,IF('Simulador Pagos Oportunos'!$W$45=1,'Simulador Pagos Oportunos'!$H$60,IF('Simulador Pagos Oportunos'!$W$45=2,'Simulador Pagos Oportunos'!$J$60,IF('Simulador Pagos Oportunos'!$W$45=3,'Simulador Pagos Oportunos'!$L$60,'Simulador Pagos Oportunos'!$N$60))))","v":0},null,0,0,"",0,59]
[60,0,null,0,null,0,null,0,null,null,null,null,{"$f":"IF(OR('Simulador Pagos Oportunos'!$U$15=5,'Simulador Pagos Oportunos'!$U$15=1,'Simulador Pagos Oportunos'!$U$15=3,'Simulador Pagos Oportunos'!$U$15=4),0,K79*'Simulador Pagos Oportunos'!$N$74*'Simulador Pagos Oportunos'!$V$21)","v":0},null,{"$f":"IF(B79=0,\"\",IF('Simulador Pagos Oportunos'!$W$45=1,AH79,IF('Simulador Pagos Oportunos'!$W$45=2,AI79,IF('Simulador Pagos Oportunos'!$W$45=3,AJ79,IF('Simulador Pagos Oportunos'!$W$45=4,'Tabla Pagos Oportunos'!AK79,AG79)))))","v":""},null,0,null,{"$f":"IF(B79<=0,0,IF('Simulador Pagos Oportunos'!$Y$80=1,0,B79*'Simulador Pagos Oportunos'!$Y$83))","v":0},null,{"$f":"IF(B79<=0,0,IF('Simulador Pagos Oportunos'!$W$45=1,'Simulador Pagos Oportunos'!$H$60,IF('Simulador Pagos Oportunos'!$W$45=2,'Simulador Pagos Oportunos'!$J$60,IF('Simulador Pagos Oportunos'!$W$45=3,'Simulador Pagos Oportunos'!$L$60,IF('Simulador Pagos Oportunos'!$W$45=4,'Simulador Pagos Oportunos'!$N$60)))))","v":0},null,0,null,null,null,5,0,0,0,0,0,0.125,0.1225,0.1225,0.1225,0.1225,0,0,0,0,0,0,0,{"$f":"IF(AN79=0,\"\",IF('Simulador Pagos Oportunos'!$W$45=1,AH79,IF('Simulador Pagos Oportunos'!$W$45=2,AI79,IF('Simulador Pagos Oportunos'!$W$45=3,AJ79,IF('Simulador Pagos Oportunos'!$W$45=4,AK79,AG79)))))","v":""},{"$f":"IF(AN79<=0,0,IF('Simulador Pagos Oportunos'!$Y$80=1,0,AN79*'Simulador Pagos Oportunos'!$Y$83))+IF(AN79<=0,0,IF('Simulador Pagos Oportunos'!$W$45=1,'Simulador Pagos Oportunos'!$H$60,IF('Simulador Pagos Oportunos'!$W$45=2,'Simulador Pagos Oportunos'!$J$60,IF('Simulador Pagos Oportunos'!$W$45=3,'Simulador Pagos Oportunos'!$L$60,'Simulador Pagos Oportunos'!$N$60))))","v":0},null,0,0,"",0,60]
[61,0,null,0,null,0,null,0,null,null,null,null,{"$f":"IF(OR('Simulador Pagos Oportunos'!$U$15=5,'Simulador Pagos Oportunos'!$U$15=1,'Simulador Pagos Oportunos'!$U$15=3,'Simulador Pagos Oportunos'!$U$15=4),0,K80*'Simulador Pagos Oportunos'!$N$74*'Simulador Pagos Oportunos'!$V$21)","v":0},null,{"$f":"IF(B80=0,\"\",IF('Simulador Pagos Oportunos'!$W$45=1,AH80,IF('Simulador Pagos Oportunos'!$W$45=2,AI80,IF('Simulador Pagos Oportunos'!$W$45=3,AJ80,IF('Simulador Pagos Oportunos'!$W$45=4,'Tabla Pagos Oportunos'!AK80,AG80)))))","v":""},null,0,null,{"$f":"IF(B80<=0,0,IF('Simulador Pagos Oportunos'!$Y$80=1,0,B80*'Simulador Pagos Oportunos'!$Y$83))","v":0},null,{"$f":"IF(B80<=0,0,IF('Simulador Pagos Oportunos'!$W$45=1,'Simulador Pagos Oportunos'!$H$60,IF('Simulador Pagos Oportunos'!$W$45=2,'Simulador Pagos Oportunos'!$J$60,IF('Simulador Pagos Oportunos'!$W$45=3,'Simulador Pagos Oportunos'!$L$60,IF('Simulador Pagos Oportunos'!$W$45=4,'Simulador Pagos Oportunos'!$N$60)))))","v":0},null,0,null,{"$f":"IF(B80<=0,0,IF('Simulador Pagos Oportunos'!$W$45=4,0,'Simulador Pagos Oportunos'!$AG$62))","v":0},null,5,1,0,0,0,0,{"$f":"IF(AG79=$AG$4,AG79,IF(AG79-0.25%<=$AG$4,$AG$4,AG79-0.25%))","v":0.1225},0.1225,0.1225,0.1225,0.1225,0,0,0,0,0,0,0,{"$f":"IF(AN80=0,\"\",IF('Simulador Pagos Oportunos'!$W$45=1,AH80,IF('Simulador Pagos Oportunos'!$W$45=2,AI80,IF('Simulador Pagos Oportunos'!$W$45=3,AJ80,IF('Simulador Pagos Oportunos'!$W$45=4,AK80,AG80)))))","v":""},{"$f":"IF(AN80<=0,0,IF('Simulador Pagos Oportunos'!$Y$80=1,0,AN80*'Simulador Pagos Oportunos'!$Y$83))+IF(AN80<=0,0,IF('Simulador Pagos Oportunos'!$W$45=1,'Simulador Pagos Oportunos'!$H$60,IF('Simulador Pagos Oportunos'!$W$45=2,'Simulador Pagos Oportunos'!$J$60,IF('Simulador Pagos Oportunos'!$W$45=3,'Simulador Pagos Oportunos'!$L$60,'Simulador Pagos Oportunos'!$N$60))))","v":0},{"$f":"IF(AN80<=0,0,$AU$32)","v":0},0,0,"",0,61]
[62,0,null,0,null,0,null,0,null,null,null,null,{"$f":"IF(OR('Simulador Pagos Oportunos'!$U$15=5,'Simulador Pagos Oportunos'!$U$15=1,'Simulador Pagos Oportunos'!$U$15=3,'Simulador Pagos Oportunos'!$U$15=4),0,K81*'Simulador Pagos Oportunos'!$N$74*'Simulador Pagos Oportunos'!$V$21)","v":0},null,{"$f":"IF(B81=0,\"\",IF('Simulador Pagos Oportunos'!$W$45=1,AH81,IF('Simulador Pagos Oportunos'!$W$45=2,AI81,IF('Simulador Pagos Oportunos'!$W$45=3,AJ81,IF('Simulador Pagos Oportunos'!$W$45=4,'Tabla Pagos Oportunos'!AK81,AG81)))))","v":""},null,0,null,{"$f":"IF(B81<=0,0,IF('Simulador Pagos Oportunos'!$Y$80=1,0,B81*'Simulador Pagos Oportunos'!$Y$83))","v":0},null,{"$f":"IF(B81<=0,0,IF('Simulador Pagos Oportunos'!$W$45=1,'Simulador Pagos Oportunos'!$H$60,IF('Simulador Pagos Oportunos'!$W$45=2,'Simulador Pagos Oportunos'!$J$60,IF('Simulador Pagos Oportunos'!$W$45=3,'Simulador Pagos Oportunos'!$L$60,IF('Simulador Pagos Oportunos'!$W$45=4,'Simulador Pagos Oportunos'!$N$60)))))","v":0},null,0,null,null,null,5,2,0,0,0,0,{"$f":"AG80","v":0.1225},0.1225,0.1225,0.1225,0.1225,0,0,0,0,0,0,0,{"$f":"IF(AN81=0,\"\",IF('Simulador Pagos Oportunos'!$W$45=1,AH81,IF('Simulador Pagos Oportunos'!$W$45=2,AI81,IF('Simulador Pagos Oportunos'!$W$45=3,AJ81,IF('Simulador Pagos Oportunos'!$W$45=4,AK81,AG81)))))","v":""},{"$f":"IF(AN81<=0,0,IF('Simulador Pagos Oportunos'!$Y$80=1,0,AN81*'Simulador Pagos Oportunos'!$Y$83))+IF(AN81<=0,0,IF('Simulador Pagos Oportunos'!$W$45=1,'Simulador Pagos Oportunos'!$H$60,IF('Simulador Pagos Oportunos'!$W$45=2,'Simulador Pagos Oportunos'!$J$60,IF('Simulador Pagos Oportunos'!$W$45=3,'Simulador Pagos Oportunos'!$L$60,'Simulador Pagos Oportunos'!$N$60))))","v":0},null,0,0,"",0,62]
[63,0,null,0,null,0,null,0,null,null,null,null,{"$f":"IF(OR('Simulador Pagos Oportunos'!$U$15=5,'Simulador Pagos Oportunos'!$U$15=1,'Simulador Pagos Oportunos'!$U$15=3,'Simulador Pagos Oportunos'!$U$15=4),0,K82*'Simulador Pagos Oportunos'!$N$74*'Simulador Pagos Oportunos'!$V$21)","v":0},null,{"$f":"IF(B82=0,\"\",IF('Simulador Pagos Oportunos'!$W$45=1,AH82,IF('Simulador Pagos Oportunos'!$W$45=2,AI82,IF('Simulador Pagos Oportunos'!$W$45=3,AJ82,IF('Simulador Pagos Oportunos'!$W$45=4,'Tabla Pagos Oportunos'!AK82,AG82)))))","v":""},null,0,null,{"$f":"IF(B82<=0,0,IF('Simulador Pagos Oportunos'!$Y$80=1,0,B82*'Simulador Pagos Oportunos'!$Y$83))","v":0},null,{"$f":"IF(B82<=0,0,IF('Simulador Pagos Oportunos'!$W$45=1,'Simulador Pagos Oportunos'!$H$60,IF('Simulador Pagos Oportunos'!$W$45=2,'Simulador Pagos Oportunos'!$J$60,IF('Simulador Pagos Oportunos'!$W$45=3,'Simulador Pagos Oportunos'!$L$60,IF('Simulador Pagos Oportunos'!$W$45=4,'Simulador Pagos Oportunos'!$N$60)))))","v":0},null,0,null,null,null,5,3,0,0,0,0,{"$f":"AG81","v":0.1225},0.1225,0.1225,0.1225,0.1225,0,0,0,0,0,0,0,{"$f":"IF(AN82=0,\"\",IF('Simulador Pagos Oportunos'!$W$45=1,AH82,IF('Simulador Pagos Oportunos'!$W$45=2,AI82,IF('Simulador Pagos Oportunos'!$W$45=3,AJ82,IF('Simulador Pagos Oportunos'!$W$45=4,AK82,AG82)))))","v":""},{"$f":"IF(AN82<=0,0,IF('Simulador Pagos Oportunos'!$Y$80=1,0,AN82*'Simulador Pagos Oportunos'!$Y$83))+IF(AN82<=0,0,IF('Simulador Pagos Oportunos'!$W$45=1,'Simulador Pagos Oportunos'!$H$60,IF('Simulador Pagos Oportunos'!$W$45=2,'Simulador Pagos Oportunos'!$J$60,IF('Simulador Pagos Oportunos'!$W$45=3,'Simulador Pagos Oportunos'!$L$60,'Simulador Pagos Oportunos'!$N$60))))","v":0},null,0,0,"",0,63]
[64,0,null,0,null,0,null,0,null,null,null,null,{"$f":"IF(OR('Simulador Pagos Oportunos'!$U$15=5,'Simulador Pagos Oportunos'!$U$15=1,'Simulador Pagos Oportunos'!$U$15=3,'Simulador Pagos Oportunos'!$U$15=4),0,K83*'Simulador Pagos Oportunos'!$N$74*'Simulador Pagos Oportunos'!$V$21)","v":0},null,{"$f":"IF(B83=0,\"\",IF('Simulador Pagos Oportunos'!$W$45=1,AH83,IF('Simulador Pagos Oportunos'!$W$45=2,AI83,IF('Simulador Pagos Oportunos'!$W$45=3,AJ83,IF('Simulador Pagos Oportunos'!$W$45=4,'Tabla Pagos Oportunos'!AK83,AG83)))))","v":""},null,0,null,{"$f":"IF(B83<=0,0,IF('Simulador Pagos Oportunos'!$Y$80=1,0,B83*'Simulador Pagos Oportunos'!$Y$83))","v":0},null,{"$f":"IF(B83<=0,0,IF('Simulador Pagos Oportunos'!$W$45=1,'Simulador Pagos Oportunos'!$H$60,IF('Simulador Pagos Oportunos'!$W$45=2,'Simulador Pagos Oportunos'!$J$60,IF('Simulador Pagos Oportunos'!$W$45=3,'Simulador Pagos Oportunos'!$L$60,IF('Simulador Pagos Oportunos'!$W$45=4,'Simulador Pagos Oportunos'!$N$60)))))","v":0},null,0,null,null,null,5,4,0,0,0,0,0.1225,0.1225,0.1225,0.1225,0.1225,0,0,0,0,0,0,0,{"$f":"IF(AN83=0,\"\",IF('Simulador Pagos Oportunos'!$W$45=1,AH83,IF('Simulador Pagos Oportunos'!$W$45=2,AI83,IF('Simulador Pagos Oportunos'!$W$45=3,AJ83,IF('Simulador Pagos Oportunos'!$W$45=4,AK83,AG83)))))","v":""},{"$f":"IF(AN83<=0,0,IF('Simulador Pagos Oportunos'!$Y$80=1,0,AN83*'Simulador Pagos Oportunos'!$Y$83))+IF(AN83<=0,0,IF('Simulador Pagos Oportunos'!$W$45=1,'Simulador Pagos Oportunos'!$H$60,IF('Simulador Pagos Oportunos'!$W$45=2,'Simulador Pagos Oportunos'!$J$60,IF('Simulador Pagos Oportunos'!$W$45=3,'Simulador Pagos Oportunos'!$L$60,'Simulador Pagos Oportunos'!$N$60))))","v":0},null,0,0,"",0,64]
[65,0,null,0,null,0,null,0,null,null,null,null,{"$f":"IF(OR('Simulador Pagos Oportunos'!$U$15=5,'Simulador Pagos Oportunos'!$U$15=1,'Simulador Pagos Oportunos'!$U$15=3,'Simulador Pagos Oportunos'!$U$15=4),0,K84*'Simulador Pagos Oportunos'!$N$74*'Simulador Pagos Oportunos'!$V$21)","v":0},null,{"$f":"IF(B84=0,\"\",IF('Simulador Pagos Oportunos'!$W$45=1,AH84,IF('Simulador Pagos Oportunos'!$W$45=2,AI84,IF('Simulador Pagos Oportunos'!$W$45=3,AJ84,IF('Simulador Pagos Oportunos'!$W$45=4,'Tabla Pagos Oportunos'!AK84,AG84)))))","v":""},null,{"$f":"B84-H84-K84+M84","v":0},null,{"$f":"IF(B84<=0,0,IF('Simulador Pagos Oportunos'!$Y$80=1,0,B84*'Simulador Pagos Oportunos'!$Y$83))","v":0},null,{"$f":"IF(B84<=0,0,IF('Simulador Pagos Oportunos'!$W$45=1,'Simulador Pagos Oportunos'!$H$60,IF('Simulador Pagos Oportunos'!$W$45=2,'Simulador Pagos Oportunos'!$J$60,IF('Simulador Pagos Oportunos'!$W$45=3,'Simulador Pagos Oportunos'!$L$60,IF('Simulador Pagos Oportunos'!$W$45=4,'Simulador Pagos Oportunos'!$N$60)))))","v":0},null,0,null,null,null,5,5,{"$f":"+IF(Q84<=0,IF(Q83>0,+A84,0),0)","v":0},0,0,0,0.1225,0.1225,0.1225,0.1225,0.1225,0,0,0,0,0,{"$f":"+AO84-AP84","v":0},{"$f":"+AN84-AQ84","v":0},{"$f":"IF(AN84=0,\"\",IF('Simulador Pagos Oportunos'!$W$45=1,AH84,IF('Simulador Pagos Oportunos'!$W$45=2,AI84,IF('Simulador Pagos Oportunos'!$W$45=3,AJ84,IF('Simulador Pagos Oportunos'!$W$45=4,AK84,AG84)))))","v":""},{"$f":"IF(AN84<=0,0,IF('Simulador Pagos Oportunos'!$Y$80=1,0,AN84*'Simulador Pagos Oportunos'!$Y$83))+IF(AN84<=0,0,IF('Simulador Pagos Oportunos'!$W$45=1,'Simulador Pagos Oportunos'!$H$60,IF('Simulador Pagos Oportunos'!$W$45=2,'Simulador Pagos Oportunos'!$J$60,IF('Simulador Pagos Oportunos'!$W$45=3,'Simulador Pagos Oportunos'!$L$60,'Simulador Pagos Oportunos'!$N$60))))","v":0},null,0,0,"",0,65]
[66,{"$f":"IF(Q84<0,0,IF(A85=$B$11,Q84+$D$11,IF(A85=$B$12,Q84+$D$12,IF(A85=$B$13,Q84+$D$13,Q84))))","v":0},null,{"$f":"IF(B85+F85-D84<=0,B85+F85,IF(A85=$B$11,$F$11,IF(A85=$B$12,$F$12,IF(A85=$B$13,$F$13,IF($AO$4=2,B85*AM85,D84*(1+Y85))))))","v":0},null,{"$f":"IF(B85=0,0,O85/360*AY85*B85)","v":0},null,0,null,null,null,null,{"$f":"IF(OR('Simulador Pagos Oportunos'!$U$15=5,'Simulador Pagos Oportunos'!$U$15=1,'Simulador Pagos Oportunos'!$U$15=3,'Simulador Pagos Oportunos'!$U$15=4),0,K85*'Simulador Pagos Oportunos'!$N$74*'Simulador Pagos Oportunos'!$V$21)","v":0},null,{"$f":"IF(B85=0,\"\",IF('Simulador Pagos Oportunos'!$W$45=1,AH85,IF('Simulador Pagos Oportunos'!$W$45=2,AI85,IF('Simulador Pagos Oportunos'!$W$45=3,AJ85,IF('Simulador Pagos Oportunos'!$W$45=4,'Tabla Pagos Oportunos'!AK85,AG85)))))","v":""},null,0,null,{"$f":"IF(B85<=0,0,IF('Simulador Pagos Oportunos'!$Y$80=1,0,B85*'Simulador Pagos Oportunos'!$Y$83))","v":0},null,{"$f":"IF(B85<=0,0,IF('Simulador Pagos Oportunos'!$W$45=1,'Simulador Pagos Oportunos'!$H$60,IF('Simulador Pagos Oportunos'!$W$45=2,'Simulador Pagos Oportunos'!$J$60,IF('Simulador Pagos Oportunos'!$W$45=3,'Simulador Pagos Oportunos'!$L$60,IF('Simulador Pagos Oportunos'!$W$45=4,'Simulador Pagos Oportunos'!$N$60)))))","v":0},null,{"$f":"IF(B85<=0,0,(D85+K85+S85+U85))","v":0},null,null,null,5,6,0,{"$f":"+IF(AC85>0,+AA85,0)","v":0},{"$f":"+IF(AC85>0,+AB85,0)","v":0},{"$f":"W85","v":0},0.1225,0.1225,{"$f":"AI84","v":0.1225},{"$f":"AJ84","v":0.1225},{"$f":"AK84","v":0.1225},0,{"$f":"IFERROR(AO85/AN85,0)","v":0},0,0,{"$f":"IFERROR((AS85/360*AY85*AN85),0)","v":0},0,0,{"$f":"IF(AN85=0,\"\",IF('Simulador Pagos Oportunos'!$W$45=1,AH85,IF('Simulador Pagos Oportunos'!$W$45=2,AI85,IF('Simulador Pagos Oportunos'!$W$45=3,AJ85,IF('Simulador Pagos Oportunos'!$W$45=4,AK85,AG85)))))","v":""},{"$f":"IF(AN85<=0,0,IF('Simulador Pagos Oportunos'!$Y$80=1,0,AN85*'Simulador Pagos Oportunos'!$Y$83))+IF(AN85<=0,0,IF('Simulador Pagos Oportunos'!$W$45=1,'Simulador Pagos Oportunos'!$H$60,IF('Simulador Pagos Oportunos'!$W$45=2,'Simulador Pagos Oportunos'!$J$60,IF('Simulador Pagos Oportunos'!$W$45=3,'Simulador Pagos Oportunos'!$L$60,'Simulador Pagos Oportunos'!$N$60))))","v":0},null,{"$f":"AP85+AQ85+AT85","v":0},{"$f":"IFERROR(IF(AO85<=0.01,0,AW84-1),0)","v":0},"",{"$f":"IFERROR(DAY(DATE(YEAR(AX85),MONTH(AX85)+1,0)),0)","v":0},66]
[67,0,null,0,null,0,null,{"$f":"D86-F86","v":0},null,null,null,null,{"$f":"IF(OR('Simulador Pagos Oportunos'!$U$15=5,'Simulador Pagos Oportunos'!$U$15=1,'Simulador Pagos Oportunos'!$U$15=3,'Simulador Pagos Oportunos'!$U$15=4),0,K86*'Simulador Pagos Oportunos'!$N$74*'Simulador Pagos Oportunos'!$V$21)","v":0},null,{"$f":"IF(B86=0,\"\",IF('Simulador Pagos Oportunos'!$W$45=1,AH86,IF('Simulador Pagos Oportunos'!$W$45=2,AI86,IF('Simulador Pagos Oportunos'!$W$45=3,AJ86,IF('Simulador Pagos Oportunos'!$W$45=4,'Tabla Pagos Oportunos'!AK86,AG86)))))","v":""},null,0,null,{"$f":"IF(B86<=0,0,IF('Simulador Pagos Oportunos'!$Y$80=1,0,B86*'Simulador Pagos Oportunos'!$Y$83))","v":0},null,{"$f":"IF(B86<=0,0,IF('Simulador Pagos Oportunos'!$W$45=1,'Simulador Pagos Oportunos'!$H$60,IF('Simulador Pagos Oportunos'!$W$45=2,'Simulador Pagos Oportunos'!$J$60,IF('Simulador Pagos Oportunos'!$W$45=3,'Simulador Pagos Oportunos'!$L$60,IF('Simulador Pagos Oportunos'!$W$45=4,'Simulador Pagos Oportunos'!$N$60)))))","v":0},null,0,null,null,null,5,7,0,0,0,0,0.1225,0.1225,0.1225,0.1225,0.1225,0,0,{"$f":"IF(AR85<0,0,IF(A86=$B$11,AR85+$D$11,IF(A86=$B$12,AR85+$D$12,IF(A86=$B$13,AR85+$D$13,AR85))))","v":0},{"$f":"IF(AN86+AP86-AO85<=0,AN86+AP86,IF(A86=$B$11,$F$11,IF(A86=$B$12,$F$12,IF(A86=$B$13,$F$13,AO85*(1+AU86)))))","v":0},0,0,0,{"$f":"IF(AN86=0,\"\",IF('Simulador Pagos Oportunos'!$W$45=1,AH86,IF('Simulador Pagos Oportunos'!$W$45=2,AI86,IF('Simulador Pagos Oportunos'!$W$45=3,AJ86,IF('Simulador Pagos Oportunos'!$W$45=4,AK86,AG86)))))","v":""},{"$f":"IF(AN86<=0,0,IF('Simulador Pagos Oportunos'!$Y$80=1,0,AN86*'Simulador Pagos Oportunos'!$Y$83))+IF(AN86<=0,0,IF('Simulador Pagos Oportunos'!$W$45=1,'Simulador Pagos Oportunos'!$H$60,IF('Simulador Pagos Oportunos'!$W$45=2,'Simulador Pagos Oportunos'!$J$60,IF('Simulador Pagos Oportunos'!$W$45=3,'Simulador Pagos Oportunos'!$L$60,'Simulador Pagos Oportunos'!$N$60))))","v":0},null,0,0,{"$f":"IF(AN86=0,\"\",DATE(YEAR(AX85),MONTH(AX85)+1,1))","v":""},0,67]
[68,0,null,0,null,0,null,0,null,null,null,null,{"$f":"IF(OR('Simulador Pagos Oportunos'!$U$15=5,'Simulador Pagos Oportunos'!$U$15=1,'Simulador Pagos Oportunos'!$U$15=3,'Simulador Pagos Oportunos'!$U$15=4),0,K87*'Simulador Pagos Oportunos'!$N$74*'Simulador Pagos Oportunos'!$V$21)","v":0},null,{"$f":"IF(B87=0,\"\",IF('Simulador Pagos Oportunos'!$W$45=1,AH87,IF('Simulador Pagos Oportunos'!$W$45=2,AI87,IF('Simulador Pagos Oportunos'!$W$45=3,AJ87,IF('Simulador Pagos Oportunos'!$W$45=4,'Tabla Pagos Oportunos'!AK87,AG87)))))","v":""},null,0,null,{"$f":"IF(B87<=0,0,IF('Simulador Pagos Oportunos'!$Y$80=1,0,B87*'Simulador Pagos Oportunos'!$Y$83))","v":0},null,{"$f":"IF(B87<=0,0,IF('Simulador Pagos Oportunos'!$W$45=1,'Simulador Pagos Oportunos'!$H$60,IF('Simulador Pagos Oportunos'!$W$45=2,'Simulador Pagos Oportunos'!$J$60,IF('Simulador Pagos Oportunos'!$W$45=3,'Simulador Pagos Oportunos'!$L$60,IF('Simulador Pagos Oportunos'!$W$45=4,'Simulador Pagos Oportunos'!$N$60)))))","v":0},null,0,null,null,null,5,8,0,0,0,0,0.1225,0.1225,0.1225,0.1225,0.1225,0,0,0,0,0,0,0,{"$f":"IF(AN87=0,\"\",IF('Simulador Pagos Oportunos'!$W$45=1,AH87,IF('Simulador Pagos Oportunos'!$W$45=2,AI87,IF('Simulador Pagos Oportunos'!$W$45=3,AJ87,IF('Simulador Pagos Oportunos'!$W$45=4,AK87,AG87)))))","v":""},{"$f":"IF(AN87<=0,0,IF('Simulador Pagos Oportunos'!$Y$80=1,0,AN87*'Simulador Pagos Oportunos'!$Y$83))+IF(AN87<=0,0,IF('Simulador Pagos Oportunos'!$W$45=1,'Simulador Pagos Oportunos'!$H$60,IF('Simulador Pagos Oportunos'!$W$45=2,'Simulador Pagos Oportunos'!$J$60,IF('Simulador Pagos Oportunos'!$W$45=3,'Simulador Pagos Oportunos'!$L$60,'Simulador Pagos Oportunos'!$N$60))))","v":0},null,0,0,"",0,68]
[69,0,null,0,null,0,null,0,null,null,null,null,{"$f":"IF(OR('Simulador Pagos Oportunos'!$U$15=5,'Simulador Pagos Oportunos'!$U$15=1,'Simulador Pagos Oportunos'!$U$15=3,'Simulador Pagos Oportunos'!$U$15=4),0,K88*'Simulador Pagos Oportunos'!$N$74*'Simulador Pagos Oportunos'!$V$21)","v":0},null,{"$f":"IF(B88=0,\"\",IF('Simulador Pagos Oportunos'!$W$45=1,AH88,IF('Simulador Pagos Oportunos'!$W$45=2,AI88,IF('Simulador Pagos Oportunos'!$W$45=3,AJ88,IF('Simulador Pagos Oportunos'!$W$45=4,'Tabla Pagos Oportunos'!AK88,AG88)))))","v":""},null,0,null,{"$f":"IF(B88<=0,0,IF('Simulador Pagos Oportunos'!$Y$80=1,0,B88*'Simulador Pagos Oportunos'!$Y$83))","v":0},null,{"$f":"IF(B88<=0,0,IF('Simulador Pagos Oportunos'!$W$45=1,'Simulador Pagos Oportunos'!$H$60,IF('Simulador Pagos Oportunos'!$W$45=2,'Simulador Pagos Oportunos'!$J$60,IF('Simulador Pagos Oportunos'!$W$45=3,'Simulador Pagos Oportunos'!$L$60,IF('Simulador Pagos Oportunos'!$W$45=4,'Simulador Pagos Oportunos'!$N$60)))))","v":0},null,0,null,null,null,5,9,0,0,0,0,0.1225,0.1225,0.1225,0.1225,0.1225,0,0,0,0,0,0,0,{"$f":"IF(AN88=0,\"\",IF('Simulador Pagos Oportunos'!$W$45=1,AH88,IF('Simulador Pagos Oportunos'!$W$45=2,AI88,IF('Simulador Pagos Oportunos'!$W$45=3,AJ88,IF('Simulador Pagos Oportunos'!$W$45=4,AK88,AG88)))))","v":""},{"$f":"IF(AN88<=0,0,IF('Simulador Pagos Oportunos'!$Y$80=1,0,AN88*'Simulador Pagos Oportunos'!$Y$83))+IF(AN88<=0,0,IF('Simulador Pagos Oportunos'!$W$45=1,'Simulador Pagos Oportunos'!$H$60,IF('Simulador Pagos Oportunos'!$W$45=2,'Simulador Pagos Oportunos'!$J$60,IF('Simulador Pagos Oportunos'!$W$45=3,'Simulador Pagos Oportunos'!$L$60,'Simulador Pagos Oportunos'!$N$60))))","v":0},null,0,0,"",0,69]
[70,0,null,0,null,0,null,0,null,null,null,null,{"$f":"IF(OR('Simulador Pagos Oportunos'!$U$15=5,'Simulador Pagos Oportunos'!$U$15=1,'Simulador Pagos Oportunos'!$U$15=3,'Simulador Pagos Oportunos'!$U$15=4),0,K89*'Simulador Pagos Oportunos'!$N$74*'Simulador Pagos Oportunos'!$V$21)","v":0},null,{"$f":"IF(B89=0,\"\",IF('Simulador Pagos Oportunos'!$W$45=1,AH89,IF('Simulador Pagos Oportunos'!$W$45=2,AI89,IF('Simulador Pagos Oportunos'!$W$45=3,AJ89,IF('Simulador Pagos Oportunos'!$W$45=4,'Tabla Pagos Oportunos'!AK89,AG89)))))","v":""},null,0,null,{"$f":"IF(B89<=0,0,IF('Simulador Pagos Oportunos'!$Y$80=1,0,B89*'Simulador Pagos Oportunos'!$Y$83))","v":0},null,{"$f":"IF(B89<=0,0,IF('Simulador Pagos Oportunos'!$W$45=1,'Simulador Pagos Oportunos'!$H$60,IF('Simulador Pagos Oportunos'!$W$45=2,'Simulador Pagos Oportunos'!$J$60,IF('Simulador Pagos Oportunos'!$W$45=3,'Simulador Pagos Oportunos'!$L$60,IF('Simulador Pagos Oportunos'!$W$45=4,'Simulador Pagos Oportunos'!$N$60)))))","v":0},null,0,null,null,null,5,10,0,0,0,0,0.1225,0.1225,0.1225,0.1225,0.1225,0,0,0,0,0,0,0,{"$f":"IF(AN89=0,\"\",IF('Simulador Pagos Oportunos'!$W$45=1,AH89,IF('Simulador Pagos Oportunos'!$W$45=2,AI89,IF('Simulador Pagos Oportunos'!$W$45=3,AJ89,IF('Simulador Pagos Oportunos'!$W$45=4,AK89,AG89)))))","v":""},{"$f":"IF(AN89<=0,0,IF('Simulador Pagos Oportunos'!$Y$80=1,0,AN89*'Simulador Pagos Oportunos'!$Y$83))+IF(AN89<=0,0,IF('Simulador Pagos Oportunos'!$W$45=1,'Simulador Pagos Oportunos'!$H$60,IF('Simulador Pagos Oportunos'!$W$45=2,'Simulador Pagos Oportunos'!$J$60,IF('Simulador Pagos Oportunos'!$W$45=3,'Simulador Pagos Oportunos'!$L$60,'Simulador Pagos Oportunos'!$N$60))))","v":0},null,0,0,"",0,70]
[71,0,null,0,null,0,null,0,null,null,null,null,{"$f":"IF(OR('Simulador Pagos Oportunos'!$U$15=5,'Simulador Pagos Oportunos'!$U$15=1,'Simulador Pagos Oportunos'!$U$15=3,'Simulador Pagos Oportunos'!$U$15=4),0,K90*'Simulador Pagos Oportunos'!$N$74*'Simulador Pagos Oportunos'!$V$21)","v":0},null,{"$f":"IF(B90=0,\"\",IF('Simulador Pagos Oportunos'!$W$45=1,AH90,IF('Simulador Pagos Oportunos'!$W$45=2,AI90,IF('Simulador Pagos Oportunos'!$W$45=3,AJ90,IF('Simulador Pagos Oportunos'!$W$45=4,'Tabla Pagos Oportunos'!AK90,AG90)))))","v":""},null,0,null,{"$f":"IF(B90<=0,0,IF('Simulador Pagos Oportunos'!$Y$80=1,0,B90*'Simulador Pagos Oportunos'!$Y$83))","v":0},null,{"$f":"IF(B90<=0,0,IF('Simulador Pagos Oportunos'!$W$45=1,'Simulador Pagos Oportunos'!$H$60,IF('Simulador Pagos Oportunos'!$W$45=2,'Simulador Pagos Oportunos'!$J$60,IF('Simulador Pagos Oportunos'!$W$45=3,'Simulador Pagos Oportunos'!$L$60,IF('Simulador Pagos Oportunos'!$W$45=4,'Simulador Pagos Oportunos'!$N$60)))))","v":0},null,0,null,null,null,5,11,0,0,0,0,0.1225,0.1225,0.1225,0.1225,0.1225,0,0,0,0,0,0,0,{"$f":"IF(AN90=0,\"\",IF('Simulador Pagos Oportunos'!$W$45=1,AH90,IF('Simulador Pagos Oportunos'!$W$45=2,AI90,IF('Simulador Pagos Oportunos'!$W$45=3,AJ90,IF('Simulador Pagos Oportunos'!$W$45=4,AK90,AG90)))))","v":""},{"$f":"IF(AN90<=0,0,IF('Simulador Pagos Oportunos'!$Y$80=1,0,AN90*'Simulador Pagos Oportunos'!$Y$83))+IF(AN90<=0,0,IF('Simulador Pagos Oportunos'!$W$45=1,'Simulador Pagos Oportunos'!$H$60,IF('Simulador Pagos Oportunos'!$W$45=2,'Simulador Pagos Oportunos'!$J$60,IF('Simulador Pagos Oportunos'!$W$45=3,'Simulador Pagos Oportunos'!$L$60,'Simulador Pagos Oportunos'!$N$60))))","v":0},null,0,0,"",0,71]
[72,0,null,0,null,0,null,0,null,null,null,null,{"$f":"IF(OR('Simulador Pagos Oportunos'!$U$15=5,'Simulador Pagos Oportunos'!$U$15=1,'Simulador Pagos Oportunos'!$U$15=3,'Simulador Pagos Oportunos'!$U$15=4),0,K91*'Simulador Pagos Oportunos'!$N$74*'Simulador Pagos Oportunos'!$V$21)","v":0},null,{"$f":"IF(B91=0,\"\",IF('Simulador Pagos Oportunos'!$W$45=1,AH91,IF('Simulador Pagos Oportunos'!$W$45=2,AI91,IF('Simulador Pagos Oportunos'!$W$45=3,AJ91,IF('Simulador Pagos Oportunos'!$W$45=4,'Tabla Pagos Oportunos'!AK91,AG91)))))","v":""},null,0,null,{"$f":"IF(B91<=0,0,IF('Simulador Pagos Oportunos'!$Y$80=1,0,B91*'Simulador Pagos Oportunos'!$Y$83))","v":0},null,{"$f":"IF(B91<=0,0,IF('Simulador Pagos Oportunos'!$W$45=1,'Simulador Pagos Oportunos'!$H$60,IF('Simulador Pagos Oportunos'!$W$45=2,'Simulador Pagos Oportunos'!$J$60,IF('Simulador Pagos Oportunos'!$W$45=3,'Simulador Pagos Oportunos'!$L$60,IF('Simulador Pagos Oportunos'!$W$45=4,'Simulador Pagos Oportunos'!$N$60)))))","v":0},null,0,null,null,null,6,0,0,0,0,0,0.1225,0.1225,0.1225,0.1225,0.1225,0,0,0,0,0,0,0,{"$f":"IF(AN91=0,\"\",IF('Simulador Pagos Oportunos'!$W$45=1,AH91,IF('Simulador Pagos Oportunos'!$W$45=2,AI91,IF('Simulador Pagos Oportunos'!$W$45=3,AJ91,IF('Simulador Pagos Oportunos'!$W$45=4,AK91,AG91)))))","v":""},{"$f":"IF(AN91<=0,0,IF('Simulador Pagos Oportunos'!$Y$80=1,0,AN91*'Simulador Pagos Oportunos'!$Y$83))+IF(AN91<=0,0,IF('Simulador Pagos Oportunos'!$W$45=1,'Simulador Pagos Oportunos'!$H$60,IF('Simulador Pagos Oportunos'!$W$45=2,'Simulador Pagos Oportunos'!$J$60,IF('Simulador Pagos Oportunos'!$W$45=3,'Simulador Pagos Oportunos'!$L$60,'Simulador Pagos Oportunos'!$N$60))))","v":0},null,0,0,"",0,72]
[73,0,null,0,null,0,null,0,null,null,null,null,{"$f":"IF(OR('Simulador Pagos Oportunos'!$U$15=5,'Simulador Pagos Oportunos'!$U$15=1,'Simulador Pagos Oportunos'!$U$15=3,'Simulador Pagos Oportunos'!$U$15=4),0,K92*'Simulador Pagos Oportunos'!$N$74*'Simulador Pagos Oportunos'!$V$21)","v":0},null,{"$f":"IF(B92=0,\"\",IF('Simulador Pagos Oportunos'!$W$45=1,AH92,IF('Simulador Pagos Oportunos'!$W$45=2,AI92,IF('Simulador Pagos Oportunos'!$W$45=3,AJ92,IF('Simulador Pagos Oportunos'!$W$45=4,'Tabla Pagos Oportunos'!AK92,AG92)))))","v":""},null,0,null,{"$f":"IF(B92<=0,0,IF('Simulador Pagos Oportunos'!$Y$80=1,0,B92*'Simulador Pagos Oportunos'!$Y$83))","v":0},null,{"$f":"IF(B92<=0,0,IF('Simulador Pagos Oportunos'!$W$45=1,'Simulador Pagos Oportunos'!$H$60,IF('Simulador Pagos Oportunos'!$W$45=2,'Simulador Pagos Oportunos'!$J$60,IF('Simulador Pagos Oportunos'!$W$45=3,'Simulador Pagos Oportunos'!$L$60,IF('Simulador Pagos Oportunos'!$W$45=4,'Simulador Pagos Oportunos'!$N$60)))))","v":0},null,0,null,{"$f":"IF(B92<=0,0,IF('Simulador Pagos Oportunos'!$W$45=4,0,'Simulador Pagos Oportunos'!$AG$62))","v":0},null,6,1,0,0,0,0,{"$f":"IF(AG91=$AG$4,AG91,IF(AG91-0.25%<=$AG$4,$AG$4,AG91-0.25%))","v":0.12},0.1225,0.1225,0.1225,0.1225,0,0,0,0,0,0,0,{"$f":"IF(AN92=0,\"\",IF('Simulador Pagos Oportunos'!$W$45=1,AH92,IF('Simulador Pagos Oportunos'!$W$45=2,AI92,IF('Simulador Pagos Oportunos'!$W$45=3,AJ92,IF('Simulador Pagos Oportunos'!$W$45=4,AK92,AG92)))))","v":""},{"$f":"IF(AN92<=0,0,IF('Simulador Pagos Oportunos'!$Y$80=1,0,AN92*'Simulador Pagos Oportunos'!$Y$83))+IF(AN92<=0,0,IF('Simulador Pagos Oportunos'!$W$45=1,'Simulador Pagos Oportunos'!$H$60,IF('Simulador Pagos Oportunos'!$W$45=2,'Simulador Pagos Oportunos'!$J$60,IF('Simulador Pagos Oportunos'!$W$45=3,'Simulador Pagos Oportunos'!$L$60,'Simulador Pagos Oportunos'!$N$60))))","v":0},{"$f":"IF(AN92<=0,0,$AU$32)","v":0},0,0,"",0,73]
[74,0,null,0,null,0,null,0,null,null,null,null,{"$f":"IF(OR('Simulador Pagos Oportunos'!$U$15=5,'Simulador Pagos Oportunos'!$U$15=1,'Simulador Pagos Oportunos'!$U$15=3,'Simulador Pagos Oportunos'!$U$15=4),0,K93*'Simulador Pagos Oportunos'!$N$74*'Simulador Pagos Oportunos'!$V$21)","v":0},null,{"$f":"IF(B93=0,\"\",IF('Simulador Pagos Oportunos'!$W$45=1,AH93,IF('Simulador Pagos Oportunos'!$W$45=2,AI93,IF('Simulador Pagos Oportunos'!$W$45=3,AJ93,IF('Simulador Pagos Oportunos'!$W$45=4,'Tabla Pagos Oportunos'!AK93,AG93)))))","v":""},null,0,null,{"$f":"IF(B93<=0,0,IF('Simulador Pagos Oportunos'!$Y$80=1,0,B93*'Simulador Pagos Oportunos'!$Y$83))","v":0},null,{"$f":"IF(B93<=0,0,IF('Simulador Pagos Oportunos'!$W$45=1,'Simulador Pagos Oportunos'!$H$60,IF('Simulador Pagos Oportunos'!$W$45=2,'Simulador Pagos Oportunos'!$J$60,IF('Simulador Pagos Oportunos'!$W$45=3,'Simulador Pagos Oportunos'!$L$60,IF('Simulador Pagos Oportunos'!$W$45=4,'Simulador Pagos Oportunos'!$N$60)))))","v":0},null,0,null,null,null,6,2,0,0,0,0,{"$f":"AG92","v":0.12},0.1225,0.1225,0.1225,0.1225,0,0,0,0,0,0,0,{"$f":"IF(AN93=0,\"\",IF('Simulador Pagos Oportunos'!$W$45=1,AH93,IF('Simulador Pagos Oportunos'!$W$45=2,AI93,IF('Simulador Pagos Oportunos'!$W$45=3,AJ93,IF('Simulador Pagos Oportunos'!$W$45=4,AK93,AG93)))))","v":""},{"$f":"IF(AN93<=0,0,IF('Simulador Pagos Oportunos'!$Y$80=1,0,AN93*'Simulador Pagos Oportunos'!$Y$83))+IF(AN93<=0,0,IF('Simulador Pagos Oportunos'!$W$45=1,'Simulador Pagos Oportunos'!$H$60,IF('Simulador Pagos Oportunos'!$W$45=2,'Simulador Pagos Oportunos'!$J$60,IF('Simulador Pagos Oportunos'!$W$45=3,'Simulador Pagos Oportunos'!$L$60,'Simulador Pagos Oportunos'!$N$60))))","v":0},null,0,0,"",0,74]
[75,0,null,0,null,0,null,0,null,null,null,null,{"$f":"IF(OR('Simulador Pagos Oportunos'!$U$15=5,'Simulador Pagos Oportunos'!$U$15=1,'Simulador Pagos Oportunos'!$U$15=3,'Simulador Pagos Oportunos'!$U$15=4),0,K94*'Simulador Pagos Oportunos'!$N$74*'Simulador Pagos Oportunos'!$V$21)","v":0},null,{"$f":"IF(B94=0,\"\",IF('Simulador Pagos Oportunos'!$W$45=1,AH94,IF('Simulador Pagos Oportunos'!$W$45=2,AI94,IF('Simulador Pagos Oportunos'!$W$45=3,AJ94,IF('Simulador Pagos Oportunos'!$W$45=4,'Tabla Pagos Oportunos'!AK94,AG94)))))","v":""},null,0,null,{"$f":"IF(B94<=0,0,IF('Simulador Pagos Oportunos'!$Y$80=1,0,B94*'Simulador Pagos Oportunos'!$Y$83))","v":0},null,{"$f":"IF(B94<=0,0,IF('Simulador Pagos Oportunos'!$W$45=1,'Simulador Pagos Oportunos'!$H$60,IF('Simulador Pagos Oportunos'!$W$45=2,'Simulador Pagos Oportunos'!$J$60,IF('Simulador Pagos Oportunos'!$W$45=3,'Simulador Pagos Oportunos'!$L$60,IF('Simulador Pagos Oportunos'!$W$45=4,'Simulador Pagos Oportunos'!$N$60)))))","v":0},null,0,null,null,null,6,3,0,0,0,0,0.12,0.1225,0.1225,0.1225,0.1225,0,0,0,0,0,0,0,{"$f":"IF(AN94=0,\"\",IF('Simulador Pagos Oportunos'!$W$45=1,AH94,IF('Simulador Pagos Oportunos'!$W$45=2,AI94,IF('Simulador Pagos Oportunos'!$W$45=3,AJ94,IF('Simulador Pagos Oportunos'!$W$45=4,AK94,AG94)))))","v":""},{"$f":"IF(AN94<=0,0,IF('Simulador Pagos Oportunos'!$Y$80=1,0,AN94*'Simulador Pagos Oportunos'!$Y$83))+IF(AN94<=0,0,IF('Simulador Pagos Oportunos'!$W$45=1,'Simulador Pagos Oportunos'!$H$60,IF('Simulador Pagos Oportunos'!$W$45=2,'Simulador Pagos Oportunos'!$J$60,IF('Simulador Pagos Oportunos'!$W$45=3,'Simulador Pagos Oportunos'!$L$60,'Simulador Pagos Oportunos'!$N$60))))","v":0},null,0,0,"",0,75]
[76,0,null,0,null,0,null,0,null,null,null,null,{"$f":"IF(OR('Simulador Pagos Oportunos'!$U$15=5,'Simulador Pagos Oportunos'!$U$15=1,'Simulador Pagos Oportunos'!$U$15=3,'Simulador Pagos Oportunos'!$U$15=4),0,K95*'Simulador Pagos Oportunos'!$N$74*'Simulador Pagos Oportunos'!$V$21)","v":0},null,{"$f":"IF(B95=0,\"\",IF('Simulador Pagos Oportunos'!$W$45=1,AH95,IF('Simulador Pagos Oportunos'!$W$45=2,AI95,IF('Simulador Pagos Oportunos'!$W$45=3,AJ95,IF('Simulador Pagos Oportunos'!$W$45=4,'Tabla Pagos Oportunos'!AK95,AG95)))))","v":""},null,0,null,{"$f":"IF(B95<=0,0,IF('Simulador Pagos Oportunos'!$Y$80=1,0,B95*'Simulador Pagos Oportunos'!$Y$83))","v":0},null,{"$f":"IF(B95<=0,0,IF('Simulador Pagos Oportunos'!$W$45=1,'Simulador Pagos Oportunos'!$H$60,IF('Simulador Pagos Oportunos'!$W$45=2,'Simulador Pagos Oportunos'!$J$60,IF('Simulador Pagos Oportunos'!$W$45=3,'Simulador Pagos Oportunos'!$L$60,IF('Simulador Pagos Oportunos'!$W$45=4,'Simulador Pagos Oportunos'!$N$60)))))","v":0},null,0,null,null,null,6,4,0,0,0,0,0.12,0.1225,0.1225,0.1225,0.1225,0,0,0,0,0,0,0,{"$f":"IF(AN95=0,\"\",IF('Simulador Pagos Oportunos'!$W$45=1,AH95,IF('Simulador Pagos Oportunos'!$W$45=2,AI95,IF('Simulador Pagos Oportunos'!$W$45=3,AJ95,IF('Simulador Pagos Oportunos'!$W$45=4,AK95,AG95)))))","v":""},{"$f":"IF(AN95<=0,0,IF('Simulador Pagos Oportunos'!$Y$80=1,0,AN95*'Simulador Pagos Oportunos'!$Y$83))+IF(AN95<=0,0,IF('Simulador Pagos Oportunos'!$W$45=1,'Simulador Pagos Oportunos'!$H$60,IF('Simulador Pagos Oportunos'!$W$45=2,'Simulador Pagos Oportunos'!$J$60,IF('Simulador Pagos Oportunos'!$W$45=3,'Simulador Pagos Oportunos'!$L$60,'Simulador Pagos Oportunos'!$N$60))))","v":0},null,0,0,"",0,76]
[77,0,null,0,null,0,null,0,null,null,null,null,{"$f":"IF(OR('Simulador Pagos Oportunos'!$U$15=5,'Simulador Pagos Oportunos'!$U$15=1,'Simulador Pagos Oportunos'!$U$15=3,'Simulador Pagos Oportunos'!$U$15=4),0,K96*'Simulador Pagos Oportunos'!$N$74*'Simulador Pagos Oportunos'!$V$21)","v":0},null,{"$f":"IF(B96=0,\"\",IF('Simulador Pagos Oportunos'!$W$45=1,AH96,IF('Simulador Pagos Oportunos'!$W$45=2,AI96,IF('Simulador Pagos Oportunos'!$W$45=3,AJ96,IF('Simulador Pagos Oportunos'!$W$45=4,'Tabla Pagos Oportunos'!AK96,AG96)))))","v":""},null,0,null,{"$f":"IF(B96<=0,0,IF('Simulador Pagos Oportunos'!$Y$80=1,0,B96*'Simulador Pagos Oportunos'!$Y$83))","v":0},null,{"$f":"IF(B96<=0,0,IF('Simulador Pagos Oportunos'!$W$45=1,'Simulador Pagos Oportunos'!$H$60,IF('Simulador Pagos Oportunos'!$W$45=2,'Simulador Pagos Oportunos'!$J$60,IF('Simulador Pagos Oportunos'!$W$45=3,'Simulador Pagos Oportunos'!$L$60,IF('Simulador Pagos Oportunos'!$W$45=4,'Simulador Pagos Oportunos'!$N$60)))))","v":0},null,0,null,null,null,6,5,0,0,0,0,0.12,0.1225,0.1225,0.1225,0.1225,0,0,0,0,0,0,0,{"$f":"IF(AN96=0,\"\",IF('Simulador Pagos Oportunos'!$W$45=1,AH96,IF('Simulador Pagos Oportunos'!$W$45=2,AI96,IF('Simulador Pagos Oportunos'!$W$45=3,AJ96,IF('Simulador Pagos Oportunos'!$W$45=4,AK96,AG96)))))","v":""},{"$f":"IF(AN96<=0,0,IF('Simulador Pagos Oportunos'!$Y$80=1,0,AN96*'Simulador Pagos Oportunos'!$Y$83))+IF(AN96<=0,0,IF('Simulador Pagos Oportunos'!$W$45=1,'Simulador Pagos Oportunos'!$H$60,IF('Simulador Pagos Oportunos'!$W$45=2,'Simulador Pagos Oportunos'!$J$60,IF('Simulador Pagos Oportunos'!$W$45=3,'Simulador Pagos Oportunos'!$L$60,'Simulador Pagos Oportunos'!$N$60))))","v":0},null,0,0,"",0,77]
[78,0,null,0,null,0,null,0,null,null,null,null,{"$f":"IF(OR('Simulador Pagos Oportunos'!$U$15=5,'Simulador Pagos Oportunos'!$U$15=1,'Simulador Pagos Oportunos'!$U$15=3,'Simulador Pagos Oportunos'!$U$15=4),0,K97*'Simulador Pagos Oportunos'!$N$74*'Simulador Pagos Oportunos'!$V$21)","v":0},null,{"$f":"IF(B97=0,\"\",IF('Simulador Pagos Oportunos'!$W$45=1,AH97,IF('Simulador Pagos Oportunos'!$W$45=2,AI97,IF('Simulador Pagos Oportunos'!$W$45=3,AJ97,IF('Simulador Pagos Oportunos'!$W$45=4,'Tabla Pagos Oportunos'!AK97,AG97)))))","v":""},null,0,null,{"$f":"IF(B97<=0,0,IF('Simulador Pagos Oportunos'!$Y$80=1,0,B97*'Simulador Pagos Oportunos'!$Y$83))","v":0},null,{"$f":"IF(B97<=0,0,IF('Simulador Pagos Oportunos'!$W$45=1,'Simulador Pagos Oportunos'!$H$60,IF('Simulador Pagos Oportunos'!$W$45=2,'Simulador Pagos Oportunos'!$J$60,IF('Simulador Pagos Oportunos'!$W$45=3,'Simulador Pagos Oportunos'!$L$60,IF('Simulador Pagos Oportunos'!$W$45=4,'Simulador Pagos Oportunos'!$N$60)))))","v":0},null,0,null,null,null,6,6,0,0,0,0,0.12,0.1225,0.1225,0.1225,0.1225,0,0,0,0,0,0,0,{"$f":"IF(AN97=0,\"\",IF('Simulador Pagos Oportunos'!$W$45=1,AH97,IF('Simulador Pagos Oportunos'!$W$45=2,AI97,IF('Simulador Pagos Oportunos'!$W$45=3,AJ97,IF('Simulador Pagos Oportunos'!$W$45=4,AK97,AG97)))))","v":""},{"$f":"IF(AN97<=0,0,IF('Simulador Pagos Oportunos'!$Y$80=1,0,AN97*'Simulador Pagos Oportunos'!$Y$83))+IF(AN97<=0,0,IF('Simulador Pagos Oportunos'!$W$45=1,'Simulador Pagos Oportunos'!$H$60,IF('Simulador Pagos Oportunos'!$W$45=2,'Simulador Pagos Oportunos'!$J$60,IF('Simulador Pagos Oportunos'!$W$45=3,'Simulador Pagos Oportunos'!$L$60,'Simulador Pagos Oportunos'!$N$60))))","v":0},null,0,0,"",0,78]
[79,0,null,0,null,0,null,0,null,null,null,null,{"$f":"IF(OR('Simulador Pagos Oportunos'!$U$15=5,'Simulador Pagos Oportunos'!$U$15=1,'Simulador Pagos Oportunos'!$U$15=3,'Simulador Pagos Oportunos'!$U$15=4),0,K98*'Simulador Pagos Oportunos'!$N$74*'Simulador Pagos Oportunos'!$V$21)","v":0},null,{"$f":"IF(B98=0,\"\",IF('Simulador Pagos Oportunos'!$W$45=1,AH98,IF('Simulador Pagos Oportunos'!$W$45=2,AI98,IF('Simulador Pagos Oportunos'!$W$45=3,AJ98,IF('Simulador Pagos Oportunos'!$W$45=4,'Tabla Pagos Oportunos'!AK98,AG98)))))","v":""},null,0,null,{"$f":"IF(B98<=0,0,IF('Simulador Pagos Oportunos'!$Y$80=1,0,B98*'Simulador Pagos Oportunos'!$Y$83))","v":0},null,{"$f":"IF(B98<=0,0,IF('Simulador Pagos Oportunos'!$W$45=1,'Simulador Pagos Oportunos'!$H$60,IF('Simulador Pagos Oportunos'!$W$45=2,'Simulador Pagos Oportunos'!$J$60,IF('Simulador Pagos Oportunos'!$W$45=3,'Simulador Pagos Oportunos'!$L$60,IF('Simulador Pagos Oportunos'!$W$45=4,'Simulador Pagos Oportunos'!$N$60)))))","v":0},null,0,null,null,null,6,7,0,0,0,0,0.12,0.1225,0.1225,0.1225,0.1225,0,0,0,0,0,0,0,{"$f":"IF(AN98=0,\"\",IF('Simulador Pagos Oportunos'!$W$45=1,AH98,IF('Simulador Pagos Oportunos'!$W$45=2,AI98,IF('Simulador Pagos Oportunos'!$W$45=3,AJ98,IF('Simulador Pagos Oportunos'!$W$45=4,AK98,AG98)))))","v":""},{"$f":"IF(AN98<=0,0,IF('Simulador Pagos Oportunos'!$Y$80=1,0,AN98*'Simulador Pagos Oportunos'!$Y$83))+IF(AN98<=0,0,IF('Simulador Pagos Oportunos'!$W$45=1,'Simulador Pagos Oportunos'!$H$60,IF('Simulador Pagos Oportunos'!$W$45=2,'Simulador Pagos Oportunos'!$J$60,IF('Simulador Pagos Oportunos'!$W$45=3,'Simulador Pagos Oportunos'!$L$60,'Simulador Pagos Oportunos'!$N$60))))","v":0},null,0,0,"",0,79]
[80,0,null,0,null,0,null,0,null,null,null,null,{"$f":"IF(OR('Simulador Pagos Oportunos'!$U$15=5,'Simulador Pagos Oportunos'!$U$15=1,'Simulador Pagos Oportunos'!$U$15=3,'Simulador Pagos Oportunos'!$U$15=4),0,K99*'Simulador Pagos Oportunos'!$N$74*'Simulador Pagos Oportunos'!$V$21)","v":0},null,{"$f":"IF(B99=0,\"\",IF('Simulador Pagos Oportunos'!$W$45=1,AH99,IF('Simulador Pagos Oportunos'!$W$45=2,AI99,IF('Simulador Pagos Oportunos'!$W$45=3,AJ99,IF('Simulador Pagos Oportunos'!$W$45=4,'Tabla Pagos Oportunos'!AK99,AG99)))))","v":""},null,0,null,{"$f":"IF(B99<=0,0,IF('Simulador Pagos Oportunos'!$Y$80=1,0,B99*'Simulador Pagos Oportunos'!$Y$83))","v":0},null,{"$f":"IF(B99<=0,0,IF('Simulador Pagos Oportunos'!$W$45=1,'Simulador Pagos Oportunos'!$H$60,IF('Simulador Pagos Oportunos'!$W$45=2,'Simulador Pagos Oportunos'!$J$60,IF('Simulador Pagos Oportunos'!$W$45=3,'Simulador Pagos Oportunos'!$L$60,IF('Simulador Pagos Oportunos'!$W$45=4,'Simulador Pagos Oportunos'!$N$60)))))","v":0},null,0,null,null,null,6,8,0,0,0,0,0.12,0.1225,0.1225,0.1225,0.1225,0,0,0,0,0,0,0,{"$f":"IF(AN99=0,\"\",IF('Simulador Pagos Oportunos'!$W$45=1,AH99,IF('Simulador Pagos Oportunos'!$W$45=2,AI99,IF('Simulador Pagos Oportunos'!$W$45=3,AJ99,IF('Simulador Pagos Oportunos'!$W$45=4,AK99,AG99)))))","v":""},{"$f":"IF(AN99<=0,0,IF('Simulador Pagos Oportunos'!$Y$80=1,0,AN99*'Simulador Pagos Oportunos'!$Y$83))+IF(AN99<=0,0,IF('Simulador Pagos Oportunos'!$W$45=1,'Simulador Pagos Oportunos'!$H$60,IF('Simulador Pagos Oportunos'!$W$45=2,'Simulador Pagos Oportunos'!$J$60,IF('Simulador Pagos Oportunos'!$W$45=3,'Simulador Pagos Oportunos'!$L$60,'Simulador Pagos Oportunos'!$N$60))))","v":0},null,0,0,"",0,80]
[81,0,null,0,null,0,null,0,null,null,null,null,{"$f":"IF(OR('Simulador Pagos Oportunos'!$U$15=5,'Simulador Pagos Oportunos'!$U$15=1,'Simulador Pagos Oportunos'!$U$15=3,'Simulador Pagos Oportunos'!$U$15=4),0,K100*'Simulador Pagos Oportunos'!$N$74*'Simulador Pagos Oportunos'!$V$21)","v":0},null,{"$f":"IF(B100=0,\"\",IF('Simulador Pagos Oportunos'!$W$45=1,AH100,IF('Simulador Pagos Oportunos'!$W$45=2,AI100,IF('Simulador Pagos Oportunos'!$W$45=3,AJ100,IF('Simulador Pagos Oportunos'!$W$45=4,'Tabla Pagos Oportunos'!AK100,AG100)))))","v":""},null,0,null,{"$f":"IF(B100<=0,0,IF('Simulador Pagos Oportunos'!$Y$80=1,0,B100*'Simulador Pagos Oportunos'!$Y$83))","v":0},null,{"$f":"IF(B100<=0,0,IF('Simulador Pagos Oportunos'!$W$45=1,'Simulador Pagos Oportunos'!$H$60,IF('Simulador Pagos Oportunos'!$W$45=2,'Simulador Pagos Oportunos'!$J$60,IF('Simulador Pagos Oportunos'!$W$45=3,'Simulador Pagos Oportunos'!$L$60,IF('Simulador Pagos Oportunos'!$W$45=4,'Simulador Pagos Oportunos'!$N$60)))))","v":0},null,0,null,null,null,6,9,0,0,0,0,0.12,0.1225,0.1225,0.1225,0.1225,0,0,0,0,0,0,0,{"$f":"IF(AN100=0,\"\",IF('Simulador Pagos Oportunos'!$W$45=1,AH100,IF('Simulador Pagos Oportunos'!$W$45=2,AI100,IF('Simulador Pagos Oportunos'!$W$45=3,AJ100,IF('Simulador Pagos Oportunos'!$W$45=4,AK100,AG100)))))","v":""},{"$f":"IF(AN100<=0,0,IF('Simulador Pagos Oportunos'!$Y$80=1,0,AN100*'Simulador Pagos Oportunos'!$Y$83))+IF(AN100<=0,0,IF('Simulador Pagos Oportunos'!$W$45=1,'Simulador Pagos Oportunos'!$H$60,IF('Simulador Pagos Oportunos'!$W$45=2,'Simulador Pagos Oportunos'!$J$60,IF('Simulador Pagos Oportunos'!$W$45=3,'Simulador Pagos Oportunos'!$L$60,'Simulador Pagos Oportunos'!$N$60))))","v":0},null,0,0,"",0,81]
[82,0,null,0,null,0,null,0,null,null,null,null,{"$f":"IF(OR('Simulador Pagos Oportunos'!$U$15=5,'Simulador Pagos Oportunos'!$U$15=1,'Simulador Pagos Oportunos'!$U$15=3,'Simulador Pagos Oportunos'!$U$15=4),0,K101*'Simulador Pagos Oportunos'!$N$74*'Simulador Pagos Oportunos'!$V$21)","v":0},null,{"$f":"IF(B101=0,\"\",IF('Simulador Pagos Oportunos'!$W$45=1,AH101,IF('Simulador Pagos Oportunos'!$W$45=2,AI101,IF('Simulador Pagos Oportunos'!$W$45=3,AJ101,IF('Simulador Pagos Oportunos'!$W$45=4,'Tabla Pagos Oportunos'!AK101,AG101)))))","v":""},null,0,null,{"$f":"IF(B101<=0,0,IF('Simulador Pagos Oportunos'!$Y$80=1,0,B101*'Simulador Pagos Oportunos'!$Y$83))","v":0},null,{"$f":"IF(B101<=0,0,IF('Simulador Pagos Oportunos'!$W$45=1,'Simulador Pagos Oportunos'!$H$60,IF('Simulador Pagos Oportunos'!$W$45=2,'Simulador Pagos Oportunos'!$J$60,IF('Simulador Pagos Oportunos'!$W$45=3,'Simulador Pagos Oportunos'!$L$60,IF('Simulador Pagos Oportunos'!$W$45=4,'Simulador Pagos Oportunos'!$N$60)))))","v":0},null,0,null,null,null,6,10,0,0,0,0,0.12,0.1225,0.1225,0.1225,0.1225,0,0,0,0,0,0,0,{"$f":"IF(AN101=0,\"\",IF('Simulador Pagos Oportunos'!$W$45=1,AH101,IF('Simulador Pagos Oportunos'!$W$45=2,AI101,IF('Simulador Pagos Oportunos'!$W$45=3,AJ101,IF('Simulador Pagos Oportunos'!$W$45=4,AK101,AG101)))))","v":""},{"$f":"IF(AN101<=0,0,IF('Simulador Pagos Oportunos'!$Y$80=1,0,AN101*'Simulador Pagos Oportunos'!$Y$83))+IF(AN101<=0,0,IF('Simulador Pagos Oportunos'!$W$45=1,'Simulador Pagos Oportunos'!$H$60,IF('Simulador Pagos Oportunos'!$W$45=2,'Simulador Pagos Oportunos'!$J$60,IF('Simulador Pagos Oportunos'!$W$45=3,'Simulador Pagos Oportunos'!$L$60,'Simulador Pagos Oportunos'!$N$60))))","v":0},null,0,0,"",0,82]
[83,0,null,0,null,0,null,0,null,null,null,null,{"$f":"IF(OR('Simulador Pagos Oportunos'!$U$15=5,'Simulador Pagos Oportunos'!$U$15=1,'Simulador Pagos Oportunos'!$U$15=3,'Simulador Pagos Oportunos'!$U$15=4),0,K102*'Simulador Pagos Oportunos'!$N$74*'Simulador Pagos Oportunos'!$V$21)","v":0},null,{"$f":"IF(B102=0,\"\",IF('Simulador Pagos Oportunos'!$W$45=1,AH102,IF('Simulador Pagos Oportunos'!$W$45=2,AI102,IF('Simulador Pagos Oportunos'!$W$45=3,AJ102,IF('Simulador Pagos Oportunos'!$W$45=4,'Tabla Pagos Oportunos'!AK102,AG102)))))","v":""},null,0,null,{"$f":"IF(B102<=0,0,IF('Simulador Pagos Oportunos'!$Y$80=1,0,B102*'Simulador Pagos Oportunos'!$Y$83))","v":0},null,{"$f":"IF(B102<=0,0,IF('Simulador Pagos Oportunos'!$W$45=1,'Simulador Pagos Oportunos'!$H$60,IF('Simulador Pagos Oportunos'!$W$45=2,'Simulador Pagos Oportunos'!$J$60,IF('Simulador Pagos Oportunos'!$W$45=3,'Simulador Pagos Oportunos'!$L$60,IF('Simulador Pagos Oportunos'!$W$45=4,'Simulador Pagos Oportunos'!$N$60)))))","v":0},null,0,null,null,null,6,11,0,0,0,0,0.12,0.1225,0.1225,0.1225,0.1225,0,0,0,0,0,0,0,{"$f":"IF(AN102=0,\"\",IF('Simulador Pagos Oportunos'!$W$45=1,AH102,IF('Simulador Pagos Oportunos'!$W$45=2,AI102,IF('Simulador Pagos Oportunos'!$W$45=3,AJ102,IF('Simulador Pagos Oportunos'!$W$45=4,AK102,AG102)))))","v":""},{"$f":"IF(AN102<=0,0,IF('Simulador Pagos Oportunos'!$Y$80=1,0,AN102*'Simulador Pagos Oportunos'!$Y$83))+IF(AN102<=0,0,IF('Simulador Pagos Oportunos'!$W$45=1,'Simulador Pagos Oportunos'!$H$60,IF('Simulador Pagos Oportunos'!$W$45=2,'Simulador Pagos Oportunos'!$J$60,IF('Simulador Pagos Oportunos'!$W$45=3,'Simulador Pagos Oportunos'!$L$60,'Simulador Pagos Oportunos'!$N$60))))","v":0},null,0,0,"",0,83]
[84,0,null,0,null,0,null,0,null,null,null,null,{"$f":"IF(OR('Simulador Pagos Oportunos'!$U$15=5,'Simulador Pagos Oportunos'!$U$15=1,'Simulador Pagos Oportunos'!$U$15=3,'Simulador Pagos Oportunos'!$U$15=4),0,K103*'Simulador Pagos Oportunos'!$N$74*'Simulador Pagos Oportunos'!$V$21)","v":0},null,{"$f":"IF(B103=0,\"\",IF('Simulador Pagos Oportunos'!$W$45=1,AH103,IF('Simulador Pagos Oportunos'!$W$45=2,AI103,IF('Simulador Pagos Oportunos'!$W$45=3,AJ103,IF('Simulador Pagos Oportunos'!$W$45=4,'Tabla Pagos Oportunos'!AK103,AG103)))))","v":""},null,0,null,{"$f":"IF(B103<=0,0,IF('Simulador Pagos Oportunos'!$Y$80=1,0,B103*'Simulador Pagos Oportunos'!$Y$83))","v":0},null,{"$f":"IF(B103<=0,0,IF('Simulador Pagos Oportunos'!$W$45=1,'Simulador Pagos Oportunos'!$H$60,IF('Simulador Pagos Oportunos'!$W$45=2,'Simulador Pagos Oportunos'!$J$60,IF('Simulador Pagos Oportunos'!$W$45=3,'Simulador Pagos Oportunos'!$L$60,IF('Simulador Pagos Oportunos'!$W$45=4,'Simulador Pagos Oportunos'!$N$60)))))","v":0},null,0,null,null,null,7,0,0,0,0,0,0.12,0.1225,0.1225,0.1225,0.1225,0,0,0,0,0,0,0,{"$f":"IF(AN103=0,\"\",IF('Simulador Pagos Oportunos'!$W$45=1,AH103,IF('Simulador Pagos Oportunos'!$W$45=2,AI103,IF('Simulador Pagos Oportunos'!$W$45=3,AJ103,IF('Simulador Pagos Oportunos'!$W$45=4,AK103,AG103)))))","v":""},{"$f":"IF(AN103<=0,0,IF('Simulador Pagos Oportunos'!$Y$80=1,0,AN103*'Simulador Pagos Oportunos'!$Y$83))+IF(AN103<=0,0,IF('Simulador Pagos Oportunos'!$W$45=1,'Simulador Pagos Oportunos'!$H$60,IF('Simulador Pagos Oportunos'!$W$45=2,'Simulador Pagos Oportunos'!$J$60,IF('Simulador Pagos Oportunos'!$W$45=3,'Simulador Pagos Oportunos'!$L$60,'Simulador Pagos Oportunos'!$N$60))))","v":0},null,0,0,"",0,84]
[85,0,null,0,null,0,null,0,null,null,null,null,{"$f":"IF(OR('Simulador Pagos Oportunos'!$U$15=5,'Simulador Pagos Oportunos'!$U$15=1,'Simulador Pagos Oportunos'!$U$15=3,'Simulador Pagos Oportunos'!$U$15=4),0,K104*'Simulador Pagos Oportunos'!$N$74*'Simulador Pagos Oportunos'!$V$21)","v":0},null,{"$f":"IF(B104=0,\"\",IF('Simulador Pagos Oportunos'!$W$45=1,AH104,IF('Simulador Pagos Oportunos'!$W$45=2,AI104,IF('Simulador Pagos Oportunos'!$W$45=3,AJ104,IF('Simulador Pagos Oportunos'!$W$45=4,'Tabla Pagos Oportunos'!AK104,AG104)))))","v":""},null,0,null,{"$f":"IF(B104<=0,0,IF('Simulador Pagos Oportunos'!$Y$80=1,0,B104*'Simulador Pagos Oportunos'!$Y$83))","v":0},null,{"$f":"IF(B104<=0,0,IF('Simulador Pagos Oportunos'!$W$45=1,'Simulador Pagos Oportunos'!$H$60,IF('Simulador Pagos Oportunos'!$W$45=2,'Simulador Pagos Oportunos'!$J$60,IF('Simulador Pagos Oportunos'!$W$45=3,'Simulador Pagos Oportunos'!$L$60,IF('Simulador Pagos Oportunos'!$W$45=4,'Simulador Pagos Oportunos'!$N$60)))))","v":0},null,0,null,{"$f":"IF(B104<=0,0,IF('Simulador Pagos Oportunos'!$W$45=4,0,'Simulador Pagos Oportunos'!$AG$62))","v":0},null,7,1,0,0,0,0,{"$f":"IF(AG103=$AG$4,AG103,IF(AG103-0.25%<=$AG$4,$AG$4,AG103-0.25%))","v":0.11749999999999999},null,0.1225,0.1225,0.1225,0,0,0,0,0,0,0,{"$f":"IF(AN104=0,\"\",IF('Simulador Pagos Oportunos'!$W$45=1,AH104,IF('Simulador Pagos Oportunos'!$W$45=2,AI104,IF('Simulador Pagos Oportunos'!$W$45=3,AJ104,IF('Simulador Pagos Oportunos'!$W$45=4,AK104,AG104)))))","v":""},{"$f":"IF(AN104<=0,0,IF('Simulador Pagos Oportunos'!$Y$80=1,0,AN104*'Simulador Pagos Oportunos'!$Y$83))+IF(AN104<=0,0,IF('Simulador Pagos Oportunos'!$W$45=1,'Simulador Pagos Oportunos'!$H$60,IF('Simulador Pagos Oportunos'!$W$45=2,'Simulador Pagos Oportunos'!$J$60,IF('Simulador Pagos Oportunos'!$W$45=3,'Simulador Pagos Oportunos'!$L$60,'Simulador Pagos Oportunos'!$N$60))))","v":0},{"$f":"IF(AN104<=0,0,$AU$32)","v":0},0,0,"",0,85]
[86,0,null,0,null,0,null,0,null,null,null,null,{"$f":"IF(OR('Simulador Pagos Oportunos'!$U$15=5,'Simulador Pagos Oportunos'!$U$15=1,'Simulador Pagos Oportunos'!$U$15=3,'Simulador Pagos Oportunos'!$U$15=4),0,K105*'Simulador Pagos Oportunos'!$N$74*'Simulador Pagos Oportunos'!$V$21)","v":0},null,{"$f":"IF(B105=0,\"\",IF('Simulador Pagos Oportunos'!$W$45=1,AH105,IF('Simulador Pagos Oportunos'!$W$45=2,AI105,IF('Simulador Pagos Oportunos'!$W$45=3,AJ105,IF('Simulador Pagos Oportunos'!$W$45=4,'Tabla Pagos Oportunos'!AK105,AG105)))))","v":""},null,0,null,{"$f":"IF(B105<=0,0,IF('Simulador Pagos Oportunos'!$Y$80=1,0,B105*'Simulador Pagos Oportunos'!$Y$83))","v":0},null,{"$f":"IF(B105<=0,0,IF('Simulador Pagos Oportunos'!$W$45=1,'Simulador Pagos Oportunos'!$H$60,IF('Simulador Pagos Oportunos'!$W$45=2,'Simulador Pagos Oportunos'!$J$60,IF('Simulador Pagos Oportunos'!$W$45=3,'Simulador Pagos Oportunos'!$L$60,IF('Simulador Pagos Oportunos'!$W$45=4,'Simulador Pagos Oportunos'!$N$60)))))","v":0},null,0,null,null,null,7,2,0,0,0,0,{"$f":"AG104","v":0.11749999999999999},null,0.1225,0.1225,0.1225,0,0,0,0,0,0,0,{"$f":"IF(AN105=0,\"\",IF('Simulador Pagos Oportunos'!$W$45=1,AH105,IF('Simulador Pagos Oportunos'!$W$45=2,AI105,IF('Simulador Pagos Oportunos'!$W$45=3,AJ105,IF('Simulador Pagos Oportunos'!$W$45=4,AK105,AG105)))))","v":""},{"$f":"IF(AN105<=0,0,IF('Simulador Pagos Oportunos'!$Y$80=1,0,AN105*'Simulador Pagos Oportunos'!$Y$83))+IF(AN105<=0,0,IF('Simulador Pagos Oportunos'!$W$45=1,'Simulador Pagos Oportunos'!$H$60,IF('Simulador Pagos Oportunos'!$W$45=2,'Simulador Pagos Oportunos'!$J$60,IF('Simulador Pagos Oportunos'!$W$45=3,'Simulador Pagos Oportunos'!$L$60,'Simulador Pagos Oportunos'!$N$60))))","v":0},null,0,0,"",0,86]
[87,0,null,0,null,0,null,0,null,null,null,null,{"$f":"IF(OR('Simulador Pagos Oportunos'!$U$15=5,'Simulador Pagos Oportunos'!$U$15=1,'Simulador Pagos Oportunos'!$U$15=3,'Simulador Pagos Oportunos'!$U$15=4),0,K106*'Simulador Pagos Oportunos'!$N$74*'Simulador Pagos Oportunos'!$V$21)","v":0},null,{"$f":"IF(B106=0,\"\",IF('Simulador Pagos Oportunos'!$W$45=1,AH106,IF('Simulador Pagos Oportunos'!$W$45=2,AI106,IF('Simulador Pagos Oportunos'!$W$45=3,AJ106,IF('Simulador Pagos Oportunos'!$W$45=4,'Tabla Pagos Oportunos'!AK106,AG106)))))","v":""},null,0,null,{"$f":"IF(B106<=0,0,IF('Simulador Pagos Oportunos'!$Y$80=1,0,B106*'Simulador Pagos Oportunos'!$Y$83))","v":0},null,{"$f":"IF(B106<=0,0,IF('Simulador Pagos Oportunos'!$W$45=1,'Simulador Pagos Oportunos'!$H$60,IF('Simulador Pagos Oportunos'!$W$45=2,'Simulador Pagos Oportunos'!$J$60,IF('Simulador Pagos Oportunos'!$W$45=3,'Simulador Pagos Oportunos'!$L$60,IF('Simulador Pagos Oportunos'!$W$45=4,'Simulador Pagos Oportunos'!$N$60)))))","v":0},null,0,null,null,null,7,3,0,0,0,0,{"$f":"AG105","v":0.11749999999999999},null,0.1225,0.1225,0.1225,0,0,0,0,0,0,0,{"$f":"IF(AN106=0,\"\",IF('Simulador Pagos Oportunos'!$W$45=1,AH106,IF('Simulador Pagos Oportunos'!$W$45=2,AI106,IF('Simulador Pagos Oportunos'!$W$45=3,AJ106,IF('Simulador Pagos Oportunos'!$W$45=4,AK106,AG106)))))","v":""},{"$f":"IF(AN106<=0,0,IF('Simulador Pagos Oportunos'!$Y$80=1,0,AN106*'Simulador Pagos Oportunos'!$Y$83))+IF(AN106<=0,0,IF('Simulador Pagos Oportunos'!$W$45=1,'Simulador Pagos Oportunos'!$H$60,IF('Simulador Pagos Oportunos'!$W$45=2,'Simulador Pagos Oportunos'!$J$60,IF('Simulador Pagos Oportunos'!$W$45=3,'Simulador Pagos Oportunos'!$L$60,'Simulador Pagos Oportunos'!$N$60))))","v":0},null,0,0,"",0,87]
[88,0,null,0,null,0,null,0,null,null,null,null,{"$f":"IF(OR('Simulador Pagos Oportunos'!$U$15=5,'Simulador Pagos Oportunos'!$U$15=1,'Simulador Pagos Oportunos'!$U$15=3,'Simulador Pagos Oportunos'!$U$15=4),0,K107*'Simulador Pagos Oportunos'!$N$74*'Simulador Pagos Oportunos'!$V$21)","v":0},null,{"$f":"IF(B107=0,\"\",IF('Simulador Pagos Oportunos'!$W$45=1,AH107,IF('Simulador Pagos Oportunos'!$W$45=2,AI107,IF('Simulador Pagos Oportunos'!$W$45=3,AJ107,IF('Simulador Pagos Oportunos'!$W$45=4,'Tabla Pagos Oportunos'!AK107,AG107)))))","v":""},null,0,null,{"$f":"IF(B107<=0,0,IF('Simulador Pagos Oportunos'!$Y$80=1,0,B107*'Simulador Pagos Oportunos'!$Y$83))","v":0},null,{"$f":"IF(B107<=0,0,IF('Simulador Pagos Oportunos'!$W$45=1,'Simulador Pagos Oportunos'!$H$60,IF('Simulador Pagos Oportunos'!$W$45=2,'Simulador Pagos Oportunos'!$J$60,IF('Simulador Pagos Oportunos'!$W$45=3,'Simulador Pagos Oportunos'!$L$60,IF('Simulador Pagos Oportunos'!$W$45=4,'Simulador Pagos Oportunos'!$N$60)))))","v":0},null,0,null,null,null,7,4,0,0,0,0,0.11749999999999999,null,0.1225,0.1225,0.1225,0,0,0,0,0,0,0,{"$f":"IF(AN107=0,\"\",IF('Simulador Pagos Oportunos'!$W$45=1,AH107,IF('Simulador Pagos Oportunos'!$W$45=2,AI107,IF('Simulador Pagos Oportunos'!$W$45=3,AJ107,IF('Simulador Pagos Oportunos'!$W$45=4,AK107,AG107)))))","v":""},{"$f":"IF(AN107<=0,0,IF('Simulador Pagos Oportunos'!$Y$80=1,0,AN107*'Simulador Pagos Oportunos'!$Y$83))+IF(AN107<=0,0,IF('Simulador Pagos Oportunos'!$W$45=1,'Simulador Pagos Oportunos'!$H$60,IF('Simulador Pagos Oportunos'!$W$45=2,'Simulador Pagos Oportunos'!$J$60,IF('Simulador Pagos Oportunos'!$W$45=3,'Simulador Pagos Oportunos'!$L$60,'Simulador Pagos Oportunos'!$N$60))))","v":0},null,0,0,"",0,88]
[89,0,null,0,null,0,null,0,null,null,null,null,{"$f":"IF(OR('Simulador Pagos Oportunos'!$U$15=5,'Simulador Pagos Oportunos'!$U$15=1,'Simulador Pagos Oportunos'!$U$15=3,'Simulador Pagos Oportunos'!$U$15=4),0,K108*'Simulador Pagos Oportunos'!$N$74*'Simulador Pagos Oportunos'!$V$21)","v":0},null,{"$f":"IF(B108=0,\"\",IF('Simulador Pagos Oportunos'!$W$45=1,AH108,IF('Simulador Pagos Oportunos'!$W$45=2,AI108,IF('Simulador Pagos Oportunos'!$W$45=3,AJ108,IF('Simulador Pagos Oportunos'!$W$45=4,'Tabla Pagos Oportunos'!AK108,AG108)))))","v":""},null,0,null,{"$f":"IF(B108<=0,0,IF('Simulador Pagos Oportunos'!$Y$80=1,0,B108*'Simulador Pagos Oportunos'!$Y$83))","v":0},null,{"$f":"IF(B108<=0,0,IF('Simulador Pagos Oportunos'!$W$45=1,'Simulador Pagos Oportunos'!$H$60,IF('Simulador Pagos Oportunos'!$W$45=2,'Simulador Pagos Oportunos'!$J$60,IF('Simulador Pagos Oportunos'!$W$45=3,'Simulador Pagos Oportunos'!$L$60,IF('Simulador Pagos Oportunos'!$W$45=4,'Simulador Pagos Oportunos'!$N$60)))))","v":0},null,0,null,null,null,7,5,0,0,0,0,0.11749999999999999,null,0.1225,0.1225,0.1225,0,0,0,0,0,0,0,{"$f":"IF(AN108=0,\"\",IF('Simulador Pagos Oportunos'!$W$45=1,AH108,IF('Simulador Pagos Oportunos'!$W$45=2,AI108,IF('Simulador Pagos Oportunos'!$W$45=3,AJ108,IF('Simulador Pagos Oportunos'!$W$45=4,AK108,AG108)))))","v":""},{"$f":"IF(AN108<=0,0,IF('Simulador Pagos Oportunos'!$Y$80=1,0,AN108*'Simulador Pagos Oportunos'!$Y$83))+IF(AN108<=0,0,IF('Simulador Pagos Oportunos'!$W$45=1,'Simulador Pagos Oportunos'!$H$60,IF('Simulador Pagos Oportunos'!$W$45=2,'Simulador Pagos Oportunos'!$J$60,IF('Simulador Pagos Oportunos'!$W$45=3,'Simulador Pagos Oportunos'!$L$60,'Simulador Pagos Oportunos'!$N$60))))","v":0},null,0,0,"",0,89]
[90,0,null,0,null,0,null,0,null,null,null,null,{"$f":"IF(OR('Simulador Pagos Oportunos'!$U$15=5,'Simulador Pagos Oportunos'!$U$15=1,'Simulador Pagos Oportunos'!$U$15=3,'Simulador Pagos Oportunos'!$U$15=4),0,K109*'Simulador Pagos Oportunos'!$N$74*'Simulador Pagos Oportunos'!$V$21)","v":0},null,{"$f":"IF(B109=0,\"\",IF('Simulador Pagos Oportunos'!$W$45=1,AH109,IF('Simulador Pagos Oportunos'!$W$45=2,AI109,IF('Simulador Pagos Oportunos'!$W$45=3,AJ109,IF('Simulador Pagos Oportunos'!$W$45=4,'Tabla Pagos Oportunos'!AK109,AG109)))))","v":""},null,0,null,{"$f":"IF(B109<=0,0,IF('Simulador Pagos Oportunos'!$Y$80=1,0,B109*'Simulador Pagos Oportunos'!$Y$83))","v":0},null,{"$f":"IF(B109<=0,0,IF('Simulador Pagos Oportunos'!$W$45=1,'Simulador Pagos Oportunos'!$H$60,IF('Simulador Pagos Oportunos'!$W$45=2,'Simulador Pagos Oportunos'!$J$60,IF('Simulador Pagos Oportunos'!$W$45=3,'Simulador Pagos Oportunos'!$L$60,IF('Simulador Pagos Oportunos'!$W$45=4,'Simulador Pagos Oportunos'!$N$60)))))","v":0},null,0,null,null,null,7,6,0,0,0,0,0.11749999999999999,null,{"$f":"AI108","v":0.1225},0.1225,0.1225,0,0,0,0,0,0,0,{"$f":"IF(AN109=0,\"\",IF('Simulador Pagos Oportunos'!$W$45=1,AH109,IF('Simulador Pagos Oportunos'!$W$45=2,AI109,IF('Simulador Pagos Oportunos'!$W$45=3,AJ109,IF('Simulador Pagos Oportunos'!$W$45=4,AK109,AG109)))))","v":""},{"$f":"IF(AN109<=0,0,IF('Simulador Pagos Oportunos'!$Y$80=1,0,AN109*'Simulador Pagos Oportunos'!$Y$83))+IF(AN109<=0,0,IF('Simulador Pagos Oportunos'!$W$45=1,'Simulador Pagos Oportunos'!$H$60,IF('Simulador Pagos Oportunos'!$W$45=2,'Simulador Pagos Oportunos'!$J$60,IF('Simulador Pagos Oportunos'!$W$45=3,'Simulador Pagos Oportunos'!$L$60,'Simulador Pagos Oportunos'!$N$60))))","v":0},null,0,0,"",0,90]
[91,0,null,0,null,0,null,0,null,null,null,null,{"$f":"IF(OR('Simulador Pagos Oportunos'!$U$15=5,'Simulador Pagos Oportunos'!$U$15=1,'Simulador Pagos Oportunos'!$U$15=3,'Simulador Pagos Oportunos'!$U$15=4),0,K110*'Simulador Pagos Oportunos'!$N$74*'Simulador Pagos Oportunos'!$V$21)","v":0},null,{"$f":"IF(B110=0,\"\",IF('Simulador Pagos Oportunos'!$W$45=1,AH110,IF('Simulador Pagos Oportunos'!$W$45=2,AI110,IF('Simulador Pagos Oportunos'!$W$45=3,AJ110,IF('Simulador Pagos Oportunos'!$W$45=4,'Tabla Pagos Oportunos'!AK110,AG110)))))","v":""},null,0,null,{"$f":"IF(B110<=0,0,IF('Simulador Pagos Oportunos'!$Y$80=1,0,B110*'Simulador Pagos Oportunos'!$Y$83))","v":0},null,{"$f":"IF(B110<=0,0,IF('Simulador Pagos Oportunos'!$W$45=1,'Simulador Pagos Oportunos'!$H$60,IF('Simulador Pagos Oportunos'!$W$45=2,'Simulador Pagos Oportunos'!$J$60,IF('Simulador Pagos Oportunos'!$W$45=3,'Simulador Pagos Oportunos'!$L$60,IF('Simulador Pagos Oportunos'!$W$45=4,'Simulador Pagos Oportunos'!$N$60)))))","v":0},null,0,null,null,null,7,7,0,0,0,0,0.11749999999999999,null,0.1225,0.1225,0.1225,0,0,0,0,0,0,0,{"$f":"IF(AN110=0,\"\",IF('Simulador Pagos Oportunos'!$W$45=1,AH110,IF('Simulador Pagos Oportunos'!$W$45=2,AI110,IF('Simulador Pagos Oportunos'!$W$45=3,AJ110,IF('Simulador Pagos Oportunos'!$W$45=4,AK110,AG110)))))","v":""},{"$f":"IF(AN110<=0,0,IF('Simulador Pagos Oportunos'!$Y$80=1,0,AN110*'Simulador Pagos Oportunos'!$Y$83))+IF(AN110<=0,0,IF('Simulador Pagos Oportunos'!$W$45=1,'Simulador Pagos Oportunos'!$H$60,IF('Simulador Pagos Oportunos'!$W$45=2,'Simulador Pagos Oportunos'!$J$60,IF('Simulador Pagos Oportunos'!$W$45=3,'Simulador Pagos Oportunos'!$L$60,'Simulador Pagos Oportunos'!$N$60))))","v":0},null,0,0,"",0,91]
[92,0,null,0,null,0,null,0,null,null,null,null,{"$f":"IF(OR('Simulador Pagos Oportunos'!$U$15=5,'Simulador Pagos Oportunos'!$U$15=1,'Simulador Pagos Oportunos'!$U$15=3,'Simulador Pagos Oportunos'!$U$15=4),0,K111*'Simulador Pagos Oportunos'!$N$74*'Simulador Pagos Oportunos'!$V$21)","v":0},null,{"$f":"IF(B111=0,\"\",IF('Simulador Pagos Oportunos'!$W$45=1,AH111,IF('Simulador Pagos Oportunos'!$W$45=2,AI111,IF('Simulador Pagos Oportunos'!$W$45=3,AJ111,IF('Simulador Pagos Oportunos'!$W$45=4,'Tabla Pagos Oportunos'!AK111,AG111)))))","v":""},null,0,null,{"$f":"IF(B111<=0,0,IF('Simulador Pagos Oportunos'!$Y$80=1,0,B111*'Simulador Pagos Oportunos'!$Y$83))","v":0},null,{"$f":"IF(B111<=0,0,IF('Simulador Pagos Oportunos'!$W$45=1,'Simulador Pagos Oportunos'!$H$60,IF('Simulador Pagos Oportunos'!$W$45=2,'Simulador Pagos Oportunos'!$J$60,IF('Simulador Pagos Oportunos'!$W$45=3,'Simulador Pagos Oportunos'!$L$60,IF('Simulador Pagos Oportunos'!$W$45=4,'Simulador Pagos Oportunos'!$N$60)))))","v":0},null,0,null,null,null,7,8,0,0,0,0,0.11749999999999999,null,0.1225,0.1225,0.1225,0,0,0,0,0,0,0,{"$f":"IF(AN111=0,\"\",IF('Simulador Pagos Oportunos'!$W$45=1,AH111,IF('Simulador Pagos Oportunos'!$W$45=2,AI111,IF('Simulador Pagos Oportunos'!$W$45=3,AJ111,IF('Simulador Pagos Oportunos'!$W$45=4,AK111,AG111)))))","v":""},{"$f":"IF(AN111<=0,0,IF('Simulador Pagos Oportunos'!$Y$80=1,0,AN111*'Simulador Pagos Oportunos'!$Y$83))+IF(AN111<=0,0,IF('Simulador Pagos Oportunos'!$W$45=1,'Simulador Pagos Oportunos'!$H$60,IF('Simulador Pagos Oportunos'!$W$45=2,'Simulador Pagos Oportunos'!$J$60,IF('Simulador Pagos Oportunos'!$W$45=3,'Simulador Pagos Oportunos'!$L$60,'Simulador Pagos Oportunos'!$N$60))))","v":0},null,0,0,"",0,92]
[93,0,null,0,null,0,null,0,null,null,null,null,{"$f":"IF(OR('Simulador Pagos Oportunos'!$U$15=5,'Simulador Pagos Oportunos'!$U$15=1,'Simulador Pagos Oportunos'!$U$15=3,'Simulador Pagos Oportunos'!$U$15=4),0,K112*'Simulador Pagos Oportunos'!$N$74*'Simulador Pagos Oportunos'!$V$21)","v":0},null,{"$f":"IF(B112=0,\"\",IF('Simulador Pagos Oportunos'!$W$45=1,AH112,IF('Simulador Pagos Oportunos'!$W$45=2,AI112,IF('Simulador Pagos Oportunos'!$W$45=3,AJ112,IF('Simulador Pagos Oportunos'!$W$45=4,'Tabla Pagos Oportunos'!AK112,AG112)))))","v":""},null,0,null,{"$f":"IF(B112<=0,0,IF('Simulador Pagos Oportunos'!$Y$80=1,0,B112*'Simulador Pagos Oportunos'!$Y$83))","v":0},null,{"$f":"IF(B112<=0,0,IF('Simulador Pagos Oportunos'!$W$45=1,'Simulador Pagos Oportunos'!$H$60,IF('Simulador Pagos Oportunos'!$W$45=2,'Simulador Pagos Oportunos'!$J$60,IF('Simulador Pagos Oportunos'!$W$45=3,'Simulador Pagos Oportunos'!$L$60,IF('Simulador Pagos Oportunos'!$W$45=4,'Simulador Pagos Oportunos'!$N$60)))))","v":0},null,0,null,null,null,7,9,0,0,0,0,0.11749999999999999,null,0.1225,0.1225,0.1225,0,0,0,0,0,0,0,{"$f":"IF(AN112=0,\"\",IF('Simulador Pagos Oportunos'!$W$45=1,AH112,IF('Simulador Pagos Oportunos'!$W$45=2,AI112,IF('Simulador Pagos Oportunos'!$W$45=3,AJ112,IF('Simulador Pagos Oportunos'!$W$45=4,AK112,AG112)))))","v":""},{"$f":"IF(AN112<=0,0,IF('Simulador Pagos Oportunos'!$Y$80=1,0,AN112*'Simulador Pagos Oportunos'!$Y$83))+IF(AN112<=0,0,IF('Simulador Pagos Oportunos'!$W$45=1,'Simulador Pagos Oportunos'!$H$60,IF('Simulador Pagos Oportunos'!$W$45=2,'Simulador Pagos Oportunos'!$J$60,IF('Simulador Pagos Oportunos'!$W$45=3,'Simulador Pagos Oportunos'!$L$60,'Simulador Pagos Oportunos'!$N$60))))","v":0},null,0,0,"",0,93]
[94,0,null,0,null,0,null,0,null,null,null,null,{"$f":"IF(OR('Simulador Pagos Oportunos'!$U$15=5,'Simulador Pagos Oportunos'!$U$15=1,'Simulador Pagos Oportunos'!$U$15=3,'Simulador Pagos Oportunos'!$U$15=4),0,K113*'Simulador Pagos Oportunos'!$N$74*'Simulador Pagos Oportunos'!$V$21)","v":0},null,{"$f":"IF(B113=0,\"\",IF('Simulador Pagos Oportunos'!$W$45=1,AH113,IF('Simulador Pagos Oportunos'!$W$45=2,AI113,IF('Simulador Pagos Oportunos'!$W$45=3,AJ113,IF('Simulador Pagos Oportunos'!$W$45=4,'Tabla Pagos Oportunos'!AK113,AG113)))))","v":""},null,0,null,{"$f":"IF(B113<=0,0,IF('Simulador Pagos Oportunos'!$Y$80=1,0,B113*'Simulador Pagos Oportunos'!$Y$83))","v":0},null,{"$f":"IF(B113<=0,0,IF('Simulador Pagos Oportunos'!$W$45=1,'Simulador Pagos Oportunos'!$H$60,IF('Simulador Pagos Oportunos'!$W$45=2,'Simulador Pagos Oportunos'!$J$60,IF('Simulador Pagos Oportunos'!$W$45=3,'Simulador Pagos Oportunos'!$L$60,IF('Simulador Pagos Oportunos'!$W$45=4,'Simulador Pagos Oportunos'!$N$60)))))","v":0},null,0,null,null,null,7,10,0,0,0,0,0.11749999999999999,null,0.1225,0.1225,0.1225,0,0,0,0,0,0,0,{"$f":"IF(AN113=0,\"\",IF('Simulador Pagos Oportunos'!$W$45=1,AH113,IF('Simulador Pagos Oportunos'!$W$45=2,AI113,IF('Simulador Pagos Oportunos'!$W$45=3,AJ113,IF('Simulador Pagos Oportunos'!$W$45=4,AK113,AG113)))))","v":""},{"$f":"IF(AN113<=0,0,IF('Simulador Pagos Oportunos'!$Y$80=1,0,AN113*'Simulador Pagos Oportunos'!$Y$83))+IF(AN113<=0,0,IF('Simulador Pagos Oportunos'!$W$45=1,'Simulador Pagos Oportunos'!$H$60,IF('Simulador Pagos Oportunos'!$W$45=2,'Simulador Pagos Oportunos'!$J$60,IF('Simulador Pagos Oportunos'!$W$45=3,'Simulador Pagos Oportunos'!$L$60,'Simulador Pagos Oportunos'!$N$60))))","v":0},null,0,0,"",0,94]
[95,0,null,0,null,0,null,0,null,null,null,null,{"$f":"IF(OR('Simulador Pagos Oportunos'!$U$15=5,'Simulador Pagos Oportunos'!$U$15=1,'Simulador Pagos Oportunos'!$U$15=3,'Simulador Pagos Oportunos'!$U$15=4),0,K114*'Simulador Pagos Oportunos'!$N$74*'Simulador Pagos Oportunos'!$V$21)","v":0},null,{"$f":"IF(B114=0,\"\",IF('Simulador Pagos Oportunos'!$W$45=1,AH114,IF('Simulador Pagos Oportunos'!$W$45=2,AI114,IF('Simulador Pagos Oportunos'!$W$45=3,AJ114,IF('Simulador Pagos Oportunos'!$W$45=4,'Tabla Pagos Oportunos'!AK114,AG114)))))","v":""},null,0,null,{"$f":"IF(B114<=0,0,IF('Simulador Pagos Oportunos'!$Y$80=1,0,B114*'Simulador Pagos Oportunos'!$Y$83))","v":0},null,{"$f":"IF(B114<=0,0,IF('Simulador Pagos Oportunos'!$W$45=1,'Simulador Pagos Oportunos'!$H$60,IF('Simulador Pagos Oportunos'!$W$45=2,'Simulador Pagos Oportunos'!$J$60,IF('Simulador Pagos Oportunos'!$W$45=3,'Simulador Pagos Oportunos'!$L$60,IF('Simulador Pagos Oportunos'!$W$45=4,'Simulador Pagos Oportunos'!$N$60)))))","v":0},null,0,null,null,null,7,11,0,0,0,0,0.11749999999999999,null,0.1225,0.1225,0.1225,0,0,0,0,0,0,0,{"$f":"IF(AN114=0,\"\",IF('Simulador Pagos Oportunos'!$W$45=1,AH114,IF('Simulador Pagos Oportunos'!$W$45=2,AI114,IF('Simulador Pagos Oportunos'!$W$45=3,AJ114,IF('Simulador Pagos Oportunos'!$W$45=4,AK114,AG114)))))","v":""},{"$f":"IF(AN114<=0,0,IF('Simulador Pagos Oportunos'!$Y$80=1,0,AN114*'Simulador Pagos Oportunos'!$Y$83))+IF(AN114<=0,0,IF('Simulador Pagos Oportunos'!$W$45=1,'Simulador Pagos Oportunos'!$H$60,IF('Simulador Pagos Oportunos'!$W$45=2,'Simulador Pagos Oportunos'!$J$60,IF('Simulador Pagos Oportunos'!$W$45=3,'Simulador Pagos Oportunos'!$L$60,'Simulador Pagos Oportunos'!$N$60))))","v":0},null,0,0,"",0,95]
[96,0,null,0,null,0,null,0,null,null,null,null,{"$f":"IF(OR('Simulador Pagos Oportunos'!$U$15=5,'Simulador Pagos Oportunos'!$U$15=1,'Simulador Pagos Oportunos'!$U$15=3,'Simulador Pagos Oportunos'!$U$15=4),0,K115*'Simulador Pagos Oportunos'!$N$74*'Simulador Pagos Oportunos'!$V$21)","v":0},null,{"$f":"IF(B115=0,\"\",IF('Simulador Pagos Oportunos'!$W$45=1,AH115,IF('Simulador Pagos Oportunos'!$W$45=2,AI115,IF('Simulador Pagos Oportunos'!$W$45=3,AJ115,IF('Simulador Pagos Oportunos'!$W$45=4,'Tabla Pagos Oportunos'!AK115,AG115)))))","v":""},null,0,null,{"$f":"IF(B115<=0,0,IF('Simulador Pagos Oportunos'!$Y$80=1,0,B115*'Simulador Pagos Oportunos'!$Y$83))","v":0},null,{"$f":"IF(B115<=0,0,IF('Simulador Pagos Oportunos'!$W$45=1,'Simulador Pagos Oportunos'!$H$60,IF('Simulador Pagos Oportunos'!$W$45=2,'Simulador Pagos Oportunos'!$J$60,IF('Simulador Pagos Oportunos'!$W$45=3,'Simulador Pagos Oportunos'!$L$60,IF('Simulador Pagos Oportunos'!$W$45=4,'Simulador Pagos Oportunos'!$N$60)))))","v":0},null,0,null,null,null,8,0,0,0,0,0,0.11749999999999999,null,0.1225,0.1225,0.1225,0,0,0,0,0,0,0,{"$f":"IF(AN115=0,\"\",IF('Simulador Pagos Oportunos'!$W$45=1,AH115,IF('Simulador Pagos Oportunos'!$W$45=2,AI115,IF('Simulador Pagos Oportunos'!$W$45=3,AJ115,IF('Simulador Pagos Oportunos'!$W$45=4,AK115,AG115)))))","v":""},{"$f":"IF(AN115<=0,0,IF('Simulador Pagos Oportunos'!$Y$80=1,0,AN115*'Simulador Pagos Oportunos'!$Y$83))+IF(AN115<=0,0,IF('Simulador Pagos Oportunos'!$W$45=1,'Simulador Pagos Oportunos'!$H$60,IF('Simulador Pagos Oportunos'!$W$45=2,'Simulador Pagos Oportunos'!$J$60,IF('Simulador Pagos Oportunos'!$W$45=3,'Simulador Pagos Oportunos'!$L$60,'Simulador Pagos Oportunos'!$N$60))))","v":0},null,0,0,"",0,96]
[97,0,null,0,null,0,null,0,null,null,null,null,{"$f":"IF(OR('Simulador Pagos Oportunos'!$U$15=5,'Simulador Pagos Oportunos'!$U$15=1,'Simulador Pagos Oportunos'!$U$15=3,'Simulador Pagos Oportunos'!$U$15=4),0,K116*'Simulador Pagos Oportunos'!$N$74*'Simulador Pagos Oportunos'!$V$21)","v":0},null,{"$f":"IF(B116=0,\"\",IF('Simulador Pagos Oportunos'!$W$45=1,AH116,IF('Simulador Pagos Oportunos'!$W$45=2,AI116,IF('Simulador Pagos Oportunos'!$W$45=3,AJ116,IF('Simulador Pagos Oportunos'!$W$45=4,'Tabla Pagos Oportunos'!AK116,AG116)))))","v":""},null,0,null,{"$f":"IF(B116<=0,0,IF('Simulador Pagos Oportunos'!$Y$80=1,0,B116*'Simulador Pagos Oportunos'!$Y$83))","v":0},null,{"$f":"IF(B116<=0,0,IF('Simulador Pagos Oportunos'!$W$45=1,'Simulador Pagos Oportunos'!$H$60,IF('Simulador Pagos Oportunos'!$W$45=2,'Simulador Pagos Oportunos'!$J$60,IF('Simulador Pagos Oportunos'!$W$45=3,'Simulador Pagos Oportunos'!$L$60,IF('Simulador Pagos Oportunos'!$W$45=4,'Simulador Pagos Oportunos'!$N$60)))))","v":0},null,0,null,{"$f":"IF(B116<=0,0,IF('Simulador Pagos Oportunos'!$W$45=4,0,'Simulador Pagos Oportunos'!$AG$62))","v":0},null,8,1,0,0,0,0,{"$f":"IF(AG115=$AG$4,AG115,IF(AG115-0.25%<=$AG$4,$AG$4,AG115-0.25%))","v":0.11499999999999999},null,0.1225,0.1225,0.1225,0,0,0,0,0,0,0,{"$f":"IF(AN116=0,\"\",IF('Simulador Pagos Oportunos'!$W$45=1,AH116,IF('Simulador Pagos Oportunos'!$W$45=2,AI116,IF('Simulador Pagos Oportunos'!$W$45=3,AJ116,IF('Simulador Pagos Oportunos'!$W$45=4,AK116,AG116)))))","v":""},{"$f":"IF(AN116<=0,0,IF('Simulador Pagos Oportunos'!$Y$80=1,0,AN116*'Simulador Pagos Oportunos'!$Y$83))+IF(AN116<=0,0,IF('Simulador Pagos Oportunos'!$W$45=1,'Simulador Pagos Oportunos'!$H$60,IF('Simulador Pagos Oportunos'!$W$45=2,'Simulador Pagos Oportunos'!$J$60,IF('Simulador Pagos Oportunos'!$W$45=3,'Simulador Pagos Oportunos'!$L$60,'Simulador Pagos Oportunos'!$N$60))))","v":0},{"$f":"IF(AN116<=0,0,$AU$32)","v":0},0,0,"",0,97]
[98,0,null,0,null,0,null,0,null,null,null,null,{"$f":"IF(OR('Simulador Pagos Oportunos'!$U$15=5,'Simulador Pagos Oportunos'!$U$15=1,'Simulador Pagos Oportunos'!$U$15=3,'Simulador Pagos Oportunos'!$U$15=4),0,K117*'Simulador Pagos Oportunos'!$N$74*'Simulador Pagos Oportunos'!$V$21)","v":0},null,{"$f":"IF(B117=0,\"\",IF('Simulador Pagos Oportunos'!$W$45=1,AH117,IF('Simulador Pagos Oportunos'!$W$45=2,AI117,IF('Simulador Pagos Oportunos'!$W$45=3,AJ117,IF('Simulador Pagos Oportunos'!$W$45=4,'Tabla Pagos Oportunos'!AK117,AG117)))))","v":""},null,0,null,{"$f":"IF(B117<=0,0,IF('Simulador Pagos Oportunos'!$Y$80=1,0,B117*'Simulador Pagos Oportunos'!$Y$83))","v":0},null,{"$f":"IF(B117<=0,0,IF('Simulador Pagos Oportunos'!$W$45=1,'Simulador Pagos Oportunos'!$H$60,IF('Simulador Pagos Oportunos'!$W$45=2,'Simulador Pagos Oportunos'!$J$60,IF('Simulador Pagos Oportunos'!$W$45=3,'Simulador Pagos Oportunos'!$L$60,IF('Simulador Pagos Oportunos'!$W$45=4,'Simulador Pagos Oportunos'!$N$60)))))","v":0},null,0,null,null,null,8,2,0,0,0,0,{"$f":"AG116","v":0.11499999999999999},null,0.1225,0.1225,0.1225,0,0,0,0,0,0,0,{"$f":"IF(AN117=0,\"\",IF('Simulador Pagos Oportunos'!$W$45=1,AH117,IF('Simulador Pagos Oportunos'!$W$45=2,AI117,IF('Simulador Pagos Oportunos'!$W$45=3,AJ117,IF('Simulador Pagos Oportunos'!$W$45=4,AK117,AG117)))))","v":""},{"$f":"IF(AN117<=0,0,IF('Simulador Pagos Oportunos'!$Y$80=1,0,AN117*'Simulador Pagos Oportunos'!$Y$83))+IF(AN117<=0,0,IF('Simulador Pagos Oportunos'!$W$45=1,'Simulador Pagos Oportunos'!$H$60,IF('Simulador Pagos Oportunos'!$W$45=2,'Simulador Pagos Oportunos'!$J$60,IF('Simulador Pagos Oportunos'!$W$45=3,'Simulador Pagos Oportunos'!$L$60,'Simulador Pagos Oportunos'!$N$60))))","v":0},null,0,0,"",0,98]
[99,0,null,0,null,0,null,0,null,null,null,null,{"$f":"IF(OR('Simulador Pagos Oportunos'!$U$15=5,'Simulador Pagos Oportunos'!$U$15=1,'Simulador Pagos Oportunos'!$U$15=3,'Simulador Pagos Oportunos'!$U$15=4),0,K118*'Simulador Pagos Oportunos'!$N$74*'Simulador Pagos Oportunos'!$V$21)","v":0},null,{"$f":"IF(B118=0,\"\",IF('Simulador Pagos Oportunos'!$W$45=1,AH118,IF('Simulador Pagos Oportunos'!$W$45=2,AI118,IF('Simulador Pagos Oportunos'!$W$45=3,AJ118,IF('Simulador Pagos Oportunos'!$W$45=4,'Tabla Pagos Oportunos'!AK118,AG118)))))","v":""},null,0,null,{"$f":"IF(B118<=0,0,IF('Simulador Pagos Oportunos'!$Y$80=1,0,B118*'Simulador Pagos Oportunos'!$Y$83))","v":0},null,{"$f":"IF(B118<=0,0,IF('Simulador Pagos Oportunos'!$W$45=1,'Simulador Pagos Oportunos'!$H$60,IF('Simulador Pagos Oportunos'!$W$45=2,'Simulador Pagos Oportunos'!$J$60,IF('Simulador Pagos Oportunos'!$W$45=3,'Simulador Pagos Oportunos'!$L$60,IF('Simulador Pagos Oportunos'!$W$45=4,'Simulador Pagos Oportunos'!$N$60)))))","v":0},null,0,null,null,null,8,3,0,0,0,0,{"$f":"AG117","v":0.11499999999999999},null,0.1225,0.1225,0.1225,0,0,0,0,0,0,0,{"$f":"IF(AN118=0,\"\",IF('Simulador Pagos Oportunos'!$W$45=1,AH118,IF('Simulador Pagos Oportunos'!$W$45=2,AI118,IF('Simulador Pagos Oportunos'!$W$45=3,AJ118,IF('Simulador Pagos Oportunos'!$W$45=4,AK118,AG118)))))","v":""},{"$f":"IF(AN118<=0,0,IF('Simulador Pagos Oportunos'!$Y$80=1,0,AN118*'Simulador Pagos Oportunos'!$Y$83))+IF(AN118<=0,0,IF('Simulador Pagos Oportunos'!$W$45=1,'Simulador Pagos Oportunos'!$H$60,IF('Simulador Pagos Oportunos'!$W$45=2,'Simulador Pagos Oportunos'!$J$60,IF('Simulador Pagos Oportunos'!$W$45=3,'Simulador Pagos Oportunos'!$L$60,'Simulador Pagos Oportunos'!$N$60))))","v":0},null,0,0,"",0,99]
[100,0,null,0,null,0,null,0,null,null,null,null,{"$f":"IF(OR('Simulador Pagos Oportunos'!$U$15=5,'Simulador Pagos Oportunos'!$U$15=1,'Simulador Pagos Oportunos'!$U$15=3,'Simulador Pagos Oportunos'!$U$15=4),0,K119*'Simulador Pagos Oportunos'!$N$74*'Simulador Pagos Oportunos'!$V$21)","v":0},null,{"$f":"IF(B119=0,\"\",IF('Simulador Pagos Oportunos'!$W$45=1,AH119,IF('Simulador Pagos Oportunos'!$W$45=2,AI119,IF('Simulador Pagos Oportunos'!$W$45=3,AJ119,IF('Simulador Pagos Oportunos'!$W$45=4,'Tabla Pagos Oportunos'!AK119,AG119)))))","v":""},null,0,null,{"$f":"IF(B119<=0,0,IF('Simulador Pagos Oportunos'!$Y$80=1,0,B119*'Simulador Pagos Oportunos'!$Y$83))","v":0},null,{"$f":"IF(B119<=0,0,IF('Simulador Pagos Oportunos'!$W$45=1,'Simulador Pagos Oportunos'!$H$60,IF('Simulador Pagos Oportunos'!$W$45=2,'Simulador Pagos Oportunos'!$J$60,IF('Simulador Pagos Oportunos'!$W$45=3,'Simulador Pagos Oportunos'!$L$60,IF('Simulador Pagos Oportunos'!$W$45=4,'Simulador Pagos Oportunos'!$N$60)))))","v":0},null,0,null,null,null,8,4,0,0,0,0,0.11499999999999999,null,0.1225,0.1225,0.1225,0,0,0,0,0,0,0,{"$f":"IF(AN119=0,\"\",IF('Simulador Pagos Oportunos'!$W$45=1,AH119,IF('Simulador Pagos Oportunos'!$W$45=2,AI119,IF('Simulador Pagos Oportunos'!$W$45=3,AJ119,IF('Simulador Pagos Oportunos'!$W$45=4,AK119,AG119)))))","v":""},{"$f":"IF(AN119<=0,0,IF('Simulador Pagos Oportunos'!$Y$80=1,0,AN119*'Simulador Pagos Oportunos'!$Y$83))+IF(AN119<=0,0,IF('Simulador Pagos Oportunos'!$W$45=1,'Simulador Pagos Oportunos'!$H$60,IF('Simulador Pagos Oportunos'!$W$45=2,'Simulador Pagos Oportunos'!$J$60,IF('Simulador Pagos Oportunos'!$W$45=3,'Simulador Pagos Oportunos'!$L$60,'Simulador Pagos Oportunos'!$N$60))))","v":0},null,0,0,"",0,100]
[101,0,null,0,null,0,null,0,null,null,null,null,{"$f":"IF(OR('Simulador Pagos Oportunos'!$U$15=5,'Simulador Pagos Oportunos'!$U$15=1,'Simulador Pagos Oportunos'!$U$15=3,'Simulador Pagos Oportunos'!$U$15=4),0,K120*'Simulador Pagos Oportunos'!$N$74*'Simulador Pagos Oportunos'!$V$21)","v":0},null,{"$f":"IF(B120=0,\"\",IF('Simulador Pagos Oportunos'!$W$45=1,AH120,IF('Simulador Pagos Oportunos'!$W$45=2,AI120,IF('Simulador Pagos Oportunos'!$W$45=3,AJ120,IF('Simulador Pagos Oportunos'!$W$45=4,'Tabla Pagos Oportunos'!AK120,AG120)))))","v":""},null,0,null,{"$f":"IF(B120<=0,0,IF('Simulador Pagos Oportunos'!$Y$80=1,0,B120*'Simulador Pagos Oportunos'!$Y$83))","v":0},null,{"$f":"IF(B120<=0,0,IF('Simulador Pagos Oportunos'!$W$45=1,'Simulador Pagos Oportunos'!$H$60,IF('Simulador Pagos Oportunos'!$W$45=2,'Simulador Pagos Oportunos'!$J$60,IF('Simulador Pagos Oportunos'!$W$45=3,'Simulador Pagos Oportunos'!$L$60,IF('Simulador Pagos Oportunos'!$W$45=4,'Simulador Pagos Oportunos'!$N$60)))))","v":0},null,0,null,null,null,8,5,0,0,0,0,0.11499999999999999,null,0.1225,0.1225,0.1225,0,0,0,0,0,0,0,{"$f":"IF(AN120=0,\"\",IF('Simulador Pagos Oportunos'!$W$45=1,AH120,IF('Simulador Pagos Oportunos'!$W$45=2,AI120,IF('Simulador Pagos Oportunos'!$W$45=3,AJ120,IF('Simulador Pagos Oportunos'!$W$45=4,AK120,AG120)))))","v":""},{"$f":"IF(AN120<=0,0,IF('Simulador Pagos Oportunos'!$Y$80=1,0,AN120*'Simulador Pagos Oportunos'!$Y$83))+IF(AN120<=0,0,IF('Simulador Pagos Oportunos'!$W$45=1,'Simulador Pagos Oportunos'!$H$60,IF('Simulador Pagos Oportunos'!$W$45=2,'Simulador Pagos Oportunos'!$J$60,IF('Simulador Pagos Oportunos'!$W$45=3,'Simulador Pagos Oportunos'!$L$60,'Simulador Pagos Oportunos'!$N$60))))","v":0},null,0,0,"",0,101]
[102,0,null,0,null,0,null,0,null,null,null,null,{"$f":"IF(OR('Simulador Pagos Oportunos'!$U$15=5,'Simulador Pagos Oportunos'!$U$15=1,'Simulador Pagos Oportunos'!$U$15=3,'Simulador Pagos Oportunos'!$U$15=4),0,K121*'Simulador Pagos Oportunos'!$N$74*'Simulador Pagos Oportunos'!$V$21)","v":0},null,{"$f":"IF(B121=0,\"\",IF('Simulador Pagos Oportunos'!$W$45=1,AH121,IF('Simulador Pagos Oportunos'!$W$45=2,AI121,IF('Simulador Pagos Oportunos'!$W$45=3,AJ121,IF('Simulador Pagos Oportunos'!$W$45=4,'Tabla Pagos Oportunos'!AK121,AG121)))))","v":""},null,0,null,{"$f":"IF(B121<=0,0,IF('Simulador Pagos Oportunos'!$Y$80=1,0,B121*'Simulador Pagos Oportunos'!$Y$83))","v":0},null,{"$f":"IF(B121<=0,0,IF('Simulador Pagos Oportunos'!$W$45=1,'Simulador Pagos Oportunos'!$H$60,IF('Simulador Pagos Oportunos'!$W$45=2,'Simulador Pagos Oportunos'!$J$60,IF('Simulador Pagos Oportunos'!$W$45=3,'Simulador Pagos Oportunos'!$L$60,IF('Simulador Pagos Oportunos'!$W$45=4,'Simulador Pagos Oportunos'!$N$60)))))","v":0},null,0,null,null,null,8,6,0,0,0,0,0.11499999999999999,null,0.1225,0.1225,0.1225,0,0,0,0,0,0,0,{"$f":"IF(AN121=0,\"\",IF('Simulador Pagos Oportunos'!$W$45=1,AH121,IF('Simulador Pagos Oportunos'!$W$45=2,AI121,IF('Simulador Pagos Oportunos'!$W$45=3,AJ121,IF('Simulador Pagos Oportunos'!$W$45=4,AK121,AG121)))))","v":""},{"$f":"IF(AN121<=0,0,IF('Simulador Pagos Oportunos'!$Y$80=1,0,AN121*'Simulador Pagos Oportunos'!$Y$83))+IF(AN121<=0,0,IF('Simulador Pagos Oportunos'!$W$45=1,'Simulador Pagos Oportunos'!$H$60,IF('Simulador Pagos Oportunos'!$W$45=2,'Simulador Pagos Oportunos'!$J$60,IF('Simulador Pagos Oportunos'!$W$45=3,'Simulador Pagos Oportunos'!$L$60,'Simulador Pagos Oportunos'!$N$60))))","v":0},null,0,0,"",0,102]
[103,0,null,0,null,0,null,0,null,null,null,null,{"$f":"IF(OR('Simulador Pagos Oportunos'!$U$15=5,'Simulador Pagos Oportunos'!$U$15=1,'Simulador Pagos Oportunos'!$U$15=3,'Simulador Pagos Oportunos'!$U$15=4),0,K122*'Simulador Pagos Oportunos'!$N$74*'Simulador Pagos Oportunos'!$V$21)","v":0},null,{"$f":"IF(B122=0,\"\",IF('Simulador Pagos Oportunos'!$W$45=1,AH122,IF('Simulador Pagos Oportunos'!$W$45=2,AI122,IF('Simulador Pagos Oportunos'!$W$45=3,AJ122,IF('Simulador Pagos Oportunos'!$W$45=4,'Tabla Pagos Oportunos'!AK122,AG122)))))","v":""},null,0,null,{"$f":"IF(B122<=0,0,IF('Simulador Pagos Oportunos'!$Y$80=1,0,B122*'Simulador Pagos Oportunos'!$Y$83))","v":0},null,{"$f":"IF(B122<=0,0,IF('Simulador Pagos Oportunos'!$W$45=1,'Simulador Pagos Oportunos'!$H$60,IF('Simulador Pagos Oportunos'!$W$45=2,'Simulador Pagos Oportunos'!$J$60,IF('Simulador Pagos Oportunos'!$W$45=3,'Simulador Pagos Oportunos'!$L$60,IF('Simulador Pagos Oportunos'!$W$45=4,'Simulador Pagos Oportunos'!$N$60)))))","v":0},null,0,null,null,null,8,7,0,0,0,0,0.11499999999999999,null,0.1225,0.1225,0.1225,0,0,0,0,0,0,0,{"$f":"IF(AN122=0,\"\",IF('Simulador Pagos Oportunos'!$W$45=1,AH122,IF('Simulador Pagos Oportunos'!$W$45=2,AI122,IF('Simulador Pagos Oportunos'!$W$45=3,AJ122,IF('Simulador Pagos Oportunos'!$W$45=4,AK122,AG122)))))","v":""},{"$f":"IF(AN122<=0,0,IF('Simulador Pagos Oportunos'!$Y$80=1,0,AN122*'Simulador Pagos Oportunos'!$Y$83))+IF(AN122<=0,0,IF('Simulador Pagos Oportunos'!$W$45=1,'Simulador Pagos Oportunos'!$H$60,IF('Simulador Pagos Oportunos'!$W$45=2,'Simulador Pagos Oportunos'!$J$60,IF('Simulador Pagos Oportunos'!$W$45=3,'Simulador Pagos Oportunos'!$L$60,'Simulador Pagos Oportunos'!$N$60))))","v":0},null,0,0,"",0,103]
[104,0,null,0,null,0,null,0,null,null,null,null,{"$f":"IF(OR('Simulador Pagos Oportunos'!$U$15=5,'Simulador Pagos Oportunos'!$U$15=1,'Simulador Pagos Oportunos'!$U$15=3,'Simulador Pagos Oportunos'!$U$15=4),0,K123*'Simulador Pagos Oportunos'!$N$74*'Simulador Pagos Oportunos'!$V$21)","v":0},null,{"$f":"IF(B123=0,\"\",IF('Simulador Pagos Oportunos'!$W$45=1,AH123,IF('Simulador Pagos Oportunos'!$W$45=2,AI123,IF('Simulador Pagos Oportunos'!$W$45=3,AJ123,IF('Simulador Pagos Oportunos'!$W$45=4,'Tabla Pagos Oportunos'!AK123,AG123)))))","v":""},null,0,null,{"$f":"IF(B123<=0,0,IF('Simulador Pagos Oportunos'!$Y$80=1,0,B123*'Simulador Pagos Oportunos'!$Y$83))","v":0},null,{"$f":"IF(B123<=0,0,IF('Simulador Pagos Oportunos'!$W$45=1,'Simulador Pagos Oportunos'!$H$60,IF('Simulador Pagos Oportunos'!$W$45=2,'Simulador Pagos Oportunos'!$J$60,IF('Simulador Pagos Oportunos'!$W$45=3,'Simulador Pagos Oportunos'!$L$60,IF('Simulador Pagos Oportunos'!$W$45=4,'Simulador Pagos Oportunos'!$N$60)))))","v":0},null,0,null,null,null,8,8,0,0,0,0,0.11499999999999999,null,0.1225,0.1225,0.1225,0,0,0,0,0,0,0,{"$f":"IF(AN123=0,\"\",IF('Simulador Pagos Oportunos'!$W$45=1,AH123,IF('Simulador Pagos Oportunos'!$W$45=2,AI123,IF('Simulador Pagos Oportunos'!$W$45=3,AJ123,IF('Simulador Pagos Oportunos'!$W$45=4,AK123,AG123)))))","v":""},{"$f":"IF(AN123<=0,0,IF('Simulador Pagos Oportunos'!$Y$80=1,0,AN123*'Simulador Pagos Oportunos'!$Y$83))+IF(AN123<=0,0,IF('Simulador Pagos Oportunos'!$W$45=1,'Simulador Pagos Oportunos'!$H$60,IF('Simulador Pagos Oportunos'!$W$45=2,'Simulador Pagos Oportunos'!$J$60,IF('Simulador Pagos Oportunos'!$W$45=3,'Simulador Pagos Oportunos'!$L$60,'Simulador Pagos Oportunos'!$N$60))))","v":0},null,0,0,"",0,104]
[105,0,null,0,null,0,null,0,null,null,null,null,{"$f":"IF(OR('Simulador Pagos Oportunos'!$U$15=5,'Simulador Pagos Oportunos'!$U$15=1,'Simulador Pagos Oportunos'!$U$15=3,'Simulador Pagos Oportunos'!$U$15=4),0,K124*'Simulador Pagos Oportunos'!$N$74*'Simulador Pagos Oportunos'!$V$21)","v":0},null,{"$f":"IF(B124=0,\"\",IF('Simulador Pagos Oportunos'!$W$45=1,AH124,IF('Simulador Pagos Oportunos'!$W$45=2,AI124,IF('Simulador Pagos Oportunos'!$W$45=3,AJ124,IF('Simulador Pagos Oportunos'!$W$45=4,'Tabla Pagos Oportunos'!AK124,AG124)))))","v":""},null,0,null,{"$f":"IF(B124<=0,0,IF('Simulador Pagos Oportunos'!$Y$80=1,0,B124*'Simulador Pagos Oportunos'!$Y$83))","v":0},null,{"$f":"IF(B124<=0,0,IF('Simulador Pagos Oportunos'!$W$45=1,'Simulador Pagos Oportunos'!$H$60,IF('Simulador Pagos Oportunos'!$W$45=2,'Simulador Pagos Oportunos'!$J$60,IF('Simulador Pagos Oportunos'!$W$45=3,'Simulador Pagos Oportunos'!$L$60,IF('Simulador Pagos Oportunos'!$W$45=4,'Simulador Pagos Oportunos'!$N$60)))))","v":0},null,0,null,null,null,8,9,0,0,0,0,0.11499999999999999,null,0.1225,0.1225,0.1225,0,0,0,0,0,0,0,{"$f":"IF(AN124=0,\"\",IF('Simulador Pagos Oportunos'!$W$45=1,AH124,IF('Simulador Pagos Oportunos'!$W$45=2,AI124,IF('Simulador Pagos Oportunos'!$W$45=3,AJ124,IF('Simulador Pagos Oportunos'!$W$45=4,AK124,AG124)))))","v":""},{"$f":"IF(AN124<=0,0,IF('Simulador Pagos Oportunos'!$Y$80=1,0,AN124*'Simulador Pagos Oportunos'!$Y$83))+IF(AN124<=0,0,IF('Simulador Pagos Oportunos'!$W$45=1,'Simulador Pagos Oportunos'!$H$60,IF('Simulador Pagos Oportunos'!$W$45=2,'Simulador Pagos Oportunos'!$J$60,IF('Simulador Pagos Oportunos'!$W$45=3,'Simulador Pagos Oportunos'!$L$60,'Simulador Pagos Oportunos'!$N$60))))","v":0},null,0,0,"",0,105]
[106,0,null,0,null,0,null,0,null,null,null,null,{"$f":"IF(OR('Simulador Pagos Oportunos'!$U$15=5,'Simulador Pagos Oportunos'!$U$15=1,'Simulador Pagos Oportunos'!$U$15=3,'Simulador Pagos Oportunos'!$U$15=4),0,K125*'Simulador Pagos Oportunos'!$N$74*'Simulador Pagos Oportunos'!$V$21)","v":0},null,{"$f":"IF(B125=0,\"\",IF('Simulador Pagos Oportunos'!$W$45=1,AH125,IF('Simulador Pagos Oportunos'!$W$45=2,AI125,IF('Simulador Pagos Oportunos'!$W$45=3,AJ125,IF('Simulador Pagos Oportunos'!$W$45=4,'Tabla Pagos Oportunos'!AK125,AG125)))))","v":""},null,0,null,{"$f":"IF(B125<=0,0,IF('Simulador Pagos Oportunos'!$Y$80=1,0,B125*'Simulador Pagos Oportunos'!$Y$83))","v":0},null,{"$f":"IF(B125<=0,0,IF('Simulador Pagos Oportunos'!$W$45=1,'Simulador Pagos Oportunos'!$H$60,IF('Simulador Pagos Oportunos'!$W$45=2,'Simulador Pagos Oportunos'!$J$60,IF('Simulador Pagos Oportunos'!$W$45=3,'Simulador Pagos Oportunos'!$L$60,IF('Simulador Pagos Oportunos'!$W$45=4,'Simulador Pagos Oportunos'!$N$60)))))","v":0},null,0,null,null,null,8,10,0,0,0,0,0.11499999999999999,null,{"$f":"AI124","v":0.1225},0.1225,0.1225,0,0,0,0,0,0,0,{"$f":"IF(AN125=0,\"\",IF('Simulador Pagos Oportunos'!$W$45=1,AH125,IF('Simulador Pagos Oportunos'!$W$45=2,AI125,IF('Simulador Pagos Oportunos'!$W$45=3,AJ125,IF('Simulador Pagos Oportunos'!$W$45=4,AK125,AG125)))))","v":""},{"$f":"IF(AN125<=0,0,IF('Simulador Pagos Oportunos'!$Y$80=1,0,AN125*'Simulador Pagos Oportunos'!$Y$83))+IF(AN125<=0,0,IF('Simulador Pagos Oportunos'!$W$45=1,'Simulador Pagos Oportunos'!$H$60,IF('Simulador Pagos Oportunos'!$W$45=2,'Simulador Pagos Oportunos'!$J$60,IF('Simulador Pagos Oportunos'!$W$45=3,'Simulador Pagos Oportunos'!$L$60,'Simulador Pagos Oportunos'!$N$60))))","v":0},null,0,0,"",0,106]
[107,0,null,0,null,0,null,0,null,null,null,null,{"$f":"IF(OR('Simulador Pagos Oportunos'!$U$15=5,'Simulador Pagos Oportunos'!$U$15=1,'Simulador Pagos Oportunos'!$U$15=3,'Simulador Pagos Oportunos'!$U$15=4),0,K126*'Simulador Pagos Oportunos'!$N$74*'Simulador Pagos Oportunos'!$V$21)","v":0},null,{"$f":"IF(B126=0,\"\",IF('Simulador Pagos Oportunos'!$W$45=1,AH126,IF('Simulador Pagos Oportunos'!$W$45=2,AI126,IF('Simulador Pagos Oportunos'!$W$45=3,AJ126,IF('Simulador Pagos Oportunos'!$W$45=4,'Tabla Pagos Oportunos'!AK126,AG126)))))","v":""},null,0,null,{"$f":"IF(B126<=0,0,IF('Simulador Pagos Oportunos'!$Y$80=1,0,B126*'Simulador Pagos Oportunos'!$Y$83))","v":0},null,{"$f":"IF(B126<=0,0,IF('Simulador Pagos Oportunos'!$W$45=1,'Simulador Pagos Oportunos'!$H$60,IF('Simulador Pagos Oportunos'!$W$45=2,'Simulador Pagos Oportunos'!$J$60,IF('Simulador Pagos Oportunos'!$W$45=3,'Simulador Pagos Oportunos'!$L$60,IF('Simulador Pagos Oportunos'!$W$45=4,'Simulador Pagos Oportunos'!$N$60)))))","v":0},null,0,null,null,null,8,11,0,0,0,0,0.11499999999999999,null,0.1225,0.1225,0.1225,0,0,0,0,0,0,0,{"$f":"IF(AN126=0,\"\",IF('Simulador Pagos Oportunos'!$W$45=1,AH126,IF('Simulador Pagos Oportunos'!$W$45=2,AI126,IF('Simulador Pagos Oportunos'!$W$45=3,AJ126,IF('Simulador Pagos Oportunos'!$W$45=4,AK126,AG126)))))","v":""},{"$f":"IF(AN126<=0,0,IF('Simulador Pagos Oportunos'!$Y$80=1,0,AN126*'Simulador Pagos Oportunos'!$Y$83))+IF(AN126<=0,0,IF('Simulador Pagos Oportunos'!$W$45=1,'Simulador Pagos Oportunos'!$H$60,IF('Simulador Pagos Oportunos'!$W$45=2,'Simulador Pagos Oportunos'!$J$60,IF('Simulador Pagos Oportunos'!$W$45=3,'Simulador Pagos Oportunos'!$L$60,'Simulador Pagos Oportunos'!$N$60))))","v":0},null,0,0,"",0,107]
[108,0,null,0,null,0,null,0,null,null,null,null,{"$f":"IF(OR('Simulador Pagos Oportunos'!$U$15=5,'Simulador Pagos Oportunos'!$U$15=1,'Simulador Pagos Oportunos'!$U$15=3,'Simulador Pagos Oportunos'!$U$15=4),0,K127*'Simulador Pagos Oportunos'!$N$74*'Simulador Pagos Oportunos'!$V$21)","v":0},null,{"$f":"IF(B127=0,\"\",IF('Simulador Pagos Oportunos'!$W$45=1,AH127,IF('Simulador Pagos Oportunos'!$W$45=2,AI127,IF('Simulador Pagos Oportunos'!$W$45=3,AJ127,IF('Simulador Pagos Oportunos'!$W$45=4,'Tabla Pagos Oportunos'!AK127,AG127)))))","v":""},null,0,null,{"$f":"IF(B127<=0,0,IF('Simulador Pagos Oportunos'!$Y$80=1,0,B127*'Simulador Pagos Oportunos'!$Y$83))","v":0},null,{"$f":"IF(B127<=0,0,IF('Simulador Pagos Oportunos'!$W$45=1,'Simulador Pagos Oportunos'!$H$60,IF('Simulador Pagos Oportunos'!$W$45=2,'Simulador Pagos Oportunos'!$J$60,IF('Simulador Pagos Oportunos'!$W$45=3,'Simulador Pagos Oportunos'!$L$60,IF('Simulador Pagos Oportunos'!$W$45=4,'Simulador Pagos Oportunos'!$N$60)))))","v":0},null,0,null,null,null,9,0,0,0,0,0,0.11499999999999999,null,0.1225,0.1225,0.1225,0,0,0,0,0,0,0,{"$f":"IF(AN127=0,\"\",IF('Simulador Pagos Oportunos'!$W$45=1,AH127,IF('Simulador Pagos Oportunos'!$W$45=2,AI127,IF('Simulador Pagos Oportunos'!$W$45=3,AJ127,IF('Simulador Pagos Oportunos'!$W$45=4,AK127,AG127)))))","v":""},{"$f":"IF(AN127<=0,0,IF('Simulador Pagos Oportunos'!$Y$80=1,0,AN127*'Simulador Pagos Oportunos'!$Y$83))+IF(AN127<=0,0,IF('Simulador Pagos Oportunos'!$W$45=1,'Simulador Pagos Oportunos'!$H$60,IF('Simulador Pagos Oportunos'!$W$45=2,'Simulador Pagos Oportunos'!$J$60,IF('Simulador Pagos Oportunos'!$W$45=3,'Simulador Pagos Oportunos'!$L$60,'Simulador Pagos Oportunos'!$N$60))))","v":0},null,0,0,"",0,108]
[109,0,null,0,null,0,null,0,null,null,null,null,{"$f":"IF(OR('Simulador Pagos Oportunos'!$U$15=5,'Simulador Pagos Oportunos'!$U$15=1,'Simulador Pagos Oportunos'!$U$15=3,'Simulador Pagos Oportunos'!$U$15=4),0,K128*'Simulador Pagos Oportunos'!$N$74*'Simulador Pagos Oportunos'!$V$21)","v":0},null,{"$f":"IF(B128=0,\"\",IF('Simulador Pagos Oportunos'!$W$45=1,AH128,IF('Simulador Pagos Oportunos'!$W$45=2,AI128,IF('Simulador Pagos Oportunos'!$W$45=3,AJ128,IF('Simulador Pagos Oportunos'!$W$45=4,'Tabla Pagos Oportunos'!AK128,AG128)))))","v":""},null,0,null,{"$f":"IF(B128<=0,0,IF('Simulador Pagos Oportunos'!$Y$80=1,0,B128*'Simulador Pagos Oportunos'!$Y$83))","v":0},null,{"$f":"IF(B128<=0,0,IF('Simulador Pagos Oportunos'!$W$45=1,'Simulador Pagos Oportunos'!$H$60,IF('Simulador Pagos Oportunos'!$W$45=2,'Simulador Pagos Oportunos'!$J$60,IF('Simulador Pagos Oportunos'!$W$45=3,'Simulador Pagos Oportunos'!$L$60,IF('Simulador Pagos Oportunos'!$W$45=4,'Simulador Pagos Oportunos'!$N$60)))))","v":0},null,0,null,{"$f":"IF(B128<=0,0,IF('Simulador Pagos Oportunos'!$W$45=4,0,'Simulador Pagos Oportunos'!$AG$62))","v":0},null,9,1,0,0,0,0,{"$f":"IF(AG127=$AG$4,AG127,IF(AG127-0.25%<=$AG$4,$AG$4,AG127-0.25%))","v":0.11249999999999999},null,0.1225,0.1225,0.1225,0,0,0,0,0,0,0,{"$f":"IF(AN128=0,\"\",IF('Simulador Pagos Oportunos'!$W$45=1,AH128,IF('Simulador Pagos Oportunos'!$W$45=2,AI128,IF('Simulador Pagos Oportunos'!$W$45=3,AJ128,IF('Simulador Pagos Oportunos'!$W$45=4,AK128,AG128)))))","v":""},{"$f":"IF(AN128<=0,0,IF('Simulador Pagos Oportunos'!$Y$80=1,0,AN128*'Simulador Pagos Oportunos'!$Y$83))+IF(AN128<=0,0,IF('Simulador Pagos Oportunos'!$W$45=1,'Simulador Pagos Oportunos'!$H$60,IF('Simulador Pagos Oportunos'!$W$45=2,'Simulador Pagos Oportunos'!$J$60,IF('Simulador Pagos Oportunos'!$W$45=3,'Simulador Pagos Oportunos'!$L$60,'Simulador Pagos Oportunos'!$N$60))))","v":0},{"$f":"IF(AN128<=0,0,$AU$32)","v":0},0,0,"",0,109]
[110,0,null,0,null,0,null,0,null,null,null,null,{"$f":"IF(OR('Simulador Pagos Oportunos'!$U$15=5,'Simulador Pagos Oportunos'!$U$15=1,'Simulador Pagos Oportunos'!$U$15=3,'Simulador Pagos Oportunos'!$U$15=4),0,K129*'Simulador Pagos Oportunos'!$N$74*'Simulador Pagos Oportunos'!$V$21)","v":0},null,{"$f":"IF(B129=0,\"\",IF('Simulador Pagos Oportunos'!$W$45=1,AH129,IF('Simulador Pagos Oportunos'!$W$45=2,AI129,IF('Simulador Pagos Oportunos'!$W$45=3,AJ129,IF('Simulador Pagos Oportunos'!$W$45=4,'Tabla Pagos Oportunos'!AK129,AG129)))))","v":""},null,0,null,{"$f":"IF(B129<=0,0,IF('Simulador Pagos Oportunos'!$Y$80=1,0,B129*'Simulador Pagos Oportunos'!$Y$83))","v":0},null,{"$f":"IF(B129<=0,0,IF('Simulador Pagos Oportunos'!$W$45=1,'Simulador Pagos Oportunos'!$H$60,IF('Simulador Pagos Oportunos'!$W$45=2,'Simulador Pagos Oportunos'!$J$60,IF('Simulador Pagos Oportunos'!$W$45=3,'Simulador Pagos Oportunos'!$L$60,IF('Simulador Pagos Oportunos'!$W$45=4,'Simulador Pagos Oportunos'!$N$60)))))","v":0},null,0,null,null,null,9,2,0,0,0,0,{"$f":"AG128","v":0.11249999999999999},null,0.1225,0.1225,0.1225,0,0,0,0,0,0,0,{"$f":"IF(AN129=0,\"\",IF('Simulador Pagos Oportunos'!$W$45=1,AH129,IF('Simulador Pagos Oportunos'!$W$45=2,AI129,IF('Simulador Pagos Oportunos'!$W$45=3,AJ129,IF('Simulador Pagos Oportunos'!$W$45=4,AK129,AG129)))))","v":""},{"$f":"IF(AN129<=0,0,IF('Simulador Pagos Oportunos'!$Y$80=1,0,AN129*'Simulador Pagos Oportunos'!$Y$83))+IF(AN129<=0,0,IF('Simulador Pagos Oportunos'!$W$45=1,'Simulador Pagos Oportunos'!$H$60,IF('Simulador Pagos Oportunos'!$W$45=2,'Simulador Pagos Oportunos'!$J$60,IF('Simulador Pagos Oportunos'!$W$45=3,'Simulador Pagos Oportunos'!$L$60,'Simulador Pagos Oportunos'!$N$60))))","v":0},null,0,0,"",0,110]
[111,0,null,0,null,0,null,0,null,null,null,null,{"$f":"IF(OR('Simulador Pagos Oportunos'!$U$15=5,'Simulador Pagos Oportunos'!$U$15=1,'Simulador Pagos Oportunos'!$U$15=3,'Simulador Pagos Oportunos'!$U$15=4),0,K130*'Simulador Pagos Oportunos'!$N$74*'Simulador Pagos Oportunos'!$V$21)","v":0},null,{"$f":"IF(B130=0,\"\",IF('Simulador Pagos Oportunos'!$W$45=1,AH130,IF('Simulador Pagos Oportunos'!$W$45=2,AI130,IF('Simulador Pagos Oportunos'!$W$45=3,AJ130,IF('Simulador Pagos Oportunos'!$W$45=4,'Tabla Pagos Oportunos'!AK130,AG130)))))","v":""},null,0,null,{"$f":"IF(B130<=0,0,IF('Simulador Pagos Oportunos'!$Y$80=1,0,B130*'Simulador Pagos Oportunos'!$Y$83))","v":0},null,{"$f":"IF(B130<=0,0,IF('Simulador Pagos Oportunos'!$W$45=1,'Simulador Pagos Oportunos'!$H$60,IF('Simulador Pagos Oportunos'!$W$45=2,'Simulador Pagos Oportunos'!$J$60,IF('Simulador Pagos Oportunos'!$W$45=3,'Simulador Pagos Oportunos'!$L$60,IF('Simulador Pagos Oportunos'!$W$45=4,'Simulador Pagos Oportunos'!$N$60)))))","v":0},null,0,null,null,null,9,3,0,0,0,0,{"$f":"AG129","v":0.11249999999999999},null,0.1225,0.1225,0.1225,0,0,0,0,0,0,0,{"$f":"IF(AN130=0,\"\",IF('Simulador Pagos Oportunos'!$W$45=1,AH130,IF('Simulador Pagos Oportunos'!$W$45=2,AI130,IF('Simulador Pagos Oportunos'!$W$45=3,AJ130,IF('Simulador Pagos Oportunos'!$W$45=4,AK130,AG130)))))","v":""},{"$f":"IF(AN130<=0,0,IF('Simulador Pagos Oportunos'!$Y$80=1,0,AN130*'Simulador Pagos Oportunos'!$Y$83))+IF(AN130<=0,0,IF('Simulador Pagos Oportunos'!$W$45=1,'Simulador Pagos Oportunos'!$H$60,IF('Simulador Pagos Oportunos'!$W$45=2,'Simulador Pagos Oportunos'!$J$60,IF('Simulador Pagos Oportunos'!$W$45=3,'Simulador Pagos Oportunos'!$L$60,'Simulador Pagos Oportunos'!$N$60))))","v":0},null,0,0,"",0,111]
[112,0,null,0,null,0,null,0,null,null,null,null,{"$f":"IF(OR('Simulador Pagos Oportunos'!$U$15=5,'Simulador Pagos Oportunos'!$U$15=1,'Simulador Pagos Oportunos'!$U$15=3,'Simulador Pagos Oportunos'!$U$15=4),0,K131*'Simulador Pagos Oportunos'!$N$74*'Simulador Pagos Oportunos'!$V$21)","v":0},null,{"$f":"IF(B131=0,\"\",IF('Simulador Pagos Oportunos'!$W$45=1,AH131,IF('Simulador Pagos Oportunos'!$W$45=2,AI131,IF('Simulador Pagos Oportunos'!$W$45=3,AJ131,IF('Simulador Pagos Oportunos'!$W$45=4,'Tabla Pagos Oportunos'!AK131,AG131)))))","v":""},null,0,null,{"$f":"IF(B131<=0,0,IF('Simulador Pagos Oportunos'!$Y$80=1,0,B131*'Simulador Pagos Oportunos'!$Y$83))","v":0},null,{"$f":"IF(B131<=0,0,IF('Simulador Pagos Oportunos'!$W$45=1,'Simulador Pagos Oportunos'!$H$60,IF('Simulador Pagos Oportunos'!$W$45=2,'Simulador Pagos Oportunos'!$J$60,IF('Simulador Pagos Oportunos'!$W$45=3,'Simulador Pagos Oportunos'!$L$60,IF('Simulador Pagos Oportunos'!$W$45=4,'Simulador Pagos Oportunos'!$N$60)))))","v":0},null,0,null,null,null,9,4,0,0,0,0,0.11249999999999999,null,0.1225,0.1225,0.1225,0,0,0,0,0,0,0,{"$f":"IF(AN131=0,\"\",IF('Simulador Pagos Oportunos'!$W$45=1,AH131,IF('Simulador Pagos Oportunos'!$W$45=2,AI131,IF('Simulador Pagos Oportunos'!$W$45=3,AJ131,IF('Simulador Pagos Oportunos'!$W$45=4,AK131,AG131)))))","v":""},{"$f":"IF(AN131<=0,0,IF('Simulador Pagos Oportunos'!$Y$80=1,0,AN131*'Simulador Pagos Oportunos'!$Y$83))+IF(AN131<=0,0,IF('Simulador Pagos Oportunos'!$W$45=1,'Simulador Pagos Oportunos'!$H$60,IF('Simulador Pagos Oportunos'!$W$45=2,'Simulador Pagos Oportunos'!$J$60,IF('Simulador Pagos Oportunos'!$W$45=3,'Simulador Pagos Oportunos'!$L$60,'Simulador Pagos Oportunos'!$N$60))))","v":0},null,0,0,"",0,112]
[113,0,null,0,null,0,null,0,null,null,null,null,{"$f":"IF(OR('Simulador Pagos Oportunos'!$U$15=5,'Simulador Pagos Oportunos'!$U$15=1,'Simulador Pagos Oportunos'!$U$15=3,'Simulador Pagos Oportunos'!$U$15=4),0,K132*'Simulador Pagos Oportunos'!$N$74*'Simulador Pagos Oportunos'!$V$21)","v":0},null,{"$f":"IF(B132=0,\"\",IF('Simulador Pagos Oportunos'!$W$45=1,AH132,IF('Simulador Pagos Oportunos'!$W$45=2,AI132,IF('Simulador Pagos Oportunos'!$W$45=3,AJ132,IF('Simulador Pagos Oportunos'!$W$45=4,'Tabla Pagos Oportunos'!AK132,AG132)))))","v":""},null,0,null,{"$f":"IF(B132<=0,0,IF('Simulador Pagos Oportunos'!$Y$80=1,0,B132*'Simulador Pagos Oportunos'!$Y$83))","v":0},null,{"$f":"IF(B132<=0,0,IF('Simulador Pagos Oportunos'!$W$45=1,'Simulador Pagos Oportunos'!$H$60,IF('Simulador Pagos Oportunos'!$W$45=2,'Simulador Pagos Oportunos'!$J$60,IF('Simulador Pagos Oportunos'!$W$45=3,'Simulador Pagos Oportunos'!$L$60,IF('Simulador Pagos Oportunos'!$W$45=4,'Simulador Pagos Oportunos'!$N$60)))))","v":0},null,0,null,null,null,9,5,0,0,0,0,0.11249999999999999,null,0.1225,0.1225,0.1225,0,0,0,0,0,0,0,{"$f":"IF(AN132=0,\"\",IF('Simulador Pagos Oportunos'!$W$45=1,AH132,IF('Simulador Pagos Oportunos'!$W$45=2,AI132,IF('Simulador Pagos Oportunos'!$W$45=3,AJ132,IF('Simulador Pagos Oportunos'!$W$45=4,AK132,AG132)))))","v":""},{"$f":"IF(AN132<=0,0,IF('Simulador Pagos Oportunos'!$Y$80=1,0,AN132*'Simulador Pagos Oportunos'!$Y$83))+IF(AN132<=0,0,IF('Simulador Pagos Oportunos'!$W$45=1,'Simulador Pagos Oportunos'!$H$60,IF('Simulador Pagos Oportunos'!$W$45=2,'Simulador Pagos Oportunos'!$J$60,IF('Simulador Pagos Oportunos'!$W$45=3,'Simulador Pagos Oportunos'!$L$60,'Simulador Pagos Oportunos'!$N$60))))","v":0},null,0,0,"",0,113]
[114,0,null,0,null,0,null,0,null,null,null,null,{"$f":"IF(OR('Simulador Pagos Oportunos'!$U$15=5,'Simulador Pagos Oportunos'!$U$15=1,'Simulador Pagos Oportunos'!$U$15=3,'Simulador Pagos Oportunos'!$U$15=4),0,K133*'Simulador Pagos Oportunos'!$N$74*'Simulador Pagos Oportunos'!$V$21)","v":0},null,{"$f":"IF(B133=0,\"\",IF('Simulador Pagos Oportunos'!$W$45=1,AH133,IF('Simulador Pagos Oportunos'!$W$45=2,AI133,IF('Simulador Pagos Oportunos'!$W$45=3,AJ133,IF('Simulador Pagos Oportunos'!$W$45=4,'Tabla Pagos Oportunos'!AK133,AG133)))))","v":""},null,0,null,{"$f":"IF(B133<=0,0,IF('Simulador Pagos Oportunos'!$Y$80=1,0,B133*'Simulador Pagos Oportunos'!$Y$83))","v":0},null,{"$f":"IF(B133<=0,0,IF('Simulador Pagos Oportunos'!$W$45=1,'Simulador Pagos Oportunos'!$H$60,IF('Simulador Pagos Oportunos'!$W$45=2,'Simulador Pagos Oportunos'!$J$60,IF('Simulador Pagos Oportunos'!$W$45=3,'Simulador Pagos Oportunos'!$L$60,IF('Simulador Pagos Oportunos'!$W$45=4,'Simulador Pagos Oportunos'!$N$60)))))","v":0},null,0,null,null,null,9,6,0,0,0,0,0.11249999999999999,null,0.1225,0.1225,0.1225,0,0,0,0,0,0,0,{"$f":"IF(AN133=0,\"\",IF('Simulador Pagos Oportunos'!$W$45=1,AH133,IF('Simulador Pagos Oportunos'!$W$45=2,AI133,IF('Simulador Pagos Oportunos'!$W$45=3,AJ133,IF('Simulador Pagos Oportunos'!$W$45=4,AK133,AG133)))))","v":""},{"$f":"IF(AN133<=0,0,IF('Simulador Pagos Oportunos'!$Y$80=1,0,AN133*'Simulador Pagos Oportunos'!$Y$83))+IF(AN133<=0,0,IF('Simulador Pagos Oportunos'!$W$45=1,'Simulador Pagos Oportunos'!$H$60,IF('Simulador Pagos Oportunos'!$W$45=2,'Simulador Pagos Oportunos'!$J$60,IF('Simulador Pagos Oportunos'!$W$45=3,'Simulador Pagos Oportunos'!$L$60,'Simulador Pagos Oportunos'!$N$60))))","v":0},null,0,0,"",0,114]
[115,0,null,0,null,0,null,0,null,null,null,null,{"$f":"IF(OR('Simulador Pagos Oportunos'!$U$15=5,'Simulador Pagos Oportunos'!$U$15=1,'Simulador Pagos Oportunos'!$U$15=3,'Simulador Pagos Oportunos'!$U$15=4),0,K134*'Simulador Pagos Oportunos'!$N$74*'Simulador Pagos Oportunos'!$V$21)","v":0},null,{"$f":"IF(B134=0,\"\",IF('Simulador Pagos Oportunos'!$W$45=1,AH134,IF('Simulador Pagos Oportunos'!$W$45=2,AI134,IF('Simulador Pagos Oportunos'!$W$45=3,AJ134,IF('Simulador Pagos Oportunos'!$W$45=4,'Tabla Pagos Oportunos'!AK134,AG134)))))","v":""},null,0,null,{"$f":"IF(B134<=0,0,IF('Simulador Pagos Oportunos'!$Y$80=1,0,B134*'Simulador Pagos Oportunos'!$Y$83))","v":0},null,{"$f":"IF(B134<=0,0,IF('Simulador Pagos Oportunos'!$W$45=1,'Simulador Pagos Oportunos'!$H$60,IF('Simulador Pagos Oportunos'!$W$45=2,'Simulador Pagos Oportunos'!$J$60,IF('Simulador Pagos Oportunos'!$W$45=3,'Simulador Pagos Oportunos'!$L$60,IF('Simulador Pagos Oportunos'!$W$45=4,'Simulador Pagos Oportunos'!$N$60)))))","v":0},null,0,null,null,null,9,7,0,0,0,0,0.11249999999999999,null,0.1225,0.1225,0.1225,0,0,0,0,0,0,0,{"$f":"IF(AN134=0,\"\",IF('Simulador Pagos Oportunos'!$W$45=1,AH134,IF('Simulador Pagos Oportunos'!$W$45=2,AI134,IF('Simulador Pagos Oportunos'!$W$45=3,AJ134,IF('Simulador Pagos Oportunos'!$W$45=4,AK134,AG134)))))","v":""},{"$f":"IF(AN134<=0,0,IF('Simulador Pagos Oportunos'!$Y$80=1,0,AN134*'Simulador Pagos Oportunos'!$Y$83))+IF(AN134<=0,0,IF('Simulador Pagos Oportunos'!$W$45=1,'Simulador Pagos Oportunos'!$H$60,IF('Simulador Pagos Oportunos'!$W$45=2,'Simulador Pagos Oportunos'!$J$60,IF('Simulador Pagos Oportunos'!$W$45=3,'Simulador Pagos Oportunos'!$L$60,'Simulador Pagos Oportunos'!$N$60))))","v":0},null,0,0,"",0,115]
[116,0,null,0,null,0,null,0,null,null,null,null,{"$f":"IF(OR('Simulador Pagos Oportunos'!$U$15=5,'Simulador Pagos Oportunos'!$U$15=1,'Simulador Pagos Oportunos'!$U$15=3,'Simulador Pagos Oportunos'!$U$15=4),0,K135*'Simulador Pagos Oportunos'!$N$74*'Simulador Pagos Oportunos'!$V$21)","v":0},null,{"$f":"IF(B135=0,\"\",IF('Simulador Pagos Oportunos'!$W$45=1,AH135,IF('Simulador Pagos Oportunos'!$W$45=2,AI135,IF('Simulador Pagos Oportunos'!$W$45=3,AJ135,IF('Simulador Pagos Oportunos'!$W$45=4,'Tabla Pagos Oportunos'!AK135,AG135)))))","v":""},null,0,null,{"$f":"IF(B135<=0,0,IF('Simulador Pagos Oportunos'!$Y$80=1,0,B135*'Simulador Pagos Oportunos'!$Y$83))","v":0},null,{"$f":"IF(B135<=0,0,IF('Simulador Pagos Oportunos'!$W$45=1,'Simulador Pagos Oportunos'!$H$60,IF('Simulador Pagos Oportunos'!$W$45=2,'Simulador Pagos Oportunos'!$J$60,IF('Simulador Pagos Oportunos'!$W$45=3,'Simulador Pagos Oportunos'!$L$60,IF('Simulador Pagos Oportunos'!$W$45=4,'Simulador Pagos Oportunos'!$N$60)))))","v":0},null,0,null,null,null,9,8,0,0,0,0,0.11249999999999999,null,0.1225,0.1225,0.1225,0,0,0,0,0,0,0,{"$f":"IF(AN135=0,\"\",IF('Simulador Pagos Oportunos'!$W$45=1,AH135,IF('Simulador Pagos Oportunos'!$W$45=2,AI135,IF('Simulador Pagos Oportunos'!$W$45=3,AJ135,IF('Simulador Pagos Oportunos'!$W$45=4,AK135,AG135)))))","v":""},{"$f":"IF(AN135<=0,0,IF('Simulador Pagos Oportunos'!$Y$80=1,0,AN135*'Simulador Pagos Oportunos'!$Y$83))+IF(AN135<=0,0,IF('Simulador Pagos Oportunos'!$W$45=1,'Simulador Pagos Oportunos'!$H$60,IF('Simulador Pagos Oportunos'!$W$45=2,'Simulador Pagos Oportunos'!$J$60,IF('Simulador Pagos Oportunos'!$W$45=3,'Simulador Pagos Oportunos'!$L$60,'Simulador Pagos Oportunos'!$N$60))))","v":0},null,0,0,"",0,116]
[117,0,null,0,null,0,null,0,null,null,null,null,{"$f":"IF(OR('Simulador Pagos Oportunos'!$U$15=5,'Simulador Pagos Oportunos'!$U$15=1,'Simulador Pagos Oportunos'!$U$15=3,'Simulador Pagos Oportunos'!$U$15=4),0,K136*'Simulador Pagos Oportunos'!$N$74*'Simulador Pagos Oportunos'!$V$21)","v":0},null,{"$f":"IF(B136=0,\"\",IF('Simulador Pagos Oportunos'!$W$45=1,AH136,IF('Simulador Pagos Oportunos'!$W$45=2,AI136,IF('Simulador Pagos Oportunos'!$W$45=3,AJ136,IF('Simulador Pagos Oportunos'!$W$45=4,'Tabla Pagos Oportunos'!AK136,AG136)))))","v":""},null,0,null,{"$f":"IF(B136<=0,0,IF('Simulador Pagos Oportunos'!$Y$80=1,0,B136*'Simulador Pagos Oportunos'!$Y$83))","v":0},null,{"$f":"IF(B136<=0,0,IF('Simulador Pagos Oportunos'!$W$45=1,'Simulador Pagos Oportunos'!$H$60,IF('Simulador Pagos Oportunos'!$W$45=2,'Simulador Pagos Oportunos'!$J$60,IF('Simulador Pagos Oportunos'!$W$45=3,'Simulador Pagos Oportunos'!$L$60,IF('Simulador Pagos Oportunos'!$W$45=4,'Simulador Pagos Oportunos'!$N$60)))))","v":0},null,0,null,null,null,9,9,0,0,0,0,0.11249999999999999,null,0.1225,0.1225,0.1225,0,0,0,0,0,0,0,{"$f":"IF(AN136=0,\"\",IF('Simulador Pagos Oportunos'!$W$45=1,AH136,IF('Simulador Pagos Oportunos'!$W$45=2,AI136,IF('Simulador Pagos Oportunos'!$W$45=3,AJ136,IF('Simulador Pagos Oportunos'!$W$45=4,AK136,AG136)))))","v":""},{"$f":"IF(AN136<=0,0,IF('Simulador Pagos Oportunos'!$Y$80=1,0,AN136*'Simulador Pagos Oportunos'!$Y$83))+IF(AN136<=0,0,IF('Simulador Pagos Oportunos'!$W$45=1,'Simulador Pagos Oportunos'!$H$60,IF('Simulador Pagos Oportunos'!$W$45=2,'Simulador Pagos Oportunos'!$J$60,IF('Simulador Pagos Oportunos'!$W$45=3,'Simulador Pagos Oportunos'!$L$60,'Simulador Pagos Oportunos'!$N$60))))","v":0},null,0,0,"",0,117]
[118,0,null,0,null,0,null,0,null,null,null,null,{"$f":"IF(OR('Simulador Pagos Oportunos'!$U$15=5,'Simulador Pagos Oportunos'!$U$15=1,'Simulador Pagos Oportunos'!$U$15=3,'Simulador Pagos Oportunos'!$U$15=4),0,K137*'Simulador Pagos Oportunos'!$N$74*'Simulador Pagos Oportunos'!$V$21)","v":0},null,{"$f":"IF(B137=0,\"\",IF('Simulador Pagos Oportunos'!$W$45=1,AH137,IF('Simulador Pagos Oportunos'!$W$45=2,AI137,IF('Simulador Pagos Oportunos'!$W$45=3,AJ137,IF('Simulador Pagos Oportunos'!$W$45=4,'Tabla Pagos Oportunos'!AK137,AG137)))))","v":""},null,0,null,{"$f":"IF(B137<=0,0,IF('Simulador Pagos Oportunos'!$Y$80=1,0,B137*'Simulador Pagos Oportunos'!$Y$83))","v":0},null,{"$f":"IF(B137<=0,0,IF('Simulador Pagos Oportunos'!$W$45=1,'Simulador Pagos Oportunos'!$H$60,IF('Simulador Pagos Oportunos'!$W$45=2,'Simulador Pagos Oportunos'!$J$60,IF('Simulador Pagos Oportunos'!$W$45=3,'Simulador Pagos Oportunos'!$L$60,IF('Simulador Pagos Oportunos'!$W$45=4,'Simulador Pagos Oportunos'!$N$60)))))","v":0},null,0,null,null,null,9,10,0,0,0,0,0.11249999999999999,null,0.1225,0.1225,0.1225,0,0,0,0,0,0,0,{"$f":"IF(AN137=0,\"\",IF('Simulador Pagos Oportunos'!$W$45=1,AH137,IF('Simulador Pagos Oportunos'!$W$45=2,AI137,IF('Simulador Pagos Oportunos'!$W$45=3,AJ137,IF('Simulador Pagos Oportunos'!$W$45=4,AK137,AG137)))))","v":""},{"$f":"IF(AN137<=0,0,IF('Simulador Pagos Oportunos'!$Y$80=1,0,AN137*'Simulador Pagos Oportunos'!$Y$83))+IF(AN137<=0,0,IF('Simulador Pagos Oportunos'!$W$45=1,'Simulador Pagos Oportunos'!$H$60,IF('Simulador Pagos Oportunos'!$W$45=2,'Simulador Pagos Oportunos'!$J$60,IF('Simulador Pagos Oportunos'!$W$45=3,'Simulador Pagos Oportunos'!$L$60,'Simulador Pagos Oportunos'!$N$60))))","v":0},null,0,0,"",0,118]
[119,0,null,0,null,0,null,0,null,null,null,null,{"$f":"IF(OR('Simulador Pagos Oportunos'!$U$15=5,'Simulador Pagos Oportunos'!$U$15=1,'Simulador Pagos Oportunos'!$U$15=3,'Simulador Pagos Oportunos'!$U$15=4),0,K138*'Simulador Pagos Oportunos'!$N$74*'Simulador Pagos Oportunos'!$V$21)","v":0},null,{"$f":"IF(B138=0,\"\",IF('Simulador Pagos Oportunos'!$W$45=1,AH138,IF('Simulador Pagos Oportunos'!$W$45=2,AI138,IF('Simulador Pagos Oportunos'!$W$45=3,AJ138,IF('Simulador Pagos Oportunos'!$W$45=4,'Tabla Pagos Oportunos'!AK138,AG138)))))","v":""},null,0,null,{"$f":"IF(B138<=0,0,IF('Simulador Pagos Oportunos'!$Y$80=1,0,B138*'Simulador Pagos Oportunos'!$Y$83))","v":0},null,{"$f":"IF(B138<=0,0,IF('Simulador Pagos Oportunos'!$W$45=1,'Simulador Pagos Oportunos'!$H$60,IF('Simulador Pagos Oportunos'!$W$45=2,'Simulador Pagos Oportunos'!$J$60,IF('Simulador Pagos Oportunos'!$W$45=3,'Simulador Pagos Oportunos'!$L$60,IF('Simulador Pagos Oportunos'!$W$45=4,'Simulador Pagos Oportunos'!$N$60)))))","v":0},null,0,null,null,null,9,11,0,0,0,0,0.11249999999999999,null,0.1225,0.1225,0.1225,0,0,0,0,0,0,0,{"$f":"IF(AN138=0,\"\",IF('Simulador Pagos Oportunos'!$W$45=1,AH138,IF('Simulador Pagos Oportunos'!$W$45=2,AI138,IF('Simulador Pagos Oportunos'!$W$45=3,AJ138,IF('Simulador Pagos Oportunos'!$W$45=4,AK138,AG138)))))","v":""},{"$f":"IF(AN138<=0,0,IF('Simulador Pagos Oportunos'!$Y$80=1,0,AN138*'Simulador Pagos Oportunos'!$Y$83))+IF(AN138<=0,0,IF('Simulador Pagos Oportunos'!$W$45=1,'Simulador Pagos Oportunos'!$H$60,IF('Simulador Pagos Oportunos'!$W$45=2,'Simulador Pagos Oportunos'!$J$60,IF('Simulador Pagos Oportunos'!$W$45=3,'Simulador Pagos Oportunos'!$L$60,'Simulador Pagos Oportunos'!$N$60))))","v":0},null,0,0,"",0,119]
[120,0,null,0,null,0,null,0,null,null,null,null,{"$f":"IF(OR('Simulador Pagos Oportunos'!$U$15=5,'Simulador Pagos Oportunos'!$U$15=1,'Simulador Pagos Oportunos'!$U$15=3,'Simulador Pagos Oportunos'!$U$15=4),0,K139*'Simulador Pagos Oportunos'!$N$74*'Simulador Pagos Oportunos'!$V$21)","v":0},null,{"$f":"IF(B139=0,\"\",IF('Simulador Pagos Oportunos'!$W$45=1,AH139,IF('Simulador Pagos Oportunos'!$W$45=2,AI139,IF('Simulador Pagos Oportunos'!$W$45=3,AJ139,IF('Simulador Pagos Oportunos'!$W$45=4,'Tabla Pagos Oportunos'!AK139,AG139)))))","v":""},null,0,null,{"$f":"IF(B139<=0,0,IF('Simulador Pagos Oportunos'!$Y$80=1,0,B139*'Simulador Pagos Oportunos'!$Y$83))","v":0},null,{"$f":"IF(B139<=0,0,IF('Simulador Pagos Oportunos'!$W$45=1,'Simulador Pagos Oportunos'!$H$60,IF('Simulador Pagos Oportunos'!$W$45=2,'Simulador Pagos Oportunos'!$J$60,IF('Simulador Pagos Oportunos'!$W$45=3,'Simulador Pagos Oportunos'!$L$60,IF('Simulador Pagos Oportunos'!$W$45=4,'Simulador Pagos Oportunos'!$N$60)))))","v":0},null,0,null,null,null,10,0,0,0,0,0,0.11249999999999999,null,0.1225,0.1225,0.1225,0,0,0,0,0,0,0,{"$f":"IF(AN139=0,\"\",IF('Simulador Pagos Oportunos'!$W$45=1,AH139,IF('Simulador Pagos Oportunos'!$W$45=2,AI139,IF('Simulador Pagos Oportunos'!$W$45=3,AJ139,IF('Simulador Pagos Oportunos'!$W$45=4,AK139,AG139)))))","v":""},{"$f":"IF(AN139<=0,0,IF('Simulador Pagos Oportunos'!$Y$80=1,0,AN139*'Simulador Pagos Oportunos'!$Y$83))+IF(AN139<=0,0,IF('Simulador Pagos Oportunos'!$W$45=1,'Simulador Pagos Oportunos'!$H$60,IF('Simulador Pagos Oportunos'!$W$45=2,'Simulador Pagos Oportunos'!$J$60,IF('Simulador Pagos Oportunos'!$W$45=3,'Simulador Pagos Oportunos'!$L$60,'Simulador Pagos Oportunos'!$N$60))))","v":0},null,0,0,"",0,120]
[121,0,null,0,null,0,null,0,null,null,null,null,{"$f":"IF(OR('Simulador Pagos Oportunos'!$U$15=5,'Simulador Pagos Oportunos'!$U$15=1,'Simulador Pagos Oportunos'!$U$15=3,'Simulador Pagos Oportunos'!$U$15=4),0,K140*'Simulador Pagos Oportunos'!$N$74*'Simulador Pagos Oportunos'!$V$21)","v":0},null,{"$f":"IF(B140=0,\"\",IF('Simulador Pagos Oportunos'!$W$45=1,AH140,IF('Simulador Pagos Oportunos'!$W$45=2,AI140,IF('Simulador Pagos Oportunos'!$W$45=3,AJ140,IF('Simulador Pagos Oportunos'!$W$45=4,'Tabla Pagos Oportunos'!AK140,AG140)))))","v":""},null,0,null,{"$f":"IF(B140<=0,0,IF('Simulador Pagos Oportunos'!$Y$80=1,0,B140*'Simulador Pagos Oportunos'!$Y$83))","v":0},null,{"$f":"IF(B140<=0,0,IF('Simulador Pagos Oportunos'!$W$45=1,'Simulador Pagos Oportunos'!$H$60,IF('Simulador Pagos Oportunos'!$W$45=2,'Simulador Pagos Oportunos'!$J$60,IF('Simulador Pagos Oportunos'!$W$45=3,'Simulador Pagos Oportunos'!$L$60,IF('Simulador Pagos Oportunos'!$W$45=4,'Simulador Pagos Oportunos'!$N$60)))))","v":0},null,0,null,{"$f":"IF(B140<=0,0,IF(OR('Simulador Pagos Oportunos'!$W$45=4,'Simulador Pagos Oportunos'!$W$45=5),0,'Simulador Pagos Oportunos'!$AG$62))","v":0},null,10,1,0,0,0,0,{"$f":"IF(AG139=$AG$4,AG139,IF(AG139-0.25%<=$AG$4,$AG$4,AG139-0.25%))","v":0.10999999999999999},null,null,0.1225,0.1225,0,0,0,0,0,0,0,{"$f":"IF(AN140=0,\"\",IF('Simulador Pagos Oportunos'!$W$45=1,AH140,IF('Simulador Pagos Oportunos'!$W$45=2,AI140,IF('Simulador Pagos Oportunos'!$W$45=3,AJ140,IF('Simulador Pagos Oportunos'!$W$45=4,AK140,AG140)))))","v":""},{"$f":"IF(AN140<=0,0,IF('Simulador Pagos Oportunos'!$Y$80=1,0,AN140*'Simulador Pagos Oportunos'!$Y$83))+IF(AN140<=0,0,IF('Simulador Pagos Oportunos'!$W$45=1,'Simulador Pagos Oportunos'!$H$60,IF('Simulador Pagos Oportunos'!$W$45=2,'Simulador Pagos Oportunos'!$J$60,IF('Simulador Pagos Oportunos'!$W$45=3,'Simulador Pagos Oportunos'!$L$60,'Simulador Pagos Oportunos'!$N$60))))","v":0},{"$f":"IF(AN140<=0,0,$AU$32)","v":0},0,{"$f":"IFERROR(IF(AO140<=0.01,0,AW139-1),0)","v":0},"",0,121]
[122,0,null,0,null,0,null,0,null,null,null,null,{"$f":"IF(OR('Simulador Pagos Oportunos'!$U$15=5,'Simulador Pagos Oportunos'!$U$15=1,'Simulador Pagos Oportunos'!$U$15=3,'Simulador Pagos Oportunos'!$U$15=4),0,K141*'Simulador Pagos Oportunos'!$N$74*'Simulador Pagos Oportunos'!$V$21)","v":0},null,{"$f":"IF(B141=0,\"\",IF('Simulador Pagos Oportunos'!$W$45=1,AH141,IF('Simulador Pagos Oportunos'!$W$45=2,AI141,IF('Simulador Pagos Oportunos'!$W$45=3,AJ141,IF('Simulador Pagos Oportunos'!$W$45=4,'Tabla Pagos Oportunos'!AK141,AG141)))))","v":""},null,0,null,{"$f":"IF(B141<=0,0,IF('Simulador Pagos Oportunos'!$Y$80=1,0,B141*'Simulador Pagos Oportunos'!$Y$83))","v":0},null,{"$f":"IF(B141<=0,0,IF('Simulador Pagos Oportunos'!$W$45=1,'Simulador Pagos Oportunos'!$H$60,IF('Simulador Pagos Oportunos'!$W$45=2,'Simulador Pagos Oportunos'!$J$60,IF('Simulador Pagos Oportunos'!$W$45=3,'Simulador Pagos Oportunos'!$L$60,IF('Simulador Pagos Oportunos'!$W$45=4,'Simulador Pagos Oportunos'!$N$60)))))","v":0},null,0,null,null,null,10,2,0,0,0,0,{"$f":"AG140","v":0.10999999999999999},null,null,{"$f":"AJ140","v":0.1225},0.1225,0,0,0,0,0,0,0,{"$f":"IF(AN141=0,\"\",IF('Simulador Pagos Oportunos'!$W$45=1,AH141,IF('Simulador Pagos Oportunos'!$W$45=2,AI141,IF('Simulador Pagos Oportunos'!$W$45=3,AJ141,IF('Simulador Pagos Oportunos'!$W$45=4,AK141,AG141)))))","v":""},{"$f":"IF(AN141<=0,0,IF('Simulador Pagos Oportunos'!$Y$80=1,0,AN141*'Simulador Pagos Oportunos'!$Y$83))+IF(AN141<=0,0,IF('Simulador Pagos Oportunos'!$W$45=1,'Simulador Pagos Oportunos'!$H$60,IF('Simulador Pagos Oportunos'!$W$45=2,'Simulador Pagos Oportunos'!$J$60,IF('Simulador Pagos Oportunos'!$W$45=3,'Simulador Pagos Oportunos'!$L$60,'Simulador Pagos Oportunos'!$N$60))))","v":0},null,0,{"$f":"IFERROR(IF(AO141<=0.01,0,AW140-1),0)","v":0},"",0,122]
[123,0,null,0,null,0,null,0,null,null,null,null,{"$f":"IF(OR('Simulador Pagos Oportunos'!$U$15=5,'Simulador Pagos Oportunos'!$U$15=1,'Simulador Pagos Oportunos'!$U$15=3,'Simulador Pagos Oportunos'!$U$15=4),0,K142*'Simulador Pagos Oportunos'!$N$74*'Simulador Pagos Oportunos'!$V$21)","v":0},null,{"$f":"IF(B142=0,\"\",IF('Simulador Pagos Oportunos'!$W$45=1,AH142,IF('Simulador Pagos Oportunos'!$W$45=2,AI142,IF('Simulador Pagos Oportunos'!$W$45=3,AJ142,IF('Simulador Pagos Oportunos'!$W$45=4,'Tabla Pagos Oportunos'!AK142,AG142)))))","v":""},null,0,null,{"$f":"IF(B142<=0,0,IF('Simulador Pagos Oportunos'!$Y$80=1,0,B142*'Simulador Pagos Oportunos'!$Y$83))","v":0},null,{"$f":"IF(B142<=0,0,IF('Simulador Pagos Oportunos'!$W$45=1,'Simulador Pagos Oportunos'!$H$60,IF('Simulador Pagos Oportunos'!$W$45=2,'Simulador Pagos Oportunos'!$J$60,IF('Simulador Pagos Oportunos'!$W$45=3,'Simulador Pagos Oportunos'!$L$60,IF('Simulador Pagos Oportunos'!$W$45=4,'Simulador Pagos Oportunos'!$N$60)))))","v":0},null,0,null,null,null,10,3,0,0,0,0,{"$f":"AG141","v":0.10999999999999999},null,null,0.1225,0.1225,0,0,0,0,0,0,0,{"$f":"IF(AN142=0,\"\",IF('Simulador Pagos Oportunos'!$W$45=1,AH142,IF('Simulador Pagos Oportunos'!$W$45=2,AI142,IF('Simulador Pagos Oportunos'!$W$45=3,AJ142,IF('Simulador Pagos Oportunos'!$W$45=4,AK142,AG142)))))","v":""},{"$f":"IF(AN142<=0,0,IF('Simulador Pagos Oportunos'!$Y$80=1,0,AN142*'Simulador Pagos Oportunos'!$Y$83))+IF(AN142<=0,0,IF('Simulador Pagos Oportunos'!$W$45=1,'Simulador Pagos Oportunos'!$H$60,IF('Simulador Pagos Oportunos'!$W$45=2,'Simulador Pagos Oportunos'!$J$60,IF('Simulador Pagos Oportunos'!$W$45=3,'Simulador Pagos Oportunos'!$L$60,'Simulador Pagos Oportunos'!$N$60))))","v":0},null,0,0,"",0,123]
[124,0,null,0,null,0,null,0,null,null,null,null,{"$f":"IF(OR('Simulador Pagos Oportunos'!$U$15=5,'Simulador Pagos Oportunos'!$U$15=1,'Simulador Pagos Oportunos'!$U$15=3,'Simulador Pagos Oportunos'!$U$15=4),0,K143*'Simulador Pagos Oportunos'!$N$74*'Simulador Pagos Oportunos'!$V$21)","v":0},null,{"$f":"IF(B143=0,\"\",IF('Simulador Pagos Oportunos'!$W$45=1,AH143,IF('Simulador Pagos Oportunos'!$W$45=2,AI143,IF('Simulador Pagos Oportunos'!$W$45=3,AJ143,IF('Simulador Pagos Oportunos'!$W$45=4,'Tabla Pagos Oportunos'!AK143,AG143)))))","v":""},null,0,null,{"$f":"IF(B143<=0,0,IF('Simulador Pagos Oportunos'!$Y$80=1,0,B143*'Simulador Pagos Oportunos'!$Y$83))","v":0},null,{"$f":"IF(B143<=0,0,IF('Simulador Pagos Oportunos'!$W$45=1,'Simulador Pagos Oportunos'!$H$60,IF('Simulador Pagos Oportunos'!$W$45=2,'Simulador Pagos Oportunos'!$J$60,IF('Simulador Pagos Oportunos'!$W$45=3,'Simulador Pagos Oportunos'!$L$60,IF('Simulador Pagos Oportunos'!$W$45=4,'Simulador Pagos Oportunos'!$N$60)))))","v":0},null,0,null,null,null,10,4,0,0,0,0,0.10999999999999999,null,null,0.1225,0.1225,0,0,0,0,0,0,0,{"$f":"IF(AN143=0,\"\",IF('Simulador Pagos Oportunos'!$W$45=1,AH143,IF('Simulador Pagos Oportunos'!$W$45=2,AI143,IF('Simulador Pagos Oportunos'!$W$45=3,AJ143,IF('Simulador Pagos Oportunos'!$W$45=4,AK143,AG143)))))","v":""},{"$f":"IF(AN143<=0,0,IF('Simulador Pagos Oportunos'!$Y$80=1,0,AN143*'Simulador Pagos Oportunos'!$Y$83))+IF(AN143<=0,0,IF('Simulador Pagos Oportunos'!$W$45=1,'Simulador Pagos Oportunos'!$H$60,IF('Simulador Pagos Oportunos'!$W$45=2,'Simulador Pagos Oportunos'!$J$60,IF('Simulador Pagos Oportunos'!$W$45=3,'Simulador Pagos Oportunos'!$L$60,'Simulador Pagos Oportunos'!$N$60))))","v":0},null,0,0,"",0,124]
[125,0,null,0,null,0,null,0,null,null,null,null,{"$f":"IF(OR('Simulador Pagos Oportunos'!$U$15=5,'Simulador Pagos Oportunos'!$U$15=1,'Simulador Pagos Oportunos'!$U$15=3,'Simulador Pagos Oportunos'!$U$15=4),0,K144*'Simulador Pagos Oportunos'!$N$74*'Simulador Pagos Oportunos'!$V$21)","v":0},null,{"$f":"IF(B144=0,\"\",IF('Simulador Pagos Oportunos'!$W$45=1,AH144,IF('Simulador Pagos Oportunos'!$W$45=2,AI144,IF('Simulador Pagos Oportunos'!$W$45=3,AJ144,IF('Simulador Pagos Oportunos'!$W$45=4,'Tabla Pagos Oportunos'!AK144,AG144)))))","v":""},null,0,null,{"$f":"IF(B144<=0,0,IF('Simulador Pagos Oportunos'!$Y$80=1,0,B144*'Simulador Pagos Oportunos'!$Y$83))","v":0},null,{"$f":"IF(B144<=0,0,IF('Simulador Pagos Oportunos'!$W$45=1,'Simulador Pagos Oportunos'!$H$60,IF('Simulador Pagos Oportunos'!$W$45=2,'Simulador Pagos Oportunos'!$J$60,IF('Simulador Pagos Oportunos'!$W$45=3,'Simulador Pagos Oportunos'!$L$60,IF('Simulador Pagos Oportunos'!$W$45=4,'Simulador Pagos Oportunos'!$N$60)))))","v":0},null,0,null,null,null,10,5,0,0,0,0,0.10999999999999999,null,null,0.1225,0.1225,0,0,0,0,0,0,0,{"$f":"IF(AN144=0,\"\",IF('Simulador Pagos Oportunos'!$W$45=1,AH144,IF('Simulador Pagos Oportunos'!$W$45=2,AI144,IF('Simulador Pagos Oportunos'!$W$45=3,AJ144,IF('Simulador Pagos Oportunos'!$W$45=4,AK144,AG144)))))","v":""},{"$f":"IF(AN144<=0,0,IF('Simulador Pagos Oportunos'!$Y$80=1,0,AN144*'Simulador Pagos Oportunos'!$Y$83))+IF(AN144<=0,0,IF('Simulador Pagos Oportunos'!$W$45=1,'Simulador Pagos Oportunos'!$H$60,IF('Simulador Pagos Oportunos'!$W$45=2,'Simulador Pagos Oportunos'!$J$60,IF('Simulador Pagos Oportunos'!$W$45=3,'Simulador Pagos Oportunos'!$L$60,'Simulador Pagos Oportunos'!$N$60))))","v":0},null,0,0,"",0,125]
[126,0,null,0,null,0,null,0,null,null,null,null,{"$f":"IF(OR('Simulador Pagos Oportunos'!$U$15=5,'Simulador Pagos Oportunos'!$U$15=1,'Simulador Pagos Oportunos'!$U$15=3,'Simulador Pagos Oportunos'!$U$15=4),0,K145*'Simulador Pagos Oportunos'!$N$74*'Simulador Pagos Oportunos'!$V$21)","v":0},null,{"$f":"IF(B145=0,\"\",IF('Simulador Pagos Oportunos'!$W$45=1,AH145,IF('Simulador Pagos Oportunos'!$W$45=2,AI145,IF('Simulador Pagos Oportunos'!$W$45=3,AJ145,IF('Simulador Pagos Oportunos'!$W$45=4,'Tabla Pagos Oportunos'!AK145,AG145)))))","v":""},null,0,null,{"$f":"IF(B145<=0,0,IF('Simulador Pagos Oportunos'!$Y$80=1,0,B145*'Simulador Pagos Oportunos'!$Y$83))","v":0},null,{"$f":"IF(B145<=0,0,IF('Simulador Pagos Oportunos'!$W$45=1,'Simulador Pagos Oportunos'!$H$60,IF('Simulador Pagos Oportunos'!$W$45=2,'Simulador Pagos Oportunos'!$J$60,IF('Simulador Pagos Oportunos'!$W$45=3,'Simulador Pagos Oportunos'!$L$60,IF('Simulador Pagos Oportunos'!$W$45=4,'Simulador Pagos Oportunos'!$N$60)))))","v":0},null,0,null,null,null,10,6,0,0,0,0,0.10999999999999999,null,null,0.1225,0.1225,0,0,0,0,0,0,0,{"$f":"IF(AN145=0,\"\",IF('Simulador Pagos Oportunos'!$W$45=1,AH145,IF('Simulador Pagos Oportunos'!$W$45=2,AI145,IF('Simulador Pagos Oportunos'!$W$45=3,AJ145,IF('Simulador Pagos Oportunos'!$W$45=4,AK145,AG145)))))","v":""},{"$f":"IF(AN145<=0,0,IF('Simulador Pagos Oportunos'!$Y$80=1,0,AN145*'Simulador Pagos Oportunos'!$Y$83))+IF(AN145<=0,0,IF('Simulador Pagos Oportunos'!$W$45=1,'Simulador Pagos Oportunos'!$H$60,IF('Simulador Pagos Oportunos'!$W$45=2,'Simulador Pagos Oportunos'!$J$60,IF('Simulador Pagos Oportunos'!$W$45=3,'Simulador Pagos Oportunos'!$L$60,'Simulador Pagos Oportunos'!$N$60))))","v":0},null,0,0,"",0,126]
[127,0,null,0,null,0,null,0,null,null,null,null,{"$f":"IF(OR('Simulador Pagos Oportunos'!$U$15=5,'Simulador Pagos Oportunos'!$U$15=1,'Simulador Pagos Oportunos'!$U$15=3,'Simulador Pagos Oportunos'!$U$15=4),0,K146*'Simulador Pagos Oportunos'!$N$74*'Simulador Pagos Oportunos'!$V$21)","v":0},null,{"$f":"IF(B146=0,\"\",IF('Simulador Pagos Oportunos'!$W$45=1,AH146,IF('Simulador Pagos Oportunos'!$W$45=2,AI146,IF('Simulador Pagos Oportunos'!$W$45=3,AJ146,IF('Simulador Pagos Oportunos'!$W$45=4,'Tabla Pagos Oportunos'!AK146,AG146)))))","v":""},null,0,null,{"$f":"IF(B146<=0,0,IF('Simulador Pagos Oportunos'!$Y$80=1,0,B146*'Simulador Pagos Oportunos'!$Y$83))","v":0},null,{"$f":"IF(B146<=0,0,IF('Simulador Pagos Oportunos'!$W$45=1,'Simulador Pagos Oportunos'!$H$60,IF('Simulador Pagos Oportunos'!$W$45=2,'Simulador Pagos Oportunos'!$J$60,IF('Simulador Pagos Oportunos'!$W$45=3,'Simulador Pagos Oportunos'!$L$60,IF('Simulador Pagos Oportunos'!$W$45=4,'Simulador Pagos Oportunos'!$N$60)))))","v":0},null,0,null,null,null,10,7,0,0,0,0,0.10999999999999999,null,null,0.1225,0.1225,0,0,0,0,0,0,0,{"$f":"IF(AN146=0,\"\",IF('Simulador Pagos Oportunos'!$W$45=1,AH146,IF('Simulador Pagos Oportunos'!$W$45=2,AI146,IF('Simulador Pagos Oportunos'!$W$45=3,AJ146,IF('Simulador Pagos Oportunos'!$W$45=4,AK146,AG146)))))","v":""},{"$f":"IF(AN146<=0,0,IF('Simulador Pagos Oportunos'!$Y$80=1,0,AN146*'Simulador Pagos Oportunos'!$Y$83))+IF(AN146<=0,0,IF('Simulador Pagos Oportunos'!$W$45=1,'Simulador Pagos Oportunos'!$H$60,IF('Simulador Pagos Oportunos'!$W$45=2,'Simulador Pagos Oportunos'!$J$60,IF('Simulador Pagos Oportunos'!$W$45=3,'Simulador Pagos Oportunos'!$L$60,'Simulador Pagos Oportunos'!$N$60))))","v":0},null,0,0,"",0,127]
[128,0,null,0,null,0,null,0,null,null,null,null,{"$f":"IF(OR('Simulador Pagos Oportunos'!$U$15=5,'Simulador Pagos Oportunos'!$U$15=1,'Simulador Pagos Oportunos'!$U$15=3,'Simulador Pagos Oportunos'!$U$15=4),0,K147*'Simulador Pagos Oportunos'!$N$74*'Simulador Pagos Oportunos'!$V$21)","v":0},null,{"$f":"IF(B147=0,\"\",IF('Simulador Pagos Oportunos'!$W$45=1,AH147,IF('Simulador Pagos Oportunos'!$W$45=2,AI147,IF('Simulador Pagos Oportunos'!$W$45=3,AJ147,IF('Simulador Pagos Oportunos'!$W$45=4,'Tabla Pagos Oportunos'!AK147,AG147)))))","v":""},null,0,null,{"$f":"IF(B147<=0,0,IF('Simulador Pagos Oportunos'!$Y$80=1,0,B147*'Simulador Pagos Oportunos'!$Y$83))","v":0},null,{"$f":"IF(B147<=0,0,IF('Simulador Pagos Oportunos'!$W$45=1,'Simulador Pagos Oportunos'!$H$60,IF('Simulador Pagos Oportunos'!$W$45=2,'Simulador Pagos Oportunos'!$J$60,IF('Simulador Pagos Oportunos'!$W$45=3,'Simulador Pagos Oportunos'!$L$60,IF('Simulador Pagos Oportunos'!$W$45=4,'Simulador Pagos Oportunos'!$N$60)))))","v":0},null,0,null,null,null,10,8,0,0,0,0,0.10999999999999999,null,null,0.1225,0.1225,0,0,0,0,0,0,0,{"$f":"IF(AN147=0,\"\",IF('Simulador Pagos Oportunos'!$W$45=1,AH147,IF('Simulador Pagos Oportunos'!$W$45=2,AI147,IF('Simulador Pagos Oportunos'!$W$45=3,AJ147,IF('Simulador Pagos Oportunos'!$W$45=4,AK147,AG147)))))","v":""},{"$f":"IF(AN147<=0,0,IF('Simulador Pagos Oportunos'!$Y$80=1,0,AN147*'Simulador Pagos Oportunos'!$Y$83))+IF(AN147<=0,0,IF('Simulador Pagos Oportunos'!$W$45=1,'Simulador Pagos Oportunos'!$H$60,IF('Simulador Pagos Oportunos'!$W$45=2,'Simulador Pagos Oportunos'!$J$60,IF('Simulador Pagos Oportunos'!$W$45=3,'Simulador Pagos Oportunos'!$L$60,'Simulador Pagos Oportunos'!$N$60))))","v":0},null,0,0,"",0,128]
[129,0,null,0,null,0,null,0,null,null,null,null,{"$f":"IF(OR('Simulador Pagos Oportunos'!$U$15=5,'Simulador Pagos Oportunos'!$U$15=1,'Simulador Pagos Oportunos'!$U$15=3,'Simulador Pagos Oportunos'!$U$15=4),0,K148*'Simulador Pagos Oportunos'!$N$74*'Simulador Pagos Oportunos'!$V$21)","v":0},null,{"$f":"IF(B148=0,\"\",IF('Simulador Pagos Oportunos'!$W$45=1,AH148,IF('Simulador Pagos Oportunos'!$W$45=2,AI148,IF('Simulador Pagos Oportunos'!$W$45=3,AJ148,IF('Simulador Pagos Oportunos'!$W$45=4,'Tabla Pagos Oportunos'!AK148,AG148)))))","v":""},null,{"$f":"B148-H148-K148+M148","v":0},null,{"$f":"IF(B148<=0,0,IF('Simulador Pagos Oportunos'!$Y$80=1,0,B148*'Simulador Pagos Oportunos'!$Y$83))","v":0},null,{"$f":"IF(B148<=0,0,IF('Simulador Pagos Oportunos'!$W$45=1,'Simulador Pagos Oportunos'!$H$60,IF('Simulador Pagos Oportunos'!$W$45=2,'Simulador Pagos Oportunos'!$J$60,IF('Simulador Pagos Oportunos'!$W$45=3,'Simulador Pagos Oportunos'!$L$60,IF('Simulador Pagos Oportunos'!$W$45=4,'Simulador Pagos Oportunos'!$N$60)))))","v":0},null,0,null,null,null,10,9,{"$f":"+IF(Q148<=0,IF(Q147>0,+A148,0),0)","v":0},0,0,0,0.10999999999999999,null,null,0.1225,0.1225,0,0,0,0,0,{"$f":"+AO148-AP148","v":0},{"$f":"+AN148-AQ148","v":0},{"$f":"IF(AN148=0,\"\",IF('Simulador Pagos Oportunos'!$W$45=1,AH148,IF('Simulador Pagos Oportunos'!$W$45=2,AI148,IF('Simulador Pagos Oportunos'!$W$45=3,AJ148,IF('Simulador Pagos Oportunos'!$W$45=4,AK148,AG148)))))","v":""},{"$f":"IF(AN148<=0,0,IF('Simulador Pagos Oportunos'!$Y$80=1,0,AN148*'Simulador Pagos Oportunos'!$Y$83))+IF(AN148<=0,0,IF('Simulador Pagos Oportunos'!$W$45=1,'Simulador Pagos Oportunos'!$H$60,IF('Simulador Pagos Oportunos'!$W$45=2,'Simulador Pagos Oportunos'!$J$60,IF('Simulador Pagos Oportunos'!$W$45=3,'Simulador Pagos Oportunos'!$L$60,'Simulador Pagos Oportunos'!$N$60))))","v":0},null,0,0,"",0,129]
[130,{"$f":"IF(Q148<0,0,IF(A149=$B$11,Q148+$D$11,IF(A149=$B$12,Q148+$D$12,IF(A149=$B$13,Q148+$D$13,Q148))))","v":0},null,{"$f":"IF(B149+F149-D148<=0,B149+F149,IF(A149=$B$11,$F$11,IF(A149=$B$12,$F$12,IF(A149=$B$13,$F$13,IF($AO$4=2,B149*AM149,D148*(1+Y149))))))","v":0},null,{"$f":"IF(B149=0,0,O149/360*AY149*B149)","v":0},null,0,null,null,null,null,{"$f":"IF(OR('Simulador Pagos Oportunos'!$U$15=5,'Simulador Pagos Oportunos'!$U$15=1,'Simulador Pagos Oportunos'!$U$15=3,'Simulador Pagos Oportunos'!$U$15=4),0,K149*'Simulador Pagos Oportunos'!$N$74*'Simulador Pagos Oportunos'!$V$21)","v":0},null,{"$f":"IF(B149=0,\"\",IF('Simulador Pagos Oportunos'!$W$45=1,AH149,IF('Simulador Pagos Oportunos'!$W$45=2,AI149,IF('Simulador Pagos Oportunos'!$W$45=3,AJ149,IF('Simulador Pagos Oportunos'!$W$45=4,'Tabla Pagos Oportunos'!AK149,AG149)))))","v":""},null,0,null,{"$f":"IF(B149<=0,0,IF('Simulador Pagos Oportunos'!$Y$80=1,0,B149*'Simulador Pagos Oportunos'!$Y$83))","v":0},null,{"$f":"IF(B149<=0,0,IF('Simulador Pagos Oportunos'!$W$45=1,'Simulador Pagos Oportunos'!$H$60,IF('Simulador Pagos Oportunos'!$W$45=2,'Simulador Pagos Oportunos'!$J$60,IF('Simulador Pagos Oportunos'!$W$45=3,'Simulador Pagos Oportunos'!$L$60,IF('Simulador Pagos Oportunos'!$W$45=4,'Simulador Pagos Oportunos'!$N$60)))))","v":0},null,{"$f":"IF(B149<=0,0,(D149+K149+S149+U149))","v":0},null,null,null,10,10,0,{"$f":"+IF(AC149>0,+AA149,0)","v":0},{"$f":"+IF(AC149>0,+AB149,0)","v":0},{"$f":"W149","v":0},0.10999999999999999,null,null,0.1225,0.1225,0,{"$f":"IFERROR(AO149/AN149,0)","v":0},0,0,{"$f":"IFERROR((AS149/360*AY149*AN149),0)","v":0},0,0,{"$f":"IF(AN149=0,\"\",IF('Simulador Pagos Oportunos'!$W$45=1,AH149,IF('Simulador Pagos Oportunos'!$W$45=2,AI149,IF('Simulador Pagos Oportunos'!$W$45=3,AJ149,IF('Simulador Pagos Oportunos'!$W$45=4,AK149,AG149)))))","v":""},{"$f":"IF(AN149<=0,0,IF('Simulador Pagos Oportunos'!$Y$80=1,0,AN149*'Simulador Pagos Oportunos'!$Y$83))+IF(AN149<=0,0,IF('Simulador Pagos Oportunos'!$W$45=1,'Simulador Pagos Oportunos'!$H$60,IF('Simulador Pagos Oportunos'!$W$45=2,'Simulador Pagos Oportunos'!$J$60,IF('Simulador Pagos Oportunos'!$W$45=3,'Simulador Pagos Oportunos'!$L$60,'Simulador Pagos Oportunos'!$N$60))))","v":0},null,{"$f":"AP149+AQ149+AT149","v":0},0,"",{"$f":"IFERROR(DAY(DATE(YEAR(AX149),MONTH(AX149)+1,0)),0)","v":0},130]
[131,0,null,0,null,0,null,{"$f":"D150-F150","v":0},null,null,null,null,{"$f":"IF(OR('Simulador Pagos Oportunos'!$U$15=5,'Simulador Pagos Oportunos'!$U$15=1,'Simulador Pagos Oportunos'!$U$15=3,'Simulador Pagos Oportunos'!$U$15=4),0,K150*'Simulador Pagos Oportunos'!$N$74*'Simulador Pagos Oportunos'!$V$21)","v":0},null,{"$f":"IF(B150=0,\"\",IF('Simulador Pagos Oportunos'!$W$45=1,AH150,IF('Simulador Pagos Oportunos'!$W$45=2,AI150,IF('Simulador Pagos Oportunos'!$W$45=3,AJ150,IF('Simulador Pagos Oportunos'!$W$45=4,'Tabla Pagos Oportunos'!AK150,AG150)))))","v":""},null,0,null,{"$f":"IF(B150<=0,0,IF('Simulador Pagos Oportunos'!$Y$80=1,0,B150*'Simulador Pagos Oportunos'!$Y$83))","v":0},null,{"$f":"IF(B150<=0,0,IF('Simulador Pagos Oportunos'!$W$45=1,'Simulador Pagos Oportunos'!$H$60,IF('Simulador Pagos Oportunos'!$W$45=2,'Simulador Pagos Oportunos'!$J$60,IF('Simulador Pagos Oportunos'!$W$45=3,'Simulador Pagos Oportunos'!$L$60,IF('Simulador Pagos Oportunos'!$W$45=4,'Simulador Pagos Oportunos'!$N$60)))))","v":0},null,0,null,null,null,10,11,0,0,0,0,0.10999999999999999,null,null,0.1225,0.1225,0,0,{"$f":"IF(AR149<0,0,IF(A150=$B$11,AR149+$D$11,IF(A150=$B$12,AR149+$D$12,IF(A150=$B$13,AR149+$D$13,AR149))))","v":0},{"$f":"IF(AN150+AP150-AO149<=0,AN150+AP150,IF(A150=$B$11,$F$11,IF(A150=$B$12,$F$12,IF(A150=$B$13,$F$13,AO149*(1+AU150)))))","v":0},0,0,0,{"$f":"IF(AN150=0,\"\",IF('Simulador Pagos Oportunos'!$W$45=1,AH150,IF('Simulador Pagos Oportunos'!$W$45=2,AI150,IF('Simulador Pagos Oportunos'!$W$45=3,AJ150,IF('Simulador Pagos Oportunos'!$W$45=4,AK150,AG150)))))","v":""},{"$f":"IF(AN150<=0,0,IF('Simulador Pagos Oportunos'!$Y$80=1,0,AN150*'Simulador Pagos Oportunos'!$Y$83))+IF(AN150<=0,0,IF('Simulador Pagos Oportunos'!$W$45=1,'Simulador Pagos Oportunos'!$H$60,IF('Simulador Pagos Oportunos'!$W$45=2,'Simulador Pagos Oportunos'!$J$60,IF('Simulador Pagos Oportunos'!$W$45=3,'Simulador Pagos Oportunos'!$L$60,'Simulador Pagos Oportunos'!$N$60))))","v":0},null,0,0,{"$f":"IF(AN150=0,\"\",DATE(YEAR(AX149),MONTH(AX149)+1,1))","v":""},0,131]
[132,0,null,0,null,0,null,0,null,null,null,null,{"$f":"IF(OR('Simulador Pagos Oportunos'!$U$15=5,'Simulador Pagos Oportunos'!$U$15=1,'Simulador Pagos Oportunos'!$U$15=3,'Simulador Pagos Oportunos'!$U$15=4),0,K151*'Simulador Pagos Oportunos'!$N$74*'Simulador Pagos Oportunos'!$V$21)","v":0},null,{"$f":"IF(B151=0,\"\",IF('Simulador Pagos Oportunos'!$W$45=1,AH151,IF('Simulador Pagos Oportunos'!$W$45=2,AI151,IF('Simulador Pagos Oportunos'!$W$45=3,AJ151,IF('Simulador Pagos Oportunos'!$W$45=4,'Tabla Pagos Oportunos'!AK151,AG151)))))","v":""},null,0,null,{"$f":"IF(B151<=0,0,IF('Simulador Pagos Oportunos'!$Y$80=1,0,B151*'Simulador Pagos Oportunos'!$Y$83))","v":0},null,{"$f":"IF(B151<=0,0,IF('Simulador Pagos Oportunos'!$W$45=1,'Simulador Pagos Oportunos'!$H$60,IF('Simulador Pagos Oportunos'!$W$45=2,'Simulador Pagos Oportunos'!$J$60,IF('Simulador Pagos Oportunos'!$W$45=3,'Simulador Pagos Oportunos'!$L$60,IF('Simulador Pagos Oportunos'!$W$45=4,'Simulador Pagos Oportunos'!$N$60)))))","v":0},null,0,null,null,null,11,0,0,0,0,0,0.10999999999999999,null,null,0.1225,0.1225,0,0,0,0,0,0,0,{"$f":"IF(AN151=0,\"\",IF('Simulador Pagos Oportunos'!$W$45=1,AH151,IF('Simulador Pagos Oportunos'!$W$45=2,AI151,IF('Simulador Pagos Oportunos'!$W$45=3,AJ151,IF('Simulador Pagos Oportunos'!$W$45=4,AK151,AG151)))))","v":""},{"$f":"IF(AN151<=0,0,IF('Simulador Pagos Oportunos'!$Y$80=1,0,AN151*'Simulador Pagos Oportunos'!$Y$83))+IF(AN151<=0,0,IF('Simulador Pagos Oportunos'!$W$45=1,'Simulador Pagos Oportunos'!$H$60,IF('Simulador Pagos Oportunos'!$W$45=2,'Simulador Pagos Oportunos'!$J$60,IF('Simulador Pagos Oportunos'!$W$45=3,'Simulador Pagos Oportunos'!$L$60,'Simulador Pagos Oportunos'!$N$60))))","v":0},null,0,0,"",0,132]
[133,0,null,0,null,0,null,0,null,null,null,null,{"$f":"IF(OR('Simulador Pagos Oportunos'!$U$15=5,'Simulador Pagos Oportunos'!$U$15=1,'Simulador Pagos Oportunos'!$U$15=3,'Simulador Pagos Oportunos'!$U$15=4),0,K152*'Simulador Pagos Oportunos'!$N$74*'Simulador Pagos Oportunos'!$V$21)","v":0},null,{"$f":"IF(B152=0,\"\",IF('Simulador Pagos Oportunos'!$W$45=1,AH152,IF('Simulador Pagos Oportunos'!$W$45=2,AI152,IF('Simulador Pagos Oportunos'!$W$45=3,AJ152,IF('Simulador Pagos Oportunos'!$W$45=4,'Tabla Pagos Oportunos'!AK152,AG152)))))","v":""},null,0,null,{"$f":"IF(B152<=0,0,IF('Simulador Pagos Oportunos'!$Y$80=1,0,B152*'Simulador Pagos Oportunos'!$Y$83))","v":0},null,{"$f":"IF(B152<=0,0,IF('Simulador Pagos Oportunos'!$W$45=1,'Simulador Pagos Oportunos'!$H$60,IF('Simulador Pagos Oportunos'!$W$45=2,'Simulador Pagos Oportunos'!$J$60,IF('Simulador Pagos Oportunos'!$W$45=3,'Simulador Pagos Oportunos'!$L$60,IF('Simulador Pagos Oportunos'!$W$45=4,'Simulador Pagos Oportunos'!$N$60)))))","v":0},null,0,null,{"$f":"IF(B152<=0,0,IF(OR('Simulador Pagos Oportunos'!$W$45=4,'Simulador Pagos Oportunos'!$W$45=5),0,'Simulador Pagos Oportunos'!$AG$62))","v":0},null,11,1,0,0,0,0,{"$f":"IF(AG151=$AG$4,AG151,IF(AG151-0.25%<=$AG$4,$AG$4,AG151-0.25%))","v":0.10749999999999998},null,null,0.1225,0.1225,0,0,0,0,0,0,0,{"$f":"IF(AN152=0,\"\",IF('Simulador Pagos Oportunos'!$W$45=1,AH152,IF('Simulador Pagos Oportunos'!$W$45=2,AI152,IF('Simulador Pagos Oportunos'!$W$45=3,AJ152,IF('Simulador Pagos Oportunos'!$W$45=4,AK152,AG152)))))","v":""},{"$f":"IF(AN152<=0,0,IF('Simulador Pagos Oportunos'!$Y$80=1,0,AN152*'Simulador Pagos Oportunos'!$Y$83))+IF(AN152<=0,0,IF('Simulador Pagos Oportunos'!$W$45=1,'Simulador Pagos Oportunos'!$H$60,IF('Simulador Pagos Oportunos'!$W$45=2,'Simulador Pagos Oportunos'!$J$60,IF('Simulador Pagos Oportunos'!$W$45=3,'Simulador Pagos Oportunos'!$L$60,'Simulador Pagos Oportunos'!$N$60))))","v":0},{"$f":"IF(AN152<=0,0,$AU$32)","v":0},0,0,"",0,133]
[134,0,null,0,null,0,null,0,null,null,null,null,{"$f":"IF(OR('Simulador Pagos Oportunos'!$U$15=5,'Simulador Pagos Oportunos'!$U$15=1,'Simulador Pagos Oportunos'!$U$15=3,'Simulador Pagos Oportunos'!$U$15=4),0,K153*'Simulador Pagos Oportunos'!$N$74*'Simulador Pagos Oportunos'!$V$21)","v":0},null,{"$f":"IF(B153=0,\"\",IF('Simulador Pagos Oportunos'!$W$45=1,AH153,IF('Simulador Pagos Oportunos'!$W$45=2,AI153,IF('Simulador Pagos Oportunos'!$W$45=3,AJ153,IF('Simulador Pagos Oportunos'!$W$45=4,'Tabla Pagos Oportunos'!AK153,AG153)))))","v":""},null,0,null,{"$f":"IF(B153<=0,0,IF('Simulador Pagos Oportunos'!$Y$80=1,0,B153*'Simulador Pagos Oportunos'!$Y$83))","v":0},null,{"$f":"IF(B153<=0,0,IF('Simulador Pagos Oportunos'!$W$45=1,'Simulador Pagos Oportunos'!$H$60,IF('Simulador Pagos Oportunos'!$W$45=2,'Simulador Pagos Oportunos'!$J$60,IF('Simulador Pagos Oportunos'!$W$45=3,'Simulador Pagos Oportunos'!$L$60,IF('Simulador Pagos Oportunos'!$W$45=4,'Simulador Pagos Oportunos'!$N$60)))))","v":0},null,0,null,null,null,11,2,0,0,0,0,{"$f":"AG152","v":0.10749999999999998},null,null,0.1225,0.1225,0,0,0,0,0,0,0,{"$f":"IF(AN153=0,\"\",IF('Simulador Pagos Oportunos'!$W$45=1,AH153,IF('Simulador Pagos Oportunos'!$W$45=2,AI153,IF('Simulador Pagos Oportunos'!$W$45=3,AJ153,IF('Simulador Pagos Oportunos'!$W$45=4,AK153,AG153)))))","v":""},{"$f":"IF(AN153<=0,0,IF('Simulador Pagos Oportunos'!$Y$80=1,0,AN153*'Simulador Pagos Oportunos'!$Y$83))+IF(AN153<=0,0,IF('Simulador Pagos Oportunos'!$W$45=1,'Simulador Pagos Oportunos'!$H$60,IF('Simulador Pagos Oportunos'!$W$45=2,'Simulador Pagos Oportunos'!$J$60,IF('Simulador Pagos Oportunos'!$W$45=3,'Simulador Pagos Oportunos'!$L$60,'Simulador Pagos Oportunos'!$N$60))))","v":0},null,0,0,"",0,134]
[135,0,null,0,null,0,null,0,null,null,null,null,{"$f":"IF(OR('Simulador Pagos Oportunos'!$U$15=5,'Simulador Pagos Oportunos'!$U$15=1,'Simulador Pagos Oportunos'!$U$15=3,'Simulador Pagos Oportunos'!$U$15=4),0,K154*'Simulador Pagos Oportunos'!$N$74*'Simulador Pagos Oportunos'!$V$21)","v":0},null,{"$f":"IF(B154=0,\"\",IF('Simulador Pagos Oportunos'!$W$45=1,AH154,IF('Simulador Pagos Oportunos'!$W$45=2,AI154,IF('Simulador Pagos Oportunos'!$W$45=3,AJ154,IF('Simulador Pagos Oportunos'!$W$45=4,'Tabla Pagos Oportunos'!AK154,AG154)))))","v":""},null,0,null,{"$f":"IF(B154<=0,0,IF('Simulador Pagos Oportunos'!$Y$80=1,0,B154*'Simulador Pagos Oportunos'!$Y$83))","v":0},null,{"$f":"IF(B154<=0,0,IF('Simulador Pagos Oportunos'!$W$45=1,'Simulador Pagos Oportunos'!$H$60,IF('Simulador Pagos Oportunos'!$W$45=2,'Simulador Pagos Oportunos'!$J$60,IF('Simulador Pagos Oportunos'!$W$45=3,'Simulador Pagos Oportunos'!$L$60,IF('Simulador Pagos Oportunos'!$W$45=4,'Simulador Pagos Oportunos'!$N$60)))))","v":0},null,0,null,null,null,11,3,0,0,0,0,{"$f":"AG153","v":0.10749999999999998},null,null,0.1225,0.1225,0,0,0,0,0,0,0,{"$f":"IF(AN154=0,\"\",IF('Simulador Pagos Oportunos'!$W$45=1,AH154,IF('Simulador Pagos Oportunos'!$W$45=2,AI154,IF('Simulador Pagos Oportunos'!$W$45=3,AJ154,IF('Simulador Pagos Oportunos'!$W$45=4,AK154,AG154)))))","v":""},{"$f":"IF(AN154<=0,0,IF('Simulador Pagos Oportunos'!$Y$80=1,0,AN154*'Simulador Pagos Oportunos'!$Y$83))+IF(AN154<=0,0,IF('Simulador Pagos Oportunos'!$W$45=1,'Simulador Pagos Oportunos'!$H$60,IF('Simulador Pagos Oportunos'!$W$45=2,'Simulador Pagos Oportunos'!$J$60,IF('Simulador Pagos Oportunos'!$W$45=3,'Simulador Pagos Oportunos'!$L$60,'Simulador Pagos Oportunos'!$N$60))))","v":0},null,0,0,"",0,135]
[136,0,null,0,null,0,null,0,null,null,null,null,{"$f":"IF(OR('Simulador Pagos Oportunos'!$U$15=5,'Simulador Pagos Oportunos'!$U$15=1,'Simulador Pagos Oportunos'!$U$15=3,'Simulador Pagos Oportunos'!$U$15=4),0,K155*'Simulador Pagos Oportunos'!$N$74*'Simulador Pagos Oportunos'!$V$21)","v":0},null,{"$f":"IF(B155=0,\"\",IF('Simulador Pagos Oportunos'!$W$45=1,AH155,IF('Simulador Pagos Oportunos'!$W$45=2,AI155,IF('Simulador Pagos Oportunos'!$W$45=3,AJ155,IF('Simulador Pagos Oportunos'!$W$45=4,'Tabla Pagos Oportunos'!AK155,AG155)))))","v":""},null,0,null,{"$f":"IF(B155<=0,0,IF('Simulador Pagos Oportunos'!$Y$80=1,0,B155*'Simulador Pagos Oportunos'!$Y$83))","v":0},null,{"$f":"IF(B155<=0,0,IF('Simulador Pagos Oportunos'!$W$45=1,'Simulador Pagos Oportunos'!$H$60,IF('Simulador Pagos Oportunos'!$W$45=2,'Simulador Pagos Oportunos'!$J$60,IF('Simulador Pagos Oportunos'!$W$45=3,'Simulador Pagos Oportunos'!$L$60,IF('Simulador Pagos Oportunos'!$W$45=4,'Simulador Pagos Oportunos'!$N$60)))))","v":0},null,0,null,null,null,11,4,0,0,0,0,0.10749999999999998,null,null,0.1225,0.1225,0,0,0,0,0,0,0,{"$f":"IF(AN155=0,\"\",IF('Simulador Pagos Oportunos'!$W$45=1,AH155,IF('Simulador Pagos Oportunos'!$W$45=2,AI155,IF('Simulador Pagos Oportunos'!$W$45=3,AJ155,IF('Simulador Pagos Oportunos'!$W$45=4,AK155,AG155)))))","v":""},{"$f":"IF(AN155<=0,0,IF('Simulador Pagos Oportunos'!$Y$80=1,0,AN155*'Simulador Pagos Oportunos'!$Y$83))+IF(AN155<=0,0,IF('Simulador Pagos Oportunos'!$W$45=1,'Simulador Pagos Oportunos'!$H$60,IF('Simulador Pagos Oportunos'!$W$45=2,'Simulador Pagos Oportunos'!$J$60,IF('Simulador Pagos Oportunos'!$W$45=3,'Simulador Pagos Oportunos'!$L$60,'Simulador Pagos Oportunos'!$N$60))))","v":0},null,0,0,"",0,136]
[137,0,null,0,null,0,null,0,null,null,null,null,{"$f":"IF(OR('Simulador Pagos Oportunos'!$U$15=5,'Simulador Pagos Oportunos'!$U$15=1,'Simulador Pagos Oportunos'!$U$15=3,'Simulador Pagos Oportunos'!$U$15=4),0,K156*'Simulador Pagos Oportunos'!$N$74*'Simulador Pagos Oportunos'!$V$21)","v":0},null,{"$f":"IF(B156=0,\"\",IF('Simulador Pagos Oportunos'!$W$45=1,AH156,IF('Simulador Pagos Oportunos'!$W$45=2,AI156,IF('Simulador Pagos Oportunos'!$W$45=3,AJ156,IF('Simulador Pagos Oportunos'!$W$45=4,'Tabla Pagos Oportunos'!AK156,AG156)))))","v":""},null,0,null,{"$f":"IF(B156<=0,0,IF('Simulador Pagos Oportunos'!$Y$80=1,0,B156*'Simulador Pagos Oportunos'!$Y$83))","v":0},null,{"$f":"IF(B156<=0,0,IF('Simulador Pagos Oportunos'!$W$45=1,'Simulador Pagos Oportunos'!$H$60,IF('Simulador Pagos Oportunos'!$W$45=2,'Simulador Pagos Oportunos'!$J$60,IF('Simulador Pagos Oportunos'!$W$45=3,'Simulador Pagos Oportunos'!$L$60,IF('Simulador Pagos Oportunos'!$W$45=4,'Simulador Pagos Oportunos'!$N$60)))))","v":0},null,0,null,null,null,11,5,0,0,0,0,0.10749999999999998,null,null,0.1225,0.1225,0,0,0,0,0,0,0,{"$f":"IF(AN156=0,\"\",IF('Simulador Pagos Oportunos'!$W$45=1,AH156,IF('Simulador Pagos Oportunos'!$W$45=2,AI156,IF('Simulador Pagos Oportunos'!$W$45=3,AJ156,IF('Simulador Pagos Oportunos'!$W$45=4,AK156,AG156)))))","v":""},{"$f":"IF(AN156<=0,0,IF('Simulador Pagos Oportunos'!$Y$80=1,0,AN156*'Simulador Pagos Oportunos'!$Y$83))+IF(AN156<=0,0,IF('Simulador Pagos Oportunos'!$W$45=1,'Simulador Pagos Oportunos'!$H$60,IF('Simulador Pagos Oportunos'!$W$45=2,'Simulador Pagos Oportunos'!$J$60,IF('Simulador Pagos Oportunos'!$W$45=3,'Simulador Pagos Oportunos'!$L$60,'Simulador Pagos Oportunos'!$N$60))))","v":0},null,0,0,"",0,137]
[138,0,null,0,null,0,null,0,null,null,null,null,{"$f":"IF(OR('Simulador Pagos Oportunos'!$U$15=5,'Simulador Pagos Oportunos'!$U$15=1,'Simulador Pagos Oportunos'!$U$15=3,'Simulador Pagos Oportunos'!$U$15=4),0,K157*'Simulador Pagos Oportunos'!$N$74*'Simulador Pagos Oportunos'!$V$21)","v":0},null,{"$f":"IF(B157=0,\"\",IF('Simulador Pagos Oportunos'!$W$45=1,AH157,IF('Simulador Pagos Oportunos'!$W$45=2,AI157,IF('Simulador Pagos Oportunos'!$W$45=3,AJ157,IF('Simulador Pagos Oportunos'!$W$45=4,'Tabla Pagos Oportunos'!AK157,AG157)))))","v":""},null,0,null,{"$f":"IF(B157<=0,0,IF('Simulador Pagos Oportunos'!$Y$80=1,0,B157*'Simulador Pagos Oportunos'!$Y$83))","v":0},null,{"$f":"IF(B157<=0,0,IF('Simulador Pagos Oportunos'!$W$45=1,'Simulador Pagos Oportunos'!$H$60,IF('Simulador Pagos Oportunos'!$W$45=2,'Simulador Pagos Oportunos'!$J$60,IF('Simulador Pagos Oportunos'!$W$45=3,'Simulador Pagos Oportunos'!$L$60,IF('Simulador Pagos Oportunos'!$W$45=4,'Simulador Pagos Oportunos'!$N$60)))))","v":0},null,0,null,null,null,11,6,0,0,0,0,0.10749999999999998,null,null,{"$f":"AJ156","v":0.1225},0.1225,0,0,0,0,0,0,0,{"$f":"IF(AN157=0,\"\",IF('Simulador Pagos Oportunos'!$W$45=1,AH157,IF('Simulador Pagos Oportunos'!$W$45=2,AI157,IF('Simulador Pagos Oportunos'!$W$45=3,AJ157,IF('Simulador Pagos Oportunos'!$W$45=4,AK157,AG157)))))","v":""},{"$f":"IF(AN157<=0,0,IF('Simulador Pagos Oportunos'!$Y$80=1,0,AN157*'Simulador Pagos Oportunos'!$Y$83))+IF(AN157<=0,0,IF('Simulador Pagos Oportunos'!$W$45=1,'Simulador Pagos Oportunos'!$H$60,IF('Simulador Pagos Oportunos'!$W$45=2,'Simulador Pagos Oportunos'!$J$60,IF('Simulador Pagos Oportunos'!$W$45=3,'Simulador Pagos Oportunos'!$L$60,'Simulador Pagos Oportunos'!$N$60))))","v":0},null,0,0,"",0,138]
[139,0,null,0,null,0,null,0,null,null,null,null,{"$f":"IF(OR('Simulador Pagos Oportunos'!$U$15=5,'Simulador Pagos Oportunos'!$U$15=1,'Simulador Pagos Oportunos'!$U$15=3,'Simulador Pagos Oportunos'!$U$15=4),0,K158*'Simulador Pagos Oportunos'!$N$74*'Simulador Pagos Oportunos'!$V$21)","v":0},null,{"$f":"IF(B158=0,\"\",IF('Simulador Pagos Oportunos'!$W$45=1,AH158,IF('Simulador Pagos Oportunos'!$W$45=2,AI158,IF('Simulador Pagos Oportunos'!$W$45=3,AJ158,IF('Simulador Pagos Oportunos'!$W$45=4,'Tabla Pagos Oportunos'!AK158,AG158)))))","v":""},null,0,null,{"$f":"IF(B158<=0,0,IF('Simulador Pagos Oportunos'!$Y$80=1,0,B158*'Simulador Pagos Oportunos'!$Y$83))","v":0},null,{"$f":"IF(B158<=0,0,IF('Simulador Pagos Oportunos'!$W$45=1,'Simulador Pagos Oportunos'!$H$60,IF('Simulador Pagos Oportunos'!$W$45=2,'Simulador Pagos Oportunos'!$J$60,IF('Simulador Pagos Oportunos'!$W$45=3,'Simulador Pagos Oportunos'!$L$60,IF('Simulador Pagos Oportunos'!$W$45=4,'Simulador Pagos Oportunos'!$N$60)))))","v":0},null,0,null,null,null,11,7,0,0,0,0,0.10749999999999998,null,null,0.1225,0.1225,0,0,0,0,0,0,0,{"$f":"IF(AN158=0,\"\",IF('Simulador Pagos Oportunos'!$W$45=1,AH158,IF('Simulador Pagos Oportunos'!$W$45=2,AI158,IF('Simulador Pagos Oportunos'!$W$45=3,AJ158,IF('Simulador Pagos Oportunos'!$W$45=4,AK158,AG158)))))","v":""},{"$f":"IF(AN158<=0,0,IF('Simulador Pagos Oportunos'!$Y$80=1,0,AN158*'Simulador Pagos Oportunos'!$Y$83))+IF(AN158<=0,0,IF('Simulador Pagos Oportunos'!$W$45=1,'Simulador Pagos Oportunos'!$H$60,IF('Simulador Pagos Oportunos'!$W$45=2,'Simulador Pagos Oportunos'!$J$60,IF('Simulador Pagos Oportunos'!$W$45=3,'Simulador Pagos Oportunos'!$L$60,'Simulador Pagos Oportunos'!$N$60))))","v":0},null,0,0,"",0,139]
[140,0,null,0,null,0,null,0,null,null,null,null,{"$f":"IF(OR('Simulador Pagos Oportunos'!$U$15=5,'Simulador Pagos Oportunos'!$U$15=1,'Simulador Pagos Oportunos'!$U$15=3,'Simulador Pagos Oportunos'!$U$15=4),0,K159*'Simulador Pagos Oportunos'!$N$74*'Simulador Pagos Oportunos'!$V$21)","v":0},null,{"$f":"IF(B159=0,\"\",IF('Simulador Pagos Oportunos'!$W$45=1,AH159,IF('Simulador Pagos Oportunos'!$W$45=2,AI159,IF('Simulador Pagos Oportunos'!$W$45=3,AJ159,IF('Simulador Pagos Oportunos'!$W$45=4,'Tabla Pagos Oportunos'!AK159,AG159)))))","v":""},null,0,null,{"$f":"IF(B159<=0,0,IF('Simulador Pagos Oportunos'!$Y$80=1,0,B159*'Simulador Pagos Oportunos'!$Y$83))","v":0},null,{"$f":"IF(B159<=0,0,IF('Simulador Pagos Oportunos'!$W$45=1,'Simulador Pagos Oportunos'!$H$60,IF('Simulador Pagos Oportunos'!$W$45=2,'Simulador Pagos Oportunos'!$J$60,IF('Simulador Pagos Oportunos'!$W$45=3,'Simulador Pagos Oportunos'!$L$60,IF('Simulador Pagos Oportunos'!$W$45=4,'Simulador Pagos Oportunos'!$N$60)))))","v":0},null,0,null,null,null,11,8,0,0,0,0,0.10749999999999998,null,null,0.1225,0.1225,0,0,0,0,0,0,0,{"$f":"IF(AN159=0,\"\",IF('Simulador Pagos Oportunos'!$W$45=1,AH159,IF('Simulador Pagos Oportunos'!$W$45=2,AI159,IF('Simulador Pagos Oportunos'!$W$45=3,AJ159,IF('Simulador Pagos Oportunos'!$W$45=4,AK159,AG159)))))","v":""},{"$f":"IF(AN159<=0,0,IF('Simulador Pagos Oportunos'!$Y$80=1,0,AN159*'Simulador Pagos Oportunos'!$Y$83))+IF(AN159<=0,0,IF('Simulador Pagos Oportunos'!$W$45=1,'Simulador Pagos Oportunos'!$H$60,IF('Simulador Pagos Oportunos'!$W$45=2,'Simulador Pagos Oportunos'!$J$60,IF('Simulador Pagos Oportunos'!$W$45=3,'Simulador Pagos Oportunos'!$L$60,'Simulador Pagos Oportunos'!$N$60))))","v":0},null,0,0,"",0,140]
[141,0,null,0,null,0,null,0,null,null,null,null,{"$f":"IF(OR('Simulador Pagos Oportunos'!$U$15=5,'Simulador Pagos Oportunos'!$U$15=1,'Simulador Pagos Oportunos'!$U$15=3,'Simulador Pagos Oportunos'!$U$15=4),0,K160*'Simulador Pagos Oportunos'!$N$74*'Simulador Pagos Oportunos'!$V$21)","v":0},null,{"$f":"IF(B160=0,\"\",IF('Simulador Pagos Oportunos'!$W$45=1,AH160,IF('Simulador Pagos Oportunos'!$W$45=2,AI160,IF('Simulador Pagos Oportunos'!$W$45=3,AJ160,IF('Simulador Pagos Oportunos'!$W$45=4,'Tabla Pagos Oportunos'!AK160,AG160)))))","v":""},null,0,null,{"$f":"IF(B160<=0,0,IF('Simulador Pagos Oportunos'!$Y$80=1,0,B160*'Simulador Pagos Oportunos'!$Y$83))","v":0},null,{"$f":"IF(B160<=0,0,IF('Simulador Pagos Oportunos'!$W$45=1,'Simulador Pagos Oportunos'!$H$60,IF('Simulador Pagos Oportunos'!$W$45=2,'Simulador Pagos Oportunos'!$J$60,IF('Simulador Pagos Oportunos'!$W$45=3,'Simulador Pagos Oportunos'!$L$60,IF('Simulador Pagos Oportunos'!$W$45=4,'Simulador Pagos Oportunos'!$N$60)))))","v":0},null,0,null,null,null,11,9,0,0,0,0,0.10749999999999998,null,null,0.1225,0.1225,0,0,0,0,0,0,0,{"$f":"IF(AN160=0,\"\",IF('Simulador Pagos Oportunos'!$W$45=1,AH160,IF('Simulador Pagos Oportunos'!$W$45=2,AI160,IF('Simulador Pagos Oportunos'!$W$45=3,AJ160,IF('Simulador Pagos Oportunos'!$W$45=4,AK160,AG160)))))","v":""},{"$f":"IF(AN160<=0,0,IF('Simulador Pagos Oportunos'!$Y$80=1,0,AN160*'Simulador Pagos Oportunos'!$Y$83))+IF(AN160<=0,0,IF('Simulador Pagos Oportunos'!$W$45=1,'Simulador Pagos Oportunos'!$H$60,IF('Simulador Pagos Oportunos'!$W$45=2,'Simulador Pagos Oportunos'!$J$60,IF('Simulador Pagos Oportunos'!$W$45=3,'Simulador Pagos Oportunos'!$L$60,'Simulador Pagos Oportunos'!$N$60))))","v":0},null,0,0,"",0,141]
[142,0,null,0,null,0,null,0,null,null,null,null,{"$f":"IF(OR('Simulador Pagos Oportunos'!$U$15=5,'Simulador Pagos Oportunos'!$U$15=1,'Simulador Pagos Oportunos'!$U$15=3,'Simulador Pagos Oportunos'!$U$15=4),0,K161*'Simulador Pagos Oportunos'!$N$74*'Simulador Pagos Oportunos'!$V$21)","v":0},null,{"$f":"IF(B161=0,\"\",IF('Simulador Pagos Oportunos'!$W$45=1,AH161,IF('Simulador Pagos Oportunos'!$W$45=2,AI161,IF('Simulador Pagos Oportunos'!$W$45=3,AJ161,IF('Simulador Pagos Oportunos'!$W$45=4,'Tabla Pagos Oportunos'!AK161,AG161)))))","v":""},null,0,null,{"$f":"IF(B161<=0,0,IF('Simulador Pagos Oportunos'!$Y$80=1,0,B161*'Simulador Pagos Oportunos'!$Y$83))","v":0},null,{"$f":"IF(B161<=0,0,IF('Simulador Pagos Oportunos'!$W$45=1,'Simulador Pagos Oportunos'!$H$60,IF('Simulador Pagos Oportunos'!$W$45=2,'Simulador Pagos Oportunos'!$J$60,IF('Simulador Pagos Oportunos'!$W$45=3,'Simulador Pagos Oportunos'!$L$60,IF('Simulador Pagos Oportunos'!$W$45=4,'Simulador Pagos Oportunos'!$N$60)))))","v":0},null,0,null,null,null,11,10,0,0,0,0,0.10749999999999998,null,null,0.1225,0.1225,0,0,0,0,0,0,0,{"$f":"IF(AN161=0,\"\",IF('Simulador Pagos Oportunos'!$W$45=1,AH161,IF('Simulador Pagos Oportunos'!$W$45=2,AI161,IF('Simulador Pagos Oportunos'!$W$45=3,AJ161,IF('Simulador Pagos Oportunos'!$W$45=4,AK161,AG161)))))","v":""},{"$f":"IF(AN161<=0,0,IF('Simulador Pagos Oportunos'!$Y$80=1,0,AN161*'Simulador Pagos Oportunos'!$Y$83))+IF(AN161<=0,0,IF('Simulador Pagos Oportunos'!$W$45=1,'Simulador Pagos Oportunos'!$H$60,IF('Simulador Pagos Oportunos'!$W$45=2,'Simulador Pagos Oportunos'!$J$60,IF('Simulador Pagos Oportunos'!$W$45=3,'Simulador Pagos Oportunos'!$L$60,'Simulador Pagos Oportunos'!$N$60))))","v":0},null,0,0,"",0,142]
[143,0,null,0,null,0,null,0,null,null,null,null,{"$f":"IF(OR('Simulador Pagos Oportunos'!$U$15=5,'Simulador Pagos Oportunos'!$U$15=1,'Simulador Pagos Oportunos'!$U$15=3,'Simulador Pagos Oportunos'!$U$15=4),0,K162*'Simulador Pagos Oportunos'!$N$74*'Simulador Pagos Oportunos'!$V$21)","v":0},null,{"$f":"IF(B162=0,\"\",IF('Simulador Pagos Oportunos'!$W$45=1,AH162,IF('Simulador Pagos Oportunos'!$W$45=2,AI162,IF('Simulador Pagos Oportunos'!$W$45=3,AJ162,IF('Simulador Pagos Oportunos'!$W$45=4,'Tabla Pagos Oportunos'!AK162,AG162)))))","v":""},null,0,null,{"$f":"IF(B162<=0,0,IF('Simulador Pagos Oportunos'!$Y$80=1,0,B162*'Simulador Pagos Oportunos'!$Y$83))","v":0},null,{"$f":"IF(B162<=0,0,IF('Simulador Pagos Oportunos'!$W$45=1,'Simulador Pagos Oportunos'!$H$60,IF('Simulador Pagos Oportunos'!$W$45=2,'Simulador Pagos Oportunos'!$J$60,IF('Simulador Pagos Oportunos'!$W$45=3,'Simulador Pagos Oportunos'!$L$60,IF('Simulador Pagos Oportunos'!$W$45=4,'Simulador Pagos Oportunos'!$N$60)))))","v":0},null,0,null,null,null,11,11,0,0,0,0,0.10749999999999998,null,null,0.1225,0.1225,0,0,0,0,0,0,0,{"$f":"IF(AN162=0,\"\",IF('Simulador Pagos Oportunos'!$W$45=1,AH162,IF('Simulador Pagos Oportunos'!$W$45=2,AI162,IF('Simulador Pagos Oportunos'!$W$45=3,AJ162,IF('Simulador Pagos Oportunos'!$W$45=4,AK162,AG162)))))","v":""},{"$f":"IF(AN162<=0,0,IF('Simulador Pagos Oportunos'!$Y$80=1,0,AN162*'Simulador Pagos Oportunos'!$Y$83))+IF(AN162<=0,0,IF('Simulador Pagos Oportunos'!$W$45=1,'Simulador Pagos Oportunos'!$H$60,IF('Simulador Pagos Oportunos'!$W$45=2,'Simulador Pagos Oportunos'!$J$60,IF('Simulador Pagos Oportunos'!$W$45=3,'Simulador Pagos Oportunos'!$L$60,'Simulador Pagos Oportunos'!$N$60))))","v":0},null,0,0,"",0,143]
[144,0,null,0,null,0,null,0,null,null,null,null,{"$f":"IF(OR('Simulador Pagos Oportunos'!$U$15=5,'Simulador Pagos Oportunos'!$U$15=1,'Simulador Pagos Oportunos'!$U$15=3,'Simulador Pagos Oportunos'!$U$15=4),0,K163*'Simulador Pagos Oportunos'!$N$74*'Simulador Pagos Oportunos'!$V$21)","v":0},null,{"$f":"IF(B163=0,\"\",IF('Simulador Pagos Oportunos'!$W$45=1,AH163,IF('Simulador Pagos Oportunos'!$W$45=2,AI163,IF('Simulador Pagos Oportunos'!$W$45=3,AJ163,IF('Simulador Pagos Oportunos'!$W$45=4,'Tabla Pagos Oportunos'!AK163,AG163)))))","v":""},null,0,null,{"$f":"IF(B163<=0,0,IF('Simulador Pagos Oportunos'!$Y$80=1,0,B163*'Simulador Pagos Oportunos'!$Y$83))","v":0},null,{"$f":"IF(B163<=0,0,IF('Simulador Pagos Oportunos'!$W$45=1,'Simulador Pagos Oportunos'!$H$60,IF('Simulador Pagos Oportunos'!$W$45=2,'Simulador Pagos Oportunos'!$J$60,IF('Simulador Pagos Oportunos'!$W$45=3,'Simulador Pagos Oportunos'!$L$60,IF('Simulador Pagos Oportunos'!$W$45=4,'Simulador Pagos Oportunos'!$N$60)))))","v":0},null,0,null,null,null,12,0,0,0,0,0,0.10749999999999998,null,null,0.1225,0.1225,0,0,0,0,0,0,0,{"$f":"IF(AN163=0,\"\",IF('Simulador Pagos Oportunos'!$W$45=1,AH163,IF('Simulador Pagos Oportunos'!$W$45=2,AI163,IF('Simulador Pagos Oportunos'!$W$45=3,AJ163,IF('Simulador Pagos Oportunos'!$W$45=4,AK163,AG163)))))","v":""},{"$f":"IF(AN163<=0,0,IF('Simulador Pagos Oportunos'!$Y$80=1,0,AN163*'Simulador Pagos Oportunos'!$Y$83))+IF(AN163<=0,0,IF('Simulador Pagos Oportunos'!$W$45=1,'Simulador Pagos Oportunos'!$H$60,IF('Simulador Pagos Oportunos'!$W$45=2,'Simulador Pagos Oportunos'!$J$60,IF('Simulador Pagos Oportunos'!$W$45=3,'Simulador Pagos Oportunos'!$L$60,'Simulador Pagos Oportunos'!$N$60))))","v":0},null,0,0,"",0,144]
[145,0,null,0,null,0,null,0,null,null,null,null,{"$f":"IF(OR('Simulador Pagos Oportunos'!$U$15=5,'Simulador Pagos Oportunos'!$U$15=1,'Simulador Pagos Oportunos'!$U$15=3,'Simulador Pagos Oportunos'!$U$15=4),0,K164*'Simulador Pagos Oportunos'!$N$74*'Simulador Pagos Oportunos'!$V$21)","v":0},null,{"$f":"IF(B164=0,\"\",IF('Simulador Pagos Oportunos'!$W$45=1,AH164,IF('Simulador Pagos Oportunos'!$W$45=2,AI164,IF('Simulador Pagos Oportunos'!$W$45=3,AJ164,IF('Simulador Pagos Oportunos'!$W$45=4,'Tabla Pagos Oportunos'!AK164,AG164)))))","v":""},null,0,null,{"$f":"IF(B164<=0,0,IF('Simulador Pagos Oportunos'!$Y$80=1,0,B164*'Simulador Pagos Oportunos'!$Y$83))","v":0},null,{"$f":"IF(B164<=0,0,IF('Simulador Pagos Oportunos'!$W$45=1,'Simulador Pagos Oportunos'!$H$60,IF('Simulador Pagos Oportunos'!$W$45=2,'Simulador Pagos Oportunos'!$J$60,IF('Simulador Pagos Oportunos'!$W$45=3,'Simulador Pagos Oportunos'!$L$60,IF('Simulador Pagos Oportunos'!$W$45=4,'Simulador Pagos Oportunos'!$N$60)))))","v":0},null,0,null,{"$f":"IF(B164<=0,0,IF(OR('Simulador Pagos Oportunos'!$W$45=4,'Simulador Pagos Oportunos'!$W$45=5),0,'Simulador Pagos Oportunos'!$AG$62))","v":0},null,12,1,0,0,0,0,{"$f":"IF(AG163=$AG$4,AG163,IF(AG163-0.25%<=$AG$4,$AG$4,AG163-0.25%))","v":0.10499999999999998},null,null,0.1225,0.1225,0,0,0,0,0,0,0,{"$f":"IF(AN164=0,\"\",IF('Simulador Pagos Oportunos'!$W$45=1,AH164,IF('Simulador Pagos Oportunos'!$W$45=2,AI164,IF('Simulador Pagos Oportunos'!$W$45=3,AJ164,IF('Simulador Pagos Oportunos'!$W$45=4,AK164,AG164)))))","v":""},{"$f":"IF(AN164<=0,0,IF('Simulador Pagos Oportunos'!$Y$80=1,0,AN164*'Simulador Pagos Oportunos'!$Y$83))+IF(AN164<=0,0,IF('Simulador Pagos Oportunos'!$W$45=1,'Simulador Pagos Oportunos'!$H$60,IF('Simulador Pagos Oportunos'!$W$45=2,'Simulador Pagos Oportunos'!$J$60,IF('Simulador Pagos Oportunos'!$W$45=3,'Simulador Pagos Oportunos'!$L$60,'Simulador Pagos Oportunos'!$N$60))))","v":0},{"$f":"IF(AN164<=0,0,$AU$32)","v":0},0,0,"",0,145]
[146,0,null,0,null,0,null,0,null,null,null,null,{"$f":"IF(OR('Simulador Pagos Oportunos'!$U$15=5,'Simulador Pagos Oportunos'!$U$15=1,'Simulador Pagos Oportunos'!$U$15=3,'Simulador Pagos Oportunos'!$U$15=4),0,K165*'Simulador Pagos Oportunos'!$N$74*'Simulador Pagos Oportunos'!$V$21)","v":0},null,{"$f":"IF(B165=0,\"\",IF('Simulador Pagos Oportunos'!$W$45=1,AH165,IF('Simulador Pagos Oportunos'!$W$45=2,AI165,IF('Simulador Pagos Oportunos'!$W$45=3,AJ165,IF('Simulador Pagos Oportunos'!$W$45=4,'Tabla Pagos Oportunos'!AK165,AG165)))))","v":""},null,0,null,{"$f":"IF(B165<=0,0,IF('Simulador Pagos Oportunos'!$Y$80=1,0,B165*'Simulador Pagos Oportunos'!$Y$83))","v":0},null,{"$f":"IF(B165<=0,0,IF('Simulador Pagos Oportunos'!$W$45=1,'Simulador Pagos Oportunos'!$H$60,IF('Simulador Pagos Oportunos'!$W$45=2,'Simulador Pagos Oportunos'!$J$60,IF('Simulador Pagos Oportunos'!$W$45=3,'Simulador Pagos Oportunos'!$L$60,IF('Simulador Pagos Oportunos'!$W$45=4,'Simulador Pagos Oportunos'!$N$60)))))","v":0},null,0,null,null,null,12,2,0,0,0,0,{"$f":"AG164","v":0.10499999999999998},null,null,0.1225,0.1225,0,0,0,0,0,0,0,{"$f":"IF(AN165=0,\"\",IF('Simulador Pagos Oportunos'!$W$45=1,AH165,IF('Simulador Pagos Oportunos'!$W$45=2,AI165,IF('Simulador Pagos Oportunos'!$W$45=3,AJ165,IF('Simulador Pagos Oportunos'!$W$45=4,AK165,AG165)))))","v":""},{"$f":"IF(AN165<=0,0,IF('Simulador Pagos Oportunos'!$Y$80=1,0,AN165*'Simulador Pagos Oportunos'!$Y$83))+IF(AN165<=0,0,IF('Simulador Pagos Oportunos'!$W$45=1,'Simulador Pagos Oportunos'!$H$60,IF('Simulador Pagos Oportunos'!$W$45=2,'Simulador Pagos Oportunos'!$J$60,IF('Simulador Pagos Oportunos'!$W$45=3,'Simulador Pagos Oportunos'!$L$60,'Simulador Pagos Oportunos'!$N$60))))","v":0},null,0,0,"",0,146]
[147,0,null,0,null,0,null,0,null,null,null,null,{"$f":"IF(OR('Simulador Pagos Oportunos'!$U$15=5,'Simulador Pagos Oportunos'!$U$15=1,'Simulador Pagos Oportunos'!$U$15=3,'Simulador Pagos Oportunos'!$U$15=4),0,K166*'Simulador Pagos Oportunos'!$N$74*'Simulador Pagos Oportunos'!$V$21)","v":0},null,{"$f":"IF(B166=0,\"\",IF('Simulador Pagos Oportunos'!$W$45=1,AH166,IF('Simulador Pagos Oportunos'!$W$45=2,AI166,IF('Simulador Pagos Oportunos'!$W$45=3,AJ166,IF('Simulador Pagos Oportunos'!$W$45=4,'Tabla Pagos Oportunos'!AK166,AG166)))))","v":""},null,0,null,{"$f":"IF(B166<=0,0,IF('Simulador Pagos Oportunos'!$Y$80=1,0,B166*'Simulador Pagos Oportunos'!$Y$83))","v":0},null,{"$f":"IF(B166<=0,0,IF('Simulador Pagos Oportunos'!$W$45=1,'Simulador Pagos Oportunos'!$H$60,IF('Simulador Pagos Oportunos'!$W$45=2,'Simulador Pagos Oportunos'!$J$60,IF('Simulador Pagos Oportunos'!$W$45=3,'Simulador Pagos Oportunos'!$L$60,IF('Simulador Pagos Oportunos'!$W$45=4,'Simulador Pagos Oportunos'!$N$60)))))","v":0},null,0,null,null,null,12,3,0,0,0,0,{"$f":"AG165","v":0.10499999999999998},null,null,0.1225,0.1225,0,0,0,0,0,0,0,{"$f":"IF(AN166=0,\"\",IF('Simulador Pagos Oportunos'!$W$45=1,AH166,IF('Simulador Pagos Oportunos'!$W$45=2,AI166,IF('Simulador Pagos Oportunos'!$W$45=3,AJ166,IF('Simulador Pagos Oportunos'!$W$45=4,AK166,AG166)))))","v":""},{"$f":"IF(AN166<=0,0,IF('Simulador Pagos Oportunos'!$Y$80=1,0,AN166*'Simulador Pagos Oportunos'!$Y$83))+IF(AN166<=0,0,IF('Simulador Pagos Oportunos'!$W$45=1,'Simulador Pagos Oportunos'!$H$60,IF('Simulador Pagos Oportunos'!$W$45=2,'Simulador Pagos Oportunos'!$J$60,IF('Simulador Pagos Oportunos'!$W$45=3,'Simulador Pagos Oportunos'!$L$60,'Simulador Pagos Oportunos'!$N$60))))","v":0},null,0,0,"",0,147]
[148,0,null,0,null,0,null,0,null,null,null,null,{"$f":"IF(OR('Simulador Pagos Oportunos'!$U$15=5,'Simulador Pagos Oportunos'!$U$15=1,'Simulador Pagos Oportunos'!$U$15=3,'Simulador Pagos Oportunos'!$U$15=4),0,K167*'Simulador Pagos Oportunos'!$N$74*'Simulador Pagos Oportunos'!$V$21)","v":0},null,{"$f":"IF(B167=0,\"\",IF('Simulador Pagos Oportunos'!$W$45=1,AH167,IF('Simulador Pagos Oportunos'!$W$45=2,AI167,IF('Simulador Pagos Oportunos'!$W$45=3,AJ167,IF('Simulador Pagos Oportunos'!$W$45=4,'Tabla Pagos Oportunos'!AK167,AG167)))))","v":""},null,0,null,{"$f":"IF(B167<=0,0,IF('Simulador Pagos Oportunos'!$Y$80=1,0,B167*'Simulador Pagos Oportunos'!$Y$83))","v":0},null,{"$f":"IF(B167<=0,0,IF('Simulador Pagos Oportunos'!$W$45=1,'Simulador Pagos Oportunos'!$H$60,IF('Simulador Pagos Oportunos'!$W$45=2,'Simulador Pagos Oportunos'!$J$60,IF('Simulador Pagos Oportunos'!$W$45=3,'Simulador Pagos Oportunos'!$L$60,IF('Simulador Pagos Oportunos'!$W$45=4,'Simulador Pagos Oportunos'!$N$60)))))","v":0},null,0,null,null,null,12,4,0,0,0,0,0.10499999999999998,null,null,0.1225,0.1225,0,0,0,0,0,0,0,{"$f":"IF(AN167=0,\"\",IF('Simulador Pagos Oportunos'!$W$45=1,AH167,IF('Simulador Pagos Oportunos'!$W$45=2,AI167,IF('Simulador Pagos Oportunos'!$W$45=3,AJ167,IF('Simulador Pagos Oportunos'!$W$45=4,AK167,AG167)))))","v":""},{"$f":"IF(AN167<=0,0,IF('Simulador Pagos Oportunos'!$Y$80=1,0,AN167*'Simulador Pagos Oportunos'!$Y$83))+IF(AN167<=0,0,IF('Simulador Pagos Oportunos'!$W$45=1,'Simulador Pagos Oportunos'!$H$60,IF('Simulador Pagos Oportunos'!$W$45=2,'Simulador Pagos Oportunos'!$J$60,IF('Simulador Pagos Oportunos'!$W$45=3,'Simulador Pagos Oportunos'!$L$60,'Simulador Pagos Oportunos'!$N$60))))","v":0},null,0,0,"",0,148]
[149,0,null,0,null,0,null,0,null,null,null,null,{"$f":"IF(OR('Simulador Pagos Oportunos'!$U$15=5,'Simulador Pagos Oportunos'!$U$15=1,'Simulador Pagos Oportunos'!$U$15=3,'Simulador Pagos Oportunos'!$U$15=4),0,K168*'Simulador Pagos Oportunos'!$N$74*'Simulador Pagos Oportunos'!$V$21)","v":0},null,{"$f":"IF(B168=0,\"\",IF('Simulador Pagos Oportunos'!$W$45=1,AH168,IF('Simulador Pagos Oportunos'!$W$45=2,AI168,IF('Simulador Pagos Oportunos'!$W$45=3,AJ168,IF('Simulador Pagos Oportunos'!$W$45=4,'Tabla Pagos Oportunos'!AK168,AG168)))))","v":""},null,0,null,{"$f":"IF(B168<=0,0,IF('Simulador Pagos Oportunos'!$Y$80=1,0,B168*'Simulador Pagos Oportunos'!$Y$83))","v":0},null,{"$f":"IF(B168<=0,0,IF('Simulador Pagos Oportunos'!$W$45=1,'Simulador Pagos Oportunos'!$H$60,IF('Simulador Pagos Oportunos'!$W$45=2,'Simulador Pagos Oportunos'!$J$60,IF('Simulador Pagos Oportunos'!$W$45=3,'Simulador Pagos Oportunos'!$L$60,IF('Simulador Pagos Oportunos'!$W$45=4,'Simulador Pagos Oportunos'!$N$60)))))","v":0},null,0,null,null,null,12,5,0,0,0,0,0.10499999999999998,null,null,0.1225,0.1225,0,0,0,0,0,0,0,{"$f":"IF(AN168=0,\"\",IF('Simulador Pagos Oportunos'!$W$45=1,AH168,IF('Simulador Pagos Oportunos'!$W$45=2,AI168,IF('Simulador Pagos Oportunos'!$W$45=3,AJ168,IF('Simulador Pagos Oportunos'!$W$45=4,AK168,AG168)))))","v":""},{"$f":"IF(AN168<=0,0,IF('Simulador Pagos Oportunos'!$Y$80=1,0,AN168*'Simulador Pagos Oportunos'!$Y$83))+IF(AN168<=0,0,IF('Simulador Pagos Oportunos'!$W$45=1,'Simulador Pagos Oportunos'!$H$60,IF('Simulador Pagos Oportunos'!$W$45=2,'Simulador Pagos Oportunos'!$J$60,IF('Simulador Pagos Oportunos'!$W$45=3,'Simulador Pagos Oportunos'!$L$60,'Simulador Pagos Oportunos'!$N$60))))","v":0},null,0,0,"",0,149]
[150,0,null,0,null,0,null,0,null,null,null,null,{"$f":"IF(OR('Simulador Pagos Oportunos'!$U$15=5,'Simulador Pagos Oportunos'!$U$15=1,'Simulador Pagos Oportunos'!$U$15=3,'Simulador Pagos Oportunos'!$U$15=4),0,K169*'Simulador Pagos Oportunos'!$N$74*'Simulador Pagos Oportunos'!$V$21)","v":0},null,{"$f":"IF(B169=0,\"\",IF('Simulador Pagos Oportunos'!$W$45=1,AH169,IF('Simulador Pagos Oportunos'!$W$45=2,AI169,IF('Simulador Pagos Oportunos'!$W$45=3,AJ169,IF('Simulador Pagos Oportunos'!$W$45=4,'Tabla Pagos Oportunos'!AK169,AG169)))))","v":""},null,0,null,{"$f":"IF(B169<=0,0,IF('Simulador Pagos Oportunos'!$Y$80=1,0,B169*'Simulador Pagos Oportunos'!$Y$83))","v":0},null,{"$f":"IF(B169<=0,0,IF('Simulador Pagos Oportunos'!$W$45=1,'Simulador Pagos Oportunos'!$H$60,IF('Simulador Pagos Oportunos'!$W$45=2,'Simulador Pagos Oportunos'!$J$60,IF('Simulador Pagos Oportunos'!$W$45=3,'Simulador Pagos Oportunos'!$L$60,IF('Simulador Pagos Oportunos'!$W$45=4,'Simulador Pagos Oportunos'!$N$60)))))","v":0},null,0,null,null,null,12,6,0,0,0,0,0.10499999999999998,null,null,0.1225,0.1225,0,0,0,0,0,0,0,{"$f":"IF(AN169=0,\"\",IF('Simulador Pagos Oportunos'!$W$45=1,AH169,IF('Simulador Pagos Oportunos'!$W$45=2,AI169,IF('Simulador Pagos Oportunos'!$W$45=3,AJ169,IF('Simulador Pagos Oportunos'!$W$45=4,AK169,AG169)))))","v":""},{"$f":"IF(AN169<=0,0,IF('Simulador Pagos Oportunos'!$Y$80=1,0,AN169*'Simulador Pagos Oportunos'!$Y$83))+IF(AN169<=0,0,IF('Simulador Pagos Oportunos'!$W$45=1,'Simulador Pagos Oportunos'!$H$60,IF('Simulador Pagos Oportunos'!$W$45=2,'Simulador Pagos Oportunos'!$J$60,IF('Simulador Pagos Oportunos'!$W$45=3,'Simulador Pagos Oportunos'!$L$60,'Simulador Pagos Oportunos'!$N$60))))","v":0},null,0,0,"",0,150]
[151,0,null,0,null,0,null,0,null,null,null,null,{"$f":"IF(OR('Simulador Pagos Oportunos'!$U$15=5,'Simulador Pagos Oportunos'!$U$15=1,'Simulador Pagos Oportunos'!$U$15=3,'Simulador Pagos Oportunos'!$U$15=4),0,K170*'Simulador Pagos Oportunos'!$N$74*'Simulador Pagos Oportunos'!$V$21)","v":0},null,{"$f":"IF(B170=0,\"\",IF('Simulador Pagos Oportunos'!$W$45=1,AH170,IF('Simulador Pagos Oportunos'!$W$45=2,AI170,IF('Simulador Pagos Oportunos'!$W$45=3,AJ170,IF('Simulador Pagos Oportunos'!$W$45=4,'Tabla Pagos Oportunos'!AK170,AG170)))))","v":""},null,0,null,{"$f":"IF(B170<=0,0,IF('Simulador Pagos Oportunos'!$Y$80=1,0,B170*'Simulador Pagos Oportunos'!$Y$83))","v":0},null,{"$f":"IF(B170<=0,0,IF('Simulador Pagos Oportunos'!$W$45=1,'Simulador Pagos Oportunos'!$H$60,IF('Simulador Pagos Oportunos'!$W$45=2,'Simulador Pagos Oportunos'!$J$60,IF('Simulador Pagos Oportunos'!$W$45=3,'Simulador Pagos Oportunos'!$L$60,IF('Simulador Pagos Oportunos'!$W$45=4,'Simulador Pagos Oportunos'!$N$60)))))","v":0},null,0,null,null,null,12,7,0,0,0,0,0.10499999999999998,null,null,0.1225,0.1225,0,0,0,0,0,0,0,{"$f":"IF(AN170=0,\"\",IF('Simulador Pagos Oportunos'!$W$45=1,AH170,IF('Simulador Pagos Oportunos'!$W$45=2,AI170,IF('Simulador Pagos Oportunos'!$W$45=3,AJ170,IF('Simulador Pagos Oportunos'!$W$45=4,AK170,AG170)))))","v":""},{"$f":"IF(AN170<=0,0,IF('Simulador Pagos Oportunos'!$Y$80=1,0,AN170*'Simulador Pagos Oportunos'!$Y$83))+IF(AN170<=0,0,IF('Simulador Pagos Oportunos'!$W$45=1,'Simulador Pagos Oportunos'!$H$60,IF('Simulador Pagos Oportunos'!$W$45=2,'Simulador Pagos Oportunos'!$J$60,IF('Simulador Pagos Oportunos'!$W$45=3,'Simulador Pagos Oportunos'!$L$60,'Simulador Pagos Oportunos'!$N$60))))","v":0},null,0,0,"",0,151]
[152,0,null,0,null,0,null,0,null,null,null,null,{"$f":"IF(OR('Simulador Pagos Oportunos'!$U$15=5,'Simulador Pagos Oportunos'!$U$15=1,'Simulador Pagos Oportunos'!$U$15=3,'Simulador Pagos Oportunos'!$U$15=4),0,K171*'Simulador Pagos Oportunos'!$N$74*'Simulador Pagos Oportunos'!$V$21)","v":0},null,{"$f":"IF(B171=0,\"\",IF('Simulador Pagos Oportunos'!$W$45=1,AH171,IF('Simulador Pagos Oportunos'!$W$45=2,AI171,IF('Simulador Pagos Oportunos'!$W$45=3,AJ171,IF('Simulador Pagos Oportunos'!$W$45=4,'Tabla Pagos Oportunos'!AK171,AG171)))))","v":""},null,0,null,{"$f":"IF(B171<=0,0,IF('Simulador Pagos Oportunos'!$Y$80=1,0,B171*'Simulador Pagos Oportunos'!$Y$83))","v":0},null,{"$f":"IF(B171<=0,0,IF('Simulador Pagos Oportunos'!$W$45=1,'Simulador Pagos Oportunos'!$H$60,IF('Simulador Pagos Oportunos'!$W$45=2,'Simulador Pagos Oportunos'!$J$60,IF('Simulador Pagos Oportunos'!$W$45=3,'Simulador Pagos Oportunos'!$L$60,IF('Simulador Pagos Oportunos'!$W$45=4,'Simulador Pagos Oportunos'!$N$60)))))","v":0},null,0,null,null,null,12,8,0,0,0,0,0.10499999999999998,null,null,0.1225,0.1225,0,0,0,0,0,0,0,{"$f":"IF(AN171=0,\"\",IF('Simulador Pagos Oportunos'!$W$45=1,AH171,IF('Simulador Pagos Oportunos'!$W$45=2,AI171,IF('Simulador Pagos Oportunos'!$W$45=3,AJ171,IF('Simulador Pagos Oportunos'!$W$45=4,AK171,AG171)))))","v":""},{"$f":"IF(AN171<=0,0,IF('Simulador Pagos Oportunos'!$Y$80=1,0,AN171*'Simulador Pagos Oportunos'!$Y$83))+IF(AN171<=0,0,IF('Simulador Pagos Oportunos'!$W$45=1,'Simulador Pagos Oportunos'!$H$60,IF('Simulador Pagos Oportunos'!$W$45=2,'Simulador Pagos Oportunos'!$J$60,IF('Simulador Pagos Oportunos'!$W$45=3,'Simulador Pagos Oportunos'!$L$60,'Simulador Pagos Oportunos'!$N$60))))","v":0},null,0,0,"",0,152]
[153,0,null,0,null,0,null,0,null,null,null,null,{"$f":"IF(OR('Simulador Pagos Oportunos'!$U$15=5,'Simulador Pagos Oportunos'!$U$15=1,'Simulador Pagos Oportunos'!$U$15=3,'Simulador Pagos Oportunos'!$U$15=4),0,K172*'Simulador Pagos Oportunos'!$N$74*'Simulador Pagos Oportunos'!$V$21)","v":0},null,{"$f":"IF(B172=0,\"\",IF('Simulador Pagos Oportunos'!$W$45=1,AH172,IF('Simulador Pagos Oportunos'!$W$45=2,AI172,IF('Simulador Pagos Oportunos'!$W$45=3,AJ172,IF('Simulador Pagos Oportunos'!$W$45=4,'Tabla Pagos Oportunos'!AK172,AG172)))))","v":""},null,0,null,{"$f":"IF(B172<=0,0,IF('Simulador Pagos Oportunos'!$Y$80=1,0,B172*'Simulador Pagos Oportunos'!$Y$83))","v":0},null,{"$f":"IF(B172<=0,0,IF('Simulador Pagos Oportunos'!$W$45=1,'Simulador Pagos Oportunos'!$H$60,IF('Simulador Pagos Oportunos'!$W$45=2,'Simulador Pagos Oportunos'!$J$60,IF('Simulador Pagos Oportunos'!$W$45=3,'Simulador Pagos Oportunos'!$L$60,IF('Simulador Pagos Oportunos'!$W$45=4,'Simulador Pagos Oportunos'!$N$60)))))","v":0},null,0,null,null,null,12,9,0,0,0,0,0.10499999999999998,null,null,0.1225,0.1225,0,0,0,0,0,0,0,{"$f":"IF(AN172=0,\"\",IF('Simulador Pagos Oportunos'!$W$45=1,AH172,IF('Simulador Pagos Oportunos'!$W$45=2,AI172,IF('Simulador Pagos Oportunos'!$W$45=3,AJ172,IF('Simulador Pagos Oportunos'!$W$45=4,AK172,AG172)))))","v":""},{"$f":"IF(AN172<=0,0,IF('Simulador Pagos Oportunos'!$Y$80=1,0,AN172*'Simulador Pagos Oportunos'!$Y$83))+IF(AN172<=0,0,IF('Simulador Pagos Oportunos'!$W$45=1,'Simulador Pagos Oportunos'!$H$60,IF('Simulador Pagos Oportunos'!$W$45=2,'Simulador Pagos Oportunos'!$J$60,IF('Simulador Pagos Oportunos'!$W$45=3,'Simulador Pagos Oportunos'!$L$60,'Simulador Pagos Oportunos'!$N$60))))","v":0},null,0,0,"",0,153]
[154,0,null,0,null,0,null,0,null,null,null,null,{"$f":"IF(OR('Simulador Pagos Oportunos'!$U$15=5,'Simulador Pagos Oportunos'!$U$15=1,'Simulador Pagos Oportunos'!$U$15=3,'Simulador Pagos Oportunos'!$U$15=4),0,K173*'Simulador Pagos Oportunos'!$N$74*'Simulador Pagos Oportunos'!$V$21)","v":0},null,{"$f":"IF(B173=0,\"\",IF('Simulador Pagos Oportunos'!$W$45=1,AH173,IF('Simulador Pagos Oportunos'!$W$45=2,AI173,IF('Simulador Pagos Oportunos'!$W$45=3,AJ173,IF('Simulador Pagos Oportunos'!$W$45=4,'Tabla Pagos Oportunos'!AK173,AG173)))))","v":""},null,0,null,{"$f":"IF(B173<=0,0,IF('Simulador Pagos Oportunos'!$Y$80=1,0,B173*'Simulador Pagos Oportunos'!$Y$83))","v":0},null,{"$f":"IF(B173<=0,0,IF('Simulador Pagos Oportunos'!$W$45=1,'Simulador Pagos Oportunos'!$H$60,IF('Simulador Pagos Oportunos'!$W$45=2,'Simulador Pagos Oportunos'!$J$60,IF('Simulador Pagos Oportunos'!$W$45=3,'Simulador Pagos Oportunos'!$L$60,IF('Simulador Pagos Oportunos'!$W$45=4,'Simulador Pagos Oportunos'!$N$60)))))","v":0},null,0,null,null,null,12,10,0,0,0,0,0.10499999999999998,null,null,{"$f":"AJ172","v":0.1225},0.1225,0,0,0,0,0,0,0,{"$f":"IF(AN173=0,\"\",IF('Simulador Pagos Oportunos'!$W$45=1,AH173,IF('Simulador Pagos Oportunos'!$W$45=2,AI173,IF('Simulador Pagos Oportunos'!$W$45=3,AJ173,IF('Simulador Pagos Oportunos'!$W$45=4,AK173,AG173)))))","v":""},{"$f":"IF(AN173<=0,0,IF('Simulador Pagos Oportunos'!$Y$80=1,0,AN173*'Simulador Pagos Oportunos'!$Y$83))+IF(AN173<=0,0,IF('Simulador Pagos Oportunos'!$W$45=1,'Simulador Pagos Oportunos'!$H$60,IF('Simulador Pagos Oportunos'!$W$45=2,'Simulador Pagos Oportunos'!$J$60,IF('Simulador Pagos Oportunos'!$W$45=3,'Simulador Pagos Oportunos'!$L$60,'Simulador Pagos Oportunos'!$N$60))))","v":0},null,0,0,"",0,154]
[155,0,null,0,null,0,null,0,null,null,null,null,{"$f":"IF(OR('Simulador Pagos Oportunos'!$U$15=5,'Simulador Pagos Oportunos'!$U$15=1,'Simulador Pagos Oportunos'!$U$15=3,'Simulador Pagos Oportunos'!$U$15=4),0,K174*'Simulador Pagos Oportunos'!$N$74*'Simulador Pagos Oportunos'!$V$21)","v":0},null,{"$f":"IF(B174=0,\"\",IF('Simulador Pagos Oportunos'!$W$45=1,AH174,IF('Simulador Pagos Oportunos'!$W$45=2,AI174,IF('Simulador Pagos Oportunos'!$W$45=3,AJ174,IF('Simulador Pagos Oportunos'!$W$45=4,'Tabla Pagos Oportunos'!AK174,AG174)))))","v":""},null,0,null,{"$f":"IF(B174<=0,0,IF('Simulador Pagos Oportunos'!$Y$80=1,0,B174*'Simulador Pagos Oportunos'!$Y$83))","v":0},null,{"$f":"IF(B174<=0,0,IF('Simulador Pagos Oportunos'!$W$45=1,'Simulador Pagos Oportunos'!$H$60,IF('Simulador Pagos Oportunos'!$W$45=2,'Simulador Pagos Oportunos'!$J$60,IF('Simulador Pagos Oportunos'!$W$45=3,'Simulador Pagos Oportunos'!$L$60,IF('Simulador Pagos Oportunos'!$W$45=4,'Simulador Pagos Oportunos'!$N$60)))))","v":0},null,0,null,null,null,12,11,0,0,0,0,0.10499999999999998,null,null,0.1225,0.1225,0,0,0,0,0,0,0,{"$f":"IF(AN174=0,\"\",IF('Simulador Pagos Oportunos'!$W$45=1,AH174,IF('Simulador Pagos Oportunos'!$W$45=2,AI174,IF('Simulador Pagos Oportunos'!$W$45=3,AJ174,IF('Simulador Pagos Oportunos'!$W$45=4,AK174,AG174)))))","v":""},{"$f":"IF(AN174<=0,0,IF('Simulador Pagos Oportunos'!$Y$80=1,0,AN174*'Simulador Pagos Oportunos'!$Y$83))+IF(AN174<=0,0,IF('Simulador Pagos Oportunos'!$W$45=1,'Simulador Pagos Oportunos'!$H$60,IF('Simulador Pagos Oportunos'!$W$45=2,'Simulador Pagos Oportunos'!$J$60,IF('Simulador Pagos Oportunos'!$W$45=3,'Simulador Pagos Oportunos'!$L$60,'Simulador Pagos Oportunos'!$N$60))))","v":0},null,0,0,"",0,155]
[156,0,null,0,null,0,null,0,null,null,null,null,{"$f":"IF(OR('Simulador Pagos Oportunos'!$U$15=5,'Simulador Pagos Oportunos'!$U$15=1,'Simulador Pagos Oportunos'!$U$15=3,'Simulador Pagos Oportunos'!$U$15=4),0,K175*'Simulador Pagos Oportunos'!$N$74*'Simulador Pagos Oportunos'!$V$21)","v":0},null,{"$f":"IF(B175=0,\"\",IF('Simulador Pagos Oportunos'!$W$45=1,AH175,IF('Simulador Pagos Oportunos'!$W$45=2,AI175,IF('Simulador Pagos Oportunos'!$W$45=3,AJ175,IF('Simulador Pagos Oportunos'!$W$45=4,'Tabla Pagos Oportunos'!AK175,AG175)))))","v":""},null,0,null,{"$f":"IF(B175<=0,0,IF('Simulador Pagos Oportunos'!$Y$80=1,0,B175*'Simulador Pagos Oportunos'!$Y$83))","v":0},null,{"$f":"IF(B175<=0,0,IF('Simulador Pagos Oportunos'!$W$45=1,'Simulador Pagos Oportunos'!$H$60,IF('Simulador Pagos Oportunos'!$W$45=2,'Simulador Pagos Oportunos'!$J$60,IF('Simulador Pagos Oportunos'!$W$45=3,'Simulador Pagos Oportunos'!$L$60,IF('Simulador Pagos Oportunos'!$W$45=4,'Simulador Pagos Oportunos'!$N$60)))))","v":0},null,0,null,null,null,13,0,0,0,0,0,0.10499999999999998,null,null,0.1225,0.1225,0,0,0,0,0,0,0,{"$f":"IF(AN175=0,\"\",IF('Simulador Pagos Oportunos'!$W$45=1,AH175,IF('Simulador Pagos Oportunos'!$W$45=2,AI175,IF('Simulador Pagos Oportunos'!$W$45=3,AJ175,IF('Simulador Pagos Oportunos'!$W$45=4,AK175,AG175)))))","v":""},{"$f":"IF(AN175<=0,0,IF('Simulador Pagos Oportunos'!$Y$80=1,0,AN175*'Simulador Pagos Oportunos'!$Y$83))+IF(AN175<=0,0,IF('Simulador Pagos Oportunos'!$W$45=1,'Simulador Pagos Oportunos'!$H$60,IF('Simulador Pagos Oportunos'!$W$45=2,'Simulador Pagos Oportunos'!$J$60,IF('Simulador Pagos Oportunos'!$W$45=3,'Simulador Pagos Oportunos'!$L$60,'Simulador Pagos Oportunos'!$N$60))))","v":0},null,0,0,"",0,156]
[157,0,null,0,null,0,null,0,null,null,null,null,{"$f":"IF(OR('Simulador Pagos Oportunos'!$U$15=5,'Simulador Pagos Oportunos'!$U$15=1,'Simulador Pagos Oportunos'!$U$15=3,'Simulador Pagos Oportunos'!$U$15=4),0,K176*'Simulador Pagos Oportunos'!$N$74*'Simulador Pagos Oportunos'!$V$21)","v":0},null,{"$f":"IF(B176=0,\"\",IF('Simulador Pagos Oportunos'!$W$45=1,AH176,IF('Simulador Pagos Oportunos'!$W$45=2,AI176,IF('Simulador Pagos Oportunos'!$W$45=3,AJ176,IF('Simulador Pagos Oportunos'!$W$45=4,'Tabla Pagos Oportunos'!AK176,AG176)))))","v":""},null,0,null,{"$f":"IF(B176<=0,0,IF('Simulador Pagos Oportunos'!$Y$80=1,0,B176*'Simulador Pagos Oportunos'!$Y$83))","v":0},null,{"$f":"IF(B176<=0,0,IF('Simulador Pagos Oportunos'!$W$45=1,'Simulador Pagos Oportunos'!$H$60,IF('Simulador Pagos Oportunos'!$W$45=2,'Simulador Pagos Oportunos'!$J$60,IF('Simulador Pagos Oportunos'!$W$45=3,'Simulador Pagos Oportunos'!$L$60,IF('Simulador Pagos Oportunos'!$W$45=4,'Simulador Pagos Oportunos'!$N$60)))))","v":0},null,0,null,{"$f":"IF(B176<=0,0,IF(OR('Simulador Pagos Oportunos'!$W$45=4,'Simulador Pagos Oportunos'!$W$45=5),0,'Simulador Pagos Oportunos'!$AG$62))","v":0},null,13,1,0,0,0,0,{"$f":"IF(AG175=$AG$4,AG175,IF(AG175-0.25%<=$AG$4,$AG$4,AG175-0.25%))","v":0.10249999999999998},null,null,0.1225,0.1225,0,0,0,0,0,0,0,{"$f":"IF(AN176=0,\"\",IF('Simulador Pagos Oportunos'!$W$45=1,AH176,IF('Simulador Pagos Oportunos'!$W$45=2,AI176,IF('Simulador Pagos Oportunos'!$W$45=3,AJ176,IF('Simulador Pagos Oportunos'!$W$45=4,AK176,AG176)))))","v":""},{"$f":"IF(AN176<=0,0,IF('Simulador Pagos Oportunos'!$Y$80=1,0,AN176*'Simulador Pagos Oportunos'!$Y$83))+IF(AN176<=0,0,IF('Simulador Pagos Oportunos'!$W$45=1,'Simulador Pagos Oportunos'!$H$60,IF('Simulador Pagos Oportunos'!$W$45=2,'Simulador Pagos Oportunos'!$J$60,IF('Simulador Pagos Oportunos'!$W$45=3,'Simulador Pagos Oportunos'!$L$60,'Simulador Pagos Oportunos'!$N$60))))","v":0},{"$f":"IF(AN176<=0,0,$AU$32)","v":0},0,0,"",0,157]
[158,0,null,0,null,0,null,0,null,null,null,null,{"$f":"IF(OR('Simulador Pagos Oportunos'!$U$15=5,'Simulador Pagos Oportunos'!$U$15=1,'Simulador Pagos Oportunos'!$U$15=3,'Simulador Pagos Oportunos'!$U$15=4),0,K177*'Simulador Pagos Oportunos'!$N$74*'Simulador Pagos Oportunos'!$V$21)","v":0},null,{"$f":"IF(B177=0,\"\",IF('Simulador Pagos Oportunos'!$W$45=1,AH177,IF('Simulador Pagos Oportunos'!$W$45=2,AI177,IF('Simulador Pagos Oportunos'!$W$45=3,AJ177,IF('Simulador Pagos Oportunos'!$W$45=4,'Tabla Pagos Oportunos'!AK177,AG177)))))","v":""},null,0,null,{"$f":"IF(B177<=0,0,IF('Simulador Pagos Oportunos'!$Y$80=1,0,B177*'Simulador Pagos Oportunos'!$Y$83))","v":0},null,{"$f":"IF(B177<=0,0,IF('Simulador Pagos Oportunos'!$W$45=1,'Simulador Pagos Oportunos'!$H$60,IF('Simulador Pagos Oportunos'!$W$45=2,'Simulador Pagos Oportunos'!$J$60,IF('Simulador Pagos Oportunos'!$W$45=3,'Simulador Pagos Oportunos'!$L$60,IF('Simulador Pagos Oportunos'!$W$45=4,'Simulador Pagos Oportunos'!$N$60)))))","v":0},null,0,null,null,null,13,2,0,0,0,0,{"$f":"AG176","v":0.10249999999999998},null,null,0.1225,0.1225,0,0,0,0,0,0,0,{"$f":"IF(AN177=0,\"\",IF('Simulador Pagos Oportunos'!$W$45=1,AH177,IF('Simulador Pagos Oportunos'!$W$45=2,AI177,IF('Simulador Pagos Oportunos'!$W$45=3,AJ177,IF('Simulador Pagos Oportunos'!$W$45=4,AK177,AG177)))))","v":""},{"$f":"IF(AN177<=0,0,IF('Simulador Pagos Oportunos'!$Y$80=1,0,AN177*'Simulador Pagos Oportunos'!$Y$83))+IF(AN177<=0,0,IF('Simulador Pagos Oportunos'!$W$45=1,'Simulador Pagos Oportunos'!$H$60,IF('Simulador Pagos Oportunos'!$W$45=2,'Simulador Pagos Oportunos'!$J$60,IF('Simulador Pagos Oportunos'!$W$45=3,'Simulador Pagos Oportunos'!$L$60,'Simulador Pagos Oportunos'!$N$60))))","v":0},null,0,0,"",0,158]
[159,0,null,0,null,0,null,0,null,null,null,null,{"$f":"IF(OR('Simulador Pagos Oportunos'!$U$15=5,'Simulador Pagos Oportunos'!$U$15=1,'Simulador Pagos Oportunos'!$U$15=3,'Simulador Pagos Oportunos'!$U$15=4),0,K178*'Simulador Pagos Oportunos'!$N$74*'Simulador Pagos Oportunos'!$V$21)","v":0},null,{"$f":"IF(B178=0,\"\",IF('Simulador Pagos Oportunos'!$W$45=1,AH178,IF('Simulador Pagos Oportunos'!$W$45=2,AI178,IF('Simulador Pagos Oportunos'!$W$45=3,AJ178,IF('Simulador Pagos Oportunos'!$W$45=4,'Tabla Pagos Oportunos'!AK178,AG178)))))","v":""},null,0,null,{"$f":"IF(B178<=0,0,IF('Simulador Pagos Oportunos'!$Y$80=1,0,B178*'Simulador Pagos Oportunos'!$Y$83))","v":0},null,{"$f":"IF(B178<=0,0,IF('Simulador Pagos Oportunos'!$W$45=1,'Simulador Pagos Oportunos'!$H$60,IF('Simulador Pagos Oportunos'!$W$45=2,'Simulador Pagos Oportunos'!$J$60,IF('Simulador Pagos Oportunos'!$W$45=3,'Simulador Pagos Oportunos'!$L$60,IF('Simulador Pagos Oportunos'!$W$45=4,'Simulador Pagos Oportunos'!$N$60)))))","v":0},null,0,null,null,null,13,3,0,0,0,0,{"$f":"AG177","v":0.10249999999999998},null,null,0.1225,0.1225,0,0,0,0,0,0,0,{"$f":"IF(AN178=0,\"\",IF('Simulador Pagos Oportunos'!$W$45=1,AH178,IF('Simulador Pagos Oportunos'!$W$45=2,AI178,IF('Simulador Pagos Oportunos'!$W$45=3,AJ178,IF('Simulador Pagos Oportunos'!$W$45=4,AK178,AG178)))))","v":""},{"$f":"IF(AN178<=0,0,IF('Simulador Pagos Oportunos'!$Y$80=1,0,AN178*'Simulador Pagos Oportunos'!$Y$83))+IF(AN178<=0,0,IF('Simulador Pagos Oportunos'!$W$45=1,'Simulador Pagos Oportunos'!$H$60,IF('Simulador Pagos Oportunos'!$W$45=2,'Simulador Pagos Oportunos'!$J$60,IF('Simulador Pagos Oportunos'!$W$45=3,'Simulador Pagos Oportunos'!$L$60,'Simulador Pagos Oportunos'!$N$60))))","v":0},null,0,0,"",0,159]
[160,0,null,0,null,0,null,0,null,null,null,null,{"$f":"IF(OR('Simulador Pagos Oportunos'!$U$15=5,'Simulador Pagos Oportunos'!$U$15=1,'Simulador Pagos Oportunos'!$U$15=3,'Simulador Pagos Oportunos'!$U$15=4),0,K179*'Simulador Pagos Oportunos'!$N$74*'Simulador Pagos Oportunos'!$V$21)","v":0},null,{"$f":"IF(B179=0,\"\",IF('Simulador Pagos Oportunos'!$W$45=1,AH179,IF('Simulador Pagos Oportunos'!$W$45=2,AI179,IF('Simulador Pagos Oportunos'!$W$45=3,AJ179,IF('Simulador Pagos Oportunos'!$W$45=4,'Tabla Pagos Oportunos'!AK179,AG179)))))","v":""},null,0,null,{"$f":"IF(B179<=0,0,IF('Simulador Pagos Oportunos'!$Y$80=1,0,B179*'Simulador Pagos Oportunos'!$Y$83))","v":0},null,{"$f":"IF(B179<=0,0,IF('Simulador Pagos Oportunos'!$W$45=1,'Simulador Pagos Oportunos'!$H$60,IF('Simulador Pagos Oportunos'!$W$45=2,'Simulador Pagos Oportunos'!$J$60,IF('Simulador Pagos Oportunos'!$W$45=3,'Simulador Pagos Oportunos'!$L$60,IF('Simulador Pagos Oportunos'!$W$45=4,'Simulador Pagos Oportunos'!$N$60)))))","v":0},null,0,null,null,null,13,4,0,0,0,0,0.10249999999999998,null,null,0.1225,0.1225,0,0,0,0,0,0,0,{"$f":"IF(AN179=0,\"\",IF('Simulador Pagos Oportunos'!$W$45=1,AH179,IF('Simulador Pagos Oportunos'!$W$45=2,AI179,IF('Simulador Pagos Oportunos'!$W$45=3,AJ179,IF('Simulador Pagos Oportunos'!$W$45=4,AK179,AG179)))))","v":""},{"$f":"IF(AN179<=0,0,IF('Simulador Pagos Oportunos'!$Y$80=1,0,AN179*'Simulador Pagos Oportunos'!$Y$83))+IF(AN179<=0,0,IF('Simulador Pagos Oportunos'!$W$45=1,'Simulador Pagos Oportunos'!$H$60,IF('Simulador Pagos Oportunos'!$W$45=2,'Simulador Pagos Oportunos'!$J$60,IF('Simulador Pagos Oportunos'!$W$45=3,'Simulador Pagos Oportunos'!$L$60,'Simulador Pagos Oportunos'!$N$60))))","v":0},null,0,0,"",0,160]
[161,0,null,0,null,0,null,0,null,null,null,null,{"$f":"IF(OR('Simulador Pagos Oportunos'!$U$15=5,'Simulador Pagos Oportunos'!$U$15=1,'Simulador Pagos Oportunos'!$U$15=3,'Simulador Pagos Oportunos'!$U$15=4),0,K180*'Simulador Pagos Oportunos'!$N$74*'Simulador Pagos Oportunos'!$V$21)","v":0},null,{"$f":"IF(B180=0,\"\",IF('Simulador Pagos Oportunos'!$W$45=1,AH180,IF('Simulador Pagos Oportunos'!$W$45=2,AI180,IF('Simulador Pagos Oportunos'!$W$45=3,AJ180,IF('Simulador Pagos Oportunos'!$W$45=4,'Tabla Pagos Oportunos'!AK180,AG180)))))","v":""},null,0,null,{"$f":"IF(B180<=0,0,IF('Simulador Pagos Oportunos'!$Y$80=1,0,B180*'Simulador Pagos Oportunos'!$Y$83))","v":0},null,{"$f":"IF(B180<=0,0,IF('Simulador Pagos Oportunos'!$W$45=1,'Simulador Pagos Oportunos'!$H$60,IF('Simulador Pagos Oportunos'!$W$45=2,'Simulador Pagos Oportunos'!$J$60,IF('Simulador Pagos Oportunos'!$W$45=3,'Simulador Pagos Oportunos'!$L$60,IF('Simulador Pagos Oportunos'!$W$45=4,'Simulador Pagos Oportunos'!$N$60)))))","v":0},null,0,null,null,null,13,5,0,0,0,0,0.10249999999999998,null,null,0.1225,0.1225,0,0,0,0,0,0,0,{"$f":"IF(AN180=0,\"\",IF('Simulador Pagos Oportunos'!$W$45=1,AH180,IF('Simulador Pagos Oportunos'!$W$45=2,AI180,IF('Simulador Pagos Oportunos'!$W$45=3,AJ180,IF('Simulador Pagos Oportunos'!$W$45=4,AK180,AG180)))))","v":""},{"$f":"IF(AN180<=0,0,IF('Simulador Pagos Oportunos'!$Y$80=1,0,AN180*'Simulador Pagos Oportunos'!$Y$83))+IF(AN180<=0,0,IF('Simulador Pagos Oportunos'!$W$45=1,'Simulador Pagos Oportunos'!$H$60,IF('Simulador Pagos Oportunos'!$W$45=2,'Simulador Pagos Oportunos'!$J$60,IF('Simulador Pagos Oportunos'!$W$45=3,'Simulador Pagos Oportunos'!$L$60,'Simulador Pagos Oportunos'!$N$60))))","v":0},null,0,0,"",0,161]
[162,0,null,0,null,0,null,0,null,null,null,null,{"$f":"IF(OR('Simulador Pagos Oportunos'!$U$15=5,'Simulador Pagos Oportunos'!$U$15=1,'Simulador Pagos Oportunos'!$U$15=3,'Simulador Pagos Oportunos'!$U$15=4),0,K181*'Simulador Pagos Oportunos'!$N$74*'Simulador Pagos Oportunos'!$V$21)","v":0},null,{"$f":"IF(B181=0,\"\",IF('Simulador Pagos Oportunos'!$W$45=1,AH181,IF('Simulador Pagos Oportunos'!$W$45=2,AI181,IF('Simulador Pagos Oportunos'!$W$45=3,AJ181,IF('Simulador Pagos Oportunos'!$W$45=4,'Tabla Pagos Oportunos'!AK181,AG181)))))","v":""},null,0,null,{"$f":"IF(B181<=0,0,IF('Simulador Pagos Oportunos'!$Y$80=1,0,B181*'Simulador Pagos Oportunos'!$Y$83))","v":0},null,{"$f":"IF(B181<=0,0,IF('Simulador Pagos Oportunos'!$W$45=1,'Simulador Pagos Oportunos'!$H$60,IF('Simulador Pagos Oportunos'!$W$45=2,'Simulador Pagos Oportunos'!$J$60,IF('Simulador Pagos Oportunos'!$W$45=3,'Simulador Pagos Oportunos'!$L$60,IF('Simulador Pagos Oportunos'!$W$45=4,'Simulador Pagos Oportunos'!$N$60)))))","v":0},null,0,null,null,null,13,6,0,0,0,0,0.10249999999999998,null,null,0.1225,0.1225,0,0,0,0,0,0,0,{"$f":"IF(AN181=0,\"\",IF('Simulador Pagos Oportunos'!$W$45=1,AH181,IF('Simulador Pagos Oportunos'!$W$45=2,AI181,IF('Simulador Pagos Oportunos'!$W$45=3,AJ181,IF('Simulador Pagos Oportunos'!$W$45=4,AK181,AG181)))))","v":""},{"$f":"IF(AN181<=0,0,IF('Simulador Pagos Oportunos'!$Y$80=1,0,AN181*'Simulador Pagos Oportunos'!$Y$83))+IF(AN181<=0,0,IF('Simulador Pagos Oportunos'!$W$45=1,'Simulador Pagos Oportunos'!$H$60,IF('Simulador Pagos Oportunos'!$W$45=2,'Simulador Pagos Oportunos'!$J$60,IF('Simulador Pagos Oportunos'!$W$45=3,'Simulador Pagos Oportunos'!$L$60,'Simulador Pagos Oportunos'!$N$60))))","v":0},null,0,0,"",0,162]
[163,0,null,0,null,0,null,0,null,null,null,null,{"$f":"IF(OR('Simulador Pagos Oportunos'!$U$15=5,'Simulador Pagos Oportunos'!$U$15=1,'Simulador Pagos Oportunos'!$U$15=3,'Simulador Pagos Oportunos'!$U$15=4),0,K182*'Simulador Pagos Oportunos'!$N$74*'Simulador Pagos Oportunos'!$V$21)","v":0},null,{"$f":"IF(B182=0,\"\",IF('Simulador Pagos Oportunos'!$W$45=1,AH182,IF('Simulador Pagos Oportunos'!$W$45=2,AI182,IF('Simulador Pagos Oportunos'!$W$45=3,AJ182,IF('Simulador Pagos Oportunos'!$W$45=4,'Tabla Pagos Oportunos'!AK182,AG182)))))","v":""},null,0,null,{"$f":"IF(B182<=0,0,IF('Simulador Pagos Oportunos'!$Y$80=1,0,B182*'Simulador Pagos Oportunos'!$Y$83))","v":0},null,{"$f":"IF(B182<=0,0,IF('Simulador Pagos Oportunos'!$W$45=1,'Simulador Pagos Oportunos'!$H$60,IF('Simulador Pagos Oportunos'!$W$45=2,'Simulador Pagos Oportunos'!$J$60,IF('Simulador Pagos Oportunos'!$W$45=3,'Simulador Pagos Oportunos'!$L$60,IF('Simulador Pagos Oportunos'!$W$45=4,'Simulador Pagos Oportunos'!$N$60)))))","v":0},null,0,null,null,null,13,7,0,0,0,0,0.10249999999999998,null,null,0.1225,0.1225,0,0,0,0,0,0,0,{"$f":"IF(AN182=0,\"\",IF('Simulador Pagos Oportunos'!$W$45=1,AH182,IF('Simulador Pagos Oportunos'!$W$45=2,AI182,IF('Simulador Pagos Oportunos'!$W$45=3,AJ182,IF('Simulador Pagos Oportunos'!$W$45=4,AK182,AG182)))))","v":""},{"$f":"IF(AN182<=0,0,IF('Simulador Pagos Oportunos'!$Y$80=1,0,AN182*'Simulador Pagos Oportunos'!$Y$83))+IF(AN182<=0,0,IF('Simulador Pagos Oportunos'!$W$45=1,'Simulador Pagos Oportunos'!$H$60,IF('Simulador Pagos Oportunos'!$W$45=2,'Simulador Pagos Oportunos'!$J$60,IF('Simulador Pagos Oportunos'!$W$45=3,'Simulador Pagos Oportunos'!$L$60,'Simulador Pagos Oportunos'!$N$60))))","v":0},null,0,0,"",0,163]
[164,0,null,0,null,0,null,0,null,null,null,null,{"$f":"IF(OR('Simulador Pagos Oportunos'!$U$15=5,'Simulador Pagos Oportunos'!$U$15=1,'Simulador Pagos Oportunos'!$U$15=3,'Simulador Pagos Oportunos'!$U$15=4),0,K183*'Simulador Pagos Oportunos'!$N$74*'Simulador Pagos Oportunos'!$V$21)","v":0},null,{"$f":"IF(B183=0,\"\",IF('Simulador Pagos Oportunos'!$W$45=1,AH183,IF('Simulador Pagos Oportunos'!$W$45=2,AI183,IF('Simulador Pagos Oportunos'!$W$45=3,AJ183,IF('Simulador Pagos Oportunos'!$W$45=4,'Tabla Pagos Oportunos'!AK183,AG183)))))","v":""},null,0,null,{"$f":"IF(B183<=0,0,IF('Simulador Pagos Oportunos'!$Y$80=1,0,B183*'Simulador Pagos Oportunos'!$Y$83))","v":0},null,{"$f":"IF(B183<=0,0,IF('Simulador Pagos Oportunos'!$W$45=1,'Simulador Pagos Oportunos'!$H$60,IF('Simulador Pagos Oportunos'!$W$45=2,'Simulador Pagos Oportunos'!$J$60,IF('Simulador Pagos Oportunos'!$W$45=3,'Simulador Pagos Oportunos'!$L$60,IF('Simulador Pagos Oportunos'!$W$45=4,'Simulador Pagos Oportunos'!$N$60)))))","v":0},null,0,null,null,null,13,8,0,0,0,0,0.10249999999999998,null,null,0.1225,0.1225,0,0,0,0,0,0,0,{"$f":"IF(AN183=0,\"\",IF('Simulador Pagos Oportunos'!$W$45=1,AH183,IF('Simulador Pagos Oportunos'!$W$45=2,AI183,IF('Simulador Pagos Oportunos'!$W$45=3,AJ183,IF('Simulador Pagos Oportunos'!$W$45=4,AK183,AG183)))))","v":""},{"$f":"IF(AN183<=0,0,IF('Simulador Pagos Oportunos'!$Y$80=1,0,AN183*'Simulador Pagos Oportunos'!$Y$83))+IF(AN183<=0,0,IF('Simulador Pagos Oportunos'!$W$45=1,'Simulador Pagos Oportunos'!$H$60,IF('Simulador Pagos Oportunos'!$W$45=2,'Simulador Pagos Oportunos'!$J$60,IF('Simulador Pagos Oportunos'!$W$45=3,'Simulador Pagos Oportunos'!$L$60,'Simulador Pagos Oportunos'!$N$60))))","v":0},null,0,0,"",0,164]
[165,0,null,0,null,0,null,0,null,null,null,null,{"$f":"IF(OR('Simulador Pagos Oportunos'!$U$15=5,'Simulador Pagos Oportunos'!$U$15=1,'Simulador Pagos Oportunos'!$U$15=3,'Simulador Pagos Oportunos'!$U$15=4),0,K184*'Simulador Pagos Oportunos'!$N$74*'Simulador Pagos Oportunos'!$V$21)","v":0},null,{"$f":"IF(B184=0,\"\",IF('Simulador Pagos Oportunos'!$W$45=1,AH184,IF('Simulador Pagos Oportunos'!$W$45=2,AI184,IF('Simulador Pagos Oportunos'!$W$45=3,AJ184,IF('Simulador Pagos Oportunos'!$W$45=4,'Tabla Pagos Oportunos'!AK184,AG184)))))","v":""},null,0,null,{"$f":"IF(B184<=0,0,IF('Simulador Pagos Oportunos'!$Y$80=1,0,B184*'Simulador Pagos Oportunos'!$Y$83))","v":0},null,{"$f":"IF(B184<=0,0,IF('Simulador Pagos Oportunos'!$W$45=1,'Simulador Pagos Oportunos'!$H$60,IF('Simulador Pagos Oportunos'!$W$45=2,'Simulador Pagos Oportunos'!$J$60,IF('Simulador Pagos Oportunos'!$W$45=3,'Simulador Pagos Oportunos'!$L$60,IF('Simulador Pagos Oportunos'!$W$45=4,'Simulador Pagos Oportunos'!$N$60)))))","v":0},null,0,null,null,null,13,9,0,0,0,0,0.10249999999999998,null,null,0.1225,0.1225,0,0,0,0,0,0,0,{"$f":"IF(AN184=0,\"\",IF('Simulador Pagos Oportunos'!$W$45=1,AH184,IF('Simulador Pagos Oportunos'!$W$45=2,AI184,IF('Simulador Pagos Oportunos'!$W$45=3,AJ184,IF('Simulador Pagos Oportunos'!$W$45=4,AK184,AG184)))))","v":""},{"$f":"IF(AN184<=0,0,IF('Simulador Pagos Oportunos'!$Y$80=1,0,AN184*'Simulador Pagos Oportunos'!$Y$83))+IF(AN184<=0,0,IF('Simulador Pagos Oportunos'!$W$45=1,'Simulador Pagos Oportunos'!$H$60,IF('Simulador Pagos Oportunos'!$W$45=2,'Simulador Pagos Oportunos'!$J$60,IF('Simulador Pagos Oportunos'!$W$45=3,'Simulador Pagos Oportunos'!$L$60,'Simulador Pagos Oportunos'!$N$60))))","v":0},null,0,0,"",0,165]
[166,0,null,0,null,0,null,0,null,null,null,null,{"$f":"IF(OR('Simulador Pagos Oportunos'!$U$15=5,'Simulador Pagos Oportunos'!$U$15=1,'Simulador Pagos Oportunos'!$U$15=3,'Simulador Pagos Oportunos'!$U$15=4),0,K185*'Simulador Pagos Oportunos'!$N$74*'Simulador Pagos Oportunos'!$V$21)","v":0},null,{"$f":"IF(B185=0,\"\",IF('Simulador Pagos Oportunos'!$W$45=1,AH185,IF('Simulador Pagos Oportunos'!$W$45=2,AI185,IF('Simulador Pagos Oportunos'!$W$45=3,AJ185,IF('Simulador Pagos Oportunos'!$W$45=4,'Tabla Pagos Oportunos'!AK185,AG185)))))","v":""},null,0,null,{"$f":"IF(B185<=0,0,IF('Simulador Pagos Oportunos'!$Y$80=1,0,B185*'Simulador Pagos Oportunos'!$Y$83))","v":0},null,{"$f":"IF(B185<=0,0,IF('Simulador Pagos Oportunos'!$W$45=1,'Simulador Pagos Oportunos'!$H$60,IF('Simulador Pagos Oportunos'!$W$45=2,'Simulador Pagos Oportunos'!$J$60,IF('Simulador Pagos Oportunos'!$W$45=3,'Simulador Pagos Oportunos'!$L$60,IF('Simulador Pagos Oportunos'!$W$45=4,'Simulador Pagos Oportunos'!$N$60)))))","v":0},null,0,null,null,null,13,10,0,0,0,0,0.10249999999999998,null,null,0.1225,0.1225,0,0,0,0,0,0,0,{"$f":"IF(AN185=0,\"\",IF('Simulador Pagos Oportunos'!$W$45=1,AH185,IF('Simulador Pagos Oportunos'!$W$45=2,AI185,IF('Simulador Pagos Oportunos'!$W$45=3,AJ185,IF('Simulador Pagos Oportunos'!$W$45=4,AK185,AG185)))))","v":""},{"$f":"IF(AN185<=0,0,IF('Simulador Pagos Oportunos'!$Y$80=1,0,AN185*'Simulador Pagos Oportunos'!$Y$83))+IF(AN185<=0,0,IF('Simulador Pagos Oportunos'!$W$45=1,'Simulador Pagos Oportunos'!$H$60,IF('Simulador Pagos Oportunos'!$W$45=2,'Simulador Pagos Oportunos'!$J$60,IF('Simulador Pagos Oportunos'!$W$45=3,'Simulador Pagos Oportunos'!$L$60,'Simulador Pagos Oportunos'!$N$60))))","v":0},null,0,0,"",0,166]
[167,0,null,0,null,0,null,0,null,null,null,null,{"$f":"IF(OR('Simulador Pagos Oportunos'!$U$15=5,'Simulador Pagos Oportunos'!$U$15=1,'Simulador Pagos Oportunos'!$U$15=3,'Simulador Pagos Oportunos'!$U$15=4),0,K186*'Simulador Pagos Oportunos'!$N$74*'Simulador Pagos Oportunos'!$V$21)","v":0},null,{"$f":"IF(B186=0,\"\",IF('Simulador Pagos Oportunos'!$W$45=1,AH186,IF('Simulador Pagos Oportunos'!$W$45=2,AI186,IF('Simulador Pagos Oportunos'!$W$45=3,AJ186,IF('Simulador Pagos Oportunos'!$W$45=4,'Tabla Pagos Oportunos'!AK186,AG186)))))","v":""},null,0,null,{"$f":"IF(B186<=0,0,IF('Simulador Pagos Oportunos'!$Y$80=1,0,B186*'Simulador Pagos Oportunos'!$Y$83))","v":0},null,{"$f":"IF(B186<=0,0,IF('Simulador Pagos Oportunos'!$W$45=1,'Simulador Pagos Oportunos'!$H$60,IF('Simulador Pagos Oportunos'!$W$45=2,'Simulador Pagos Oportunos'!$J$60,IF('Simulador Pagos Oportunos'!$W$45=3,'Simulador Pagos Oportunos'!$L$60,IF('Simulador Pagos Oportunos'!$W$45=4,'Simulador Pagos Oportunos'!$N$60)))))","v":0},null,0,null,null,null,13,11,0,0,0,0,0.10249999999999998,null,null,0.1225,0.1225,0,0,0,0,0,0,0,{"$f":"IF(AN186=0,\"\",IF('Simulador Pagos Oportunos'!$W$45=1,AH186,IF('Simulador Pagos Oportunos'!$W$45=2,AI186,IF('Simulador Pagos Oportunos'!$W$45=3,AJ186,IF('Simulador Pagos Oportunos'!$W$45=4,AK186,AG186)))))","v":""},{"$f":"IF(AN186<=0,0,IF('Simulador Pagos Oportunos'!$Y$80=1,0,AN186*'Simulador Pagos Oportunos'!$Y$83))+IF(AN186<=0,0,IF('Simulador Pagos Oportunos'!$W$45=1,'Simulador Pagos Oportunos'!$H$60,IF('Simulador Pagos Oportunos'!$W$45=2,'Simulador Pagos Oportunos'!$J$60,IF('Simulador Pagos Oportunos'!$W$45=3,'Simulador Pagos Oportunos'!$L$60,'Simulador Pagos Oportunos'!$N$60))))","v":0},null,0,0,"",0,167]
[168,0,null,0,null,0,null,0,null,null,null,null,{"$f":"IF(OR('Simulador Pagos Oportunos'!$U$15=5,'Simulador Pagos Oportunos'!$U$15=1,'Simulador Pagos Oportunos'!$U$15=3,'Simulador Pagos Oportunos'!$U$15=4),0,K187*'Simulador Pagos Oportunos'!$N$74*'Simulador Pagos Oportunos'!$V$21)","v":0},null,{"$f":"IF(B187=0,\"\",IF('Simulador Pagos Oportunos'!$W$45=1,AH187,IF('Simulador Pagos Oportunos'!$W$45=2,AI187,IF('Simulador Pagos Oportunos'!$W$45=3,AJ187,IF('Simulador Pagos Oportunos'!$W$45=4,'Tabla Pagos Oportunos'!AK187,AG187)))))","v":""},null,0,null,{"$f":"IF(B187<=0,0,IF('Simulador Pagos Oportunos'!$Y$80=1,0,B187*'Simulador Pagos Oportunos'!$Y$83))","v":0},null,{"$f":"IF(B187<=0,0,IF('Simulador Pagos Oportunos'!$W$45=1,'Simulador Pagos Oportunos'!$H$60,IF('Simulador Pagos Oportunos'!$W$45=2,'Simulador Pagos Oportunos'!$J$60,IF('Simulador Pagos Oportunos'!$W$45=3,'Simulador Pagos Oportunos'!$L$60,IF('Simulador Pagos Oportunos'!$W$45=4,'Simulador Pagos Oportunos'!$N$60)))))","v":0},null,0,null,null,null,14,0,0,0,0,0,0.10249999999999998,null,null,0.1225,0.1225,0,0,0,0,0,0,0,{"$f":"IF(AN187=0,\"\",IF('Simulador Pagos Oportunos'!$W$45=1,AH187,IF('Simulador Pagos Oportunos'!$W$45=2,AI187,IF('Simulador Pagos Oportunos'!$W$45=3,AJ187,IF('Simulador Pagos Oportunos'!$W$45=4,AK187,AG187)))))","v":""},{"$f":"IF(AN187<=0,0,IF('Simulador Pagos Oportunos'!$Y$80=1,0,AN187*'Simulador Pagos Oportunos'!$Y$83))+IF(AN187<=0,0,IF('Simulador Pagos Oportunos'!$W$45=1,'Simulador Pagos Oportunos'!$H$60,IF('Simulador Pagos Oportunos'!$W$45=2,'Simulador Pagos Oportunos'!$J$60,IF('Simulador Pagos Oportunos'!$W$45=3,'Simulador Pagos Oportunos'!$L$60,'Simulador Pagos Oportunos'!$N$60))))","v":0},null,0,0,"",0,168]
[169,0,null,0,null,0,null,0,null,null,null,null,{"$f":"IF(OR('Simulador Pagos Oportunos'!$U$15=5,'Simulador Pagos Oportunos'!$U$15=1,'Simulador Pagos Oportunos'!$U$15=3,'Simulador Pagos Oportunos'!$U$15=4),0,K188*'Simulador Pagos Oportunos'!$N$74*'Simulador Pagos Oportunos'!$V$21)","v":0},null,{"$f":"IF(B188=0,\"\",IF('Simulador Pagos Oportunos'!$W$45=1,AH188,IF('Simulador Pagos Oportunos'!$W$45=2,AI188,IF('Simulador Pagos Oportunos'!$W$45=3,AJ188,IF('Simulador Pagos Oportunos'!$W$45=4,'Tabla Pagos Oportunos'!AK188,AG188)))))","v":""},null,0,null,{"$f":"IF(B188<=0,0,IF('Simulador Pagos Oportunos'!$Y$80=1,0,B188*'Simulador Pagos Oportunos'!$Y$83))","v":0},null,{"$f":"IF(B188<=0,0,IF('Simulador Pagos Oportunos'!$W$45=1,'Simulador Pagos Oportunos'!$H$60,IF('Simulador Pagos Oportunos'!$W$45=2,'Simulador Pagos Oportunos'!$J$60,IF('Simulador Pagos Oportunos'!$W$45=3,'Simulador Pagos Oportunos'!$L$60,IF('Simulador Pagos Oportunos'!$W$45=4,'Simulador Pagos Oportunos'!$N$60)))))","v":0},null,0,null,{"$f":"IF(B188<=0,0,IF(OR('Simulador Pagos Oportunos'!$W$45=4,'Simulador Pagos Oportunos'!$W$45=5),0,'Simulador Pagos Oportunos'!$AG$62))","v":0},null,14,1,0,0,0,0,{"$f":"IF(AG187=$AG$4,AG187,IF(AG187-0.25%<=$AG$4,$AG$4,AG187-0.25%))","v":9.9999999999999978E-2},null,null,0.1225,0.1225,0,0,0,0,0,0,0,{"$f":"IF(AN188=0,\"\",IF('Simulador Pagos Oportunos'!$W$45=1,AH188,IF('Simulador Pagos Oportunos'!$W$45=2,AI188,IF('Simulador Pagos Oportunos'!$W$45=3,AJ188,IF('Simulador Pagos Oportunos'!$W$45=4,AK188,AG188)))))","v":""},{"$f":"IF(AN188<=0,0,IF('Simulador Pagos Oportunos'!$Y$80=1,0,AN188*'Simulador Pagos Oportunos'!$Y$83))+IF(AN188<=0,0,IF('Simulador Pagos Oportunos'!$W$45=1,'Simulador Pagos Oportunos'!$H$60,IF('Simulador Pagos Oportunos'!$W$45=2,'Simulador Pagos Oportunos'!$J$60,IF('Simulador Pagos Oportunos'!$W$45=3,'Simulador Pagos Oportunos'!$L$60,'Simulador Pagos Oportunos'!$N$60))))","v":0},{"$f":"IF(AN188<=0,0,$AU$32)","v":0},0,0,"",0,169]
[170,0,null,0,null,0,null,0,null,null,null,null,{"$f":"IF(OR('Simulador Pagos Oportunos'!$U$15=5,'Simulador Pagos Oportunos'!$U$15=1,'Simulador Pagos Oportunos'!$U$15=3,'Simulador Pagos Oportunos'!$U$15=4),0,K189*'Simulador Pagos Oportunos'!$N$74*'Simulador Pagos Oportunos'!$V$21)","v":0},null,{"$f":"IF(B189=0,\"\",IF('Simulador Pagos Oportunos'!$W$45=1,AH189,IF('Simulador Pagos Oportunos'!$W$45=2,AI189,IF('Simulador Pagos Oportunos'!$W$45=3,AJ189,IF('Simulador Pagos Oportunos'!$W$45=4,'Tabla Pagos Oportunos'!AK189,AG189)))))","v":""},null,0,null,{"$f":"IF(B189<=0,0,IF('Simulador Pagos Oportunos'!$Y$80=1,0,B189*'Simulador Pagos Oportunos'!$Y$83))","v":0},null,{"$f":"IF(B189<=0,0,IF('Simulador Pagos Oportunos'!$W$45=1,'Simulador Pagos Oportunos'!$H$60,IF('Simulador Pagos Oportunos'!$W$45=2,'Simulador Pagos Oportunos'!$J$60,IF('Simulador Pagos Oportunos'!$W$45=3,'Simulador Pagos Oportunos'!$L$60,IF('Simulador Pagos Oportunos'!$W$45=4,'Simulador Pagos Oportunos'!$N$60)))))","v":0},null,0,null,null,null,14,2,0,0,0,0,{"$f":"AG188","v":9.9999999999999978E-2},null,null,{"$f":"AJ188","v":0.1225},0.1225,0,0,0,0,0,0,0,{"$f":"IF(AN189=0,\"\",IF('Simulador Pagos Oportunos'!$W$45=1,AH189,IF('Simulador Pagos Oportunos'!$W$45=2,AI189,IF('Simulador Pagos Oportunos'!$W$45=3,AJ189,IF('Simulador Pagos Oportunos'!$W$45=4,AK189,AG189)))))","v":""},{"$f":"IF(AN189<=0,0,IF('Simulador Pagos Oportunos'!$Y$80=1,0,AN189*'Simulador Pagos Oportunos'!$Y$83))+IF(AN189<=0,0,IF('Simulador Pagos Oportunos'!$W$45=1,'Simulador Pagos Oportunos'!$H$60,IF('Simulador Pagos Oportunos'!$W$45=2,'Simulador Pagos Oportunos'!$J$60,IF('Simulador Pagos Oportunos'!$W$45=3,'Simulador Pagos Oportunos'!$L$60,'Simulador Pagos Oportunos'!$N$60))))","v":0},null,0,0,"",0,170]
[171,0,null,0,null,0,null,0,null,null,null,null,{"$f":"IF(OR('Simulador Pagos Oportunos'!$U$15=5,'Simulador Pagos Oportunos'!$U$15=1,'Simulador Pagos Oportunos'!$U$15=3,'Simulador Pagos Oportunos'!$U$15=4),0,K190*'Simulador Pagos Oportunos'!$N$74*'Simulador Pagos Oportunos'!$V$21)","v":0},null,{"$f":"IF(B190=0,\"\",IF('Simulador Pagos Oportunos'!$W$45=1,AH190,IF('Simulador Pagos Oportunos'!$W$45=2,AI190,IF('Simulador Pagos Oportunos'!$W$45=3,AJ190,IF('Simulador Pagos Oportunos'!$W$45=4,'Tabla Pagos Oportunos'!AK190,AG190)))))","v":""},null,0,null,{"$f":"IF(B190<=0,0,IF('Simulador Pagos Oportunos'!$Y$80=1,0,B190*'Simulador Pagos Oportunos'!$Y$83))","v":0},null,{"$f":"IF(B190<=0,0,IF('Simulador Pagos Oportunos'!$W$45=1,'Simulador Pagos Oportunos'!$H$60,IF('Simulador Pagos Oportunos'!$W$45=2,'Simulador Pagos Oportunos'!$J$60,IF('Simulador Pagos Oportunos'!$W$45=3,'Simulador Pagos Oportunos'!$L$60,IF('Simulador Pagos Oportunos'!$W$45=4,'Simulador Pagos Oportunos'!$N$60)))))","v":0},null,0,null,null,null,14,3,0,0,0,0,{"$f":"AG189","v":9.9999999999999978E-2},null,null,0.1225,0.1225,0,0,0,0,0,0,0,{"$f":"IF(AN190=0,\"\",IF('Simulador Pagos Oportunos'!$W$45=1,AH190,IF('Simulador Pagos Oportunos'!$W$45=2,AI190,IF('Simulador Pagos Oportunos'!$W$45=3,AJ190,IF('Simulador Pagos Oportunos'!$W$45=4,AK190,AG190)))))","v":""},{"$f":"IF(AN190<=0,0,IF('Simulador Pagos Oportunos'!$Y$80=1,0,AN190*'Simulador Pagos Oportunos'!$Y$83))+IF(AN190<=0,0,IF('Simulador Pagos Oportunos'!$W$45=1,'Simulador Pagos Oportunos'!$H$60,IF('Simulador Pagos Oportunos'!$W$45=2,'Simulador Pagos Oportunos'!$J$60,IF('Simulador Pagos Oportunos'!$W$45=3,'Simulador Pagos Oportunos'!$L$60,'Simulador Pagos Oportunos'!$N$60))))","v":0},null,0,0,"",0,171]
[172,0,null,0,null,0,null,0,null,null,null,null,{"$f":"IF(OR('Simulador Pagos Oportunos'!$U$15=5,'Simulador Pagos Oportunos'!$U$15=1,'Simulador Pagos Oportunos'!$U$15=3,'Simulador Pagos Oportunos'!$U$15=4),0,K191*'Simulador Pagos Oportunos'!$N$74*'Simulador Pagos Oportunos'!$V$21)","v":0},null,{"$f":"IF(B191=0,\"\",IF('Simulador Pagos Oportunos'!$W$45=1,AH191,IF('Simulador Pagos Oportunos'!$W$45=2,AI191,IF('Simulador Pagos Oportunos'!$W$45=3,AJ191,IF('Simulador Pagos Oportunos'!$W$45=4,'Tabla Pagos Oportunos'!AK191,AG191)))))","v":""},null,0,null,{"$f":"IF(B191<=0,0,IF('Simulador Pagos Oportunos'!$Y$80=1,0,B191*'Simulador Pagos Oportunos'!$Y$83))","v":0},null,{"$f":"IF(B191<=0,0,IF('Simulador Pagos Oportunos'!$W$45=1,'Simulador Pagos Oportunos'!$H$60,IF('Simulador Pagos Oportunos'!$W$45=2,'Simulador Pagos Oportunos'!$J$60,IF('Simulador Pagos Oportunos'!$W$45=3,'Simulador Pagos Oportunos'!$L$60,IF('Simulador Pagos Oportunos'!$W$45=4,'Simulador Pagos Oportunos'!$N$60)))))","v":0},null,0,null,null,null,14,4,0,0,0,0,9.9999999999999978E-2,null,null,0.1225,0.1225,0,0,0,0,0,0,0,{"$f":"IF(AN191=0,\"\",IF('Simulador Pagos Oportunos'!$W$45=1,AH191,IF('Simulador Pagos Oportunos'!$W$45=2,AI191,IF('Simulador Pagos Oportunos'!$W$45=3,AJ191,IF('Simulador Pagos Oportunos'!$W$45=4,AK191,AG191)))))","v":""},{"$f":"IF(AN191<=0,0,IF('Simulador Pagos Oportunos'!$Y$80=1,0,AN191*'Simulador Pagos Oportunos'!$Y$83))+IF(AN191<=0,0,IF('Simulador Pagos Oportunos'!$W$45=1,'Simulador Pagos Oportunos'!$H$60,IF('Simulador Pagos Oportunos'!$W$45=2,'Simulador Pagos Oportunos'!$J$60,IF('Simulador Pagos Oportunos'!$W$45=3,'Simulador Pagos Oportunos'!$L$60,'Simulador Pagos Oportunos'!$N$60))))","v":0},null,0,0,"",0,172]
[173,0,null,0,null,0,null,0,null,null,null,null,{"$f":"IF(OR('Simulador Pagos Oportunos'!$U$15=5,'Simulador Pagos Oportunos'!$U$15=1,'Simulador Pagos Oportunos'!$U$15=3,'Simulador Pagos Oportunos'!$U$15=4),0,K192*'Simulador Pagos Oportunos'!$N$74*'Simulador Pagos Oportunos'!$V$21)","v":0},null,{"$f":"IF(B192=0,\"\",IF('Simulador Pagos Oportunos'!$W$45=1,AH192,IF('Simulador Pagos Oportunos'!$W$45=2,AI192,IF('Simulador Pagos Oportunos'!$W$45=3,AJ192,IF('Simulador Pagos Oportunos'!$W$45=4,'Tabla Pagos Oportunos'!AK192,AG192)))))","v":""},null,0,null,{"$f":"IF(B192<=0,0,IF('Simulador Pagos Oportunos'!$Y$80=1,0,B192*'Simulador Pagos Oportunos'!$Y$83))","v":0},null,{"$f":"IF(B192<=0,0,IF('Simulador Pagos Oportunos'!$W$45=1,'Simulador Pagos Oportunos'!$H$60,IF('Simulador Pagos Oportunos'!$W$45=2,'Simulador Pagos Oportunos'!$J$60,IF('Simulador Pagos Oportunos'!$W$45=3,'Simulador Pagos Oportunos'!$L$60,IF('Simulador Pagos Oportunos'!$W$45=4,'Simulador Pagos Oportunos'!$N$60)))))","v":0},null,0,null,null,null,14,5,0,0,0,0,9.9999999999999978E-2,null,null,0.1225,0.1225,0,0,0,0,0,0,0,{"$f":"IF(AN192=0,\"\",IF('Simulador Pagos Oportunos'!$W$45=1,AH192,IF('Simulador Pagos Oportunos'!$W$45=2,AI192,IF('Simulador Pagos Oportunos'!$W$45=3,AJ192,IF('Simulador Pagos Oportunos'!$W$45=4,AK192,AG192)))))","v":""},{"$f":"IF(AN192<=0,0,IF('Simulador Pagos Oportunos'!$Y$80=1,0,AN192*'Simulador Pagos Oportunos'!$Y$83))+IF(AN192<=0,0,IF('Simulador Pagos Oportunos'!$W$45=1,'Simulador Pagos Oportunos'!$H$60,IF('Simulador Pagos Oportunos'!$W$45=2,'Simulador Pagos Oportunos'!$J$60,IF('Simulador Pagos Oportunos'!$W$45=3,'Simulador Pagos Oportunos'!$L$60,'Simulador Pagos Oportunos'!$N$60))))","v":0},null,0,0,"",0,173]
[174,0,null,0,null,0,null,0,null,null,null,null,{"$f":"IF(OR('Simulador Pagos Oportunos'!$U$15=5,'Simulador Pagos Oportunos'!$U$15=1,'Simulador Pagos Oportunos'!$U$15=3,'Simulador Pagos Oportunos'!$U$15=4),0,K193*'Simulador Pagos Oportunos'!$N$74*'Simulador Pagos Oportunos'!$V$21)","v":0},null,{"$f":"IF(B193=0,\"\",IF('Simulador Pagos Oportunos'!$W$45=1,AH193,IF('Simulador Pagos Oportunos'!$W$45=2,AI193,IF('Simulador Pagos Oportunos'!$W$45=3,AJ193,IF('Simulador Pagos Oportunos'!$W$45=4,'Tabla Pagos Oportunos'!AK193,AG193)))))","v":""},null,0,null,{"$f":"IF(B193<=0,0,IF('Simulador Pagos Oportunos'!$Y$80=1,0,B193*'Simulador Pagos Oportunos'!$Y$83))","v":0},null,{"$f":"IF(B193<=0,0,IF('Simulador Pagos Oportunos'!$W$45=1,'Simulador Pagos Oportunos'!$H$60,IF('Simulador Pagos Oportunos'!$W$45=2,'Simulador Pagos Oportunos'!$J$60,IF('Simulador Pagos Oportunos'!$W$45=3,'Simulador Pagos Oportunos'!$L$60,IF('Simulador Pagos Oportunos'!$W$45=4,'Simulador Pagos Oportunos'!$N$60)))))","v":0},null,0,null,null,null,14,6,0,0,0,0,9.9999999999999978E-2,null,null,0.1225,0.1225,0,0,0,0,0,0,0,{"$f":"IF(AN193=0,\"\",IF('Simulador Pagos Oportunos'!$W$45=1,AH193,IF('Simulador Pagos Oportunos'!$W$45=2,AI193,IF('Simulador Pagos Oportunos'!$W$45=3,AJ193,IF('Simulador Pagos Oportunos'!$W$45=4,AK193,AG193)))))","v":""},{"$f":"IF(AN193<=0,0,IF('Simulador Pagos Oportunos'!$Y$80=1,0,AN193*'Simulador Pagos Oportunos'!$Y$83))+IF(AN193<=0,0,IF('Simulador Pagos Oportunos'!$W$45=1,'Simulador Pagos Oportunos'!$H$60,IF('Simulador Pagos Oportunos'!$W$45=2,'Simulador Pagos Oportunos'!$J$60,IF('Simulador Pagos Oportunos'!$W$45=3,'Simulador Pagos Oportunos'!$L$60,'Simulador Pagos Oportunos'!$N$60))))","v":0},null,0,0,"",0,174]
[175,0,null,0,null,0,null,0,null,null,null,null,{"$f":"IF(OR('Simulador Pagos Oportunos'!$U$15=5,'Simulador Pagos Oportunos'!$U$15=1,'Simulador Pagos Oportunos'!$U$15=3,'Simulador Pagos Oportunos'!$U$15=4),0,K194*'Simulador Pagos Oportunos'!$N$74*'Simulador Pagos Oportunos'!$V$21)","v":0},null,{"$f":"IF(B194=0,\"\",IF('Simulador Pagos Oportunos'!$W$45=1,AH194,IF('Simulador Pagos Oportunos'!$W$45=2,AI194,IF('Simulador Pagos Oportunos'!$W$45=3,AJ194,IF('Simulador Pagos Oportunos'!$W$45=4,'Tabla Pagos Oportunos'!AK194,AG194)))))","v":""},null,0,null,{"$f":"IF(B194<=0,0,IF('Simulador Pagos Oportunos'!$Y$80=1,0,B194*'Simulador Pagos Oportunos'!$Y$83))","v":0},null,{"$f":"IF(B194<=0,0,IF('Simulador Pagos Oportunos'!$W$45=1,'Simulador Pagos Oportunos'!$H$60,IF('Simulador Pagos Oportunos'!$W$45=2,'Simulador Pagos Oportunos'!$J$60,IF('Simulador Pagos Oportunos'!$W$45=3,'Simulador Pagos Oportunos'!$L$60,IF('Simulador Pagos Oportunos'!$W$45=4,'Simulador Pagos Oportunos'!$N$60)))))","v":0},null,0,null,null,null,14,7,0,0,0,0,9.9999999999999978E-2,null,null,0.1225,0.1225,0,0,0,0,0,0,0,{"$f":"IF(AN194=0,\"\",IF('Simulador Pagos Oportunos'!$W$45=1,AH194,IF('Simulador Pagos Oportunos'!$W$45=2,AI194,IF('Simulador Pagos Oportunos'!$W$45=3,AJ194,IF('Simulador Pagos Oportunos'!$W$45=4,AK194,AG194)))))","v":""},{"$f":"IF(AN194<=0,0,IF('Simulador Pagos Oportunos'!$Y$80=1,0,AN194*'Simulador Pagos Oportunos'!$Y$83))+IF(AN194<=0,0,IF('Simulador Pagos Oportunos'!$W$45=1,'Simulador Pagos Oportunos'!$H$60,IF('Simulador Pagos Oportunos'!$W$45=2,'Simulador Pagos Oportunos'!$J$60,IF('Simulador Pagos Oportunos'!$W$45=3,'Simulador Pagos Oportunos'!$L$60,'Simulador Pagos Oportunos'!$N$60))))","v":0},null,0,0,"",0,175]
[176,0,null,0,null,0,null,0,null,null,null,null,{"$f":"IF(OR('Simulador Pagos Oportunos'!$U$15=5,'Simulador Pagos Oportunos'!$U$15=1,'Simulador Pagos Oportunos'!$U$15=3,'Simulador Pagos Oportunos'!$U$15=4),0,K195*'Simulador Pagos Oportunos'!$N$74*'Simulador Pagos Oportunos'!$V$21)","v":0},null,{"$f":"IF(B195=0,\"\",IF('Simulador Pagos Oportunos'!$W$45=1,AH195,IF('Simulador Pagos Oportunos'!$W$45=2,AI195,IF('Simulador Pagos Oportunos'!$W$45=3,AJ195,IF('Simulador Pagos Oportunos'!$W$45=4,'Tabla Pagos Oportunos'!AK195,AG195)))))","v":""},null,0,null,{"$f":"IF(B195<=0,0,IF('Simulador Pagos Oportunos'!$Y$80=1,0,B195*'Simulador Pagos Oportunos'!$Y$83))","v":0},null,{"$f":"IF(B195<=0,0,IF('Simulador Pagos Oportunos'!$W$45=1,'Simulador Pagos Oportunos'!$H$60,IF('Simulador Pagos Oportunos'!$W$45=2,'Simulador Pagos Oportunos'!$J$60,IF('Simulador Pagos Oportunos'!$W$45=3,'Simulador Pagos Oportunos'!$L$60,IF('Simulador Pagos Oportunos'!$W$45=4,'Simulador Pagos Oportunos'!$N$60)))))","v":0},null,0,null,null,null,14,8,0,0,0,0,9.9999999999999978E-2,null,null,0.1225,0.1225,0,0,0,0,0,0,0,{"$f":"IF(AN195=0,\"\",IF('Simulador Pagos Oportunos'!$W$45=1,AH195,IF('Simulador Pagos Oportunos'!$W$45=2,AI195,IF('Simulador Pagos Oportunos'!$W$45=3,AJ195,IF('Simulador Pagos Oportunos'!$W$45=4,AK195,AG195)))))","v":""},{"$f":"IF(AN195<=0,0,IF('Simulador Pagos Oportunos'!$Y$80=1,0,AN195*'Simulador Pagos Oportunos'!$Y$83))+IF(AN195<=0,0,IF('Simulador Pagos Oportunos'!$W$45=1,'Simulador Pagos Oportunos'!$H$60,IF('Simulador Pagos Oportunos'!$W$45=2,'Simulador Pagos Oportunos'!$J$60,IF('Simulador Pagos Oportunos'!$W$45=3,'Simulador Pagos Oportunos'!$L$60,'Simulador Pagos Oportunos'!$N$60))))","v":0},null,0,0,"",0,176]
[177,0,null,0,null,0,null,0,null,null,null,null,{"$f":"IF(OR('Simulador Pagos Oportunos'!$U$15=5,'Simulador Pagos Oportunos'!$U$15=1,'Simulador Pagos Oportunos'!$U$15=3,'Simulador Pagos Oportunos'!$U$15=4),0,K196*'Simulador Pagos Oportunos'!$N$74*'Simulador Pagos Oportunos'!$V$21)","v":0},null,{"$f":"IF(B196=0,\"\",IF('Simulador Pagos Oportunos'!$W$45=1,AH196,IF('Simulador Pagos Oportunos'!$W$45=2,AI196,IF('Simulador Pagos Oportunos'!$W$45=3,AJ196,IF('Simulador Pagos Oportunos'!$W$45=4,'Tabla Pagos Oportunos'!AK196,AG196)))))","v":""},null,0,null,{"$f":"IF(B196<=0,0,IF('Simulador Pagos Oportunos'!$Y$80=1,0,B196*'Simulador Pagos Oportunos'!$Y$83))","v":0},null,{"$f":"IF(B196<=0,0,IF('Simulador Pagos Oportunos'!$W$45=1,'Simulador Pagos Oportunos'!$H$60,IF('Simulador Pagos Oportunos'!$W$45=2,'Simulador Pagos Oportunos'!$J$60,IF('Simulador Pagos Oportunos'!$W$45=3,'Simulador Pagos Oportunos'!$L$60,IF('Simulador Pagos Oportunos'!$W$45=4,'Simulador Pagos Oportunos'!$N$60)))))","v":0},null,0,null,null,null,14,9,0,0,0,0,9.9999999999999978E-2,null,null,0.1225,0.1225,0,0,0,0,0,0,0,{"$f":"IF(AN196=0,\"\",IF('Simulador Pagos Oportunos'!$W$45=1,AH196,IF('Simulador Pagos Oportunos'!$W$45=2,AI196,IF('Simulador Pagos Oportunos'!$W$45=3,AJ196,IF('Simulador Pagos Oportunos'!$W$45=4,AK196,AG196)))))","v":""},{"$f":"IF(AN196<=0,0,IF('Simulador Pagos Oportunos'!$Y$80=1,0,AN196*'Simulador Pagos Oportunos'!$Y$83))+IF(AN196<=0,0,IF('Simulador Pagos Oportunos'!$W$45=1,'Simulador Pagos Oportunos'!$H$60,IF('Simulador Pagos Oportunos'!$W$45=2,'Simulador Pagos Oportunos'!$J$60,IF('Simulador Pagos Oportunos'!$W$45=3,'Simulador Pagos Oportunos'!$L$60,'Simulador Pagos Oportunos'!$N$60))))","v":0},null,0,0,"",0,177]
[178,0,null,0,null,0,null,0,null,null,null,null,{"$f":"IF(OR('Simulador Pagos Oportunos'!$U$15=5,'Simulador Pagos Oportunos'!$U$15=1,'Simulador Pagos Oportunos'!$U$15=3,'Simulador Pagos Oportunos'!$U$15=4),0,K197*'Simulador Pagos Oportunos'!$N$74*'Simulador Pagos Oportunos'!$V$21)","v":0},null,{"$f":"IF(B197=0,\"\",IF('Simulador Pagos Oportunos'!$W$45=1,AH197,IF('Simulador Pagos Oportunos'!$W$45=2,AI197,IF('Simulador Pagos Oportunos'!$W$45=3,AJ197,IF('Simulador Pagos Oportunos'!$W$45=4,'Tabla Pagos Oportunos'!AK197,AG197)))))","v":""},null,0,null,{"$f":"IF(B197<=0,0,IF('Simulador Pagos Oportunos'!$Y$80=1,0,B197*'Simulador Pagos Oportunos'!$Y$83))","v":0},null,{"$f":"IF(B197<=0,0,IF('Simulador Pagos Oportunos'!$W$45=1,'Simulador Pagos Oportunos'!$H$60,IF('Simulador Pagos Oportunos'!$W$45=2,'Simulador Pagos Oportunos'!$J$60,IF('Simulador Pagos Oportunos'!$W$45=3,'Simulador Pagos Oportunos'!$L$60,IF('Simulador Pagos Oportunos'!$W$45=4,'Simulador Pagos Oportunos'!$N$60)))))","v":0},null,0,null,null,null,14,10,0,0,0,0,9.9999999999999978E-2,null,null,0.1225,0.1225,0,0,0,0,0,0,0,{"$f":"IF(AN197=0,\"\",IF('Simulador Pagos Oportunos'!$W$45=1,AH197,IF('Simulador Pagos Oportunos'!$W$45=2,AI197,IF('Simulador Pagos Oportunos'!$W$45=3,AJ197,IF('Simulador Pagos Oportunos'!$W$45=4,AK197,AG197)))))","v":""},{"$f":"IF(AN197<=0,0,IF('Simulador Pagos Oportunos'!$Y$80=1,0,AN197*'Simulador Pagos Oportunos'!$Y$83))+IF(AN197<=0,0,IF('Simulador Pagos Oportunos'!$W$45=1,'Simulador Pagos Oportunos'!$H$60,IF('Simulador Pagos Oportunos'!$W$45=2,'Simulador Pagos Oportunos'!$J$60,IF('Simulador Pagos Oportunos'!$W$45=3,'Simulador Pagos Oportunos'!$L$60,'Simulador Pagos Oportunos'!$N$60))))","v":0},null,0,0,"",0,178]
[179,0,null,0,null,0,null,0,null,null,null,null,{"$f":"IF(OR('Simulador Pagos Oportunos'!$U$15=5,'Simulador Pagos Oportunos'!$U$15=1,'Simulador Pagos Oportunos'!$U$15=3,'Simulador Pagos Oportunos'!$U$15=4),0,K198*'Simulador Pagos Oportunos'!$N$74*'Simulador Pagos Oportunos'!$V$21)","v":0},null,{"$f":"IF(B198=0,\"\",IF('Simulador Pagos Oportunos'!$W$45=1,AH198,IF('Simulador Pagos Oportunos'!$W$45=2,AI198,IF('Simulador Pagos Oportunos'!$W$45=3,AJ198,IF('Simulador Pagos Oportunos'!$W$45=4,'Tabla Pagos Oportunos'!AK198,AG198)))))","v":""},null,0,null,{"$f":"IF(B198<=0,0,IF('Simulador Pagos Oportunos'!$Y$80=1,0,B198*'Simulador Pagos Oportunos'!$Y$83))","v":0},null,{"$f":"IF(B198<=0,0,IF('Simulador Pagos Oportunos'!$W$45=1,'Simulador Pagos Oportunos'!$H$60,IF('Simulador Pagos Oportunos'!$W$45=2,'Simulador Pagos Oportunos'!$J$60,IF('Simulador Pagos Oportunos'!$W$45=3,'Simulador Pagos Oportunos'!$L$60,IF('Simulador Pagos Oportunos'!$W$45=4,'Simulador Pagos Oportunos'!$N$60)))))","v":0},null,0,null,null,null,14,11,0,0,0,0,9.9999999999999978E-2,null,null,0.1225,0.1225,0,0,0,0,0,0,0,{"$f":"IF(AN198=0,\"\",IF('Simulador Pagos Oportunos'!$W$45=1,AH198,IF('Simulador Pagos Oportunos'!$W$45=2,AI198,IF('Simulador Pagos Oportunos'!$W$45=3,AJ198,IF('Simulador Pagos Oportunos'!$W$45=4,AK198,AG198)))))","v":""},{"$f":"IF(AN198<=0,0,IF('Simulador Pagos Oportunos'!$Y$80=1,0,AN198*'Simulador Pagos Oportunos'!$Y$83))+IF(AN198<=0,0,IF('Simulador Pagos Oportunos'!$W$45=1,'Simulador Pagos Oportunos'!$H$60,IF('Simulador Pagos Oportunos'!$W$45=2,'Simulador Pagos Oportunos'!$J$60,IF('Simulador Pagos Oportunos'!$W$45=3,'Simulador Pagos Oportunos'!$L$60,'Simulador Pagos Oportunos'!$N$60))))","v":0},null,0,0,"",0,179]
[180,0,null,0,null,0,null,0,null,null,null,null,{"$f":"IF(OR('Simulador Pagos Oportunos'!$U$15=5,'Simulador Pagos Oportunos'!$U$15=1,'Simulador Pagos Oportunos'!$U$15=3,'Simulador Pagos Oportunos'!$U$15=4),0,K199*'Simulador Pagos Oportunos'!$N$74*'Simulador Pagos Oportunos'!$V$21)","v":0},null,{"$f":"IF(B199=0,\"\",IF('Simulador Pagos Oportunos'!$W$45=1,AH199,IF('Simulador Pagos Oportunos'!$W$45=2,AI199,IF('Simulador Pagos Oportunos'!$W$45=3,AJ199,IF('Simulador Pagos Oportunos'!$W$45=4,'Tabla Pagos Oportunos'!AK199,AG199)))))","v":""},null,0,null,{"$f":"IF(B199<=0,0,IF('Simulador Pagos Oportunos'!$Y$80=1,0,B199*'Simulador Pagos Oportunos'!$Y$83))","v":0},null,{"$f":"IF(B199<=0,0,IF('Simulador Pagos Oportunos'!$W$45=1,'Simulador Pagos Oportunos'!$H$60,IF('Simulador Pagos Oportunos'!$W$45=2,'Simulador Pagos Oportunos'!$J$60,IF('Simulador Pagos Oportunos'!$W$45=3,'Simulador Pagos Oportunos'!$L$60,IF('Simulador Pagos Oportunos'!$W$45=4,'Simulador Pagos Oportunos'!$N$60)))))","v":0},null,0,null,null,null,15,0,0,0,0,0,9.9999999999999978E-2,null,null,0.1225,0.1225,0,0,0,0,0,0,0,{"$f":"IF(AN199=0,\"\",IF('Simulador Pagos Oportunos'!$W$45=1,AH199,IF('Simulador Pagos Oportunos'!$W$45=2,AI199,IF('Simulador Pagos Oportunos'!$W$45=3,AJ199,IF('Simulador Pagos Oportunos'!$W$45=4,AK199,AG199)))))","v":""},{"$f":"IF(AN199<=0,0,IF('Simulador Pagos Oportunos'!$Y$80=1,0,AN199*'Simulador Pagos Oportunos'!$Y$83))+IF(AN199<=0,0,IF('Simulador Pagos Oportunos'!$W$45=1,'Simulador Pagos Oportunos'!$H$60,IF('Simulador Pagos Oportunos'!$W$45=2,'Simulador Pagos Oportunos'!$J$60,IF('Simulador Pagos Oportunos'!$W$45=3,'Simulador Pagos Oportunos'!$L$60,'Simulador Pagos Oportunos'!$N$60))))","v":0},null,0,0,"",0,180]
[181,0,null,0,null,0,null,0,null,null,null,null,{"$f":"IF(OR('Simulador Pagos Oportunos'!$U$15=5,'Simulador Pagos Oportunos'!$U$15=1,'Simulador Pagos Oportunos'!$U$15=3,'Simulador Pagos Oportunos'!$U$15=4),0,K200*'Simulador Pagos Oportunos'!$N$74*'Simulador Pagos Oportunos'!$V$21)","v":0},null,{"$f":"IF(B200=0,\"\",IF('Simulador Pagos Oportunos'!$W$45=1,AH200,IF('Simulador Pagos Oportunos'!$W$45=2,AI200,IF('Simulador Pagos Oportunos'!$W$45=3,AJ200,IF('Simulador Pagos Oportunos'!$W$45=4,'Tabla Pagos Oportunos'!AK200,AG200)))))","v":""},null,0,null,{"$f":"IF(B200<=0,0,IF('Simulador Pagos Oportunos'!$Y$80=1,0,B200*'Simulador Pagos Oportunos'!$Y$83))","v":0},null,{"$f":"IF(B200<=0,0,IF('Simulador Pagos Oportunos'!$W$45=1,'Simulador Pagos Oportunos'!$H$60,IF('Simulador Pagos Oportunos'!$W$45=2,'Simulador Pagos Oportunos'!$J$60,IF('Simulador Pagos Oportunos'!$W$45=3,'Simulador Pagos Oportunos'!$L$60,IF('Simulador Pagos Oportunos'!$W$45=4,'Simulador Pagos Oportunos'!$N$60)))))","v":0},null,0,null,{"$f":"IF(B200<=0,0,IF(OR('Simulador Pagos Oportunos'!$W$45=4,'Simulador Pagos Oportunos'!$W$45=5),0,'Simulador Pagos Oportunos'!$AG$62))","v":0},null,15,1,0,0,0,0,{"$f":"IF(AG199=$AG$4,AG199,IF(AG199-0.25%<=$AG$4,$AG$4,AG199-0.25%))","v":9.7499999999999976E-2},null,null,null,0.1225,0,0,0,0,0,0,0,{"$f":"IF(AN200=0,\"\",IF('Simulador Pagos Oportunos'!$W$45=1,AH200,IF('Simulador Pagos Oportunos'!$W$45=2,AI200,IF('Simulador Pagos Oportunos'!$W$45=3,AJ200,IF('Simulador Pagos Oportunos'!$W$45=4,AK200,AG200)))))","v":""},{"$f":"IF(AN200<=0,0,IF('Simulador Pagos Oportunos'!$Y$80=1,0,AN200*'Simulador Pagos Oportunos'!$Y$83))+IF(AN200<=0,0,IF('Simulador Pagos Oportunos'!$W$45=1,'Simulador Pagos Oportunos'!$H$60,IF('Simulador Pagos Oportunos'!$W$45=2,'Simulador Pagos Oportunos'!$J$60,IF('Simulador Pagos Oportunos'!$W$45=3,'Simulador Pagos Oportunos'!$L$60,'Simulador Pagos Oportunos'!$N$60))))","v":0},{"$f":"IF(AN200<=0,0,$AU$32)","v":0},0,0,"",0,181]
[182,0,null,0,null,0,null,0,null,null,null,null,{"$f":"IF(OR('Simulador Pagos Oportunos'!$U$15=5,'Simulador Pagos Oportunos'!$U$15=1,'Simulador Pagos Oportunos'!$U$15=3,'Simulador Pagos Oportunos'!$U$15=4),0,K201*'Simulador Pagos Oportunos'!$N$74*'Simulador Pagos Oportunos'!$V$21)","v":0},null,{"$f":"IF(B201=0,\"\",IF('Simulador Pagos Oportunos'!$W$45=1,AH201,IF('Simulador Pagos Oportunos'!$W$45=2,AI201,IF('Simulador Pagos Oportunos'!$W$45=3,AJ201,IF('Simulador Pagos Oportunos'!$W$45=4,'Tabla Pagos Oportunos'!AK201,AG201)))))","v":""},null,0,null,{"$f":"IF(B201<=0,0,IF('Simulador Pagos Oportunos'!$Y$80=1,0,B201*'Simulador Pagos Oportunos'!$Y$83))","v":0},null,{"$f":"IF(B201<=0,0,IF('Simulador Pagos Oportunos'!$W$45=1,'Simulador Pagos Oportunos'!$H$60,IF('Simulador Pagos Oportunos'!$W$45=2,'Simulador Pagos Oportunos'!$J$60,IF('Simulador Pagos Oportunos'!$W$45=3,'Simulador Pagos Oportunos'!$L$60,IF('Simulador Pagos Oportunos'!$W$45=4,'Simulador Pagos Oportunos'!$N$60)))))","v":0},null,0,null,null,null,15,2,0,0,0,0,{"$f":"AG200","v":9.7499999999999976E-2},null,null,null,0.1225,0,0,0,0,0,0,0,{"$f":"IF(AN201=0,\"\",IF('Simulador Pagos Oportunos'!$W$45=1,AH201,IF('Simulador Pagos Oportunos'!$W$45=2,AI201,IF('Simulador Pagos Oportunos'!$W$45=3,AJ201,IF('Simulador Pagos Oportunos'!$W$45=4,AK201,AG201)))))","v":""},{"$f":"IF(AN201<=0,0,IF('Simulador Pagos Oportunos'!$Y$80=1,0,AN201*'Simulador Pagos Oportunos'!$Y$83))+IF(AN201<=0,0,IF('Simulador Pagos Oportunos'!$W$45=1,'Simulador Pagos Oportunos'!$H$60,IF('Simulador Pagos Oportunos'!$W$45=2,'Simulador Pagos Oportunos'!$J$60,IF('Simulador Pagos Oportunos'!$W$45=3,'Simulador Pagos Oportunos'!$L$60,'Simulador Pagos Oportunos'!$N$60))))","v":0},null,0,0,"",0,182]
[183,0,null,0,null,0,null,0,null,null,null,null,{"$f":"IF(OR('Simulador Pagos Oportunos'!$U$15=5,'Simulador Pagos Oportunos'!$U$15=1,'Simulador Pagos Oportunos'!$U$15=3,'Simulador Pagos Oportunos'!$U$15=4),0,K202*'Simulador Pagos Oportunos'!$N$74*'Simulador Pagos Oportunos'!$V$21)","v":0},null,{"$f":"IF(B202=0,\"\",IF('Simulador Pagos Oportunos'!$W$45=1,AH202,IF('Simulador Pagos Oportunos'!$W$45=2,AI202,IF('Simulador Pagos Oportunos'!$W$45=3,AJ202,IF('Simulador Pagos Oportunos'!$W$45=4,'Tabla Pagos Oportunos'!AK202,AG202)))))","v":""},null,0,null,{"$f":"IF(B202<=0,0,IF('Simulador Pagos Oportunos'!$Y$80=1,0,B202*'Simulador Pagos Oportunos'!$Y$83))","v":0},null,{"$f":"IF(B202<=0,0,IF('Simulador Pagos Oportunos'!$W$45=1,'Simulador Pagos Oportunos'!$H$60,IF('Simulador Pagos Oportunos'!$W$45=2,'Simulador Pagos Oportunos'!$J$60,IF('Simulador Pagos Oportunos'!$W$45=3,'Simulador Pagos Oportunos'!$L$60,IF('Simulador Pagos Oportunos'!$W$45=4,'Simulador Pagos Oportunos'!$N$60)))))","v":0},null,0,null,null,null,15,3,0,0,0,0,{"$f":"AG201","v":9.7499999999999976E-2},null,null,null,0.1225,0,0,0,0,0,0,0,{"$f":"IF(AN202=0,\"\",IF('Simulador Pagos Oportunos'!$W$45=1,AH202,IF('Simulador Pagos Oportunos'!$W$45=2,AI202,IF('Simulador Pagos Oportunos'!$W$45=3,AJ202,IF('Simulador Pagos Oportunos'!$W$45=4,AK202,AG202)))))","v":""},{"$f":"IF(AN202<=0,0,IF('Simulador Pagos Oportunos'!$Y$80=1,0,AN202*'Simulador Pagos Oportunos'!$Y$83))+IF(AN202<=0,0,IF('Simulador Pagos Oportunos'!$W$45=1,'Simulador Pagos Oportunos'!$H$60,IF('Simulador Pagos Oportunos'!$W$45=2,'Simulador Pagos Oportunos'!$J$60,IF('Simulador Pagos Oportunos'!$W$45=3,'Simulador Pagos Oportunos'!$L$60,'Simulador Pagos Oportunos'!$N$60))))","v":0},null,0,0,"",0,183]
[184,0,null,0,null,0,null,0,null,null,null,null,{"$f":"IF(OR('Simulador Pagos Oportunos'!$U$15=5,'Simulador Pagos Oportunos'!$U$15=1,'Simulador Pagos Oportunos'!$U$15=3,'Simulador Pagos Oportunos'!$U$15=4),0,K203*'Simulador Pagos Oportunos'!$N$74*'Simulador Pagos Oportunos'!$V$21)","v":0},null,{"$f":"IF(B203=0,\"\",IF('Simulador Pagos Oportunos'!$W$45=1,AH203,IF('Simulador Pagos Oportunos'!$W$45=2,AI203,IF('Simulador Pagos Oportunos'!$W$45=3,AJ203,IF('Simulador Pagos Oportunos'!$W$45=4,'Tabla Pagos Oportunos'!AK203,AG203)))))","v":""},null,0,null,{"$f":"IF(B203<=0,0,IF('Simulador Pagos Oportunos'!$Y$80=1,0,B203*'Simulador Pagos Oportunos'!$Y$83))","v":0},null,{"$f":"IF(B203<=0,0,IF('Simulador Pagos Oportunos'!$W$45=1,'Simulador Pagos Oportunos'!$H$60,IF('Simulador Pagos Oportunos'!$W$45=2,'Simulador Pagos Oportunos'!$J$60,IF('Simulador Pagos Oportunos'!$W$45=3,'Simulador Pagos Oportunos'!$L$60,IF('Simulador Pagos Oportunos'!$W$45=4,'Simulador Pagos Oportunos'!$N$60)))))","v":0},null,0,null,null,null,15,4,0,0,0,0,9.7499999999999976E-2,null,null,null,0.1225,0,0,0,0,0,0,0,{"$f":"IF(AN203=0,\"\",IF('Simulador Pagos Oportunos'!$W$45=1,AH203,IF('Simulador Pagos Oportunos'!$W$45=2,AI203,IF('Simulador Pagos Oportunos'!$W$45=3,AJ203,IF('Simulador Pagos Oportunos'!$W$45=4,AK203,AG203)))))","v":""},{"$f":"IF(AN203<=0,0,IF('Simulador Pagos Oportunos'!$Y$80=1,0,AN203*'Simulador Pagos Oportunos'!$Y$83))+IF(AN203<=0,0,IF('Simulador Pagos Oportunos'!$W$45=1,'Simulador Pagos Oportunos'!$H$60,IF('Simulador Pagos Oportunos'!$W$45=2,'Simulador Pagos Oportunos'!$J$60,IF('Simulador Pagos Oportunos'!$W$45=3,'Simulador Pagos Oportunos'!$L$60,'Simulador Pagos Oportunos'!$N$60))))","v":0},null,0,0,"",0,184]
[185,0,null,0,null,0,null,0,null,null,null,null,{"$f":"IF(OR('Simulador Pagos Oportunos'!$U$15=5,'Simulador Pagos Oportunos'!$U$15=1,'Simulador Pagos Oportunos'!$U$15=3,'Simulador Pagos Oportunos'!$U$15=4),0,K204*'Simulador Pagos Oportunos'!$N$74*'Simulador Pagos Oportunos'!$V$21)","v":0},null,{"$f":"IF(B204=0,\"\",IF('Simulador Pagos Oportunos'!$W$45=1,AH204,IF('Simulador Pagos Oportunos'!$W$45=2,AI204,IF('Simulador Pagos Oportunos'!$W$45=3,AJ204,IF('Simulador Pagos Oportunos'!$W$45=4,'Tabla Pagos Oportunos'!AK204,AG204)))))","v":""},null,0,null,{"$f":"IF(B204<=0,0,IF('Simulador Pagos Oportunos'!$Y$80=1,0,B204*'Simulador Pagos Oportunos'!$Y$83))","v":0},null,{"$f":"IF(B204<=0,0,IF('Simulador Pagos Oportunos'!$W$45=1,'Simulador Pagos Oportunos'!$H$60,IF('Simulador Pagos Oportunos'!$W$45=2,'Simulador Pagos Oportunos'!$J$60,IF('Simulador Pagos Oportunos'!$W$45=3,'Simulador Pagos Oportunos'!$L$60,IF('Simulador Pagos Oportunos'!$W$45=4,'Simulador Pagos Oportunos'!$N$60)))))","v":0},null,0,null,null,null,15,5,0,0,0,0,9.7499999999999976E-2,null,null,null,0.1225,0,0,0,0,0,0,0,{"$f":"IF(AN204=0,\"\",IF('Simulador Pagos Oportunos'!$W$45=1,AH204,IF('Simulador Pagos Oportunos'!$W$45=2,AI204,IF('Simulador Pagos Oportunos'!$W$45=3,AJ204,IF('Simulador Pagos Oportunos'!$W$45=4,AK204,AG204)))))","v":""},{"$f":"IF(AN204<=0,0,IF('Simulador Pagos Oportunos'!$Y$80=1,0,AN204*'Simulador Pagos Oportunos'!$Y$83))+IF(AN204<=0,0,IF('Simulador Pagos Oportunos'!$W$45=1,'Simulador Pagos Oportunos'!$H$60,IF('Simulador Pagos Oportunos'!$W$45=2,'Simulador Pagos Oportunos'!$J$60,IF('Simulador Pagos Oportunos'!$W$45=3,'Simulador Pagos Oportunos'!$L$60,'Simulador Pagos Oportunos'!$N$60))))","v":0},null,0,0,"",0,185]
[186,0,null,0,null,0,null,0,null,null,null,null,{"$f":"IF(OR('Simulador Pagos Oportunos'!$U$15=5,'Simulador Pagos Oportunos'!$U$15=1,'Simulador Pagos Oportunos'!$U$15=3,'Simulador Pagos Oportunos'!$U$15=4),0,K205*'Simulador Pagos Oportunos'!$N$74*'Simulador Pagos Oportunos'!$V$21)","v":0},null,{"$f":"IF(B205=0,\"\",IF('Simulador Pagos Oportunos'!$W$45=1,AH205,IF('Simulador Pagos Oportunos'!$W$45=2,AI205,IF('Simulador Pagos Oportunos'!$W$45=3,AJ205,IF('Simulador Pagos Oportunos'!$W$45=4,'Tabla Pagos Oportunos'!AK205,AG205)))))","v":""},null,0,null,{"$f":"IF(B205<=0,0,IF('Simulador Pagos Oportunos'!$Y$80=1,0,B205*'Simulador Pagos Oportunos'!$Y$83))","v":0},null,{"$f":"IF(B205<=0,0,IF('Simulador Pagos Oportunos'!$W$45=1,'Simulador Pagos Oportunos'!$H$60,IF('Simulador Pagos Oportunos'!$W$45=2,'Simulador Pagos Oportunos'!$J$60,IF('Simulador Pagos Oportunos'!$W$45=3,'Simulador Pagos Oportunos'!$L$60,IF('Simulador Pagos Oportunos'!$W$45=4,'Simulador Pagos Oportunos'!$N$60)))))","v":0},null,0,null,null,null,15,6,0,0,0,0,9.7499999999999976E-2,null,null,null,{"$f":"AK204","v":0.1225},0,0,0,0,0,0,0,{"$f":"IF(AN205=0,\"\",IF('Simulador Pagos Oportunos'!$W$45=1,AH205,IF('Simulador Pagos Oportunos'!$W$45=2,AI205,IF('Simulador Pagos Oportunos'!$W$45=3,AJ205,IF('Simulador Pagos Oportunos'!$W$45=4,AK205,AG205)))))","v":""},{"$f":"IF(AN205<=0,0,IF('Simulador Pagos Oportunos'!$Y$80=1,0,AN205*'Simulador Pagos Oportunos'!$Y$83))+IF(AN205<=0,0,IF('Simulador Pagos Oportunos'!$W$45=1,'Simulador Pagos Oportunos'!$H$60,IF('Simulador Pagos Oportunos'!$W$45=2,'Simulador Pagos Oportunos'!$J$60,IF('Simulador Pagos Oportunos'!$W$45=3,'Simulador Pagos Oportunos'!$L$60,'Simulador Pagos Oportunos'!$N$60))))","v":0},null,0,{"$f":"IFERROR(IF(AO205<=0.01,0,AW204-1),0)","v":0},"",0,186]
[187,0,null,0,null,0,null,0,null,null,null,null,{"$f":"IF(OR('Simulador Pagos Oportunos'!$U$15=5,'Simulador Pagos Oportunos'!$U$15=1,'Simulador Pagos Oportunos'!$U$15=3,'Simulador Pagos Oportunos'!$U$15=4),0,K206*'Simulador Pagos Oportunos'!$N$74*'Simulador Pagos Oportunos'!$V$21)","v":0},null,{"$f":"IF(B206=0,\"\",IF('Simulador Pagos Oportunos'!$W$45=1,AH206,IF('Simulador Pagos Oportunos'!$W$45=2,AI206,IF('Simulador Pagos Oportunos'!$W$45=3,AJ206,IF('Simulador Pagos Oportunos'!$W$45=4,'Tabla Pagos Oportunos'!AK206,AG206)))))","v":""},null,0,null,{"$f":"IF(B206<=0,0,IF('Simulador Pagos Oportunos'!$Y$80=1,0,B206*'Simulador Pagos Oportunos'!$Y$83))","v":0},null,{"$f":"IF(B206<=0,0,IF('Simulador Pagos Oportunos'!$W$45=1,'Simulador Pagos Oportunos'!$H$60,IF('Simulador Pagos Oportunos'!$W$45=2,'Simulador Pagos Oportunos'!$J$60,IF('Simulador Pagos Oportunos'!$W$45=3,'Simulador Pagos Oportunos'!$L$60,IF('Simulador Pagos Oportunos'!$W$45=4,'Simulador Pagos Oportunos'!$N$60)))))","v":0},null,0,null,null,null,15,7,0,0,0,0,9.7499999999999976E-2,null,null,null,0.1225,0,0,0,0,0,0,0,{"$f":"IF(AN206=0,\"\",IF('Simulador Pagos Oportunos'!$W$45=1,AH206,IF('Simulador Pagos Oportunos'!$W$45=2,AI206,IF('Simulador Pagos Oportunos'!$W$45=3,AJ206,IF('Simulador Pagos Oportunos'!$W$45=4,AK206,AG206)))))","v":""},{"$f":"IF(AN206<=0,0,IF('Simulador Pagos Oportunos'!$Y$80=1,0,AN206*'Simulador Pagos Oportunos'!$Y$83))+IF(AN206<=0,0,IF('Simulador Pagos Oportunos'!$W$45=1,'Simulador Pagos Oportunos'!$H$60,IF('Simulador Pagos Oportunos'!$W$45=2,'Simulador Pagos Oportunos'!$J$60,IF('Simulador Pagos Oportunos'!$W$45=3,'Simulador Pagos Oportunos'!$L$60,'Simulador Pagos Oportunos'!$N$60))))","v":0},null,0,0,"",0,187]
[188,0,null,0,null,0,null,0,null,null,null,null,{"$f":"IF(OR('Simulador Pagos Oportunos'!$U$15=5,'Simulador Pagos Oportunos'!$U$15=1,'Simulador Pagos Oportunos'!$U$15=3,'Simulador Pagos Oportunos'!$U$15=4),0,K207*'Simulador Pagos Oportunos'!$N$74*'Simulador Pagos Oportunos'!$V$21)","v":0},null,{"$f":"IF(B207=0,\"\",IF('Simulador Pagos Oportunos'!$W$45=1,AH207,IF('Simulador Pagos Oportunos'!$W$45=2,AI207,IF('Simulador Pagos Oportunos'!$W$45=3,AJ207,IF('Simulador Pagos Oportunos'!$W$45=4,'Tabla Pagos Oportunos'!AK207,AG207)))))","v":""},null,0,null,{"$f":"IF(B207<=0,0,IF('Simulador Pagos Oportunos'!$Y$80=1,0,B207*'Simulador Pagos Oportunos'!$Y$83))","v":0},null,{"$f":"IF(B207<=0,0,IF('Simulador Pagos Oportunos'!$W$45=1,'Simulador Pagos Oportunos'!$H$60,IF('Simulador Pagos Oportunos'!$W$45=2,'Simulador Pagos Oportunos'!$J$60,IF('Simulador Pagos Oportunos'!$W$45=3,'Simulador Pagos Oportunos'!$L$60,IF('Simulador Pagos Oportunos'!$W$45=4,'Simulador Pagos Oportunos'!$N$60)))))","v":0},null,0,null,null,null,15,8,0,0,0,0,9.7499999999999976E-2,null,null,null,0.1225,0,0,0,0,0,0,0,{"$f":"IF(AN207=0,\"\",IF('Simulador Pagos Oportunos'!$W$45=1,AH207,IF('Simulador Pagos Oportunos'!$W$45=2,AI207,IF('Simulador Pagos Oportunos'!$W$45=3,AJ207,IF('Simulador Pagos Oportunos'!$W$45=4,AK207,AG207)))))","v":""},{"$f":"IF(AN207<=0,0,IF('Simulador Pagos Oportunos'!$Y$80=1,0,AN207*'Simulador Pagos Oportunos'!$Y$83))+IF(AN207<=0,0,IF('Simulador Pagos Oportunos'!$W$45=1,'Simulador Pagos Oportunos'!$H$60,IF('Simulador Pagos Oportunos'!$W$45=2,'Simulador Pagos Oportunos'!$J$60,IF('Simulador Pagos Oportunos'!$W$45=3,'Simulador Pagos Oportunos'!$L$60,'Simulador Pagos Oportunos'!$N$60))))","v":0},null,0,0,"",0,188]
[189,0,null,0,null,0,null,0,null,null,null,null,{"$f":"IF(OR('Simulador Pagos Oportunos'!$U$15=5,'Simulador Pagos Oportunos'!$U$15=1,'Simulador Pagos Oportunos'!$U$15=3,'Simulador Pagos Oportunos'!$U$15=4),0,K208*'Simulador Pagos Oportunos'!$N$74*'Simulador Pagos Oportunos'!$V$21)","v":0},null,{"$f":"IF(B208=0,\"\",IF('Simulador Pagos Oportunos'!$W$45=1,AH208,IF('Simulador Pagos Oportunos'!$W$45=2,AI208,IF('Simulador Pagos Oportunos'!$W$45=3,AJ208,IF('Simulador Pagos Oportunos'!$W$45=4,'Tabla Pagos Oportunos'!AK208,AG208)))))","v":""},null,0,null,{"$f":"IF(B208<=0,0,IF('Simulador Pagos Oportunos'!$Y$80=1,0,B208*'Simulador Pagos Oportunos'!$Y$83))","v":0},null,{"$f":"IF(B208<=0,0,IF('Simulador Pagos Oportunos'!$W$45=1,'Simulador Pagos Oportunos'!$H$60,IF('Simulador Pagos Oportunos'!$W$45=2,'Simulador Pagos Oportunos'!$J$60,IF('Simulador Pagos Oportunos'!$W$45=3,'Simulador Pagos Oportunos'!$L$60,IF('Simulador Pagos Oportunos'!$W$45=4,'Simulador Pagos Oportunos'!$N$60)))))","v":0},null,0,null,null,null,15,9,0,0,0,0,9.7499999999999976E-2,null,null,null,0.1225,0,0,0,0,0,0,0,{"$f":"IF(AN208=0,\"\",IF('Simulador Pagos Oportunos'!$W$45=1,AH208,IF('Simulador Pagos Oportunos'!$W$45=2,AI208,IF('Simulador Pagos Oportunos'!$W$45=3,AJ208,IF('Simulador Pagos Oportunos'!$W$45=4,AK208,AG208)))))","v":""},{"$f":"IF(AN208<=0,0,IF('Simulador Pagos Oportunos'!$Y$80=1,0,AN208*'Simulador Pagos Oportunos'!$Y$83))+IF(AN208<=0,0,IF('Simulador Pagos Oportunos'!$W$45=1,'Simulador Pagos Oportunos'!$H$60,IF('Simulador Pagos Oportunos'!$W$45=2,'Simulador Pagos Oportunos'!$J$60,IF('Simulador Pagos Oportunos'!$W$45=3,'Simulador Pagos Oportunos'!$L$60,'Simulador Pagos Oportunos'!$N$60))))","v":0},null,0,0,"",0,189]
[190,0,null,0,null,0,null,0,null,null,null,null,{"$f":"IF(OR('Simulador Pagos Oportunos'!$U$15=5,'Simulador Pagos Oportunos'!$U$15=1,'Simulador Pagos Oportunos'!$U$15=3,'Simulador Pagos Oportunos'!$U$15=4),0,K209*'Simulador Pagos Oportunos'!$N$74*'Simulador Pagos Oportunos'!$V$21)","v":0},null,{"$f":"IF(B209=0,\"\",IF('Simulador Pagos Oportunos'!$W$45=1,AH209,IF('Simulador Pagos Oportunos'!$W$45=2,AI209,IF('Simulador Pagos Oportunos'!$W$45=3,AJ209,IF('Simulador Pagos Oportunos'!$W$45=4,'Tabla Pagos Oportunos'!AK209,AG209)))))","v":""},null,0,null,{"$f":"IF(B209<=0,0,IF('Simulador Pagos Oportunos'!$Y$80=1,0,B209*'Simulador Pagos Oportunos'!$Y$83))","v":0},null,{"$f":"IF(B209<=0,0,IF('Simulador Pagos Oportunos'!$W$45=1,'Simulador Pagos Oportunos'!$H$60,IF('Simulador Pagos Oportunos'!$W$45=2,'Simulador Pagos Oportunos'!$J$60,IF('Simulador Pagos Oportunos'!$W$45=3,'Simulador Pagos Oportunos'!$L$60,IF('Simulador Pagos Oportunos'!$W$45=4,'Simulador Pagos Oportunos'!$N$60)))))","v":0},null,0,null,null,null,15,10,0,0,0,0,9.7499999999999976E-2,null,null,null,0.1225,0,0,0,0,0,0,0,{"$f":"IF(AN209=0,\"\",IF('Simulador Pagos Oportunos'!$W$45=1,AH209,IF('Simulador Pagos Oportunos'!$W$45=2,AI209,IF('Simulador Pagos Oportunos'!$W$45=3,AJ209,IF('Simulador Pagos Oportunos'!$W$45=4,AK209,AG209)))))","v":""},{"$f":"IF(AN209<=0,0,IF('Simulador Pagos Oportunos'!$Y$80=1,0,AN209*'Simulador Pagos Oportunos'!$Y$83))+IF(AN209<=0,0,IF('Simulador Pagos Oportunos'!$W$45=1,'Simulador Pagos Oportunos'!$H$60,IF('Simulador Pagos Oportunos'!$W$45=2,'Simulador Pagos Oportunos'!$J$60,IF('Simulador Pagos Oportunos'!$W$45=3,'Simulador Pagos Oportunos'!$L$60,'Simulador Pagos Oportunos'!$N$60))))","v":0},null,0,0,"",0,190]
[191,0,null,0,null,0,null,0,null,null,null,null,{"$f":"IF(OR('Simulador Pagos Oportunos'!$U$15=5,'Simulador Pagos Oportunos'!$U$15=1,'Simulador Pagos Oportunos'!$U$15=3,'Simulador Pagos Oportunos'!$U$15=4),0,K210*'Simulador Pagos Oportunos'!$N$74*'Simulador Pagos Oportunos'!$V$21)","v":0},null,{"$f":"IF(B210=0,\"\",IF('Simulador Pagos Oportunos'!$W$45=1,AH210,IF('Simulador Pagos Oportunos'!$W$45=2,AI210,IF('Simulador Pagos Oportunos'!$W$45=3,AJ210,IF('Simulador Pagos Oportunos'!$W$45=4,'Tabla Pagos Oportunos'!AK210,AG210)))))","v":""},null,0,null,{"$f":"IF(B210<=0,0,IF('Simulador Pagos Oportunos'!$Y$80=1,0,B210*'Simulador Pagos Oportunos'!$Y$83))","v":0},null,{"$f":"IF(B210<=0,0,IF('Simulador Pagos Oportunos'!$W$45=1,'Simulador Pagos Oportunos'!$H$60,IF('Simulador Pagos Oportunos'!$W$45=2,'Simulador Pagos Oportunos'!$J$60,IF('Simulador Pagos Oportunos'!$W$45=3,'Simulador Pagos Oportunos'!$L$60,IF('Simulador Pagos Oportunos'!$W$45=4,'Simulador Pagos Oportunos'!$N$60)))))","v":0},null,0,null,null,null,15,11,0,0,0,0,9.7499999999999976E-2,null,null,null,0.1225,0,0,0,0,0,0,0,{"$f":"IF(AN210=0,\"\",IF('Simulador Pagos Oportunos'!$W$45=1,AH210,IF('Simulador Pagos Oportunos'!$W$45=2,AI210,IF('Simulador Pagos Oportunos'!$W$45=3,AJ210,IF('Simulador Pagos Oportunos'!$W$45=4,AK210,AG210)))))","v":""},{"$f":"IF(AN210<=0,0,IF('Simulador Pagos Oportunos'!$Y$80=1,0,AN210*'Simulador Pagos Oportunos'!$Y$83))+IF(AN210<=0,0,IF('Simulador Pagos Oportunos'!$W$45=1,'Simulador Pagos Oportunos'!$H$60,IF('Simulador Pagos Oportunos'!$W$45=2,'Simulador Pagos Oportunos'!$J$60,IF('Simulador Pagos Oportunos'!$W$45=3,'Simulador Pagos Oportunos'!$L$60,'Simulador Pagos Oportunos'!$N$60))))","v":0},null,0,0,"",0,191]
[192,0,null,0,null,0,null,0,null,null,null,null,{"$f":"IF(OR('Simulador Pagos Oportunos'!$U$15=5,'Simulador Pagos Oportunos'!$U$15=1,'Simulador Pagos Oportunos'!$U$15=3,'Simulador Pagos Oportunos'!$U$15=4),0,K211*'Simulador Pagos Oportunos'!$N$74*'Simulador Pagos Oportunos'!$V$21)","v":0},null,{"$f":"IF(B211=0,\"\",IF('Simulador Pagos Oportunos'!$W$45=1,AH211,IF('Simulador Pagos Oportunos'!$W$45=2,AI211,IF('Simulador Pagos Oportunos'!$W$45=3,AJ211,IF('Simulador Pagos Oportunos'!$W$45=4,'Tabla Pagos Oportunos'!AK211,AG211)))))","v":""},null,0,null,{"$f":"IF(B211<=0,0,IF('Simulador Pagos Oportunos'!$Y$80=1,0,B211*'Simulador Pagos Oportunos'!$Y$83))","v":0},null,{"$f":"IF(B211<=0,0,IF('Simulador Pagos Oportunos'!$W$45=1,'Simulador Pagos Oportunos'!$H$60,IF('Simulador Pagos Oportunos'!$W$45=2,'Simulador Pagos Oportunos'!$J$60,IF('Simulador Pagos Oportunos'!$W$45=3,'Simulador Pagos Oportunos'!$L$60,IF('Simulador Pagos Oportunos'!$W$45=4,'Simulador Pagos Oportunos'!$N$60)))))","v":0},null,0,null,null,null,16,0,0,0,0,0,9.7499999999999976E-2,null,null,null,0.1225,0,0,0,0,0,0,0,{"$f":"IF(AN211=0,\"\",IF('Simulador Pagos Oportunos'!$W$45=1,AH211,IF('Simulador Pagos Oportunos'!$W$45=2,AI211,IF('Simulador Pagos Oportunos'!$W$45=3,AJ211,IF('Simulador Pagos Oportunos'!$W$45=4,AK211,AG211)))))","v":""},{"$f":"IF(AN211<=0,0,IF('Simulador Pagos Oportunos'!$Y$80=1,0,AN211*'Simulador Pagos Oportunos'!$Y$83))+IF(AN211<=0,0,IF('Simulador Pagos Oportunos'!$W$45=1,'Simulador Pagos Oportunos'!$H$60,IF('Simulador Pagos Oportunos'!$W$45=2,'Simulador Pagos Oportunos'!$J$60,IF('Simulador Pagos Oportunos'!$W$45=3,'Simulador Pagos Oportunos'!$L$60,'Simulador Pagos Oportunos'!$N$60))))","v":0},null,0,0,"",0,192]
[193,0,null,0,null,0,null,0,null,null,null,null,{"$f":"IF(OR('Simulador Pagos Oportunos'!$U$15=5,'Simulador Pagos Oportunos'!$U$15=1,'Simulador Pagos Oportunos'!$U$15=3,'Simulador Pagos Oportunos'!$U$15=4),0,K212*'Simulador Pagos Oportunos'!$N$74*'Simulador Pagos Oportunos'!$V$21)","v":0},null,{"$f":"IF(B212=0,\"\",IF('Simulador Pagos Oportunos'!$W$45=1,AH212,IF('Simulador Pagos Oportunos'!$W$45=2,AI212,IF('Simulador Pagos Oportunos'!$W$45=3,AJ212,IF('Simulador Pagos Oportunos'!$W$45=4,'Tabla Pagos Oportunos'!AK212,AG212)))))","v":""},null,{"$f":"B212-H212-K212+M212","v":0},null,{"$f":"IF(B212<=0,0,IF('Simulador Pagos Oportunos'!$Y$80=1,0,B212*'Simulador Pagos Oportunos'!$Y$83))","v":0},null,{"$f":"IF(B212<=0,0,IF('Simulador Pagos Oportunos'!$W$45=1,'Simulador Pagos Oportunos'!$H$60,IF('Simulador Pagos Oportunos'!$W$45=2,'Simulador Pagos Oportunos'!$J$60,IF('Simulador Pagos Oportunos'!$W$45=3,'Simulador Pagos Oportunos'!$L$60,IF('Simulador Pagos Oportunos'!$W$45=4,'Simulador Pagos Oportunos'!$N$60)))))","v":0},null,0,null,{"$f":"IF(B212<=0,0,IF(OR('Simulador Pagos Oportunos'!$W$45=4,'Simulador Pagos Oportunos'!$W$45=5),0,'Simulador Pagos Oportunos'!$AG$62))","v":0},null,16,1,{"$f":"+IF(Q212<=0,IF(Q211>0,+A212,0),0)","v":0},0,0,0,{"$f":"IF(AG211=$AG$4,AG211,IF(AG211-0.25%<=$AG$4,$AG$4,AG211-0.25%))","v":9.4999999999999973E-2},null,null,null,0.1225,0,0,0,0,0,{"$f":"+AO212-AP212","v":0},{"$f":"+AN212-AQ212","v":0},{"$f":"IF(AN212=0,\"\",IF('Simulador Pagos Oportunos'!$W$45=1,AH212,IF('Simulador Pagos Oportunos'!$W$45=2,AI212,IF('Simulador Pagos Oportunos'!$W$45=3,AJ212,IF('Simulador Pagos Oportunos'!$W$45=4,AK212,AG212)))))","v":""},{"$f":"IF(AN212<=0,0,IF('Simulador Pagos Oportunos'!$Y$80=1,0,AN212*'Simulador Pagos Oportunos'!$Y$83))+IF(AN212<=0,0,IF('Simulador Pagos Oportunos'!$W$45=1,'Simulador Pagos Oportunos'!$H$60,IF('Simulador Pagos Oportunos'!$W$45=2,'Simulador Pagos Oportunos'!$J$60,IF('Simulador Pagos Oportunos'!$W$45=3,'Simulador Pagos Oportunos'!$L$60,'Simulador Pagos Oportunos'!$N$60))))","v":0},{"$f":"IF(AN212<=0,0,$AU$32)","v":0},0,0,"",0,193]
[194,{"$f":"IF(Q212<0,0,IF(A213=$B$11,Q212+$D$11,IF(A213=$B$12,Q212+$D$12,IF(A213=$B$13,Q212+$D$13,Q212))))","v":0},null,{"$f":"IF(B213+F213-D212<=0,B213+F213,IF(A213=$B$11,$F$11,IF(A213=$B$12,$F$12,IF(A213=$B$13,$F$13,IF($AO$4=2,B213*AM213,D212*(1+Y213))))))","v":0},null,{"$f":"IF(B213=0,0,O213/360*AY213*B213)","v":0},null,0,null,null,null,null,{"$f":"IF(OR('Simulador Pagos Oportunos'!$U$15=5,'Simulador Pagos Oportunos'!$U$15=1,'Simulador Pagos Oportunos'!$U$15=3,'Simulador Pagos Oportunos'!$U$15=4),0,K213*'Simulador Pagos Oportunos'!$N$74*'Simulador Pagos Oportunos'!$V$21)","v":0},null,{"$f":"IF(B213=0,\"\",IF('Simulador Pagos Oportunos'!$W$45=1,AH213,IF('Simulador Pagos Oportunos'!$W$45=2,AI213,IF('Simulador Pagos Oportunos'!$W$45=3,AJ213,IF('Simulador Pagos Oportunos'!$W$45=4,'Tabla Pagos Oportunos'!AK213,AG213)))))","v":""},null,0,null,{"$f":"IF(B213<=0,0,IF('Simulador Pagos Oportunos'!$Y$80=1,0,B213*'Simulador Pagos Oportunos'!$Y$83))","v":0},null,{"$f":"IF(B213<=0,0,IF('Simulador Pagos Oportunos'!$W$45=1,'Simulador Pagos Oportunos'!$H$60,IF('Simulador Pagos Oportunos'!$W$45=2,'Simulador Pagos Oportunos'!$J$60,IF('Simulador Pagos Oportunos'!$W$45=3,'Simulador Pagos Oportunos'!$L$60,IF('Simulador Pagos Oportunos'!$W$45=4,'Simulador Pagos Oportunos'!$N$60)))))","v":0},null,{"$f":"IF(B213<=0,0,(D213+K213+S213+U213))","v":0},null,null,null,16,2,0,{"$f":"+IF(AC213>0,+AA213,0)","v":0},{"$f":"+IF(AC213>0,+AB213,0)","v":0},{"$f":"W213","v":0},{"$f":"AG212","v":9.4999999999999973E-2},null,null,null,0.1225,0,{"$f":"IFERROR(AO213/AN213,0)","v":0},0,0,{"$f":"IFERROR((AS213/360*AY213*AN213),0)","v":0},0,0,{"$f":"IF(AN213=0,\"\",IF('Simulador Pagos Oportunos'!$W$45=1,AH213,IF('Simulador Pagos Oportunos'!$W$45=2,AI213,IF('Simulador Pagos Oportunos'!$W$45=3,AJ213,IF('Simulador Pagos Oportunos'!$W$45=4,AK213,AG213)))))","v":""},{"$f":"IF(AN213<=0,0,IF('Simulador Pagos Oportunos'!$Y$80=1,0,AN213*'Simulador Pagos Oportunos'!$Y$83))+IF(AN213<=0,0,IF('Simulador Pagos Oportunos'!$W$45=1,'Simulador Pagos Oportunos'!$H$60,IF('Simulador Pagos Oportunos'!$W$45=2,'Simulador Pagos Oportunos'!$J$60,IF('Simulador Pagos Oportunos'!$W$45=3,'Simulador Pagos Oportunos'!$L$60,'Simulador Pagos Oportunos'!$N$60))))","v":0},null,{"$f":"AP213+AQ213+AT213","v":0},0,"",{"$f":"IFERROR(DAY(DATE(YEAR(AX213),MONTH(AX213)+1,0)),0)","v":0},194]
[195,0,null,0,null,0,null,{"$f":"D214-F214","v":0},null,null,null,null,{"$f":"IF(OR('Simulador Pagos Oportunos'!$U$15=5,'Simulador Pagos Oportunos'!$U$15=1,'Simulador Pagos Oportunos'!$U$15=3,'Simulador Pagos Oportunos'!$U$15=4),0,K214*'Simulador Pagos Oportunos'!$N$74*'Simulador Pagos Oportunos'!$V$21)","v":0},null,{"$f":"IF(B214=0,\"\",IF('Simulador Pagos Oportunos'!$W$45=1,AH214,IF('Simulador Pagos Oportunos'!$W$45=2,AI214,IF('Simulador Pagos Oportunos'!$W$45=3,AJ214,IF('Simulador Pagos Oportunos'!$W$45=4,'Tabla Pagos Oportunos'!AK214,AG214)))))","v":""},null,0,null,{"$f":"IF(B214<=0,0,IF('Simulador Pagos Oportunos'!$Y$80=1,0,B214*'Simulador Pagos Oportunos'!$Y$83))","v":0},null,{"$f":"IF(B214<=0,0,IF('Simulador Pagos Oportunos'!$W$45=1,'Simulador Pagos Oportunos'!$H$60,IF('Simulador Pagos Oportunos'!$W$45=2,'Simulador Pagos Oportunos'!$J$60,IF('Simulador Pagos Oportunos'!$W$45=3,'Simulador Pagos Oportunos'!$L$60,IF('Simulador Pagos Oportunos'!$W$45=4,'Simulador Pagos Oportunos'!$N$60)))))","v":0},null,0,null,null,null,16,3,0,0,0,0,{"$f":"AG213","v":9.4999999999999973E-2},null,null,null,0.1225,0,0,{"$f":"IF(AR213<0,0,IF(A214=$B$11,AR213+$D$11,IF(A214=$B$12,AR213+$D$12,IF(A214=$B$13,AR213+$D$13,AR213))))","v":0},{"$f":"IF(AN214+AP214-AO213<=0,AN214+AP214,IF(A214=$B$11,$F$11,IF(A214=$B$12,$F$12,IF(A214=$B$13,$F$13,AO213*(1+AU214)))))","v":0},0,0,0,{"$f":"IF(AN214=0,\"\",IF('Simulador Pagos Oportunos'!$W$45=1,AH214,IF('Simulador Pagos Oportunos'!$W$45=2,AI214,IF('Simulador Pagos Oportunos'!$W$45=3,AJ214,IF('Simulador Pagos Oportunos'!$W$45=4,AK214,AG214)))))","v":""},{"$f":"IF(AN214<=0,0,IF('Simulador Pagos Oportunos'!$Y$80=1,0,AN214*'Simulador Pagos Oportunos'!$Y$83))+IF(AN214<=0,0,IF('Simulador Pagos Oportunos'!$W$45=1,'Simulador Pagos Oportunos'!$H$60,IF('Simulador Pagos Oportunos'!$W$45=2,'Simulador Pagos Oportunos'!$J$60,IF('Simulador Pagos Oportunos'!$W$45=3,'Simulador Pagos Oportunos'!$L$60,'Simulador Pagos Oportunos'!$N$60))))","v":0},null,0,0,{"$f":"IF(AN214=0,\"\",DATE(YEAR(AX213),MONTH(AX213)+1,1))","v":""},0,195]
[196,0,null,0,null,0,null,0,null,null,null,null,{"$f":"IF(OR('Simulador Pagos Oportunos'!$U$15=5,'Simulador Pagos Oportunos'!$U$15=1,'Simulador Pagos Oportunos'!$U$15=3,'Simulador Pagos Oportunos'!$U$15=4),0,K215*'Simulador Pagos Oportunos'!$N$74*'Simulador Pagos Oportunos'!$V$21)","v":0},null,{"$f":"IF(B215=0,\"\",IF('Simulador Pagos Oportunos'!$W$45=1,AH215,IF('Simulador Pagos Oportunos'!$W$45=2,AI215,IF('Simulador Pagos Oportunos'!$W$45=3,AJ215,IF('Simulador Pagos Oportunos'!$W$45=4,'Tabla Pagos Oportunos'!AK215,AG215)))))","v":""},null,0,null,{"$f":"IF(B215<=0,0,IF('Simulador Pagos Oportunos'!$Y$80=1,0,B215*'Simulador Pagos Oportunos'!$Y$83))","v":0},null,{"$f":"IF(B215<=0,0,IF('Simulador Pagos Oportunos'!$W$45=1,'Simulador Pagos Oportunos'!$H$60,IF('Simulador Pagos Oportunos'!$W$45=2,'Simulador Pagos Oportunos'!$J$60,IF('Simulador Pagos Oportunos'!$W$45=3,'Simulador Pagos Oportunos'!$L$60,IF('Simulador Pagos Oportunos'!$W$45=4,'Simulador Pagos Oportunos'!$N$60)))))","v":0},null,0,null,null,null,16,4,0,0,0,0,9.4999999999999973E-2,null,null,null,0.1225,0,0,0,0,0,0,0,{"$f":"IF(AN215=0,\"\",IF('Simulador Pagos Oportunos'!$W$45=1,AH215,IF('Simulador Pagos Oportunos'!$W$45=2,AI215,IF('Simulador Pagos Oportunos'!$W$45=3,AJ215,IF('Simulador Pagos Oportunos'!$W$45=4,AK215,AG215)))))","v":""},{"$f":"IF(AN215<=0,0,IF('Simulador Pagos Oportunos'!$Y$80=1,0,AN215*'Simulador Pagos Oportunos'!$Y$83))+IF(AN215<=0,0,IF('Simulador Pagos Oportunos'!$W$45=1,'Simulador Pagos Oportunos'!$H$60,IF('Simulador Pagos Oportunos'!$W$45=2,'Simulador Pagos Oportunos'!$J$60,IF('Simulador Pagos Oportunos'!$W$45=3,'Simulador Pagos Oportunos'!$L$60,'Simulador Pagos Oportunos'!$N$60))))","v":0},null,0,0,"",0,196]
[197,0,null,0,null,0,null,0,null,null,null,null,{"$f":"IF(OR('Simulador Pagos Oportunos'!$U$15=5,'Simulador Pagos Oportunos'!$U$15=1,'Simulador Pagos Oportunos'!$U$15=3,'Simulador Pagos Oportunos'!$U$15=4),0,K216*'Simulador Pagos Oportunos'!$N$74*'Simulador Pagos Oportunos'!$V$21)","v":0},null,{"$f":"IF(B216=0,\"\",IF('Simulador Pagos Oportunos'!$W$45=1,AH216,IF('Simulador Pagos Oportunos'!$W$45=2,AI216,IF('Simulador Pagos Oportunos'!$W$45=3,AJ216,IF('Simulador Pagos Oportunos'!$W$45=4,'Tabla Pagos Oportunos'!AK216,AG216)))))","v":""},null,0,null,{"$f":"IF(B216<=0,0,IF('Simulador Pagos Oportunos'!$Y$80=1,0,B216*'Simulador Pagos Oportunos'!$Y$83))","v":0},null,{"$f":"IF(B216<=0,0,IF('Simulador Pagos Oportunos'!$W$45=1,'Simulador Pagos Oportunos'!$H$60,IF('Simulador Pagos Oportunos'!$W$45=2,'Simulador Pagos Oportunos'!$J$60,IF('Simulador Pagos Oportunos'!$W$45=3,'Simulador Pagos Oportunos'!$L$60,IF('Simulador Pagos Oportunos'!$W$45=4,'Simulador Pagos Oportunos'!$N$60)))))","v":0},null,0,null,null,null,16,5,0,0,0,0,9.4999999999999973E-2,null,null,null,0.1225,0,0,0,0,0,0,0,{"$f":"IF(AN216=0,\"\",IF('Simulador Pagos Oportunos'!$W$45=1,AH216,IF('Simulador Pagos Oportunos'!$W$45=2,AI216,IF('Simulador Pagos Oportunos'!$W$45=3,AJ216,IF('Simulador Pagos Oportunos'!$W$45=4,AK216,AG216)))))","v":""},{"$f":"IF(AN216<=0,0,IF('Simulador Pagos Oportunos'!$Y$80=1,0,AN216*'Simulador Pagos Oportunos'!$Y$83))+IF(AN216<=0,0,IF('Simulador Pagos Oportunos'!$W$45=1,'Simulador Pagos Oportunos'!$H$60,IF('Simulador Pagos Oportunos'!$W$45=2,'Simulador Pagos Oportunos'!$J$60,IF('Simulador Pagos Oportunos'!$W$45=3,'Simulador Pagos Oportunos'!$L$60,'Simulador Pagos Oportunos'!$N$60))))","v":0},null,0,0,"",0,197]
[198,0,null,0,null,0,null,0,null,null,null,null,{"$f":"IF(OR('Simulador Pagos Oportunos'!$U$15=5,'Simulador Pagos Oportunos'!$U$15=1,'Simulador Pagos Oportunos'!$U$15=3,'Simulador Pagos Oportunos'!$U$15=4),0,K217*'Simulador Pagos Oportunos'!$N$74*'Simulador Pagos Oportunos'!$V$21)","v":0},null,{"$f":"IF(B217=0,\"\",IF('Simulador Pagos Oportunos'!$W$45=1,AH217,IF('Simulador Pagos Oportunos'!$W$45=2,AI217,IF('Simulador Pagos Oportunos'!$W$45=3,AJ217,IF('Simulador Pagos Oportunos'!$W$45=4,'Tabla Pagos Oportunos'!AK217,AG217)))))","v":""},null,0,null,{"$f":"IF(B217<=0,0,IF('Simulador Pagos Oportunos'!$Y$80=1,0,B217*'Simulador Pagos Oportunos'!$Y$83))","v":0},null,{"$f":"IF(B217<=0,0,IF('Simulador Pagos Oportunos'!$W$45=1,'Simulador Pagos Oportunos'!$H$60,IF('Simulador Pagos Oportunos'!$W$45=2,'Simulador Pagos Oportunos'!$J$60,IF('Simulador Pagos Oportunos'!$W$45=3,'Simulador Pagos Oportunos'!$L$60,IF('Simulador Pagos Oportunos'!$W$45=4,'Simulador Pagos Oportunos'!$N$60)))))","v":0},null,0,null,null,null,16,6,0,0,0,0,9.4999999999999973E-2,null,null,null,0.1225,0,0,0,0,0,0,0,{"$f":"IF(AN217=0,\"\",IF('Simulador Pagos Oportunos'!$W$45=1,AH217,IF('Simulador Pagos Oportunos'!$W$45=2,AI217,IF('Simulador Pagos Oportunos'!$W$45=3,AJ217,IF('Simulador Pagos Oportunos'!$W$45=4,AK217,AG217)))))","v":""},{"$f":"IF(AN217<=0,0,IF('Simulador Pagos Oportunos'!$Y$80=1,0,AN217*'Simulador Pagos Oportunos'!$Y$83))+IF(AN217<=0,0,IF('Simulador Pagos Oportunos'!$W$45=1,'Simulador Pagos Oportunos'!$H$60,IF('Simulador Pagos Oportunos'!$W$45=2,'Simulador Pagos Oportunos'!$J$60,IF('Simulador Pagos Oportunos'!$W$45=3,'Simulador Pagos Oportunos'!$L$60,'Simulador Pagos Oportunos'!$N$60))))","v":0},null,0,0,"",0,198]
[199,0,null,0,null,0,null,0,null,null,null,null,{"$f":"IF(OR('Simulador Pagos Oportunos'!$U$15=5,'Simulador Pagos Oportunos'!$U$15=1,'Simulador Pagos Oportunos'!$U$15=3,'Simulador Pagos Oportunos'!$U$15=4),0,K218*'Simulador Pagos Oportunos'!$N$74*'Simulador Pagos Oportunos'!$V$21)","v":0},null,{"$f":"IF(B218=0,\"\",IF('Simulador Pagos Oportunos'!$W$45=1,AH218,IF('Simulador Pagos Oportunos'!$W$45=2,AI218,IF('Simulador Pagos Oportunos'!$W$45=3,AJ218,IF('Simulador Pagos Oportunos'!$W$45=4,'Tabla Pagos Oportunos'!AK218,AG218)))))","v":""},null,0,null,{"$f":"IF(B218<=0,0,IF('Simulador Pagos Oportunos'!$Y$80=1,0,B218*'Simulador Pagos Oportunos'!$Y$83))","v":0},null,{"$f":"IF(B218<=0,0,IF('Simulador Pagos Oportunos'!$W$45=1,'Simulador Pagos Oportunos'!$H$60,IF('Simulador Pagos Oportunos'!$W$45=2,'Simulador Pagos Oportunos'!$J$60,IF('Simulador Pagos Oportunos'!$W$45=3,'Simulador Pagos Oportunos'!$L$60,IF('Simulador Pagos Oportunos'!$W$45=4,'Simulador Pagos Oportunos'!$N$60)))))","v":0},null,0,null,null,null,16,7,0,0,0,0,9.4999999999999973E-2,null,null,null,0.1225,0,0,0,0,0,0,0,{"$f":"IF(AN218=0,\"\",IF('Simulador Pagos Oportunos'!$W$45=1,AH218,IF('Simulador Pagos Oportunos'!$W$45=2,AI218,IF('Simulador Pagos Oportunos'!$W$45=3,AJ218,IF('Simulador Pagos Oportunos'!$W$45=4,AK218,AG218)))))","v":""},{"$f":"IF(AN218<=0,0,IF('Simulador Pagos Oportunos'!$Y$80=1,0,AN218*'Simulador Pagos Oportunos'!$Y$83))+IF(AN218<=0,0,IF('Simulador Pagos Oportunos'!$W$45=1,'Simulador Pagos Oportunos'!$H$60,IF('Simulador Pagos Oportunos'!$W$45=2,'Simulador Pagos Oportunos'!$J$60,IF('Simulador Pagos Oportunos'!$W$45=3,'Simulador Pagos Oportunos'!$L$60,'Simulador Pagos Oportunos'!$N$60))))","v":0},null,0,0,"",0,199]
[200,0,null,0,null,0,null,0,null,null,null,null,{"$f":"IF(OR('Simulador Pagos Oportunos'!$U$15=5,'Simulador Pagos Oportunos'!$U$15=1,'Simulador Pagos Oportunos'!$U$15=3,'Simulador Pagos Oportunos'!$U$15=4),0,K219*'Simulador Pagos Oportunos'!$N$74*'Simulador Pagos Oportunos'!$V$21)","v":0},null,{"$f":"IF(B219=0,\"\",IF('Simulador Pagos Oportunos'!$W$45=1,AH219,IF('Simulador Pagos Oportunos'!$W$45=2,AI219,IF('Simulador Pagos Oportunos'!$W$45=3,AJ219,IF('Simulador Pagos Oportunos'!$W$45=4,'Tabla Pagos Oportunos'!AK219,AG219)))))","v":""},null,0,null,{"$f":"IF(B219<=0,0,IF('Simulador Pagos Oportunos'!$Y$80=1,0,B219*'Simulador Pagos Oportunos'!$Y$83))","v":0},null,{"$f":"IF(B219<=0,0,IF('Simulador Pagos Oportunos'!$W$45=1,'Simulador Pagos Oportunos'!$H$60,IF('Simulador Pagos Oportunos'!$W$45=2,'Simulador Pagos Oportunos'!$J$60,IF('Simulador Pagos Oportunos'!$W$45=3,'Simulador Pagos Oportunos'!$L$60,IF('Simulador Pagos Oportunos'!$W$45=4,'Simulador Pagos Oportunos'!$N$60)))))","v":0},null,0,null,null,null,16,8,0,0,0,0,9.4999999999999973E-2,null,null,null,0.1225,0,0,0,0,0,0,0,{"$f":"IF(AN219=0,\"\",IF('Simulador Pagos Oportunos'!$W$45=1,AH219,IF('Simulador Pagos Oportunos'!$W$45=2,AI219,IF('Simulador Pagos Oportunos'!$W$45=3,AJ219,IF('Simulador Pagos Oportunos'!$W$45=4,AK219,AG219)))))","v":""},{"$f":"IF(AN219<=0,0,IF('Simulador Pagos Oportunos'!$Y$80=1,0,AN219*'Simulador Pagos Oportunos'!$Y$83))+IF(AN219<=0,0,IF('Simulador Pagos Oportunos'!$W$45=1,'Simulador Pagos Oportunos'!$H$60,IF('Simulador Pagos Oportunos'!$W$45=2,'Simulador Pagos Oportunos'!$J$60,IF('Simulador Pagos Oportunos'!$W$45=3,'Simulador Pagos Oportunos'!$L$60,'Simulador Pagos Oportunos'!$N$60))))","v":0},null,0,0,"",0,200]
[201,0,null,0,null,0,null,0,null,null,null,null,{"$f":"IF(OR('Simulador Pagos Oportunos'!$U$15=5,'Simulador Pagos Oportunos'!$U$15=1,'Simulador Pagos Oportunos'!$U$15=3,'Simulador Pagos Oportunos'!$U$15=4),0,K220*'Simulador Pagos Oportunos'!$N$74*'Simulador Pagos Oportunos'!$V$21)","v":0},null,{"$f":"IF(B220=0,\"\",IF('Simulador Pagos Oportunos'!$W$45=1,AH220,IF('Simulador Pagos Oportunos'!$W$45=2,AI220,IF('Simulador Pagos Oportunos'!$W$45=3,AJ220,IF('Simulador Pagos Oportunos'!$W$45=4,'Tabla Pagos Oportunos'!AK220,AG220)))))","v":""},null,0,null,{"$f":"IF(B220<=0,0,IF('Simulador Pagos Oportunos'!$Y$80=1,0,B220*'Simulador Pagos Oportunos'!$Y$83))","v":0},null,{"$f":"IF(B220<=0,0,IF('Simulador Pagos Oportunos'!$W$45=1,'Simulador Pagos Oportunos'!$H$60,IF('Simulador Pagos Oportunos'!$W$45=2,'Simulador Pagos Oportunos'!$J$60,IF('Simulador Pagos Oportunos'!$W$45=3,'Simulador Pagos Oportunos'!$L$60,IF('Simulador Pagos Oportunos'!$W$45=4,'Simulador Pagos Oportunos'!$N$60)))))","v":0},null,0,null,null,null,16,9,0,0,0,0,9.4999999999999973E-2,null,null,null,0.1225,0,0,0,0,0,0,0,{"$f":"IF(AN220=0,\"\",IF('Simulador Pagos Oportunos'!$W$45=1,AH220,IF('Simulador Pagos Oportunos'!$W$45=2,AI220,IF('Simulador Pagos Oportunos'!$W$45=3,AJ220,IF('Simulador Pagos Oportunos'!$W$45=4,AK220,AG220)))))","v":""},{"$f":"IF(AN220<=0,0,IF('Simulador Pagos Oportunos'!$Y$80=1,0,AN220*'Simulador Pagos Oportunos'!$Y$83))+IF(AN220<=0,0,IF('Simulador Pagos Oportunos'!$W$45=1,'Simulador Pagos Oportunos'!$H$60,IF('Simulador Pagos Oportunos'!$W$45=2,'Simulador Pagos Oportunos'!$J$60,IF('Simulador Pagos Oportunos'!$W$45=3,'Simulador Pagos Oportunos'!$L$60,'Simulador Pagos Oportunos'!$N$60))))","v":0},null,0,0,"",0,201]
[202,0,null,0,null,0,null,0,null,null,null,null,{"$f":"IF(OR('Simulador Pagos Oportunos'!$U$15=5,'Simulador Pagos Oportunos'!$U$15=1,'Simulador Pagos Oportunos'!$U$15=3,'Simulador Pagos Oportunos'!$U$15=4),0,K221*'Simulador Pagos Oportunos'!$N$74*'Simulador Pagos Oportunos'!$V$21)","v":0},null,{"$f":"IF(B221=0,\"\",IF('Simulador Pagos Oportunos'!$W$45=1,AH221,IF('Simulador Pagos Oportunos'!$W$45=2,AI221,IF('Simulador Pagos Oportunos'!$W$45=3,AJ221,IF('Simulador Pagos Oportunos'!$W$45=4,'Tabla Pagos Oportunos'!AK221,AG221)))))","v":""},null,0,null,{"$f":"IF(B221<=0,0,IF('Simulador Pagos Oportunos'!$Y$80=1,0,B221*'Simulador Pagos Oportunos'!$Y$83))","v":0},null,{"$f":"IF(B221<=0,0,IF('Simulador Pagos Oportunos'!$W$45=1,'Simulador Pagos Oportunos'!$H$60,IF('Simulador Pagos Oportunos'!$W$45=2,'Simulador Pagos Oportunos'!$J$60,IF('Simulador Pagos Oportunos'!$W$45=3,'Simulador Pagos Oportunos'!$L$60,IF('Simulador Pagos Oportunos'!$W$45=4,'Simulador Pagos Oportunos'!$N$60)))))","v":0},null,0,null,null,null,16,10,0,0,0,0,9.4999999999999973E-2,null,null,null,0.1225,0,0,0,0,0,0,0,{"$f":"IF(AN221=0,\"\",IF('Simulador Pagos Oportunos'!$W$45=1,AH221,IF('Simulador Pagos Oportunos'!$W$45=2,AI221,IF('Simulador Pagos Oportunos'!$W$45=3,AJ221,IF('Simulador Pagos Oportunos'!$W$45=4,AK221,AG221)))))","v":""},{"$f":"IF(AN221<=0,0,IF('Simulador Pagos Oportunos'!$Y$80=1,0,AN221*'Simulador Pagos Oportunos'!$Y$83))+IF(AN221<=0,0,IF('Simulador Pagos Oportunos'!$W$45=1,'Simulador Pagos Oportunos'!$H$60,IF('Simulador Pagos Oportunos'!$W$45=2,'Simulador Pagos Oportunos'!$J$60,IF('Simulador Pagos Oportunos'!$W$45=3,'Simulador Pagos Oportunos'!$L$60,'Simulador Pagos Oportunos'!$N$60))))","v":0},null,0,0,"",0,202]
[203,0,null,0,null,0,null,0,null,null,null,null,{"$f":"IF(OR('Simulador Pagos Oportunos'!$U$15=5,'Simulador Pagos Oportunos'!$U$15=1,'Simulador Pagos Oportunos'!$U$15=3,'Simulador Pagos Oportunos'!$U$15=4),0,K222*'Simulador Pagos Oportunos'!$N$74*'Simulador Pagos Oportunos'!$V$21)","v":0},null,{"$f":"IF(B222=0,\"\",IF('Simulador Pagos Oportunos'!$W$45=1,AH222,IF('Simulador Pagos Oportunos'!$W$45=2,AI222,IF('Simulador Pagos Oportunos'!$W$45=3,AJ222,IF('Simulador Pagos Oportunos'!$W$45=4,'Tabla Pagos Oportunos'!AK222,AG222)))))","v":""},null,0,null,{"$f":"IF(B222<=0,0,IF('Simulador Pagos Oportunos'!$Y$80=1,0,B222*'Simulador Pagos Oportunos'!$Y$83))","v":0},null,{"$f":"IF(B222<=0,0,IF('Simulador Pagos Oportunos'!$W$45=1,'Simulador Pagos Oportunos'!$H$60,IF('Simulador Pagos Oportunos'!$W$45=2,'Simulador Pagos Oportunos'!$J$60,IF('Simulador Pagos Oportunos'!$W$45=3,'Simulador Pagos Oportunos'!$L$60,IF('Simulador Pagos Oportunos'!$W$45=4,'Simulador Pagos Oportunos'!$N$60)))))","v":0},null,0,null,null,null,16,11,0,0,0,0,9.4999999999999973E-2,null,null,null,0.1225,0,0,0,0,0,0,0,{"$f":"IF(AN222=0,\"\",IF('Simulador Pagos Oportunos'!$W$45=1,AH222,IF('Simulador Pagos Oportunos'!$W$45=2,AI222,IF('Simulador Pagos Oportunos'!$W$45=3,AJ222,IF('Simulador Pagos Oportunos'!$W$45=4,AK222,AG222)))))","v":""},{"$f":"IF(AN222<=0,0,IF('Simulador Pagos Oportunos'!$Y$80=1,0,AN222*'Simulador Pagos Oportunos'!$Y$83))+IF(AN222<=0,0,IF('Simulador Pagos Oportunos'!$W$45=1,'Simulador Pagos Oportunos'!$H$60,IF('Simulador Pagos Oportunos'!$W$45=2,'Simulador Pagos Oportunos'!$J$60,IF('Simulador Pagos Oportunos'!$W$45=3,'Simulador Pagos Oportunos'!$L$60,'Simulador Pagos Oportunos'!$N$60))))","v":0},null,0,0,"",0,203]
[204,0,null,0,null,0,null,0,null,null,null,null,{"$f":"IF(OR('Simulador Pagos Oportunos'!$U$15=5,'Simulador Pagos Oportunos'!$U$15=1,'Simulador Pagos Oportunos'!$U$15=3,'Simulador Pagos Oportunos'!$U$15=4),0,K223*'Simulador Pagos Oportunos'!$N$74*'Simulador Pagos Oportunos'!$V$21)","v":0},null,{"$f":"IF(B223=0,\"\",IF('Simulador Pagos Oportunos'!$W$45=1,AH223,IF('Simulador Pagos Oportunos'!$W$45=2,AI223,IF('Simulador Pagos Oportunos'!$W$45=3,AJ223,IF('Simulador Pagos Oportunos'!$W$45=4,'Tabla Pagos Oportunos'!AK223,AG223)))))","v":""},null,0,null,{"$f":"IF(B223<=0,0,IF('Simulador Pagos Oportunos'!$Y$80=1,0,B223*'Simulador Pagos Oportunos'!$Y$83))","v":0},null,{"$f":"IF(B223<=0,0,IF('Simulador Pagos Oportunos'!$W$45=1,'Simulador Pagos Oportunos'!$H$60,IF('Simulador Pagos Oportunos'!$W$45=2,'Simulador Pagos Oportunos'!$J$60,IF('Simulador Pagos Oportunos'!$W$45=3,'Simulador Pagos Oportunos'!$L$60,IF('Simulador Pagos Oportunos'!$W$45=4,'Simulador Pagos Oportunos'!$N$60)))))","v":0},null,0,null,null,null,17,0,0,0,0,0,9.4999999999999973E-2,null,null,null,0.1225,0,0,0,0,0,0,0,{"$f":"IF(AN223=0,\"\",IF('Simulador Pagos Oportunos'!$W$45=1,AH223,IF('Simulador Pagos Oportunos'!$W$45=2,AI223,IF('Simulador Pagos Oportunos'!$W$45=3,AJ223,IF('Simulador Pagos Oportunos'!$W$45=4,AK223,AG223)))))","v":""},{"$f":"IF(AN223<=0,0,IF('Simulador Pagos Oportunos'!$Y$80=1,0,AN223*'Simulador Pagos Oportunos'!$Y$83))+IF(AN223<=0,0,IF('Simulador Pagos Oportunos'!$W$45=1,'Simulador Pagos Oportunos'!$H$60,IF('Simulador Pagos Oportunos'!$W$45=2,'Simulador Pagos Oportunos'!$J$60,IF('Simulador Pagos Oportunos'!$W$45=3,'Simulador Pagos Oportunos'!$L$60,'Simulador Pagos Oportunos'!$N$60))))","v":0},null,0,0,"",0,204]
[205,0,null,0,null,0,null,0,null,null,null,null,{"$f":"IF(OR('Simulador Pagos Oportunos'!$U$15=5,'Simulador Pagos Oportunos'!$U$15=1,'Simulador Pagos Oportunos'!$U$15=3,'Simulador Pagos Oportunos'!$U$15=4),0,K224*'Simulador Pagos Oportunos'!$N$74*'Simulador Pagos Oportunos'!$V$21)","v":0},null,{"$f":"IF(B224=0,\"\",IF('Simulador Pagos Oportunos'!$W$45=1,AH224,IF('Simulador Pagos Oportunos'!$W$45=2,AI224,IF('Simulador Pagos Oportunos'!$W$45=3,AJ224,IF('Simulador Pagos Oportunos'!$W$45=4,'Tabla Pagos Oportunos'!AK224,AG224)))))","v":""},null,0,null,{"$f":"IF(B224<=0,0,IF('Simulador Pagos Oportunos'!$Y$80=1,0,B224*'Simulador Pagos Oportunos'!$Y$83))","v":0},null,{"$f":"IF(B224<=0,0,IF('Simulador Pagos Oportunos'!$W$45=1,'Simulador Pagos Oportunos'!$H$60,IF('Simulador Pagos Oportunos'!$W$45=2,'Simulador Pagos Oportunos'!$J$60,IF('Simulador Pagos Oportunos'!$W$45=3,'Simulador Pagos Oportunos'!$L$60,IF('Simulador Pagos Oportunos'!$W$45=4,'Simulador Pagos Oportunos'!$N$60)))))","v":0},null,0,null,{"$f":"IF(B224<=0,0,IF(OR('Simulador Pagos Oportunos'!$W$45=4,'Simulador Pagos Oportunos'!$W$45=5),0,'Simulador Pagos Oportunos'!$AG$62))","v":0},null,17,1,0,0,0,0,{"$f":"IF(AG223=$AG$4,AG223,IF(AG223-0.25%<=$AG$4,$AG$4,AG223-0.25%))","v":9.2499999999999971E-2},null,null,null,0.1225,0,0,0,0,0,0,0,{"$f":"IF(AN224=0,\"\",IF('Simulador Pagos Oportunos'!$W$45=1,AH224,IF('Simulador Pagos Oportunos'!$W$45=2,AI224,IF('Simulador Pagos Oportunos'!$W$45=3,AJ224,IF('Simulador Pagos Oportunos'!$W$45=4,AK224,AG224)))))","v":""},{"$f":"IF(AN224<=0,0,IF('Simulador Pagos Oportunos'!$Y$80=1,0,AN224*'Simulador Pagos Oportunos'!$Y$83))+IF(AN224<=0,0,IF('Simulador Pagos Oportunos'!$W$45=1,'Simulador Pagos Oportunos'!$H$60,IF('Simulador Pagos Oportunos'!$W$45=2,'Simulador Pagos Oportunos'!$J$60,IF('Simulador Pagos Oportunos'!$W$45=3,'Simulador Pagos Oportunos'!$L$60,'Simulador Pagos Oportunos'!$N$60))))","v":0},{"$f":"IF(AN224<=0,0,$AU$32)","v":0},0,0,"",0,205]
[206,0,null,0,null,0,null,0,null,null,null,null,{"$f":"IF(OR('Simulador Pagos Oportunos'!$U$15=5,'Simulador Pagos Oportunos'!$U$15=1,'Simulador Pagos Oportunos'!$U$15=3,'Simulador Pagos Oportunos'!$U$15=4),0,K225*'Simulador Pagos Oportunos'!$N$74*'Simulador Pagos Oportunos'!$V$21)","v":0},null,{"$f":"IF(B225=0,\"\",IF('Simulador Pagos Oportunos'!$W$45=1,AH225,IF('Simulador Pagos Oportunos'!$W$45=2,AI225,IF('Simulador Pagos Oportunos'!$W$45=3,AJ225,IF('Simulador Pagos Oportunos'!$W$45=4,'Tabla Pagos Oportunos'!AK225,AG225)))))","v":""},null,0,null,{"$f":"IF(B225<=0,0,IF('Simulador Pagos Oportunos'!$Y$80=1,0,B225*'Simulador Pagos Oportunos'!$Y$83))","v":0},null,{"$f":"IF(B225<=0,0,IF('Simulador Pagos Oportunos'!$W$45=1,'Simulador Pagos Oportunos'!$H$60,IF('Simulador Pagos Oportunos'!$W$45=2,'Simulador Pagos Oportunos'!$J$60,IF('Simulador Pagos Oportunos'!$W$45=3,'Simulador Pagos Oportunos'!$L$60,IF('Simulador Pagos Oportunos'!$W$45=4,'Simulador Pagos Oportunos'!$N$60)))))","v":0},null,0,null,null,null,17,2,0,0,0,0,{"$f":"AG224","v":9.2499999999999971E-2},null,null,null,0.1225,0,0,0,0,0,0,0,{"$f":"IF(AN225=0,\"\",IF('Simulador Pagos Oportunos'!$W$45=1,AH225,IF('Simulador Pagos Oportunos'!$W$45=2,AI225,IF('Simulador Pagos Oportunos'!$W$45=3,AJ225,IF('Simulador Pagos Oportunos'!$W$45=4,AK225,AG225)))))","v":""},{"$f":"IF(AN225<=0,0,IF('Simulador Pagos Oportunos'!$Y$80=1,0,AN225*'Simulador Pagos Oportunos'!$Y$83))+IF(AN225<=0,0,IF('Simulador Pagos Oportunos'!$W$45=1,'Simulador Pagos Oportunos'!$H$60,IF('Simulador Pagos Oportunos'!$W$45=2,'Simulador Pagos Oportunos'!$J$60,IF('Simulador Pagos Oportunos'!$W$45=3,'Simulador Pagos Oportunos'!$L$60,'Simulador Pagos Oportunos'!$N$60))))","v":0},null,0,0,"",0,206]
[207,0,null,0,null,0,null,0,null,null,null,null,{"$f":"IF(OR('Simulador Pagos Oportunos'!$U$15=5,'Simulador Pagos Oportunos'!$U$15=1,'Simulador Pagos Oportunos'!$U$15=3,'Simulador Pagos Oportunos'!$U$15=4),0,K226*'Simulador Pagos Oportunos'!$N$74*'Simulador Pagos Oportunos'!$V$21)","v":0},null,{"$f":"IF(B226=0,\"\",IF('Simulador Pagos Oportunos'!$W$45=1,AH226,IF('Simulador Pagos Oportunos'!$W$45=2,AI226,IF('Simulador Pagos Oportunos'!$W$45=3,AJ226,IF('Simulador Pagos Oportunos'!$W$45=4,'Tabla Pagos Oportunos'!AK226,AG226)))))","v":""},null,0,null,{"$f":"IF(B226<=0,0,IF('Simulador Pagos Oportunos'!$Y$80=1,0,B226*'Simulador Pagos Oportunos'!$Y$83))","v":0},null,{"$f":"IF(B226<=0,0,IF('Simulador Pagos Oportunos'!$W$45=1,'Simulador Pagos Oportunos'!$H$60,IF('Simulador Pagos Oportunos'!$W$45=2,'Simulador Pagos Oportunos'!$J$60,IF('Simulador Pagos Oportunos'!$W$45=3,'Simulador Pagos Oportunos'!$L$60,IF('Simulador Pagos Oportunos'!$W$45=4,'Simulador Pagos Oportunos'!$N$60)))))","v":0},null,0,null,null,null,17,3,0,0,0,0,{"$f":"AG225","v":9.2499999999999971E-2},null,null,null,0.1225,0,0,0,0,0,0,0,{"$f":"IF(AN226=0,\"\",IF('Simulador Pagos Oportunos'!$W$45=1,AH226,IF('Simulador Pagos Oportunos'!$W$45=2,AI226,IF('Simulador Pagos Oportunos'!$W$45=3,AJ226,IF('Simulador Pagos Oportunos'!$W$45=4,AK226,AG226)))))","v":""},{"$f":"IF(AN226<=0,0,IF('Simulador Pagos Oportunos'!$Y$80=1,0,AN226*'Simulador Pagos Oportunos'!$Y$83))+IF(AN226<=0,0,IF('Simulador Pagos Oportunos'!$W$45=1,'Simulador Pagos Oportunos'!$H$60,IF('Simulador Pagos Oportunos'!$W$45=2,'Simulador Pagos Oportunos'!$J$60,IF('Simulador Pagos Oportunos'!$W$45=3,'Simulador Pagos Oportunos'!$L$60,'Simulador Pagos Oportunos'!$N$60))))","v":0},null,0,0,"",0,207]
[208,0,null,0,null,0,null,0,null,null,null,null,{"$f":"IF(OR('Simulador Pagos Oportunos'!$U$15=5,'Simulador Pagos Oportunos'!$U$15=1,'Simulador Pagos Oportunos'!$U$15=3,'Simulador Pagos Oportunos'!$U$15=4),0,K227*'Simulador Pagos Oportunos'!$N$74*'Simulador Pagos Oportunos'!$V$21)","v":0},null,{"$f":"IF(B227=0,\"\",IF('Simulador Pagos Oportunos'!$W$45=1,AH227,IF('Simulador Pagos Oportunos'!$W$45=2,AI227,IF('Simulador Pagos Oportunos'!$W$45=3,AJ227,IF('Simulador Pagos Oportunos'!$W$45=4,'Tabla Pagos Oportunos'!AK227,AG227)))))","v":""},null,0,null,{"$f":"IF(B227<=0,0,IF('Simulador Pagos Oportunos'!$Y$80=1,0,B227*'Simulador Pagos Oportunos'!$Y$83))","v":0},null,{"$f":"IF(B227<=0,0,IF('Simulador Pagos Oportunos'!$W$45=1,'Simulador Pagos Oportunos'!$H$60,IF('Simulador Pagos Oportunos'!$W$45=2,'Simulador Pagos Oportunos'!$J$60,IF('Simulador Pagos Oportunos'!$W$45=3,'Simulador Pagos Oportunos'!$L$60,IF('Simulador Pagos Oportunos'!$W$45=4,'Simulador Pagos Oportunos'!$N$60)))))","v":0},null,0,null,null,null,17,4,0,0,0,0,9.2499999999999971E-2,null,null,null,0.1225,0,0,0,0,0,0,0,{"$f":"IF(AN227=0,\"\",IF('Simulador Pagos Oportunos'!$W$45=1,AH227,IF('Simulador Pagos Oportunos'!$W$45=2,AI227,IF('Simulador Pagos Oportunos'!$W$45=3,AJ227,IF('Simulador Pagos Oportunos'!$W$45=4,AK227,AG227)))))","v":""},{"$f":"IF(AN227<=0,0,IF('Simulador Pagos Oportunos'!$Y$80=1,0,AN227*'Simulador Pagos Oportunos'!$Y$83))+IF(AN227<=0,0,IF('Simulador Pagos Oportunos'!$W$45=1,'Simulador Pagos Oportunos'!$H$60,IF('Simulador Pagos Oportunos'!$W$45=2,'Simulador Pagos Oportunos'!$J$60,IF('Simulador Pagos Oportunos'!$W$45=3,'Simulador Pagos Oportunos'!$L$60,'Simulador Pagos Oportunos'!$N$60))))","v":0},null,0,0,"",0,208]
[209,0,null,0,null,0,null,0,null,null,null,null,{"$f":"IF(OR('Simulador Pagos Oportunos'!$U$15=5,'Simulador Pagos Oportunos'!$U$15=1,'Simulador Pagos Oportunos'!$U$15=3,'Simulador Pagos Oportunos'!$U$15=4),0,K228*'Simulador Pagos Oportunos'!$N$74*'Simulador Pagos Oportunos'!$V$21)","v":0},null,{"$f":"IF(B228=0,\"\",IF('Simulador Pagos Oportunos'!$W$45=1,AH228,IF('Simulador Pagos Oportunos'!$W$45=2,AI228,IF('Simulador Pagos Oportunos'!$W$45=3,AJ228,IF('Simulador Pagos Oportunos'!$W$45=4,'Tabla Pagos Oportunos'!AK228,AG228)))))","v":""},null,0,null,{"$f":"IF(B228<=0,0,IF('Simulador Pagos Oportunos'!$Y$80=1,0,B228*'Simulador Pagos Oportunos'!$Y$83))","v":0},null,{"$f":"IF(B228<=0,0,IF('Simulador Pagos Oportunos'!$W$45=1,'Simulador Pagos Oportunos'!$H$60,IF('Simulador Pagos Oportunos'!$W$45=2,'Simulador Pagos Oportunos'!$J$60,IF('Simulador Pagos Oportunos'!$W$45=3,'Simulador Pagos Oportunos'!$L$60,IF('Simulador Pagos Oportunos'!$W$45=4,'Simulador Pagos Oportunos'!$N$60)))))","v":0},null,0,null,null,null,17,5,0,0,0,0,9.2499999999999971E-2,null,null,null,0.1225,0,0,0,0,0,0,0,{"$f":"IF(AN228=0,\"\",IF('Simulador Pagos Oportunos'!$W$45=1,AH228,IF('Simulador Pagos Oportunos'!$W$45=2,AI228,IF('Simulador Pagos Oportunos'!$W$45=3,AJ228,IF('Simulador Pagos Oportunos'!$W$45=4,AK228,AG228)))))","v":""},{"$f":"IF(AN228<=0,0,IF('Simulador Pagos Oportunos'!$Y$80=1,0,AN228*'Simulador Pagos Oportunos'!$Y$83))+IF(AN228<=0,0,IF('Simulador Pagos Oportunos'!$W$45=1,'Simulador Pagos Oportunos'!$H$60,IF('Simulador Pagos Oportunos'!$W$45=2,'Simulador Pagos Oportunos'!$J$60,IF('Simulador Pagos Oportunos'!$W$45=3,'Simulador Pagos Oportunos'!$L$60,'Simulador Pagos Oportunos'!$N$60))))","v":0},null,0,0,"",0,209]
[210,0,null,0,null,0,null,0,null,null,null,null,{"$f":"IF(OR('Simulador Pagos Oportunos'!$U$15=5,'Simulador Pagos Oportunos'!$U$15=1,'Simulador Pagos Oportunos'!$U$15=3,'Simulador Pagos Oportunos'!$U$15=4),0,K229*'Simulador Pagos Oportunos'!$N$74*'Simulador Pagos Oportunos'!$V$21)","v":0},null,{"$f":"IF(B229=0,\"\",IF('Simulador Pagos Oportunos'!$W$45=1,AH229,IF('Simulador Pagos Oportunos'!$W$45=2,AI229,IF('Simulador Pagos Oportunos'!$W$45=3,AJ229,IF('Simulador Pagos Oportunos'!$W$45=4,'Tabla Pagos Oportunos'!AK229,AG229)))))","v":""},null,0,null,{"$f":"IF(B229<=0,0,IF('Simulador Pagos Oportunos'!$Y$80=1,0,B229*'Simulador Pagos Oportunos'!$Y$83))","v":0},null,{"$f":"IF(B229<=0,0,IF('Simulador Pagos Oportunos'!$W$45=1,'Simulador Pagos Oportunos'!$H$60,IF('Simulador Pagos Oportunos'!$W$45=2,'Simulador Pagos Oportunos'!$J$60,IF('Simulador Pagos Oportunos'!$W$45=3,'Simulador Pagos Oportunos'!$L$60,IF('Simulador Pagos Oportunos'!$W$45=4,'Simulador Pagos Oportunos'!$N$60)))))","v":0},null,0,null,null,null,17,6,0,0,0,0,9.2499999999999971E-2,null,null,null,0.1225,0,0,0,0,0,0,0,{"$f":"IF(AN229=0,\"\",IF('Simulador Pagos Oportunos'!$W$45=1,AH229,IF('Simulador Pagos Oportunos'!$W$45=2,AI229,IF('Simulador Pagos Oportunos'!$W$45=3,AJ229,IF('Simulador Pagos Oportunos'!$W$45=4,AK229,AG229)))))","v":""},{"$f":"IF(AN229<=0,0,IF('Simulador Pagos Oportunos'!$Y$80=1,0,AN229*'Simulador Pagos Oportunos'!$Y$83))+IF(AN229<=0,0,IF('Simulador Pagos Oportunos'!$W$45=1,'Simulador Pagos Oportunos'!$H$60,IF('Simulador Pagos Oportunos'!$W$45=2,'Simulador Pagos Oportunos'!$J$60,IF('Simulador Pagos Oportunos'!$W$45=3,'Simulador Pagos Oportunos'!$L$60,'Simulador Pagos Oportunos'!$N$60))))","v":0},null,0,0,"",0,210]
[211,0,null,0,null,0,null,0,null,null,null,null,{"$f":"IF(OR('Simulador Pagos Oportunos'!$U$15=5,'Simulador Pagos Oportunos'!$U$15=1,'Simulador Pagos Oportunos'!$U$15=3,'Simulador Pagos Oportunos'!$U$15=4),0,K230*'Simulador Pagos Oportunos'!$N$74*'Simulador Pagos Oportunos'!$V$21)","v":0},null,{"$f":"IF(B230=0,\"\",IF('Simulador Pagos Oportunos'!$W$45=1,AH230,IF('Simulador Pagos Oportunos'!$W$45=2,AI230,IF('Simulador Pagos Oportunos'!$W$45=3,AJ230,IF('Simulador Pagos Oportunos'!$W$45=4,'Tabla Pagos Oportunos'!AK230,AG230)))))","v":""},null,0,null,{"$f":"IF(B230<=0,0,IF('Simulador Pagos Oportunos'!$Y$80=1,0,B230*'Simulador Pagos Oportunos'!$Y$83))","v":0},null,{"$f":"IF(B230<=0,0,IF('Simulador Pagos Oportunos'!$W$45=1,'Simulador Pagos Oportunos'!$H$60,IF('Simulador Pagos Oportunos'!$W$45=2,'Simulador Pagos Oportunos'!$J$60,IF('Simulador Pagos Oportunos'!$W$45=3,'Simulador Pagos Oportunos'!$L$60,IF('Simulador Pagos Oportunos'!$W$45=4,'Simulador Pagos Oportunos'!$N$60)))))","v":0},null,0,null,null,null,17,7,0,0,0,0,9.2499999999999971E-2,null,null,null,0.1225,0,0,0,0,0,0,0,{"$f":"IF(AN230=0,\"\",IF('Simulador Pagos Oportunos'!$W$45=1,AH230,IF('Simulador Pagos Oportunos'!$W$45=2,AI230,IF('Simulador Pagos Oportunos'!$W$45=3,AJ230,IF('Simulador Pagos Oportunos'!$W$45=4,AK230,AG230)))))","v":""},{"$f":"IF(AN230<=0,0,IF('Simulador Pagos Oportunos'!$Y$80=1,0,AN230*'Simulador Pagos Oportunos'!$Y$83))+IF(AN230<=0,0,IF('Simulador Pagos Oportunos'!$W$45=1,'Simulador Pagos Oportunos'!$H$60,IF('Simulador Pagos Oportunos'!$W$45=2,'Simulador Pagos Oportunos'!$J$60,IF('Simulador Pagos Oportunos'!$W$45=3,'Simulador Pagos Oportunos'!$L$60,'Simulador Pagos Oportunos'!$N$60))))","v":0},null,0,0,"",0,211]
[212,0,null,0,null,0,null,0,null,null,null,null,{"$f":"IF(OR('Simulador Pagos Oportunos'!$U$15=5,'Simulador Pagos Oportunos'!$U$15=1,'Simulador Pagos Oportunos'!$U$15=3,'Simulador Pagos Oportunos'!$U$15=4),0,K231*'Simulador Pagos Oportunos'!$N$74*'Simulador Pagos Oportunos'!$V$21)","v":0},null,{"$f":"IF(B231=0,\"\",IF('Simulador Pagos Oportunos'!$W$45=1,AH231,IF('Simulador Pagos Oportunos'!$W$45=2,AI231,IF('Simulador Pagos Oportunos'!$W$45=3,AJ231,IF('Simulador Pagos Oportunos'!$W$45=4,'Tabla Pagos Oportunos'!AK231,AG231)))))","v":""},null,0,null,{"$f":"IF(B231<=0,0,IF('Simulador Pagos Oportunos'!$Y$80=1,0,B231*'Simulador Pagos Oportunos'!$Y$83))","v":0},null,{"$f":"IF(B231<=0,0,IF('Simulador Pagos Oportunos'!$W$45=1,'Simulador Pagos Oportunos'!$H$60,IF('Simulador Pagos Oportunos'!$W$45=2,'Simulador Pagos Oportunos'!$J$60,IF('Simulador Pagos Oportunos'!$W$45=3,'Simulador Pagos Oportunos'!$L$60,IF('Simulador Pagos Oportunos'!$W$45=4,'Simulador Pagos Oportunos'!$N$60)))))","v":0},null,0,null,null,null,17,8,0,0,0,0,9.2499999999999971E-2,null,null,null,0.1225,0,0,0,0,0,0,0,{"$f":"IF(AN231=0,\"\",IF('Simulador Pagos Oportunos'!$W$45=1,AH231,IF('Simulador Pagos Oportunos'!$W$45=2,AI231,IF('Simulador Pagos Oportunos'!$W$45=3,AJ231,IF('Simulador Pagos Oportunos'!$W$45=4,AK231,AG231)))))","v":""},{"$f":"IF(AN231<=0,0,IF('Simulador Pagos Oportunos'!$Y$80=1,0,AN231*'Simulador Pagos Oportunos'!$Y$83))+IF(AN231<=0,0,IF('Simulador Pagos Oportunos'!$W$45=1,'Simulador Pagos Oportunos'!$H$60,IF('Simulador Pagos Oportunos'!$W$45=2,'Simulador Pagos Oportunos'!$J$60,IF('Simulador Pagos Oportunos'!$W$45=3,'Simulador Pagos Oportunos'!$L$60,'Simulador Pagos Oportunos'!$N$60))))","v":0},null,0,0,"",0,212]
[213,0,null,0,null,0,null,0,null,null,null,null,{"$f":"IF(OR('Simulador Pagos Oportunos'!$U$15=5,'Simulador Pagos Oportunos'!$U$15=1,'Simulador Pagos Oportunos'!$U$15=3,'Simulador Pagos Oportunos'!$U$15=4),0,K232*'Simulador Pagos Oportunos'!$N$74*'Simulador Pagos Oportunos'!$V$21)","v":0},null,{"$f":"IF(B232=0,\"\",IF('Simulador Pagos Oportunos'!$W$45=1,AH232,IF('Simulador Pagos Oportunos'!$W$45=2,AI232,IF('Simulador Pagos Oportunos'!$W$45=3,AJ232,IF('Simulador Pagos Oportunos'!$W$45=4,'Tabla Pagos Oportunos'!AK232,AG232)))))","v":""},null,0,null,{"$f":"IF(B232<=0,0,IF('Simulador Pagos Oportunos'!$Y$80=1,0,B232*'Simulador Pagos Oportunos'!$Y$83))","v":0},null,{"$f":"IF(B232<=0,0,IF('Simulador Pagos Oportunos'!$W$45=1,'Simulador Pagos Oportunos'!$H$60,IF('Simulador Pagos Oportunos'!$W$45=2,'Simulador Pagos Oportunos'!$J$60,IF('Simulador Pagos Oportunos'!$W$45=3,'Simulador Pagos Oportunos'!$L$60,IF('Simulador Pagos Oportunos'!$W$45=4,'Simulador Pagos Oportunos'!$N$60)))))","v":0},null,0,null,null,null,17,9,0,0,0,0,9.2499999999999971E-2,null,null,null,0.1225,0,0,0,0,0,0,0,{"$f":"IF(AN232=0,\"\",IF('Simulador Pagos Oportunos'!$W$45=1,AH232,IF('Simulador Pagos Oportunos'!$W$45=2,AI232,IF('Simulador Pagos Oportunos'!$W$45=3,AJ232,IF('Simulador Pagos Oportunos'!$W$45=4,AK232,AG232)))))","v":""},{"$f":"IF(AN232<=0,0,IF('Simulador Pagos Oportunos'!$Y$80=1,0,AN232*'Simulador Pagos Oportunos'!$Y$83))+IF(AN232<=0,0,IF('Simulador Pagos Oportunos'!$W$45=1,'Simulador Pagos Oportunos'!$H$60,IF('Simulador Pagos Oportunos'!$W$45=2,'Simulador Pagos Oportunos'!$J$60,IF('Simulador Pagos Oportunos'!$W$45=3,'Simulador Pagos Oportunos'!$L$60,'Simulador Pagos Oportunos'!$N$60))))","v":0},null,0,0,"",0,213]
[214,0,null,0,null,0,null,0,null,null,null,null,{"$f":"IF(OR('Simulador Pagos Oportunos'!$U$15=5,'Simulador Pagos Oportunos'!$U$15=1,'Simulador Pagos Oportunos'!$U$15=3,'Simulador Pagos Oportunos'!$U$15=4),0,K233*'Simulador Pagos Oportunos'!$N$74*'Simulador Pagos Oportunos'!$V$21)","v":0},null,{"$f":"IF(B233=0,\"\",IF('Simulador Pagos Oportunos'!$W$45=1,AH233,IF('Simulador Pagos Oportunos'!$W$45=2,AI233,IF('Simulador Pagos Oportunos'!$W$45=3,AJ233,IF('Simulador Pagos Oportunos'!$W$45=4,'Tabla Pagos Oportunos'!AK233,AG233)))))","v":""},null,0,null,{"$f":"IF(B233<=0,0,IF('Simulador Pagos Oportunos'!$Y$80=1,0,B233*'Simulador Pagos Oportunos'!$Y$83))","v":0},null,{"$f":"IF(B233<=0,0,IF('Simulador Pagos Oportunos'!$W$45=1,'Simulador Pagos Oportunos'!$H$60,IF('Simulador Pagos Oportunos'!$W$45=2,'Simulador Pagos Oportunos'!$J$60,IF('Simulador Pagos Oportunos'!$W$45=3,'Simulador Pagos Oportunos'!$L$60,IF('Simulador Pagos Oportunos'!$W$45=4,'Simulador Pagos Oportunos'!$N$60)))))","v":0},null,0,null,null,null,17,10,0,0,0,0,9.2499999999999971E-2,null,null,null,0.1225,0,0,0,0,0,0,0,{"$f":"IF(AN233=0,\"\",IF('Simulador Pagos Oportunos'!$W$45=1,AH233,IF('Simulador Pagos Oportunos'!$W$45=2,AI233,IF('Simulador Pagos Oportunos'!$W$45=3,AJ233,IF('Simulador Pagos Oportunos'!$W$45=4,AK233,AG233)))))","v":""},{"$f":"IF(AN233<=0,0,IF('Simulador Pagos Oportunos'!$Y$80=1,0,AN233*'Simulador Pagos Oportunos'!$Y$83))+IF(AN233<=0,0,IF('Simulador Pagos Oportunos'!$W$45=1,'Simulador Pagos Oportunos'!$H$60,IF('Simulador Pagos Oportunos'!$W$45=2,'Simulador Pagos Oportunos'!$J$60,IF('Simulador Pagos Oportunos'!$W$45=3,'Simulador Pagos Oportunos'!$L$60,'Simulador Pagos Oportunos'!$N$60))))","v":0},null,0,0,"",0,214]
[215,0,null,0,null,0,null,0,null,null,null,null,{"$f":"IF(OR('Simulador Pagos Oportunos'!$U$15=5,'Simulador Pagos Oportunos'!$U$15=1,'Simulador Pagos Oportunos'!$U$15=3,'Simulador Pagos Oportunos'!$U$15=4),0,K234*'Simulador Pagos Oportunos'!$N$74*'Simulador Pagos Oportunos'!$V$21)","v":0},null,{"$f":"IF(B234=0,\"\",IF('Simulador Pagos Oportunos'!$W$45=1,AH234,IF('Simulador Pagos Oportunos'!$W$45=2,AI234,IF('Simulador Pagos Oportunos'!$W$45=3,AJ234,IF('Simulador Pagos Oportunos'!$W$45=4,'Tabla Pagos Oportunos'!AK234,AG234)))))","v":""},null,0,null,{"$f":"IF(B234<=0,0,IF('Simulador Pagos Oportunos'!$Y$80=1,0,B234*'Simulador Pagos Oportunos'!$Y$83))","v":0},null,{"$f":"IF(B234<=0,0,IF('Simulador Pagos Oportunos'!$W$45=1,'Simulador Pagos Oportunos'!$H$60,IF('Simulador Pagos Oportunos'!$W$45=2,'Simulador Pagos Oportunos'!$J$60,IF('Simulador Pagos Oportunos'!$W$45=3,'Simulador Pagos Oportunos'!$L$60,IF('Simulador Pagos Oportunos'!$W$45=4,'Simulador Pagos Oportunos'!$N$60)))))","v":0},null,0,null,null,null,17,11,0,0,0,0,9.2499999999999971E-2,null,null,null,0.1225,0,0,0,0,0,0,0,{"$f":"IF(AN234=0,\"\",IF('Simulador Pagos Oportunos'!$W$45=1,AH234,IF('Simulador Pagos Oportunos'!$W$45=2,AI234,IF('Simulador Pagos Oportunos'!$W$45=3,AJ234,IF('Simulador Pagos Oportunos'!$W$45=4,AK234,AG234)))))","v":""},{"$f":"IF(AN234<=0,0,IF('Simulador Pagos Oportunos'!$Y$80=1,0,AN234*'Simulador Pagos Oportunos'!$Y$83))+IF(AN234<=0,0,IF('Simulador Pagos Oportunos'!$W$45=1,'Simulador Pagos Oportunos'!$H$60,IF('Simulador Pagos Oportunos'!$W$45=2,'Simulador Pagos Oportunos'!$J$60,IF('Simulador Pagos Oportunos'!$W$45=3,'Simulador Pagos Oportunos'!$L$60,'Simulador Pagos Oportunos'!$N$60))))","v":0},null,0,0,"",0,215]
[216,0,null,0,null,0,null,0,null,null,null,null,{"$f":"IF(OR('Simulador Pagos Oportunos'!$U$15=5,'Simulador Pagos Oportunos'!$U$15=1,'Simulador Pagos Oportunos'!$U$15=3,'Simulador Pagos Oportunos'!$U$15=4),0,K235*'Simulador Pagos Oportunos'!$N$74*'Simulador Pagos Oportunos'!$V$21)","v":0},null,{"$f":"IF(B235=0,\"\",IF('Simulador Pagos Oportunos'!$W$45=1,AH235,IF('Simulador Pagos Oportunos'!$W$45=2,AI235,IF('Simulador Pagos Oportunos'!$W$45=3,AJ235,IF('Simulador Pagos Oportunos'!$W$45=4,'Tabla Pagos Oportunos'!AK235,AG235)))))","v":""},null,0,null,{"$f":"IF(B235<=0,0,IF('Simulador Pagos Oportunos'!$Y$80=1,0,B235*'Simulador Pagos Oportunos'!$Y$83))","v":0},null,{"$f":"IF(B235<=0,0,IF('Simulador Pagos Oportunos'!$W$45=1,'Simulador Pagos Oportunos'!$H$60,IF('Simulador Pagos Oportunos'!$W$45=2,'Simulador Pagos Oportunos'!$J$60,IF('Simulador Pagos Oportunos'!$W$45=3,'Simulador Pagos Oportunos'!$L$60,IF('Simulador Pagos Oportunos'!$W$45=4,'Simulador Pagos Oportunos'!$N$60)))))","v":0},null,0,null,null,null,18,0,0,0,0,0,9.2499999999999971E-2,null,null,null,0.1225,0,0,0,0,0,0,0,{"$f":"IF(AN235=0,\"\",IF('Simulador Pagos Oportunos'!$W$45=1,AH235,IF('Simulador Pagos Oportunos'!$W$45=2,AI235,IF('Simulador Pagos Oportunos'!$W$45=3,AJ235,IF('Simulador Pagos Oportunos'!$W$45=4,AK235,AG235)))))","v":""},{"$f":"IF(AN235<=0,0,IF('Simulador Pagos Oportunos'!$Y$80=1,0,AN235*'Simulador Pagos Oportunos'!$Y$83))+IF(AN235<=0,0,IF('Simulador Pagos Oportunos'!$W$45=1,'Simulador Pagos Oportunos'!$H$60,IF('Simulador Pagos Oportunos'!$W$45=2,'Simulador Pagos Oportunos'!$J$60,IF('Simulador Pagos Oportunos'!$W$45=3,'Simulador Pagos Oportunos'!$L$60,'Simulador Pagos Oportunos'!$N$60))))","v":0},null,0,0,"",0,216]
[217,0,null,0,null,0,null,0,null,null,null,null,{"$f":"IF(OR('Simulador Pagos Oportunos'!$U$15=5,'Simulador Pagos Oportunos'!$U$15=1,'Simulador Pagos Oportunos'!$U$15=3,'Simulador Pagos Oportunos'!$U$15=4),0,K236*'Simulador Pagos Oportunos'!$N$74*'Simulador Pagos Oportunos'!$V$21)","v":0},null,{"$f":"IF(B236=0,\"\",IF('Simulador Pagos Oportunos'!$W$45=1,AH236,IF('Simulador Pagos Oportunos'!$W$45=2,AI236,IF('Simulador Pagos Oportunos'!$W$45=3,AJ236,IF('Simulador Pagos Oportunos'!$W$45=4,'Tabla Pagos Oportunos'!AK236,AG236)))))","v":""},null,0,null,{"$f":"IF(B236<=0,0,IF('Simulador Pagos Oportunos'!$Y$80=1,0,B236*'Simulador Pagos Oportunos'!$Y$83))","v":0},null,{"$f":"IF(B236<=0,0,IF('Simulador Pagos Oportunos'!$W$45=1,'Simulador Pagos Oportunos'!$H$60,IF('Simulador Pagos Oportunos'!$W$45=2,'Simulador Pagos Oportunos'!$J$60,IF('Simulador Pagos Oportunos'!$W$45=3,'Simulador Pagos Oportunos'!$L$60,IF('Simulador Pagos Oportunos'!$W$45=4,'Simulador Pagos Oportunos'!$N$60)))))","v":0},null,0,null,{"$f":"IF(B236<=0,0,IF(OR('Simulador Pagos Oportunos'!$W$45=4,'Simulador Pagos Oportunos'!$W$45=5),0,'Simulador Pagos Oportunos'!$AG$62))","v":0},null,18,1,0,0,0,0,{"$f":"IF(AG235=$AG$4,AG235,IF(AG235-0.25%<=$AG$4,$AG$4,AG235-0.25%))","v":8.9999999999999969E-2},null,null,null,0.1225,0,0,0,0,0,0,0,{"$f":"IF(AN236=0,\"\",IF('Simulador Pagos Oportunos'!$W$45=1,AH236,IF('Simulador Pagos Oportunos'!$W$45=2,AI236,IF('Simulador Pagos Oportunos'!$W$45=3,AJ236,IF('Simulador Pagos Oportunos'!$W$45=4,AK236,AG236)))))","v":""},{"$f":"IF(AN236<=0,0,IF('Simulador Pagos Oportunos'!$Y$80=1,0,AN236*'Simulador Pagos Oportunos'!$Y$83))+IF(AN236<=0,0,IF('Simulador Pagos Oportunos'!$W$45=1,'Simulador Pagos Oportunos'!$H$60,IF('Simulador Pagos Oportunos'!$W$45=2,'Simulador Pagos Oportunos'!$J$60,IF('Simulador Pagos Oportunos'!$W$45=3,'Simulador Pagos Oportunos'!$L$60,'Simulador Pagos Oportunos'!$N$60))))","v":0},{"$f":"IF(AN236<=0,0,$AU$32)","v":0},0,0,"",0,217]
[218,0,null,0,null,0,null,0,null,null,null,null,{"$f":"IF(OR('Simulador Pagos Oportunos'!$U$15=5,'Simulador Pagos Oportunos'!$U$15=1,'Simulador Pagos Oportunos'!$U$15=3,'Simulador Pagos Oportunos'!$U$15=4),0,K237*'Simulador Pagos Oportunos'!$N$74*'Simulador Pagos Oportunos'!$V$21)","v":0},null,{"$f":"IF(B237=0,\"\",IF('Simulador Pagos Oportunos'!$W$45=1,AH237,IF('Simulador Pagos Oportunos'!$W$45=2,AI237,IF('Simulador Pagos Oportunos'!$W$45=3,AJ237,IF('Simulador Pagos Oportunos'!$W$45=4,'Tabla Pagos Oportunos'!AK237,AG237)))))","v":""},null,0,null,{"$f":"IF(B237<=0,0,IF('Simulador Pagos Oportunos'!$Y$80=1,0,B237*'Simulador Pagos Oportunos'!$Y$83))","v":0},null,{"$f":"IF(B237<=0,0,IF('Simulador Pagos Oportunos'!$W$45=1,'Simulador Pagos Oportunos'!$H$60,IF('Simulador Pagos Oportunos'!$W$45=2,'Simulador Pagos Oportunos'!$J$60,IF('Simulador Pagos Oportunos'!$W$45=3,'Simulador Pagos Oportunos'!$L$60,IF('Simulador Pagos Oportunos'!$W$45=4,'Simulador Pagos Oportunos'!$N$60)))))","v":0},null,0,null,null,null,18,2,0,0,0,0,{"$f":"AG236","v":8.9999999999999969E-2},null,null,null,0.1225,0,0,0,0,0,0,0,{"$f":"IF(AN237=0,\"\",IF('Simulador Pagos Oportunos'!$W$45=1,AH237,IF('Simulador Pagos Oportunos'!$W$45=2,AI237,IF('Simulador Pagos Oportunos'!$W$45=3,AJ237,IF('Simulador Pagos Oportunos'!$W$45=4,AK237,AG237)))))","v":""},{"$f":"IF(AN237<=0,0,IF('Simulador Pagos Oportunos'!$Y$80=1,0,AN237*'Simulador Pagos Oportunos'!$Y$83))+IF(AN237<=0,0,IF('Simulador Pagos Oportunos'!$W$45=1,'Simulador Pagos Oportunos'!$H$60,IF('Simulador Pagos Oportunos'!$W$45=2,'Simulador Pagos Oportunos'!$J$60,IF('Simulador Pagos Oportunos'!$W$45=3,'Simulador Pagos Oportunos'!$L$60,'Simulador Pagos Oportunos'!$N$60))))","v":0},null,0,0,"",0,218]
[219,0,null,0,null,0,null,0,null,null,null,null,{"$f":"IF(OR('Simulador Pagos Oportunos'!$U$15=5,'Simulador Pagos Oportunos'!$U$15=1,'Simulador Pagos Oportunos'!$U$15=3,'Simulador Pagos Oportunos'!$U$15=4),0,K238*'Simulador Pagos Oportunos'!$N$74*'Simulador Pagos Oportunos'!$V$21)","v":0},null,{"$f":"IF(B238=0,\"\",IF('Simulador Pagos Oportunos'!$W$45=1,AH238,IF('Simulador Pagos Oportunos'!$W$45=2,AI238,IF('Simulador Pagos Oportunos'!$W$45=3,AJ238,IF('Simulador Pagos Oportunos'!$W$45=4,'Tabla Pagos Oportunos'!AK238,AG238)))))","v":""},null,0,null,{"$f":"IF(B238<=0,0,IF('Simulador Pagos Oportunos'!$Y$80=1,0,B238*'Simulador Pagos Oportunos'!$Y$83))","v":0},null,{"$f":"IF(B238<=0,0,IF('Simulador Pagos Oportunos'!$W$45=1,'Simulador Pagos Oportunos'!$H$60,IF('Simulador Pagos Oportunos'!$W$45=2,'Simulador Pagos Oportunos'!$J$60,IF('Simulador Pagos Oportunos'!$W$45=3,'Simulador Pagos Oportunos'!$L$60,IF('Simulador Pagos Oportunos'!$W$45=4,'Simulador Pagos Oportunos'!$N$60)))))","v":0},null,0,null,null,null,18,3,0,0,0,0,{"$f":"AG237","v":8.9999999999999969E-2},null,null,null,0.1225,0,0,0,0,0,0,0,{"$f":"IF(AN238=0,\"\",IF('Simulador Pagos Oportunos'!$W$45=1,AH238,IF('Simulador Pagos Oportunos'!$W$45=2,AI238,IF('Simulador Pagos Oportunos'!$W$45=3,AJ238,IF('Simulador Pagos Oportunos'!$W$45=4,AK238,AG238)))))","v":""},{"$f":"IF(AN238<=0,0,IF('Simulador Pagos Oportunos'!$Y$80=1,0,AN238*'Simulador Pagos Oportunos'!$Y$83))+IF(AN238<=0,0,IF('Simulador Pagos Oportunos'!$W$45=1,'Simulador Pagos Oportunos'!$H$60,IF('Simulador Pagos Oportunos'!$W$45=2,'Simulador Pagos Oportunos'!$J$60,IF('Simulador Pagos Oportunos'!$W$45=3,'Simulador Pagos Oportunos'!$L$60,'Simulador Pagos Oportunos'!$N$60))))","v":0},null,0,0,"",0,219]
[220,0,null,0,null,0,null,0,null,null,null,null,{"$f":"IF(OR('Simulador Pagos Oportunos'!$U$15=5,'Simulador Pagos Oportunos'!$U$15=1,'Simulador Pagos Oportunos'!$U$15=3,'Simulador Pagos Oportunos'!$U$15=4),0,K239*'Simulador Pagos Oportunos'!$N$74*'Simulador Pagos Oportunos'!$V$21)","v":0},null,{"$f":"IF(B239=0,\"\",IF('Simulador Pagos Oportunos'!$W$45=1,AH239,IF('Simulador Pagos Oportunos'!$W$45=2,AI239,IF('Simulador Pagos Oportunos'!$W$45=3,AJ239,IF('Simulador Pagos Oportunos'!$W$45=4,'Tabla Pagos Oportunos'!AK239,AG239)))))","v":""},null,0,null,{"$f":"IF(B239<=0,0,IF('Simulador Pagos Oportunos'!$Y$80=1,0,B239*'Simulador Pagos Oportunos'!$Y$83))","v":0},null,{"$f":"IF(B239<=0,0,IF('Simulador Pagos Oportunos'!$W$45=1,'Simulador Pagos Oportunos'!$H$60,IF('Simulador Pagos Oportunos'!$W$45=2,'Simulador Pagos Oportunos'!$J$60,IF('Simulador Pagos Oportunos'!$W$45=3,'Simulador Pagos Oportunos'!$L$60,IF('Simulador Pagos Oportunos'!$W$45=4,'Simulador Pagos Oportunos'!$N$60)))))","v":0},null,0,null,null,null,18,4,0,0,0,0,8.9999999999999969E-2,null,null,null,0.1225,0,0,0,0,0,0,0,{"$f":"IF(AN239=0,\"\",IF('Simulador Pagos Oportunos'!$W$45=1,AH239,IF('Simulador Pagos Oportunos'!$W$45=2,AI239,IF('Simulador Pagos Oportunos'!$W$45=3,AJ239,IF('Simulador Pagos Oportunos'!$W$45=4,AK239,AG239)))))","v":""},{"$f":"IF(AN239<=0,0,IF('Simulador Pagos Oportunos'!$Y$80=1,0,AN239*'Simulador Pagos Oportunos'!$Y$83))+IF(AN239<=0,0,IF('Simulador Pagos Oportunos'!$W$45=1,'Simulador Pagos Oportunos'!$H$60,IF('Simulador Pagos Oportunos'!$W$45=2,'Simulador Pagos Oportunos'!$J$60,IF('Simulador Pagos Oportunos'!$W$45=3,'Simulador Pagos Oportunos'!$L$60,'Simulador Pagos Oportunos'!$N$60))))","v":0},null,0,0,"",0,220]
[221,0,null,0,null,0,null,0,null,null,null,null,{"$f":"IF(OR('Simulador Pagos Oportunos'!$U$15=5,'Simulador Pagos Oportunos'!$U$15=1,'Simulador Pagos Oportunos'!$U$15=3,'Simulador Pagos Oportunos'!$U$15=4),0,K240*'Simulador Pagos Oportunos'!$N$74*'Simulador Pagos Oportunos'!$V$21)","v":0},null,{"$f":"IF(B240=0,\"\",IF('Simulador Pagos Oportunos'!$W$45=1,AH240,IF('Simulador Pagos Oportunos'!$W$45=2,AI240,IF('Simulador Pagos Oportunos'!$W$45=3,AJ240,IF('Simulador Pagos Oportunos'!$W$45=4,'Tabla Pagos Oportunos'!AK240,AG240)))))","v":""},null,0,null,{"$f":"IF(B240<=0,0,IF('Simulador Pagos Oportunos'!$Y$80=1,0,B240*'Simulador Pagos Oportunos'!$Y$83))","v":0},null,{"$f":"IF(B240<=0,0,IF('Simulador Pagos Oportunos'!$W$45=1,'Simulador Pagos Oportunos'!$H$60,IF('Simulador Pagos Oportunos'!$W$45=2,'Simulador Pagos Oportunos'!$J$60,IF('Simulador Pagos Oportunos'!$W$45=3,'Simulador Pagos Oportunos'!$L$60,IF('Simulador Pagos Oportunos'!$W$45=4,'Simulador Pagos Oportunos'!$N$60)))))","v":0},null,0,null,null,null,18,5,0,0,0,0,8.9999999999999969E-2,null,null,null,0.1225,0,0,0,0,0,0,0,{"$f":"IF(AN240=0,\"\",IF('Simulador Pagos Oportunos'!$W$45=1,AH240,IF('Simulador Pagos Oportunos'!$W$45=2,AI240,IF('Simulador Pagos Oportunos'!$W$45=3,AJ240,IF('Simulador Pagos Oportunos'!$W$45=4,AK240,AG240)))))","v":""},{"$f":"IF(AN240<=0,0,IF('Simulador Pagos Oportunos'!$Y$80=1,0,AN240*'Simulador Pagos Oportunos'!$Y$83))+IF(AN240<=0,0,IF('Simulador Pagos Oportunos'!$W$45=1,'Simulador Pagos Oportunos'!$H$60,IF('Simulador Pagos Oportunos'!$W$45=2,'Simulador Pagos Oportunos'!$J$60,IF('Simulador Pagos Oportunos'!$W$45=3,'Simulador Pagos Oportunos'!$L$60,'Simulador Pagos Oportunos'!$N$60))))","v":0},null,0,0,"",0,221]
[222,0,null,0,null,0,null,0,null,null,null,null,{"$f":"IF(OR('Simulador Pagos Oportunos'!$U$15=5,'Simulador Pagos Oportunos'!$U$15=1,'Simulador Pagos Oportunos'!$U$15=3,'Simulador Pagos Oportunos'!$U$15=4),0,K241*'Simulador Pagos Oportunos'!$N$74*'Simulador Pagos Oportunos'!$V$21)","v":0},null,{"$f":"IF(B241=0,\"\",IF('Simulador Pagos Oportunos'!$W$45=1,AH241,IF('Simulador Pagos Oportunos'!$W$45=2,AI241,IF('Simulador Pagos Oportunos'!$W$45=3,AJ241,IF('Simulador Pagos Oportunos'!$W$45=4,'Tabla Pagos Oportunos'!AK241,AG241)))))","v":""},null,0,null,{"$f":"IF(B241<=0,0,IF('Simulador Pagos Oportunos'!$Y$80=1,0,B241*'Simulador Pagos Oportunos'!$Y$83))","v":0},null,{"$f":"IF(B241<=0,0,IF('Simulador Pagos Oportunos'!$W$45=1,'Simulador Pagos Oportunos'!$H$60,IF('Simulador Pagos Oportunos'!$W$45=2,'Simulador Pagos Oportunos'!$J$60,IF('Simulador Pagos Oportunos'!$W$45=3,'Simulador Pagos Oportunos'!$L$60,IF('Simulador Pagos Oportunos'!$W$45=4,'Simulador Pagos Oportunos'!$N$60)))))","v":0},null,0,null,null,null,18,6,0,0,0,0,8.9999999999999969E-2,null,null,null,0.1225,0,0,0,0,0,0,0,{"$f":"IF(AN241=0,\"\",IF('Simulador Pagos Oportunos'!$W$45=1,AH241,IF('Simulador Pagos Oportunos'!$W$45=2,AI241,IF('Simulador Pagos Oportunos'!$W$45=3,AJ241,IF('Simulador Pagos Oportunos'!$W$45=4,AK241,AG241)))))","v":""},{"$f":"IF(AN241<=0,0,IF('Simulador Pagos Oportunos'!$Y$80=1,0,AN241*'Simulador Pagos Oportunos'!$Y$83))+IF(AN241<=0,0,IF('Simulador Pagos Oportunos'!$W$45=1,'Simulador Pagos Oportunos'!$H$60,IF('Simulador Pagos Oportunos'!$W$45=2,'Simulador Pagos Oportunos'!$J$60,IF('Simulador Pagos Oportunos'!$W$45=3,'Simulador Pagos Oportunos'!$L$60,'Simulador Pagos Oportunos'!$N$60))))","v":0},null,0,0,"",0,222]
[223,0,null,0,null,0,null,0,null,null,null,null,{"$f":"IF(OR('Simulador Pagos Oportunos'!$U$15=5,'Simulador Pagos Oportunos'!$U$15=1,'Simulador Pagos Oportunos'!$U$15=3,'Simulador Pagos Oportunos'!$U$15=4),0,K242*'Simulador Pagos Oportunos'!$N$74*'Simulador Pagos Oportunos'!$V$21)","v":0},null,{"$f":"IF(B242=0,\"\",IF('Simulador Pagos Oportunos'!$W$45=1,AH242,IF('Simulador Pagos Oportunos'!$W$45=2,AI242,IF('Simulador Pagos Oportunos'!$W$45=3,AJ242,IF('Simulador Pagos Oportunos'!$W$45=4,'Tabla Pagos Oportunos'!AK242,AG242)))))","v":""},null,0,null,{"$f":"IF(B242<=0,0,IF('Simulador Pagos Oportunos'!$Y$80=1,0,B242*'Simulador Pagos Oportunos'!$Y$83))","v":0},null,{"$f":"IF(B242<=0,0,IF('Simulador Pagos Oportunos'!$W$45=1,'Simulador Pagos Oportunos'!$H$60,IF('Simulador Pagos Oportunos'!$W$45=2,'Simulador Pagos Oportunos'!$J$60,IF('Simulador Pagos Oportunos'!$W$45=3,'Simulador Pagos Oportunos'!$L$60,IF('Simulador Pagos Oportunos'!$W$45=4,'Simulador Pagos Oportunos'!$N$60)))))","v":0},null,0,null,null,null,18,7,0,0,0,0,8.9999999999999969E-2,null,null,null,0.1225,0,0,0,0,0,0,0,{"$f":"IF(AN242=0,\"\",IF('Simulador Pagos Oportunos'!$W$45=1,AH242,IF('Simulador Pagos Oportunos'!$W$45=2,AI242,IF('Simulador Pagos Oportunos'!$W$45=3,AJ242,IF('Simulador Pagos Oportunos'!$W$45=4,AK242,AG242)))))","v":""},{"$f":"IF(AN242<=0,0,IF('Simulador Pagos Oportunos'!$Y$80=1,0,AN242*'Simulador Pagos Oportunos'!$Y$83))+IF(AN242<=0,0,IF('Simulador Pagos Oportunos'!$W$45=1,'Simulador Pagos Oportunos'!$H$60,IF('Simulador Pagos Oportunos'!$W$45=2,'Simulador Pagos Oportunos'!$J$60,IF('Simulador Pagos Oportunos'!$W$45=3,'Simulador Pagos Oportunos'!$L$60,'Simulador Pagos Oportunos'!$N$60))))","v":0},null,0,0,"",0,223]
[224,0,null,0,null,0,null,0,null,null,null,null,{"$f":"IF(OR('Simulador Pagos Oportunos'!$U$15=5,'Simulador Pagos Oportunos'!$U$15=1,'Simulador Pagos Oportunos'!$U$15=3,'Simulador Pagos Oportunos'!$U$15=4),0,K243*'Simulador Pagos Oportunos'!$N$74*'Simulador Pagos Oportunos'!$V$21)","v":0},null,{"$f":"IF(B243=0,\"\",IF('Simulador Pagos Oportunos'!$W$45=1,AH243,IF('Simulador Pagos Oportunos'!$W$45=2,AI243,IF('Simulador Pagos Oportunos'!$W$45=3,AJ243,IF('Simulador Pagos Oportunos'!$W$45=4,'Tabla Pagos Oportunos'!AK243,AG243)))))","v":""},null,0,null,{"$f":"IF(B243<=0,0,IF('Simulador Pagos Oportunos'!$Y$80=1,0,B243*'Simulador Pagos Oportunos'!$Y$83))","v":0},null,{"$f":"IF(B243<=0,0,IF('Simulador Pagos Oportunos'!$W$45=1,'Simulador Pagos Oportunos'!$H$60,IF('Simulador Pagos Oportunos'!$W$45=2,'Simulador Pagos Oportunos'!$J$60,IF('Simulador Pagos Oportunos'!$W$45=3,'Simulador Pagos Oportunos'!$L$60,IF('Simulador Pagos Oportunos'!$W$45=4,'Simulador Pagos Oportunos'!$N$60)))))","v":0},null,0,null,null,null,18,8,0,0,0,0,8.9999999999999969E-2,null,null,null,0.1225,0,0,0,0,0,0,0,{"$f":"IF(AN243=0,\"\",IF('Simulador Pagos Oportunos'!$W$45=1,AH243,IF('Simulador Pagos Oportunos'!$W$45=2,AI243,IF('Simulador Pagos Oportunos'!$W$45=3,AJ243,IF('Simulador Pagos Oportunos'!$W$45=4,AK243,AG243)))))","v":""},{"$f":"IF(AN243<=0,0,IF('Simulador Pagos Oportunos'!$Y$80=1,0,AN243*'Simulador Pagos Oportunos'!$Y$83))+IF(AN243<=0,0,IF('Simulador Pagos Oportunos'!$W$45=1,'Simulador Pagos Oportunos'!$H$60,IF('Simulador Pagos Oportunos'!$W$45=2,'Simulador Pagos Oportunos'!$J$60,IF('Simulador Pagos Oportunos'!$W$45=3,'Simulador Pagos Oportunos'!$L$60,'Simulador Pagos Oportunos'!$N$60))))","v":0},null,0,0,"",0,224]
[225,0,null,0,null,0,null,0,null,null,null,null,{"$f":"IF(OR('Simulador Pagos Oportunos'!$U$15=5,'Simulador Pagos Oportunos'!$U$15=1,'Simulador Pagos Oportunos'!$U$15=3,'Simulador Pagos Oportunos'!$U$15=4),0,K244*'Simulador Pagos Oportunos'!$N$74*'Simulador Pagos Oportunos'!$V$21)","v":0},null,{"$f":"IF(B244=0,\"\",IF('Simulador Pagos Oportunos'!$W$45=1,AH244,IF('Simulador Pagos Oportunos'!$W$45=2,AI244,IF('Simulador Pagos Oportunos'!$W$45=3,AJ244,IF('Simulador Pagos Oportunos'!$W$45=4,'Tabla Pagos Oportunos'!AK244,AG244)))))","v":""},null,0,null,{"$f":"IF(B244<=0,0,IF('Simulador Pagos Oportunos'!$Y$80=1,0,B244*'Simulador Pagos Oportunos'!$Y$83))","v":0},null,{"$f":"IF(B244<=0,0,IF('Simulador Pagos Oportunos'!$W$45=1,'Simulador Pagos Oportunos'!$H$60,IF('Simulador Pagos Oportunos'!$W$45=2,'Simulador Pagos Oportunos'!$J$60,IF('Simulador Pagos Oportunos'!$W$45=3,'Simulador Pagos Oportunos'!$L$60,IF('Simulador Pagos Oportunos'!$W$45=4,'Simulador Pagos Oportunos'!$N$60)))))","v":0},null,0,null,null,null,18,9,0,0,0,0,8.9999999999999969E-2,null,null,null,0.1225,0,0,0,0,0,0,0,{"$f":"IF(AN244=0,\"\",IF('Simulador Pagos Oportunos'!$W$45=1,AH244,IF('Simulador Pagos Oportunos'!$W$45=2,AI244,IF('Simulador Pagos Oportunos'!$W$45=3,AJ244,IF('Simulador Pagos Oportunos'!$W$45=4,AK244,AG244)))))","v":""},{"$f":"IF(AN244<=0,0,IF('Simulador Pagos Oportunos'!$Y$80=1,0,AN244*'Simulador Pagos Oportunos'!$Y$83))+IF(AN244<=0,0,IF('Simulador Pagos Oportunos'!$W$45=1,'Simulador Pagos Oportunos'!$H$60,IF('Simulador Pagos Oportunos'!$W$45=2,'Simulador Pagos Oportunos'!$J$60,IF('Simulador Pagos Oportunos'!$W$45=3,'Simulador Pagos Oportunos'!$L$60,'Simulador Pagos Oportunos'!$N$60))))","v":0},null,0,0,"",0,225]
[226,0,null,0,null,0,null,0,null,null,null,null,{"$f":"IF(OR('Simulador Pagos Oportunos'!$U$15=5,'Simulador Pagos Oportunos'!$U$15=1,'Simulador Pagos Oportunos'!$U$15=3,'Simulador Pagos Oportunos'!$U$15=4),0,K245*'Simulador Pagos Oportunos'!$N$74*'Simulador Pagos Oportunos'!$V$21)","v":0},null,{"$f":"IF(B245=0,\"\",IF('Simulador Pagos Oportunos'!$W$45=1,AH245,IF('Simulador Pagos Oportunos'!$W$45=2,AI245,IF('Simulador Pagos Oportunos'!$W$45=3,AJ245,IF('Simulador Pagos Oportunos'!$W$45=4,'Tabla Pagos Oportunos'!AK245,AG245)))))","v":""},null,0,null,{"$f":"IF(B245<=0,0,IF('Simulador Pagos Oportunos'!$Y$80=1,0,B245*'Simulador Pagos Oportunos'!$Y$83))","v":0},null,{"$f":"IF(B245<=0,0,IF('Simulador Pagos Oportunos'!$W$45=1,'Simulador Pagos Oportunos'!$H$60,IF('Simulador Pagos Oportunos'!$W$45=2,'Simulador Pagos Oportunos'!$J$60,IF('Simulador Pagos Oportunos'!$W$45=3,'Simulador Pagos Oportunos'!$L$60,IF('Simulador Pagos Oportunos'!$W$45=4,'Simulador Pagos Oportunos'!$N$60)))))","v":0},null,0,null,null,null,18,10,0,0,0,0,8.9999999999999969E-2,null,null,null,0.1225,0,0,0,0,0,0,0,{"$f":"IF(AN245=0,\"\",IF('Simulador Pagos Oportunos'!$W$45=1,AH245,IF('Simulador Pagos Oportunos'!$W$45=2,AI245,IF('Simulador Pagos Oportunos'!$W$45=3,AJ245,IF('Simulador Pagos Oportunos'!$W$45=4,AK245,AG245)))))","v":""},{"$f":"IF(AN245<=0,0,IF('Simulador Pagos Oportunos'!$Y$80=1,0,AN245*'Simulador Pagos Oportunos'!$Y$83))+IF(AN245<=0,0,IF('Simulador Pagos Oportunos'!$W$45=1,'Simulador Pagos Oportunos'!$H$60,IF('Simulador Pagos Oportunos'!$W$45=2,'Simulador Pagos Oportunos'!$J$60,IF('Simulador Pagos Oportunos'!$W$45=3,'Simulador Pagos Oportunos'!$L$60,'Simulador Pagos Oportunos'!$N$60))))","v":0},null,0,0,"",0,226]
[227,0,null,0,null,0,null,0,null,null,null,null,{"$f":"IF(OR('Simulador Pagos Oportunos'!$U$15=5,'Simulador Pagos Oportunos'!$U$15=1,'Simulador Pagos Oportunos'!$U$15=3,'Simulador Pagos Oportunos'!$U$15=4),0,K246*'Simulador Pagos Oportunos'!$N$74*'Simulador Pagos Oportunos'!$V$21)","v":0},null,{"$f":"IF(B246=0,\"\",IF('Simulador Pagos Oportunos'!$W$45=1,AH246,IF('Simulador Pagos Oportunos'!$W$45=2,AI246,IF('Simulador Pagos Oportunos'!$W$45=3,AJ246,IF('Simulador Pagos Oportunos'!$W$45=4,'Tabla Pagos Oportunos'!AK246,AG246)))))","v":""},null,0,null,{"$f":"IF(B246<=0,0,IF('Simulador Pagos Oportunos'!$Y$80=1,0,B246*'Simulador Pagos Oportunos'!$Y$83))","v":0},null,{"$f":"IF(B246<=0,0,IF('Simulador Pagos Oportunos'!$W$45=1,'Simulador Pagos Oportunos'!$H$60,IF('Simulador Pagos Oportunos'!$W$45=2,'Simulador Pagos Oportunos'!$J$60,IF('Simulador Pagos Oportunos'!$W$45=3,'Simulador Pagos Oportunos'!$L$60,IF('Simulador Pagos Oportunos'!$W$45=4,'Simulador Pagos Oportunos'!$N$60)))))","v":0},null,0,null,null,null,18,11,0,0,0,0,8.9999999999999969E-2,null,null,null,0.1225,0,0,0,0,0,0,0,{"$f":"IF(AN246=0,\"\",IF('Simulador Pagos Oportunos'!$W$45=1,AH246,IF('Simulador Pagos Oportunos'!$W$45=2,AI246,IF('Simulador Pagos Oportunos'!$W$45=3,AJ246,IF('Simulador Pagos Oportunos'!$W$45=4,AK246,AG246)))))","v":""},{"$f":"IF(AN246<=0,0,IF('Simulador Pagos Oportunos'!$Y$80=1,0,AN246*'Simulador Pagos Oportunos'!$Y$83))+IF(AN246<=0,0,IF('Simulador Pagos Oportunos'!$W$45=1,'Simulador Pagos Oportunos'!$H$60,IF('Simulador Pagos Oportunos'!$W$45=2,'Simulador Pagos Oportunos'!$J$60,IF('Simulador Pagos Oportunos'!$W$45=3,'Simulador Pagos Oportunos'!$L$60,'Simulador Pagos Oportunos'!$N$60))))","v":0},null,0,0,"",0,227]
[228,0,null,0,null,0,null,0,null,null,null,null,{"$f":"IF(OR('Simulador Pagos Oportunos'!$U$15=5,'Simulador Pagos Oportunos'!$U$15=1,'Simulador Pagos Oportunos'!$U$15=3,'Simulador Pagos Oportunos'!$U$15=4),0,K247*'Simulador Pagos Oportunos'!$N$74*'Simulador Pagos Oportunos'!$V$21)","v":0},null,{"$f":"IF(B247=0,\"\",IF('Simulador Pagos Oportunos'!$W$45=1,AH247,IF('Simulador Pagos Oportunos'!$W$45=2,AI247,IF('Simulador Pagos Oportunos'!$W$45=3,AJ247,IF('Simulador Pagos Oportunos'!$W$45=4,'Tabla Pagos Oportunos'!AK247,AG247)))))","v":""},null,0,null,{"$f":"IF(B247<=0,0,IF('Simulador Pagos Oportunos'!$Y$80=1,0,B247*'Simulador Pagos Oportunos'!$Y$83))","v":0},null,{"$f":"IF(B247<=0,0,IF('Simulador Pagos Oportunos'!$W$45=1,'Simulador Pagos Oportunos'!$H$60,IF('Simulador Pagos Oportunos'!$W$45=2,'Simulador Pagos Oportunos'!$J$60,IF('Simulador Pagos Oportunos'!$W$45=3,'Simulador Pagos Oportunos'!$L$60,IF('Simulador Pagos Oportunos'!$W$45=4,'Simulador Pagos Oportunos'!$N$60)))))","v":0},null,0,null,null,null,19,0,0,0,0,0,8.9999999999999969E-2,null,null,null,0.1225,0,0,0,0,0,0,0,{"$f":"IF(AN247=0,\"\",IF('Simulador Pagos Oportunos'!$W$45=1,AH247,IF('Simulador Pagos Oportunos'!$W$45=2,AI247,IF('Simulador Pagos Oportunos'!$W$45=3,AJ247,IF('Simulador Pagos Oportunos'!$W$45=4,AK247,AG247)))))","v":""},{"$f":"IF(AN247<=0,0,IF('Simulador Pagos Oportunos'!$Y$80=1,0,AN247*'Simulador Pagos Oportunos'!$Y$83))+IF(AN247<=0,0,IF('Simulador Pagos Oportunos'!$W$45=1,'Simulador Pagos Oportunos'!$H$60,IF('Simulador Pagos Oportunos'!$W$45=2,'Simulador Pagos Oportunos'!$J$60,IF('Simulador Pagos Oportunos'!$W$45=3,'Simulador Pagos Oportunos'!$L$60,'Simulador Pagos Oportunos'!$N$60))))","v":0},null,0,0,"",0,228]
[229,0,null,0,null,0,null,0,null,null,null,null,{"$f":"IF(OR('Simulador Pagos Oportunos'!$U$15=5,'Simulador Pagos Oportunos'!$U$15=1,'Simulador Pagos Oportunos'!$U$15=3,'Simulador Pagos Oportunos'!$U$15=4),0,K248*'Simulador Pagos Oportunos'!$N$74*'Simulador Pagos Oportunos'!$V$21)","v":0},null,{"$f":"IF(B248=0,\"\",IF('Simulador Pagos Oportunos'!$W$45=1,AH248,IF('Simulador Pagos Oportunos'!$W$45=2,AI248,IF('Simulador Pagos Oportunos'!$W$45=3,AJ248,IF('Simulador Pagos Oportunos'!$W$45=4,'Tabla Pagos Oportunos'!AK248,AG248)))))","v":""},null,0,null,{"$f":"IF(B248<=0,0,IF('Simulador Pagos Oportunos'!$Y$80=1,0,B248*'Simulador Pagos Oportunos'!$Y$83))","v":0},null,{"$f":"IF(B248<=0,0,IF('Simulador Pagos Oportunos'!$W$45=1,'Simulador Pagos Oportunos'!$H$60,IF('Simulador Pagos Oportunos'!$W$45=2,'Simulador Pagos Oportunos'!$J$60,IF('Simulador Pagos Oportunos'!$W$45=3,'Simulador Pagos Oportunos'!$L$60,IF('Simulador Pagos Oportunos'!$W$45=4,'Simulador Pagos Oportunos'!$N$60)))))","v":0},null,0,null,{"$f":"IF(B248<=0,0,IF(OR('Simulador Pagos Oportunos'!$W$45=4,'Simulador Pagos Oportunos'!$W$45=5),0,'Simulador Pagos Oportunos'!$AG$62))","v":0},null,19,1,0,0,0,0,{"$f":"IF(AG247=$AG$4,AG247,IF(AG247-0.25%<=$AG$4,$AG$4,AG247-0.25%))","v":8.7499999999999967E-2},null,null,null,0.1225,0,0,0,0,0,0,0,{"$f":"IF(AN248=0,\"\",IF('Simulador Pagos Oportunos'!$W$45=1,AH248,IF('Simulador Pagos Oportunos'!$W$45=2,AI248,IF('Simulador Pagos Oportunos'!$W$45=3,AJ248,IF('Simulador Pagos Oportunos'!$W$45=4,AK248,AG248)))))","v":""},{"$f":"IF(AN248<=0,0,IF('Simulador Pagos Oportunos'!$Y$80=1,0,AN248*'Simulador Pagos Oportunos'!$Y$83))+IF(AN248<=0,0,IF('Simulador Pagos Oportunos'!$W$45=1,'Simulador Pagos Oportunos'!$H$60,IF('Simulador Pagos Oportunos'!$W$45=2,'Simulador Pagos Oportunos'!$J$60,IF('Simulador Pagos Oportunos'!$W$45=3,'Simulador Pagos Oportunos'!$L$60,'Simulador Pagos Oportunos'!$N$60))))","v":0},{"$f":"IF(AN248<=0,0,$AU$32)","v":0},0,0,"",0,229]
[230,0,null,0,null,0,null,0,null,null,null,null,{"$f":"IF(OR('Simulador Pagos Oportunos'!$U$15=5,'Simulador Pagos Oportunos'!$U$15=1,'Simulador Pagos Oportunos'!$U$15=3,'Simulador Pagos Oportunos'!$U$15=4),0,K249*'Simulador Pagos Oportunos'!$N$74*'Simulador Pagos Oportunos'!$V$21)","v":0},null,{"$f":"IF(B249=0,\"\",IF('Simulador Pagos Oportunos'!$W$45=1,AH249,IF('Simulador Pagos Oportunos'!$W$45=2,AI249,IF('Simulador Pagos Oportunos'!$W$45=3,AJ249,IF('Simulador Pagos Oportunos'!$W$45=4,'Tabla Pagos Oportunos'!AK249,AG249)))))","v":""},null,0,null,{"$f":"IF(B249<=0,0,IF('Simulador Pagos Oportunos'!$Y$80=1,0,B249*'Simulador Pagos Oportunos'!$Y$83))","v":0},null,{"$f":"IF(B249<=0,0,IF('Simulador Pagos Oportunos'!$W$45=1,'Simulador Pagos Oportunos'!$H$60,IF('Simulador Pagos Oportunos'!$W$45=2,'Simulador Pagos Oportunos'!$J$60,IF('Simulador Pagos Oportunos'!$W$45=3,'Simulador Pagos Oportunos'!$L$60,IF('Simulador Pagos Oportunos'!$W$45=4,'Simulador Pagos Oportunos'!$N$60)))))","v":0},null,0,null,null,null,19,2,0,0,0,0,{"$f":"AG248","v":8.7499999999999967E-2},null,null,null,0.1225,0,0,0,0,0,0,0,{"$f":"IF(AN249=0,\"\",IF('Simulador Pagos Oportunos'!$W$45=1,AH249,IF('Simulador Pagos Oportunos'!$W$45=2,AI249,IF('Simulador Pagos Oportunos'!$W$45=3,AJ249,IF('Simulador Pagos Oportunos'!$W$45=4,AK249,AG249)))))","v":""},{"$f":"IF(AN249<=0,0,IF('Simulador Pagos Oportunos'!$Y$80=1,0,AN249*'Simulador Pagos Oportunos'!$Y$83))+IF(AN249<=0,0,IF('Simulador Pagos Oportunos'!$W$45=1,'Simulador Pagos Oportunos'!$H$60,IF('Simulador Pagos Oportunos'!$W$45=2,'Simulador Pagos Oportunos'!$J$60,IF('Simulador Pagos Oportunos'!$W$45=3,'Simulador Pagos Oportunos'!$L$60,'Simulador Pagos Oportunos'!$N$60))))","v":0},null,0,0,"",0,230]
[231,0,null,0,null,0,null,0,null,null,null,null,{"$f":"IF(OR('Simulador Pagos Oportunos'!$U$15=5,'Simulador Pagos Oportunos'!$U$15=1,'Simulador Pagos Oportunos'!$U$15=3,'Simulador Pagos Oportunos'!$U$15=4),0,K250*'Simulador Pagos Oportunos'!$N$74*'Simulador Pagos Oportunos'!$V$21)","v":0},null,{"$f":"IF(B250=0,\"\",IF('Simulador Pagos Oportunos'!$W$45=1,AH250,IF('Simulador Pagos Oportunos'!$W$45=2,AI250,IF('Simulador Pagos Oportunos'!$W$45=3,AJ250,IF('Simulador Pagos Oportunos'!$W$45=4,'Tabla Pagos Oportunos'!AK250,AG250)))))","v":""},null,0,null,{"$f":"IF(B250<=0,0,IF('Simulador Pagos Oportunos'!$Y$80=1,0,B250*'Simulador Pagos Oportunos'!$Y$83))","v":0},null,{"$f":"IF(B250<=0,0,IF('Simulador Pagos Oportunos'!$W$45=1,'Simulador Pagos Oportunos'!$H$60,IF('Simulador Pagos Oportunos'!$W$45=2,'Simulador Pagos Oportunos'!$J$60,IF('Simulador Pagos Oportunos'!$W$45=3,'Simulador Pagos Oportunos'!$L$60,IF('Simulador Pagos Oportunos'!$W$45=4,'Simulador Pagos Oportunos'!$N$60)))))","v":0},null,0,null,null,null,19,3,0,0,0,0,{"$f":"AG249","v":8.7499999999999967E-2},null,null,null,0.1225,0,0,0,0,0,0,0,{"$f":"IF(AN250=0,\"\",IF('Simulador Pagos Oportunos'!$W$45=1,AH250,IF('Simulador Pagos Oportunos'!$W$45=2,AI250,IF('Simulador Pagos Oportunos'!$W$45=3,AJ250,IF('Simulador Pagos Oportunos'!$W$45=4,AK250,AG250)))))","v":""},{"$f":"IF(AN250<=0,0,IF('Simulador Pagos Oportunos'!$Y$80=1,0,AN250*'Simulador Pagos Oportunos'!$Y$83))+IF(AN250<=0,0,IF('Simulador Pagos Oportunos'!$W$45=1,'Simulador Pagos Oportunos'!$H$60,IF('Simulador Pagos Oportunos'!$W$45=2,'Simulador Pagos Oportunos'!$J$60,IF('Simulador Pagos Oportunos'!$W$45=3,'Simulador Pagos Oportunos'!$L$60,'Simulador Pagos Oportunos'!$N$60))))","v":0},null,0,0,"",0,231]
[232,0,null,0,null,0,null,0,null,null,null,null,{"$f":"IF(OR('Simulador Pagos Oportunos'!$U$15=5,'Simulador Pagos Oportunos'!$U$15=1,'Simulador Pagos Oportunos'!$U$15=3,'Simulador Pagos Oportunos'!$U$15=4),0,K251*'Simulador Pagos Oportunos'!$N$74*'Simulador Pagos Oportunos'!$V$21)","v":0},null,{"$f":"IF(B251=0,\"\",IF('Simulador Pagos Oportunos'!$W$45=1,AH251,IF('Simulador Pagos Oportunos'!$W$45=2,AI251,IF('Simulador Pagos Oportunos'!$W$45=3,AJ251,IF('Simulador Pagos Oportunos'!$W$45=4,'Tabla Pagos Oportunos'!AK251,AG251)))))","v":""},null,0,null,{"$f":"IF(B251<=0,0,IF('Simulador Pagos Oportunos'!$Y$80=1,0,B251*'Simulador Pagos Oportunos'!$Y$83))","v":0},null,{"$f":"IF(B251<=0,0,IF('Simulador Pagos Oportunos'!$W$45=1,'Simulador Pagos Oportunos'!$H$60,IF('Simulador Pagos Oportunos'!$W$45=2,'Simulador Pagos Oportunos'!$J$60,IF('Simulador Pagos Oportunos'!$W$45=3,'Simulador Pagos Oportunos'!$L$60,IF('Simulador Pagos Oportunos'!$W$45=4,'Simulador Pagos Oportunos'!$N$60)))))","v":0},null,0,null,null,null,19,4,0,0,0,0,8.7499999999999967E-2,null,null,null,0.1225,0,0,0,0,0,0,0,{"$f":"IF(AN251=0,\"\",IF('Simulador Pagos Oportunos'!$W$45=1,AH251,IF('Simulador Pagos Oportunos'!$W$45=2,AI251,IF('Simulador Pagos Oportunos'!$W$45=3,AJ251,IF('Simulador Pagos Oportunos'!$W$45=4,AK251,AG251)))))","v":""},{"$f":"IF(AN251<=0,0,IF('Simulador Pagos Oportunos'!$Y$80=1,0,AN251*'Simulador Pagos Oportunos'!$Y$83))+IF(AN251<=0,0,IF('Simulador Pagos Oportunos'!$W$45=1,'Simulador Pagos Oportunos'!$H$60,IF('Simulador Pagos Oportunos'!$W$45=2,'Simulador Pagos Oportunos'!$J$60,IF('Simulador Pagos Oportunos'!$W$45=3,'Simulador Pagos Oportunos'!$L$60,'Simulador Pagos Oportunos'!$N$60))))","v":0},null,0,0,"",0,232]
[233,0,null,0,null,0,null,0,null,null,null,null,{"$f":"IF(OR('Simulador Pagos Oportunos'!$U$15=5,'Simulador Pagos Oportunos'!$U$15=1,'Simulador Pagos Oportunos'!$U$15=3,'Simulador Pagos Oportunos'!$U$15=4),0,K252*'Simulador Pagos Oportunos'!$N$74*'Simulador Pagos Oportunos'!$V$21)","v":0},null,{"$f":"IF(B252=0,\"\",IF('Simulador Pagos Oportunos'!$W$45=1,AH252,IF('Simulador Pagos Oportunos'!$W$45=2,AI252,IF('Simulador Pagos Oportunos'!$W$45=3,AJ252,IF('Simulador Pagos Oportunos'!$W$45=4,'Tabla Pagos Oportunos'!AK252,AG252)))))","v":""},null,0,null,{"$f":"IF(B252<=0,0,IF('Simulador Pagos Oportunos'!$Y$80=1,0,B252*'Simulador Pagos Oportunos'!$Y$83))","v":0},null,{"$f":"IF(B252<=0,0,IF('Simulador Pagos Oportunos'!$W$45=1,'Simulador Pagos Oportunos'!$H$60,IF('Simulador Pagos Oportunos'!$W$45=2,'Simulador Pagos Oportunos'!$J$60,IF('Simulador Pagos Oportunos'!$W$45=3,'Simulador Pagos Oportunos'!$L$60,IF('Simulador Pagos Oportunos'!$W$45=4,'Simulador Pagos Oportunos'!$N$60)))))","v":0},null,0,null,null,null,19,5,0,0,0,0,8.7499999999999967E-2,null,null,null,0.1225,0,0,0,0,0,0,0,{"$f":"IF(AN252=0,\"\",IF('Simulador Pagos Oportunos'!$W$45=1,AH252,IF('Simulador Pagos Oportunos'!$W$45=2,AI252,IF('Simulador Pagos Oportunos'!$W$45=3,AJ252,IF('Simulador Pagos Oportunos'!$W$45=4,AK252,AG252)))))","v":""},{"$f":"IF(AN252<=0,0,IF('Simulador Pagos Oportunos'!$Y$80=1,0,AN252*'Simulador Pagos Oportunos'!$Y$83))+IF(AN252<=0,0,IF('Simulador Pagos Oportunos'!$W$45=1,'Simulador Pagos Oportunos'!$H$60,IF('Simulador Pagos Oportunos'!$W$45=2,'Simulador Pagos Oportunos'!$J$60,IF('Simulador Pagos Oportunos'!$W$45=3,'Simulador Pagos Oportunos'!$L$60,'Simulador Pagos Oportunos'!$N$60))))","v":0},null,0,0,"",0,233]
[234,0,null,0,null,0,null,0,null,null,null,null,{"$f":"IF(OR('Simulador Pagos Oportunos'!$U$15=5,'Simulador Pagos Oportunos'!$U$15=1,'Simulador Pagos Oportunos'!$U$15=3,'Simulador Pagos Oportunos'!$U$15=4),0,K253*'Simulador Pagos Oportunos'!$N$74*'Simulador Pagos Oportunos'!$V$21)","v":0},null,{"$f":"IF(B253=0,\"\",IF('Simulador Pagos Oportunos'!$W$45=1,AH253,IF('Simulador Pagos Oportunos'!$W$45=2,AI253,IF('Simulador Pagos Oportunos'!$W$45=3,AJ253,IF('Simulador Pagos Oportunos'!$W$45=4,'Tabla Pagos Oportunos'!AK253,AG253)))))","v":""},null,0,null,{"$f":"IF(B253<=0,0,IF('Simulador Pagos Oportunos'!$Y$80=1,0,B253*'Simulador Pagos Oportunos'!$Y$83))","v":0},null,{"$f":"IF(B253<=0,0,IF('Simulador Pagos Oportunos'!$W$45=1,'Simulador Pagos Oportunos'!$H$60,IF('Simulador Pagos Oportunos'!$W$45=2,'Simulador Pagos Oportunos'!$J$60,IF('Simulador Pagos Oportunos'!$W$45=3,'Simulador Pagos Oportunos'!$L$60,IF('Simulador Pagos Oportunos'!$W$45=4,'Simulador Pagos Oportunos'!$N$60)))))","v":0},null,0,null,null,null,19,6,0,0,0,0,8.7499999999999967E-2,null,null,null,0.1225,0,0,0,0,0,0,0,{"$f":"IF(AN253=0,\"\",IF('Simulador Pagos Oportunos'!$W$45=1,AH253,IF('Simulador Pagos Oportunos'!$W$45=2,AI253,IF('Simulador Pagos Oportunos'!$W$45=3,AJ253,IF('Simulador Pagos Oportunos'!$W$45=4,AK253,AG253)))))","v":""},{"$f":"IF(AN253<=0,0,IF('Simulador Pagos Oportunos'!$Y$80=1,0,AN253*'Simulador Pagos Oportunos'!$Y$83))+IF(AN253<=0,0,IF('Simulador Pagos Oportunos'!$W$45=1,'Simulador Pagos Oportunos'!$H$60,IF('Simulador Pagos Oportunos'!$W$45=2,'Simulador Pagos Oportunos'!$J$60,IF('Simulador Pagos Oportunos'!$W$45=3,'Simulador Pagos Oportunos'!$L$60,'Simulador Pagos Oportunos'!$N$60))))","v":0},null,0,0,"",0,234]
[235,0,null,0,null,0,null,0,null,null,null,null,{"$f":"IF(OR('Simulador Pagos Oportunos'!$U$15=5,'Simulador Pagos Oportunos'!$U$15=1,'Simulador Pagos Oportunos'!$U$15=3,'Simulador Pagos Oportunos'!$U$15=4),0,K254*'Simulador Pagos Oportunos'!$N$74*'Simulador Pagos Oportunos'!$V$21)","v":0},null,{"$f":"IF(B254=0,\"\",IF('Simulador Pagos Oportunos'!$W$45=1,AH254,IF('Simulador Pagos Oportunos'!$W$45=2,AI254,IF('Simulador Pagos Oportunos'!$W$45=3,AJ254,IF('Simulador Pagos Oportunos'!$W$45=4,'Tabla Pagos Oportunos'!AK254,AG254)))))","v":""},null,0,null,{"$f":"IF(B254<=0,0,IF('Simulador Pagos Oportunos'!$Y$80=1,0,B254*'Simulador Pagos Oportunos'!$Y$83))","v":0},null,{"$f":"IF(B254<=0,0,IF('Simulador Pagos Oportunos'!$W$45=1,'Simulador Pagos Oportunos'!$H$60,IF('Simulador Pagos Oportunos'!$W$45=2,'Simulador Pagos Oportunos'!$J$60,IF('Simulador Pagos Oportunos'!$W$45=3,'Simulador Pagos Oportunos'!$L$60,IF('Simulador Pagos Oportunos'!$W$45=4,'Simulador Pagos Oportunos'!$N$60)))))","v":0},null,0,null,null,null,19,7,0,0,0,0,8.7499999999999967E-2,null,null,null,0.1225,0,0,0,0,0,0,0,{"$f":"IF(AN254=0,\"\",IF('Simulador Pagos Oportunos'!$W$45=1,AH254,IF('Simulador Pagos Oportunos'!$W$45=2,AI254,IF('Simulador Pagos Oportunos'!$W$45=3,AJ254,IF('Simulador Pagos Oportunos'!$W$45=4,AK254,AG254)))))","v":""},{"$f":"IF(AN254<=0,0,IF('Simulador Pagos Oportunos'!$Y$80=1,0,AN254*'Simulador Pagos Oportunos'!$Y$83))+IF(AN254<=0,0,IF('Simulador Pagos Oportunos'!$W$45=1,'Simulador Pagos Oportunos'!$H$60,IF('Simulador Pagos Oportunos'!$W$45=2,'Simulador Pagos Oportunos'!$J$60,IF('Simulador Pagos Oportunos'!$W$45=3,'Simulador Pagos Oportunos'!$L$60,'Simulador Pagos Oportunos'!$N$60))))","v":0},null,0,0,"",0,235]
[236,0,null,0,null,0,null,0,null,null,null,null,{"$f":"IF(OR('Simulador Pagos Oportunos'!$U$15=5,'Simulador Pagos Oportunos'!$U$15=1,'Simulador Pagos Oportunos'!$U$15=3,'Simulador Pagos Oportunos'!$U$15=4),0,K255*'Simulador Pagos Oportunos'!$N$74*'Simulador Pagos Oportunos'!$V$21)","v":0},null,{"$f":"IF(B255=0,\"\",IF('Simulador Pagos Oportunos'!$W$45=1,AH255,IF('Simulador Pagos Oportunos'!$W$45=2,AI255,IF('Simulador Pagos Oportunos'!$W$45=3,AJ255,IF('Simulador Pagos Oportunos'!$W$45=4,'Tabla Pagos Oportunos'!AK255,AG255)))))","v":""},null,0,null,{"$f":"IF(B255<=0,0,IF('Simulador Pagos Oportunos'!$Y$80=1,0,B255*'Simulador Pagos Oportunos'!$Y$83))","v":0},null,{"$f":"IF(B255<=0,0,IF('Simulador Pagos Oportunos'!$W$45=1,'Simulador Pagos Oportunos'!$H$60,IF('Simulador Pagos Oportunos'!$W$45=2,'Simulador Pagos Oportunos'!$J$60,IF('Simulador Pagos Oportunos'!$W$45=3,'Simulador Pagos Oportunos'!$L$60,IF('Simulador Pagos Oportunos'!$W$45=4,'Simulador Pagos Oportunos'!$N$60)))))","v":0},null,0,null,null,null,19,8,0,0,0,0,8.7499999999999967E-2,null,null,null,0.1225,0,0,0,0,0,0,0,{"$f":"IF(AN255=0,\"\",IF('Simulador Pagos Oportunos'!$W$45=1,AH255,IF('Simulador Pagos Oportunos'!$W$45=2,AI255,IF('Simulador Pagos Oportunos'!$W$45=3,AJ255,IF('Simulador Pagos Oportunos'!$W$45=4,AK255,AG255)))))","v":""},{"$f":"IF(AN255<=0,0,IF('Simulador Pagos Oportunos'!$Y$80=1,0,AN255*'Simulador Pagos Oportunos'!$Y$83))+IF(AN255<=0,0,IF('Simulador Pagos Oportunos'!$W$45=1,'Simulador Pagos Oportunos'!$H$60,IF('Simulador Pagos Oportunos'!$W$45=2,'Simulador Pagos Oportunos'!$J$60,IF('Simulador Pagos Oportunos'!$W$45=3,'Simulador Pagos Oportunos'!$L$60,'Simulador Pagos Oportunos'!$N$60))))","v":0},null,0,0,"",0,236]
[237,0,null,0,null,0,null,0,null,null,null,null,{"$f":"IF(OR('Simulador Pagos Oportunos'!$U$15=5,'Simulador Pagos Oportunos'!$U$15=1,'Simulador Pagos Oportunos'!$U$15=3,'Simulador Pagos Oportunos'!$U$15=4),0,K256*'Simulador Pagos Oportunos'!$N$74*'Simulador Pagos Oportunos'!$V$21)","v":0},null,{"$f":"IF(B256=0,\"\",IF('Simulador Pagos Oportunos'!$W$45=1,AH256,IF('Simulador Pagos Oportunos'!$W$45=2,AI256,IF('Simulador Pagos Oportunos'!$W$45=3,AJ256,IF('Simulador Pagos Oportunos'!$W$45=4,'Tabla Pagos Oportunos'!AK256,AG256)))))","v":""},null,0,null,{"$f":"IF(B256<=0,0,IF('Simulador Pagos Oportunos'!$Y$80=1,0,B256*'Simulador Pagos Oportunos'!$Y$83))","v":0},null,{"$f":"IF(B256<=0,0,IF('Simulador Pagos Oportunos'!$W$45=1,'Simulador Pagos Oportunos'!$H$60,IF('Simulador Pagos Oportunos'!$W$45=2,'Simulador Pagos Oportunos'!$J$60,IF('Simulador Pagos Oportunos'!$W$45=3,'Simulador Pagos Oportunos'!$L$60,IF('Simulador Pagos Oportunos'!$W$45=4,'Simulador Pagos Oportunos'!$N$60)))))","v":0},null,0,null,null,null,19,9,0,0,0,0,8.7499999999999967E-2,null,null,null,0.1225,0,0,0,0,0,0,0,{"$f":"IF(AN256=0,\"\",IF('Simulador Pagos Oportunos'!$W$45=1,AH256,IF('Simulador Pagos Oportunos'!$W$45=2,AI256,IF('Simulador Pagos Oportunos'!$W$45=3,AJ256,IF('Simulador Pagos Oportunos'!$W$45=4,AK256,AG256)))))","v":""},{"$f":"IF(AN256<=0,0,IF('Simulador Pagos Oportunos'!$Y$80=1,0,AN256*'Simulador Pagos Oportunos'!$Y$83))+IF(AN256<=0,0,IF('Simulador Pagos Oportunos'!$W$45=1,'Simulador Pagos Oportunos'!$H$60,IF('Simulador Pagos Oportunos'!$W$45=2,'Simulador Pagos Oportunos'!$J$60,IF('Simulador Pagos Oportunos'!$W$45=3,'Simulador Pagos Oportunos'!$L$60,'Simulador Pagos Oportunos'!$N$60))))","v":0},null,0,0,"",0,237]
[238,0,null,0,null,0,null,0,null,null,null,null,{"$f":"IF(OR('Simulador Pagos Oportunos'!$U$15=5,'Simulador Pagos Oportunos'!$U$15=1,'Simulador Pagos Oportunos'!$U$15=3,'Simulador Pagos Oportunos'!$U$15=4),0,K257*'Simulador Pagos Oportunos'!$N$74*'Simulador Pagos Oportunos'!$V$21)","v":0},null,{"$f":"IF(B257=0,\"\",IF('Simulador Pagos Oportunos'!$W$45=1,AH257,IF('Simulador Pagos Oportunos'!$W$45=2,AI257,IF('Simulador Pagos Oportunos'!$W$45=3,AJ257,IF('Simulador Pagos Oportunos'!$W$45=4,'Tabla Pagos Oportunos'!AK257,AG257)))))","v":""},null,0,null,{"$f":"IF(B257<=0,0,IF('Simulador Pagos Oportunos'!$Y$80=1,0,B257*'Simulador Pagos Oportunos'!$Y$83))","v":0},null,{"$f":"IF(B257<=0,0,IF('Simulador Pagos Oportunos'!$W$45=1,'Simulador Pagos Oportunos'!$H$60,IF('Simulador Pagos Oportunos'!$W$45=2,'Simulador Pagos Oportunos'!$J$60,IF('Simulador Pagos Oportunos'!$W$45=3,'Simulador Pagos Oportunos'!$L$60,IF('Simulador Pagos Oportunos'!$W$45=4,'Simulador Pagos Oportunos'!$N$60)))))","v":0},null,0,null,null,null,19,10,0,0,0,0,8.7499999999999967E-2,null,null,null,0.1225,0,0,0,0,0,0,0,{"$f":"IF(AN257=0,\"\",IF('Simulador Pagos Oportunos'!$W$45=1,AH257,IF('Simulador Pagos Oportunos'!$W$45=2,AI257,IF('Simulador Pagos Oportunos'!$W$45=3,AJ257,IF('Simulador Pagos Oportunos'!$W$45=4,AK257,AG257)))))","v":""},{"$f":"IF(AN257<=0,0,IF('Simulador Pagos Oportunos'!$Y$80=1,0,AN257*'Simulador Pagos Oportunos'!$Y$83))+IF(AN257<=0,0,IF('Simulador Pagos Oportunos'!$W$45=1,'Simulador Pagos Oportunos'!$H$60,IF('Simulador Pagos Oportunos'!$W$45=2,'Simulador Pagos Oportunos'!$J$60,IF('Simulador Pagos Oportunos'!$W$45=3,'Simulador Pagos Oportunos'!$L$60,'Simulador Pagos Oportunos'!$N$60))))","v":0},null,0,0,"",0,238]
[239,0,null,0,null,0,null,0,null,null,null,null,{"$f":"IF(OR('Simulador Pagos Oportunos'!$U$15=5,'Simulador Pagos Oportunos'!$U$15=1,'Simulador Pagos Oportunos'!$U$15=3,'Simulador Pagos Oportunos'!$U$15=4),0,K258*'Simulador Pagos Oportunos'!$N$74*'Simulador Pagos Oportunos'!$V$21)","v":0},null,{"$f":"IF(B258=0,\"\",IF('Simulador Pagos Oportunos'!$W$45=1,AH258,IF('Simulador Pagos Oportunos'!$W$45=2,AI258,IF('Simulador Pagos Oportunos'!$W$45=3,AJ258,IF('Simulador Pagos Oportunos'!$W$45=4,'Tabla Pagos Oportunos'!AK258,AG258)))))","v":""},null,0,null,{"$f":"IF(B258<=0,0,IF('Simulador Pagos Oportunos'!$Y$80=1,0,B258*'Simulador Pagos Oportunos'!$Y$83))","v":0},null,{"$f":"IF(B258<=0,0,IF('Simulador Pagos Oportunos'!$W$45=1,'Simulador Pagos Oportunos'!$H$60,IF('Simulador Pagos Oportunos'!$W$45=2,'Simulador Pagos Oportunos'!$J$60,IF('Simulador Pagos Oportunos'!$W$45=3,'Simulador Pagos Oportunos'!$L$60,IF('Simulador Pagos Oportunos'!$W$45=4,'Simulador Pagos Oportunos'!$N$60)))))","v":0},null,0,null,null,null,19,11,0,0,0,0,8.7499999999999967E-2,null,null,null,0.1225,0,0,0,0,0,0,0,{"$f":"IF(AN258=0,\"\",IF('Simulador Pagos Oportunos'!$W$45=1,AH258,IF('Simulador Pagos Oportunos'!$W$45=2,AI258,IF('Simulador Pagos Oportunos'!$W$45=3,AJ258,IF('Simulador Pagos Oportunos'!$W$45=4,AK258,AG258)))))","v":""},{"$f":"IF(AN258<=0,0,IF('Simulador Pagos Oportunos'!$Y$80=1,0,AN258*'Simulador Pagos Oportunos'!$Y$83))+IF(AN258<=0,0,IF('Simulador Pagos Oportunos'!$W$45=1,'Simulador Pagos Oportunos'!$H$60,IF('Simulador Pagos Oportunos'!$W$45=2,'Simulador Pagos Oportunos'!$J$60,IF('Simulador Pagos Oportunos'!$W$45=3,'Simulador Pagos Oportunos'!$L$60,'Simulador Pagos Oportunos'!$N$60))))","v":0},null,0,0,"",0,239]
[240,0,null,0,null,0,null,0,null,null,null,null,{"$f":"IF(OR('Simulador Pagos Oportunos'!$U$15=5,'Simulador Pagos Oportunos'!$U$15=1,'Simulador Pagos Oportunos'!$U$15=3,'Simulador Pagos Oportunos'!$U$15=4),0,K259*'Simulador Pagos Oportunos'!$N$74*'Simulador Pagos Oportunos'!$V$21)","v":0},null,{"$f":"IF(B259=0,\"\",IF('Simulador Pagos Oportunos'!$W$45=1,AH259,IF('Simulador Pagos Oportunos'!$W$45=2,AI259,IF('Simulador Pagos Oportunos'!$W$45=3,AJ259,IF('Simulador Pagos Oportunos'!$W$45=4,'Tabla Pagos Oportunos'!AK259,AG259)))))","v":""},null,0,null,{"$f":"IF(B259<=0,0,IF('Simulador Pagos Oportunos'!$Y$80=1,0,B259*'Simulador Pagos Oportunos'!$Y$83))","v":0},null,{"$f":"IF(B259<=0,0,IF('Simulador Pagos Oportunos'!$W$45=1,'Simulador Pagos Oportunos'!$H$60,IF('Simulador Pagos Oportunos'!$W$45=2,'Simulador Pagos Oportunos'!$J$60,IF('Simulador Pagos Oportunos'!$W$45=3,'Simulador Pagos Oportunos'!$L$60,IF('Simulador Pagos Oportunos'!$W$45=4,'Simulador Pagos Oportunos'!$N$60)))))","v":0},null,0,null,null,null,20,0,0,0,0,0,8.7499999999999967E-2,null,null,null,0.1225,0,0,0,0,0,0,0,{"$f":"IF(AN259=0,\"\",IF('Simulador Pagos Oportunos'!$W$45=1,AH259,IF('Simulador Pagos Oportunos'!$W$45=2,AI259,IF('Simulador Pagos Oportunos'!$W$45=3,AJ259,IF('Simulador Pagos Oportunos'!$W$45=4,AK259,AG259)))))","v":""},{"$f":"IF(AN259<=0,0,IF('Simulador Pagos Oportunos'!$Y$80=1,0,AN259*'Simulador Pagos Oportunos'!$Y$83))+IF(AN259<=0,0,IF('Simulador Pagos Oportunos'!$W$45=1,'Simulador Pagos Oportunos'!$H$60,IF('Simulador Pagos Oportunos'!$W$45=2,'Simulador Pagos Oportunos'!$J$60,IF('Simulador Pagos Oportunos'!$W$45=3,'Simulador Pagos Oportunos'!$L$60,'Simulador Pagos Oportunos'!$N$60))))","v":0},null,0,0,"",0,240]
[null,null,null,"Erogación \n(a+b)",null,"Interés \n(a)",null,"Amortización (b)",null,null,"Prepagos a capital (c)",null,null,null,null,null,null,null,"Seguro de \nvida y desempleo (d)",null,"Seguro de daños \n(e)",null,"Pago Mensual (a+b+c+d+e)"]
[null,null,null,{"$f":"SUM(D20:D259)","v":0},null,{"$f":"SUM(F20:F259)","v":0},null,{"$f":"SUM(H20:H259)","v":0},null,null,{"$f":"SUM(K20:K259)","v":0},null,null,null,null,null,null,null,{"$f":"SUM(S20:S259)","v":0},null,{"$f":"SUM(U20:U259)","v":0},null,{"$f":"SUM(W20:W259)","v":0}]
[]
[null,null,null,null,null,null,null,null,null,null,null,null,null,null,null,null,null,null,null,null,null,null,{"$f":"SUM(W20:W260)","v":0}]

{"sheet":"Carat_Ren_PO","index":7,"n_rows":44,"n_cols":4,"rows_kept":44,"cut":false,"hidden":false,"merged":[[41,0,41,3],[42,0,42,3],[43,0,43,3],[35,0,35,3],[36,0,36,3],[37,0,37,3],[38,0,38,3],[39,0,39,3],[40,0,40,3],[33,0,33,3],[34,0,34,3],[21,0,21,3],[22,0,22,3],[23,0,23,3],[24,0,24,3],[25,0,25,3],[26,0,26,3],[30,2,32,3],[17,1,17,3],[18,0,18,3],[19,0,19,1],[19,2,19,3],[20,0,20,1],[20,2,20,3],[1,0,1,3],[6,1,6,3],[7,0,7,3],[8,0,8,3],[16,1,16,3],[11,1,14,1]]}
[]
["Carátula de Crédito "]
[null,null,null,"Nombre del Acreditado y/o Coacreditado:"]
[null,null,null,{"$f":"IF('Simulador Pagos Oportunos'!C13=\"\",\"\",'Simulador Pagos Oportunos'!C13)","v":""}]
[null,null,null,"Número de Crédito:"]
[]
["Nombre comercial del producto: ",{"$f":"\"CREDIRENOVACION PAGOS OPORTUNOS\"&\" \"&A18","v":"CREDIRENOVACION PAGOS OPORTUNOS 20 años"}]
[]
["Tipo de Crédito: Crédito Hipotecario "]
["CAT","TASA DE INTERES","MONTO O LINEA DE","MONTO TOTAL A PAGAR O"]
["(Costo Anual Total)","ANUAL ORDINARIA","CRÉDITO","MINIMO A PAGAR"]
[{"$f":"'Tabla Pagos Oportunos'!$L$13","v":0},{"$f":"IF('Simulador Pagos Oportunos'!C28=0,0,'Simulador Pagos Oportunos'!$AC$87)","v":0},{"$f":"-'Tabla Pagos Oportunos'!AV18+'Tabla Pagos Oportunos'!AM7","v":0},{"$f":"IFERROR(SUM('Tabla Pagos Oportunos'!$W$20:$W$259),0)","v":0}]
["Sin IVA",null,null,"Moneda en"]
["Para fines",null,null,"Pesos"]
["informativos y de",null,null,"Mexicanos "]
["comparación","Tasa Fija"]
["PLAZO DEL CRÉDITO:","Fecha Límite de pago: \nSi tu fecha de corte es el día 3, tu fecha de pago es el día 3 de cada mes. \nSi tu fecha de corte es el día 17, tu fecha de pago es el día 17 de cada mes. "]
[{"$f":"LOWER('Simulador Pagos Oportunos'!$AC$86)","v":"20 años"},"Fecha de corte: \nSi tu fecha de disposición es entre el dia 3 y 16, tu fecha de corte será el día 3 de cada mes. \nSi tu fecha de disposición es entre el día 17 y 2, tu fecha de corte será el día 17 de cada mes."]
["COMISIONES RELEVANTES"]
[{"$f":"\"Apertura: \"&TEXT('Tabla Pagos Oportunos'!$AM$3,\"$###,###.00\")","v":"Apertura: $.00"},null,"Cobranza: $500.00 más IVA por pago tardío "]
[{"$f":"\"Prepago: \"&IF('Simulador Pagos Oportunos'!$U$15=2,\"3% \",\"0% \")&\"más IVA sobre el monto anticipado\"","v":"Prepago: 0% más IVA sobre el monto anticipado"},null,"Para otras comisiones consulte la cláusula décimo tercera"]
["ADVERTENCIAS"]
[]
["Incumplir tus obligaciones te puede generar comisiones e intereses moratorios. "]
["Contratar créditos que excedan de tu capacidad de pago afecta tu historial crediticio. "]
["El avalista, obligado solidario o coacreditado responderá como obligado principal por el total del pago frente a la Institución Financiera. "]
["SEGUROS"]
["Seguros Obligatorios:","Aseguradora:","Cláusulas:"]
[]
["Vida y Desempleo","Cardif México Seguros de Vida,          S.A. de C.V.","Vigésima Cuarta"]
[null,null,"Scotiabank Inverlat le ofrece al acreditado y/o coacreditado, la posibilidad de contratar a nombre de este (os) último(s) los seguros establecidos en la cláusula vigésima cuarta. Lo anterior sin perjuicio del derecho innegable que el cliente tiene de contratarlos a través de terceros."]
["Daños y Responsabilidad Civil","Cardif México Seguros Generales, S.A. de C.V."]
[]
["ESTADO DE CUENTA"]
["Envío a Domicilio ü              Consulta vía Internet ___            Envío por Correo Electrónico ___"]
["Aclaraciones y reclamaciones:"]
["Unidad Especializada de Aclaraciones:"]
["Domicilio: Río Usumacinta S/N, esq. con Fernando Montes de Oca, Col. La Presita, Municipio de Cuautitlán Izcalli, Estado de México, C.P. 54763"]
["Teléfono: (55) 5123 0990"]
["Correo electrónico: une@scotiabank.com.mx"]
["Página de Internet: www.scotiabank.com.mx "]
[{"$f":"\"Registro de Contratos de Adhesión Núm:  \"&IF('Simulador Pagos Oportunos'!C28=0,\"\",IFERROR(VLOOKUP('Simulador Pagos Oportunos'!$V$8&\"-2-1\",RECAS!$A$3:$D$14,4,0),\"Revisa los datos ingresados\"))","v":"Registro de Contratos de Adhesión Núm:  "}]
["Comisión Nacional para la Protección y Defensa de los Usuarios de Servicios Financieros (CONDUSEF):"]
["Teléfono: 800 999 8080 y (55) 5340 0999. Página de Internet. www.condusef.gob.mx "]

{"sheet":"RECAS","index":8,"n_rows":14,"n_cols":8,"rows_kept":14,"cut":false,"hidden":false,"merged":[[0,1,0,4]]}
[null,"RELACIÓN RECAS"]
["Clave","No.","Nombre","RECA","Fecha de expedición","Tipo Crédito","Esquema","Mancomunado"]
[{"$f":"F3&\"-\"&G3&\"-\"&H3","v":"1-2-1"},1,"Renovación Pagos Oportunos","0319-138-007450/25-00053-0124","2024-01-15",1,2,1]
["1-1-1",2,"Renovación Valora","0319-138-007452/25-00054-0124","2024-01-15",1,1,1]
["4-2-1",3,"Renovación 2° Hipoteca Pagos Oportunos","0319-138-007454/24-00055-0124","2024-01-15",4,2,1]
["4-1-1",4,"Renovación 2° Hipoteca Valora","0319-138-007456/24-00056-0124","2024-01-15",4,1,1]
["2-2-1",5,"Renovación y Adquisición Pagos Oportunos","0319-138-007458/25-00057-0124","2024-01-15",2,2,1]
["2-1-1",6,"Renovación y Adquisición Valora","0319-138-007460/25-00058-0124","2024-01-15",2,1,1]
["3-2-1",7,"Renovación y Pago de Pasivos Pagos Oportunos","0319-138-007462/24-00059-0124","2024-01-15",3,2,1]
["3-1-1",8,"Renovación y Pago de Pasivos Valora","0319-138-007463/25-00060-0124","2024-01-15",3,1,1]
[{"$f":"F11&\"-\"&G11&\"-\"&H11","v":"5-2-1"},1,"HG Pagos Oportunos","0319-138-007450/25-00053-0124","2024-01-15",5,2,1]
["5-1-1",2,"HG Valora","0319-138-007452/25-00054-0124","2024-01-15",5,1,1]
["6-2-1",5,"HG y Adquisición Pagos Oportunos","0319-138-007458/25-00057-0124","2024-01-15",6,2,1]
["6-1-1",6,"HG y Adquisición Valora","0319-138-007460/25-00058-0124","2024-01-15",6,1,1]