{"text_format":"1","workbook":"xlsx","n_sheets":10,"sheets":["Simulador Valora","Tabla Valora","Exclusivo SB Carta Bienvenida","caratula de contrato","Oferta Vinculante","Carat_cont_VA","Simulador Pagos Oportunos","Tabla Pagos Oportunos","Carat_cont_PO","RECAS"],"not_rendered":{"charts":0,"images":8,"macros":1,"external_links":0,"defined_names":13,"comments":3,"pivot_tables":0},"unopened":[],"bounds":{"document_bytes":16777216,"sheet_cells":100000,"rows_first":2000,"rows_last":500,"rows_between":2000,"halvings":0,"cell_chars":16384,"cell_head_chars":4096},"cells_cut":0,"cells_raw":0,"read":"whole","date_system":"1900"}

{"sheet":"Simulador Valora","index":0,"n_rows":96,"n_cols":76,"rows_kept":96,"cut":false,"hidden":false,"merged":[[61,8,61,9],[47,8,47,9],[49,8,49,9],[53,8,53,9],[41,4,41,5],[45,4,45,5],[53,4,53,5],[55,4,55,5],[52,4,52,5],[47,4,47,5],[51,4,51,5],[43,8,43,9],[57,4,57,5],[49,4,49,5],[57,8,57,9],[43,4,43,5],[2,2,2,14],[3,2,3,14],[12,2,12,4],[15,2,15,4],[35,4,35,13],[26,4,27,4],[4,2,4,14],[9,6,9,10],[12,6,12,10],[15,6,15,10],[37,11,37,12],[49,11,49,12],[52,11,52,12],[41,8,41,9],[55,8,55,9],[52,8,52,9],[63,41,63,43],[39,11,39,12],[39,4,39,5],[61,11,61,12],[47,11,47,12],[51,8,51,9],[39,8,39,9],[43,11,43,12],[41,11,41,12],[59,11,59,12],[45,8,45,9],[59,8,59,9],[63,4,63,5],[61,4,61,5],[59,4,59,5],[63,8,63,9],[63,11,63,12],[53,11,53,12],[55,11,55,12],[57,11,57,12],[38,34,39,34],[51,11,51,12]]}
[null,null,null,null,null,null,null,null,null,null,null,null,null,null,null,null,".",null,null,null,null,null,null,null,null,null,null,null,null,null,null,null,null,null,null,null,null,null,null,null,null,null,null,null,null,null,null,null,null,null,null,null,null,null,null,null,null,null,null,null,null,null,null,null,null,null,null,null,null,null,null,null,null,null,null,"."]
[]
[null,null,"SIMULADOR CREDITO HIPOTECARIO"]
[null,null,"FINANCIAMIENTO PARA CONSTRUCCION SCOTIABANK "]
[null,null,"VALORA"]
[]
[null,null,{"$f":"TODAY()","v":"2025-04-10"}]
[]
[null,null,"Lugar",null,"Fecha Firma",null,"Sucursal"]
[]
[]
[null,null,"Nombre del cliente / Conyuge en su caso.",null,null,null,"Ejecutivo / Broker que le atendió"]
[]
[]
[null,null,"Telefonos del cliente",null,null,null,"Teléfonos del ejecutivo"]
[]
[]
[null,null,"Paso 1",null,null,null,{"$f":"IF(T91=1,\"Paso 4\",\"\")","v":"Paso 4"}]
[null,null,"Escoja su base de cálculo",null,null,null,{"$f":"IF(T91=1,\"Escoja la opción de su interés:\",\"\")","v":"Escoja la opción de su interés:"},null,null,null,null,{"$f":"IF(T91=1,\"Paso 8\",\"Paso 7\")","v":"Paso 8"}]
[null,null,"Campaña",null,null,null,null,null,null,null,null,"Escoja el plazo y la tasa aplicable:"]
[null,null,"Paso 2"]
[null,null,"Escriba los datos solicitados:",null,null,null,{"$f":"IF(T91=1,\"Comisión Manual por Apertura\",\"\")","v":"Comisión Manual por Apertura"}]
[null,null,null,null,{"$f":"IF(AB45=1,\"Presupuesto de obra\",\"Ingresos brutos mensuales\")","v":"Presupuesto de obra"},null,null,null,null,null,{"$f":"IF(AND(K22<>\"\",$T$65=2),\"corrije comisión en el pto 4\",\"\")","v":""}]
[null,null,null,null,"Valor del terreno",null,{"$f":"IF(T91=1,\"Paso 5\",\"Paso 4\")","v":"Paso 5"},null,null,null,null,null,"Plazo 20 años  "]
[null,null,null,null,{"$f":"IF(AB45=1,\"Capital invertido en la obra\",IF(AND(C23>0,AB45=2),\"El crédito solicitado podría ser menor por perfil de cliente\",\"\"))","v":"Capital invertido en la obra"},null,"Va a construir en la frontera"]
[null,null,{"$f":"IF(AND(C23=\"\",C24=\"\"),\"\",IF(AB45=1,C23+C24,\"\"))","v":""},null,{"$f":"+IF(AB45=2,\"\",\"Valor físico proyectado\")","v":"Valor físico proyectado"}]
[null,null,{"$f":"IF(AND(AB45=1,C23>0,C24>0,C25>=AC39),\"\",AC39)","v":""},null,{"$f":"IF(C27<>\"\",\"Usted necesita como mínimo de capital invertido\",\"\")","v":""},null,{"$f":"IF(T91=1,\"Paso 6\",\"Paso 5\")","v":"Paso 6"},null,null,null,null,null,"Plazo 15 años  "]
[null,null,"Paso 3",null,null,null,"Con apoyo Infonavit"]
[null,null,"Financiamiento para comprar el terreno?",null,null,null,{"$f":"IF(AND($AB$45=1,$AE$45=1),\"\",IF($AB$45=2,\"\",\"Teclee su sueldo bruto\"))","v":""}]
[null,null,{"$f":"IF(AB45=2,\"\",IF(AND(C23=0,C24=0,C25=0),\"\",IF(AND(AB45=1,C23+C24<1000000),\"El valor de la vivienda mínimo para Monterrey, Guadalajara y México es de $1,000,000 para el resto de la república es de $750,000\",\"\")))","v":""},null,null,null,{"$f":"IF(T91=1,\"Paso 7\",\"Paso 6\")","v":"Paso 7"},null,null,null,null,null,"Plazo 10 años  "]
[null,null,{"$f":"IF(AB45=2,\"\",IF(AND(C23=0,C24=0,C25=0),\"\",IF(M46<150000,\"El monto mínimo a financiar es de $150,000\",\"\")))","v":""},null,null,null,"El cliente opta por seguros externos"]
[null,null,{"$f":"IF(AND(AB45=2,C23<25000,C23>0),\"Se requiere $25,000 como ingresos mínimos\",IF((AD71+AI71+AN71)>0,\"Línea máxima a otorgar puede ser menor por perfil del cliente\n\",\"\"))","v":""}]
[null,null,{"$f":"IF(AND(AB45=1,C23=0,C24=0,C25=0),\"\",IF(AND(AB45=1,C25>=C23),\"El capital invertido en la obra es más alto o igual que el presupuesto de obra\",\"\"))","v":""}]
[]
[]
[null,null,null,null,"VALORA"]
[]
[null,null,"Plazo",null,"10 AÑOS",null,null,null,"15 AÑOS",null,null,"20 AÑOS",null,null,null,null,null,null,null,null,null,null,null,null,null,null,"Calculo de credito construcción",null,"AFORO =",0.8,null,{"$f":"IF(V40=4,AN72,IF(V40=3,AI72,AD72))","v":0.5},null,"IR","PTI Construcción"]
[null,null,null,null,null,null,null,null,null,null,null,null,null,null,null,null,null,null,null,null,null,null,null,null,null,null,{"$f":"IF($AB$45=1,(C23+C24)*AD$38,C23*$AF$38)","v":0},null,{"$f":"IF(AND(AB45=1,C23>0,C24>0),C23-AA42,\"\")","v":""},"capital invertido",null,"PTI",null,1,0.5]
[null,null,"Tasa de Interés",null,{"$f":"IF(T91=1,AY75,IF(T91=3,BE75,IF(T91=4,BK75,\"Error\")))","v":"Mínima 12.00% y \nMáxima 14.00%"},null,null,null,{"$f":"+E40","v":"Mínima 12.00% y \nMáxima 14.00%"},null,null,{"$f":"+I40","v":"Mínima 12.00% y \nMáxima 14.00%"},null,null,null,null,null,null,"Esquemas",{"$f":"E36&\" \"&IF(V40=1,L38,IF(V40=3,I38,IF(V40=4,E38,0)))","v":"VALORA 20 AÑOS"},null,1,null,null,null,null,{"$f":"C23","v":0},null,null,null,null,null,null,2]
[null,null,null,null,null,null,null,null,null,null,null,null,null,null,null,null,null,null,null,null,null,null,null,null,null,null,{"$f":"+AA39","v":0},null,{"$f":"IF((C25+C24)<((C23+C24)*0.7),\"Se necesita mayor capital invertido\",\"\")","v":""},null,null,null,null,3,0.45]
[null,null,"Valor de la vivienda proyectado",null,{"$f":"IF($AB$45=1,$C$23+$C$24,E46/$AD$38)","v":0},null,null,null,{"$f":"IF($AB$45=1,$C$23+$C$24,I46/$AD$38)","v":0},null,null,{"$f":"IF($AB$45=1,$C$23+$C$24,M46/$AD$38)","v":0},null,null,null,null,null,"LTV",{"$f":"IFERROR(M46/L42,0)","v":0},null,null,null,null,null,null,null,{"$f":"+IF(C23+C24-C25<AA41,C23+C24-C25,AA41)","v":0},null,null,null,null,null,null,4,0.4]
[null,null,null,null,null,null,null,null,null,null,null,null,null,null,null,null,null,null,null,null,null,null,"Cambio de etiqueta",{"$f":"IF(AB45=1,\"Valor del inmueble\",\"Ingresos Brutos Mensuales\")","v":"Valor del inmueble"},null,null,"Ingresos",{"$f":"IF(AND(AE45=2,AB45=1),I29,C23)","v":0}]
[null,null,"% máximo de financiamiento",null,{"$f":"AD38","v":0.8},null,null,null,{"$f":"AD38","v":0.8},null,null,{"$f":"AD38","v":0.8},null,null,null,null,null,null,null,null,null,null,null,null,null,null,null,null,null,"Apoyo Infonavit"]
[null,null,null,null,null,null,null,null,null,null,null,null,null,null,null,null,null,null,"Adquisición",1,null,null,null,{"$f":"IF(T45=2,\" \",\"Monto a Financiar\")","v":"Monto a Financiar"},null,"Pago por mil","Por Valor del Inmueble",1,null,"NO",1]
[null,null,"Monto del crédito",null,{"$f":"Z61","v":0},null,null,null,{"$f":"AB61","v":0},null,null,null,{"$f":"AC61","v":0},null,null,null,null,null,"Pasivo Hipotecario",null,"Cambio de pasivo o adquisi",null,{"$f":"IF(AND(T45=1,AB45=1),\"Enganche\",IF(AND(T45=2,AB45=1),\"Saldo actual\",\"\"))","v":"Enganche"},{"$f":"IF($V$40=1,M46,IF($V$40=3,I46,IF($V$40=4,E46)))","v":0},null,{"$f":"IF($V$40=1,AD67,IF($V$40=3,AI67,IF($V$40=4,AN67)))","v":10.36},"Por Ingresos",null,null,"SI"]
[]
[null,null,"Erogación inicial",null,{"$f":"IF($AB$45=1,E46/1000*AN67,$C$23*$AF$38)","v":0},null,null,null,{"$f":"IF($AB$45=1,I46/1000*AI67,$C$23*$AF$38)","v":0},null,null,{"$f":"IF($AB$45=1,M46/1000*AD67,$C$23*$AF$38)","v":0},null,null,null,null,null,null,null,null,"Pag Red 10.90",null,"Pag Red 10.90",null,"PAGOS OPOTUNOS","PAGOS OPOTUNOS",null,"PAGOS OPOTUNOS","PAGOS OPOTUNOS","PAGOS OPOTUNOS"]
[null,null,null,null,null,null,null,null,null,null,null,null,null,null,null,null,null,"Plazo",null,null,15,null,20,null,7,10,null,15,20,30]
[null,null,"Seguro de vida",null,{"$f":"IF($X$73=1,0,E46*$X$76)","v":0},null,null,null,{"$f":"IF($X$73=1,0,I46*$X$76)","v":0},null,null,{"$f":"IF($X$73=1,0,M46*$X$76)","v":0}]
[null,null,null,null,null,null,null,null,null,null,null,null,null,null,null,null,null,"Pago x mil",null,null,9.3000000000000007,null,10.3,null,16.940000000000001,13.7,null,11.47,10.57,0,null,{"$f":"IF($V$40=1,L48,IF($V$40=3,I48,IF(V40=4,E48,0)))","v":0}]
[null,null,"Seguro de daños",null,{"$f":"IF($AB$45=1,$C$23,E42)*IF($X$73=1,0,$X$77)","v":0},null,null,null,{"$f":"IF($AB$45=1,$C$23,I42)*IF($X$73=1,0,$X$77)","v":0},null,null,{"$f":"IF($AB$45=1,$C$23,L42)*IF($X$73=1,0,$X$77)","v":0}]
[null,null,null,null,null,null,null,null,null,null,null,null,null,null,null,null,null,"Incremento anual ",null,null,null,null,null,null,0,0,null,0,0,0,null,{"$f":"IF($V$40=1,AD68,IF($V$40=3,AI68,IF($V$40=4,AN68)))","v":0.02}]
[null,null,"Total mensualidad inicial",null,{"$f":"E52+E50+E48","v":0},null,null,null,{"$f":"I52+I50+I48","v":0},null,null,{"$f":"L52+L50+L48","v":0},null,null,null,null,null,"Tasa de int.",null,null,null,null,null,null,0.1045,0.1055,null,0.11799999999999999,0.1086,0]
[null,null,null,null,null,null,null,null,null,null,null,null,null,null,null,null,null,null,null,null,null,null,null,null,"PO 7 años","10 años",null,"15 años","20 años"]
[null,null,"Incremento anual del pago",null,{"$f":"AN68","v":0.02},null,null,null,{"$f":"AI68","v":0.02},null,null,{"$f":"AD68","v":0.02},null,null,null,null,null,"Monto a financiar adquisición",null,null,{"$f":"IF($AB$45=1,$AA$42,IF($AB$45=2,L48/U51*1000,0))","v":0},null,{"$f":"IF($AB$45=1,$AA$42,IF($AB$45=2,I48/W51*1000,0))","v":0},null,null,{"$f":"IF($AB$45=1,$AA$42,$AA$39/AN67*1000)","v":0},null,{"$f":"IF($AB$45=1,$AA$42,$AA$39/AI67*1000)","v":0},{"$f":"IF($AB$45=1,$AA$42,$AA$39/AD67*1000)","v":0},{"$f":"IF($AB$45=1,$AA$41,IF($AB$45=2,L48/AD51*1000,0))","v":0}]
[null,null,null,null,null,null,null,null,null,null,null,null,null,null,null,null,null,"Monto a financiar adquisición",null,null,{"$f":"IF(U56>4000000,4000000,U56)","v":0},null,{"$f":"IF(W56>4000000,4000000,W56)","v":0},null,{"$f":"IF(Y56>4000000,4000000,Y56)","v":0},{"$f":"IF(Z56>4000000,4000000,Z56)","v":0},null,{"$f":"IF(AB56>4000000,4000000,AB56)","v":0},{"$f":"IF(AC56>4000000,4000000,AC56)","v":0},{"$f":"IF(AD56>4000000,4000000,AD56)","v":0}]
[null,null,"Ingresos brutos por comprobar",null,{"$f":"IF($AB$45=1,(E46/1000*AN67)/$AF$38,$C$23)","v":0},null,null,null,{"$f":"IF($AB$45=1,(I46/1000*AI67)/$AF$38,$C$23)","v":0},null,null,{"$f":"IF($AB$45=1,(M46/1000*AD67)/$AF$38,$C$23)","v":0},null,null,null,null,null,"erogación adquisición",null,null,{"$f":"U57/1000*U51","v":0},null,{"$f":"W57/1000*W51","v":0},null,{"$f":"Y57/1000*Y51","v":0},{"$f":"AC56/1000*AN67","v":0},null,{"$f":"AC56/1000*AI67","v":0},{"$f":"AC56/1000*AD67","v":0},{"$f":"AD57/1000*AD51","v":0}]
[null,null,null,null,null,null,null,null,null,null,null,null,null,null,null,null,null,"Monto a financiar pasivo"]
[null,null,"Comisión por apertura",null,{"$f":"IF(OR(T91=3,T91=4),0,IF(OR($T$65=1,K22<>\"\"),E46*$X$82,0))","v":0},null,null,null,{"$f":"IF(OR(T91=3,T91=4),0,IF(OR($T$65=1,K22<>\"\"),I46*$X$82,0))","v":0},null,null,{"$f":"IF(OR(T91=3,T91=4),0,IF(OR($T$65=1,K22<>\"\"),M46*$X$82,0))","v":0},null,null,null,null,null,"Monto a financiar pasivo"]
[null,null,null,null,null,null,null,null,null,null,null,null,null,null,null,null,null,"Desición de monto a financiar",null,null,{"$f":"U56","v":0},null,{"$f":"W56","v":0},null,{"$f":"Y56","v":0},{"$f":"Z56","v":0},null,{"$f":"AB56","v":0},{"$f":"AC56","v":0},{"$f":"AD56","v":0}]
[null,null,{"$f":"\"Avalúo    \" &IF(OR(AND($AB$45=1,$C$23>S84),($C$23+$C$24)>S84),\"'Favor de Cotizar.' - Val. apróx.\",\"\")","v":"Avalúo    "},null,{"$f":"IF(T91=3,0,IFERROR(IF(AND($AB$45=1,$C$23<=S84),VLOOKUP(($C$23+$C$24),$R$71:$T$86,3),IF(AND($AB$45=2,E42<=S84),VLOOKUP(E42,$R$71:$T$86,3),$T$85)),0))","v":0},null,null,null,{"$f":"IF(T91=3,0,IFERROR(IF(AND($AB$45=1,$C$23<=S84),VLOOKUP(($C$23+$C$24),$R$71:$T$86,3),IF(AND($AB$45=2,I42<=S84),VLOOKUP(I42,$R$71:$T$86,3),$T$85)),0))","v":0},null,null,{"$f":"IF(T91=3,0,IFERROR(IF(AND($AB$45=1,$C$23<=S84),VLOOKUP(($C$23+$C$24),$R$71:$T$86,3),IF(AND($AB$45=2,L42<=S84),VLOOKUP(L42,$R$71:$T$86,3),$T$85)),0))","v":0},null,null,null,null,null,null,null,null,null,null,null,null,null,null,null,null,null,null,null,null,null,null,null,null,null,null,null,null,null,5000000,5000000,6500000]
[null,null,null,null,null,null,null,null,null,null,null,null,null,null,null,null,null,"Frontera","NO",null,null,"Compra Terreno?",null,"NO",null,null,null,null,null,null,null,null,null,null,null,null,null,null,null,null,null,1,2,3]
[null,null,"Comisión por pagos anticipados",null,{"$f":"$T$66","v":"NO APLICA"},null,null,null,{"$f":"$T$66","v":"NO APLICA"},null,null,{"$f":"$T$66","v":"NO APLICA"},null,null,null,null,null,"IVA","SI",1,{"$f":"IF(T64=1,1.16,1.16)","v":1.1599999999999999},"No compra terreno",null,"SI",1,null,null,null,null,null,null,null,null,null,null,null,null,null,null,null,null,"Aforo p/créd > $5'000,000",null,null,null,null,null,null,null,null,1,null,null,null,null,null,3,null,null,null,null,null,4]
[null,null,null,null,null,null,null,null,null,null,null,null,null,null,null,null,null,"Comisión de apertura",null,1,{"$f":"IF(T91=1,\"Comisión por apertura \"&TEXT($X$82,\"##.00%\")&\" y comisión por prepago 0%\",\"Comisión por apertura 0% y comisión por prepago 0%\")","v":"Comisión por apertura 1.00% y comisión por prepago 0%"},null,null,null,"IR","Rango","Tasas PAR","Tasas Valora 20 años",null,null,null,"Tasas Valora 15 años",null,null,null,null,"Tasas Valora 10 años",null,null,null,null,"< $5mdp","< $6.5mdp","> $6.5 mdp",null,null,null,null,null,null,"VALORA","ppm 20","ppm 15","ppm 10","Inc. Anual",null,"VALORA 15","ppm 20","ppm 15","ppm 10","Inc. Anual",null,"VALORA 10","ppm 20","ppm 15","ppm 10","Inc. Anual"]
[null,null,null,null,null,null,null,null,null,null,null,null,null,null,null,null,null,"Comisión por prepago",null,{"$f":"IF(T65=2,$X$83,\"NO APLICA\")","v":"NO APLICA"},null,null,null,null,"1+",1,{"$f":"IF(IF($T$91=1,AY66,IF($T$91=3,BE66,IF($T$91=4,BK66,\"\")))=0,\"\",IF($T$91=1,AY66,IF($T$91=3,BE66,IF($T$91=4,BK66,\"\"))))","v":0.12},{"$f":"IF(IF($T$91=1,AZ66,IF($T$91=3,BF66,IF($T$91=4,BL66,\"\")))=0,\"\",IF($T$91=1,AZ66,IF($T$91=3,BF66,IF($T$91=4,BL66,\"\"))))","v":10.36},{"$f":"IF(IF($T$91=1,BC66,IF($T$91=3,BI66,IF($T$91=4,BO66,\"\")))=0,\"\",IF($T$91=1,BC66,IF($T$91=3,BI66,IF($T$91=4,BO66,\"\"))))","v":0.02},{"$f":"S91","v":1},null,{"$f":"AA66","v":0.12},{"$f":"IF(IF($T$91=1,BA66,IF($T$91=3,BG66,IF($T$91=4,BM66,\"\")))=0,\"\",IF($T$91=1,BA66,IF($T$91=3,BG66,IF($T$91=4,BM66,\"\"))))","v":11.32},{"$f":"AC66","v":0.02},{"$f":"S91","v":1},null,{"$f":"AA66","v":0.12},{"$f":"IF(IF($T$91=1,BB66,IF($T$91=3,BH66,IF($T$91=4,BN66,\"\")))=0,\"\",IF($T$91=1,BB66,IF($T$91=3,BH66,IF($T$91=4,BN66,\"\"))))","v":13.63},{"$f":"AC66","v":0.02},{"$f":"S91","v":1},null,0.8,0.7,0.65,null,null,null,null,null,1,0.12,10.36,11.32,13.63,0.02,"1+,2+,3+,4+,R",9.7500000000000003E-2,8.5399999999999991,9.64,12.12,2.5999999999999999E-2,"1,2,3,4,R,\nEA",0.1075,9.3000000000000007,10.33,12.75,2.4E-2]
[null,null,"Ver tabla de amortización",null,null,null,null,null,null,null,null,null,null,null,null,null,null,null,null,null,null,null,null,null,1,2,{"$f":"IF(IF($T$91=1,AY67,IF($T$91=3,BE67,IF($T$91=4,BK67,\"\")))=0,\"\",IF($T$91=1,AY67,IF($T$91=3,BE67,IF($T$91=4,BK67,\"\"))))","v":0.125},{"$f":"IF(IF($T$91=1,AZ67,IF($T$91=3,BF67,IF($T$91=4,BL67,\"\")))=0,\"\",IF($T$91=1,AZ67,IF($T$91=3,BF67,IF($T$91=4,BL67,\"\"))))","v":10.84},{"$f":"IF(IF($T$91=1,BC67,IF($T$91=3,BI67,IF($T$91=4,BO67,\"\")))=0,\"\",IF($T$91=1,BC67,IF($T$91=3,BI67,IF($T$91=4,BO67,\"\"))))","v":1.7000000000000001E-2},{"$f":"IF($AD$66=1,AB66,IF($AD$66=2,AB67,IF($AD$66=3,AB68,IF($AD$66=4,AB69,IF($AD$66=5,AB70,IF($AD$66=6,AB71,AB72))))))","v":10.36},null,{"$f":"AA67","v":0.125},{"$f":"IF(IF($T$91=1,BA67,IF($T$91=3,BG67,IF($T$91=4,BM67,\"\")))=0,\"\",IF($T$91=1,BA67,IF($T$91=3,BG67,IF($T$91=4,BM67,\"\"))))","v":11.78},1.7000000000000001E-2,{"$f":"IF($AI$66=1,AG66,IF($AI$66=2,AG67,IF($AI$66=3,AG68,IF($AI$66=4,AG69,IF($AI$66=5,AG70,IF($AI$66=6,AG71,AG72))))))","v":11.32},null,{"$f":"AA67","v":0.125},{"$f":"IF(IF($T$91=1,BB67,IF($T$91=3,BH67,IF($T$91=4,BN67,\"\")))=0,\"\",IF($T$91=1,BB67,IF($T$91=3,BH67,IF($T$91=4,BN67,\"\"))))","v":14.06},{"$f":"AC67","v":1.7000000000000001E-2},{"$f":"IF($AN$66=1,AL66,IF($AN$66=2,AL67,IF($AN$66=3,AL68,IF($AN$66=4,AL69,IF($AN$66=5,AL70,IF($AN$66=6,AL71,AL72))))))","v":13.63},null,0.8,0.7,0.65,null,null,null,null,null,2,0.125,10.84,11.78,14.06,1.7000000000000001E-2]
[null,null,"Observaciones:",null,null,null,null,null,null,null,null,null,null,null,null,null,null,"Com Aut Dif",250,250,250,250,250,null,2,3,0.13,11.28,1.4E-2,{"$f":"IF($AD$66=1,AC66,IF($AD$66=2,AC67,IF($AD$66=3,AC68,IF($AD$66=4,AC69,IF($AD$66=5,AC70,IF($AD$66=6,AC71,AC72))))))","v":0.02},null,0.13,12.22,1.4E-2,{"$f":"IF($AI$66=1,AH66,IF($AI$66=2,AH67,IF($AI$66=3,AH68,IF($AI$66=4,AH69,IF($AI$66=5,AH70,IF($AI$66=6,AH71,AH72))))))","v":0.02},null,0.13,14.5,1.4E-2,{"$f":"IF($AN$66=1,AM66,IF($AN$66=2,AM67,IF($AN$66=3,AM68,IF($AN$66=4,AM69,IF($AN$66=5,AM70,IF($AN$66=6,AM71,AM72))))))","v":0.02},null,0.8,0.7,0.65,null,null,null,null,null,3,0.13,11.28,12.22,14.5,1.4E-2]
[null,null,"-No se incluyen los gastos notariales, los cuales se pagaran al momento de la firma del crédito",null,null,null,null,null,null,null,null,null,null,null,null,null,null,"Avalúo",null,null,null,null,null,null,null,4,0.13500000000000001,11.7,1.0999999999999999E-2,{"$f":"IF($AD$66=1,AA66,IF($AD$66=2,AA67,IF($AD$66=3,AA68,IF($AD$66=4,AA69,IF($AD$66=5,AA70,IF($AD$66=6,AA71,AA72))))))","v":0.12},null,0.13500000000000001,12.63,1.0999999999999999E-2,{"$f":"IF($AI$66=1,AF66,IF($AI$66=2,AF67,IF($AI$66=3,AF68,IF($AI$66=4,AF69,IF($AI$66=5,AF70,IF($AI$66=6,AF71,AF72))))))","v":0.12},null,0.13500000000000001,14.9,1.0999999999999999E-2,{"$f":"IF($AN$66=1,AK66,IF($AN$66=2,AK67,IF($AN$66=3,AK68,IF($AN$66=4,AK69,IF($AN$66=5,AK70,IF($AN$66=6,AK71,AK72))))))","v":0.12},null,0.7,0.65,0.5,null,null,null,null,null,4,0.13500000000000001,11.7,12.63,14.9,1.0999999999999999E-2]
[null,null,"-  El crédito solicitado dependerá de la capacidad de pago de cada cliente",null,null,null,null,null,null,null,null,null,null,null,null,null,null,"Mayor a","Hasta a","Importe",null,null,null,null,null,5,0.14000000000000001,12.13,7.0000000000000001E-3,null,null,0.14000000000000001,13.04,7.0000000000000001E-3,null,null,0.14000000000000001,15.3,7.0000000000000001E-3,null,null,0.7,0.65,0.5,null,null,null,null,null,"R",0.14000000000000001,12.13,13.04,15.3,7.0000000000000001E-3]
[null,null,"-  Scotiabank se reserva el derecho de solicitar información adicional y/o restringir parámetros de enganche, monto, plazo o tasa en función de las características específicas ",null,null,null,null,null,null,null,null,null,null,null,null,null,null,0.01,500000,1900,null,null,null,null,null,null,null,null,null,{"$f":"+IF(AD66>3,1,0)","v":0},null,null,null,null,{"$f":"+IF(AI66>3,1,0)","v":0},null,null,null,null,{"$f":"+IF(AN66>3,1,0)","v":0},null,0.7,0.65,0.5,null,null,null,null,null,"Piso",0.12,null,null,null,null,"Piso",9.7500000000000003E-2,null,null,null,null,"Piso",0.1075]
[null,null,"    del solicitante y del inmueble objeto de la operación.",null,null,null,null,null,null,null,null,null,null,null,null,null,null,500001,1000000,3300,null,null,"Contratación de Seguros",null,null,"PTI",null,null,null,{"$f":"+IF(AD66<=3,$AI$39,IF(AD66=4,$AI$41,$AI$42))","v":0.5},null,null,null,null,{"$f":"+IF(AI66<=3,$AI$39,IF(AI66=4,$AI$41,$AI$42))","v":0.5},null,null,null,null,{"$f":"+IF(AN66<=3,$AI$39,IF(AN66=4,$AI$41,$AI$42))","v":0.5},null,null,null,null,null,null,null,null,null,"Techo",0.14000000000000001,null,null,null,null,"Techo",0.11749999999999999,null,null,null,null,"Techo",0.1275]
[null,null,"-  En caso de que aplique, la comisión por pagos anticipados causa I.V.A.",null,null,null,null,null,null,null,null,null,null,null,null,null,null,1000001,1500000,4500,null,null,"SI ",2,null,null,null,null,null,null,null,null,null,null,null,null,null,null,null,null,null,{"$f":"IF($C$23>$AR$62,3,IF($C$23>$AQ$62,2,IF($C$23<=$AP$62,1,0)))","v":1}]
[null,null,"- Esta cotización tiene carácter informativo, Scotiabank se reserva el derecho de cambiar cualquier condición sin previo aviso.",null,null,null,null,null,null,null,null,null,null,null,null,null,null,1500001,2000000,5750,null,null,"NO",null,null,null,"Valor del Inmueble",{"$f":"IF($V$40=1,L42,IF($V$40=3,I42,IF($V$40=4,E42)))","v":0},null,"CALCULO PARA EL IMPORTE MAXIMO DE APORTACION PATRONAL"]
[null,null,"- Este documento NO implica que el crédito ha sido autorizado, ni establece obligación alguna para Scotiabank.",null,null,null,null,null,null,null,null,null,null,null,null,null,null,2000001,2500000,7000,null,null,"Seguros",null,null,null,"Pago por mil",{"$f":"IF($V$40=1,AD67,IF($V$40=3,AI67,IF($V$40=4,AN67)))","v":10.36},null,"Salario diario nominal (UMA enero 2024)",null,108.57,null,null,null,null,null,null,null,null,null,null,null,null,null,null,null,null,null,null,"Mínima 12.00% y \nMáxima 14.00%",null,null,null,null,null,"Mínima 9.75% y \nMáxima 11.75%",null,null,null,null,null,"Mínima 10.75% y \nMáxima 12.75%"]
[null,null,"- Para los esquemas de \"Pagos Oportunos\" y \"Valora\" se deberá cumplir con las reglas establecidas en los programas para la disminución de la tasa de interés",null,null,null,null,null,null,null,null,null,"v2025.04",null,null,null,null,2500001,3000000,8200,null,null,"Vida",5.9999999999999995E-4,{"$f":"X76","v":5.9999999999999995E-4},null,"Plazo",{"$f":"IF($V$40=1,\"20 Años\",IF($V$40=3,\"15 Años\",IF($V$40=4,\"10 Años\")))","v":"20 Años"},null,"Tope de aportación patronal",null,25]
[null,null,null,null,null,null,null,null,null,null,null,null,null,null,null,null,null,3000001,4000000,11000,null,null,"Daños",3.1E-4,{"$f":"X77","v":3.1E-4},null,"Tasa",{"$f":"IF($V$40=1,AD69,IF($V$40=3,AI69,IF($V$40=4,AN69)))","v":0.12},null,"Aportación patronal",null,{"$f":"+AF75*AF76","v":2714.25}]
[null,null,null,null,null,null,null,null,null,null,null,null,null,null,null,null,null,4000001,5000000,13900,null,null,null,null,null,null,"Monto Crédito",{"$f":"IF($V$40=1,M46,IF($V$40=3,I46,IF($V$40=4,E46)))","v":0},null,"Aportación Patronal 5%",null,{"$f":"+AF77*0.05","v":135.71250000000001}]
[null,null,null,null,null,null,null,null,null,null,null,null,null,null,null,null,null,5000001,6000000,15500,null,null,null,null,null,"LTV",null,null,null,null,0.05]
[null,null,null,null,null,null,null,null,null,null,null,null,null,null,null,null,null,6000001,7000000,19000,null,null,null,null,null,{"$f":"IFERROR(M46/L42,0)","v":0},{"$f":"IFERROR(I46/I42,0)","v":0},{"$f":"IFERROR(E46/E42,0)","v":0},{"$f":"IFERROR(K46/K42,0)","v":0},"No. de días del bimestre (promedio 60 días)",null,60.8]
[null,null,null,null,null,null,null,null,null,null,null,null,null,null,null,null,null,7000001,8000000,20000,null,null,"Comisión por aut difer =",250,null,null,null,null,null,"Aportación Patronal bimestral",null,{"$f":"+AF78*AF80","v":8251.32}]
[null,null,null,null,null,null,null,null,null,null,null,null,null,null,null,null,null,8000001,9000000,20100,null,null,"Comisión por Apertura =",{"$f":"IFERROR(IF($K$22<>\"\",$K$22,1%),0)","v":0.01},null,null,null,null,null,"Incremento anual promedio para las aportaciones = ",null,0.03]
[null,null,null,null,null,null,null,null,null,null,null,null,null,null,null,null,null,9000001,10000000,22500,null,null,"Comisión por Prepago =",0.03]
[null,null,null,null,null,null,null,null,null,null,null,null,null,null,null,null,null,10000001,11000000,27000,null,null,"Avalúo",1E-3]
[null,null,null,null,null,null,null,null,null,null,null,null,null,null,null,null,null,11000000,30000000,27000,null,null,"Dictamen técnico",0.01,18000]
[null,null,null,null,null,null,null,null,null,null,null,null,null,null,null,null,null,null,null,null,null,null,null,null,"Máximo"]
[null,null,null,null,null,null,null,null,null,null,null,null,null,null,null,null,null,null,null,null,null,null,null,null,"Ya no hay minimo"]
[]
[]
[]
[null,null,null,null,null,null,null,null,null,null,null,null,null,null,null,null,null,"Tasas",1,1,null,1,1,"EA10"]
[null,null,null,null,null,null,null,null,null,null,null,null,null,null,null,null,null,{"$f":"AA66","v":0.12},"EA 1+","Ninguna",1,2,1,"EA10.5"]
[null,null,null,null,null,null,null,null,null,null,null,null,null,null,null,null,null,{"$f":"AA67","v":0.125},"EA 2+ 3+ 4+",null,2,1,2,"NEA10.5"]
[null,null,null,null,null,null,null,null,null,null,null,null,null,null,null,null,null,0.13,"Valora nEA","Premium",3]
[null,null,null,null,null,null,null,null,null,null,null,null,null,null,null,null,null,0.13500000000000001,null,"Vinculación",4]
[null,null,null,null,null,null,null,null,null,null,null,null,null,null,null,null,null,0.14000000000000001]

{"sheet":"Tabla Valora","index":1,"n_rows":263,"n_cols":55,"rows_kept":263,"cut":false,"hidden":false,"merged":[[12,12,12,13],[0,0,0,26],[2,0,2,26],[5,23,5,25],[3,0,3,26],[1,0,1,26],[5,1,5,3],[6,1,6,5],[4,1,4,3]]}
["Scotiabank Inverlat, S.A., Institución de Banca Múltiple, Grupo Financiero Scotiabank Inverlat",null,null,null,null,null,null,null,null,null,null,null,null,null,null,null,null,null,null,null,null,null,null,null,null,null,null,null,null,null,null,null,null,null,null,null,null,null,null,null,null,null,null,null,null,null,null,null,null,null,null,null,null,null,"-"]
["SIMULADOR CREDITO HIPOTECARIO"]
["FINANCIAMIENTO PARA CONSTRUCCION SCOTIABANK",null,null,null,null,null,null,null,null,null,null,null,null,null,null,null,null,null,null,null,null,null,null,null,null,null,null,null,null,null,null,null,"Piso","Techo",null,null,"Comision por apertura",null,{"$f":"IF('Simulador Valora'!$V$40=1,'Simulador Valora'!L60,IF('Simulador Valora'!$V$40=3,'Simulador Valora'!I60,IF('Simulador Valora'!$V$40=4,'Simulador Valora'!E60)))","v":0},null,2]
[{"$f":"IF('Simulador Valora'!V40=1,\"VALORA 20 AÑOS\",IF('Simulador Valora'!V40=3,\"VALORA 15 AÑOS\",\"VALORA 10 AÑOS\"))","v":"VALORA 20 AÑOS"},null,null,null,null,null,null,null,null,null,null,null,null,null,null,null,null,null,null,null,null,null,null,null,null,null,null,null,null,null,null,null,{"$f":"'Simulador Valora'!R92","v":0.12},{"$f":"AG4+2%","v":0.13999999999999999},null,null,"Avalúo",null,{"$f":"IF('Simulador Valora'!$V$40=1,'Simulador Valora'!L62,IF('Simulador Valora'!$V$40=3,'Simulador Valora'!I62,IF('Simulador Valora'!$V$40=4,'Simulador Valora'!E62)))","v":0},null,"Disminución de plazo"]
[null,"Excepción 6 Ministraciones",null,null,null,null,null,null,null,null,null,"Observaciones",null,null,null,null,null,null,null,null,null,null,null,null,null,null,null,null,null,null,null,null,null,null,null,null,null,null,null,null,"Disminución de pago"]
[null,"Avance de Obra Actual",null,null,null,0,null,{"$f":"IF(F6<20%,0,IF(F6<40%,1,IF(F6<60%,2,IF(F6<75%,3,IF(F6<90%,4,5)))))","v":0},null,null,null,"- La comisión por prepagos causa IVA y en la corrida ya lo incluye",null,null,null,null,null,null,null,null,null,null,null,{"$f":"'Simulador Valora'!C7","v":"2025-04-10"},null,null,null,null,null,null,{"$f":"'Simulador Valora'!E24","v":"Valor del terreno"},"100% terreno","70% monto"]
[null,"Teclear los datos con celdas en blanco",null,null,null,null,null,null,null,null,null,"- El escenario que se presenta en la tabla de amortización siempre es considerando que se paga de manera puntual.",null,null,null,null,null,null,null,null,null,null,null,null,null,null,null,null,null,null,{"$f":"'Simulador Valora'!C24","v":0},{"$f":"IF(AE7>0,IF(AE7/H10<70%,AE7,AG7),0)","v":0},{"$f":"+H10*70%","v":0},{"$f":"AH8/H10","v":{"$error":"#DIV/0!"}},null,null,"Total",null,{"$f":"SUM(AM3:AM5)","v":0}]
[null,"Período",null,"Monto",null,"Erogación",null,null,null,null,null,"- Esta cotización tiene carácter informativo, Scotiabank se reserva el derecho de cambiar cualquier condición sin previo aviso.",null,null,null,null,null,null,null,null,null,null,null,null,null,null,null,null,null,null,null,null,null,{"$f":"AF7","v":0},2]
[0.2,1,null,{"$f":"IF(H6=0,AH9,IF(H6=1,AH10,IF(H6=2,AH11,IF(H6=3,AH12,IF(H6=4,AH13,IF(H6=5,AH13,IF(H6=6,AH13)))))))","v":0},null,{"$f":"(D9/1000)*'Simulador Valora'!Z46","v":0},null,"Linea máxima de crédito",null,null,null,"- Este documento NO implica que el crédito ha sido autorizado, ni establece obligación alguna para Scotiabank.",null,null,null,null,null,null,null,null,null,null,null,null,null,null,null,null,null,null,null,null,null,{"$f":"AF7","v":0},"SI"]
[0.4,null,null,{"$f":"IF(AI8=2,IF(H6>=4,\"\",(H10-D9)/(5-H6-1)),IF(H6>=4,\"\",(H10-D9)/(5-H6-1)))","v":0},null,{"$f":"IFERROR(IF(B10>12,(((D10+D9)/1000*'Simulador Valora'!Z46*Z32)+(D10+D9)/1000*'Simulador Valora'!Z46),(D10+D9)/1000*'Simulador Valora'!Z46),\"\")","v":0},null,{"$f":"'Simulador Valora'!X46","v":0},null,null,null,"- Para los esquemas \"Pagos Oportunos\" y \"Valora\" se deberán cumplir con las reglas establecidas en los programas ",null,null,null,null,null,null,null,null,null,null,null,null,null,null,null,null,null,null,null,null,1,{"$f":"IF(AI8=2,AH9+((H10-AH9)/4),AH9+((H10-AH9)/4))","v":0},"NO"]
[0.6,null,null,{"$f":"IF(AI8=2,IF(H6>=3,\"\",(H10-D9)/(5-H6-1)),IF(H6>=3,\"\",(H10-D9)/(5-H6-1)))","v":0},null,{"$f":"IFERROR(IF(B11>12,(((D11+D10+D9)/1000*'Simulador Valora'!Z46*Z32)+(D11+D10+D9)/1000*'Simulador Valora'!Z46),(D11+D10+D9)/1000*'Simulador Valora'!Z46),\"\")","v":0},null,{"$f":"IFERROR(IF((D10+D9)>H10,\"Se excede de la línea autorizada\",\"\"),\"\")","v":""},null,null,null,"  para la disminución de la tasa de interés.",null,null,null,null,null,null,null,null,null,null,null,null,null,null,null,null,null,null,null,null,2,{"$f":"IF(AI8=2,AH9+(((H10-AH9)/4)*2),AH9+(((H10-AH9)/4)*2))","v":0}]
[0.75,null,null,{"$f":"IF(AI8=2,IF(H6>=2,\"\",(H10-D9)/(5-H6-1)),IF(H6>=2,\"\",(H10-D9)/(5-H6-1)))","v":0},null,{"$f":"IFERROR(IF(B12>12,(((D12+D11+D10+D9)/1000*'Simulador Valora'!Z46*Z32)+(D12+D11+D10+D9)/1000*'Simulador Valora'!Z46),(D12+D11+D10+D9)/1000*'Simulador Valora'!Z46),\"\")","v":0},null,null,null,null,null,null,null,null,null,null,null,null,null,null,null,null,null,null,null,null,null,null,null,null,null,null,3,{"$f":"IF(AI8=2,AH9+(((H10-AH9)/4)*3),AH9+(((H10-AH9)/4)*3))","v":0}]
[0.9,null,null,{"$f":"IF(AI8=2,IF(H6>=1,\"\",(H10-D9)/(5-H6-1)),IF(H6>=1,\"\",((H10-D9)/(5-H6-1)/2)))","v":0},null,{"$f":"IFERROR(IF(B13>12,(((D13+D12+D11+D10+D9)/1000*'Simulador Valora'!Z46*Z32)+(D13+D12+D11+D10+D9)/1000*'Simulador Valora'!Z46),(D13+D12+D11+D10+D9)/1000*'Simulador Valora'!Z46),\"\")","v":0},null,null,null,null,null,"- CAT =.",{"$f":"AR14","v":0},null,"\"Para fines informativos de comparación exclusivamente sin IVA\"",null,null,null,null,null,null,null,null,null,null,null,null,null,null,null,null,null,4,{"$f":"IF(AI8=2,AH9+(((H10-AH9)/4)*4),AH9+((((H10-AH9)/4)))*3.5)","v":0},null,null,null,null,null,null,null,null,null,{"$f":"AR17*12","v":0}]
[null,null,null,{"$f":"IF(AI8=2,\"\",IF(H6>=1,\"\",((H10-D9)/(5-H6-1)/2)))","v":""},null,{"$f":"IFERROR(IF(B14>12,(((D14+D13+D12+D11+D10+D9)/1000*'Simulador Valora'!Z46*Z33)+(D14+D13+D12+D11+D10+D9)/1000*'Simulador Valora'!Z46),(D14+D13+D12+D11+D10+D9)/1000*'Simulador Valora'!Z46),\"\")","v":""},null,null,null,null,null,"- En caso de anticipos a capital escoja la opción:",null,null,null,null,null,null,null,null,null,null,null,null,null,null,null,null,null,null,null,null,5,{"$f":"IF(AI8=2,\"\",AH9+((((H10-AH9)/4))*4))","v":""},null,null,null,null,null,null,null,null,null,{"$f":"((1+AR17)^12)-1","v":0}]
[null,{"$f":"\"Créditos en etapa de ministración no deben recibir pagos anticipados\"","v":"Créditos en etapa de ministración no deben recibir pagos anticipados"},null,null,null,null,null,null,null,null,null,null,null,null,null,null,null,null,null,null,null,null,null,null,null,null,null,null,null,null,null,null,null,null,null,null,null,null,null,null,null,null,null,"Corrida para CAT"]
[null,{"$f":"IF(OR('Simulador Valora'!T91=1,'Simulador Valora'!T91=2),\"Se cobrará el 1% del monto por cada disposición\",\"\")","v":"Se cobrará el 1% del monto por cada disposición"},null,null,null,null,null,null,null,null,null,"El crédito se liquida",null,null,null,{"$f":"AE19","v":0},"Años",null,null,null,null,null,null,null,null,null,null,null,null,null,null,null,"Corrida CAT",null,null,null,null,null,null,null,null,null,null,"TIR"]
[null,null,null,null,null,null,null,null,null,null,null,"por pago puntual en:",null,null,null,{"$f":"AF19","v":0},"Meses",null,null,null,null,null,null,null,null,null,null,null,null,null,null,null,{"$f":"IFERROR(IRR(AG19:AG259,0),0)","v":0},{"$f":"((1+AG17)^12)-1","v":0},null,null,null,null,null,null,null,null,null,{"$f":"IFERROR(IRR(AR18:AR259,0),0)","v":0}]
[null,null,null,null,null,null,null,null,null,null,null,null,null,null,null,null,null,null,null,null,null,null,null,null,null,null,null,null,null,null,null,null,null,null,null,null,null,null,null,null,null,null,null,{"$f":"AM7-H10","v":0}]
["Período","Saldo Inicial",null,"Erogación",null,"Interés",null,"Amortización",null,"Aportación Bimestral",null,"Prepagos a capital",null,"Comisión por prepagos",null,"Tasa aplicada",null,"Saldo Final",null,"Seguro de vida y desempleo",null,"Seguro de daños",null,"Pago Mensual",null,"Inc. Pago",null,"años","meses",{"$f":"SUM(AD20:AD259)","v":1},{"$f":"SUM(AE20:AE259)","v":0},{"$f":"SUM(AF20:AF259)","v":0},{"$f":"AM7-H10","v":0},"Tasa Aplic.","Factor de pago","Saldo Inicial","Erogación","Interés","Amortización","Saldo Final","Tasa Aplic.","Seguros","Incremento Pago","Pago Mensual","Plazo","Fecha","Dias","Período","Año actual","Mes actual","Día actual","Dia/corte","sumar a mes"]
[1,{"$f":"IFERROR(VLOOKUP(A20,$B$9:$F$14,3,FALSE),0)","v":0},null,{"$f":"F9","v":0},null,{"$f":"IF(B20=0,0,P20/360*AU20*B20)","v":0},null,{"$f":"D20-F20","v":0},null,null,null,null,null,{"$f":"IF(OR('Simulador Valora'!$T$65=1,'Simulador Valora'!$T$65=3),0,L20*'Simulador Valora'!$T$66*'Simulador Valora'!$U$64)","v":0},null,{"$f":"IF(B20=0,0,AH20)","v":0},null,{"$f":"B20-H20-J20-L20+N20","v":0},null,{"$f":"IF(B20<=0,0,IF('Simulador Valora'!$X$73=1,0,B20*'Simulador Valora'!$X$76))","v":0},null,{"$f":"IF(B20<=0,0,IF('Simulador Valora'!$V$40=1,'Simulador Valora'!$L$52,IF('Simulador Valora'!$V$40=3,'Simulador Valora'!$I$52,IF('Simulador Valora'!$V$40=4,'Simulador Valora'!$E$52))))","v":0},null,{"$f":"IF(B20<=0,0,(D20+L20+T20+V20))","v":0},null,null,null,0,{"$f":"IF(B20=0,0,1)","v":0},{"$f":"+IF(R20<=0,IF(R19>0,+A20,0),0)","v":1},{"$f":"+IF(AD20>0,+AB20,0)","v":0},{"$f":"+IF(AD20>0,+AC20,0)","v":0},{"$f":"X20","v":0},{"$f":"IF('Simulador Valora'!$V$40=1,'Simulador Valora'!$AD$69,IF('Simulador Valora'!$V$40=3,'Simulador Valora'!$AI$69,'Simulador Valora'!$AN$69))","v":0.12},{"$f":"IFERROR(AK20/AJ20,0)","v":0},{"$f":"B20","v":0},{"$f":"D20","v":0},{"$f":"IFERROR((AO20/360*AU20*AJ20),0)","v":0},{"$f":"+AK20-AL20","v":0},{"$f":"+AJ20-AM20","v":0},{"$f":"IF(AJ20=0,\"\",AH20)","v":""},{"$f":"IF(AJ20<=0,0,IF('Simulador Valora'!$X$73=1,0,AJ20*'Simulador Valora'!$X$76))+IF(AJ20<=0,0,IF('Simulador Valora'!$V$40=1,'Simulador Valora'!$L$52,IF('Simulador Valora'!$V$40=3,'Simulador Valora'!$I$52,IF('Simulador Valora'!$V$40=4,'Simulador Valora'!$E$52))))","v":0},null,{"$f":"AL20+AM20+AP20","v":0},{"$f":"IF('Simulador Valora'!$V$40=1,240,IF('Simulador Valora'!$V$40=3,180,120))","v":240},{"$f":"IF(AJ20=0,\"\",DATE(AW20,AX20+BA20,AZ20))","v":""},{"$f":"IFERROR(DAY(DATE(YEAR(AT20),MONTH(AT20)+1,0)),0)","v":0},1,{"$f":"IFERROR(YEAR('Simulador Valora'!C7),YEAR('Simulador Valora'!C7))","v":2025},{"$f":"IFERROR(MONTH('Simulador Valora'!C7),MONTH('Simulador Valora'!C7))","v":4},{"$f":"IFERROR(DAY('Simulador Valora'!C7),DAY('Simulador Valora'!C7))","v":10},{"$f":"IF(AND(DAY('Simulador Valora'!C7)>=3,DAY('Simulador Valora'!C7)<=16),3,17)","v":3},{"$f":"IF(AY20>AZ20,1,0)","v":1}]
[2,{"$f":"IF(R20<0,0,IF(A21=$B$10,R20+$D$10,IF(A21=$B$11,R20+$D$11,IF(A21=$B$12,R20+$D$12,IF(A21=$B$13,R20+$D$13,IF(A21=$B$14,R20+$D$14,R20))))))","v":0},null,{"$f":"IF(B21+F21-D20<=0,B21+F21,IF(A21=$B$10,$F$10,IF(A21=$B$11,$F$11,IF(A21=$B$12,$F$12,IF(A21=$B$13,$F$13,IF(A21=$B$14,$F$14,IF(AND('Simulador Valora'!$AE$45=2,L20=0),D20*(1+Z21),IF($AO$3=2,B21*AI21,D20*(1+Z21)))))))))","v":0},null,{"$f":"IF(B21=0,0,P21/360*AU21*B21)","v":0},null,{"$f":"D21-F21","v":0},null,{"$f":"IF(B21=0,0,IF('Simulador Valora'!$AE$45=1,0,IF('Simulador Valora'!$AB$43*'Simulador Valora'!$AE$79*2>'Simulador Valora'!$AF$81,'Simulador Valora'!$AF$81,IF(B21=0,0,'Simulador Valora'!$AB$43*'Simulador Valora'!$AE$79*2))))","v":0},null,null,null,{"$f":"IF(OR('Simulador Valora'!$T$65=1,'Simulador Valora'!$T$65=3),0,L21*'Simulador Valora'!$T$66*'Simulador Valora'!$U$64)","v":0},null,{"$f":"IF(B21=0,0,AH21)","v":0},null,{"$f":"B21-H21-J21-L21+N21","v":0},null,{"$f":"IF(B21<=0,0,IF('Simulador Valora'!$X$73=1,0,B21*'Simulador Valora'!$X$76))","v":0},null,{"$f":"IF(B21<=0,0,IF('Simulador Valora'!$V$40=1,'Simulador Valora'!$L$52,IF('Simulador Valora'!$V$40=3,'Simulador Valora'!$I$52,IF('Simulador Valora'!$V$40=4,'Simulador Valora'!$E$52))))","v":0},null,0,null,null,null,0,2,{"$f":"+IF(R21<=0,IF(R20>0,+A21,0),0)","v":0},{"$f":"+IF(AD21>0,+AB21,0)","v":0},{"$f":"+IF(AD21>0,+AC21,0)","v":0},{"$f":"X21","v":0},{"$f":"IF('Simulador Valora'!$V$40=1,'Simulador Valora'!$AD$69,IF('Simulador Valora'!$V$40=3,'Simulador Valora'!$AI$69,'Simulador Valora'!$AN$69))","v":0.12},{"$f":"IFERROR(AK21/AJ21,0)","v":0},{"$f":"IF(AN20<0,0,IF(A21=$B$10,AN20+$D$10,IF(A21=$B$11,AN20+$D$11,IF(A21=$B$12,AN20+$D$12,IF(A21=$B$13,AN20+$D$13,IF(A21=$B$14,AN20+$D$14,AN20))))))","v":0},{"$f":"IF(AJ21+AL21-AK20<=0,AJ21+AL21,IF(A21=$B$10,$F$10,IF(A21=$B$11,$F$11,IF(A21=$B$12,$F$12,IF(A21=$B$13,$F$13,IF(A21=$B$14,$F$14,AK20*(1+AQ21)))))))","v":0},{"$f":"IFERROR((AO21/360*AU21*AJ21),0)","v":0},0,0,{"$f":"IF(AJ21=0,\"\",AH21)","v":""},{"$f":"IF(AJ21<=0,0,IF('Simulador Valora'!$X$73=1,0,AJ21*'Simulador Valora'!$X$76))+IF(AJ21<=0,0,IF('Simulador Valora'!$V$40=1,'Simulador Valora'!$L$52,IF('Simulador Valora'!$V$40=3,'Simulador Valora'!$I$52,IF('Simulador Valora'!$V$40=4,'Simulador Valora'!$E$52))))","v":0},null,{"$f":"AL21+AM21+AP21","v":0},{"$f":"IFERROR(IF(AK21<=0.01,0,AS20-1),0)","v":0},{"$f":"IF(AJ21=0,\"\",DATE(YEAR(AT20),MONTH(AT20)+1,1))","v":""},{"$f":"IFERROR(DAY(DATE(YEAR(AT21),MONTH(AT21)+1,0)),0)","v":0},2]
[3,0,null,{"$f":"IF(B22+F22-D21<=0,B22+F22,IF(A22=$B$10,$F$10,IF(A22=$B$11,$F$11,IF(A22=$B$12,$F$12,IF(A22=$B$13,$F$13,IF(A22=$B$14,$F$14,IF(AND('Simulador Valora'!$AE$45=2,L21=0),D21*(1+Z22),IF($AO$3=2,B22*AI22,D21*(1+Z22)))))))))","v":0},null,0,null,{"$f":"D22-F22","v":0},null,null,null,null,null,{"$f":"IF(OR('Simulador Valora'!$T$65=1,'Simulador Valora'!$T$65=3),0,L22*'Simulador Valora'!$T$66*'Simulador Valora'!$U$64)","v":0},null,0,null,0,null,{"$f":"IF(B22<=0,0,IF('Simulador Valora'!$X$73=1,0,B22*'Simulador Valora'!$X$76))","v":0},null,{"$f":"IF(B22<=0,0,IF('Simulador Valora'!$V$40=1,'Simulador Valora'!$L$52,IF('Simulador Valora'!$V$40=3,'Simulador Valora'!$I$52,IF('Simulador Valora'!$V$40=4,'Simulador Valora'!$E$52))))","v":0},null,0,null,null,null,0,3,0,0,0,0,{"$f":"IF('Simulador Valora'!$V$40=1,'Simulador Valora'!$AD$69,IF('Simulador Valora'!$V$40=3,'Simulador Valora'!$AI$69,'Simulador Valora'!$AN$69))","v":0.12},0,{"$f":"IF(AN21<0,0,IF(A22=$B$10,AN21+$D$10,IF(A22=$B$11,AN21+$D$11,IF(A22=$B$12,AN21+$D$12,IF(A22=$B$13,AN21+$D$13,IF(A22=$B$14,AN21+$D$14,AN21))))))","v":0},{"$f":"IF(AJ22+AL22-AK21<=0,AJ22+AL22,IF(A22=$B$10,$F$10,IF(A22=$B$11,$F$11,IF(A22=$B$12,$F$12,IF(A22=$B$13,$F$13,IF(A22=$B$14,$F$14,AK21*(1+AQ22)))))))","v":0},0,0,0,"",{"$f":"IF(AJ22<=0,0,IF('Simulador Valora'!$X$73=1,0,AJ22*'Simulador Valora'!$X$76))+IF(AJ22<=0,0,IF('Simulador Valora'!$V$40=1,'Simulador Valora'!$L$52,IF('Simulador Valora'!$V$40=3,'Simulador Valora'!$I$52,IF('Simulador Valora'!$V$40=4,'Simulador Valora'!$E$52))))","v":0},null,0,0,{"$f":"IF(AJ22=0,\"\",DATE(YEAR(AT21),MONTH(AT21)+1,1))","v":""},0,3,"Días/Mes",{"$f":"365.25/12","v":30.4375}]
[4,0,null,{"$f":"IF(B23+F23-D22<=0,B23+F23,IF(A23=$B$10,$F$10,IF(A23=$B$11,$F$11,IF(A23=$B$12,$F$12,IF(A23=$B$13,$F$13,IF(A23=$B$14,$F$14,IF(AND('Simulador Valora'!$AE$45=2,L22=0),D22*(1+Z23),IF($AO$3=2,B23*AI23,D22*(1+Z23)))))))))","v":0},null,0,null,0,null,{"$f":"IF(B23-H23=0,0,J21)","v":0},null,null,null,{"$f":"IF(OR('Simulador Valora'!$T$65=1,'Simulador Valora'!$T$65=3),0,L23*'Simulador Valora'!$T$66*'Simulador Valora'!$U$64)","v":0},null,0,null,0,null,{"$f":"IF(B23<=0,0,IF('Simulador Valora'!$X$73=1,0,B23*'Simulador Valora'!$X$76))","v":0},null,{"$f":"IF(B23<=0,0,IF('Simulador Valora'!$V$40=1,'Simulador Valora'!$L$52,IF('Simulador Valora'!$V$40=3,'Simulador Valora'!$I$52,IF('Simulador Valora'!$V$40=4,'Simulador Valora'!$E$52))))","v":0},null,0,null,null,null,0,4,0,0,0,0,{"$f":"IF('Simulador Valora'!$V$40=1,'Simulador Valora'!$AD$69,IF('Simulador Valora'!$V$40=3,'Simulador Valora'!$AI$69,'Simulador Valora'!$AN$69))","v":0.12},0,0,0,0,0,0,"",{"$f":"IF(AJ23<=0,0,IF('Simulador Valora'!$X$73=1,0,AJ23*'Simulador Valora'!$X$76))+IF(AJ23<=0,0,IF('Simulador Valora'!$V$40=1,'Simulador Valora'!$L$52,IF('Simulador Valora'!$V$40=3,'Simulador Valora'!$I$52,IF('Simulador Valora'!$V$40=4,'Simulador Valora'!$E$52))))","v":0},null,0,0,"",0,4,null,"Interés mensual = Sdo inicial x tasa / 360 x # días del mes"]
[5,0,null,{"$f":"IF(B24+F24-D23<=0,B24+F24,IF(A24=$B$10,$F$10,IF(A24=$B$11,$F$11,IF(A24=$B$12,$F$12,IF(A24=$B$13,$F$13,IF(A24=$B$14,$F$14,IF(AND('Simulador Valora'!$AE$45=2,L23=0),D23*(1+Z24),IF($AO$3=2,B24*AI24,D23*(1+Z24)))))))))","v":0},null,0,null,0,null,null,null,null,null,{"$f":"IF(OR('Simulador Valora'!$T$65=1,'Simulador Valora'!$T$65=3),0,L24*'Simulador Valora'!$T$66*'Simulador Valora'!$U$64)","v":0},null,0,null,0,null,{"$f":"IF(B24<=0,0,IF('Simulador Valora'!$X$73=1,0,B24*'Simulador Valora'!$X$76))","v":0},null,{"$f":"IF(B24<=0,0,IF('Simulador Valora'!$V$40=1,'Simulador Valora'!$L$52,IF('Simulador Valora'!$V$40=3,'Simulador Valora'!$I$52,IF('Simulador Valora'!$V$40=4,'Simulador Valora'!$E$52))))","v":0},null,0,null,null,null,0,5,0,0,0,0,{"$f":"IF('Simulador Valora'!$V$40=1,'Simulador Valora'!$AD$69,IF('Simulador Valora'!$V$40=3,'Simulador Valora'!$AI$69,'Simulador Valora'!$AN$69))","v":0.12},0,0,0,0,0,0,"",{"$f":"IF(AJ24<=0,0,IF('Simulador Valora'!$X$73=1,0,AJ24*'Simulador Valora'!$X$76))+IF(AJ24<=0,0,IF('Simulador Valora'!$V$40=1,'Simulador Valora'!$L$52,IF('Simulador Valora'!$V$40=3,'Simulador Valora'!$I$52,IF('Simulador Valora'!$V$40=4,'Simulador Valora'!$E$52))))","v":0},null,0,0,"",0,5]
[6,0,null,{"$f":"IF(B25+F25-D24<=0,B25+F25,IF(A25=$B$10,$F$10,IF(A25=$B$11,$F$11,IF(A25=$B$12,$F$12,IF(A25=$B$13,$F$13,IF(A25=$B$14,$F$14,IF(AND('Simulador Valora'!$AE$45=2,L24=0),D24*(1+Z25),IF($AO$3=2,B25*AI25,D24*(1+Z25)))))))))","v":0},null,0,null,0,null,{"$f":"IF(B25-H25=0,0,J23)","v":0},null,null,null,{"$f":"IF(OR('Simulador Valora'!$T$65=1,'Simulador Valora'!$T$65=3),0,L25*'Simulador Valora'!$T$66*'Simulador Valora'!$U$64)","v":0},null,0,null,0,null,{"$f":"IF(B25<=0,0,IF('Simulador Valora'!$X$73=1,0,B25*'Simulador Valora'!$X$76))","v":0},null,{"$f":"IF(B25<=0,0,IF('Simulador Valora'!$V$40=1,'Simulador Valora'!$L$52,IF('Simulador Valora'!$V$40=3,'Simulador Valora'!$I$52,IF('Simulador Valora'!$V$40=4,'Simulador Valora'!$E$52))))","v":0},null,0,null,null,null,0,6,0,0,0,0,{"$f":"IF('Simulador Valora'!$V$40=1,'Simulador Valora'!$AD$69,IF('Simulador Valora'!$V$40=3,'Simulador Valora'!$AI$69,'Simulador Valora'!$AN$69))","v":0.12},0,0,0,0,0,0,"",{"$f":"IF(AJ25<=0,0,IF('Simulador Valora'!$X$73=1,0,AJ25*'Simulador Valora'!$X$76))+IF(AJ25<=0,0,IF('Simulador Valora'!$V$40=1,'Simulador Valora'!$L$52,IF('Simulador Valora'!$V$40=3,'Simulador Valora'!$I$52,IF('Simulador Valora'!$V$40=4,'Simulador Valora'!$E$52))))","v":0},null,0,0,"",0,6]
[7,0,null,{"$f":"IF(B26+F26-D25<=0,B26+F26,IF(A26=$B$10,$F$10,IF(A26=$B$11,$F$11,IF(A26=$B$12,$F$12,IF(A26=$B$13,$F$13,IF(A26=$B$14,$F$14,IF(AND('Simulador Valora'!$AE$45=2,L25=0),D25*(1+Z26),IF($AO$3=2,B26*AI26,D25*(1+Z26)))))))))","v":0},null,0,null,0,null,null,null,null,null,{"$f":"IF(OR('Simulador Valora'!$T$65=1,'Simulador Valora'!$T$65=3),0,L26*'Simulador Valora'!$T$66*'Simulador Valora'!$U$64)","v":0},null,0,null,0,null,{"$f":"IF(B26<=0,0,IF('Simulador Valora'!$X$73=1,0,B26*'Simulador Valora'!$X$76))","v":0},null,{"$f":"IF(B26<=0,0,IF('Simulador Valora'!$V$40=1,'Simulador Valora'!$L$52,IF('Simulador Valora'!$V$40=3,'Simulador Valora'!$I$52,IF('Simulador Valora'!$V$40=4,'Simulador Valora'!$E$52))))","v":0},null,0,null,null,null,0,7,0,0,0,0,{"$f":"IF('Simulador Valora'!$V$40=1,'Simulador Valora'!$AD$69,IF('Simulador Valora'!$V$40=3,'Simulador Valora'!$AI$69,'Simulador Valora'!$AN$69))","v":0.12},0,0,0,0,0,0,"",{"$f":"IF(AJ26<=0,0,IF('Simulador Valora'!$X$73=1,0,AJ26*'Simulador Valora'!$X$76))+IF(AJ26<=0,0,IF('Simulador Valora'!$V$40=1,'Simulador Valora'!$L$52,IF('Simulador Valora'!$V$40=3,'Simulador Valora'!$I$52,IF('Simulador Valora'!$V$40=4,'Simulador Valora'!$E$52))))","v":0},null,0,0,"",0,7]
[8,0,null,{"$f":"IF(B27+F27-D26<=0,B27+F27,IF(A27=$B$10,$F$10,IF(A27=$B$11,$F$11,IF(A27=$B$12,$F$12,IF(A27=$B$13,$F$13,IF(A27=$B$14,$F$14,IF(AND('Simulador Valora'!$AE$45=2,L26=0),D26*(1+Z27),IF($AO$3=2,B27*AI27,D26*(1+Z27)))))))))","v":0},null,0,null,0,null,{"$f":"IF(B27-H27=0,0,J25)","v":0},null,null,null,{"$f":"IF(OR('Simulador Valora'!$T$65=1,'Simulador Valora'!$T$65=3),0,L27*'Simulador Valora'!$T$66*'Simulador Valora'!$U$64)","v":0},null,0,null,0,null,{"$f":"IF(B27<=0,0,IF('Simulador Valora'!$X$73=1,0,B27*'Simulador Valora'!$X$76))","v":0},null,{"$f":"IF(B27<=0,0,IF('Simulador Valora'!$V$40=1,'Simulador Valora'!$L$52,IF('Simulador Valora'!$V$40=3,'Simulador Valora'!$I$52,IF('Simulador Valora'!$V$40=4,'Simulador Valora'!$E$52))))","v":0},null,0,null,null,null,0,8,0,0,0,0,{"$f":"IF('Simulador Valora'!$V$40=1,'Simulador Valora'!$AD$69,IF('Simulador Valora'!$V$40=3,'Simulador Valora'!$AI$69,'Simulador Valora'!$AN$69))","v":0.12},0,0,0,0,0,0,"",{"$f":"IF(AJ27<=0,0,IF('Simulador Valora'!$X$73=1,0,AJ27*'Simulador Valora'!$X$76))+IF(AJ27<=0,0,IF('Simulador Valora'!$V$40=1,'Simulador Valora'!$L$52,IF('Simulador Valora'!$V$40=3,'Simulador Valora'!$I$52,IF('Simulador Valora'!$V$40=4,'Simulador Valora'!$E$52))))","v":0},null,0,0,"",0,8]
[9,0,null,{"$f":"IF(B28+F28-D27<=0,B28+F28,IF(A28=$B$10,$F$10,IF(A28=$B$11,$F$11,IF(A28=$B$12,$F$12,IF(A28=$B$13,$F$13,IF(A28=$B$14,$F$14,IF(AND('Simulador Valora'!$AE$45=2,L27=0),D27*(1+Z28),IF($AO$3=2,B28*AI28,D27*(1+Z28)))))))))","v":0},null,0,null,0,null,null,null,null,null,{"$f":"IF(OR('Simulador Valora'!$T$65=1,'Simulador Valora'!$T$65=3),0,L28*'Simulador Valora'!$T$66*'Simulador Valora'!$U$64)","v":0},null,0,null,0,null,{"$f":"IF(B28<=0,0,IF('Simulador Valora'!$X$73=1,0,B28*'Simulador Valora'!$X$76))","v":0},null,{"$f":"IF(B28<=0,0,IF('Simulador Valora'!$V$40=1,'Simulador Valora'!$L$52,IF('Simulador Valora'!$V$40=3,'Simulador Valora'!$I$52,IF('Simulador Valora'!$V$40=4,'Simulador Valora'!$E$52))))","v":0},null,0,null,null,null,0,9,0,0,0,0,{"$f":"IF('Simulador Valora'!$V$40=1,'Simulador Valora'!$AD$69,IF('Simulador Valora'!$V$40=3,'Simulador Valora'!$AI$69,'Simulador Valora'!$AN$69))","v":0.12},0,0,0,0,0,0,"",{"$f":"IF(AJ28<=0,0,IF('Simulador Valora'!$X$73=1,0,AJ28*'Simulador Valora'!$X$76))+IF(AJ28<=0,0,IF('Simulador Valora'!$V$40=1,'Simulador Valora'!$L$52,IF('Simulador Valora'!$V$40=3,'Simulador Valora'!$I$52,IF('Simulador Valora'!$V$40=4,'Simulador Valora'!$E$52))))","v":0},null,0,0,"",0,9]
[10,0,null,{"$f":"IF(B29+F29-D28<=0,B29+F29,IF(A29=$B$10,$F$10,IF(A29=$B$11,$F$11,IF(A29=$B$12,$F$12,IF(A29=$B$13,$F$13,IF(A29=$B$14,$F$14,IF(AND('Simulador Valora'!$AE$45=2,L28=0),D28*(1+Z29),IF($AO$3=2,B29*AI29,D28*(1+Z29)))))))))","v":0},null,0,null,0,null,{"$f":"IF(B29-H29=0,0,J27)","v":0},null,null,null,{"$f":"IF(OR('Simulador Valora'!$T$65=1,'Simulador Valora'!$T$65=3),0,L29*'Simulador Valora'!$T$66*'Simulador Valora'!$U$64)","v":0},null,0,null,0,null,{"$f":"IF(B29<=0,0,IF('Simulador Valora'!$X$73=1,0,B29*'Simulador Valora'!$X$76))","v":0},null,{"$f":"IF(B29<=0,0,IF('Simulador Valora'!$V$40=1,'Simulador Valora'!$L$52,IF('Simulador Valora'!$V$40=3,'Simulador Valora'!$I$52,IF('Simulador Valora'!$V$40=4,'Simulador Valora'!$E$52))))","v":0},null,0,null,null,null,0,10,0,0,0,0,{"$f":"IF('Simulador Valora'!$V$40=1,'Simulador Valora'!$AD$69,IF('Simulador Valora'!$V$40=3,'Simulador Valora'!$AI$69,'Simulador Valora'!$AN$69))","v":0.12},0,0,0,0,0,0,"",{"$f":"IF(AJ29<=0,0,IF('Simulador Valora'!$X$73=1,0,AJ29*'Simulador Valora'!$X$76))+IF(AJ29<=0,0,IF('Simulador Valora'!$V$40=1,'Simulador Valora'!$L$52,IF('Simulador Valora'!$V$40=3,'Simulador Valora'!$I$52,IF('Simulador Valora'!$V$40=4,'Simulador Valora'!$E$52))))","v":0},null,0,0,"",0,10]
[11,0,null,{"$f":"IF(B30+F30-D29<=0,B30+F30,IF(A30=$B$10,$F$10,IF(A30=$B$11,$F$11,IF(A30=$B$12,$F$12,IF(A30=$B$13,$F$13,IF(A30=$B$14,$F$14,IF(AND('Simulador Valora'!$AE$45=2,L29=0),D29*(1+Z30),IF($AO$3=2,B30*AI30,D29*(1+Z30)))))))))","v":0},null,0,null,0,null,null,null,null,null,{"$f":"IF(OR('Simulador Valora'!$T$65=1,'Simulador Valora'!$T$65=3),0,L30*'Simulador Valora'!$T$66*'Simulador Valora'!$U$64)","v":0},null,0,null,0,null,{"$f":"IF(B30<=0,0,IF('Simulador Valora'!$X$73=1,0,B30*'Simulador Valora'!$X$76))","v":0},null,{"$f":"IF(B30<=0,0,IF('Simulador Valora'!$V$40=1,'Simulador Valora'!$L$52,IF('Simulador Valora'!$V$40=3,'Simulador Valora'!$I$52,IF('Simulador Valora'!$V$40=4,'Simulador Valora'!$E$52))))","v":0},null,0,null,null,null,0,11,0,0,0,0,{"$f":"IF('Simulador Valora'!$V$40=1,'Simulador Valora'!$AD$69,IF('Simulador Valora'!$V$40=3,'Simulador Valora'!$AI$69,'Simulador Valora'!$AN$69))","v":0.12},0,0,0,0,0,0,"",{"$f":"IF(AJ30<=0,0,IF('Simulador Valora'!$X$73=1,0,AJ30*'Simulador Valora'!$X$76))+IF(AJ30<=0,0,IF('Simulador Valora'!$V$40=1,'Simulador Valora'!$L$52,IF('Simulador Valora'!$V$40=3,'Simulador Valora'!$I$52,IF('Simulador Valora'!$V$40=4,'Simulador Valora'!$E$52))))","v":0},null,0,0,"",0,11]
[12,0,null,{"$f":"IF(B31+F31-D30<=0,B31+F31,IF(A31=$B$10,$F$10,IF(A31=$B$11,$F$11,IF(A31=$B$12,$F$12,IF(A31=$B$13,$F$13,IF(A31=$B$14,$F$14,IF(AND('Simulador Valora'!$AE$45=2,L30=0),D30*(1+Z31),IF($AO$3=2,B31*AI31,D30*(1+Z31)))))))))","v":0},null,0,null,0,null,{"$f":"IF(B31-H31=0,0,J29)","v":0},null,null,null,{"$f":"IF(OR('Simulador Valora'!$T$65=1,'Simulador Valora'!$T$65=3),0,L31*'Simulador Valora'!$T$66*'Simulador Valora'!$U$64)","v":0},null,0,null,0,null,{"$f":"IF(B31<=0,0,IF('Simulador Valora'!$X$73=1,0,B31*'Simulador Valora'!$X$76))","v":0},null,{"$f":"IF(B31<=0,0,IF('Simulador Valora'!$V$40=1,'Simulador Valora'!$L$52,IF('Simulador Valora'!$V$40=3,'Simulador Valora'!$I$52,IF('Simulador Valora'!$V$40=4,'Simulador Valora'!$E$52))))","v":0},null,0,null,null,null,1,0,0,0,0,0,{"$f":"IF('Simulador Valora'!$V$40=1,'Simulador Valora'!$AD$69,IF('Simulador Valora'!$V$40=3,'Simulador Valora'!$AI$69,'Simulador Valora'!$AN$69))","v":0.12},0,0,0,0,0,0,"",{"$f":"IF(AJ31<=0,0,IF('Simulador Valora'!$X$73=1,0,AJ31*'Simulador Valora'!$X$76))+IF(AJ31<=0,0,IF('Simulador Valora'!$V$40=1,'Simulador Valora'!$L$52,IF('Simulador Valora'!$V$40=3,'Simulador Valora'!$I$52,IF('Simulador Valora'!$V$40=4,'Simulador Valora'!$E$52))))","v":0},null,0,0,"",0,12]
[13,0,null,{"$f":"IF(B32+F32-D31<=0,B32+F32,IF(A32=$B$10,$F$10,IF(A32=$B$11,$F$11,IF(A32=$B$12,$F$12,IF(A32=$B$13,$F$13,IF(A32=$B$14,$F$14,IF(AND('Simulador Valora'!$AE$45=2,L31=0),D31*(1+Z32),IF($AO$3=2,B32*AI32,D31*(1+Z32)))))))))","v":0},null,0,null,0,null,null,null,null,null,{"$f":"IF(OR('Simulador Valora'!$T$65=1,'Simulador Valora'!$T$65=3),0,L32*'Simulador Valora'!$T$66*'Simulador Valora'!$U$64)","v":0},null,0,null,0,null,{"$f":"IF(B32<=0,0,IF('Simulador Valora'!$X$73=1,0,B32*'Simulador Valora'!$X$76))","v":0},null,{"$f":"IF(B32<=0,0,IF('Simulador Valora'!$V$40=1,'Simulador Valora'!$L$52,IF('Simulador Valora'!$V$40=3,'Simulador Valora'!$I$52,IF('Simulador Valora'!$V$40=4,'Simulador Valora'!$E$52))))","v":0},null,0,null,{"$f":"IF(B32<=0,0,'Simulador Valora'!$AF$53)","v":0},null,1,1,0,0,0,0,{"$f":"IF('Simulador Valora'!$V$40=1,'Simulador Valora'!$AD$69,IF('Simulador Valora'!$V$40=3,'Simulador Valora'!$AI$69,'Simulador Valora'!$AN$69))","v":0.12},0,0,0,0,0,0,"",{"$f":"IF(AJ32<=0,0,IF('Simulador Valora'!$X$73=1,0,AJ32*'Simulador Valora'!$X$76))+IF(AJ32<=0,0,IF('Simulador Valora'!$V$40=1,'Simulador Valora'!$L$52,IF('Simulador Valora'!$V$40=3,'Simulador Valora'!$I$52,IF('Simulador Valora'!$V$40=4,'Simulador Valora'!$E$52))))","v":0},{"$f":"IF(AJ32<=0,0,'Simulador Valora'!$AF$53)","v":0},0,0,"",0,13]
[14,0,null,{"$f":"IF(B33+F33-D32<=0,B33+F33,IF(A33=$B$10,$F$10,IF(A33=$B$11,$F$11,IF(A33=$B$12,$F$12,IF(A33=$B$13,$F$13,IF(A33=$B$14,$F$14,IF(AND('Simulador Valora'!$AE$45=2,L32=0),D32*(1+Z33),IF($AO$3=2,B33*AI33,D32*(1+Z33)))))))))","v":0},null,0,null,0,null,{"$f":"IF(B33-H33=0,0,J31*(1+(3%)))","v":0},null,null,null,{"$f":"IF(OR('Simulador Valora'!$T$65=1,'Simulador Valora'!$T$65=3),0,L33*'Simulador Valora'!$T$66*'Simulador Valora'!$U$64)","v":0},null,0,null,0,null,{"$f":"IF(B33<=0,0,IF('Simulador Valora'!$X$73=1,0,B33*'Simulador Valora'!$X$76))","v":0},null,{"$f":"IF(B33<=0,0,IF('Simulador Valora'!$V$40=1,'Simulador Valora'!$L$52,IF('Simulador Valora'!$V$40=3,'Simulador Valora'!$I$52,IF('Simulador Valora'!$V$40=4,'Simulador Valora'!$E$52))))","v":0},null,0,null,null,null,1,2,0,0,0,0,{"$f":"IF('Simulador Valora'!$V$40=1,'Simulador Valora'!$AD$69,IF('Simulador Valora'!$V$40=3,'Simulador Valora'!$AI$69,'Simulador Valora'!$AN$69))","v":0.12},0,0,0,0,0,0,"",{"$f":"IF(AJ33<=0,0,IF('Simulador Valora'!$X$73=1,0,AJ33*'Simulador Valora'!$X$76))+IF(AJ33<=0,0,IF('Simulador Valora'!$V$40=1,'Simulador Valora'!$L$52,IF('Simulador Valora'!$V$40=3,'Simulador Valora'!$I$52,IF('Simulador Valora'!$V$40=4,'Simulador Valora'!$E$52))))","v":0},null,0,0,"",0,14]
[15,0,null,{"$f":"IF(B34+F34-D33<=0,B34+F34,IF(A34=$B$10,$F$10,IF(A34=$B$11,$F$11,IF(A34=$B$12,$F$12,IF(A34=$B$13,$F$13,IF(A34=$B$14,$F$14,IF(AND('Simulador Valora'!$AE$45=2,L33=0),D33*(1+Z34),IF($AO$3=2,B34*AI34,D33*(1+Z34)))))))))","v":0},null,0,null,0,null,null,null,null,null,{"$f":"IF(OR('Simulador Valora'!$T$65=1,'Simulador Valora'!$T$65=3),0,L34*'Simulador Valora'!$T$66*'Simulador Valora'!$U$64)","v":0},null,0,null,0,null,{"$f":"IF(B34<=0,0,IF('Simulador Valora'!$X$73=1,0,B34*'Simulador Valora'!$X$76))","v":0},null,{"$f":"IF(B34<=0,0,IF('Simulador Valora'!$V$40=1,'Simulador Valora'!$L$52,IF('Simulador Valora'!$V$40=3,'Simulador Valora'!$I$52,IF('Simulador Valora'!$V$40=4,'Simulador Valora'!$E$52))))","v":0},null,0,null,null,null,1,3,0,0,0,0,{"$f":"IF('Simulador Valora'!$V$40=1,'Simulador Valora'!$AD$69,IF('Simulador Valora'!$V$40=3,'Simulador Valora'!$AI$69,'Simulador Valora'!$AN$69))","v":0.12},0,0,0,0,0,0,"",{"$f":"IF(AJ34<=0,0,IF('Simulador Valora'!$X$73=1,0,AJ34*'Simulador Valora'!$X$76))+IF(AJ34<=0,0,IF('Simulador Valora'!$V$40=1,'Simulador Valora'!$L$52,IF('Simulador Valora'!$V$40=3,'Simulador Valora'!$I$52,IF('Simulador Valora'!$V$40=4,'Simulador Valora'!$E$52))))","v":0},null,0,0,"",0,15]
[16,0,null,{"$f":"IF(B35+F35-D34<=0,B35+F35,IF(A35=$B$10,$F$10,IF(A35=$B$11,$F$11,IF(A35=$B$12,$F$12,IF(A35=$B$13,$F$13,IF(A35=$B$14,$F$14,IF(AND('Simulador Valora'!$AE$45=2,L34=0),D34*(1+Z35),IF($AO$3=2,B35*AI35,D34*(1+Z35)))))))))","v":0},null,0,null,0,null,{"$f":"IF(B35-H35=0,0,J33)","v":0},null,null,null,{"$f":"IF(OR('Simulador Valora'!$T$65=1,'Simulador Valora'!$T$65=3),0,L35*'Simulador Valora'!$T$66*'Simulador Valora'!$U$64)","v":0},null,0,null,0,null,{"$f":"IF(B35<=0,0,IF('Simulador Valora'!$X$73=1,0,B35*'Simulador Valora'!$X$76))","v":0},null,{"$f":"IF(B35<=0,0,IF('Simulador Valora'!$V$40=1,'Simulador Valora'!$L$52,IF('Simulador Valora'!$V$40=3,'Simulador Valora'!$I$52,IF('Simulador Valora'!$V$40=4,'Simulador Valora'!$E$52))))","v":0},null,0,null,null,null,1,4,0,0,0,0,{"$f":"IF('Simulador Valora'!$V$40=1,'Simulador Valora'!$AD$69,IF('Simulador Valora'!$V$40=3,'Simulador Valora'!$AI$69,'Simulador Valora'!$AN$69))","v":0.12},0,0,0,0,0,0,"",{"$f":"IF(AJ35<=0,0,IF('Simulador Valora'!$X$73=1,0,AJ35*'Simulador Valora'!$X$76))+IF(AJ35<=0,0,IF('Simulador Valora'!$V$40=1,'Simulador Valora'!$L$52,IF('Simulador Valora'!$V$40=3,'Simulador Valora'!$I$52,IF('Simulador Valora'!$V$40=4,'Simulador Valora'!$E$52))))","v":0},null,0,0,"",0,16]
[17,0,null,{"$f":"IF(B36+F36-D35<=0,B36+F36,IF(A36=$B$10,$F$10,IF(A36=$B$11,$F$11,IF(A36=$B$12,$F$12,IF(A36=$B$13,$F$13,IF(A36=$B$14,$F$14,IF(AND('Simulador Valora'!$AE$45=2,L35=0),D35*(1+Z36),IF($AO$3=2,B36*AI36,D35*(1+Z36)))))))))","v":0},null,0,null,0,null,null,null,null,null,{"$f":"IF(OR('Simulador Valora'!$T$65=1,'Simulador Valora'!$T$65=3),0,L36*'Simulador Valora'!$T$66*'Simulador Valora'!$U$64)","v":0},null,0,null,0,null,{"$f":"IF(B36<=0,0,IF('Simulador Valora'!$X$73=1,0,B36*'Simulador Valora'!$X$76))","v":0},null,{"$f":"IF(B36<=0,0,IF('Simulador Valora'!$V$40=1,'Simulador Valora'!$L$52,IF('Simulador Valora'!$V$40=3,'Simulador Valora'!$I$52,IF('Simulador Valora'!$V$40=4,'Simulador Valora'!$E$52))))","v":0},null,0,null,null,null,1,5,0,0,0,0,{"$f":"IF('Simulador Valora'!$V$40=1,'Simulador Valora'!$AD$69,IF('Simulador Valora'!$V$40=3,'Simulador Valora'!$AI$69,'Simulador Valora'!$AN$69))","v":0.12},0,0,0,0,0,0,"",{"$f":"IF(AJ36<=0,0,IF('Simulador Valora'!$X$73=1,0,AJ36*'Simulador Valora'!$X$76))+IF(AJ36<=0,0,IF('Simulador Valora'!$V$40=1,'Simulador Valora'!$L$52,IF('Simulador Valora'!$V$40=3,'Simulador Valora'!$I$52,IF('Simulador Valora'!$V$40=4,'Simulador Valora'!$E$52))))","v":0},null,0,0,"",0,17]
[18,0,null,{"$f":"IF(B37+F37-D36<=0,B37+F37,IF(A37=$B$10,$F$10,IF(A37=$B$11,$F$11,IF(A37=$B$12,$F$12,IF(A37=$B$13,$F$13,IF(A37=$B$14,$F$14,IF(AND('Simulador Valora'!$AE$45=2,L36=0),D36*(1+Z37),IF($AO$3=2,B37*AI37,D36*(1+Z37)))))))))","v":0},null,0,null,0,null,{"$f":"IF(B37-H37=0,0,J35)","v":0},null,null,null,{"$f":"IF(OR('Simulador Valora'!$T$65=1,'Simulador Valora'!$T$65=3),0,L37*'Simulador Valora'!$T$66*'Simulador Valora'!$U$64)","v":0},null,0,null,0,null,{"$f":"IF(B37<=0,0,IF('Simulador Valora'!$X$73=1,0,B37*'Simulador Valora'!$X$76))","v":0},null,{"$f":"IF(B37<=0,0,IF('Simulador Valora'!$V$40=1,'Simulador Valora'!$L$52,IF('Simulador Valora'!$V$40=3,'Simulador Valora'!$I$52,IF('Simulador Valora'!$V$40=4,'Simulador Valora'!$E$52))))","v":0},null,0,null,null,null,1,6,0,0,0,0,{"$f":"IF('Simulador Valora'!$V$40=1,'Simulador Valora'!$AD$69,IF('Simulador Valora'!$V$40=3,'Simulador Valora'!$AI$69,'Simulador Valora'!$AN$69))","v":0.12},0,0,0,0,0,0,"",{"$f":"IF(AJ37<=0,0,IF('Simulador Valora'!$X$73=1,0,AJ37*'Simulador Valora'!$X$76))+IF(AJ37<=0,0,IF('Simulador Valora'!$V$40=1,'Simulador Valora'!$L$52,IF('Simulador Valora'!$V$40=3,'Simulador Valora'!$I$52,IF('Simulador Valora'!$V$40=4,'Simulador Valora'!$E$52))))","v":0},null,0,0,"",0,18]
[19,0,null,{"$f":"IF(B38+F38-D37<=0,B38+F38,IF(A38=$B$10,$F$10,IF(A38=$B$11,$F$11,IF(A38=$B$12,$F$12,IF(A38=$B$13,$F$13,IF(A38=$B$14,$F$14,IF(AND('Simulador Valora'!$AE$45=2,L37=0),D37*(1+Z38),IF($AO$3=2,B38*AI38,D37*(1+Z38)))))))))","v":0},null,0,null,0,null,null,null,null,null,{"$f":"IF(OR('Simulador Valora'!$T$65=1,'Simulador Valora'!$T$65=3),0,L38*'Simulador Valora'!$T$66*'Simulador Valora'!$U$64)","v":0},null,0,null,0,null,{"$f":"IF(B38<=0,0,IF('Simulador Valora'!$X$73=1,0,B38*'Simulador Valora'!$X$76))","v":0},null,{"$f":"IF(B38<=0,0,IF('Simulador Valora'!$V$40=1,'Simulador Valora'!$L$52,IF('Simulador Valora'!$V$40=3,'Simulador Valora'!$I$52,IF('Simulador Valora'!$V$40=4,'Simulador Valora'!$E$52))))","v":0},null,0,null,null,null,1,7,0,0,0,0,{"$f":"IF('Simulador Valora'!$V$40=1,'Simulador Valora'!$AD$69,IF('Simulador Valora'!$V$40=3,'Simulador Valora'!$AI$69,'Simulador Valora'!$AN$69))","v":0.12},0,0,0,0,0,0,"",{"$f":"IF(AJ38<=0,0,IF('Simulador Valora'!$X$73=1,0,AJ38*'Simulador Valora'!$X$76))+IF(AJ38<=0,0,IF('Simulador Valora'!$V$40=1,'Simulador Valora'!$L$52,IF('Simulador Valora'!$V$40=3,'Simulador Valora'!$I$52,IF('Simulador Valora'!$V$40=4,'Simulador Valora'!$E$52))))","v":0},null,0,0,"",0,19]
[20,0,null,{"$f":"IF(B39+F39-D38<=0,B39+F39,IF(A39=$B$10,$F$10,IF(A39=$B$11,$F$11,IF(A39=$B$12,$F$12,IF(A39=$B$13,$F$13,IF(A39=$B$14,$F$14,IF(AND('Simulador Valora'!$AE$45=2,L38=0),D38*(1+Z39),IF($AO$3=2,B39*AI39,D38*(1+Z39)))))))))","v":0},null,0,null,0,null,{"$f":"IF(B39-H39=0,0,J37)","v":0},null,null,null,{"$f":"IF(OR('Simulador Valora'!$T$65=1,'Simulador Valora'!$T$65=3),0,L39*'Simulador Valora'!$T$66*'Simulador Valora'!$U$64)","v":0},null,0,null,0,null,{"$f":"IF(B39<=0,0,IF('Simulador Valora'!$X$73=1,0,B39*'Simulador Valora'!$X$76))","v":0},null,{"$f":"IF(B39<=0,0,IF('Simulador Valora'!$V$40=1,'Simulador Valora'!$L$52,IF('Simulador Valora'!$V$40=3,'Simulador Valora'!$I$52,IF('Simulador Valora'!$V$40=4,'Simulador Valora'!$E$52))))","v":0},null,0,null,null,null,1,8,0,0,0,0,{"$f":"IF('Simulador Valora'!$V$40=1,'Simulador Valora'!$AD$69,IF('Simulador Valora'!$V$40=3,'Simulador Valora'!$AI$69,'Simulador Valora'!$AN$69))","v":0.12},0,0,0,0,0,0,"",{"$f":"IF(AJ39<=0,0,IF('Simulador Valora'!$X$73=1,0,AJ39*'Simulador Valora'!$X$76))+IF(AJ39<=0,0,IF('Simulador Valora'!$V$40=1,'Simulador Valora'!$L$52,IF('Simulador Valora'!$V$40=3,'Simulador Valora'!$I$52,IF('Simulador Valora'!$V$40=4,'Simulador Valora'!$E$52))))","v":0},null,0,0,"",0,20]
[21,0,null,{"$f":"IF(B40+F40-D39<=0,B40+F40,IF(A40=$B$10,$F$10,IF(A40=$B$11,$F$11,IF(A40=$B$12,$F$12,IF(A40=$B$13,$F$13,IF(A40=$B$14,$F$14,IF(AND('Simulador Valora'!$AE$45=2,L39=0),D39*(1+Z40),IF($AO$3=2,B40*AI40,D39*(1+Z40)))))))))","v":0},null,0,null,0,null,null,null,null,null,{"$f":"IF(OR('Simulador Valora'!$T$65=1,'Simulador Valora'!$T$65=3),0,L40*'Simulador Valora'!$T$66*'Simulador Valora'!$U$64)","v":0},null,0,null,0,null,{"$f":"IF(B40<=0,0,IF('Simulador Valora'!$X$73=1,0,B40*'Simulador Valora'!$X$76))","v":0},null,{"$f":"IF(B40<=0,0,IF('Simulador Valora'!$V$40=1,'Simulador Valora'!$L$52,IF('Simulador Valora'!$V$40=3,'Simulador Valora'!$I$52,IF('Simulador Valora'!$V$40=4,'Simulador Valora'!$E$52))))","v":0},null,0,null,null,null,1,9,0,0,0,0,{"$f":"IF('Simulador Valora'!$V$40=1,'Simulador Valora'!$AD$69,IF('Simulador Valora'!$V$40=3,'Simulador Valora'!$AI$69,'Simulador Valora'!$AN$69))","v":0.12},0,0,0,0,0,0,"",{"$f":"IF(AJ40<=0,0,IF('Simulador Valora'!$X$73=1,0,AJ40*'Simulador Valora'!$X$76))+IF(AJ40<=0,0,IF('Simulador Valora'!$V$40=1,'Simulador Valora'!$L$52,IF('Simulador Valora'!$V$40=3,'Simulador Valora'!$I$52,IF('Simulador Valora'!$V$40=4,'Simulador Valora'!$E$52))))","v":0},null,0,0,"",0,21]
[22,0,null,{"$f":"IF(B41+F41-D40<=0,B41+F41,IF(A41=$B$10,$F$10,IF(A41=$B$11,$F$11,IF(A41=$B$12,$F$12,IF(A41=$B$13,$F$13,IF(A41=$B$14,$F$14,IF(AND('Simulador Valora'!$AE$45=2,L40=0),D40*(1+Z41),IF($AO$3=2,B41*AI41,D40*(1+Z41)))))))))","v":0},null,0,null,0,null,{"$f":"IF(B41-H41=0,0,J39)","v":0},null,null,null,{"$f":"IF(OR('Simulador Valora'!$T$65=1,'Simulador Valora'!$T$65=3),0,L41*'Simulador Valora'!$T$66*'Simulador Valora'!$U$64)","v":0},null,0,null,0,null,{"$f":"IF(B41<=0,0,IF('Simulador Valora'!$X$73=1,0,B41*'Simulador Valora'!$X$76))","v":0},null,{"$f":"IF(B41<=0,0,IF('Simulador Valora'!$V$40=1,'Simulador Valora'!$L$52,IF('Simulador Valora'!$V$40=3,'Simulador Valora'!$I$52,IF('Simulador Valora'!$V$40=4,'Simulador Valora'!$E$52))))","v":0},null,0,null,null,null,1,10,0,0,0,0,{"$f":"IF('Simulador Valora'!$V$40=1,'Simulador Valora'!$AD$69,IF('Simulador Valora'!$V$40=3,'Simulador Valora'!$AI$69,'Simulador Valora'!$AN$69))","v":0.12},0,0,0,0,0,0,"",{"$f":"IF(AJ41<=0,0,IF('Simulador Valora'!$X$73=1,0,AJ41*'Simulador Valora'!$X$76))+IF(AJ41<=0,0,IF('Simulador Valora'!$V$40=1,'Simulador Valora'!$L$52,IF('Simulador Valora'!$V$40=3,'Simulador Valora'!$I$52,IF('Simulador Valora'!$V$40=4,'Simulador Valora'!$E$52))))","v":0},null,0,0,"",0,22]
[23,0,null,{"$f":"IF(B42+F42-D41<=0,B42+F42,IF(A42=$B$10,$F$10,IF(A42=$B$11,$F$11,IF(A42=$B$12,$F$12,IF(A42=$B$13,$F$13,IF(A42=$B$14,$F$14,IF(AND('Simulador Valora'!$AE$45=2,L41=0),D41*(1+Z42),IF($AO$3=2,B42*AI42,D41*(1+Z42)))))))))","v":0},null,0,null,0,null,null,null,null,null,{"$f":"IF(OR('Simulador Valora'!$T$65=1,'Simulador Valora'!$T$65=3),0,L42*'Simulador Valora'!$T$66*'Simulador Valora'!$U$64)","v":0},null,0,null,0,null,{"$f":"IF(B42<=0,0,IF('Simulador Valora'!$X$73=1,0,B42*'Simulador Valora'!$X$76))","v":0},null,{"$f":"IF(B42<=0,0,IF('Simulador Valora'!$V$40=1,'Simulador Valora'!$L$52,IF('Simulador Valora'!$V$40=3,'Simulador Valora'!$I$52,IF('Simulador Valora'!$V$40=4,'Simulador Valora'!$E$52))))","v":0},null,0,null,null,null,1,11,0,0,0,0,{"$f":"IF('Simulador Valora'!$V$40=1,'Simulador Valora'!$AD$69,IF('Simulador Valora'!$V$40=3,'Simulador Valora'!$AI$69,'Simulador Valora'!$AN$69))","v":0.12},0,0,0,0,0,0,"",{"$f":"IF(AJ42<=0,0,IF('Simulador Valora'!$X$73=1,0,AJ42*'Simulador Valora'!$X$76))+IF(AJ42<=0,0,IF('Simulador Valora'!$V$40=1,'Simulador Valora'!$L$52,IF('Simulador Valora'!$V$40=3,'Simulador Valora'!$I$52,IF('Simulador Valora'!$V$40=4,'Simulador Valora'!$E$52))))","v":0},null,0,0,"",0,23]
[24,0,null,{"$f":"IF(B43+F43-D42<=0,B43+F43,IF(A43=$B$10,$F$10,IF(A43=$B$11,$F$11,IF(A43=$B$12,$F$12,IF(A43=$B$13,$F$13,IF(A43=$B$14,$F$14,IF(AND('Simulador Valora'!$AE$45=2,L42=0),D42*(1+Z43),IF($AO$3=2,B43*AI43,D42*(1+Z43)))))))))","v":0},null,0,null,0,null,{"$f":"IF(B43-H43=0,0,J41)","v":0},null,null,null,{"$f":"IF(OR('Simulador Valora'!$T$65=1,'Simulador Valora'!$T$65=3),0,L43*'Simulador Valora'!$T$66*'Simulador Valora'!$U$64)","v":0},null,0,null,0,null,{"$f":"IF(B43<=0,0,IF('Simulador Valora'!$X$73=1,0,B43*'Simulador Valora'!$X$76))","v":0},null,{"$f":"IF(B43<=0,0,IF('Simulador Valora'!$V$40=1,'Simulador Valora'!$L$52,IF('Simulador Valora'!$V$40=3,'Simulador Valora'!$I$52,IF('Simulador Valora'!$V$40=4,'Simulador Valora'!$E$52))))","v":0},null,0,null,null,null,2,0,0,0,0,0,{"$f":"IF('Simulador Valora'!$V$40=1,'Simulador Valora'!$AD$69,IF('Simulador Valora'!$V$40=3,'Simulador Valora'!$AI$69,'Simulador Valora'!$AN$69))","v":0.12},0,0,0,0,0,0,"",{"$f":"IF(AJ43<=0,0,IF('Simulador Valora'!$X$73=1,0,AJ43*'Simulador Valora'!$X$76))+IF(AJ43<=0,0,IF('Simulador Valora'!$V$40=1,'Simulador Valora'!$L$52,IF('Simulador Valora'!$V$40=3,'Simulador Valora'!$I$52,IF('Simulador Valora'!$V$40=4,'Simulador Valora'!$E$52))))","v":0},null,0,0,"",0,24]
[25,0,null,{"$f":"IF(B44+F44-D43<=0,B44+F44,IF(A44=$B$10,$F$10,IF(A44=$B$11,$F$11,IF(A44=$B$12,$F$12,IF(A44=$B$13,$F$13,IF(A44=$B$14,$F$14,IF(AND('Simulador Valora'!$AE$45=2,L43=0),D43*(1+Z44),IF($AO$3=2,B44*AI44,D43*(1+Z44)))))))))","v":0},null,0,null,0,null,null,null,null,null,{"$f":"IF(OR('Simulador Valora'!$T$65=1,'Simulador Valora'!$T$65=3),0,L44*'Simulador Valora'!$T$66*'Simulador Valora'!$U$64)","v":0},null,0,null,0,null,{"$f":"IF(B44<=0,0,IF('Simulador Valora'!$X$73=1,0,B44*'Simulador Valora'!$X$76))","v":0},null,{"$f":"IF(B44<=0,0,IF('Simulador Valora'!$V$40=1,'Simulador Valora'!$L$52,IF('Simulador Valora'!$V$40=3,'Simulador Valora'!$I$52,IF('Simulador Valora'!$V$40=4,'Simulador Valora'!$E$52))))","v":0},null,0,null,{"$f":"IF(B44<=0,0,'Simulador Valora'!$AF$53)","v":0},null,2,1,0,0,0,0,{"$f":"IF('Simulador Valora'!$V$40=1,'Simulador Valora'!$AD$69,IF('Simulador Valora'!$V$40=3,'Simulador Valora'!$AI$69,'Simulador Valora'!$AN$69))","v":0.12},0,0,0,0,0,0,"",{"$f":"IF(AJ44<=0,0,IF('Simulador Valora'!$X$73=1,0,AJ44*'Simulador Valora'!$X$76))+IF(AJ44<=0,0,IF('Simulador Valora'!$V$40=1,'Simulador Valora'!$L$52,IF('Simulador Valora'!$V$40=3,'Simulador Valora'!$I$52,IF('Simulador Valora'!$V$40=4,'Simulador Valora'!$E$52))))","v":0},{"$f":"IF(AJ44<=0,0,$AQ$32)","v":0},0,0,"",0,25]
[26,0,null,{"$f":"IF(B45+F45-D44<=0,B45+F45,IF(A45=$B$10,$F$10,IF(A45=$B$11,$F$11,IF(A45=$B$12,$F$12,IF(A45=$B$13,$F$13,IF(A45=$B$14,$F$14,IF(AND('Simulador Valora'!$AE$45=2,L44=0),D44*(1+Z45),IF($AO$3=2,B45*AI45,D44*(1+Z45)))))))))","v":0},null,0,null,0,null,{"$f":"IF(B45-H45=0,0,J43*(1+(3%)))","v":0},null,null,null,{"$f":"IF(OR('Simulador Valora'!$T$65=1,'Simulador Valora'!$T$65=3),0,L45*'Simulador Valora'!$T$66*'Simulador Valora'!$U$64)","v":0},null,0,null,0,null,{"$f":"IF(B45<=0,0,IF('Simulador Valora'!$X$73=1,0,B45*'Simulador Valora'!$X$76))","v":0},null,{"$f":"IF(B45<=0,0,IF('Simulador Valora'!$V$40=1,'Simulador Valora'!$L$52,IF('Simulador Valora'!$V$40=3,'Simulador Valora'!$I$52,IF('Simulador Valora'!$V$40=4,'Simulador Valora'!$E$52))))","v":0},null,0,null,null,null,2,2,0,0,0,0,{"$f":"IF('Simulador Valora'!$V$40=1,'Simulador Valora'!$AD$69,IF('Simulador Valora'!$V$40=3,'Simulador Valora'!$AI$69,'Simulador Valora'!$AN$69))","v":0.12},0,0,0,0,0,0,"",{"$f":"IF(AJ45<=0,0,IF('Simulador Valora'!$X$73=1,0,AJ45*'Simulador Valora'!$X$76))+IF(AJ45<=0,0,IF('Simulador Valora'!$V$40=1,'Simulador Valora'!$L$52,IF('Simulador Valora'!$V$40=3,'Simulador Valora'!$I$52,IF('Simulador Valora'!$V$40=4,'Simulador Valora'!$E$52))))","v":0},null,0,0,"",0,26]
[27,0,null,{"$f":"IF(B46+F46-D45<=0,B46+F46,IF(A46=$B$10,$F$10,IF(A46=$B$11,$F$11,IF(A46=$B$12,$F$12,IF(A46=$B$13,$F$13,IF(A46=$B$14,$F$14,IF(AND('Simulador Valora'!$AE$45=2,L45=0),D45*(1+Z46),IF($AO$3=2,B46*AI46,D45*(1+Z46)))))))))","v":0},null,0,null,0,null,null,null,null,null,{"$f":"IF(OR('Simulador Valora'!$T$65=1,'Simulador Valora'!$T$65=3),0,L46*'Simulador Valora'!$T$66*'Simulador Valora'!$U$64)","v":0},null,0,null,0,null,{"$f":"IF(B46<=0,0,IF('Simulador Valora'!$X$73=1,0,B46*'Simulador Valora'!$X$76))","v":0},null,{"$f":"IF(B46<=0,0,IF('Simulador Valora'!$V$40=1,'Simulador Valora'!$L$52,IF('Simulador Valora'!$V$40=3,'Simulador Valora'!$I$52,IF('Simulador Valora'!$V$40=4,'Simulador Valora'!$E$52))))","v":0},null,0,null,null,null,2,3,0,0,0,0,{"$f":"IF('Simulador Valora'!$V$40=1,'Simulador Valora'!$AD$69,IF('Simulador Valora'!$V$40=3,'Simulador Valora'!$AI$69,'Simulador Valora'!$AN$69))","v":0.12},0,0,0,0,0,0,"",{"$f":"IF(AJ46<=0,0,IF('Simulador Valora'!$X$73=1,0,AJ46*'Simulador Valora'!$X$76))+IF(AJ46<=0,0,IF('Simulador Valora'!$V$40=1,'Simulador Valora'!$L$52,IF('Simulador Valora'!$V$40=3,'Simulador Valora'!$I$52,IF('Simulador Valora'!$V$40=4,'Simulador Valora'!$E$52))))","v":0},null,0,0,"",0,27]
[28,0,null,{"$f":"IF(B47+F47-D46<=0,B47+F47,IF(A47=$B$10,$F$10,IF(A47=$B$11,$F$11,IF(A47=$B$12,$F$12,IF(A47=$B$13,$F$13,IF(A47=$B$14,$F$14,IF(AND('Simulador Valora'!$AE$45=2,L46=0),D46*(1+Z47),IF($AO$3=2,B47*AI47,D46*(1+Z47)))))))))","v":0},null,0,null,0,null,{"$f":"IF(B47-H47=0,0,J45)","v":0},null,null,null,{"$f":"IF(OR('Simulador Valora'!$T$65=1,'Simulador Valora'!$T$65=3),0,L47*'Simulador Valora'!$T$66*'Simulador Valora'!$U$64)","v":0},null,0,null,0,null,{"$f":"IF(B47<=0,0,IF('Simulador Valora'!$X$73=1,0,B47*'Simulador Valora'!$X$76))","v":0},null,{"$f":"IF(B47<=0,0,IF('Simulador Valora'!$V$40=1,'Simulador Valora'!$L$52,IF('Simulador Valora'!$V$40=3,'Simulador Valora'!$I$52,IF('Simulador Valora'!$V$40=4,'Simulador Valora'!$E$52))))","v":0},null,0,null,null,null,2,4,0,0,0,0,{"$f":"IF('Simulador Valora'!$V$40=1,'Simulador Valora'!$AD$69,IF('Simulador Valora'!$V$40=3,'Simulador Valora'!$AI$69,'Simulador Valora'!$AN$69))","v":0.12},0,0,0,0,0,0,"",{"$f":"IF(AJ47<=0,0,IF('Simulador Valora'!$X$73=1,0,AJ47*'Simulador Valora'!$X$76))+IF(AJ47<=0,0,IF('Simulador Valora'!$V$40=1,'Simulador Valora'!$L$52,IF('Simulador Valora'!$V$40=3,'Simulador Valora'!$I$52,IF('Simulador Valora'!$V$40=4,'Simulador Valora'!$E$52))))","v":0},null,0,0,"",0,28]
[29,0,null,{"$f":"IF(B48+F48-D47<=0,B48+F48,IF(A48=$B$10,$F$10,IF(A48=$B$11,$F$11,IF(A48=$B$12,$F$12,IF(A48=$B$13,$F$13,IF(A48=$B$14,$F$14,IF(AND('Simulador Valora'!$AE$45=2,L47=0),D47*(1+Z48),IF($AO$3=2,B48*AI48,D47*(1+Z48)))))))))","v":0},null,0,null,0,null,null,null,null,null,{"$f":"IF(OR('Simulador Valora'!$T$65=1,'Simulador Valora'!$T$65=3),0,L48*'Simulador Valora'!$T$66*'Simulador Valora'!$U$64)","v":0},null,0,null,0,null,{"$f":"IF(B48<=0,0,IF('Simulador Valora'!$X$73=1,0,B48*'Simulador Valora'!$X$76))","v":0},null,{"$f":"IF(B48<=0,0,IF('Simulador Valora'!$V$40=1,'Simulador Valora'!$L$52,IF('Simulador Valora'!$V$40=3,'Simulador Valora'!$I$52,IF('Simulador Valora'!$V$40=4,'Simulador Valora'!$E$52))))","v":0},null,0,null,null,null,2,5,0,0,0,0,{"$f":"IF('Simulador Valora'!$V$40=1,'Simulador Valora'!$AD$69,IF('Simulador Valora'!$V$40=3,'Simulador Valora'!$AI$69,'Simulador Valora'!$AN$69))","v":0.12},0,0,0,0,0,0,"",{"$f":"IF(AJ48<=0,0,IF('Simulador Valora'!$X$73=1,0,AJ48*'Simulador Valora'!$X$76))+IF(AJ48<=0,0,IF('Simulador Valora'!$V$40=1,'Simulador Valora'!$L$52,IF('Simulador Valora'!$V$40=3,'Simulador Valora'!$I$52,IF('Simulador Valora'!$V$40=4,'Simulador Valora'!$E$52))))","v":0},null,0,0,"",0,29]
[30,0,null,{"$f":"IF(B49+F49-D48<=0,B49+F49,IF(A49=$B$10,$F$10,IF(A49=$B$11,$F$11,IF(A49=$B$12,$F$12,IF(A49=$B$13,$F$13,IF(A49=$B$14,$F$14,IF(AND('Simulador Valora'!$AE$45=2,L48=0),D48*(1+Z49),IF($AO$3=2,B49*AI49,D48*(1+Z49)))))))))","v":0},null,0,null,0,null,{"$f":"IF(B49-H49=0,0,J47)","v":0},null,null,null,{"$f":"IF(OR('Simulador Valora'!$T$65=1,'Simulador Valora'!$T$65=3),0,L49*'Simulador Valora'!$T$66*'Simulador Valora'!$U$64)","v":0},null,0,null,0,null,{"$f":"IF(B49<=0,0,IF('Simulador Valora'!$X$73=1,0,B49*'Simulador Valora'!$X$76))","v":0},null,{"$f":"IF(B49<=0,0,IF('Simulador Valora'!$V$40=1,'Simulador Valora'!$L$52,IF('Simulador Valora'!$V$40=3,'Simulador Valora'!$I$52,IF('Simulador Valora'!$V$40=4,'Simulador Valora'!$E$52))))","v":0},null,0,null,null,null,2,6,0,0,0,0,{"$f":"IF('Simulador Valora'!$V$40=1,'Simulador Valora'!$AD$69,IF('Simulador Valora'!$V$40=3,'Simulador Valora'!$AI$69,'Simulador Valora'!$AN$69))","v":0.12},0,0,0,0,0,0,"",{"$f":"IF(AJ49<=0,0,IF('Simulador Valora'!$X$73=1,0,AJ49*'Simulador Valora'!$X$76))+IF(AJ49<=0,0,IF('Simulador Valora'!$V$40=1,'Simulador Valora'!$L$52,IF('Simulador Valora'!$V$40=3,'Simulador Valora'!$I$52,IF('Simulador Valora'!$V$40=4,'Simulador Valora'!$E$52))))","v":0},null,0,0,"",0,30]
[31,0,null,{"$f":"IF(B50+F50-D49<=0,B50+F50,IF(A50=$B$10,$F$10,IF(A50=$B$11,$F$11,IF(A50=$B$12,$F$12,IF(A50=$B$13,$F$13,IF(A50=$B$14,$F$14,IF(AND('Simulador Valora'!$AE$45=2,L49=0),D49*(1+Z50),IF($AO$3=2,B50*AI50,D49*(1+Z50)))))))))","v":0},null,0,null,0,null,null,null,null,null,{"$f":"IF(OR('Simulador Valora'!$T$65=1,'Simulador Valora'!$T$65=3),0,L50*'Simulador Valora'!$T$66*'Simulador Valora'!$U$64)","v":0},null,0,null,0,null,{"$f":"IF(B50<=0,0,IF('Simulador Valora'!$X$73=1,0,B50*'Simulador Valora'!$X$76))","v":0},null,{"$f":"IF(B50<=0,0,IF('Simulador Valora'!$V$40=1,'Simulador Valora'!$L$52,IF('Simulador Valora'!$V$40=3,'Simulador Valora'!$I$52,IF('Simulador Valora'!$V$40=4,'Simulador Valora'!$E$52))))","v":0},null,0,null,null,null,2,7,0,0,0,0,{"$f":"IF('Simulador Valora'!$V$40=1,'Simulador Valora'!$AD$69,IF('Simulador Valora'!$V$40=3,'Simulador Valora'!$AI$69,'Simulador Valora'!$AN$69))","v":0.12},0,0,0,0,0,0,"",{"$f":"IF(AJ50<=0,0,IF('Simulador Valora'!$X$73=1,0,AJ50*'Simulador Valora'!$X$76))+IF(AJ50<=0,0,IF('Simulador Valora'!$V$40=1,'Simulador Valora'!$L$52,IF('Simulador Valora'!$V$40=3,'Simulador Valora'!$I$52,IF('Simulador Valora'!$V$40=4,'Simulador Valora'!$E$52))))","v":0},null,0,0,"",0,31]
[32,0,null,{"$f":"IF(B51+F51-D50<=0,B51+F51,IF(A51=$B$10,$F$10,IF(A51=$B$11,$F$11,IF(A51=$B$12,$F$12,IF(A51=$B$13,$F$13,IF(A51=$B$14,$F$14,IF(AND('Simulador Valora'!$AE$45=2,L50=0),D50*(1+Z51),IF($AO$3=2,B51*AI51,D50*(1+Z51)))))))))","v":0},null,0,null,0,null,{"$f":"IF(B51-H51=0,0,J49)","v":0},null,null,null,{"$f":"IF(OR('Simulador Valora'!$T$65=1,'Simulador Valora'!$T$65=3),0,L51*'Simulador Valora'!$T$66*'Simulador Valora'!$U$64)","v":0},null,0,null,0,null,{"$f":"IF(B51<=0,0,IF('Simulador Valora'!$X$73=1,0,B51*'Simulador Valora'!$X$76))","v":0},null,{"$f":"IF(B51<=0,0,IF('Simulador Valora'!$V$40=1,'Simulador Valora'!$L$52,IF('Simulador Valora'!$V$40=3,'Simulador Valora'!$I$52,IF('Simulador Valora'!$V$40=4,'Simulador Valora'!$E$52))))","v":0},null,0,null,null,null,2,8,0,0,0,0,{"$f":"IF('Simulador Valora'!$V$40=1,'Simulador Valora'!$AD$69,IF('Simulador Valora'!$V$40=3,'Simulador Valora'!$AI$69,'Simulador Valora'!$AN$69))","v":0.12},0,0,0,0,0,0,"",{"$f":"IF(AJ51<=0,0,IF('Simulador Valora'!$X$73=1,0,AJ51*'Simulador Valora'!$X$76))+IF(AJ51<=0,0,IF('Simulador Valora'!$V$40=1,'Simulador Valora'!$L$52,IF('Simulador Valora'!$V$40=3,'Simulador Valora'!$I$52,IF('Simulador Valora'!$V$40=4,'Simulador Valora'!$E$52))))","v":0},null,0,0,"",0,32]
[33,0,null,{"$f":"IF(B52+F52-D51<=0,B52+F52,IF(A52=$B$10,$F$10,IF(A52=$B$11,$F$11,IF(A52=$B$12,$F$12,IF(A52=$B$13,$F$13,IF(A52=$B$14,$F$14,IF(AND('Simulador Valora'!$AE$45=2,L51=0),D51*(1+Z52),IF($AO$3=2,B52*AI52,D51*(1+Z52)))))))))","v":0},null,0,null,0,null,null,null,null,null,{"$f":"IF(OR('Simulador Valora'!$T$65=1,'Simulador Valora'!$T$65=3),0,L52*'Simulador Valora'!$T$66*'Simulador Valora'!$U$64)","v":0},null,0,null,0,null,{"$f":"IF(B52<=0,0,IF('Simulador Valora'!$X$73=1,0,B52*'Simulador Valora'!$X$76))","v":0},null,{"$f":"IF(B52<=0,0,IF('Simulador Valora'!$V$40=1,'Simulador Valora'!$L$52,IF('Simulador Valora'!$V$40=3,'Simulador Valora'!$I$52,IF('Simulador Valora'!$V$40=4,'Simulador Valora'!$E$52))))","v":0},null,0,null,null,null,2,9,0,0,0,0,{"$f":"IF('Simulador Valora'!$V$40=1,'Simulador Valora'!$AD$69,IF('Simulador Valora'!$V$40=3,'Simulador Valora'!$AI$69,'Simulador Valora'!$AN$69))","v":0.12},0,0,0,0,0,0,"",{"$f":"IF(AJ52<=0,0,IF('Simulador Valora'!$X$73=1,0,AJ52*'Simulador Valora'!$X$76))+IF(AJ52<=0,0,IF('Simulador Valora'!$V$40=1,'Simulador Valora'!$L$52,IF('Simulador Valora'!$V$40=3,'Simulador Valora'!$I$52,IF('Simulador Valora'!$V$40=4,'Simulador Valora'!$E$52))))","v":0},null,0,0,"",0,33]
[34,0,null,{"$f":"IF(B53+F53-D52<=0,B53+F53,IF(A53=$B$10,$F$10,IF(A53=$B$11,$F$11,IF(A53=$B$12,$F$12,IF(A53=$B$13,$F$13,IF(A53=$B$14,$F$14,IF(AND('Simulador Valora'!$AE$45=2,L52=0),D52*(1+Z53),IF($AO$3=2,B53*AI53,D52*(1+Z53)))))))))","v":0},null,0,null,0,null,{"$f":"IF(B53-H53=0,0,J51)","v":0},null,null,null,{"$f":"IF(OR('Simulador Valora'!$T$65=1,'Simulador Valora'!$T$65=3),0,L53*'Simulador Valora'!$T$66*'Simulador Valora'!$U$64)","v":0},null,0,null,0,null,{"$f":"IF(B53<=0,0,IF('Simulador Valora'!$X$73=1,0,B53*'Simulador Valora'!$X$76))","v":0},null,{"$f":"IF(B53<=0,0,IF('Simulador Valora'!$V$40=1,'Simulador Valora'!$L$52,IF('Simulador Valora'!$V$40=3,'Simulador Valora'!$I$52,IF('Simulador Valora'!$V$40=4,'Simulador Valora'!$E$52))))","v":0},null,0,null,null,null,2,10,0,0,0,0,{"$f":"IF('Simulador Valora'!$V$40=1,'Simulador Valora'!$AD$69,IF('Simulador Valora'!$V$40=3,'Simulador Valora'!$AI$69,'Simulador Valora'!$AN$69))","v":0.12},0,0,0,0,0,0,"",{"$f":"IF(AJ53<=0,0,IF('Simulador Valora'!$X$73=1,0,AJ53*'Simulador Valora'!$X$76))+IF(AJ53<=0,0,IF('Simulador Valora'!$V$40=1,'Simulador Valora'!$L$52,IF('Simulador Valora'!$V$40=3,'Simulador Valora'!$I$52,IF('Simulador Valora'!$V$40=4,'Simulador Valora'!$E$52))))","v":0},null,0,0,"",0,34]
[35,0,null,{"$f":"IF(B54+F54-D53<=0,B54+F54,IF(A54=$B$10,$F$10,IF(A54=$B$11,$F$11,IF(A54=$B$12,$F$12,IF(A54=$B$13,$F$13,IF(A54=$B$14,$F$14,IF(AND('Simulador Valora'!$AE$45=2,L53=0),D53*(1+Z54),IF($AO$3=2,B54*AI54,D53*(1+Z54)))))))))","v":0},null,0,null,0,null,null,null,null,null,{"$f":"IF(OR('Simulador Valora'!$T$65=1,'Simulador Valora'!$T$65=3),0,L54*'Simulador Valora'!$T$66*'Simulador Valora'!$U$64)","v":0},null,0,null,0,null,{"$f":"IF(B54<=0,0,IF('Simulador Valora'!$X$73=1,0,B54*'Simulador Valora'!$X$76))","v":0},null,{"$f":"IF(B54<=0,0,IF('Simulador Valora'!$V$40=1,'Simulador Valora'!$L$52,IF('Simulador Valora'!$V$40=3,'Simulador Valora'!$I$52,IF('Simulador Valora'!$V$40=4,'Simulador Valora'!$E$52))))","v":0},null,0,null,null,null,2,11,0,0,0,0,{"$f":"IF('Simulador Valora'!$V$40=1,'Simulador Valora'!$AD$69,IF('Simulador Valora'!$V$40=3,'Simulador Valora'!$AI$69,'Simulador Valora'!$AN$69))","v":0.12},0,0,0,0,0,0,"",{"$f":"IF(AJ54<=0,0,IF('Simulador Valora'!$X$73=1,0,AJ54*'Simulador Valora'!$X$76))+IF(AJ54<=0,0,IF('Simulador Valora'!$V$40=1,'Simulador Valora'!$L$52,IF('Simulador Valora'!$V$40=3,'Simulador Valora'!$I$52,IF('Simulador Valora'!$V$40=4,'Simulador Valora'!$E$52))))","v":0},null,0,0,"",0,35]
[36,0,null,{"$f":"IF(B55+F55-D54<=0,B55+F55,IF(A55=$B$10,$F$10,IF(A55=$B$11,$F$11,IF(A55=$B$12,$F$12,IF(A55=$B$13,$F$13,IF(A55=$B$14,$F$14,IF(AND('Simulador Valora'!$AE$45=2,L54=0),D54*(1+Z55),IF($AO$3=2,B55*AI55,D54*(1+Z55)))))))))","v":0},null,0,null,0,null,{"$f":"IF(B55-H55=0,0,J53)","v":0},null,null,null,{"$f":"IF(OR('Simulador Valora'!$T$65=1,'Simulador Valora'!$T$65=3),0,L55*'Simulador Valora'!$T$66*'Simulador Valora'!$U$64)","v":0},null,0,null,0,null,{"$f":"IF(B55<=0,0,IF('Simulador Valora'!$X$73=1,0,B55*'Simulador Valora'!$X$76))","v":0},null,{"$f":"IF(B55<=0,0,IF('Simulador Valora'!$V$40=1,'Simulador Valora'!$L$52,IF('Simulador Valora'!$V$40=3,'Simulador Valora'!$I$52,IF('Simulador Valora'!$V$40=4,'Simulador Valora'!$E$52))))","v":0},null,0,null,null,null,3,0,0,0,0,0,{"$f":"IF('Simulador Valora'!$V$40=1,'Simulador Valora'!$AD$69,IF('Simulador Valora'!$V$40=3,'Simulador Valora'!$AI$69,'Simulador Valora'!$AN$69))","v":0.12},0,0,0,0,0,0,"",{"$f":"IF(AJ55<=0,0,IF('Simulador Valora'!$X$73=1,0,AJ55*'Simulador Valora'!$X$76))+IF(AJ55<=0,0,IF('Simulador Valora'!$V$40=1,'Simulador Valora'!$L$52,IF('Simulador Valora'!$V$40=3,'Simulador Valora'!$I$52,IF('Simulador Valora'!$V$40=4,'Simulador Valora'!$E$52))))","v":0},null,0,0,"",0,36]
[37,0,null,{"$f":"IF(B56+F56-D55<=0,B56+F56,IF(A56=$B$10,$F$10,IF(A56=$B$11,$F$11,IF(A56=$B$12,$F$12,IF(A56=$B$13,$F$13,IF(A56=$B$14,$F$14,IF(AND('Simulador Valora'!$AE$45=2,L55=0),D55*(1+Z56),IF($AO$3=2,B56*AI56,D55*(1+Z56)))))))))","v":0},null,0,null,0,null,null,null,null,null,{"$f":"IF(OR('Simulador Valora'!$T$65=1,'Simulador Valora'!$T$65=3),0,L56*'Simulador Valora'!$T$66*'Simulador Valora'!$U$64)","v":0},null,0,null,0,null,{"$f":"IF(B56<=0,0,IF('Simulador Valora'!$X$73=1,0,B56*'Simulador Valora'!$X$76))","v":0},null,{"$f":"IF(B56<=0,0,IF('Simulador Valora'!$V$40=1,'Simulador Valora'!$L$52,IF('Simulador Valora'!$V$40=3,'Simulador Valora'!$I$52,IF('Simulador Valora'!$V$40=4,'Simulador Valora'!$E$52))))","v":0},null,0,null,{"$f":"IF(B56<=0,0,'Simulador Valora'!$AF$53)","v":0},null,3,1,0,0,0,0,{"$f":"IF(AH55=$AG$4,AH55,IF(AH55-0.25%<=$AG$4,$AG$4,AH55-0.25%))","v":0.12},0,0,0,0,0,0,"",{"$f":"IF(AJ56<=0,0,IF('Simulador Valora'!$X$73=1,0,AJ56*'Simulador Valora'!$X$76))+IF(AJ56<=0,0,IF('Simulador Valora'!$V$40=1,'Simulador Valora'!$L$52,IF('Simulador Valora'!$V$40=3,'Simulador Valora'!$I$52,IF('Simulador Valora'!$V$40=4,'Simulador Valora'!$E$52))))","v":0},{"$f":"IF(AJ56<=0,0,$AQ$32)","v":0},0,0,"",0,37]
[38,0,null,{"$f":"IF(B57+F57-D56<=0,B57+F57,IF(A57=$B$10,$F$10,IF(A57=$B$11,$F$11,IF(A57=$B$12,$F$12,IF(A57=$B$13,$F$13,IF(A57=$B$14,$F$14,IF(AND('Simulador Valora'!$AE$45=2,L56=0),D56*(1+Z57),IF($AO$3=2,B57*AI57,D56*(1+Z57)))))))))","v":0},null,0,null,0,null,{"$f":"IF(B57-H57=0,0,J55*(1+(3%)))","v":0},null,null,null,{"$f":"IF(OR('Simulador Valora'!$T$65=1,'Simulador Valora'!$T$65=3),0,L57*'Simulador Valora'!$T$66*'Simulador Valora'!$U$64)","v":0},null,0,null,0,null,{"$f":"IF(B57<=0,0,IF('Simulador Valora'!$X$73=1,0,B57*'Simulador Valora'!$X$76))","v":0},null,{"$f":"IF(B57<=0,0,IF('Simulador Valora'!$V$40=1,'Simulador Valora'!$L$52,IF('Simulador Valora'!$V$40=3,'Simulador Valora'!$I$52,IF('Simulador Valora'!$V$40=4,'Simulador Valora'!$E$52))))","v":0},null,0,null,null,null,3,2,0,0,0,0,{"$f":"AH56","v":0.12},0,0,0,0,0,0,"",{"$f":"IF(AJ57<=0,0,IF('Simulador Valora'!$X$73=1,0,AJ57*'Simulador Valora'!$X$76))+IF(AJ57<=0,0,IF('Simulador Valora'!$V$40=1,'Simulador Valora'!$L$52,IF('Simulador Valora'!$V$40=3,'Simulador Valora'!$I$52,IF('Simulador Valora'!$V$40=4,'Simulador Valora'!$E$52))))","v":0},null,0,0,"",0,38]
[39,0,null,{"$f":"IF(B58+F58-D57<=0,B58+F58,IF(A58=$B$10,$F$10,IF(A58=$B$11,$F$11,IF(A58=$B$12,$F$12,IF(A58=$B$13,$F$13,IF(A58=$B$14,$F$14,IF(AND('Simulador Valora'!$AE$45=2,L57=0),D57*(1+Z58),IF($AO$3=2,B58*AI58,D57*(1+Z58)))))))))","v":0},null,0,null,0,null,null,null,null,null,{"$f":"IF(OR('Simulador Valora'!$T$65=1,'Simulador Valora'!$T$65=3),0,L58*'Simulador Valora'!$T$66*'Simulador Valora'!$U$64)","v":0},null,0,null,0,null,{"$f":"IF(B58<=0,0,IF('Simulador Valora'!$X$73=1,0,B58*'Simulador Valora'!$X$76))","v":0},null,{"$f":"IF(B58<=0,0,IF('Simulador Valora'!$V$40=1,'Simulador Valora'!$L$52,IF('Simulador Valora'!$V$40=3,'Simulador Valora'!$I$52,IF('Simulador Valora'!$V$40=4,'Simulador Valora'!$E$52))))","v":0},null,0,null,null,null,3,3,0,0,0,0,{"$f":"AH57","v":0.12},0,0,0,0,0,0,"",{"$f":"IF(AJ58<=0,0,IF('Simulador Valora'!$X$73=1,0,AJ58*'Simulador Valora'!$X$76))+IF(AJ58<=0,0,IF('Simulador Valora'!$V$40=1,'Simulador Valora'!$L$52,IF('Simulador Valora'!$V$40=3,'Simulador Valora'!$I$52,IF('Simulador Valora'!$V$40=4,'Simulador Valora'!$E$52))))","v":0},null,0,0,"",0,39]
[40,0,null,{"$f":"IF(B59+F59-D58<=0,B59+F59,IF(A59=$B$10,$F$10,IF(A59=$B$11,$F$11,IF(A59=$B$12,$F$12,IF(A59=$B$13,$F$13,IF(A59=$B$14,$F$14,IF(AND('Simulador Valora'!$AE$45=2,L58=0),D58*(1+Z59),IF($AO$3=2,B59*AI59,D58*(1+Z59)))))))))","v":0},null,0,null,0,null,{"$f":"IF(B59-H59=0,0,J57)","v":0},null,null,null,{"$f":"IF(OR('Simulador Valora'!$T$65=1,'Simulador Valora'!$T$65=3),0,L59*'Simulador Valora'!$T$66*'Simulador Valora'!$U$64)","v":0},null,0,null,0,null,{"$f":"IF(B59<=0,0,IF('Simulador Valora'!$X$73=1,0,B59*'Simulador Valora'!$X$76))","v":0},null,{"$f":"IF(B59<=0,0,IF('Simulador Valora'!$V$40=1,'Simulador Valora'!$L$52,IF('Simulador Valora'!$V$40=3,'Simulador Valora'!$I$52,IF('Simulador Valora'!$V$40=4,'Simulador Valora'!$E$52))))","v":0},null,0,null,null,null,3,4,0,0,0,0,0.12,0,0,0,0,0,0,"",{"$f":"IF(AJ59<=0,0,IF('Simulador Valora'!$X$73=1,0,AJ59*'Simulador Valora'!$X$76))+IF(AJ59<=0,0,IF('Simulador Valora'!$V$40=1,'Simulador Valora'!$L$52,IF('Simulador Valora'!$V$40=3,'Simulador Valora'!$I$52,IF('Simulador Valora'!$V$40=4,'Simulador Valora'!$E$52))))","v":0},null,0,0,"",0,40]
[41,0,null,{"$f":"IF(B60+F60-D59<=0,B60+F60,IF(A60=$B$10,$F$10,IF(A60=$B$11,$F$11,IF(A60=$B$12,$F$12,IF(A60=$B$13,$F$13,IF(A60=$B$14,$F$14,IF(AND('Simulador Valora'!$AE$45=2,L59=0),D59*(1+Z60),IF($AO$3=2,B60*AI60,D59*(1+Z60)))))))))","v":0},null,0,null,0,null,null,null,null,null,{"$f":"IF(OR('Simulador Valora'!$T$65=1,'Simulador Valora'!$T$65=3),0,L60*'Simulador Valora'!$T$66*'Simulador Valora'!$U$64)","v":0},null,0,null,0,null,{"$f":"IF(B60<=0,0,IF('Simulador Valora'!$X$73=1,0,B60*'Simulador Valora'!$X$76))","v":0},null,{"$f":"IF(B60<=0,0,IF('Simulador Valora'!$V$40=1,'Simulador Valora'!$L$52,IF('Simulador Valora'!$V$40=3,'Simulador Valora'!$I$52,IF('Simulador Valora'!$V$40=4,'Simulador Valora'!$E$52))))","v":0},null,0,null,null,null,3,5,0,0,0,0,0.12,0,0,0,0,0,0,"",{"$f":"IF(AJ60<=0,0,IF('Simulador Valora'!$X$73=1,0,AJ60*'Simulador Valora'!$X$76))+IF(AJ60<=0,0,IF('Simulador Valora'!$V$40=1,'Simulador Valora'!$L$52,IF('Simulador Valora'!$V$40=3,'Simulador Valora'!$I$52,IF('Simulador Valora'!$V$40=4,'Simulador Valora'!$E$52))))","v":0},null,0,0,"",0,41]
[42,0,null,{"$f":"IF(B61+F61-D60<=0,B61+F61,IF(A61=$B$10,$F$10,IF(A61=$B$11,$F$11,IF(A61=$B$12,$F$12,IF(A61=$B$13,$F$13,IF(A61=$B$14,$F$14,IF(AND('Simulador Valora'!$AE$45=2,L60=0),D60*(1+Z61),IF($AO$3=2,B61*AI61,D60*(1+Z61)))))))))","v":0},null,0,null,0,null,{"$f":"IF(B61-H61=0,0,J59)","v":0},null,null,null,{"$f":"IF(OR('Simulador Valora'!$T$65=1,'Simulador Valora'!$T$65=3),0,L61*'Simulador Valora'!$T$66*'Simulador Valora'!$U$64)","v":0},null,0,null,0,null,{"$f":"IF(B61<=0,0,IF('Simulador Valora'!$X$73=1,0,B61*'Simulador Valora'!$X$76))","v":0},null,{"$f":"IF(B61<=0,0,IF('Simulador Valora'!$V$40=1,'Simulador Valora'!$L$52,IF('Simulador Valora'!$V$40=3,'Simulador Valora'!$I$52,IF('Simulador Valora'!$V$40=4,'Simulador Valora'!$E$52))))","v":0},null,0,null,null,null,3,6,0,0,0,0,0.12,0,0,0,0,0,0,"",{"$f":"IF(AJ61<=0,0,IF('Simulador Valora'!$X$73=1,0,AJ61*'Simulador Valora'!$X$76))+IF(AJ61<=0,0,IF('Simulador Valora'!$V$40=1,'Simulador Valora'!$L$52,IF('Simulador Valora'!$V$40=3,'Simulador Valora'!$I$52,IF('Simulador Valora'!$V$40=4,'Simulador Valora'!$E$52))))","v":0},null,0,0,"",0,42]
[43,0,null,{"$f":"IF(B62+F62-D61<=0,B62+F62,IF(A62=$B$10,$F$10,IF(A62=$B$11,$F$11,IF(A62=$B$12,$F$12,IF(A62=$B$13,$F$13,IF(A62=$B$14,$F$14,IF(AND('Simulador Valora'!$AE$45=2,L61=0),D61*(1+Z62),IF($AO$3=2,B62*AI62,D61*(1+Z62)))))))))","v":0},null,0,null,0,null,null,null,null,null,{"$f":"IF(OR('Simulador Valora'!$T$65=1,'Simulador Valora'!$T$65=3),0,L62*'Simulador Valora'!$T$66*'Simulador Valora'!$U$64)","v":0},null,0,null,0,null,{"$f":"IF(B62<=0,0,IF('Simulador Valora'!$X$73=1,0,B62*'Simulador Valora'!$X$76))","v":0},null,{"$f":"IF(B62<=0,0,IF('Simulador Valora'!$V$40=1,'Simulador Valora'!$L$52,IF('Simulador Valora'!$V$40=3,'Simulador Valora'!$I$52,IF('Simulador Valora'!$V$40=4,'Simulador Valora'!$E$52))))","v":0},null,0,null,null,null,3,7,0,0,0,0,0.12,0,0,0,0,0,0,"",{"$f":"IF(AJ62<=0,0,IF('Simulador Valora'!$X$73=1,0,AJ62*'Simulador Valora'!$X$76))+IF(AJ62<=0,0,IF('Simulador Valora'!$V$40=1,'Simulador Valora'!$L$52,IF('Simulador Valora'!$V$40=3,'Simulador Valora'!$I$52,IF('Simulador Valora'!$V$40=4,'Simulador Valora'!$E$52))))","v":0},null,0,0,"",0,43]
[44,0,null,{"$f":"IF(B63+F63-D62<=0,B63+F63,IF(A63=$B$10,$F$10,IF(A63=$B$11,$F$11,IF(A63=$B$12,$F$12,IF(A63=$B$13,$F$13,IF(A63=$B$14,$F$14,IF(AND('Simulador Valora'!$AE$45=2,L62=0),D62*(1+Z63),IF($AO$3=2,B63*AI63,D62*(1+Z63)))))))))","v":0},null,0,null,0,null,{"$f":"IF(B63-H63=0,0,J61)","v":0},null,null,null,{"$f":"IF(OR('Simulador Valora'!$T$65=1,'Simulador Valora'!$T$65=3),0,L63*'Simulador Valora'!$T$66*'Simulador Valora'!$U$64)","v":0},null,0,null,0,null,{"$f":"IF(B63<=0,0,IF('Simulador Valora'!$X$73=1,0,B63*'Simulador Valora'!$X$76))","v":0},null,{"$f":"IF(B63<=0,0,IF('Simulador Valora'!$V$40=1,'Simulador Valora'!$L$52,IF('Simulador Valora'!$V$40=3,'Simulador Valora'!$I$52,IF('Simulador Valora'!$V$40=4,'Simulador Valora'!$E$52))))","v":0},null,0,null,null,null,3,8,0,0,0,0,0.12,0,0,0,0,0,0,"",{"$f":"IF(AJ63<=0,0,IF('Simulador Valora'!$X$73=1,0,AJ63*'Simulador Valora'!$X$76))+IF(AJ63<=0,0,IF('Simulador Valora'!$V$40=1,'Simulador Valora'!$L$52,IF('Simulador Valora'!$V$40=3,'Simulador Valora'!$I$52,IF('Simulador Valora'!$V$40=4,'Simulador Valora'!$E$52))))","v":0},null,0,0,"",0,44]
[45,0,null,{"$f":"IF(B64+F64-D63<=0,B64+F64,IF(A64=$B$10,$F$10,IF(A64=$B$11,$F$11,IF(A64=$B$12,$F$12,IF(A64=$B$13,$F$13,IF(A64=$B$14,$F$14,IF(AND('Simulador Valora'!$AE$45=2,L63=0),D63*(1+Z64),IF($AO$3=2,B64*AI64,D63*(1+Z64)))))))))","v":0},null,0,null,0,null,null,null,null,null,{"$f":"IF(OR('Simulador Valora'!$T$65=1,'Simulador Valora'!$T$65=3),0,L64*'Simulador Valora'!$T$66*'Simulador Valora'!$U$64)","v":0},null,0,null,0,null,{"$f":"IF(B64<=0,0,IF('Simulador Valora'!$X$73=1,0,B64*'Simulador Valora'!$X$76))","v":0},null,{"$f":"IF(B64<=0,0,IF('Simulador Valora'!$V$40=1,'Simulador Valora'!$L$52,IF('Simulador Valora'!$V$40=3,'Simulador Valora'!$I$52,IF('Simulador Valora'!$V$40=4,'Simulador Valora'!$E$52))))","v":0},null,0,null,null,null,3,9,0,0,0,0,0.12,0,0,0,0,0,0,"",{"$f":"IF(AJ64<=0,0,IF('Simulador Valora'!$X$73=1,0,AJ64*'Simulador Valora'!$X$76))+IF(AJ64<=0,0,IF('Simulador Valora'!$V$40=1,'Simulador Valora'!$L$52,IF('Simulador Valora'!$V$40=3,'Simulador Valora'!$I$52,IF('Simulador Valora'!$V$40=4,'Simulador Valora'!$E$52))))","v":0},null,0,0,"",0,45]
[46,0,null,{"$f":"IF(B65+F65-D64<=0,B65+F65,IF(A65=$B$10,$F$10,IF(A65=$B$11,$F$11,IF(A65=$B$12,$F$12,IF(A65=$B$13,$F$13,IF(A65=$B$14,$F$14,IF(AND('Simulador Valora'!$AE$45=2,L64=0),D64*(1+Z65),IF($AO$3=2,B65*AI65,D64*(1+Z65)))))))))","v":0},null,0,null,0,null,{"$f":"IF(B65-H65=0,0,J63)","v":0},null,null,null,{"$f":"IF(OR('Simulador Valora'!$T$65=1,'Simulador Valora'!$T$65=3),0,L65*'Simulador Valora'!$T$66*'Simulador Valora'!$U$64)","v":0},null,0,null,0,null,{"$f":"IF(B65<=0,0,IF('Simulador Valora'!$X$73=1,0,B65*'Simulador Valora'!$X$76))","v":0},null,{"$f":"IF(B65<=0,0,IF('Simulador Valora'!$V$40=1,'Simulador Valora'!$L$52,IF('Simulador Valora'!$V$40=3,'Simulador Valora'!$I$52,IF('Simulador Valora'!$V$40=4,'Simulador Valora'!$E$52))))","v":0},null,0,null,null,null,3,10,0,0,0,0,0.12,0,0,0,0,0,0,"",{"$f":"IF(AJ65<=0,0,IF('Simulador Valora'!$X$73=1,0,AJ65*'Simulador Valora'!$X$76))+IF(AJ65<=0,0,IF('Simulador Valora'!$V$40=1,'Simulador Valora'!$L$52,IF('Simulador Valora'!$V$40=3,'Simulador Valora'!$I$52,IF('Simulador Valora'!$V$40=4,'Simulador Valora'!$E$52))))","v":0},null,0,0,"",0,46]
[47,0,null,{"$f":"IF(B66+F66-D65<=0,B66+F66,IF(A66=$B$10,$F$10,IF(A66=$B$11,$F$11,IF(A66=$B$12,$F$12,IF(A66=$B$13,$F$13,IF(A66=$B$14,$F$14,IF(AND('Simulador Valora'!$AE$45=2,L65=0),D65*(1+Z66),IF($AO$3=2,B66*AI66,D65*(1+Z66)))))))))","v":0},null,0,null,0,null,null,null,null,null,{"$f":"IF(OR('Simulador Valora'!$T$65=1,'Simulador Valora'!$T$65=3),0,L66*'Simulador Valora'!$T$66*'Simulador Valora'!$U$64)","v":0},null,0,null,0,null,{"$f":"IF(B66<=0,0,IF('Simulador Valora'!$X$73=1,0,B66*'Simulador Valora'!$X$76))","v":0},null,{"$f":"IF(B66<=0,0,IF('Simulador Valora'!$V$40=1,'Simulador Valora'!$L$52,IF('Simulador Valora'!$V$40=3,'Simulador Valora'!$I$52,IF('Simulador Valora'!$V$40=4,'Simulador Valora'!$E$52))))","v":0},null,0,null,null,null,3,11,0,0,0,0,0.12,0,0,0,0,0,0,"",{"$f":"IF(AJ66<=0,0,IF('Simulador Valora'!$X$73=1,0,AJ66*'Simulador Valora'!$X$76))+IF(AJ66<=0,0,IF('Simulador Valora'!$V$40=1,'Simulador Valora'!$L$52,IF('Simulador Valora'!$V$40=3,'Simulador Valora'!$I$52,IF('Simulador Valora'!$V$40=4,'Simulador Valora'!$E$52))))","v":0},null,0,0,"",0,47]
[48,0,null,{"$f":"IF(B67+F67-D66<=0,B67+F67,IF(A67=$B$10,$F$10,IF(A67=$B$11,$F$11,IF(A67=$B$12,$F$12,IF(A67=$B$13,$F$13,IF(A67=$B$14,$F$14,IF(AND('Simulador Valora'!$AE$45=2,L66=0),D66*(1+Z67),IF($AO$3=2,B67*AI67,D66*(1+Z67)))))))))","v":0},null,0,null,0,null,{"$f":"IF(B67-H67=0,0,J65)","v":0},null,null,null,{"$f":"IF(OR('Simulador Valora'!$T$65=1,'Simulador Valora'!$T$65=3),0,L67*'Simulador Valora'!$T$66*'Simulador Valora'!$U$64)","v":0},null,0,null,0,null,{"$f":"IF(B67<=0,0,IF('Simulador Valora'!$X$73=1,0,B67*'Simulador Valora'!$X$76))","v":0},null,{"$f":"IF(B67<=0,0,IF('Simulador Valora'!$V$40=1,'Simulador Valora'!$L$52,IF('Simulador Valora'!$V$40=3,'Simulador Valora'!$I$52,IF('Simulador Valora'!$V$40=4,'Simulador Valora'!$E$52))))","v":0},null,0,null,null,null,4,0,0,0,0,0,0.12,0,0,0,0,0,0,"",{"$f":"IF(AJ67<=0,0,IF('Simulador Valora'!$X$73=1,0,AJ67*'Simulador Valora'!$X$76))+IF(AJ67<=0,0,IF('Simulador Valora'!$V$40=1,'Simulador Valora'!$L$52,IF('Simulador Valora'!$V$40=3,'Simulador Valora'!$I$52,IF('Simulador Valora'!$V$40=4,'Simulador Valora'!$E$52))))","v":0},null,0,0,"",0,48]
[49,0,null,{"$f":"IF(B68+F68-D67<=0,B68+F68,IF(A68=$B$10,$F$10,IF(A68=$B$11,$F$11,IF(A68=$B$12,$F$12,IF(A68=$B$13,$F$13,IF(A68=$B$14,$F$14,IF(AND('Simulador Valora'!$AE$45=2,L67=0),D67*(1+Z68),IF($AO$3=2,B68*AI68,D67*(1+Z68)))))))))","v":0},null,0,null,0,null,null,null,null,null,{"$f":"IF(OR('Simulador Valora'!$T$65=1,'Simulador Valora'!$T$65=3),0,L68*'Simulador Valora'!$T$66*'Simulador Valora'!$U$64)","v":0},null,0,null,0,null,{"$f":"IF(B68<=0,0,IF('Simulador Valora'!$X$73=1,0,B68*'Simulador Valora'!$X$76))","v":0},null,{"$f":"IF(B68<=0,0,IF('Simulador Valora'!$V$40=1,'Simulador Valora'!$L$52,IF('Simulador Valora'!$V$40=3,'Simulador Valora'!$I$52,IF('Simulador Valora'!$V$40=4,'Simulador Valora'!$E$52))))","v":0},null,0,null,{"$f":"IF(B68<=0,0,'Simulador Valora'!$AF$53)","v":0},null,4,1,0,0,0,0,{"$f":"IF(AH67=$AG$4,AH67,IF(AH67-0.25%<=$AG$4,$AG$4,AH67-0.25%))","v":0.12},0,0,0,0,0,0,"",{"$f":"IF(AJ68<=0,0,IF('Simulador Valora'!$X$73=1,0,AJ68*'Simulador Valora'!$X$76))+IF(AJ68<=0,0,IF('Simulador Valora'!$V$40=1,'Simulador Valora'!$L$52,IF('Simulador Valora'!$V$40=3,'Simulador Valora'!$I$52,IF('Simulador Valora'!$V$40=4,'Simulador Valora'!$E$52))))","v":0},{"$f":"IF(AJ68<=0,0,$AQ$32)","v":0},0,0,"",0,49]
[50,0,null,{"$f":"IF(B69+F69-D68<=0,B69+F69,IF(A69=$B$10,$F$10,IF(A69=$B$11,$F$11,IF(A69=$B$12,$F$12,IF(A69=$B$13,$F$13,IF(A69=$B$14,$F$14,IF(AND('Simulador Valora'!$AE$45=2,L68=0),D68*(1+Z69),IF($AO$3=2,B69*AI69,D68*(1+Z69)))))))))","v":0},null,0,null,0,null,{"$f":"IF(B69-H69=0,0,J67*(1+(3%)))","v":0},null,null,null,{"$f":"IF(OR('Simulador Valora'!$T$65=1,'Simulador Valora'!$T$65=3),0,L69*'Simulador Valora'!$T$66*'Simulador Valora'!$U$64)","v":0},null,0,null,0,null,{"$f":"IF(B69<=0,0,IF('Simulador Valora'!$X$73=1,0,B69*'Simulador Valora'!$X$76))","v":0},null,{"$f":"IF(B69<=0,0,IF('Simulador Valora'!$V$40=1,'Simulador Valora'!$L$52,IF('Simulador Valora'!$V$40=3,'Simulador Valora'!$I$52,IF('Simulador Valora'!$V$40=4,'Simulador Valora'!$E$52))))","v":0},null,0,null,null,null,4,2,0,0,0,0,{"$f":"AH68","v":0.12},0,0,0,0,0,0,"",{"$f":"IF(AJ69<=0,0,IF('Simulador Valora'!$X$73=1,0,AJ69*'Simulador Valora'!$X$76))+IF(AJ69<=0,0,IF('Simulador Valora'!$V$40=1,'Simulador Valora'!$L$52,IF('Simulador Valora'!$V$40=3,'Simulador Valora'!$I$52,IF('Simulador Valora'!$V$40=4,'Simulador Valora'!$E$52))))","v":0},null,0,0,"",0,50]
[51,0,null,{"$f":"IF(B70+F70-D69<=0,B70+F70,IF(A70=$B$10,$F$10,IF(A70=$B$11,$F$11,IF(A70=$B$12,$F$12,IF(A70=$B$13,$F$13,IF(A70=$B$14,$F$14,IF(AND('Simulador Valora'!$AE$45=2,L69=0),D69*(1+Z70),IF($AO$3=2,B70*AI70,D69*(1+Z70)))))))))","v":0},null,0,null,0,null,null,null,null,null,{"$f":"IF(OR('Simulador Valora'!$T$65=1,'Simulador Valora'!$T$65=3),0,L70*'Simulador Valora'!$T$66*'Simulador Valora'!$U$64)","v":0},null,0,null,0,null,{"$f":"IF(B70<=0,0,IF('Simulador Valora'!$X$73=1,0,B70*'Simulador Valora'!$X$76))","v":0},null,{"$f":"IF(B70<=0,0,IF('Simulador Valora'!$V$40=1,'Simulador Valora'!$L$52,IF('Simulador Valora'!$V$40=3,'Simulador Valora'!$I$52,IF('Simulador Valora'!$V$40=4,'Simulador Valora'!$E$52))))","v":0},null,0,null,null,null,4,3,0,0,0,0,{"$f":"AH69","v":0.12},0,0,0,0,0,0,"",{"$f":"IF(AJ70<=0,0,IF('Simulador Valora'!$X$73=1,0,AJ70*'Simulador Valora'!$X$76))+IF(AJ70<=0,0,IF('Simulador Valora'!$V$40=1,'Simulador Valora'!$L$52,IF('Simulador Valora'!$V$40=3,'Simulador Valora'!$I$52,IF('Simulador Valora'!$V$40=4,'Simulador Valora'!$E$52))))","v":0},null,0,0,"",0,51]
[52,0,null,{"$f":"IF(B71+F71-D70<=0,B71+F71,IF(A71=$B$10,$F$10,IF(A71=$B$11,$F$11,IF(A71=$B$12,$F$12,IF(A71=$B$13,$F$13,IF(A71=$B$14,$F$14,IF(AND('Simulador Valora'!$AE$45=2,L70=0),D70*(1+Z71),IF($AO$3=2,B71*AI71,D70*(1+Z71)))))))))","v":0},null,0,null,0,null,{"$f":"IF(B71-H71=0,0,J69)","v":0},null,null,null,{"$f":"IF(OR('Simulador Valora'!$T$65=1,'Simulador Valora'!$T$65=3),0,L71*'Simulador Valora'!$T$66*'Simulador Valora'!$U$64)","v":0},null,0,null,0,null,{"$f":"IF(B71<=0,0,IF('Simulador Valora'!$X$73=1,0,B71*'Simulador Valora'!$X$76))","v":0},null,{"$f":"IF(B71<=0,0,IF('Simulador Valora'!$V$40=1,'Simulador Valora'!$L$52,IF('Simulador Valora'!$V$40=3,'Simulador Valora'!$I$52,IF('Simulador Valora'!$V$40=4,'Simulador Valora'!$E$52))))","v":0},null,0,null,null,null,4,4,0,0,0,0,0.12,0,0,0,0,0,0,"",{"$f":"IF(AJ71<=0,0,IF('Simulador Valora'!$X$73=1,0,AJ71*'Simulador Valora'!$X$76))+IF(AJ71<=0,0,IF('Simulador Valora'!$V$40=1,'Simulador Valora'!$L$52,IF('Simulador Valora'!$V$40=3,'Simulador Valora'!$I$52,IF('Simulador Valora'!$V$40=4,'Simulador Valora'!$E$52))))","v":0},null,0,0,"",0,52]
[53,0,null,{"$f":"IF(B72+F72-D71<=0,B72+F72,IF(A72=$B$10,$F$10,IF(A72=$B$11,$F$11,IF(A72=$B$12,$F$12,IF(A72=$B$13,$F$13,IF(A72=$B$14,$F$14,IF(AND('Simulador Valora'!$AE$45=2,L71=0),D71*(1+Z72),IF($AO$3=2,B72*AI72,D71*(1+Z72)))))))))","v":0},null,0,null,0,null,null,null,null,null,{"$f":"IF(OR('Simulador Valora'!$T$65=1,'Simulador Valora'!$T$65=3),0,L72*'Simulador Valora'!$T$66*'Simulador Valora'!$U$64)","v":0},null,0,null,0,null,{"$f":"IF(B72<=0,0,IF('Simulador Valora'!$X$73=1,0,B72*'Simulador Valora'!$X$76))","v":0},null,{"$f":"IF(B72<=0,0,IF('Simulador Valora'!$V$40=1,'Simulador Valora'!$L$52,IF('Simulador Valora'!$V$40=3,'Simulador Valora'!$I$52,IF('Simulador Valora'!$V$40=4,'Simulador Valora'!$E$52))))","v":0},null,0,null,null,null,4,5,0,0,0,0,0.12,0,0,0,0,0,0,"",{"$f":"IF(AJ72<=0,0,IF('Simulador Valora'!$X$73=1,0,AJ72*'Simulador Valora'!$X$76))+IF(AJ72<=0,0,IF('Simulador Valora'!$V$40=1,'Simulador Valora'!$L$52,IF('Simulador Valora'!$V$40=3,'Simulador Valora'!$I$52,IF('Simulador Valora'!$V$40=4,'Simulador Valora'!$E$52))))","v":0},null,0,0,"",0,53]
[54,0,null,{"$f":"IF(B73+F73-D72<=0,B73+F73,IF(A73=$B$10,$F$10,IF(A73=$B$11,$F$11,IF(A73=$B$12,$F$12,IF(A73=$B$13,$F$13,IF(A73=$B$14,$F$14,IF(AND('Simulador Valora'!$AE$45=2,L72=0),D72*(1+Z73),IF($AO$3=2,B73*AI73,D72*(1+Z73)))))))))","v":0},null,0,null,0,null,{"$f":"IF(B73-H73=0,0,J71)","v":0},null,null,null,{"$f":"IF(OR('Simulador Valora'!$T$65=1,'Simulador Valora'!$T$65=3),0,L73*'Simulador Valora'!$T$66*'Simulador Valora'!$U$64)","v":0},null,0,null,0,null,{"$f":"IF(B73<=0,0,IF('Simulador Valora'!$X$73=1,0,B73*'Simulador Valora'!$X$76))","v":0},null,{"$f":"IF(B73<=0,0,IF('Simulador Valora'!$V$40=1,'Simulador Valora'!$L$52,IF('Simulador Valora'!$V$40=3,'Simulador Valora'!$I$52,IF('Simulador Valora'!$V$40=4,'Simulador Valora'!$E$52))))","v":0},null,0,null,null,null,4,6,0,0,0,0,0.12,0,0,0,0,0,0,"",{"$f":"IF(AJ73<=0,0,IF('Simulador Valora'!$X$73=1,0,AJ73*'Simulador Valora'!$X$76))+IF(AJ73<=0,0,IF('Simulador Valora'!$V$40=1,'Simulador Valora'!$L$52,IF('Simulador Valora'!$V$40=3,'Simulador Valora'!$I$52,IF('Simulador Valora'!$V$40=4,'Simulador Valora'!$E$52))))","v":0},null,0,0,"",0,54]
[55,0,null,{"$f":"IF(B74+F74-D73<=0,B74+F74,IF(A74=$B$10,$F$10,IF(A74=$B$11,$F$11,IF(A74=$B$12,$F$12,IF(A74=$B$13,$F$13,IF(A74=$B$14,$F$14,IF(AND('Simulador Valora'!$AE$45=2,L73=0),D73*(1+Z74),IF($AO$3=2,B74*AI74,D73*(1+Z74)))))))))","v":0},null,0,null,0,null,null,null,null,null,{"$f":"IF(OR('Simulador Valora'!$T$65=1,'Simulador Valora'!$T$65=3),0,L74*'Simulador Valora'!$T$66*'Simulador Valora'!$U$64)","v":0},null,0,null,0,null,{"$f":"IF(B74<=0,0,IF('Simulador Valora'!$X$73=1,0,B74*'Simulador Valora'!$X$76))","v":0},null,{"$f":"IF(B74<=0,0,IF('Simulador Valora'!$V$40=1,'Simulador Valora'!$L$52,IF('Simulador Valora'!$V$40=3,'Simulador Valora'!$I$52,IF('Simulador Valora'!$V$40=4,'Simulador Valora'!$E$52))))","v":0},null,0,null,null,null,4,7,0,0,0,0,0.12,0,0,0,0,0,0,"",{"$f":"IF(AJ74<=0,0,IF('Simulador Valora'!$X$73=1,0,AJ74*'Simulador Valora'!$X$76))+IF(AJ74<=0,0,IF('Simulador Valora'!$V$40=1,'Simulador Valora'!$L$52,IF('Simulador Valora'!$V$40=3,'Simulador Valora'!$I$52,IF('Simulador Valora'!$V$40=4,'Simulador Valora'!$E$52))))","v":0},null,0,0,"",0,55]
[56,0,null,{"$f":"IF(B75+F75-D74<=0,B75+F75,IF(A75=$B$10,$F$10,IF(A75=$B$11,$F$11,IF(A75=$B$12,$F$12,IF(A75=$B$13,$F$13,IF(A75=$B$14,$F$14,IF(AND('Simulador Valora'!$AE$45=2,L74=0),D74*(1+Z75),IF($AO$3=2,B75*AI75,D74*(1+Z75)))))))))","v":0},null,0,null,0,null,{"$f":"IF(B75-H75=0,0,J73)","v":0},null,null,null,{"$f":"IF(OR('Simulador Valora'!$T$65=1,'Simulador Valora'!$T$65=3),0,L75*'Simulador Valora'!$T$66*'Simulador Valora'!$U$64)","v":0},null,0,null,0,null,{"$f":"IF(B75<=0,0,IF('Simulador Valora'!$X$73=1,0,B75*'Simulador Valora'!$X$76))","v":0},null,{"$f":"IF(B75<=0,0,IF('Simulador Valora'!$V$40=1,'Simulador Valora'!$L$52,IF('Simulador Valora'!$V$40=3,'Simulador Valora'!$I$52,IF('Simulador Valora'!$V$40=4,'Simulador Valora'!$E$52))))","v":0},null,0,null,null,null,4,8,0,0,0,0,0.12,0,0,0,0,0,0,"",{"$f":"IF(AJ75<=0,0,IF('Simulador Valora'!$X$73=1,0,AJ75*'Simulador Valora'!$X$76))+IF(AJ75<=0,0,IF('Simulador Valora'!$V$40=1,'Simulador Valora'!$L$52,IF('Simulador Valora'!$V$40=3,'Simulador Valora'!$I$52,IF('Simulador Valora'!$V$40=4,'Simulador Valora'!$E$52))))","v":0},null,0,0,"",0,56]
[57,0,null,{"$f":"IF(B76+F76-D75<=0,B76+F76,IF(A76=$B$10,$F$10,IF(A76=$B$11,$F$11,IF(A76=$B$12,$F$12,IF(A76=$B$13,$F$13,IF(A76=$B$14,$F$14,IF(AND('Simulador Valora'!$AE$45=2,L75=0),D75*(1+Z76),IF($AO$3=2,B76*AI76,D75*(1+Z76)))))))))","v":0},null,0,null,0,null,null,null,null,null,{"$f":"IF(OR('Simulador Valora'!$T$65=1,'Simulador Valora'!$T$65=3),0,L76*'Simulador Valora'!$T$66*'Simulador Valora'!$U$64)","v":0},null,0,null,0,null,{"$f":"IF(B76<=0,0,IF('Simulador Valora'!$X$73=1,0,B76*'Simulador Valora'!$X$76))","v":0},null,{"$f":"IF(B76<=0,0,IF('Simulador Valora'!$V$40=1,'Simulador Valora'!$L$52,IF('Simulador Valora'!$V$40=3,'Simulador Valora'!$I$52,IF('Simulador Valora'!$V$40=4,'Simulador Valora'!$E$52))))","v":0},null,0,null,null,null,4,9,0,0,0,0,0.12,0,0,0,0,0,0,"",{"$f":"IF(AJ76<=0,0,IF('Simulador Valora'!$X$73=1,0,AJ76*'Simulador Valora'!$X$76))+IF(AJ76<=0,0,IF('Simulador Valora'!$V$40=1,'Simulador Valora'!$L$52,IF('Simulador Valora'!$V$40=3,'Simulador Valora'!$I$52,IF('Simulador Valora'!$V$40=4,'Simulador Valora'!$E$52))))","v":0},null,0,0,"",0,57]
[58,0,null,{"$f":"IF(B77+F77-D76<=0,B77+F77,IF(A77=$B$10,$F$10,IF(A77=$B$11,$F$11,IF(A77=$B$12,$F$12,IF(A77=$B$13,$F$13,IF(A77=$B$14,$F$14,IF(AND('Simulador Valora'!$AE$45=2,L76=0),D76*(1+Z77),IF($AO$3=2,B77*AI77,D76*(1+Z77)))))))))","v":0},null,0,null,0,null,{"$f":"IF(B77-H77=0,0,J75)","v":0},null,null,null,{"$f":"IF(OR('Simulador Valora'!$T$65=1,'Simulador Valora'!$T$65=3),0,L77*'Simulador Valora'!$T$66*'Simulador Valora'!$U$64)","v":0},null,0,null,0,null,{"$f":"IF(B77<=0,0,IF('Simulador Valora'!$X$73=1,0,B77*'Simulador Valora'!$X$76))","v":0},null,{"$f":"IF(B77<=0,0,IF('Simulador Valora'!$V$40=1,'Simulador Valora'!$L$52,IF('Simulador Valora'!$V$40=3,'Simulador Valora'!$I$52,IF('Simulador Valora'!$V$40=4,'Simulador Valora'!$E$52))))","v":0},null,0,null,null,null,4,10,0,0,0,0,0.12,0,0,0,0,0,0,"",{"$f":"IF(AJ77<=0,0,IF('Simulador Valora'!$X$73=1,0,AJ77*'Simulador Valora'!$X$76))+IF(AJ77<=0,0,IF('Simulador Valora'!$V$40=1,'Simulador Valora'!$L$52,IF('Simulador Valora'!$V$40=3,'Simulador Valora'!$I$52,IF('Simulador Valora'!$V$40=4,'Simulador Valora'!$E$52))))","v":0},null,0,0,"",0,58]
[59,0,null,{"$f":"IF(B78+F78-D77<=0,B78+F78,IF(A78=$B$10,$F$10,IF(A78=$B$11,$F$11,IF(A78=$B$12,$F$12,IF(A78=$B$13,$F$13,IF(A78=$B$14,$F$14,IF(AND('Simulador Valora'!$AE$45=2,L77=0),D77*(1+Z78),IF($AO$3=2,B78*AI78,D77*(1+Z78)))))))))","v":0},null,0,null,0,null,null,null,null,null,{"$f":"IF(OR('Simulador Valora'!$T$65=1,'Simulador Valora'!$T$65=3),0,L78*'Simulador Valora'!$T$66*'Simulador Valora'!$U$64)","v":0},null,0,null,0,null,{"$f":"IF(B78<=0,0,IF('Simulador Valora'!$X$73=1,0,B78*'Simulador Valora'!$X$76))","v":0},null,{"$f":"IF(B78<=0,0,IF('Simulador Valora'!$V$40=1,'Simulador Valora'!$L$52,IF('Simulador Valora'!$V$40=3,'Simulador Valora'!$I$52,IF('Simulador Valora'!$V$40=4,'Simulador Valora'!$E$52))))","v":0},null,0,null,null,null,4,11,0,0,0,0,0.12,0,0,0,0,0,0,"",{"$f":"IF(AJ78<=0,0,IF('Simulador Valora'!$X$73=1,0,AJ78*'Simulador Valora'!$X$76))+IF(AJ78<=0,0,IF('Simulador Valora'!$V$40=1,'Simulador Valora'!$L$52,IF('Simulador Valora'!$V$40=3,'Simulador Valora'!$I$52,IF('Simulador Valora'!$V$40=4,'Simulador Valora'!$E$52))))","v":0},null,0,0,"",0,59]
[60,0,null,{"$f":"IF(B79+F79-D78<=0,B79+F79,IF(A79=$B$10,$F$10,IF(A79=$B$11,$F$11,IF(A79=$B$12,$F$12,IF(A79=$B$13,$F$13,IF(A79=$B$14,$F$14,IF(AND('Simulador Valora'!$AE$45=2,L78=0),D78*(1+Z79),IF($AO$3=2,B79*AI79,D78*(1+Z79)))))))))","v":0},null,0,null,0,null,{"$f":"IF(B79-H79=0,0,J77)","v":0},null,null,null,{"$f":"IF(OR('Simulador Valora'!$T$65=1,'Simulador Valora'!$T$65=3),0,L79*'Simulador Valora'!$T$66*'Simulador Valora'!$U$64)","v":0},null,0,null,0,null,{"$f":"IF(B79<=0,0,IF('Simulador Valora'!$X$73=1,0,B79*'Simulador Valora'!$X$76))","v":0},null,{"$f":"IF(B79<=0,0,IF('Simulador Valora'!$V$40=1,'Simulador Valora'!$L$52,IF('Simulador Valora'!$V$40=3,'Simulador Valora'!$I$52,IF('Simulador Valora'!$V$40=4,'Simulador Valora'!$E$52))))","v":0},null,0,null,null,null,5,0,0,0,0,0,0.12,0,0,0,0,0,0,"",{"$f":"IF(AJ79<=0,0,IF('Simulador Valora'!$X$73=1,0,AJ79*'Simulador Valora'!$X$76))+IF(AJ79<=0,0,IF('Simulador Valora'!$V$40=1,'Simulador Valora'!$L$52,IF('Simulador Valora'!$V$40=3,'Simulador Valora'!$I$52,IF('Simulador Valora'!$V$40=4,'Simulador Valora'!$E$52))))","v":0},null,0,0,"",0,60]
[61,0,null,{"$f":"IF(B80+F80-D79<=0,B80+F80,IF(A80=$B$10,$F$10,IF(A80=$B$11,$F$11,IF(A80=$B$12,$F$12,IF(A80=$B$13,$F$13,IF(A80=$B$14,$F$14,IF(AND('Simulador Valora'!$AE$45=2,L79=0),D79*(1+Z80),IF($AO$3=2,B80*AI80,D79*(1+Z80)))))))))","v":0},null,0,null,0,null,null,null,null,null,{"$f":"IF(OR('Simulador Valora'!$T$65=1,'Simulador Valora'!$T$65=3),0,L80*'Simulador Valora'!$T$66*'Simulador Valora'!$U$64)","v":0},null,0,null,0,null,{"$f":"IF(B80<=0,0,IF('Simulador Valora'!$X$73=1,0,B80*'Simulador Valora'!$X$76))","v":0},null,{"$f":"IF(B80<=0,0,IF('Simulador Valora'!$V$40=1,'Simulador Valora'!$L$52,IF('Simulador Valora'!$V$40=3,'Simulador Valora'!$I$52,IF('Simulador Valora'!$V$40=4,'Simulador Valora'!$E$52))))","v":0},null,0,null,{"$f":"IF(B80<=0,0,'Simulador Valora'!$AF$53)","v":0},null,5,1,0,0,0,0,{"$f":"IF(AH79=$AG$4,AH79,IF(AH79-0.25%<=$AG$4,$AG$4,AH79-0.25%))","v":0.12},0,0,0,0,0,0,"",{"$f":"IF(AJ80<=0,0,IF('Simulador Valora'!$X$73=1,0,AJ80*'Simulador Valora'!$X$76))+IF(AJ80<=0,0,IF('Simulador Valora'!$V$40=1,'Simulador Valora'!$L$52,IF('Simulador Valora'!$V$40=3,'Simulador Valora'!$I$52,IF('Simulador Valora'!$V$40=4,'Simulador Valora'!$E$52))))","v":0},{"$f":"IF(AJ80<=0,0,$AQ$32)","v":0},0,0,"",0,61]
[62,0,null,{"$f":"IF(B81+F81-D80<=0,B81+F81,IF(A81=$B$10,$F$10,IF(A81=$B$11,$F$11,IF(A81=$B$12,$F$12,IF(A81=$B$13,$F$13,IF(A81=$B$14,$F$14,IF(AND('Simulador Valora'!$AE$45=2,L80=0),D80*(1+Z81),IF($AO$3=2,B81*AI81,D80*(1+Z81)))))))))","v":0},null,0,null,0,null,{"$f":"IF(B81-H81=0,0,J79*(1+(3%)))","v":0},null,null,null,{"$f":"IF(OR('Simulador Valora'!$T$65=1,'Simulador Valora'!$T$65=3),0,L81*'Simulador Valora'!$T$66*'Simulador Valora'!$U$64)","v":0},null,0,null,0,null,{"$f":"IF(B81<=0,0,IF('Simulador Valora'!$X$73=1,0,B81*'Simulador Valora'!$X$76))","v":0},null,{"$f":"IF(B81<=0,0,IF('Simulador Valora'!$V$40=1,'Simulador Valora'!$L$52,IF('Simulador Valora'!$V$40=3,'Simulador Valora'!$I$52,IF('Simulador Valora'!$V$40=4,'Simulador Valora'!$E$52))))","v":0},null,0,null,null,null,5,2,0,0,0,0,{"$f":"AH80","v":0.12},0,0,0,0,0,0,"",{"$f":"IF(AJ81<=0,0,IF('Simulador Valora'!$X$73=1,0,AJ81*'Simulador Valora'!$X$76))+IF(AJ81<=0,0,IF('Simulador Valora'!$V$40=1,'Simulador Valora'!$L$52,IF('Simulador Valora'!$V$40=3,'Simulador Valora'!$I$52,IF('Simulador Valora'!$V$40=4,'Simulador Valora'!$E$52))))","v":0},null,0,0,"",0,62]
[63,0,null,{"$f":"IF(B82+F82-D81<=0,B82+F82,IF(A82=$B$10,$F$10,IF(A82=$B$11,$F$11,IF(A82=$B$12,$F$12,IF(A82=$B$13,$F$13,IF(A82=$B$14,$F$14,IF(AND('Simulador Valora'!$AE$45=2,L81=0),D81*(1+Z82),IF($AO$3=2,B82*AI82,D81*(1+Z82)))))))))","v":0},null,0,null,0,null,null,null,null,null,{"$f":"IF(OR('Simulador Valora'!$T$65=1,'Simulador Valora'!$T$65=3),0,L82*'Simulador Valora'!$T$66*'Simulador Valora'!$U$64)","v":0},null,0,null,0,null,{"$f":"IF(B82<=0,0,IF('Simulador Valora'!$X$73=1,0,B82*'Simulador Valora'!$X$76))","v":0},null,{"$f":"IF(B82<=0,0,IF('Simulador Valora'!$V$40=1,'Simulador Valora'!$L$52,IF('Simulador Valora'!$V$40=3,'Simulador Valora'!$I$52,IF('Simulador Valora'!$V$40=4,'Simulador Valora'!$E$52))))","v":0},null,0,null,null,null,5,3,0,0,0,0,{"$f":"AH81","v":0.12},0,0,0,0,0,0,"",{"$f":"IF(AJ82<=0,0,IF('Simulador Valora'!$X$73=1,0,AJ82*'Simulador Valora'!$X$76))+IF(AJ82<=0,0,IF('Simulador Valora'!$V$40=1,'Simulador Valora'!$L$52,IF('Simulador Valora'!$V$40=3,'Simulador Valora'!$I$52,IF('Simulador Valora'!$V$40=4,'Simulador Valora'!$E$52))))","v":0},null,0,0,"",0,63]
[64,0,null,{"$f":"IF(B83+F83-D82<=0,B83+F83,IF(A83=$B$10,$F$10,IF(A83=$B$11,$F$11,IF(A83=$B$12,$F$12,IF(A83=$B$13,$F$13,IF(A83=$B$14,$F$14,IF(AND('Simulador Valora'!$AE$45=2,L82=0),D82*(1+Z83),IF($AO$3=2,B83*AI83,D82*(1+Z83)))))))))","v":0},null,0,null,0,null,{"$f":"IF(B83-H83=0,0,J81)","v":0},null,null,null,{"$f":"IF(OR('Simulador Valora'!$T$65=1,'Simulador Valora'!$T$65=3),0,L83*'Simulador Valora'!$T$66*'Simulador Valora'!$U$64)","v":0},null,0,null,0,null,{"$f":"IF(B83<=0,0,IF('Simulador Valora'!$X$73=1,0,B83*'Simulador Valora'!$X$76))","v":0},null,{"$f":"IF(B83<=0,0,IF('Simulador Valora'!$V$40=1,'Simulador Valora'!$L$52,IF('Simulador Valora'!$V$40=3,'Simulador Valora'!$I$52,IF('Simulador Valora'!$V$40=4,'Simulador Valora'!$E$52))))","v":0},null,0,null,null,null,5,4,0,0,0,0,0.12,0,0,0,0,0,0,"",{"$f":"IF(AJ83<=0,0,IF('Simulador Valora'!$X$73=1,0,AJ83*'Simulador Valora'!$X$76))+IF(AJ83<=0,0,IF('Simulador Valora'!$V$40=1,'Simulador Valora'!$L$52,IF('Simulador Valora'!$V$40=3,'Simulador Valora'!$I$52,IF('Simulador Valora'!$V$40=4,'Simulador Valora'!$E$52))))","v":0},null,0,0,"",0,64]
[65,0,null,{"$f":"IF(B84+F84-D83<=0,B84+F84,IF(A84=$B$10,$F$10,IF(A84=$B$11,$F$11,IF(A84=$B$12,$F$12,IF(A84=$B$13,$F$13,IF(A84=$B$14,$F$14,IF(AND('Simulador Valora'!$AE$45=2,L83=0),D83*(1+Z84),IF($AO$3=2,B84*AI84,D83*(1+Z84)))))))))","v":0},null,0,null,0,null,null,null,null,null,{"$f":"IF(OR('Simulador Valora'!$T$65=1,'Simulador Valora'!$T$65=3),0,L84*'Simulador Valora'!$T$66*'Simulador Valora'!$U$64)","v":0},null,0,null,0,null,{"$f":"IF(B84<=0,0,IF('Simulador Valora'!$X$73=1,0,B84*'Simulador Valora'!$X$76))","v":0},null,{"$f":"IF(B84<=0,0,IF('Simulador Valora'!$V$40=1,'Simulador Valora'!$L$52,IF('Simulador Valora'!$V$40=3,'Simulador Valora'!$I$52,IF('Simulador Valora'!$V$40=4,'Simulador Valora'!$E$52))))","v":0},null,0,null,null,null,5,5,0,0,0,0,0.12,0,0,0,0,{"$f":"+AK84-AL84","v":0},{"$f":"+AJ84-AM84","v":0},"",{"$f":"IF(AJ84<=0,0,IF('Simulador Valora'!$X$73=1,0,AJ84*'Simulador Valora'!$X$76))+IF(AJ84<=0,0,IF('Simulador Valora'!$V$40=1,'Simulador Valora'!$L$52,IF('Simulador Valora'!$V$40=3,'Simulador Valora'!$I$52,IF('Simulador Valora'!$V$40=4,'Simulador Valora'!$E$52))))","v":0},null,0,0,"",0,65]
[66,{"$f":"IF(R84<0,0,IF(A85=$B$10,R84+$D$10,IF(A85=$B$11,R84+$D$11,IF(A85=$B$12,R84+$D$12,IF(A85=$B$13,R84+$D$13,IF(A85=$B$14,R84+$D$14,R84))))))","v":0},null,{"$f":"IF(B85+F85-D84<=0,B85+F85,IF(A85=$B$10,$F$10,IF(A85=$B$11,$F$11,IF(A85=$B$12,$F$12,IF(A85=$B$13,$F$13,IF(A85=$B$14,$F$14,IF(AND('Simulador Valora'!$AE$45=2,L84=0),D84*(1+Z85),IF($AO$3=2,B85*AI85,D84*(1+Z85)))))))))","v":0},null,{"$f":"IF(B85=0,0,P85/360*AU85*B85)","v":0},null,0,null,{"$f":"IF(B85-H85=0,0,J83)","v":0},null,null,null,{"$f":"IF(OR('Simulador Valora'!$T$65=1,'Simulador Valora'!$T$65=3),0,L85*'Simulador Valora'!$T$66*'Simulador Valora'!$U$64)","v":0},null,{"$f":"IF(B85=0,0,AH85)","v":0},null,{"$f":"B85-H85-J85-L85+N85","v":0},null,{"$f":"IF(B85<=0,0,IF('Simulador Valora'!$X$73=1,0,B85*'Simulador Valora'!$X$76))","v":0},null,{"$f":"IF(B85<=0,0,IF('Simulador Valora'!$V$40=1,'Simulador Valora'!$L$52,IF('Simulador Valora'!$V$40=3,'Simulador Valora'!$I$52,IF('Simulador Valora'!$V$40=4,'Simulador Valora'!$E$52))))","v":0},null,{"$f":"IF(B85<=0,0,(D85+L85+T85+V85))","v":0},null,null,null,5,6,{"$f":"+IF(R85<=0,IF(R84>0,+A85,0),0)","v":0},{"$f":"+IF(AD85>0,+AB85,0)","v":0},{"$f":"+IF(AD85>0,+AC85,0)","v":0},{"$f":"X85","v":0},0.12,{"$f":"IFERROR(AK85/AJ85,0)","v":0},0,0,{"$f":"IFERROR((AO85/360*AU85*AJ85),0)","v":0},0,0,{"$f":"IF(AJ85=0,\"\",AH85)","v":""},{"$f":"IF(AJ85<=0,0,IF('Simulador Valora'!$X$73=1,0,AJ85*'Simulador Valora'!$X$76))+IF(AJ85<=0,0,IF('Simulador Valora'!$V$40=1,'Simulador Valora'!$L$52,IF('Simulador Valora'!$V$40=3,'Simulador Valora'!$I$52,IF('Simulador Valora'!$V$40=4,'Simulador Valora'!$E$52))))","v":0},null,{"$f":"AL85+AM85+AP85","v":0},{"$f":"IFERROR(IF(AK85<=0.01,0,AS84-1),0)","v":0},"",{"$f":"IFERROR(DAY(DATE(YEAR(AT85),MONTH(AT85)+1,0)),0)","v":0},66]
[67,0,null,{"$f":"IF(B86+F86-D85<=0,B86+F86,IF(A86=$B$10,$F$10,IF(A86=$B$11,$F$11,IF(A86=$B$12,$F$12,IF(A86=$B$13,$F$13,IF(A86=$B$14,$F$14,IF(AND('Simulador Valora'!$AE$45=2,L85=0),D85*(1+Z86),IF($AO$3=2,B86*AI86,D85*(1+Z86)))))))))","v":0},null,0,null,{"$f":"D86-F86","v":0},null,null,null,null,null,{"$f":"IF(OR('Simulador Valora'!$T$65=1,'Simulador Valora'!$T$65=3),0,L86*'Simulador Valora'!$T$66*'Simulador Valora'!$U$64)","v":0},null,0,null,0,null,{"$f":"IF(B86<=0,0,IF('Simulador Valora'!$X$73=1,0,B86*'Simulador Valora'!$X$76))","v":0},null,{"$f":"IF(B86<=0,0,IF('Simulador Valora'!$V$40=1,'Simulador Valora'!$L$52,IF('Simulador Valora'!$V$40=3,'Simulador Valora'!$I$52,IF('Simulador Valora'!$V$40=4,'Simulador Valora'!$E$52))))","v":0},null,0,null,null,null,5,7,0,0,0,0,0.12,0,{"$f":"IF(AN85<0,0,IF(A86=$B$10,AN85+$D$10,IF(A86=$B$11,AN85+$D$11,IF(A86=$B$12,AN85+$D$12,IF(A86=$B$13,AN85+$D$13,IF(A86=$B$14,AN85+$D$14,AN85))))))","v":0},{"$f":"IF(AJ86+AL86-AK85<=0,AJ86+AL86,IF(A86=$B$10,$F$10,IF(A86=$B$11,$F$11,IF(A86=$B$12,$F$12,IF(A86=$B$13,$F$13,IF(A86=$B$14,$F$14,AK85*(1+AQ86)))))))","v":0},0,0,0,"",{"$f":"IF(AJ86<=0,0,IF('Simulador Valora'!$X$73=1,0,AJ86*'Simulador Valora'!$X$76))+IF(AJ86<=0,0,IF('Simulador Valora'!$V$40=1,'Simulador Valora'!$L$52,IF('Simulador Valora'!$V$40=3,'Simulador Valora'!$I$52,IF('Simulador Valora'!$V$40=4,'Simulador Valora'!$E$52))))","v":0},null,0,0,{"$f":"IF(AJ86=0,\"\",DATE(YEAR(AT85),MONTH(AT85)+1,1))","v":""},0,67]
[68,0,null,{"$f":"IF(B87+F87-D86<=0,B87+F87,IF(A87=$B$10,$F$10,IF(A87=$B$11,$F$11,IF(A87=$B$12,$F$12,IF(A87=$B$13,$F$13,IF(A87=$B$14,$F$14,IF(AND('Simulador Valora'!$AE$45=2,L86=0),D86*(1+Z87),IF($AO$3=2,B87*AI87,D86*(1+Z87)))))))))","v":0},null,0,null,0,null,{"$f":"IF(B87-H87=0,0,J85)","v":0},null,null,null,{"$f":"IF(OR('Simulador Valora'!$T$65=1,'Simulador Valora'!$T$65=3),0,L87*'Simulador Valora'!$T$66*'Simulador Valora'!$U$64)","v":0},null,0,null,0,null,{"$f":"IF(B87<=0,0,IF('Simulador Valora'!$X$73=1,0,B87*'Simulador Valora'!$X$76))","v":0},null,{"$f":"IF(B87<=0,0,IF('Simulador Valora'!$V$40=1,'Simulador Valora'!$L$52,IF('Simulador Valora'!$V$40=3,'Simulador Valora'!$I$52,IF('Simulador Valora'!$V$40=4,'Simulador Valora'!$E$52))))","v":0},null,0,null,null,null,5,8,0,0,0,0,0.12,0,0,0,0,0,0,"",{"$f":"IF(AJ87<=0,0,IF('Simulador Valora'!$X$73=1,0,AJ87*'Simulador Valora'!$X$76))+IF(AJ87<=0,0,IF('Simulador Valora'!$V$40=1,'Simulador Valora'!$L$52,IF('Simulador Valora'!$V$40=3,'Simulador Valora'!$I$52,IF('Simulador Valora'!$V$40=4,'Simulador Valora'!$E$52))))","v":0},null,0,0,"",0,68]
[69,0,null,{"$f":"IF(B88+F88-D87<=0,B88+F88,IF(A88=$B$10,$F$10,IF(A88=$B$11,$F$11,IF(A88=$B$12,$F$12,IF(A88=$B$13,$F$13,IF(A88=$B$14,$F$14,IF(AND('Simulador Valora'!$AE$45=2,L87=0),D87*(1+Z88),IF($AO$3=2,B88*AI88,D87*(1+Z88)))))))))","v":0},null,0,null,0,null,null,null,null,null,{"$f":"IF(OR('Simulador Valora'!$T$65=1,'Simulador Valora'!$T$65=3),0,L88*'Simulador Valora'!$T$66*'Simulador Valora'!$U$64)","v":0},null,0,null,0,null,{"$f":"IF(B88<=0,0,IF('Simulador Valora'!$X$73=1,0,B88*'Simulador Valora'!$X$76))","v":0},null,{"$f":"IF(B88<=0,0,IF('Simulador Valora'!$V$40=1,'Simulador Valora'!$L$52,IF('Simulador Valora'!$V$40=3,'Simulador Valora'!$I$52,IF('Simulador Valora'!$V$40=4,'Simulador Valora'!$E$52))))","v":0},null,0,null,null,null,5,9,0,0,0,0,0.12,0,0,0,0,0,0,"",{"$f":"IF(AJ88<=0,0,IF('Simulador Valora'!$X$73=1,0,AJ88*'Simulador Valora'!$X$76))+IF(AJ88<=0,0,IF('Simulador Valora'!$V$40=1,'Simulador Valora'!$L$52,IF('Simulador Valora'!$V$40=3,'Simulador Valora'!$I$52,IF('Simulador Valora'!$V$40=4,'Simulador Valora'!$E$52))))","v":0},null,0,0,"",0,69]
[70,0,null,{"$f":"IF(B89+F89-D88<=0,B89+F89,IF(A89=$B$10,$F$10,IF(A89=$B$11,$F$11,IF(A89=$B$12,$F$12,IF(A89=$B$13,$F$13,IF(A89=$B$14,$F$14,IF(AND('Simulador Valora'!$AE$45=2,L88=0),D88*(1+Z89),IF($AO$3=2,B89*AI89,D88*(1+Z89)))))))))","v":0},null,0,null,0,null,{"$f":"IF(B89-H89=0,0,J87)","v":0},null,null,null,{"$f":"IF(OR('Simulador Valora'!$T$65=1,'Simulador Valora'!$T$65=3),0,L89*'Simulador Valora'!$T$66*'Simulador Valora'!$U$64)","v":0},null,0,null,0,null,{"$f":"IF(B89<=0,0,IF('Simulador Valora'!$X$73=1,0,B89*'Simulador Valora'!$X$76))","v":0},null,{"$f":"IF(B89<=0,0,IF('Simulador Valora'!$V$40=1,'Simulador Valora'!$L$52,IF('Simulador Valora'!$V$40=3,'Simulador Valora'!$I$52,IF('Simulador Valora'!$V$40=4,'Simulador Valora'!$E$52))))","v":0},null,0,null,null,null,5,10,0,0,0,0,0.12,0,0,0,0,0,0,"",{"$f":"IF(AJ89<=0,0,IF('Simulador Valora'!$X$73=1,0,AJ89*'Simulador Valora'!$X$76))+IF(AJ89<=0,0,IF('Simulador Valora'!$V$40=1,'Simulador Valora'!$L$52,IF('Simulador Valora'!$V$40=3,'Simulador Valora'!$I$52,IF('Simulador Valora'!$V$40=4,'Simulador Valora'!$E$52))))","v":0},null,0,0,"",0,70]
[71,0,null,{"$f":"IF(B90+F90-D89<=0,B90+F90,IF(A90=$B$10,$F$10,IF(A90=$B$11,$F$11,IF(A90=$B$12,$F$12,IF(A90=$B$13,$F$13,IF(A90=$B$14,$F$14,IF(AND('Simulador Valora'!$AE$45=2,L89=0),D89*(1+Z90),IF($AO$3=2,B90*AI90,D89*(1+Z90)))))))))","v":0},null,0,null,0,null,null,null,null,null,{"$f":"IF(OR('Simulador Valora'!$T$65=1,'Simulador Valora'!$T$65=3),0,L90*'Simulador Valora'!$T$66*'Simulador Valora'!$U$64)","v":0},null,0,null,0,null,{"$f":"IF(B90<=0,0,IF('Simulador Valora'!$X$73=1,0,B90*'Simulador Valora'!$X$76))","v":0},null,{"$f":"IF(B90<=0,0,IF('Simulador Valora'!$V$40=1,'Simulador Valora'!$L$52,IF('Simulador Valora'!$V$40=3,'Simulador Valora'!$I$52,IF('Simulador Valora'!$V$40=4,'Simulador Valora'!$E$52))))","v":0},null,0,null,null,null,5,11,0,0,0,0,0.12,0,0,0,0,0,0,"",{"$f":"IF(AJ90<=0,0,IF('Simulador Valora'!$X$73=1,0,AJ90*'Simulador Valora'!$X$76))+IF(AJ90<=0,0,IF('Simulador Valora'!$V$40=1,'Simulador Valora'!$L$52,IF('Simulador Valora'!$V$40=3,'Simulador Valora'!$I$52,IF('Simulador Valora'!$V$40=4,'Simulador Valora'!$E$52))))","v":0},null,0,0,"",0,71]
[72,0,null,{"$f":"IF(B91+F91-D90<=0,B91+F91,IF(A91=$B$10,$F$10,IF(A91=$B$11,$F$11,IF(A91=$B$12,$F$12,IF(A91=$B$13,$F$13,IF(A91=$B$14,$F$14,IF(AND('Simulador Valora'!$AE$45=2,L90=0),D90*(1+Z91),IF($AO$3=2,B91*AI91,D90*(1+Z91)))))))))","v":0},null,0,null,0,null,{"$f":"IF(B91-H91=0,0,J89)","v":0},null,null,null,{"$f":"IF(OR('Simulador Valora'!$T$65=1,'Simulador Valora'!$T$65=3),0,L91*'Simulador Valora'!$T$66*'Simulador Valora'!$U$64)","v":0},null,0,null,0,null,{"$f":"IF(B91<=0,0,IF('Simulador Valora'!$X$73=1,0,B91*'Simulador Valora'!$X$76))","v":0},null,{"$f":"IF(B91<=0,0,IF('Simulador Valora'!$V$40=1,'Simulador Valora'!$L$52,IF('Simulador Valora'!$V$40=3,'Simulador Valora'!$I$52,IF('Simulador Valora'!$V$40=4,'Simulador Valora'!$E$52))))","v":0},null,0,null,null,null,6,0,0,0,0,0,0.12,0,0,0,0,0,0,"",{"$f":"IF(AJ91<=0,0,IF('Simulador Valora'!$X$73=1,0,AJ91*'Simulador Valora'!$X$76))+IF(AJ91<=0,0,IF('Simulador Valora'!$V$40=1,'Simulador Valora'!$L$52,IF('Simulador Valora'!$V$40=3,'Simulador Valora'!$I$52,IF('Simulador Valora'!$V$40=4,'Simulador Valora'!$E$52))))","v":0},null,0,0,"",0,72]
[73,0,null,{"$f":"IF(B92+F92-D91<=0,B92+F92,IF(A92=$B$10,$F$10,IF(A92=$B$11,$F$11,IF(A92=$B$12,$F$12,IF(A92=$B$13,$F$13,IF(A92=$B$14,$F$14,IF(AND('Simulador Valora'!$AE$45=2,L91=0),D91*(1+Z92),IF($AO$3=2,B92*AI92,D91*(1+Z92)))))))))","v":0},null,0,null,0,null,null,null,null,null,{"$f":"IF(OR('Simulador Valora'!$T$65=1,'Simulador Valora'!$T$65=3),0,L92*'Simulador Valora'!$T$66*'Simulador Valora'!$U$64)","v":0},null,0,null,0,null,{"$f":"IF(B92<=0,0,IF('Simulador Valora'!$X$73=1,0,B92*'Simulador Valora'!$X$76))","v":0},null,{"$f":"IF(B92<=0,0,IF('Simulador Valora'!$V$40=1,'Simulador Valora'!$L$52,IF('Simulador Valora'!$V$40=3,'Simulador Valora'!$I$52,IF('Simulador Valora'!$V$40=4,'Simulador Valora'!$E$52))))","v":0},null,0,null,{"$f":"IF(B92<=0,0,'Simulador Valora'!$AF$53)","v":0},null,6,1,0,0,0,0,{"$f":"IF(AH91=$AG$4,AH91,IF(AH91-0.25%<=$AG$4,$AG$4,AH91-0.25%))","v":0.12},0,0,0,0,0,0,"",{"$f":"IF(AJ92<=0,0,IF('Simulador Valora'!$X$73=1,0,AJ92*'Simulador Valora'!$X$76))+IF(AJ92<=0,0,IF('Simulador Valora'!$V$40=1,'Simulador Valora'!$L$52,IF('Simulador Valora'!$V$40=3,'Simulador Valora'!$I$52,IF('Simulador Valora'!$V$40=4,'Simulador Valora'!$E$52))))","v":0},{"$f":"IF(AJ92<=0,0,$AQ$32)","v":0},0,0,"",0,73]
[74,0,null,{"$f":"IF(B93+F93-D92<=0,B93+F93,IF(A93=$B$10,$F$10,IF(A93=$B$11,$F$11,IF(A93=$B$12,$F$12,IF(A93=$B$13,$F$13,IF(A93=$B$14,$F$14,IF(AND('Simulador Valora'!$AE$45=2,L92=0),D92*(1+Z93),IF($AO$3=2,B93*AI93,D92*(1+Z93)))))))))","v":0},null,0,null,0,null,{"$f":"IF(B93-H93=0,0,J91*(1+(3%)))","v":0},null,null,null,{"$f":"IF(OR('Simulador Valora'!$T$65=1,'Simulador Valora'!$T$65=3),0,L93*'Simulador Valora'!$T$66*'Simulador Valora'!$U$64)","v":0},null,0,null,0,null,{"$f":"IF(B93<=0,0,IF('Simulador Valora'!$X$73=1,0,B93*'Simulador Valora'!$X$76))","v":0},null,{"$f":"IF(B93<=0,0,IF('Simulador Valora'!$V$40=1,'Simulador Valora'!$L$52,IF('Simulador Valora'!$V$40=3,'Simulador Valora'!$I$52,IF('Simulador Valora'!$V$40=4,'Simulador Valora'!$E$52))))","v":0},null,0,null,null,null,6,2,0,0,0,0,{"$f":"AH92","v":0.12},0,0,0,0,0,0,"",{"$f":"IF(AJ93<=0,0,IF('Simulador Valora'!$X$73=1,0,AJ93*'Simulador Valora'!$X$76))+IF(AJ93<=0,0,IF('Simulador Valora'!$V$40=1,'Simulador Valora'!$L$52,IF('Simulador Valora'!$V$40=3,'Simulador Valora'!$I$52,IF('Simulador Valora'!$V$40=4,'Simulador Valora'!$E$52))))","v":0},null,0,0,"",0,74]
[75,0,null,{"$f":"IF(B94+F94-D93<=0,B94+F94,IF(A94=$B$10,$F$10,IF(A94=$B$11,$F$11,IF(A94=$B$12,$F$12,IF(A94=$B$13,$F$13,IF(A94=$B$14,$F$14,IF(AND('Simulador Valora'!$AE$45=2,L93=0),D93*(1+Z94),IF($AO$3=2,B94*AI94,D93*(1+Z94)))))))))","v":0},null,0,null,0,null,null,null,null,null,{"$f":"IF(OR('Simulador Valora'!$T$65=1,'Simulador Valora'!$T$65=3),0,L94*'Simulador Valora'!$T$66*'Simulador Valora'!$U$64)","v":0},null,0,null,0,null,{"$f":"IF(B94<=0,0,IF('Simulador Valora'!$X$73=1,0,B94*'Simulador Valora'!$X$76))","v":0},null,{"$f":"IF(B94<=0,0,IF('Simulador Valora'!$V$40=1,'Simulador Valora'!$L$52,IF('Simulador Valora'!$V$40=3,'Simulador Valora'!$I$52,IF('Simulador Valora'!$V$40=4,'Simulador Valora'!$E$52))))","v":0},null,0,null,null,null,6,3,0,0,0,0,{"$f":"AH93","v":0.12},0,0,0,0,0,0,"",{"$f":"IF(AJ94<=0,0,IF('Simulador Valora'!$X$73=1,0,AJ94*'Simulador Valora'!$X$76))+IF(AJ94<=0,0,IF('Simulador Valora'!$V$40=1,'Simulador Valora'!$L$52,IF('Simulador Valora'!$V$40=3,'Simulador Valora'!$I$52,IF('Simulador Valora'!$V$40=4,'Simulador Valora'!$E$52))))","v":0},null,0,0,"",0,75]
[76,0,null,{"$f":"IF(B95+F95-D94<=0,B95+F95,IF(A95=$B$10,$F$10,IF(A95=$B$11,$F$11,IF(A95=$B$12,$F$12,IF(A95=$B$13,$F$13,IF(A95=$B$14,$F$14,IF(AND('Simulador Valora'!$AE$45=2,L94=0),D94*(1+Z95),IF($AO$3=2,B95*AI95,D94*(1+Z95)))))))))","v":0},null,0,null,0,null,{"$f":"IF(B95-H95=0,0,J93)","v":0},null,null,null,{"$f":"IF(OR('Simulador Valora'!$T$65=1,'Simulador Valora'!$T$65=3),0,L95*'Simulador Valora'!$T$66*'Simulador Valora'!$U$64)","v":0},null,0,null,0,null,{"$f":"IF(B95<=0,0,IF('Simulador Valora'!$X$73=1,0,B95*'Simulador Valora'!$X$76))","v":0},null,{"$f":"IF(B95<=0,0,IF('Simulador Valora'!$V$40=1,'Simulador Valora'!$L$52,IF('Simulador Valora'!$V$40=3,'Simulador Valora'!$I$52,IF('Simulador Valora'!$V$40=4,'Simulador Valora'!$E$52))))","v":0},null,0,null,null,null,6,4,0,0,0,0,0.12,0,0,0,0,0,0,"",{"$f":"IF(AJ95<=0,0,IF('Simulador Valora'!$X$73=1,0,AJ95*'Simulador Valora'!$X$76))+IF(AJ95<=0,0,IF('Simulador Valora'!$V$40=1,'Simulador Valora'!$L$52,IF('Simulador Valora'!$V$40=3,'Simulador Valora'!$I$52,IF('Simulador Valora'!$V$40=4,'Simulador Valora'!$E$52))))","v":0},null,0,0,"",0,76]
[77,0,null,{"$f":"IF(B96+F96-D95<=0,B96+F96,IF(A96=$B$10,$F$10,IF(A96=$B$11,$F$11,IF(A96=$B$12,$F$12,IF(A96=$B$13,$F$13,IF(A96=$B$14,$F$14,IF(AND('Simulador Valora'!$AE$45=2,L95=0),D95*(1+Z96),IF($AO$3=2,B96*AI96,D95*(1+Z96)))))))))","v":0},null,0,null,0,null,null,null,null,null,{"$f":"IF(OR('Simulador Valora'!$T$65=1,'Simulador Valora'!$T$65=3),0,L96*'Simulador Valora'!$T$66*'Simulador Valora'!$U$64)","v":0},null,0,null,0,null,{"$f":"IF(B96<=0,0,IF('Simulador Valora'!$X$73=1,0,B96*'Simulador Valora'!$X$76))","v":0},null,{"$f":"IF(B96<=0,0,IF('Simulador Valora'!$V$40=1,'Simulador Valora'!$L$52,IF('Simulador Valora'!$V$40=3,'Simulador Valora'!$I$52,IF('Simulador Valora'!$V$40=4,'Simulador Valora'!$E$52))))","v":0},null,0,null,null,null,6,5,0,0,0,0,0.12,0,0,0,0,0,0,"",{"$f":"IF(AJ96<=0,0,IF('Simulador Valora'!$X$73=1,0,AJ96*'Simulador Valora'!$X$76))+IF(AJ96<=0,0,IF('Simulador Valora'!$V$40=1,'Simulador Valora'!$L$52,IF('Simulador Valora'!$V$40=3,'Simulador Valora'!$I$52,IF('Simulador Valora'!$V$40=4,'Simulador Valora'!$E$52))))","v":0},null,0,0,"",0,77]
[78,0,null,{"$f":"IF(B97+F97-D96<=0,B97+F97,IF(A97=$B$10,$F$10,IF(A97=$B$11,$F$11,IF(A97=$B$12,$F$12,IF(A97=$B$13,$F$13,IF(A97=$B$14,$F$14,IF(AND('Simulador Valora'!$AE$45=2,L96=0),D96*(1+Z97),IF($AO$3=2,B97*AI97,D96*(1+Z97)))))))))","v":0},null,0,null,0,null,{"$f":"IF(B97-H97=0,0,J95)","v":0},null,null,null,{"$f":"IF(OR('Simulador Valora'!$T$65=1,'Simulador Valora'!$T$65=3),0,L97*'Simulador Valora'!$T$66*'Simulador Valora'!$U$64)","v":0},null,0,null,0,null,{"$f":"IF(B97<=0,0,IF('Simulador Valora'!$X$73=1,0,B97*'Simulador Valora'!$X$76))","v":0},null,{"$f":"IF(B97<=0,0,IF('Simulador Valora'!$V$40=1,'Simulador Valora'!$L$52,IF('Simulador Valora'!$V$40=3,'Simulador Valora'!$I$52,IF('Simulador Valora'!$V$40=4,'Simulador Valora'!$E$52))))","v":0},null,0,null,null,null,6,6,0,0,0,0,0.12,0,0,0,0,0,0,"",{"$f":"IF(AJ97<=0,0,IF('Simulador Valora'!$X$73=1,0,AJ97*'Simulador Valora'!$X$76))+IF(AJ97<=0,0,IF('Simulador Valora'!$V$40=1,'Simulador Valora'!$L$52,IF('Simulador Valora'!$V$40=3,'Simulador Valora'!$I$52,IF('Simulador Valora'!$V$40=4,'Simulador Valora'!$E$52))))","v":0},null,0,0,"",0,78]
[79,0,null,{"$f":"IF(B98+F98-D97<=0,B98+F98,IF(A98=$B$10,$F$10,IF(A98=$B$11,$F$11,IF(A98=$B$12,$F$12,IF(A98=$B$13,$F$13,IF(A98=$B$14,$F$14,IF(AND('Simulador Valora'!$AE$45=2,L97=0),D97*(1+Z98),IF($AO$3=2,B98*AI98,D97*(1+Z98)))))))))","v":0},null,0,null,0,null,null,null,null,null,{"$f":"IF(OR('Simulador Valora'!$T$65=1,'Simulador Valora'!$T$65=3),0,L98*'Simulador Valora'!$T$66*'Simulador Valora'!$U$64)","v":0},null,0,null,0,null,{"$f":"IF(B98<=0,0,IF('Simulador Valora'!$X$73=1,0,B98*'Simulador Valora'!$X$76))","v":0},null,{"$f":"IF(B98<=0,0,IF('Simulador Valora'!$V$40=1,'Simulador Valora'!$L$52,IF('Simulador Valora'!$V$40=3,'Simulador Valora'!$I$52,IF('Simulador Valora'!$V$40=4,'Simulador Valora'!$E$52))))","v":0},null,0,null,null,null,6,7,0,0,0,0,0.12,0,0,0,0,0,0,"",{"$f":"IF(AJ98<=0,0,IF('Simulador Valora'!$X$73=1,0,AJ98*'Simulador Valora'!$X$76))+IF(AJ98<=0,0,IF('Simulador Valora'!$V$40=1,'Simulador Valora'!$L$52,IF('Simulador Valora'!$V$40=3,'Simulador Valora'!$I$52,IF('Simulador Valora'!$V$40=4,'Simulador Valora'!$E$52))))","v":0},null,0,0,"",0,79]
[80,0,null,{"$f":"IF(B99+F99-D98<=0,B99+F99,IF(A99=$B$10,$F$10,IF(A99=$B$11,$F$11,IF(A99=$B$12,$F$12,IF(A99=$B$13,$F$13,IF(A99=$B$14,$F$14,IF(AND('Simulador Valora'!$AE$45=2,L98=0),D98*(1+Z99),IF($AO$3=2,B99*AI99,D98*(1+Z99)))))))))","v":0},null,0,null,0,null,{"$f":"IF(B99-H99=0,0,J97)","v":0},null,null,null,{"$f":"IF(OR('Simulador Valora'!$T$65=1,'Simulador Valora'!$T$65=3),0,L99*'Simulador Valora'!$T$66*'Simulador Valora'!$U$64)","v":0},null,0,null,0,null,{"$f":"IF(B99<=0,0,IF('Simulador Valora'!$X$73=1,0,B99*'Simulador Valora'!$X$76))","v":0},null,{"$f":"IF(B99<=0,0,IF('Simulador Valora'!$V$40=1,'Simulador Valora'!$L$52,IF('Simulador Valora'!$V$40=3,'Simulador Valora'!$I$52,IF('Simulador Valora'!$V$40=4,'Simulador Valora'!$E$52))))","v":0},null,0,null,null,null,6,8,0,0,0,0,0.12,0,0,0,0,0,0,"",{"$f":"IF(AJ99<=0,0,IF('Simulador Valora'!$X$73=1,0,AJ99*'Simulador Valora'!$X$76))+IF(AJ99<=0,0,IF('Simulador Valora'!$V$40=1,'Simulador Valora'!$L$52,IF('Simulador Valora'!$V$40=3,'Simulador Valora'!$I$52,IF('Simulador Valora'!$V$40=4,'Simulador Valora'!$E$52))))","v":0},null,0,0,"",0,80]
[81,0,null,{"$f":"IF(B100+F100-D99<=0,B100+F100,IF(A100=$B$10,$F$10,IF(A100=$B$11,$F$11,IF(A100=$B$12,$F$12,IF(A100=$B$13,$F$13,IF(A100=$B$14,$F$14,IF(AND('Simulador Valora'!$AE$45=2,L99=0),D99*(1+Z100),IF($AO$3=2,B100*AI100,D99*(1+Z100)))))))))","v":0},null,0,null,0,null,null,null,null,null,{"$f":"IF(OR('Simulador Valora'!$T$65=1,'Simulador Valora'!$T$65=3),0,L100*'Simulador Valora'!$T$66*'Simulador Valora'!$U$64)","v":0},null,0,null,0,null,{"$f":"IF(B100<=0,0,IF('Simulador Valora'!$X$73=1,0,B100*'Simulador Valora'!$X$76))","v":0},null,{"$f":"IF(B100<=0,0,IF('Simulador Valora'!$V$40=1,'Simulador Valora'!$L$52,IF('Simulador Valora'!$V$40=3,'Simulador Valora'!$I$52,IF('Simulador Valora'!$V$40=4,'Simulador Valora'!$E$52))))","v":0},null,0,null,null,null,6,9,0,0,0,0,0.12,0,0,0,0,0,0,"",{"$f":"IF(AJ100<=0,0,IF('Simulador Valora'!$X$73=1,0,AJ100*'Simulador Valora'!$X$76))+IF(AJ100<=0,0,IF('Simulador Valora'!$V$40=1,'Simulador Valora'!$L$52,IF('Simulador Valora'!$V$40=3,'Simulador Valora'!$I$52,IF('Simulador Valora'!$V$40=4,'Simulador Valora'!$E$52))))","v":0},null,0,0,"",0,81]
[82,0,null,{"$f":"IF(B101+F101-D100<=0,B101+F101,IF(A101=$B$10,$F$10,IF(A101=$B$11,$F$11,IF(A101=$B$12,$F$12,IF(A101=$B$13,$F$13,IF(A101=$B$14,$F$14,IF(AND('Simulador Valora'!$AE$45=2,L100=0),D100*(1+Z101),IF($AO$3=2,B101*AI101,D100*(1+Z101)))))))))","v":0},null,0,null,0,null,{"$f":"IF(B101-H101=0,0,J99)","v":0},null,null,null,{"$f":"IF(OR('Simulador Valora'!$T$65=1,'Simulador Valora'!$T$65=3),0,L101*'Simulador Valora'!$T$66*'Simulador Valora'!$U$64)","v":0},null,0,null,0,null,{"$f":"IF(B101<=0,0,IF('Simulador Valora'!$X$73=1,0,B101*'Simulador Valora'!$X$76))","v":0},null,{"$f":"IF(B101<=0,0,IF('Simulador Valora'!$V$40=1,'Simulador Valora'!$L$52,IF('Simulador Valora'!$V$40=3,'Simulador Valora'!$I$52,IF('Simulador Valora'!$V$40=4,'Simulador Valora'!$E$52))))","v":0},null,0,null,null,null,6,10,0,0,0,0,0.12,0,0,0,0,0,0,"",{"$f":"IF(AJ101<=0,0,IF('Simulador Valora'!$X$73=1,0,AJ101*'Simulador Valora'!$X$76))+IF(AJ101<=0,0,IF('Simulador Valora'!$V$40=1,'Simulador Valora'!$L$52,IF('Simulador Valora'!$V$40=3,'Simulador Valora'!$I$52,IF('Simulador Valora'!$V$40=4,'Simulador Valora'!$E$52))))","v":0},null,0,0,"",0,82]
[83,0,null,{"$f":"IF(B102+F102-D101<=0,B102+F102,IF(A102=$B$10,$F$10,IF(A102=$B$11,$F$11,IF(A102=$B$12,$F$12,IF(A102=$B$13,$F$13,IF(A102=$B$14,$F$14,IF(AND('Simulador Valora'!$AE$45=2,L101=0),D101*(1+Z102),IF($AO$3=2,B102*AI102,D101*(1+Z102)))))))))","v":0},null,0,null,0,null,null,null,null,null,{"$f":"IF(OR('Simulador Valora'!$T$65=1,'Simulador Valora'!$T$65=3),0,L102*'Simulador Valora'!$T$66*'Simulador Valora'!$U$64)","v":0},null,0,null,0,null,{"$f":"IF(B102<=0,0,IF('Simulador Valora'!$X$73=1,0,B102*'Simulador Valora'!$X$76))","v":0},null,{"$f":"IF(B102<=0,0,IF('Simulador Valora'!$V$40=1,'Simulador Valora'!$L$52,IF('Simulador Valora'!$V$40=3,'Simulador Valora'!$I$52,IF('Simulador Valora'!$V$40=4,'Simulador Valora'!$E$52))))","v":0},null,0,null,null,null,6,11,0,0,0,0,0.12,0,0,0,0,0,0,"",{"$f":"IF(AJ102<=0,0,IF('Simulador Valora'!$X$73=1,0,AJ102*'Simulador Valora'!$X$76))+IF(AJ102<=0,0,IF('Simulador Valora'!$V$40=1,'Simulador Valora'!$L$52,IF('Simulador Valora'!$V$40=3,'Simulador Valora'!$I$52,IF('Simulador Valora'!$V$40=4,'Simulador Valora'!$E$52))))","v":0},null,0,0,"",0,83]
[84,0,null,{"$f":"IF(B103+F103-D102<=0,B103+F103,IF(A103=$B$10,$F$10,IF(A103=$B$11,$F$11,IF(A103=$B$12,$F$12,IF(A103=$B$13,$F$13,IF(A103=$B$14,$F$14,IF(AND('Simulador Valora'!$AE$45=2,L102=0),D102*(1+Z103),IF($AO$3=2,B103*AI103,D102*(1+Z103)))))))))","v":0},null,0,null,0,null,{"$f":"IF(B103-H103=0,0,J101)","v":0},null,null,null,{"$f":"IF(OR('Simulador Valora'!$T$65=1,'Simulador Valora'!$T$65=3),0,L103*'Simulador Valora'!$T$66*'Simulador Valora'!$U$64)","v":0},null,0,null,0,null,{"$f":"IF(B103<=0,0,IF('Simulador Valora'!$X$73=1,0,B103*'Simulador Valora'!$X$76))","v":0},null,{"$f":"IF(B103<=0,0,IF('Simulador Valora'!$V$40=1,'Simulador Valora'!$L$52,IF('Simulador Valora'!$V$40=3,'Simulador Valora'!$I$52,IF('Simulador Valora'!$V$40=4,'Simulador Valora'!$E$52))))","v":0},null,0,null,null,null,7,0,0,0,0,0,0.12,0,0,0,0,0,0,"",{"$f":"IF(AJ103<=0,0,IF('Simulador Valora'!$X$73=1,0,AJ103*'Simulador Valora'!$X$76))+IF(AJ103<=0,0,IF('Simulador Valora'!$V$40=1,'Simulador Valora'!$L$52,IF('Simulador Valora'!$V$40=3,'Simulador Valora'!$I$52,IF('Simulador Valora'!$V$40=4,'Simulador Valora'!$E$52))))","v":0},null,0,0,"",0,84]
[85,0,null,{"$f":"IF(B104+F104-D103<=0,B104+F104,IF(A104=$B$10,$F$10,IF(A104=$B$11,$F$11,IF(A104=$B$12,$F$12,IF(A104=$B$13,$F$13,IF(A104=$B$14,$F$14,IF(AND('Simulador Valora'!$AE$45=2,L103=0),D103*(1+Z104),IF($AO$3=2,B104*AI104,D103*(1+Z104)))))))))","v":0},null,0,null,0,null,null,null,null,null,{"$f":"IF(OR('Simulador Valora'!$T$65=1,'Simulador Valora'!$T$65=3),0,L104*'Simulador Valora'!$T$66*'Simulador Valora'!$U$64)","v":0},null,0,null,0,null,{"$f":"IF(B104<=0,0,IF('Simulador Valora'!$X$73=1,0,B104*'Simulador Valora'!$X$76))","v":0},null,{"$f":"IF(B104<=0,0,IF('Simulador Valora'!$V$40=1,'Simulador Valora'!$L$52,IF('Simulador Valora'!$V$40=3,'Simulador Valora'!$I$52,IF('Simulador Valora'!$V$40=4,'Simulador Valora'!$E$52))))","v":0},null,0,null,{"$f":"IF(B104<=0,0,'Simulador Valora'!$AF$53)","v":0},null,7,1,0,0,0,0,{"$f":"IF(AH103=$AG$4,AH103,IF(AH103-0.25%<=$AG$4,$AG$4,AH103-0.25%))","v":0.12},0,0,0,0,0,0,"",{"$f":"IF(AJ104<=0,0,IF('Simulador Valora'!$X$73=1,0,AJ104*'Simulador Valora'!$X$76))+IF(AJ104<=0,0,IF('Simulador Valora'!$V$40=1,'Simulador Valora'!$L$52,IF('Simulador Valora'!$V$40=3,'Simulador Valora'!$I$52,IF('Simulador Valora'!$V$40=4,'Simulador Valora'!$E$52))))","v":0},{"$f":"IF(AJ104<=0,0,$AQ$32)","v":0},0,0,"",0,85]
[86,0,null,{"$f":"IF(B105+F105-D104<=0,B105+F105,IF(A105=$B$10,$F$10,IF(A105=$B$11,$F$11,IF(A105=$B$12,$F$12,IF(A105=$B$13,$F$13,IF(A105=$B$14,$F$14,IF(AND('Simulador Valora'!$AE$45=2,L104=0),D104*(1+Z105),IF($AO$3=2,B105*AI105,D104*(1+Z105)))))))))","v":0},null,0,null,0,null,{"$f":"IF(B105-H105=0,0,J103*(1+(3%)))","v":0},null,null,null,{"$f":"IF(OR('Simulador Valora'!$T$65=1,'Simulador Valora'!$T$65=3),0,L105*'Simulador Valora'!$T$66*'Simulador Valora'!$U$64)","v":0},null,0,null,0,null,{"$f":"IF(B105<=0,0,IF('Simulador Valora'!$X$73=1,0,B105*'Simulador Valora'!$X$76))","v":0},null,{"$f":"IF(B105<=0,0,IF('Simulador Valora'!$V$40=1,'Simulador Valora'!$L$52,IF('Simulador Valora'!$V$40=3,'Simulador Valora'!$I$52,IF('Simulador Valora'!$V$40=4,'Simulador Valora'!$E$52))))","v":0},null,0,null,null,null,7,2,0,0,0,0,{"$f":"AH104","v":0.12},0,0,0,0,0,0,"",{"$f":"IF(AJ105<=0,0,IF('Simulador Valora'!$X$73=1,0,AJ105*'Simulador Valora'!$X$76))+IF(AJ105<=0,0,IF('Simulador Valora'!$V$40=1,'Simulador Valora'!$L$52,IF('Simulador Valora'!$V$40=3,'Simulador Valora'!$I$52,IF('Simulador Valora'!$V$40=4,'Simulador Valora'!$E$52))))","v":0},null,0,0,"",0,86]
[87,0,null,{"$f":"IF(B106+F106-D105<=0,B106+F106,IF(A106=$B$10,$F$10,IF(A106=$B$11,$F$11,IF(A106=$B$12,$F$12,IF(A106=$B$13,$F$13,IF(A106=$B$14,$F$14,IF(AND('Simulador Valora'!$AE$45=2,L105=0),D105*(1+Z106),IF($AO$3=2,B106*AI106,D105*(1+Z106)))))))))","v":0},null,0,null,0,null,null,null,null,null,{"$f":"IF(OR('Simulador Valora'!$T$65=1,'Simulador Valora'!$T$65=3),0,L106*'Simulador Valora'!$T$66*'Simulador Valora'!$U$64)","v":0},null,0,null,0,null,{"$f":"IF(B106<=0,0,IF('Simulador Valora'!$X$73=1,0,B106*'Simulador Valora'!$X$76))","v":0},null,{"$f":"IF(B106<=0,0,IF('Simulador Valora'!$V$40=1,'Simulador Valora'!$L$52,IF('Simulador Valora'!$V$40=3,'Simulador Valora'!$I$52,IF('Simulador Valora'!$V$40=4,'Simulador Valora'!$E$52))))","v":0},null,0,null,null,null,7,3,0,0,0,0,{"$f":"AH105","v":0.12},0,0,0,0,0,0,"",{"$f":"IF(AJ106<=0,0,IF('Simulador Valora'!$X$73=1,0,AJ106*'Simulador Valora'!$X$76))+IF(AJ106<=0,0,IF('Simulador Valora'!$V$40=1,'Simulador Valora'!$L$52,IF('Simulador Valora'!$V$40=3,'Simulador Valora'!$I$52,IF('Simulador Valora'!$V$40=4,'Simulador Valora'!$E$52))))","v":0},null,0,0,"",0,87]
[88,0,null,{"$f":"IF(B107+F107-D106<=0,B107+F107,IF(A107=$B$10,$F$10,IF(A107=$B$11,$F$11,IF(A107=$B$12,$F$12,IF(A107=$B$13,$F$13,IF(A107=$B$14,$F$14,IF(AND('Simulador Valora'!$AE$45=2,L106=0),D106*(1+Z107),IF($AO$3=2,B107*AI107,D106*(1+Z107)))))))))","v":0},null,0,null,0,null,{"$f":"IF(B107-H107=0,0,J105)","v":0},null,null,null,{"$f":"IF(OR('Simulador Valora'!$T$65=1,'Simulador Valora'!$T$65=3),0,L107*'Simulador Valora'!$T$66*'Simulador Valora'!$U$64)","v":0},null,0,null,0,null,{"$f":"IF(B107<=0,0,IF('Simulador Valora'!$X$73=1,0,B107*'Simulador Valora'!$X$76))","v":0},null,{"$f":"IF(B107<=0,0,IF('Simulador Valora'!$V$40=1,'Simulador Valora'!$L$52,IF('Simulador Valora'!$V$40=3,'Simulador Valora'!$I$52,IF('Simulador Valora'!$V$40=4,'Simulador Valora'!$E$52))))","v":0},null,0,null,null,null,7,4,0,0,0,0,0.12,0,0,0,0,0,0,"",{"$f":"IF(AJ107<=0,0,IF('Simulador Valora'!$X$73=1,0,AJ107*'Simulador Valora'!$X$76))+IF(AJ107<=0,0,IF('Simulador Valora'!$V$40=1,'Simulador Valora'!$L$52,IF('Simulador Valora'!$V$40=3,'Simulador Valora'!$I$52,IF('Simulador Valora'!$V$40=4,'Simulador Valora'!$E$52))))","v":0},null,0,0,"",0,88]
[89,0,null,{"$f":"IF(B108+F108-D107<=0,B108+F108,IF(A108=$B$10,$F$10,IF(A108=$B$11,$F$11,IF(A108=$B$12,$F$12,IF(A108=$B$13,$F$13,IF(A108=$B$14,$F$14,IF(AND('Simulador Valora'!$AE$45=2,L107=0),D107*(1+Z108),IF($AO$3=2,B108*AI108,D107*(1+Z108)))))))))","v":0},null,0,null,0,null,null,null,null,null,{"$f":"IF(OR('Simulador Valora'!$T$65=1,'Simulador Valora'!$T$65=3),0,L108*'Simulador Valora'!$T$66*'Simulador Valora'!$U$64)","v":0},null,0,null,0,null,{"$f":"IF(B108<=0,0,IF('Simulador Valora'!$X$73=1,0,B108*'Simulador Valora'!$X$76))","v":0},null,{"$f":"IF(B108<=0,0,IF('Simulador Valora'!$V$40=1,'Simulador Valora'!$L$52,IF('Simulador Valora'!$V$40=3,'Simulador Valora'!$I$52,IF('Simulador Valora'!$V$40=4,'Simulador Valora'!$E$52))))","v":0},null,0,null,null,null,7,5,0,0,0,0,0.12,0,0,0,0,0,0,"",{"$f":"IF(AJ108<=0,0,IF('Simulador Valora'!$X$73=1,0,AJ108*'Simulador Valora'!$X$76))+IF(AJ108<=0,0,IF('Simulador Valora'!$V$40=1,'Simulador Valora'!$L$52,IF('Simulador Valora'!$V$40=3,'Simulador Valora'!$I$52,IF('Simulador Valora'!$V$40=4,'Simulador Valora'!$E$52))))","v":0},null,0,0,"",0,89]
[90,0,null,{"$f":"IF(B109+F109-D108<=0,B109+F109,IF(A109=$B$10,$F$10,IF(A109=$B$11,$F$11,IF(A109=$B$12,$F$12,IF(A109=$B$13,$F$13,IF(A109=$B$14,$F$14,IF(AND('Simulador Valora'!$AE$45=2,L108=0),D108*(1+Z109),IF($AO$3=2,B109*AI109,D108*(1+Z109)))))))))","v":0},null,0,null,0,null,{"$f":"IF(B109-H109=0,0,J107)","v":0},null,null,null,{"$f":"IF(OR('Simulador Valora'!$T$65=1,'Simulador Valora'!$T$65=3),0,L109*'Simulador Valora'!$T$66*'Simulador Valora'!$U$64)","v":0},null,0,null,0,null,{"$f":"IF(B109<=0,0,IF('Simulador Valora'!$X$73=1,0,B109*'Simulador Valora'!$X$76))","v":0},null,{"$f":"IF(B109<=0,0,IF('Simulador Valora'!$V$40=1,'Simulador Valora'!$L$52,IF('Simulador Valora'!$V$40=3,'Simulador Valora'!$I$52,IF('Simulador Valora'!$V$40=4,'Simulador Valora'!$E$52))))","v":0},null,0,null,null,null,7,6,0,0,0,0,0.12,0,0,0,0,0,0,"",{"$f":"IF(AJ109<=0,0,IF('Simulador Valora'!$X$73=1,0,AJ109*'Simulador Valora'!$X$76))+IF(AJ109<=0,0,IF('Simulador Valora'!$V$40=1,'Simulador Valora'!$L$52,IF('Simulador Valora'!$V$40=3,'Simulador Valora'!$I$52,IF('Simulador Valora'!$V$40=4,'Simulador Valora'!$E$52))))","v":0},null,0,0,"",0,90]
[91,0,null,{"$f":"IF(B110+F110-D109<=0,B110+F110,IF(A110=$B$10,$F$10,IF(A110=$B$11,$F$11,IF(A110=$B$12,$F$12,IF(A110=$B$13,$F$13,IF(A110=$B$14,$F$14,IF(AND('Simulador Valora'!$AE$45=2,L109=0),D109*(1+Z110),IF($AO$3=2,B110*AI110,D109*(1+Z110)))))))))","v":0},null,0,null,0,null,null,null,null,null,{"$f":"IF(OR('Simulador Valora'!$T$65=1,'Simulador Valora'!$T$65=3),0,L110*'Simulador Valora'!$T$66*'Simulador Valora'!$U$64)","v":0},null,0,null,0,null,{"$f":"IF(B110<=0,0,IF('Simulador Valora'!$X$73=1,0,B110*'Simulador Valora'!$X$76))","v":0},null,{"$f":"IF(B110<=0,0,IF('Simulador Valora'!$V$40=1,'Simulador Valora'!$L$52,IF('Simulador Valora'!$V$40=3,'Simulador Valora'!$I$52,IF('Simulador Valora'!$V$40=4,'Simulador Valora'!$E$52))))","v":0},null,0,null,null,null,7,7,0,0,0,0,0.12,0,0,0,0,0,0,"",{"$f":"IF(AJ110<=0,0,IF('Simulador Valora'!$X$73=1,0,AJ110*'Simulador Valora'!$X$76))+IF(AJ110<=0,0,IF('Simulador Valora'!$V$40=1,'Simulador Valora'!$L$52,IF('Simulador Valora'!$V$40=3,'Simulador Valora'!$I$52,IF('Simulador Valora'!$V$40=4,'Simulador Valora'!$E$52))))","v":0},null,0,0,"",0,91]
[92,0,null,{"$f":"IF(B111+F111-D110<=0,B111+F111,IF(A111=$B$10,$F$10,IF(A111=$B$11,$F$11,IF(A111=$B$12,$F$12,IF(A111=$B$13,$F$13,IF(A111=$B$14,$F$14,IF(AND('Simulador Valora'!$AE$45=2,L110=0),D110*(1+Z111),IF($AO$3=2,B111*AI111,D110*(1+Z111)))))))))","v":0},null,0,null,0,null,{"$f":"IF(B111-H111=0,0,J109)","v":0},null,null,null,{"$f":"IF(OR('Simulador Valora'!$T$65=1,'Simulador Valora'!$T$65=3),0,L111*'Simulador Valora'!$T$66*'Simulador Valora'!$U$64)","v":0},null,0,null,0,null,{"$f":"IF(B111<=0,0,IF('Simulador Valora'!$X$73=1,0,B111*'Simulador Valora'!$X$76))","v":0},null,{"$f":"IF(B111<=0,0,IF('Simulador Valora'!$V$40=1,'Simulador Valora'!$L$52,IF('Simulador Valora'!$V$40=3,'Simulador Valora'!$I$52,IF('Simulador Valora'!$V$40=4,'Simulador Valora'!$E$52))))","v":0},null,0,null,null,null,7,8,0,0,0,0,0.12,0,0,0,0,0,0,"",{"$f":"IF(AJ111<=0,0,IF('Simulador Valora'!$X$73=1,0,AJ111*'Simulador Valora'!$X$76))+IF(AJ111<=0,0,IF('Simulador Valora'!$V$40=1,'Simulador Valora'!$L$52,IF('Simulador Valora'!$V$40=3,'Simulador Valora'!$I$52,IF('Simulador Valora'!$V$40=4,'Simulador Valora'!$E$52))))","v":0},null,0,0,"",0,92]
[93,0,null,{"$f":"IF(B112+F112-D111<=0,B112+F112,IF(A112=$B$10,$F$10,IF(A112=$B$11,$F$11,IF(A112=$B$12,$F$12,IF(A112=$B$13,$F$13,IF(A112=$B$14,$F$14,IF(AND('Simulador Valora'!$AE$45=2,L111=0),D111*(1+Z112),IF($AO$3=2,B112*AI112,D111*(1+Z112)))))))))","v":0},null,0,null,0,null,null,null,null,null,{"$f":"IF(OR('Simulador Valora'!$T$65=1,'Simulador Valora'!$T$65=3),0,L112*'Simulador Valora'!$T$66*'Simulador Valora'!$U$64)","v":0},null,0,null,0,null,{"$f":"IF(B112<=0,0,IF('Simulador Valora'!$X$73=1,0,B112*'Simulador Valora'!$X$76))","v":0},null,{"$f":"IF(B112<=0,0,IF('Simulador Valora'!$V$40=1,'Simulador Valora'!$L$52,IF('Simulador Valora'!$V$40=3,'Simulador Valora'!$I$52,IF('Simulador Valora'!$V$40=4,'Simulador Valora'!$E$52))))","v":0},null,0,null,null,null,7,9,0,0,0,0,0.12,0,0,0,0,0,0,"",{"$f":"IF(AJ112<=0,0,IF('Simulador Valora'!$X$73=1,0,AJ112*'Simulador Valora'!$X$76))+IF(AJ112<=0,0,IF('Simulador Valora'!$V$40=1,'Simulador Valora'!$L$52,IF('Simulador Valora'!$V$40=3,'Simulador Valora'!$I$52,IF('Simulador Valora'!$V$40=4,'Simulador Valora'!$E$52))))","v":0},null,0,0,"",0,93]
[94,0,null,{"$f":"IF(B113+F113-D112<=0,B113+F113,IF(A113=$B$10,$F$10,IF(A113=$B$11,$F$11,IF(A113=$B$12,$F$12,IF(A113=$B$13,$F$13,IF(A113=$B$14,$F$14,IF(AND('Simulador Valora'!$AE$45=2,L112=0),D112*(1+Z113),IF($AO$3=2,B113*AI113,D112*(1+Z113)))))))))","v":0},null,0,null,0,null,{"$f":"IF(B113-H113=0,0,J111)","v":0},null,null,null,{"$f":"IF(OR('Simulador Valora'!$T$65=1,'Simulador Valora'!$T$65=3),0,L113*'Simulador Valora'!$T$66*'Simulador Valora'!$U$64)","v":0},null,0,null,0,null,{"$f":"IF(B113<=0,0,IF('Simulador Valora'!$X$73=1,0,B113*'Simulador Valora'!$X$76))","v":0},null,{"$f":"IF(B113<=0,0,IF('Simulador Valora'!$V$40=1,'Simulador Valora'!$L$52,IF('Simulador Valora'!$V$40=3,'Simulador Valora'!$I$52,IF('Simulador Valora'!$V$40=4,'Simulador Valora'!$E$52))))","v":0},null,0,null,null,null,7,10,0,0,0,0,0.12,0,0,0,0,0,0,"",{"$f":"IF(AJ113<=0,0,IF('Simulador Valora'!$X$73=1,0,AJ113*'Simulador Valora'!$X$76))+IF(AJ113<=0,0,IF('Simulador Valora'!$V$40=1,'Simulador Valora'!$L$52,IF('Simulador Valora'!$V$40=3,'Simulador Valora'!$I$52,IF('Simulador Valora'!$V$40=4,'Simulador Valora'!$E$52))))","v":0},null,0,0,"",0,94]
[95,0,null,{"$f":"IF(B114+F114-D113<=0,B114+F114,IF(A114=$B$10,$F$10,IF(A114=$B$11,$F$11,IF(A114=$B$12,$F$12,IF(A114=$B$13,$F$13,IF(A114=$B$14,$F$14,IF(AND('Simulador Valora'!$AE$45=2,L113=0),D113*(1+Z114),IF($AO$3=2,B114*AI114,D113*(1+Z114)))))))))","v":0},null,0,null,0,null,null,null,null,null,{"$f":"IF(OR('Simulador Valora'!$T$65=1,'Simulador Valora'!$T$65=3),0,L114*'Simulador Valora'!$T$66*'Simulador Valora'!$U$64)","v":0},null,0,null,0,null,{"$f":"IF(B114<=0,0,IF('Simulador Valora'!$X$73=1,0,B114*'Simulador Valora'!$X$76))","v":0},null,{"$f":"IF(B114<=0,0,IF('Simulador Valora'!$V$40=1,'Simulador Valora'!$L$52,IF('Simulador Valora'!$V$40=3,'Simulador Valora'!$I$52,IF('Simulador Valora'!$V$40=4,'Simulador Valora'!$E$52))))","v":0},null,0,null,null,null,7,11,0,0,0,0,0.12,0,0,0,0,0,0,"",{"$f":"IF(AJ114<=0,0,IF('Simulador Valora'!$X$73=1,0,AJ114*'Simulador Valora'!$X$76))+IF(AJ114<=0,0,IF('Simulador Valora'!$V$40=1,'Simulador Valora'!$L$52,IF('Simulador Valora'!$V$40=3,'Simulador Valora'!$I$52,IF('Simulador Valora'!$V$40=4,'Simulador Valora'!$E$52))))","v":0},null,0,0,"",0,95]
[96,0,null,{"$f":"IF(B115+F115-D114<=0,B115+F115,IF(A115=$B$10,$F$10,IF(A115=$B$11,$F$11,IF(A115=$B$12,$F$12,IF(A115=$B$13,$F$13,IF(A115=$B$14,$F$14,IF(AND('Simulador Valora'!$AE$45=2,L114=0),D114*(1+Z115),IF($AO$3=2,B115*AI115,D114*(1+Z115)))))))))","v":0},null,0,null,0,null,{"$f":"IF(B115-H115=0,0,J113)","v":0},null,null,null,{"$f":"IF(OR('Simulador Valora'!$T$65=1,'Simulador Valora'!$T$65=3),0,L115*'Simulador Valora'!$T$66*'Simulador Valora'!$U$64)","v":0},null,0,null,0,null,{"$f":"IF(B115<=0,0,IF('Simulador Valora'!$X$73=1,0,B115*'Simulador Valora'!$X$76))","v":0},null,{"$f":"IF(B115<=0,0,IF('Simulador Valora'!$V$40=1,'Simulador Valora'!$L$52,IF('Simulador Valora'!$V$40=3,'Simulador Valora'!$I$52,IF('Simulador Valora'!$V$40=4,'Simulador Valora'!$E$52))))","v":0},null,0,null,null,null,8,0,0,0,0,0,0.12,0,0,0,0,0,0,"",{"$f":"IF(AJ115<=0,0,IF('Simulador Valora'!$X$73=1,0,AJ115*'Simulador Valora'!$X$76))+IF(AJ115<=0,0,IF('Simulador Valora'!$V$40=1,'Simulador Valora'!$L$52,IF('Simulador Valora'!$V$40=3,'Simulador Valora'!$I$52,IF('Simulador Valora'!$V$40=4,'Simulador Valora'!$E$52))))","v":0},null,0,0,"",0,96]
[97,0,null,{"$f":"IF(B116+F116-D115<=0,B116+F116,IF(A116=$B$10,$F$10,IF(A116=$B$11,$F$11,IF(A116=$B$12,$F$12,IF(A116=$B$13,$F$13,IF(A116=$B$14,$F$14,IF(AND('Simulador Valora'!$AE$45=2,L115=0),D115*(1+Z116),IF($AO$3=2,B116*AI116,D115*(1+Z116)))))))))","v":0},null,0,null,0,null,null,null,null,null,{"$f":"IF(OR('Simulador Valora'!$T$65=1,'Simulador Valora'!$T$65=3),0,L116*'Simulador Valora'!$T$66*'Simulador Valora'!$U$64)","v":0},null,0,null,0,null,{"$f":"IF(B116<=0,0,IF('Simulador Valora'!$X$73=1,0,B116*'Simulador Valora'!$X$76))","v":0},null,{"$f":"IF(B116<=0,0,IF('Simulador Valora'!$V$40=1,'Simulador Valora'!$L$52,IF('Simulador Valora'!$V$40=3,'Simulador Valora'!$I$52,IF('Simulador Valora'!$V$40=4,'Simulador Valora'!$E$52))))","v":0},null,0,null,{"$f":"IF(B116<=0,0,'Simulador Valora'!$AF$53)","v":0},null,8,1,0,0,0,0,{"$f":"IF(AH115=$AG$4,AH115,IF(AH115-0.25%<=$AG$4,$AG$4,AH115-0.25%))","v":0.12},0,0,0,0,0,0,"",{"$f":"IF(AJ116<=0,0,IF('Simulador Valora'!$X$73=1,0,AJ116*'Simulador Valora'!$X$76))+IF(AJ116<=0,0,IF('Simulador Valora'!$V$40=1,'Simulador Valora'!$L$52,IF('Simulador Valora'!$V$40=3,'Simulador Valora'!$I$52,IF('Simulador Valora'!$V$40=4,'Simulador Valora'!$E$52))))","v":0},{"$f":"IF(AJ116<=0,0,$AQ$32)","v":0},0,0,"",0,97]
[98,0,null,{"$f":"IF(B117+F117-D116<=0,B117+F117,IF(A117=$B$10,$F$10,IF(A117=$B$11,$F$11,IF(A117=$B$12,$F$12,IF(A117=$B$13,$F$13,IF(A117=$B$14,$F$14,IF(AND('Simulador Valora'!$AE$45=2,L116=0),D116*(1+Z117),IF($AO$3=2,B117*AI117,D116*(1+Z117)))))))))","v":0},null,0,null,0,null,{"$f":"IF(B117-H117=0,0,J115*(1+(3%)))","v":0},null,null,null,{"$f":"IF(OR('Simulador Valora'!$T$65=1,'Simulador Valora'!$T$65=3),0,L117*'Simulador Valora'!$T$66*'Simulador Valora'!$U$64)","v":0},null,0,null,0,null,{"$f":"IF(B117<=0,0,IF('Simulador Valora'!$X$73=1,0,B117*'Simulador Valora'!$X$76))","v":0},null,{"$f":"IF(B117<=0,0,IF('Simulador Valora'!$V$40=1,'Simulador Valora'!$L$52,IF('Simulador Valora'!$V$40=3,'Simulador Valora'!$I$52,IF('Simulador Valora'!$V$40=4,'Simulador Valora'!$E$52))))","v":0},null,0,null,null,null,8,2,0,0,0,0,{"$f":"AH116","v":0.12},0,0,0,0,0,0,"",{"$f":"IF(AJ117<=0,0,IF('Simulador Valora'!$X$73=1,0,AJ117*'Simulador Valora'!$X$76))+IF(AJ117<=0,0,IF('Simulador Valora'!$V$40=1,'Simulador Valora'!$L$52,IF('Simulador Valora'!$V$40=3,'Simulador Valora'!$I$52,IF('Simulador Valora'!$V$40=4,'Simulador Valora'!$E$52))))","v":0},null,0,0,"",0,98]
[99,0,null,{"$f":"IF(B118+F118-D117<=0,B118+F118,IF(A118=$B$10,$F$10,IF(A118=$B$11,$F$11,IF(A118=$B$12,$F$12,IF(A118=$B$13,$F$13,IF(A118=$B$14,$F$14,IF(AND('Simulador Valora'!$AE$45=2,L117=0),D117*(1+Z118),IF($AO$3=2,B118*AI118,D117*(1+Z118)))))))))","v":0},null,0,null,0,null,null,null,null,null,{"$f":"IF(OR('Simulador Valora'!$T$65=1,'Simulador Valora'!$T$65=3),0,L118*'Simulador Valora'!$T$66*'Simulador Valora'!$U$64)","v":0},null,0,null,0,null,{"$f":"IF(B118<=0,0,IF('Simulador Valora'!$X$73=1,0,B118*'Simulador Valora'!$X$76))","v":0},null,{"$f":"IF(B118<=0,0,IF('Simulador Valora'!$V$40=1,'Simulador Valora'!$L$52,IF('Simulador Valora'!$V$40=3,'Simulador Valora'!$I$52,IF('Simulador Valora'!$V$40=4,'Simulador Valora'!$E$52))))","v":0},null,0,null,null,null,8,3,0,0,0,0,{"$f":"AH117","v":0.12},0,0,0,0,0,0,"",{"$f":"IF(AJ118<=0,0,IF('Simulador Valora'!$X$73=1,0,AJ118*'Simulador Valora'!$X$76))+IF(AJ118<=0,0,IF('Simulador Valora'!$V$40=1,'Simulador Valora'!$L$52,IF('Simulador Valora'!$V$40=3,'Simulador Valora'!$I$52,IF('Simulador Valora'!$V$40=4,'Simulador Valora'!$E$52))))","v":0},null,0,0,"",0,99]
[100,0,null,{"$f":"IF(B119+F119-D118<=0,B119+F119,IF(A119=$B$10,$F$10,IF(A119=$B$11,$F$11,IF(A119=$B$12,$F$12,IF(A119=$B$13,$F$13,IF(A119=$B$14,$F$14,IF(AND('Simulador Valora'!$AE$45=2,L118=0),D118*(1+Z119),IF($AO$3=2,B119*AI119,D118*(1+Z119)))))))))","v":0},null,0,null,0,null,{"$f":"IF(B119-H119=0,0,J117)","v":0},null,null,null,{"$f":"IF(OR('Simulador Valora'!$T$65=1,'Simulador Valora'!$T$65=3),0,L119*'Simulador Valora'!$T$66*'Simulador Valora'!$U$64)","v":0},null,0,null,0,null,{"$f":"IF(B119<=0,0,IF('Simulador Valora'!$X$73=1,0,B119*'Simulador Valora'!$X$76))","v":0},null,{"$f":"IF(B119<=0,0,IF('Simulador Valora'!$V$40=1,'Simulador Valora'!$L$52,IF('Simulador Valora'!$V$40=3,'Simulador Valora'!$I$52,IF('Simulador Valora'!$V$40=4,'Simulador Valora'!$E$52))))","v":0},null,0,null,null,null,8,4,0,0,0,0,0.12,0,0,0,0,0,0,"",{"$f":"IF(AJ119<=0,0,IF('Simulador Valora'!$X$73=1,0,AJ119*'Simulador Valora'!$X$76))+IF(AJ119<=0,0,IF('Simulador Valora'!$V$40=1,'Simulador Valora'!$L$52,IF('Simulador Valora'!$V$40=3,'Simulador Valora'!$I$52,IF('Simulador Valora'!$V$40=4,'Simulador Valora'!$E$52))))","v":0},null,0,0,"",0,100]
[101,0,null,{"$f":"IF(B120+F120-D119<=0,B120+F120,IF(A120=$B$10,$F$10,IF(A120=$B$11,$F$11,IF(A120=$B$12,$F$12,IF(A120=$B$13,$F$13,IF(A120=$B$14,$F$14,IF(AND('Simulador Valora'!$AE$45=2,L119=0),D119*(1+Z120),IF($AO$3=2,B120*AI120,D119*(1+Z120)))))))))","v":0},null,0,null,0,null,null,null,null,null,{"$f":"IF(OR('Simulador Valora'!$T$65=1,'Simulador Valora'!$T$65=3),0,L120*'Simulador Valora'!$T$66*'Simulador Valora'!$U$64)","v":0},null,0,null,0,null,{"$f":"IF(B120<=0,0,IF('Simulador Valora'!$X$73=1,0,B120*'Simulador Valora'!$X$76))","v":0},null,{"$f":"IF(B120<=0,0,IF('Simulador Valora'!$V$40=1,'Simulador Valora'!$L$52,IF('Simulador Valora'!$V$40=3,'Simulador Valora'!$I$52,IF('Simulador Valora'!$V$40=4,'Simulador Valora'!$E$52))))","v":0},null,0,null,null,null,8,5,0,0,0,0,0.12,0,0,0,0,0,0,"",{"$f":"IF(AJ120<=0,0,IF('Simulador Valora'!$X$73=1,0,AJ120*'Simulador Valora'!$X$76))+IF(AJ120<=0,0,IF('Simulador Valora'!$V$40=1,'Simulador Valora'!$L$52,IF('Simulador Valora'!$V$40=3,'Simulador Valora'!$I$52,IF('Simulador Valora'!$V$40=4,'Simulador Valora'!$E$52))))","v":0},null,0,0,"",0,101]
[102,0,null,{"$f":"IF(B121+F121-D120<=0,B121+F121,IF(A121=$B$10,$F$10,IF(A121=$B$11,$F$11,IF(A121=$B$12,$F$12,IF(A121=$B$13,$F$13,IF(A121=$B$14,$F$14,IF(AND('Simulador Valora'!$AE$45=2,L120=0),D120*(1+Z121),IF($AO$3=2,B121*AI121,D120*(1+Z121)))))))))","v":0},null,0,null,0,null,{"$f":"IF(B121-H121=0,0,J119)","v":0},null,null,null,{"$f":"IF(OR('Simulador Valora'!$T$65=1,'Simulador Valora'!$T$65=3),0,L121*'Simulador Valora'!$T$66*'Simulador Valora'!$U$64)","v":0},null,0,null,0,null,{"$f":"IF(B121<=0,0,IF('Simulador Valora'!$X$73=1,0,B121*'Simulador Valora'!$X$76))","v":0},null,{"$f":"IF(B121<=0,0,IF('Simulador Valora'!$V$40=1,'Simulador Valora'!$L$52,IF('Simulador Valora'!$V$40=3,'Simulador Valora'!$I$52,IF('Simulador Valora'!$V$40=4,'Simulador Valora'!$E$52))))","v":0},null,0,null,null,null,8,6,0,0,0,0,0.12,0,0,0,0,0,0,"",{"$f":"IF(AJ121<=0,0,IF('Simulador Valora'!$X$73=1,0,AJ121*'Simulador Valora'!$X$76))+IF(AJ121<=0,0,IF('Simulador Valora'!$V$40=1,'Simulador Valora'!$L$52,IF('Simulador Valora'!$V$40=3,'Simulador Valora'!$I$52,IF('Simulador Valora'!$V$40=4,'Simulador Valora'!$E$52))))","v":0},null,0,0,"",0,102]
[103,0,null,{"$f":"IF(B122+F122-D121<=0,B122+F122,IF(A122=$B$10,$F$10,IF(A122=$B$11,$F$11,IF(A122=$B$12,$F$12,IF(A122=$B$13,$F$13,IF(A122=$B$14,$F$14,IF(AND('Simulador Valora'!$AE$45=2,L121=0),D121*(1+Z122),IF($AO$3=2,B122*AI122,D121*(1+Z122)))))))))","v":0},null,0,null,0,null,null,null,null,null,{"$f":"IF(OR('Simulador Valora'!$T$65=1,'Simulador Valora'!$T$65=3),0,L122*'Simulador Valora'!$T$66*'Simulador Valora'!$U$64)","v":0},null,0,null,0,null,{"$f":"IF(B122<=0,0,IF('Simulador Valora'!$X$73=1,0,B122*'Simulador Valora'!$X$76))","v":0},null,{"$f":"IF(B122<=0,0,IF('Simulador Valora'!$V$40=1,'Simulador Valora'!$L$52,IF('Simulador Valora'!$V$40=3,'Simulador Valora'!$I$52,IF('Simulador Valora'!$V$40=4,'Simulador Valora'!$E$52))))","v":0},null,0,null,null,null,8,7,0,0,0,0,0.12,0,0,0,0,0,0,"",{"$f":"IF(AJ122<=0,0,IF('Simulador Valora'!$X$73=1,0,AJ122*'Simulador Valora'!$X$76))+IF(AJ122<=0,0,IF('Simulador Valora'!$V$40=1,'Simulador Valora'!$L$52,IF('Simulador Valora'!$V$40=3,'Simulador Valora'!$I$52,IF('Simulador Valora'!$V$40=4,'Simulador Valora'!$E$52))))","v":0},null,0,0,"",0,103]
[104,0,null,{"$f":"IF(B123+F123-D122<=0,B123+F123,IF(A123=$B$10,$F$10,IF(A123=$B$11,$F$11,IF(A123=$B$12,$F$12,IF(A123=$B$13,$F$13,IF(A123=$B$14,$F$14,IF(AND('Simulador Valora'!$AE$45=2,L122=0),D122*(1+Z123),IF($AO$3=2,B123*AI123,D122*(1+Z123)))))))))","v":0},null,0,null,0,null,{"$f":"IF(B123-H123=0,0,J121)","v":0},null,null,null,{"$f":"IF(OR('Simulador Valora'!$T$65=1,'Simulador Valora'!$T$65=3),0,L123*'Simulador Valora'!$T$66*'Simulador Valora'!$U$64)","v":0},null,0,null,0,null,{"$f":"IF(B123<=0,0,IF('Simulador Valora'!$X$73=1,0,B123*'Simulador Valora'!$X$76))","v":0},null,{"$f":"IF(B123<=0,0,IF('Simulador Valora'!$V$40=1,'Simulador Valora'!$L$52,IF('Simulador Valora'!$V$40=3,'Simulador Valora'!$I$52,IF('Simulador Valora'!$V$40=4,'Simulador Valora'!$E$52))))","v":0},null,0,null,null,null,8,8,0,0,0,0,0.12,0,0,0,0,0,0,"",{"$f":"IF(AJ123<=0,0,IF('Simulador Valora'!$X$73=1,0,AJ123*'Simulador Valora'!$X$76))+IF(AJ123<=0,0,IF('Simulador Valora'!$V$40=1,'Simulador Valora'!$L$52,IF('Simulador Valora'!$V$40=3,'Simulador Valora'!$I$52,IF('Simulador Valora'!$V$40=4,'Simulador Valora'!$E$52))))","v":0},null,0,0,"",0,104]
[105,0,null,{"$f":"IF(B124+F124-D123<=0,B124+F124,IF(A124=$B$10,$F$10,IF(A124=$B$11,$F$11,IF(A124=$B$12,$F$12,IF(A124=$B$13,$F$13,IF(A124=$B$14,$F$14,IF(AND('Simulador Valora'!$AE$45=2,L123=0),D123*(1+Z124),IF($AO$3=2,B124*AI124,D123*(1+Z124)))))))))","v":0},null,0,null,0,null,null,null,null,null,{"$f":"IF(OR('Simulador Valora'!$T$65=1,'Simulador Valora'!$T$65=3),0,L124*'Simulador Valora'!$T$66*'Simulador Valora'!$U$64)","v":0},null,0,null,0,null,{"$f":"IF(B124<=0,0,IF('Simulador Valora'!$X$73=1,0,B124*'Simulador Valora'!$X$76))","v":0},null,{"$f":"IF(B124<=0,0,IF('Simulador Valora'!$V$40=1,'Simulador Valora'!$L$52,IF('Simulador Valora'!$V$40=3,'Simulador Valora'!$I$52,IF('Simulador Valora'!$V$40=4,'Simulador Valora'!$E$52))))","v":0},null,0,null,null,null,8,9,0,0,0,0,0.12,0,0,0,0,0,0,"",{"$f":"IF(AJ124<=0,0,IF('Simulador Valora'!$X$73=1,0,AJ124*'Simulador Valora'!$X$76))+IF(AJ124<=0,0,IF('Simulador Valora'!$V$40=1,'Simulador Valora'!$L$52,IF('Simulador Valora'!$V$40=3,'Simulador Valora'!$I$52,IF('Simulador Valora'!$V$40=4,'Simulador Valora'!$E$52))))","v":0},null,0,0,"",0,105]
[106,0,null,{"$f":"IF(B125+F125-D124<=0,B125+F125,IF(A125=$B$10,$F$10,IF(A125=$B$11,$F$11,IF(A125=$B$12,$F$12,IF(A125=$B$13,$F$13,IF(A125=$B$14,$F$14,IF(AND('Simulador Valora'!$AE$45=2,L124=0),D124*(1+Z125),IF($AO$3=2,B125*AI125,D124*(1+Z125)))))))))","v":0},null,0,null,0,null,{"$f":"IF(B125-H125=0,0,J123)","v":0},null,null,null,{"$f":"IF(OR('Simulador Valora'!$T$65=1,'Simulador Valora'!$T$65=3),0,L125*'Simulador Valora'!$T$66*'Simulador Valora'!$U$64)","v":0},null,0,null,0,null,{"$f":"IF(B125<=0,0,IF('Simulador Valora'!$X$73=1,0,B125*'Simulador Valora'!$X$76))","v":0},null,{"$f":"IF(B125<=0,0,IF('Simulador Valora'!$V$40=1,'Simulador Valora'!$L$52,IF('Simulador Valora'!$V$40=3,'Simulador Valora'!$I$52,IF('Simulador Valora'!$V$40=4,'Simulador Valora'!$E$52))))","v":0},null,0,null,null,null,8,10,0,0,0,0,0.12,0,0,0,0,0,0,"",{"$f":"IF(AJ125<=0,0,IF('Simulador Valora'!$X$73=1,0,AJ125*'Simulador Valora'!$X$76))+IF(AJ125<=0,0,IF('Simulador Valora'!$V$40=1,'Simulador Valora'!$L$52,IF('Simulador Valora'!$V$40=3,'Simulador Valora'!$I$52,IF('Simulador Valora'!$V$40=4,'Simulador Valora'!$E$52))))","v":0},null,0,0,"",0,106]
[107,0,null,{"$f":"IF(B126+F126-D125<=0,B126+F126,IF(A126=$B$10,$F$10,IF(A126=$B$11,$F$11,IF(A126=$B$12,$F$12,IF(A126=$B$13,$F$13,IF(A126=$B$14,$F$14,IF(AND('Simulador Valora'!$AE$45=2,L125=0),D125*(1+Z126),IF($AO$3=2,B126*AI126,D125*(1+Z126)))))))))","v":0},null,0,null,0,null,null,null,null,null,{"$f":"IF(OR('Simulador Valora'!$T$65=1,'Simulador Valora'!$T$65=3),0,L126*'Simulador Valora'!$T$66*'Simulador Valora'!$U$64)","v":0},null,0,null,0,null,{"$f":"IF(B126<=0,0,IF('Simulador Valora'!$X$73=1,0,B126*'Simulador Valora'!$X$76))","v":0},null,{"$f":"IF(B126<=0,0,IF('Simulador Valora'!$V$40=1,'Simulador Valora'!$L$52,IF('Simulador Valora'!$V$40=3,'Simulador Valora'!$I$52,IF('Simulador Valora'!$V$40=4,'Simulador Valora'!$E$52))))","v":0},null,0,null,null,null,8,11,0,0,0,0,0.12,0,0,0,0,0,0,"",{"$f":"IF(AJ126<=0,0,IF('Simulador Valora'!$X$73=1,0,AJ126*'Simulador Valora'!$X$76))+IF(AJ126<=0,0,IF('Simulador Valora'!$V$40=1,'Simulador Valora'!$L$52,IF('Simulador Valora'!$V$40=3,'Simulador Valora'!$I$52,IF('Simulador Valora'!$V$40=4,'Simulador Valora'!$E$52))))","v":0},null,0,0,"",0,107]
[108,0,null,{"$f":"IF(B127+F127-D126<=0,B127+F127,IF(A127=$B$10,$F$10,IF(A127=$B$11,$F$11,IF(A127=$B$12,$F$12,IF(A127=$B$13,$F$13,IF(A127=$B$14,$F$14,IF(AND('Simulador Valora'!$AE$45=2,L126=0),D126*(1+Z127),IF($AO$3=2,B127*AI127,D126*(1+Z127)))))))))","v":0},null,0,null,0,null,{"$f":"IF(B127-H127=0,0,J125)","v":0},null,null,null,{"$f":"IF(OR('Simulador Valora'!$T$65=1,'Simulador Valora'!$T$65=3),0,L127*'Simulador Valora'!$T$66*'Simulador Valora'!$U$64)","v":0},null,0,null,0,null,{"$f":"IF(B127<=0,0,IF('Simulador Valora'!$X$73=1,0,B127*'Simulador Valora'!$X$76))","v":0},null,{"$f":"IF(B127<=0,0,IF('Simulador Valora'!$V$40=1,'Simulador Valora'!$L$52,IF('Simulador Valora'!$V$40=3,'Simulador Valora'!$I$52,IF('Simulador Valora'!$V$40=4,'Simulador Valora'!$E$52))))","v":0},null,0,null,null,null,9,0,0,0,0,0,0.12,0,0,0,0,0,0,"",{"$f":"IF(AJ127<=0,0,IF('Simulador Valora'!$X$73=1,0,AJ127*'Simulador Valora'!$X$76))+IF(AJ127<=0,0,IF('Simulador Valora'!$V$40=1,'Simulador Valora'!$L$52,IF('Simulador Valora'!$V$40=3,'Simulador Valora'!$I$52,IF('Simulador Valora'!$V$40=4,'Simulador Valora'!$E$52))))","v":0},null,0,0,"",0,108]
[109,0,null,{"$f":"IF(B128+F128-D127<=0,B128+F128,IF(A128=$B$10,$F$10,IF(A128=$B$11,$F$11,IF(A128=$B$12,$F$12,IF(A128=$B$13,$F$13,IF(A128=$B$14,$F$14,IF(AND('Simulador Valora'!$AE$45=2,L127=0),D127*(1+Z128),IF($AO$3=2,B128*AI128,D127*(1+Z128)))))))))","v":0},null,0,null,0,null,null,null,null,null,{"$f":"IF(OR('Simulador Valora'!$T$65=1,'Simulador Valora'!$T$65=3),0,L128*'Simulador Valora'!$T$66*'Simulador Valora'!$U$64)","v":0},null,0,null,0,null,{"$f":"IF(B128<=0,0,IF('Simulador Valora'!$X$73=1,0,B128*'Simulador Valora'!$X$76))","v":0},null,{"$f":"IF(B128<=0,0,IF('Simulador Valora'!$V$40=1,'Simulador Valora'!$L$52,IF('Simulador Valora'!$V$40=3,'Simulador Valora'!$I$52,IF('Simulador Valora'!$V$40=4,'Simulador Valora'!$E$52))))","v":0},null,0,null,{"$f":"IF(B128<=0,0,'Simulador Valora'!$AF$53)","v":0},null,9,1,0,0,0,0,{"$f":"IF(AH127=$AG$4,AH127,IF(AH127-0.25%<=$AG$4,$AG$4,AH127-0.25%))","v":0.12},0,0,0,0,0,0,"",{"$f":"IF(AJ128<=0,0,IF('Simulador Valora'!$X$73=1,0,AJ128*'Simulador Valora'!$X$76))+IF(AJ128<=0,0,IF('Simulador Valora'!$V$40=1,'Simulador Valora'!$L$52,IF('Simulador Valora'!$V$40=3,'Simulador Valora'!$I$52,IF('Simulador Valora'!$V$40=4,'Simulador Valora'!$E$52))))","v":0},{"$f":"IF(AJ128<=0,0,$AQ$32)","v":0},0,0,"",0,109]
[110,0,null,{"$f":"IF(B129+F129-D128<=0,B129+F129,IF(A129=$B$10,$F$10,IF(A129=$B$11,$F$11,IF(A129=$B$12,$F$12,IF(A129=$B$13,$F$13,IF(A129=$B$14,$F$14,IF(AND('Simulador Valora'!$AE$45=2,L128=0),D128*(1+Z129),IF($AO$3=2,B129*AI129,D128*(1+Z129)))))))))","v":0},null,0,null,0,null,{"$f":"IF(B129-H129=0,0,J127*(1+(3%)))","v":0},null,null,null,{"$f":"IF(OR('Simulador Valora'!$T$65=1,'Simulador Valora'!$T$65=3),0,L129*'Simulador Valora'!$T$66*'Simulador Valora'!$U$64)","v":0},null,0,null,0,null,{"$f":"IF(B129<=0,0,IF('Simulador Valora'!$X$73=1,0,B129*'Simulador Valora'!$X$76))","v":0},null,{"$f":"IF(B129<=0,0,IF('Simulador Valora'!$V$40=1,'Simulador Valora'!$L$52,IF('Simulador Valora'!$V$40=3,'Simulador Valora'!$I$52,IF('Simulador Valora'!$V$40=4,'Simulador Valora'!$E$52))))","v":0},null,0,null,null,null,9,2,0,0,0,0,{"$f":"AH128","v":0.12},0,0,0,0,0,0,"",{"$f":"IF(AJ129<=0,0,IF('Simulador Valora'!$X$73=1,0,AJ129*'Simulador Valora'!$X$76))+IF(AJ129<=0,0,IF('Simulador Valora'!$V$40=1,'Simulador Valora'!$L$52,IF('Simulador Valora'!$V$40=3,'Simulador Valora'!$I$52,IF('Simulador Valora'!$V$40=4,'Simulador Valora'!$E$52))))","v":0},null,0,0,"",0,110]
[111,0,null,{"$f":"IF(B130+F130-D129<=0,B130+F130,IF(A130=$B$10,$F$10,IF(A130=$B$11,$F$11,IF(A130=$B$12,$F$12,IF(A130=$B$13,$F$13,IF(A130=$B$14,$F$14,IF(AND('Simulador Valora'!$AE$45=2,L129=0),D129*(1+Z130),IF($AO$3=2,B130*AI130,D129*(1+Z130)))))))))","v":0},null,0,null,0,null,null,null,null,null,{"$f":"IF(OR('Simulador Valora'!$T$65=1,'Simulador Valora'!$T$65=3),0,L130*'Simulador Valora'!$T$66*'Simulador Valora'!$U$64)","v":0},null,0,null,0,null,{"$f":"IF(B130<=0,0,IF('Simulador Valora'!$X$73=1,0,B130*'Simulador Valora'!$X$76))","v":0},null,{"$f":"IF(B130<=0,0,IF('Simulador Valora'!$V$40=1,'Simulador Valora'!$L$52,IF('Simulador Valora'!$V$40=3,'Simulador Valora'!$I$52,IF('Simulador Valora'!$V$40=4,'Simulador Valora'!$E$52))))","v":0},null,0,null,null,null,9,3,0,0,0,0,{"$f":"AH129","v":0.12},0,0,0,0,0,0,"",{"$f":"IF(AJ130<=0,0,IF('Simulador Valora'!$X$73=1,0,AJ130*'Simulador Valora'!$X$76))+IF(AJ130<=0,0,IF('Simulador Valora'!$V$40=1,'Simulador Valora'!$L$52,IF('Simulador Valora'!$V$40=3,'Simulador Valora'!$I$52,IF('Simulador Valora'!$V$40=4,'Simulador Valora'!$E$52))))","v":0},null,0,0,"",0,111]
[112,0,null,{"$f":"IF(B131+F131-D130<=0,B131+F131,IF(A131=$B$10,$F$10,IF(A131=$B$11,$F$11,IF(A131=$B$12,$F$12,IF(A131=$B$13,$F$13,IF(A131=$B$14,$F$14,IF(AND('Simulador Valora'!$AE$45=2,L130=0),D130*(1+Z131),IF($AO$3=2,B131*AI131,D130*(1+Z131)))))))))","v":0},null,0,null,0,null,{"$f":"IF(B131-H131=0,0,J129)","v":0},null,null,null,{"$f":"IF(OR('Simulador Valora'!$T$65=1,'Simulador Valora'!$T$65=3),0,L131*'Simulador Valora'!$T$66*'Simulador Valora'!$U$64)","v":0},null,0,null,0,null,{"$f":"IF(B131<=0,0,IF('Simulador Valora'!$X$73=1,0,B131*'Simulador Valora'!$X$76))","v":0},null,{"$f":"IF(B131<=0,0,IF('Simulador Valora'!$V$40=1,'Simulador Valora'!$L$52,IF('Simulador Valora'!$V$40=3,'Simulador Valora'!$I$52,IF('Simulador Valora'!$V$40=4,'Simulador Valora'!$E$52))))","v":0},null,0,null,null,null,9,4,0,0,0,0,0.12,0,0,0,0,0,0,"",{"$f":"IF(AJ131<=0,0,IF('Simulador Valora'!$X$73=1,0,AJ131*'Simulador Valora'!$X$76))+IF(AJ131<=0,0,IF('Simulador Valora'!$V$40=1,'Simulador Valora'!$L$52,IF('Simulador Valora'!$V$40=3,'Simulador Valora'!$I$52,IF('Simulador Valora'!$V$40=4,'Simulador Valora'!$E$52))))","v":0},null,0,0,"",0,112]
[113,0,null,{"$f":"IF(B132+F132-D131<=0,B132+F132,IF(A132=$B$10,$F$10,IF(A132=$B$11,$F$11,IF(A132=$B$12,$F$12,IF(A132=$B$13,$F$13,IF(A132=$B$14,$F$14,IF(AND('Simulador Valora'!$AE$45=2,L131=0),D131*(1+Z132),IF($AO$3=2,B132*AI132,D131*(1+Z132)))))))))","v":0},null,0,null,0,null,null,null,null,null,{"$f":"IF(OR('Simulador Valora'!$T$65=1,'Simulador Valora'!$T$65=3),0,L132*'Simulador Valora'!$T$66*'Simulador Valora'!$U$64)","v":0},null,0,null,0,null,{"$f":"IF(B132<=0,0,IF('Simulador Valora'!$X$73=1,0,B132*'Simulador Valora'!$X$76))","v":0},null,{"$f":"IF(B132<=0,0,IF('Simulador Valora'!$V$40=1,'Simulador Valora'!$L$52,IF('Simulador Valora'!$V$40=3,'Simulador Valora'!$I$52,IF('Simulador Valora'!$V$40=4,'Simulador Valora'!$E$52))))","v":0},null,0,null,null,null,9,5,0,0,0,0,0.12,0,0,0,0,0,0,"",{"$f":"IF(AJ132<=0,0,IF('Simulador Valora'!$X$73=1,0,AJ132*'Simulador Valora'!$X$76))+IF(AJ132<=0,0,IF('Simulador Valora'!$V$40=1,'Simulador Valora'!$L$52,IF('Simulador Valora'!$V$40=3,'Simulador Valora'!$I$52,IF('Simulador Valora'!$V$40=4,'Simulador Valora'!$E$52))))","v":0},null,0,0,"",0,113]
[114,0,null,{"$f":"IF(B133+F133-D132<=0,B133+F133,IF(A133=$B$10,$F$10,IF(A133=$B$11,$F$11,IF(A133=$B$12,$F$12,IF(A133=$B$13,$F$13,IF(A133=$B$14,$F$14,IF(AND('Simulador Valora'!$AE$45=2,L132=0),D132*(1+Z133),IF($AO$3=2,B133*AI133,D132*(1+Z133)))))))))","v":0},null,0,null,0,null,{"$f":"IF(B133-H133=0,0,J131)","v":0},null,null,null,{"$f":"IF(OR('Simulador Valora'!$T$65=1,'Simulador Valora'!$T$65=3),0,L133*'Simulador Valora'!$T$66*'Simulador Valora'!$U$64)","v":0},null,0,null,0,null,{"$f":"IF(B133<=0,0,IF('Simulador Valora'!$X$73=1,0,B133*'Simulador Valora'!$X$76))","v":0},null,{"$f":"IF(B133<=0,0,IF('Simulador Valora'!$V$40=1,'Simulador Valora'!$L$52,IF('Simulador Valora'!$V$40=3,'Simulador Valora'!$I$52,IF('Simulador Valora'!$V$40=4,'Simulador Valora'!$E$52))))","v":0},null,0,null,null,null,9,6,0,0,0,0,0.12,0,0,0,0,0,0,"",{"$f":"IF(AJ133<=0,0,IF('Simulador Valora'!$X$73=1,0,AJ133*'Simulador Valora'!$X$76))+IF(AJ133<=0,0,IF('Simulador Valora'!$V$40=1,'Simulador Valora'!$L$52,IF('Simulador Valora'!$V$40=3,'Simulador Valora'!$I$52,IF('Simulador Valora'!$V$40=4,'Simulador Valora'!$E$52))))","v":0},null,0,0,"",0,114]
[115,0,null,{"$f":"IF(B134+F134-D133<=0,B134+F134,IF(A134=$B$10,$F$10,IF(A134=$B$11,$F$11,IF(A134=$B$12,$F$12,IF(A134=$B$13,$F$13,IF(A134=$B$14,$F$14,IF(AND('Simulador Valora'!$AE$45=2,L133=0),D133*(1+Z134),IF($AO$3=2,B134*AI134,D133*(1+Z134)))))))))","v":0},null,0,null,0,null,null,null,null,null,{"$f":"IF(OR('Simulador Valora'!$T$65=1,'Simulador Valora'!$T$65=3),0,L134*'Simulador Valora'!$T$66*'Simulador Valora'!$U$64)","v":0},null,0,null,0,null,{"$f":"IF(B134<=0,0,IF('Simulador Valora'!$X$73=1,0,B134*'Simulador Valora'!$X$76))","v":0},null,{"$f":"IF(B134<=0,0,IF('Simulador Valora'!$V$40=1,'Simulador Valora'!$L$52,IF('Simulador Valora'!$V$40=3,'Simulador Valora'!$I$52,IF('Simulador Valora'!$V$40=4,'Simulador Valora'!$E$52))))","v":0},null,0,null,null,null,9,7,0,0,0,0,0.12,0,0,0,0,0,0,"",{"$f":"IF(AJ134<=0,0,IF('Simulador Valora'!$X$73=1,0,AJ134*'Simulador Valora'!$X$76))+IF(AJ134<=0,0,IF('Simulador Valora'!$V$40=1,'Simulador Valora'!$L$52,IF('Simulador Valora'!$V$40=3,'Simulador Valora'!$I$52,IF('Simulador Valora'!$V$40=4,'Simulador Valora'!$E$52))))","v":0},null,0,0,"",0,115]
[116,0,null,{"$f":"IF(B135+F135-D134<=0,B135+F135,IF(A135=$B$10,$F$10,IF(A135=$B$11,$F$11,IF(A135=$B$12,$F$12,IF(A135=$B$13,$F$13,IF(A135=$B$14,$F$14,IF(AND('Simulador Valora'!$AE$45=2,L134=0),D134*(1+Z135),IF($AO$3=2,B135*AI135,D134*(1+Z135)))))))))","v":0},null,0,null,0,null,{"$f":"IF(B135-H135=0,0,J133)","v":0},null,null,null,{"$f":"IF(OR('Simulador Valora'!$T$65=1,'Simulador Valora'!$T$65=3),0,L135*'Simulador Valora'!$T$66*'Simulador Valora'!$U$64)","v":0},null,0,null,0,null,{"$f":"IF(B135<=0,0,IF('Simulador Valora'!$X$73=1,0,B135*'Simulador Valora'!$X$76))","v":0},null,{"$f":"IF(B135<=0,0,IF('Simulador Valora'!$V$40=1,'Simulador Valora'!$L$52,IF('Simulador Valora'!$V$40=3,'Simulador Valora'!$I$52,IF('Simulador Valora'!$V$40=4,'Simulador Valora'!$E$52))))","v":0},null,0,null,null,null,9,8,0,0,0,0,0.12,0,0,0,0,0,0,"",{"$f":"IF(AJ135<=0,0,IF('Simulador Valora'!$X$73=1,0,AJ135*'Simulador Valora'!$X$76))+IF(AJ135<=0,0,IF('Simulador Valora'!$V$40=1,'Simulador Valora'!$L$52,IF('Simulador Valora'!$V$40=3,'Simulador Valora'!$I$52,IF('Simulador Valora'!$V$40=4,'Simulador Valora'!$E$52))))","v":0},null,0,0,"",0,116]
[117,0,null,{"$f":"IF(B136+F136-D135<=0,B136+F136,IF(A136=$B$10,$F$10,IF(A136=$B$11,$F$11,IF(A136=$B$12,$F$12,IF(A136=$B$13,$F$13,IF(A136=$B$14,$F$14,IF(AND('Simulador Valora'!$AE$45=2,L135=0),D135*(1+Z136),IF($AO$3=2,B136*AI136,D135*(1+Z136)))))))))","v":0},null,0,null,0,null,null,null,null,null,{"$f":"IF(OR('Simulador Valora'!$T$65=1,'Simulador Valora'!$T$65=3),0,L136*'Simulador Valora'!$T$66*'Simulador Valora'!$U$64)","v":0},null,0,null,0,null,{"$f":"IF(B136<=0,0,IF('Simulador Valora'!$X$73=1,0,B136*'Simulador Valora'!$X$76))","v":0},null,{"$f":"IF(B136<=0,0,IF('Simulador Valora'!$V$40=1,'Simulador Valora'!$L$52,IF('Simulador Valora'!$V$40=3,'Simulador Valora'!$I$52,IF('Simulador Valora'!$V$40=4,'Simulador Valora'!$E$52))))","v":0},null,0,null,null,null,9,9,0,0,0,0,0.12,0,0,0,0,0,0,"",{"$f":"IF(AJ136<=0,0,IF('Simulador Valora'!$X$73=1,0,AJ136*'Simulador Valora'!$X$76))+IF(AJ136<=0,0,IF('Simulador Valora'!$V$40=1,'Simulador Valora'!$L$52,IF('Simulador Valora'!$V$40=3,'Simulador Valora'!$I$52,IF('Simulador Valora'!$V$40=4,'Simulador Valora'!$E$52))))","v":0},null,0,0,"",0,117]
[118,0,null,{"$f":"IF(B137+F137-D136<=0,B137+F137,IF(A137=$B$10,$F$10,IF(A137=$B$11,$F$11,IF(A137=$B$12,$F$12,IF(A137=$B$13,$F$13,IF(A137=$B$14,$F$14,IF(AND('Simulador Valora'!$AE$45=2,L136=0),D136*(1+Z137),IF($AO$3=2,B137*AI137,D136*(1+Z137)))))))))","v":0},null,0,null,0,null,{"$f":"IF(B137-H137=0,0,J135)","v":0},null,null,null,{"$f":"IF(OR('Simulador Valora'!$T$65=1,'Simulador Valora'!$T$65=3),0,L137*'Simulador Valora'!$T$66*'Simulador Valora'!$U$64)","v":0},null,0,null,0,null,{"$f":"IF(B137<=0,0,IF('Simulador Valora'!$X$73=1,0,B137*'Simulador Valora'!$X$76))","v":0},null,{"$f":"IF(B137<=0,0,IF('Simulador Valora'!$V$40=1,'Simulador Valora'!$L$52,IF('Simulador Valora'!$V$40=3,'Simulador Valora'!$I$52,IF('Simulador Valora'!$V$40=4,'Simulador Valora'!$E$52))))","v":0},null,0,null,null,null,9,10,0,0,0,0,0.12,0,0,0,0,0,0,"",{"$f":"IF(AJ137<=0,0,IF('Simulador Valora'!$X$73=1,0,AJ137*'Simulador Valora'!$X$76))+IF(AJ137<=0,0,IF('Simulador Valora'!$V$40=1,'Simulador Valora'!$L$52,IF('Simulador Valora'!$V$40=3,'Simulador Valora'!$I$52,IF('Simulador Valora'!$V$40=4,'Simulador Valora'!$E$52))))","v":0},null,0,0,"",0,118]
[119,0,null,{"$f":"IF(B138+F138-D137<=0,B138+F138,IF(A138=$B$10,$F$10,IF(A138=$B$11,$F$11,IF(A138=$B$12,$F$12,IF(A138=$B$13,$F$13,IF(A138=$B$14,$F$14,IF(AND('Simulador Valora'!$AE$45=2,L137=0),D137*(1+Z138),IF($AO$3=2,B138*AI138,D137*(1+Z138)))))))))","v":0},null,0,null,0,null,null,null,null,null,{"$f":"IF(OR('Simulador Valora'!$T$65=1,'Simulador Valora'!$T$65=3),0,L138*'Simulador Valora'!$T$66*'Simulador Valora'!$U$64)","v":0},null,0,null,0,null,{"$f":"IF(B138<=0,0,IF('Simulador Valora'!$X$73=1,0,B138*'Simulador Valora'!$X$76))","v":0},null,{"$f":"IF(B138<=0,0,IF('Simulador Valora'!$V$40=1,'Simulador Valora'!$L$52,IF('Simulador Valora'!$V$40=3,'Simulador Valora'!$I$52,IF('Simulador Valora'!$V$40=4,'Simulador Valora'!$E$52))))","v":0},null,0,null,null,null,9,11,0,0,0,0,0.12,0,0,0,0,0,0,"",{"$f":"IF(AJ138<=0,0,IF('Simulador Valora'!$X$73=1,0,AJ138*'Simulador Valora'!$X$76))+IF(AJ138<=0,0,IF('Simulador Valora'!$V$40=1,'Simulador Valora'!$L$52,IF('Simulador Valora'!$V$40=3,'Simulador Valora'!$I$52,IF('Simulador Valora'!$V$40=4,'Simulador Valora'!$E$52))))","v":0},null,0,0,"",0,119]
[120,0,null,{"$f":"IF(B139+F139-D138<=0,B139+F139,IF(A139=$B$10,$F$10,IF(A139=$B$11,$F$11,IF(A139=$B$12,$F$12,IF(A139=$B$13,$F$13,IF(A139=$B$14,$F$14,IF(AND('Simulador Valora'!$AE$45=2,L138=0),D138*(1+Z139),IF($AO$3=2,B139*AI139,D138*(1+Z139)))))))))","v":0},null,0,null,0,null,{"$f":"IF(B139-H139=0,0,J137)","v":0},null,null,null,{"$f":"IF(OR('Simulador Valora'!$T$65=1,'Simulador Valora'!$T$65=3),0,L139*'Simulador Valora'!$T$66*'Simulador Valora'!$U$64)","v":0},null,0,null,0,null,{"$f":"IF(B139<=0,0,IF('Simulador Valora'!$X$73=1,0,B139*'Simulador Valora'!$X$76))","v":0},null,{"$f":"IF(B139<=0,0,IF('Simulador Valora'!$V$40=1,'Simulador Valora'!$L$52,IF('Simulador Valora'!$V$40=3,'Simulador Valora'!$I$52,IF('Simulador Valora'!$V$40=4,'Simulador Valora'!$E$52))))","v":0},null,0,null,null,null,10,0,0,0,0,0,0.12,0,0,0,0,0,0,"",{"$f":"IF(AJ139<=0,0,IF('Simulador Valora'!$X$73=1,0,AJ139*'Simulador Valora'!$X$76))+IF(AJ139<=0,0,IF('Simulador Valora'!$V$40=1,'Simulador Valora'!$L$52,IF('Simulador Valora'!$V$40=3,'Simulador Valora'!$I$52,IF('Simulador Valora'!$V$40=4,'Simulador Valora'!$E$52))))","v":0},null,0,0,"",0,120]
[121,0,null,{"$f":"IF(B140+F140-D139<=0,B140+F140,IF(A140=$B$10,$F$10,IF(A140=$B$11,$F$11,IF(A140=$B$12,$F$12,IF(A140=$B$13,$F$13,IF(A140=$B$14,$F$14,IF(AND('Simulador Valora'!$AE$45=2,L139=0),D139*(1+Z140),IF($AO$3=2,B140*AI140,D139*(1+Z140)))))))))","v":0},null,0,null,0,null,null,null,null,null,{"$f":"IF(OR('Simulador Valora'!$T$65=1,'Simulador Valora'!$T$65=3),0,L140*'Simulador Valora'!$T$66*'Simulador Valora'!$U$64)","v":0},null,0,null,0,null,{"$f":"IF(B140<=0,0,IF('Simulador Valora'!$X$73=1,0,B140*'Simulador Valora'!$X$76))","v":0},null,{"$f":"IF(B140<=0,0,IF('Simulador Valora'!$V$40=1,'Simulador Valora'!$L$52,IF('Simulador Valora'!$V$40=3,'Simulador Valora'!$I$52,IF('Simulador Valora'!$V$40=4,'Simulador Valora'!$E$52))))","v":0},null,0,null,{"$f":"IF(B140<=0,0,'Simulador Valora'!$AF$53)","v":0},null,10,1,0,0,0,0,{"$f":"IF(AH139=$AG$4,AH139,IF(AH139-0.25%<=$AG$4,$AG$4,AH139-0.25%))","v":0.12},0,0,0,0,0,0,"",{"$f":"IF(AJ140<=0,0,IF('Simulador Valora'!$X$73=1,0,AJ140*'Simulador Valora'!$X$76))+IF(AJ140<=0,0,IF('Simulador Valora'!$V$40=1,'Simulador Valora'!$L$52,IF('Simulador Valora'!$V$40=3,'Simulador Valora'!$I$52,IF('Simulador Valora'!$V$40=4,'Simulador Valora'!$E$52))))","v":0},{"$f":"IF(AJ140<=0,0,$AQ$32)","v":0},0,{"$f":"IFERROR(IF(AK140<=0.01,0,AS139-1),0)","v":0},"",0,121]
[122,0,null,{"$f":"IF(B141+F141-D140<=0,B141+F141,IF(A141=$B$10,$F$10,IF(A141=$B$11,$F$11,IF(A141=$B$12,$F$12,IF(A141=$B$13,$F$13,IF(A141=$B$14,$F$14,IF(AND('Simulador Valora'!$AE$45=2,L140=0),D140*(1+Z141),IF($AO$3=2,B141*AI141,D140*(1+Z141)))))))))","v":0},null,0,null,0,null,{"$f":"IF(B141-H141=0,0,J139*(1+(3%)))","v":0},null,null,null,{"$f":"IF(OR('Simulador Valora'!$T$65=1,'Simulador Valora'!$T$65=3),0,L141*'Simulador Valora'!$T$66*'Simulador Valora'!$U$64)","v":0},null,0,null,0,null,{"$f":"IF(B141<=0,0,IF('Simulador Valora'!$X$73=1,0,B141*'Simulador Valora'!$X$76))","v":0},null,{"$f":"IF(B141<=0,0,IF('Simulador Valora'!$V$40=1,'Simulador Valora'!$L$52,IF('Simulador Valora'!$V$40=3,'Simulador Valora'!$I$52,IF('Simulador Valora'!$V$40=4,'Simulador Valora'!$E$52))))","v":0},null,0,null,null,null,10,2,0,0,0,0,{"$f":"AH140","v":0.12},0,0,0,0,0,0,"",{"$f":"IF(AJ141<=0,0,IF('Simulador Valora'!$X$73=1,0,AJ141*'Simulador Valora'!$X$76))+IF(AJ141<=0,0,IF('Simulador Valora'!$V$40=1,'Simulador Valora'!$L$52,IF('Simulador Valora'!$V$40=3,'Simulador Valora'!$I$52,IF('Simulador Valora'!$V$40=4,'Simulador Valora'!$E$52))))","v":0},null,0,{"$f":"IFERROR(IF(AK141<=0.01,0,AS140-1),0)","v":0},"",0,122]
[123,0,null,{"$f":"IF(B142+F142-D141<=0,B142+F142,IF(A142=$B$10,$F$10,IF(A142=$B$11,$F$11,IF(A142=$B$12,$F$12,IF(A142=$B$13,$F$13,IF(A142=$B$14,$F$14,IF(AND('Simulador Valora'!$AE$45=2,L141=0),D141*(1+Z142),IF($AO$3=2,B142*AI142,D141*(1+Z142)))))))))","v":0},null,0,null,0,null,null,null,null,null,{"$f":"IF(OR('Simulador Valora'!$T$65=1,'Simulador Valora'!$T$65=3),0,L142*'Simulador Valora'!$T$66*'Simulador Valora'!$U$64)","v":0},null,0,null,0,null,{"$f":"IF(B142<=0,0,IF('Simulador Valora'!$X$73=1,0,B142*'Simulador Valora'!$X$76))","v":0},null,{"$f":"IF(B142<=0,0,IF('Simulador Valora'!$V$40=1,'Simulador Valora'!$L$52,IF('Simulador Valora'!$V$40=3,'Simulador Valora'!$I$52,IF('Simulador Valora'!$V$40=4,'Simulador Valora'!$E$52))))","v":0},null,0,null,null,null,10,3,0,0,0,0,{"$f":"AH141","v":0.12},0,0,0,0,0,0,"",{"$f":"IF(AJ142<=0,0,IF('Simulador Valora'!$X$73=1,0,AJ142*'Simulador Valora'!$X$76))+IF(AJ142<=0,0,IF('Simulador Valora'!$V$40=1,'Simulador Valora'!$L$52,IF('Simulador Valora'!$V$40=3,'Simulador Valora'!$I$52,IF('Simulador Valora'!$V$40=4,'Simulador Valora'!$E$52))))","v":0},null,0,0,"",0,123]
[124,0,null,{"$f":"IF(B143+F143-D142<=0,B143+F143,IF(A143=$B$10,$F$10,IF(A143=$B$11,$F$11,IF(A143=$B$12,$F$12,IF(A143=$B$13,$F$13,IF(A143=$B$14,$F$14,IF(AND('Simulador Valora'!$AE$45=2,L142=0),D142*(1+Z143),IF($AO$3=2,B143*AI143,D142*(1+Z143)))))))))","v":0},null,0,null,0,null,{"$f":"IF(B143-H143=0,0,J141)","v":0},null,null,null,{"$f":"IF(OR('Simulador Valora'!$T$65=1,'Simulador Valora'!$T$65=3),0,L143*'Simulador Valora'!$T$66*'Simulador Valora'!$U$64)","v":0},null,0,null,0,null,{"$f":"IF(B143<=0,0,IF('Simulador Valora'!$X$73=1,0,B143*'Simulador Valora'!$X$76))","v":0},null,{"$f":"IF(B143<=0,0,IF('Simulador Valora'!$V$40=1,'Simulador Valora'!$L$52,IF('Simulador Valora'!$V$40=3,'Simulador Valora'!$I$52,IF('Simulador Valora'!$V$40=4,'Simulador Valora'!$E$52))))","v":0},null,0,null,null,null,10,4,0,0,0,0,0.12,0,0,0,0,0,0,"",{"$f":"IF(AJ143<=0,0,IF('Simulador Valora'!$X$73=1,0,AJ143*'Simulador Valora'!$X$76))+IF(AJ143<=0,0,IF('Simulador Valora'!$V$40=1,'Simulador Valora'!$L$52,IF('Simulador Valora'!$V$40=3,'Simulador Valora'!$I$52,IF('Simulador Valora'!$V$40=4,'Simulador Valora'!$E$52))))","v":0},null,0,0,"",0,124]
[125,0,null,{"$f":"IF(B144+F144-D143<=0,B144+F144,IF(A144=$B$10,$F$10,IF(A144=$B$11,$F$11,IF(A144=$B$12,$F$12,IF(A144=$B$13,$F$13,IF(A144=$B$14,$F$14,IF(AND('Simulador Valora'!$AE$45=2,L143=0),D143*(1+Z144),IF($AO$3=2,B144*AI144,D143*(1+Z144)))))))))","v":0},null,0,null,0,null,null,null,null,null,{"$f":"IF(OR('Simulador Valora'!$T$65=1,'Simulador Valora'!$T$65=3),0,L144*'Simulador Valora'!$T$66*'Simulador Valora'!$U$64)","v":0},null,0,null,0,null,{"$f":"IF(B144<=0,0,IF('Simulador Valora'!$X$73=1,0,B144*'Simulador Valora'!$X$76))","v":0},null,{"$f":"IF(B144<=0,0,IF('Simulador Valora'!$V$40=1,'Simulador Valora'!$L$52,IF('Simulador Valora'!$V$40=3,'Simulador Valora'!$I$52,IF('Simulador Valora'!$V$40=4,'Simulador Valora'!$E$52))))","v":0},null,0,null,null,null,10,5,0,0,0,0,0.12,0,0,0,0,0,0,"",{"$f":"IF(AJ144<=0,0,IF('Simulador Valora'!$X$73=1,0,AJ144*'Simulador Valora'!$X$76))+IF(AJ144<=0,0,IF('Simulador Valora'!$V$40=1,'Simulador Valora'!$L$52,IF('Simulador Valora'!$V$40=3,'Simulador Valora'!$I$52,IF('Simulador Valora'!$V$40=4,'Simulador Valora'!$E$52))))","v":0},null,0,0,"",0,125]
[126,0,null,{"$f":"IF(B145+F145-D144<=0,B145+F145,IF(A145=$B$10,$F$10,IF(A145=$B$11,$F$11,IF(A145=$B$12,$F$12,IF(A145=$B$13,$F$13,IF(A145=$B$14,$F$14,IF(AND('Simulador Valora'!$AE$45=2,L144=0),D144*(1+Z145),IF($AO$3=2,B145*AI145,D144*(1+Z145)))))))))","v":0},null,0,null,0,null,{"$f":"IF(B145-H145=0,0,J143)","v":0},null,null,null,{"$f":"IF(OR('Simulador Valora'!$T$65=1,'Simulador Valora'!$T$65=3),0,L145*'Simulador Valora'!$T$66*'Simulador Valora'!$U$64)","v":0},null,0,null,0,null,{"$f":"IF(B145<=0,0,IF('Simulador Valora'!$X$73=1,0,B145*'Simulador Valora'!$X$76))","v":0},null,{"$f":"IF(B145<=0,0,IF('Simulador Valora'!$V$40=1,'Simulador Valora'!$L$52,IF('Simulador Valora'!$V$40=3,'Simulador Valora'!$I$52,IF('Simulador Valora'!$V$40=4,'Simulador Valora'!$E$52))))","v":0},null,0,null,null,null,10,6,0,0,0,0,0.12,0,0,0,0,0,0,"",{"$f":"IF(AJ145<=0,0,IF('Simulador Valora'!$X$73=1,0,AJ145*'Simulador Valora'!$X$76))+IF(AJ145<=0,0,IF('Simulador Valora'!$V$40=1,'Simulador Valora'!$L$52,IF('Simulador Valora'!$V$40=3,'Simulador Valora'!$I$52,IF('Simulador Valora'!$V$40=4,'Simulador Valora'!$E$52))))","v":0},null,0,0,"",0,126]
[127,0,null,{"$f":"IF(B146+F146-D145<=0,B146+F146,IF(A146=$B$10,$F$10,IF(A146=$B$11,$F$11,IF(A146=$B$12,$F$12,IF(A146=$B$13,$F$13,IF(A146=$B$14,$F$14,IF(AND('Simulador Valora'!$AE$45=2,L145=0),D145*(1+Z146),IF($AO$3=2,B146*AI146,D145*(1+Z146)))))))))","v":0},null,0,null,0,null,null,null,null,null,{"$f":"IF(OR('Simulador Valora'!$T$65=1,'Simulador Valora'!$T$65=3),0,L146*'Simulador Valora'!$T$66*'Simulador Valora'!$U$64)","v":0},null,0,null,0,null,{"$f":"IF(B146<=0,0,IF('Simulador Valora'!$X$73=1,0,B146*'Simulador Valora'!$X$76))","v":0},null,{"$f":"IF(B146<=0,0,IF('Simulador Valora'!$V$40=1,'Simulador Valora'!$L$52,IF('Simulador Valora'!$V$40=3,'Simulador Valora'!$I$52,IF('Simulador Valora'!$V$40=4,'Simulador Valora'!$E$52))))","v":0},null,0,null,null,null,10,7,0,0,0,0,0.12,0,0,0,0,0,0,"",{"$f":"IF(AJ146<=0,0,IF('Simulador Valora'!$X$73=1,0,AJ146*'Simulador Valora'!$X$76))+IF(AJ146<=0,0,IF('Simulador Valora'!$V$40=1,'Simulador Valora'!$L$52,IF('Simulador Valora'!$V$40=3,'Simulador Valora'!$I$52,IF('Simulador Valora'!$V$40=4,'Simulador Valora'!$E$52))))","v":0},null,0,0,"",0,127]
[128,0,null,{"$f":"IF(B147+F147-D146<=0,B147+F147,IF(A147=$B$10,$F$10,IF(A147=$B$11,$F$11,IF(A147=$B$12,$F$12,IF(A147=$B$13,$F$13,IF(A147=$B$14,$F$14,IF(AND('Simulador Valora'!$AE$45=2,L146=0),D146*(1+Z147),IF($AO$3=2,B147*AI147,D146*(1+Z147)))))))))","v":0},null,0,null,0,null,{"$f":"IF(B147-H147=0,0,J145)","v":0},null,null,null,{"$f":"IF(OR('Simulador Valora'!$T$65=1,'Simulador Valora'!$T$65=3),0,L147*'Simulador Valora'!$T$66*'Simulador Valora'!$U$64)","v":0},null,0,null,0,null,{"$f":"IF(B147<=0,0,IF('Simulador Valora'!$X$73=1,0,B147*'Simulador Valora'!$X$76))","v":0},null,{"$f":"IF(B147<=0,0,IF('Simulador Valora'!$V$40=1,'Simulador Valora'!$L$52,IF('Simulador Valora'!$V$40=3,'Simulador Valora'!$I$52,IF('Simulador Valora'!$V$40=4,'Simulador Valora'!$E$52))))","v":0},null,0,null,null,null,10,8,0,0,0,0,0.12,0,0,0,0,0,0,"",{"$f":"IF(AJ147<=0,0,IF('Simulador Valora'!$X$73=1,0,AJ147*'Simulador Valora'!$X$76))+IF(AJ147<=0,0,IF('Simulador Valora'!$V$40=1,'Simulador Valora'!$L$52,IF('Simulador Valora'!$V$40=3,'Simulador Valora'!$I$52,IF('Simulador Valora'!$V$40=4,'Simulador Valora'!$E$52))))","v":0},null,0,0,"",0,128]
[129,0,null,{"$f":"IF(B148+F148-D147<=0,B148+F148,IF(A148=$B$10,$F$10,IF(A148=$B$11,$F$11,IF(A148=$B$12,$F$12,IF(A148=$B$13,$F$13,IF(A148=$B$14,$F$14,IF(AND('Simulador Valora'!$AE$45=2,L147=0),D147*(1+Z148),IF($AO$3=2,B148*AI148,D147*(1+Z148)))))))))","v":0},null,0,null,0,null,null,null,null,null,{"$f":"IF(OR('Simulador Valora'!$T$65=1,'Simulador Valora'!$T$65=3),0,L148*'Simulador Valora'!$T$66*'Simulador Valora'!$U$64)","v":0},null,0,null,0,null,{"$f":"IF(B148<=0,0,IF('Simulador Valora'!$X$73=1,0,B148*'Simulador Valora'!$X$76))","v":0},null,{"$f":"IF(B148<=0,0,IF('Simulador Valora'!$V$40=1,'Simulador Valora'!$L$52,IF('Simulador Valora'!$V$40=3,'Simulador Valora'!$I$52,IF('Simulador Valora'!$V$40=4,'Simulador Valora'!$E$52))))","v":0},null,0,null,null,null,10,9,0,0,0,0,0.12,0,0,0,0,{"$f":"+AK148-AL148","v":0},{"$f":"+AJ148-AM148","v":0},"",{"$f":"IF(AJ148<=0,0,IF('Simulador Valora'!$X$73=1,0,AJ148*'Simulador Valora'!$X$76))+IF(AJ148<=0,0,IF('Simulador Valora'!$V$40=1,'Simulador Valora'!$L$52,IF('Simulador Valora'!$V$40=3,'Simulador Valora'!$I$52,IF('Simulador Valora'!$V$40=4,'Simulador Valora'!$E$52))))","v":0},null,0,0,"",0,129]
[130,{"$f":"IF(R148<0,0,IF(A149=$B$10,R148+$D$10,IF(A149=$B$11,R148+$D$11,IF(A149=$B$12,R148+$D$12,IF(A149=$B$13,R148+$D$13,IF(A149=$B$14,R148+$D$14,R148))))))","v":0},null,{"$f":"IF(B149+F149-D148<=0,B149+F149,IF(A149=$B$10,$F$10,IF(A149=$B$11,$F$11,IF(A149=$B$12,$F$12,IF(A149=$B$13,$F$13,IF(A149=$B$14,$F$14,IF(AND('Simulador Valora'!$AE$45=2,L148=0),D148*(1+Z149),IF($AO$3=2,B149*AI149,D148*(1+Z149)))))))))","v":0},null,{"$f":"IF(B149=0,0,P149/360*AU149*B149)","v":0},null,0,null,{"$f":"IF(B149-H149=0,0,J147)","v":0},null,null,null,{"$f":"IF(OR('Simulador Valora'!$T$65=1,'Simulador Valora'!$T$65=3),0,L149*'Simulador Valora'!$T$66*'Simulador Valora'!$U$64)","v":0},null,{"$f":"IF(B149=0,0,AH149)","v":0},null,{"$f":"B149-H149-J149-L149+N149","v":0},null,{"$f":"IF(B149<=0,0,IF('Simulador Valora'!$X$73=1,0,B149*'Simulador Valora'!$X$76))","v":0},null,{"$f":"IF(B149<=0,0,IF('Simulador Valora'!$V$40=1,'Simulador Valora'!$L$52,IF('Simulador Valora'!$V$40=3,'Simulador Valora'!$I$52,IF('Simulador Valora'!$V$40=4,'Simulador Valora'!$E$52))))","v":0},null,{"$f":"IF(B149<=0,0,(D149+L149+T149+V149))","v":0},null,null,null,10,10,{"$f":"+IF(R149<=0,IF(R148>0,+A149,0),0)","v":0},{"$f":"+IF(AD149>0,+AB149,0)","v":0},{"$f":"+IF(AD149>0,+AC149,0)","v":0},{"$f":"X149","v":0},0.12,{"$f":"IFERROR(AK149/AJ149,0)","v":0},0,0,{"$f":"IFERROR((AO149/360*AU149*AJ149),0)","v":0},0,0,{"$f":"IF(AJ149=0,\"\",AH149)","v":""},{"$f":"IF(AJ149<=0,0,IF('Simulador Valora'!$X$73=1,0,AJ149*'Simulador Valora'!$X$76))+IF(AJ149<=0,0,IF('Simulador Valora'!$V$40=1,'Simulador Valora'!$L$52,IF('Simulador Valora'!$V$40=3,'Simulador Valora'!$I$52,IF('Simulador Valora'!$V$40=4,'Simulador Valora'!$E$52))))","v":0},null,{"$f":"AL149+AM149+AP149","v":0},0,"",{"$f":"IFERROR(DAY(DATE(YEAR(AT149),MONTH(AT149)+1,0)),0)","v":0},130]
[131,0,null,{"$f":"IF(B150+F150-D149<=0,B150+F150,IF(A150=$B$10,$F$10,IF(A150=$B$11,$F$11,IF(A150=$B$12,$F$12,IF(A150=$B$13,$F$13,IF(A150=$B$14,$F$14,IF(AND('Simulador Valora'!$AE$45=2,L149=0),D149*(1+Z150),IF($AO$3=2,B150*AI150,D149*(1+Z150)))))))))","v":0},null,0,null,{"$f":"D150-F150","v":0},null,null,null,null,null,{"$f":"IF(OR('Simulador Valora'!$T$65=1,'Simulador Valora'!$T$65=3),0,L150*'Simulador Valora'!$T$66*'Simulador Valora'!$U$64)","v":0},null,0,null,0,null,{"$f":"IF(B150<=0,0,IF('Simulador Valora'!$X$73=1,0,B150*'Simulador Valora'!$X$76))","v":0},null,{"$f":"IF(B150<=0,0,IF('Simulador Valora'!$V$40=1,'Simulador Valora'!$L$52,IF('Simulador Valora'!$V$40=3,'Simulador Valora'!$I$52,IF('Simulador Valora'!$V$40=4,'Simulador Valora'!$E$52))))","v":0},null,0,null,null,null,10,11,0,0,0,0,0.12,0,{"$f":"IF(AN149<0,0,IF(A150=$B$10,AN149+$D$10,IF(A150=$B$11,AN149+$D$11,IF(A150=$B$12,AN149+$D$12,IF(A150=$B$13,AN149+$D$13,IF(A150=$B$14,AN149+$D$14,AN149))))))","v":0},{"$f":"IF(AJ150+AL150-AK149<=0,AJ150+AL150,IF(A150=$B$10,$F$10,IF(A150=$B$11,$F$11,IF(A150=$B$12,$F$12,IF(A150=$B$13,$F$13,IF(A150=$B$14,$F$14,AK149*(1+AQ150)))))))","v":0},0,0,0,"",{"$f":"IF(AJ150<=0,0,IF('Simulador Valora'!$X$73=1,0,AJ150*'Simulador Valora'!$X$76))+IF(AJ150<=0,0,IF('Simulador Valora'!$V$40=1,'Simulador Valora'!$L$52,IF('Simulador Valora'!$V$40=3,'Simulador Valora'!$I$52,IF('Simulador Valora'!$V$40=4,'Simulador Valora'!$E$52))))","v":0},null,0,0,{"$f":"IF(AJ150=0,\"\",DATE(YEAR(AT149),MONTH(AT149)+1,1))","v":""},0,131]
[132,0,null,{"$f":"IF(B151+F151-D150<=0,B151+F151,IF(A151=$B$10,$F$10,IF(A151=$B$11,$F$11,IF(A151=$B$12,$F$12,IF(A151=$B$13,$F$13,IF(A151=$B$14,$F$14,IF(AND('Simulador Valora'!$AE$45=2,L150=0),D150*(1+Z151),IF($AO$3=2,B151*AI151,D150*(1+Z151)))))))))","v":0},null,0,null,0,null,{"$f":"IF(B151-H151=0,0,J149)","v":0},null,null,null,{"$f":"IF(OR('Simulador Valora'!$T$65=1,'Simulador Valora'!$T$65=3),0,L151*'Simulador Valora'!$T$66*'Simulador Valora'!$U$64)","v":0},null,0,null,0,null,{"$f":"IF(B151<=0,0,IF('Simulador Valora'!$X$73=1,0,B151*'Simulador Valora'!$X$76))","v":0},null,{"$f":"IF(B151<=0,0,IF('Simulador Valora'!$V$40=1,'Simulador Valora'!$L$52,IF('Simulador Valora'!$V$40=3,'Simulador Valora'!$I$52,IF('Simulador Valora'!$V$40=4,'Simulador Valora'!$E$52))))","v":0},null,0,null,null,null,11,0,0,0,0,0,0.12,0,0,0,0,0,0,"",{"$f":"IF(AJ151<=0,0,IF('Simulador Valora'!$X$73=1,0,AJ151*'Simulador Valora'!$X$76))+IF(AJ151<=0,0,IF('Simulador Valora'!$V$40=1,'Simulador Valora'!$L$52,IF('Simulador Valora'!$V$40=3,'Simulador Valora'!$I$52,IF('Simulador Valora'!$V$40=4,'Simulador Valora'!$E$52))))","v":0},null,0,0,"",0,132]
[133,0,null,{"$f":"IF(B152+F152-D151<=0,B152+F152,IF(A152=$B$10,$F$10,IF(A152=$B$11,$F$11,IF(A152=$B$12,$F$12,IF(A152=$B$13,$F$13,IF(A152=$B$14,$F$14,IF(AND('Simulador Valora'!$AE$45=2,L151=0),D151*(1+Z152),IF($AO$3=2,B152*AI152,D151*(1+Z152)))))))))","v":0},null,0,null,0,null,null,null,null,null,{"$f":"IF(OR('Simulador Valora'!$T$65=1,'Simulador Valora'!$T$65=3),0,L152*'Simulador Valora'!$T$66*'Simulador Valora'!$U$64)","v":0},null,0,null,0,null,{"$f":"IF(B152<=0,0,IF('Simulador Valora'!$X$73=1,0,B152*'Simulador Valora'!$X$76))","v":0},null,{"$f":"IF(B152<=0,0,IF('Simulador Valora'!$V$40=1,'Simulador Valora'!$L$52,IF('Simulador Valora'!$V$40=3,'Simulador Valora'!$I$52,IF('Simulador Valora'!$V$40=4,'Simulador Valora'!$E$52))))","v":0},null,0,null,{"$f":"IF(B152<=0,0,'Simulador Valora'!$AF$53)","v":0},null,11,1,0,0,0,0,{"$f":"IF(AH151=$AG$4,AH151,IF(AH151-0.25%<=$AG$4,$AG$4,AH151-0.25%))","v":0.12},0,0,0,0,0,0,"",{"$f":"IF(AJ152<=0,0,IF('Simulador Valora'!$X$73=1,0,AJ152*'Simulador Valora'!$X$76))+IF(AJ152<=0,0,IF('Simulador Valora'!$V$40=1,'Simulador Valora'!$L$52,IF('Simulador Valora'!$V$40=3,'Simulador Valora'!$I$52,IF('Simulador Valora'!$V$40=4,'Simulador Valora'!$E$52))))","v":0},{"$f":"IF(AJ152<=0,0,$AQ$32)","v":0},0,0,"",0,133]
[134,0,null,{"$f":"IF(B153+F153-D152<=0,B153+F153,IF(A153=$B$10,$F$10,IF(A153=$B$11,$F$11,IF(A153=$B$12,$F$12,IF(A153=$B$13,$F$13,IF(A153=$B$14,$F$14,IF(AND('Simulador Valora'!$AE$45=2,L152=0),D152*(1+Z153),IF($AO$3=2,B153*AI153,D152*(1+Z153)))))))))","v":0},null,0,null,0,null,{"$f":"IF(B153-H153=0,0,J151*(1+(3%)))","v":0},null,null,null,{"$f":"IF(OR('Simulador Valora'!$T$65=1,'Simulador Valora'!$T$65=3),0,L153*'Simulador Valora'!$T$66*'Simulador Valora'!$U$64)","v":0},null,0,null,0,null,{"$f":"IF(B153<=0,0,IF('Simulador Valora'!$X$73=1,0,B153*'Simulador Valora'!$X$76))","v":0},null,{"$f":"IF(B153<=0,0,IF('Simulador Valora'!$V$40=1,'Simulador Valora'!$L$52,IF('Simulador Valora'!$V$40=3,'Simulador Valora'!$I$52,IF('Simulador Valora'!$V$40=4,'Simulador Valora'!$E$52))))","v":0},null,0,null,null,null,11,2,0,0,0,0,{"$f":"AH152","v":0.12},0,0,0,0,0,0,"",{"$f":"IF(AJ153<=0,0,IF('Simulador Valora'!$X$73=1,0,AJ153*'Simulador Valora'!$X$76))+IF(AJ153<=0,0,IF('Simulador Valora'!$V$40=1,'Simulador Valora'!$L$52,IF('Simulador Valora'!$V$40=3,'Simulador Valora'!$I$52,IF('Simulador Valora'!$V$40=4,'Simulador Valora'!$E$52))))","v":0},null,0,0,"",0,134]
[135,0,null,{"$f":"IF(B154+F154-D153<=0,B154+F154,IF(A154=$B$10,$F$10,IF(A154=$B$11,$F$11,IF(A154=$B$12,$F$12,IF(A154=$B$13,$F$13,IF(A154=$B$14,$F$14,IF(AND('Simulador Valora'!$AE$45=2,L153=0),D153*(1+Z154),IF($AO$3=2,B154*AI154,D153*(1+Z154)))))))))","v":0},null,0,null,0,null,null,null,null,null,{"$f":"IF(OR('Simulador Valora'!$T$65=1,'Simulador Valora'!$T$65=3),0,L154*'Simulador Valora'!$T$66*'Simulador Valora'!$U$64)","v":0},null,0,null,0,null,{"$f":"IF(B154<=0,0,IF('Simulador Valora'!$X$73=1,0,B154*'Simulador Valora'!$X$76))","v":0},null,{"$f":"IF(B154<=0,0,IF('Simulador Valora'!$V$40=1,'Simulador Valora'!$L$52,IF('Simulador Valora'!$V$40=3,'Simulador Valora'!$I$52,IF('Simulador Valora'!$V$40=4,'Simulador Valora'!$E$52))))","v":0},null,0,null,null,null,11,3,0,0,0,0,{"$f":"AH153","v":0.12},0,0,0,0,0,0,"",{"$f":"IF(AJ154<=0,0,IF('Simulador Valora'!$X$73=1,0,AJ154*'Simulador Valora'!$X$76))+IF(AJ154<=0,0,IF('Simulador Valora'!$V$40=1,'Simulador Valora'!$L$52,IF('Simulador Valora'!$V$40=3,'Simulador Valora'!$I$52,IF('Simulador Valora'!$V$40=4,'Simulador Valora'!$E$52))))","v":0},null,0,0,"",0,135]
[136,0,null,{"$f":"IF(B155+F155-D154<=0,B155+F155,IF(A155=$B$10,$F$10,IF(A155=$B$11,$F$11,IF(A155=$B$12,$F$12,IF(A155=$B$13,$F$13,IF(A155=$B$14,$F$14,IF(AND('Simulador Valora'!$AE$45=2,L154=0),D154*(1+Z155),IF($AO$3=2,B155*AI155,D154*(1+Z155)))))))))","v":0},null,0,null,0,null,{"$f":"IF(B155-H155=0,0,J153)","v":0},null,null,null,{"$f":"IF(OR('Simulador Valora'!$T$65=1,'Simulador Valora'!$T$65=3),0,L155*'Simulador Valora'!$T$66*'Simulador Valora'!$U$64)","v":0},null,0,null,0,null,{"$f":"IF(B155<=0,0,IF('Simulador Valora'!$X$73=1,0,B155*'Simulador Valora'!$X$76))","v":0},null,{"$f":"IF(B155<=0,0,IF('Simulador Valora'!$V$40=1,'Simulador Valora'!$L$52,IF('Simulador Valora'!$V$40=3,'Simulador Valora'!$I$52,IF('Simulador Valora'!$V$40=4,'Simulador Valora'!$E$52))))","v":0},null,0,null,null,null,11,4,0,0,0,0,0.12,0,0,0,0,0,0,"",{"$f":"IF(AJ155<=0,0,IF('Simulador Valora'!$X$73=1,0,AJ155*'Simulador Valora'!$X$76))+IF(AJ155<=0,0,IF('Simulador Valora'!$V$40=1,'Simulador Valora'!$L$52,IF('Simulador Valora'!$V$40=3,'Simulador Valora'!$I$52,IF('Simulador Valora'!$V$40=4,'Simulador Valora'!$E$52))))","v":0},null,0,0,"",0,136]
[137,0,null,{"$f":"IF(B156+F156-D155<=0,B156+F156,IF(A156=$B$10,$F$10,IF(A156=$B$11,$F$11,IF(A156=$B$12,$F$12,IF(A156=$B$13,$F$13,IF(A156=$B$14,$F$14,IF(AND('Simulador Valora'!$AE$45=2,L155=0),D155*(1+Z156),IF($AO$3=2,B156*AI156,D155*(1+Z156)))))))))","v":0},null,0,null,0,null,null,null,null,null,{"$f":"IF(OR('Simulador Valora'!$T$65=1,'Simulador Valora'!$T$65=3),0,L156*'Simulador Valora'!$T$66*'Simulador Valora'!$U$64)","v":0},null,0,null,0,null,{"$f":"IF(B156<=0,0,IF('Simulador Valora'!$X$73=1,0,B156*'Simulador Valora'!$X$76))","v":0},null,{"$f":"IF(B156<=0,0,IF('Simulador Valora'!$V$40=1,'Simulador Valora'!$L$52,IF('Simulador Valora'!$V$40=3,'Simulador Valora'!$I$52,IF('Simulador Valora'!$V$40=4,'Simulador Valora'!$E$52))))","v":0},null,0,null,null,null,11,5,0,0,0,0,0.12,0,0,0,0,0,0,"",{"$f":"IF(AJ156<=0,0,IF('Simulador Valora'!$X$73=1,0,AJ156*'Simulador Valora'!$X$76))+IF(AJ156<=0,0,IF('Simulador Valora'!$V$40=1,'Simulador Valora'!$L$52,IF('Simulador Valora'!$V$40=3,'Simulador Valora'!$I$52,IF('Simulador Valora'!$V$40=4,'Simulador Valora'!$E$52))))","v":0},null,0,0,"",0,137]
[138,0,null,{"$f":"IF(B157+F157-D156<=0,B157+F157,IF(A157=$B$10,$F$10,IF(A157=$B$11,$F$11,IF(A157=$B$12,$F$12,IF(A157=$B$13,$F$13,IF(A157=$B$14,$F$14,IF(AND('Simulador Valora'!$AE$45=2,L156=0),D156*(1+Z157),IF($AO$3=2,B157*AI157,D156*(1+Z157)))))))))","v":0},null,0,null,0,null,{"$f":"IF(B157-H157=0,0,J155)","v":0},null,null,null,{"$f":"IF(OR('Simulador Valora'!$T$65=1,'Simulador Valora'!$T$65=3),0,L157*'Simulador Valora'!$T$66*'Simulador Valora'!$U$64)","v":0},null,0,null,0,null,{"$f":"IF(B157<=0,0,IF('Simulador Valora'!$X$73=1,0,B157*'Simulador Valora'!$X$76))","v":0},null,{"$f":"IF(B157<=0,0,IF('Simulador Valora'!$V$40=1,'Simulador Valora'!$L$52,IF('Simulador Valora'!$V$40=3,'Simulador Valora'!$I$52,IF('Simulador Valora'!$V$40=4,'Simulador Valora'!$E$52))))","v":0},null,0,null,null,null,11,6,0,0,0,0,0.12,0,0,0,0,0,0,"",{"$f":"IF(AJ157<=0,0,IF('Simulador Valora'!$X$73=1,0,AJ157*'Simulador Valora'!$X$76))+IF(AJ157<=0,0,IF('Simulador Valora'!$V$40=1,'Simulador Valora'!$L$52,IF('Simulador Valora'!$V$40=3,'Simulador Valora'!$I$52,IF('Simulador Valora'!$V$40=4,'Simulador Valora'!$E$52))))","v":0},null,0,0,"",0,138]
[139,0,null,{"$f":"IF(B158+F158-D157<=0,B158+F158,IF(A158=$B$10,$F$10,IF(A158=$B$11,$F$11,IF(A158=$B$12,$F$12,IF(A158=$B$13,$F$13,IF(A158=$B$14,$F$14,IF(AND('Simulador Valora'!$AE$45=2,L157=0),D157*(1+Z158),IF($AO$3=2,B158*AI158,D157*(1+Z158)))))))))","v":0},null,0,null,0,null,null,null,null,null,{"$f":"IF(OR('Simulador Valora'!$T$65=1,'Simulador Valora'!$T$65=3),0,L158*'Simulador Valora'!$T$66*'Simulador Valora'!$U$64)","v":0},null,0,null,0,null,{"$f":"IF(B158<=0,0,IF('Simulador Valora'!$X$73=1,0,B158*'Simulador Valora'!$X$76))","v":0},null,{"$f":"IF(B158<=0,0,IF('Simulador Valora'!$V$40=1,'Simulador Valora'!$L$52,IF('Simulador Valora'!$V$40=3,'Simulador Valora'!$I$52,IF('Simulador Valora'!$V$40=4,'Simulador Valora'!$E$52))))","v":0},null,0,null,null,null,11,7,0,0,0,0,0.12,0,0,0,0,0,0,"",{"$f":"IF(AJ158<=0,0,IF('Simulador Valora'!$X$73=1,0,AJ158*'Simulador Valora'!$X$76))+IF(AJ158<=0,0,IF('Simulador Valora'!$V$40=1,'Simulador Valora'!$L$52,IF('Simulador Valora'!$V$40=3,'Simulador Valora'!$I$52,IF('Simulador Valora'!$V$40=4,'Simulador Valora'!$E$52))))","v":0},null,0,0,"",0,139]
[140,0,null,{"$f":"IF(B159+F159-D158<=0,B159+F159,IF(A159=$B$10,$F$10,IF(A159=$B$11,$F$11,IF(A159=$B$12,$F$12,IF(A159=$B$13,$F$13,IF(A159=$B$14,$F$14,IF(AND('Simulador Valora'!$AE$45=2,L158=0),D158*(1+Z159),IF($AO$3=2,B159*AI159,D158*(1+Z159)))))))))","v":0},null,0,null,0,null,{"$f":"IF(B159-H159=0,0,J157)","v":0},null,null,null,{"$f":"IF(OR('Simulador Valora'!$T$65=1,'Simulador Valora'!$T$65=3),0,L159*'Simulador Valora'!$T$66*'Simulador Valora'!$U$64)","v":0},null,0,null,0,null,{"$f":"IF(B159<=0,0,IF('Simulador Valora'!$X$73=1,0,B159*'Simulador Valora'!$X$76))","v":0},null,{"$f":"IF(B159<=0,0,IF('Simulador Valora'!$V$40=1,'Simulador Valora'!$L$52,IF('Simulador Valora'!$V$40=3,'Simulador Valora'!$I$52,IF('Simulador Valora'!$V$40=4,'Simulador Valora'!$E$52))))","v":0},null,0,null,null,null,11,8,0,0,0,0,0.12,0,0,0,0,0,0,"",{"$f":"IF(AJ159<=0,0,IF('Simulador Valora'!$X$73=1,0,AJ159*'Simulador Valora'!$X$76))+IF(AJ159<=0,0,IF('Simulador Valora'!$V$40=1,'Simulador Valora'!$L$52,IF('Simulador Valora'!$V$40=3,'Simulador Valora'!$I$52,IF('Simulador Valora'!$V$40=4,'Simulador Valora'!$E$52))))","v":0},null,0,0,"",0,140]
[141,0,null,{"$f":"IF(B160+F160-D159<=0,B160+F160,IF(A160=$B$10,$F$10,IF(A160=$B$11,$F$11,IF(A160=$B$12,$F$12,IF(A160=$B$13,$F$13,IF(A160=$B$14,$F$14,IF(AND('Simulador Valora'!$AE$45=2,L159=0),D159*(1+Z160),IF($AO$3=2,B160*AI160,D159*(1+Z160)))))))))","v":0},null,0,null,0,null,null,null,null,null,{"$f":"IF(OR('Simulador Valora'!$T$65=1,'Simulador Valora'!$T$65=3),0,L160*'Simulador Valora'!$T$66*'Simulador Valora'!$U$64)","v":0},null,0,null,0,null,{"$f":"IF(B160<=0,0,IF('Simulador Valora'!$X$73=1,0,B160*'Simulador Valora'!$X$76))","v":0},null,{"$f":"IF(B160<=0,0,IF('Simulador Valora'!$V$40=1,'Simulador Valora'!$L$52,IF('Simulador Valora'!$V$40=3,'Simulador Valora'!$I$52,IF('Simulador Valora'!$V$40=4,'Simulador Valora'!$E$52))))","v":0},null,0,null,null,null,11,9,0,0,0,0,0.12,0,0,0,0,0,0,"",{"$f":"IF(AJ160<=0,0,IF('Simulador Valora'!$X$73=1,0,AJ160*'Simulador Valora'!$X$76))+IF(AJ160<=0,0,IF('Simulador Valora'!$V$40=1,'Simulador Valora'!$L$52,IF('Simulador Valora'!$V$40=3,'Simulador Valora'!$I$52,IF('Simulador Valora'!$V$40=4,'Simulador Valora'!$E$52))))","v":0},null,0,0,"",0,141]
[142,0,null,{"$f":"IF(B161+F161-D160<=0,B161+F161,IF(A161=$B$10,$F$10,IF(A161=$B$11,$F$11,IF(A161=$B$12,$F$12,IF(A161=$B$13,$F$13,IF(A161=$B$14,$F$14,IF(AND('Simulador Valora'!$AE$45=2,L160=0),D160*(1+Z161),IF($AO$3=2,B161*AI161,D160*(1+Z161)))))))))","v":0},null,0,null,0,null,{"$f":"IF(B161-H161=0,0,J159)","v":0},null,null,null,{"$f":"IF(OR('Simulador Valora'!$T$65=1,'Simulador Valora'!$T$65=3),0,L161*'Simulador Valora'!$T$66*'Simulador Valora'!$U$64)","v":0},null,0,null,0,null,{"$f":"IF(B161<=0,0,IF('Simulador Valora'!$X$73=1,0,B161*'Simulador Valora'!$X$76))","v":0},null,{"$f":"IF(B161<=0,0,IF('Simulador Valora'!$V$40=1,'Simulador Valora'!$L$52,IF('Simulador Valora'!$V$40=3,'Simulador Valora'!$I$52,IF('Simulador Valora'!$V$40=4,'Simulador Valora'!$E$52))))","v":0},null,0,null,null,null,11,10,0,0,0,0,0.12,0,0,0,0,0,0,"",{"$f":"IF(AJ161<=0,0,IF('Simulador Valora'!$X$73=1,0,AJ161*'Simulador Valora'!$X$76))+IF(AJ161<=0,0,IF('Simulador Valora'!$V$40=1,'Simulador Valora'!$L$52,IF('Simulador Valora'!$V$40=3,'Simulador Valora'!$I$52,IF('Simulador Valora'!$V$40=4,'Simulador Valora'!$E$52))))","v":0},null,0,0,"",0,142]
[143,0,null,{"$f":"IF(B162+F162-D161<=0,B162+F162,IF(A162=$B$10,$F$10,IF(A162=$B$11,$F$11,IF(A162=$B$12,$F$12,IF(A162=$B$13,$F$13,IF(A162=$B$14,$F$14,IF(AND('Simulador Valora'!$AE$45=2,L161=0),D161*(1+Z162),IF($AO$3=2,B162*AI162,D161*(1+Z162)))))))))","v":0},null,0,null,0,null,null,null,null,null,{"$f":"IF(OR('Simulador Valora'!$T$65=1,'Simulador Valora'!$T$65=3),0,L162*'Simulador Valora'!$T$66*'Simulador Valora'!$U$64)","v":0},null,0,null,0,null,{"$f":"IF(B162<=0,0,IF('Simulador Valora'!$X$73=1,0,B162*'Simulador Valora'!$X$76))","v":0},null,{"$f":"IF(B162<=0,0,IF('Simulador Valora'!$V$40=1,'Simulador Valora'!$L$52,IF('Simulador Valora'!$V$40=3,'Simulador Valora'!$I$52,IF('Simulador Valora'!$V$40=4,'Simulador Valora'!$E$52))))","v":0},null,0,null,null,null,11,11,0,0,0,0,0.12,0,0,0,0,0,0,"",{"$f":"IF(AJ162<=0,0,IF('Simulador Valora'!$X$73=1,0,AJ162*'Simulador Valora'!$X$76))+IF(AJ162<=0,0,IF('Simulador Valora'!$V$40=1,'Simulador Valora'!$L$52,IF('Simulador Valora'!$V$40=3,'Simulador Valora'!$I$52,IF('Simulador Valora'!$V$40=4,'Simulador Valora'!$E$52))))","v":0},null,0,0,"",0,143]
[144,0,null,{"$f":"IF(B163+F163-D162<=0,B163+F163,IF(A163=$B$10,$F$10,IF(A163=$B$11,$F$11,IF(A163=$B$12,$F$12,IF(A163=$B$13,$F$13,IF(A163=$B$14,$F$14,IF(AND('Simulador Valora'!$AE$45=2,L162=0),D162*(1+Z163),IF($AO$3=2,B163*AI163,D162*(1+Z163)))))))))","v":0},null,0,null,0,null,{"$f":"IF(B163-H163=0,0,J161)","v":0},null,null,null,{"$f":"IF(OR('Simulador Valora'!$T$65=1,'Simulador Valora'!$T$65=3),0,L163*'Simulador Valora'!$T$66*'Simulador Valora'!$U$64)","v":0},null,0,null,0,null,{"$f":"IF(B163<=0,0,IF('Simulador Valora'!$X$73=1,0,B163*'Simulador Valora'!$X$76))","v":0},null,{"$f":"IF(B163<=0,0,IF('Simulador Valora'!$V$40=1,'Simulador Valora'!$L$52,IF('Simulador Valora'!$V$40=3,'Simulador Valora'!$I$52,IF('Simulador Valora'!$V$40=4,'Simulador Valora'!$E$52))))","v":0},null,0,null,null,null,12,0,0,0,0,0,0.12,0,0,0,0,0,0,"",{"$f":"IF(AJ163<=0,0,IF('Simulador Valora'!$X$73=1,0,AJ163*'Simulador Valora'!$X$76))+IF(AJ163<=0,0,IF('Simulador Valora'!$V$40=1,'Simulador Valora'!$L$52,IF('Simulador Valora'!$V$40=3,'Simulador Valora'!$I$52,IF('Simulador Valora'!$V$40=4,'Simulador Valora'!$E$52))))","v":0},null,0,0,"",0,144]
[145,0,null,{"$f":"IF(B164+F164-D163<=0,B164+F164,IF(A164=$B$10,$F$10,IF(A164=$B$11,$F$11,IF(A164=$B$12,$F$12,IF(A164=$B$13,$F$13,IF(A164=$B$14,$F$14,IF(AND('Simulador Valora'!$AE$45=2,L163=0),D163*(1+Z164),IF($AO$3=2,B164*AI164,D163*(1+Z164)))))))))","v":0},null,0,null,0,null,null,null,null,null,{"$f":"IF(OR('Simulador Valora'!$T$65=1,'Simulador Valora'!$T$65=3),0,L164*'Simulador Valora'!$T$66*'Simulador Valora'!$U$64)","v":0},null,0,null,0,null,{"$f":"IF(B164<=0,0,IF('Simulador Valora'!$X$73=1,0,B164*'Simulador Valora'!$X$76))","v":0},null,{"$f":"IF(B164<=0,0,IF('Simulador Valora'!$V$40=1,'Simulador Valora'!$L$52,IF('Simulador Valora'!$V$40=3,'Simulador Valora'!$I$52,IF('Simulador Valora'!$V$40=4,'Simulador Valora'!$E$52))))","v":0},null,0,null,{"$f":"IF(B164<=0,0,'Simulador Valora'!$AF$53)","v":0},null,12,1,0,0,0,0,{"$f":"IF(AH163=$AG$4,AH163,IF(AH163-0.25%<=$AG$4,$AG$4,AH163-0.25%))","v":0.12},0,0,0,0,0,0,"",{"$f":"IF(AJ164<=0,0,IF('Simulador Valora'!$X$73=1,0,AJ164*'Simulador Valora'!$X$76))+IF(AJ164<=0,0,IF('Simulador Valora'!$V$40=1,'Simulador Valora'!$L$52,IF('Simulador Valora'!$V$40=3,'Simulador Valora'!$I$52,IF('Simulador Valora'!$V$40=4,'Simulador Valora'!$E$52))))","v":0},{"$f":"IF(AJ164<=0,0,$AQ$32)","v":0},0,0,"",0,145]
[146,0,null,{"$f":"IF(B165+F165-D164<=0,B165+F165,IF(A165=$B$10,$F$10,IF(A165=$B$11,$F$11,IF(A165=$B$12,$F$12,IF(A165=$B$13,$F$13,IF(A165=$B$14,$F$14,IF(AND('Simulador Valora'!$AE$45=2,L164=0),D164*(1+Z165),IF($AO$3=2,B165*AI165,D164*(1+Z165)))))))))","v":0},null,0,null,0,null,{"$f":"IF(B165-H165=0,0,J163*(1+(3%)))","v":0},null,null,null,{"$f":"IF(OR('Simulador Valora'!$T$65=1,'Simulador Valora'!$T$65=3),0,L165*'Simulador Valora'!$T$66*'Simulador Valora'!$U$64)","v":0},null,0,null,0,null,{"$f":"IF(B165<=0,0,IF('Simulador Valora'!$X$73=1,0,B165*'Simulador Valora'!$X$76))","v":0},null,{"$f":"IF(B165<=0,0,IF('Simulador Valora'!$V$40=1,'Simulador Valora'!$L$52,IF('Simulador Valora'!$V$40=3,'Simulador Valora'!$I$52,IF('Simulador Valora'!$V$40=4,'Simulador Valora'!$E$52))))","v":0},null,0,null,null,null,12,2,0,0,0,0,{"$f":"AH164","v":0.12},0,0,0,0,0,0,"",{"$f":"IF(AJ165<=0,0,IF('Simulador Valora'!$X$73=1,0,AJ165*'Simulador Valora'!$X$76))+IF(AJ165<=0,0,IF('Simulador Valora'!$V$40=1,'Simulador Valora'!$L$52,IF('Simulador Valora'!$V$40=3,'Simulador Valora'!$I$52,IF('Simulador Valora'!$V$40=4,'Simulador Valora'!$E$52))))","v":0},null,0,0,"",0,146]
[147,0,null,{"$f":"IF(B166+F166-D165<=0,B166+F166,IF(A166=$B$10,$F$10,IF(A166=$B$11,$F$11,IF(A166=$B$12,$F$12,IF(A166=$B$13,$F$13,IF(A166=$B$14,$F$14,IF(AND('Simulador Valora'!$AE$45=2,L165=0),D165*(1+Z166),IF($AO$3=2,B166*AI166,D165*(1+Z166)))))))))","v":0},null,0,null,0,null,null,null,null,null,{"$f":"IF(OR('Simulador Valora'!$T$65=1,'Simulador Valora'!$T$65=3),0,L166*'Simulador Valora'!$T$66*'Simulador Valora'!$U$64)","v":0},null,0,null,0,null,{"$f":"IF(B166<=0,0,IF('Simulador Valora'!$X$73=1,0,B166*'Simulador Valora'!$X$76))","v":0},null,{"$f":"IF(B166<=0,0,IF('Simulador Valora'!$V$40=1,'Simulador Valora'!$L$52,IF('Simulador Valora'!$V$40=3,'Simulador Valora'!$I$52,IF('Simulador Valora'!$V$40=4,'Simulador Valora'!$E$52))))","v":0},null,0,null,null,null,12,3,0,0,0,0,{"$f":"AH165","v":0.12},0,0,0,0,0,0,"",{"$f":"IF(AJ166<=0,0,IF('Simulador Valora'!$X$73=1,0,AJ166*'Simulador Valora'!$X$76))+IF(AJ166<=0,0,IF('Simulador Valora'!$V$40=1,'Simulador Valora'!$L$52,IF('Simulador Valora'!$V$40=3,'Simulador Valora'!$I$52,IF('Simulador Valora'!$V$40=4,'Simulador Valora'!$E$52))))","v":0},null,0,0,"",0,147]
[148,0,null,{"$f":"IF(B167+F167-D166<=0,B167+F167,IF(A167=$B$10,$F$10,IF(A167=$B$11,$F$11,IF(A167=$B$12,$F$12,IF(A167=$B$13,$F$13,IF(A167=$B$14,$F$14,IF(AND('Simulador Valora'!$AE$45=2,L166=0),D166*(1+Z167),IF($AO$3=2,B167*AI167,D166*(1+Z167)))))))))","v":0},null,0,null,0,null,{"$f":"IF(B167-H167=0,0,J165)","v":0},null,null,null,{"$f":"IF(OR('Simulador Valora'!$T$65=1,'Simulador Valora'!$T$65=3),0,L167*'Simulador Valora'!$T$66*'Simulador Valora'!$U$64)","v":0},null,0,null,0,null,{"$f":"IF(B167<=0,0,IF('Simulador Valora'!$X$73=1,0,B167*'Simulador Valora'!$X$76))","v":0},null,{"$f":"IF(B167<=0,0,IF('Simulador Valora'!$V$40=1,'Simulador Valora'!$L$52,IF('Simulador Valora'!$V$40=3,'Simulador Valora'!$I$52,IF('Simulador Valora'!$V$40=4,'Simulador Valora'!$E$52))))","v":0},null,0,null,null,null,12,4,0,0,0,0,0.12,0,0,0,0,0,0,"",{"$f":"IF(AJ167<=0,0,IF('Simulador Valora'!$X$73=1,0,AJ167*'Simulador Valora'!$X$76))+IF(AJ167<=0,0,IF('Simulador Valora'!$V$40=1,'Simulador Valora'!$L$52,IF('Simulador Valora'!$V$40=3,'Simulador Valora'!$I$52,IF('Simulador Valora'!$V$40=4,'Simulador Valora'!$E$52))))","v":0},null,0,0,"",0,148]
[149,0,null,{"$f":"IF(B168+F168-D167<=0,B168+F168,IF(A168=$B$10,$F$10,IF(A168=$B$11,$F$11,IF(A168=$B$12,$F$12,IF(A168=$B$13,$F$13,IF(A168=$B$14,$F$14,IF(AND('Simulador Valora'!$AE$45=2,L167=0),D167*(1+Z168),IF($AO$3=2,B168*AI168,D167*(1+Z168)))))))))","v":0},null,0,null,0,null,null,null,null,null,{"$f":"IF(OR('Simulador Valora'!$T$65=1,'Simulador Valora'!$T$65=3),0,L168*'Simulador Valora'!$T$66*'Simulador Valora'!$U$64)","v":0},null,0,null,0,null,{"$f":"IF(B168<=0,0,IF('Simulador Valora'!$X$73=1,0,B168*'Simulador Valora'!$X$76))","v":0},null,{"$f":"IF(B168<=0,0,IF('Simulador Valora'!$V$40=1,'Simulador Valora'!$L$52,IF('Simulador Valora'!$V$40=3,'Simulador Valora'!$I$52,IF('Simulador Valora'!$V$40=4,'Simulador Valora'!$E$52))))","v":0},null,0,null,null,null,12,5,0,0,0,0,0.12,0,0,0,0,0,0,"",{"$f":"IF(AJ168<=0,0,IF('Simulador Valora'!$X$73=1,0,AJ168*'Simulador Valora'!$X$76))+IF(AJ168<=0,0,IF('Simulador Valora'!$V$40=1,'Simulador Valora'!$L$52,IF('Simulador Valora'!$V$40=3,'Simulador Valora'!$I$52,IF('Simulador Valora'!$V$40=4,'Simulador Valora'!$E$52))))","v":0},null,0,0,"",0,149]
[150,0,null,{"$f":"IF(B169+F169-D168<=0,B169+F169,IF(A169=$B$10,$F$10,IF(A169=$B$11,$F$11,IF(A169=$B$12,$F$12,IF(A169=$B$13,$F$13,IF(A169=$B$14,$F$14,IF(AND('Simulador Valora'!$AE$45=2,L168=0),D168*(1+Z169),IF($AO$3=2,B169*AI169,D168*(1+Z169)))))))))","v":0},null,0,null,0,null,{"$f":"IF(B169-H169=0,0,J167)","v":0},null,null,null,{"$f":"IF(OR('Simulador Valora'!$T$65=1,'Simulador Valora'!$T$65=3),0,L169*'Simulador Valora'!$T$66*'Simulador Valora'!$U$64)","v":0},null,0,null,0,null,{"$f":"IF(B169<=0,0,IF('Simulador Valora'!$X$73=1,0,B169*'Simulador Valora'!$X$76))","v":0},null,{"$f":"IF(B169<=0,0,IF('Simulador Valora'!$V$40=1,'Simulador Valora'!$L$52,IF('Simulador Valora'!$V$40=3,'Simulador Valora'!$I$52,IF('Simulador Valora'!$V$40=4,'Simulador Valora'!$E$52))))","v":0},null,0,null,null,null,12,6,0,0,0,0,0.12,0,0,0,0,0,0,"",{"$f":"IF(AJ169<=0,0,IF('Simulador Valora'!$X$73=1,0,AJ169*'Simulador Valora'!$X$76))+IF(AJ169<=0,0,IF('Simulador Valora'!$V$40=1,'Simulador Valora'!$L$52,IF('Simulador Valora'!$V$40=3,'Simulador Valora'!$I$52,IF('Simulador Valora'!$V$40=4,'Simulador Valora'!$E$52))))","v":0},null,0,0,"",0,150]
[151,0,null,{"$f":"IF(B170+F170-D169<=0,B170+F170,IF(A170=$B$10,$F$10,IF(A170=$B$11,$F$11,IF(A170=$B$12,$F$12,IF(A170=$B$13,$F$13,IF(A170=$B$14,$F$14,IF(AND('Simulador Valora'!$AE$45=2,L169=0),D169*(1+Z170),IF($AO$3=2,B170*AI170,D169*(1+Z170)))))))))","v":0},null,0,null,0,null,null,null,null,null,{"$f":"IF(OR('Simulador Valora'!$T$65=1,'Simulador Valora'!$T$65=3),0,L170*'Simulador Valora'!$T$66*'Simulador Valora'!$U$64)","v":0},null,0,null,0,null,{"$f":"IF(B170<=0,0,IF('Simulador Valora'!$X$73=1,0,B170*'Simulador Valora'!$X$76))","v":0},null,{"$f":"IF(B170<=0,0,IF('Simulador Valora'!$V$40=1,'Simulador Valora'!$L$52,IF('Simulador Valora'!$V$40=3,'Simulador Valora'!$I$52,IF('Simulador Valora'!$V$40=4,'Simulador Valora'!$E$52))))","v":0},null,0,null,null,null,12,7,0,0,0,0,0.12,0,0,0,0,0,0,"",{"$f":"IF(AJ170<=0,0,IF('Simulador Valora'!$X$73=1,0,AJ170*'Simulador Valora'!$X$76))+IF(AJ170<=0,0,IF('Simulador Valora'!$V$40=1,'Simulador Valora'!$L$52,IF('Simulador Valora'!$V$40=3,'Simulador Valora'!$I$52,IF('Simulador Valora'!$V$40=4,'Simulador Valora'!$E$52))))","v":0},null,0,0,"",0,151]
[152,0,null,{"$f":"IF(B171+F171-D170<=0,B171+F171,IF(A171=$B$10,$F$10,IF(A171=$B$11,$F$11,IF(A171=$B$12,$F$12,IF(A171=$B$13,$F$13,IF(A171=$B$14,$F$14,IF(AND('Simulador Valora'!$AE$45=2,L170=0),D170*(1+Z171),IF($AO$3=2,B171*AI171,D170*(1+Z171)))))))))","v":0},null,0,null,0,null,{"$f":"IF(B171-H171=0,0,J169)","v":0},null,null,null,{"$f":"IF(OR('Simulador Valora'!$T$65=1,'Simulador Valora'!$T$65=3),0,L171*'Simulador Valora'!$T$66*'Simulador Valora'!$U$64)","v":0},null,0,null,0,null,{"$f":"IF(B171<=0,0,IF('Simulador Valora'!$X$73=1,0,B171*'Simulador Valora'!$X$76))","v":0},null,{"$f":"IF(B171<=0,0,IF('Simulador Valora'!$V$40=1,'Simulador Valora'!$L$52,IF('Simulador Valora'!$V$40=3,'Simulador Valora'!$I$52,IF('Simulador Valora'!$V$40=4,'Simulador Valora'!$E$52))))","v":0},null,0,null,null,null,12,8,0,0,0,0,0.12,0,0,0,0,0,0,"",{"$f":"IF(AJ171<=0,0,IF('Simulador Valora'!$X$73=1,0,AJ171*'Simulador Valora'!$X$76))+IF(AJ171<=0,0,IF('Simulador Valora'!$V$40=1,'Simulador Valora'!$L$52,IF('Simulador Valora'!$V$40=3,'Simulador Valora'!$I$52,IF('Simulador Valora'!$V$40=4,'Simulador Valora'!$E$52))))","v":0},null,0,0,"",0,152]
[153,0,null,{"$f":"IF(B172+F172-D171<=0,B172+F172,IF(A172=$B$10,$F$10,IF(A172=$B$11,$F$11,IF(A172=$B$12,$F$12,IF(A172=$B$13,$F$13,IF(A172=$B$14,$F$14,IF(AND('Simulador Valora'!$AE$45=2,L171=0),D171*(1+Z172),IF($AO$3=2,B172*AI172,D171*(1+Z172)))))))))","v":0},null,0,null,0,null,null,null,null,null,{"$f":"IF(OR('Simulador Valora'!$T$65=1,'Simulador Valora'!$T$65=3),0,L172*'Simulador Valora'!$T$66*'Simulador Valora'!$U$64)","v":0},null,0,null,0,null,{"$f":"IF(B172<=0,0,IF('Simulador Valora'!$X$73=1,0,B172*'Simulador Valora'!$X$76))","v":0},null,{"$f":"IF(B172<=0,0,IF('Simulador Valora'!$V$40=1,'Simulador Valora'!$L$52,IF('Simulador Valora'!$V$40=3,'Simulador Valora'!$I$52,IF('Simulador Valora'!$V$40=4,'Simulador Valora'!$E$52))))","v":0},null,0,null,null,null,12,9,0,0,0,0,0.12,0,0,0,0,0,0,"",{"$f":"IF(AJ172<=0,0,IF('Simulador Valora'!$X$73=1,0,AJ172*'Simulador Valora'!$X$76))+IF(AJ172<=0,0,IF('Simulador Valora'!$V$40=1,'Simulador Valora'!$L$52,IF('Simulador Valora'!$V$40=3,'Simulador Valora'!$I$52,IF('Simulador Valora'!$V$40=4,'Simulador Valora'!$E$52))))","v":0},null,0,0,"",0,153]
[154,0,null,{"$f":"IF(B173+F173-D172<=0,B173+F173,IF(A173=$B$10,$F$10,IF(A173=$B$11,$F$11,IF(A173=$B$12,$F$12,IF(A173=$B$13,$F$13,IF(A173=$B$14,$F$14,IF(AND('Simulador Valora'!$AE$45=2,L172=0),D172*(1+Z173),IF($AO$3=2,B173*AI173,D172*(1+Z173)))))))))","v":0},null,0,null,0,null,{"$f":"IF(B173-H173=0,0,J171)","v":0},null,null,null,{"$f":"IF(OR('Simulador Valora'!$T$65=1,'Simulador Valora'!$T$65=3),0,L173*'Simulador Valora'!$T$66*'Simulador Valora'!$U$64)","v":0},null,0,null,0,null,{"$f":"IF(B173<=0,0,IF('Simulador Valora'!$X$73=1,0,B173*'Simulador Valora'!$X$76))","v":0},null,{"$f":"IF(B173<=0,0,IF('Simulador Valora'!$V$40=1,'Simulador Valora'!$L$52,IF('Simulador Valora'!$V$40=3,'Simulador Valora'!$I$52,IF('Simulador Valora'!$V$40=4,'Simulador Valora'!$E$52))))","v":0},null,0,null,null,null,12,10,0,0,0,0,0.12,0,0,0,0,0,0,"",{"$f":"IF(AJ173<=0,0,IF('Simulador Valora'!$X$73=1,0,AJ173*'Simulador Valora'!$X$76))+IF(AJ173<=0,0,IF('Simulador Valora'!$V$40=1,'Simulador Valora'!$L$52,IF('Simulador Valora'!$V$40=3,'Simulador Valora'!$I$52,IF('Simulador Valora'!$V$40=4,'Simulador Valora'!$E$52))))","v":0},null,0,0,"",0,154]
[155,0,null,{"$f":"IF(B174+F174-D173<=0,B174+F174,IF(A174=$B$10,$F$10,IF(A174=$B$11,$F$11,IF(A174=$B$12,$F$12,IF(A174=$B$13,$F$13,IF(A174=$B$14,$F$14,IF(AND('Simulador Valora'!$AE$45=2,L173=0),D173*(1+Z174),IF($AO$3=2,B174*AI174,D173*(1+Z174)))))))))","v":0},null,0,null,0,null,null,null,null,null,{"$f":"IF(OR('Simulador Valora'!$T$65=1,'Simulador Valora'!$T$65=3),0,L174*'Simulador Valora'!$T$66*'Simulador Valora'!$U$64)","v":0},null,0,null,0,null,{"$f":"IF(B174<=0,0,IF('Simulador Valora'!$X$73=1,0,B174*'Simulador Valora'!$X$76))","v":0},null,{"$f":"IF(B174<=0,0,IF('Simulador Valora'!$V$40=1,'Simulador Valora'!$L$52,IF('Simulador Valora'!$V$40=3,'Simulador Valora'!$I$52,IF('Simulador Valora'!$V$40=4,'Simulador Valora'!$E$52))))","v":0},null,0,null,null,null,12,11,0,0,0,0,0.12,0,0,0,0,0,0,"",{"$f":"IF(AJ174<=0,0,IF('Simulador Valora'!$X$73=1,0,AJ174*'Simulador Valora'!$X$76))+IF(AJ174<=0,0,IF('Simulador Valora'!$V$40=1,'Simulador Valora'!$L$52,IF('Simulador Valora'!$V$40=3,'Simulador Valora'!$I$52,IF('Simulador Valora'!$V$40=4,'Simulador Valora'!$E$52))))","v":0},null,0,0,"",0,155]
[156,0,null,{"$f":"IF(B175+F175-D174<=0,B175+F175,IF(A175=$B$10,$F$10,IF(A175=$B$11,$F$11,IF(A175=$B$12,$F$12,IF(A175=$B$13,$F$13,IF(A175=$B$14,$F$14,IF(AND('Simulador Valora'!$AE$45=2,L174=0),D174*(1+Z175),IF($AO$3=2,B175*AI175,D174*(1+Z175)))))))))","v":0},null,0,null,0,null,{"$f":"IF(B175-H175=0,0,J173)","v":0},null,null,null,{"$f":"IF(OR('Simulador Valora'!$T$65=1,'Simulador Valora'!$T$65=3),0,L175*'Simulador Valora'!$T$66*'Simulador Valora'!$U$64)","v":0},null,0,null,0,null,{"$f":"IF(B175<=0,0,IF('Simulador Valora'!$X$73=1,0,B175*'Simulador Valora'!$X$76))","v":0},null,{"$f":"IF(B175<=0,0,IF('Simulador Valora'!$V$40=1,'Simulador Valora'!$L$52,IF('Simulador Valora'!$V$40=3,'Simulador Valora'!$I$52,IF('Simulador Valora'!$V$40=4,'Simulador Valora'!$E$52))))","v":0},null,0,null,null,null,13,0,0,0,0,0,0.12,0,0,0,0,0,0,"",{"$f":"IF(AJ175<=0,0,IF('Simulador Valora'!$X$73=1,0,AJ175*'Simulador Valora'!$X$76))+IF(AJ175<=0,0,IF('Simulador Valora'!$V$40=1,'Simulador Valora'!$L$52,IF('Simulador Valora'!$V$40=3,'Simulador Valora'!$I$52,IF('Simulador Valora'!$V$40=4,'Simulador Valora'!$E$52))))","v":0},null,0,0,"",0,156]
[157,0,null,{"$f":"IF(B176+F176-D175<=0,B176+F176,IF(A176=$B$10,$F$10,IF(A176=$B$11,$F$11,IF(A176=$B$12,$F$12,IF(A176=$B$13,$F$13,IF(A176=$B$14,$F$14,IF(AND('Simulador Valora'!$AE$45=2,L175=0),D175*(1+Z176),IF($AO$3=2,B176*AI176,D175*(1+Z176)))))))))","v":0},null,0,null,0,null,null,null,null,null,{"$f":"IF(OR('Simulador Valora'!$T$65=1,'Simulador Valora'!$T$65=3),0,L176*'Simulador Valora'!$T$66*'Simulador Valora'!$U$64)","v":0},null,0,null,0,null,{"$f":"IF(B176<=0,0,IF('Simulador Valora'!$X$73=1,0,B176*'Simulador Valora'!$X$76))","v":0},null,{"$f":"IF(B176<=0,0,IF('Simulador Valora'!$V$40=1,'Simulador Valora'!$L$52,IF('Simulador Valora'!$V$40=3,'Simulador Valora'!$I$52,IF('Simulador Valora'!$V$40=4,'Simulador Valora'!$E$52))))","v":0},null,0,null,{"$f":"IF(B176<=0,0,'Simulador Valora'!$AF$53)","v":0},null,13,1,0,0,0,0,{"$f":"IF(AH175=$AG$4,AH175,IF(AH175-0.25%<=$AG$4,$AG$4,AH175-0.25%))","v":0.12},0,0,0,0,0,0,"",{"$f":"IF(AJ176<=0,0,IF('Simulador Valora'!$X$73=1,0,AJ176*'Simulador Valora'!$X$76))+IF(AJ176<=0,0,IF('Simulador Valora'!$V$40=1,'Simulador Valora'!$L$52,IF('Simulador Valora'!$V$40=3,'Simulador Valora'!$I$52,IF('Simulador Valora'!$V$40=4,'Simulador Valora'!$E$52))))","v":0},{"$f":"IF(AJ176<=0,0,$AQ$32)","v":0},0,0,"",0,157]
[158,0,null,{"$f":"IF(B177+F177-D176<=0,B177+F177,IF(A177=$B$10,$F$10,IF(A177=$B$11,$F$11,IF(A177=$B$12,$F$12,IF(A177=$B$13,$F$13,IF(A177=$B$14,$F$14,IF(AND('Simulador Valora'!$AE$45=2,L176=0),D176*(1+Z177),IF($AO$3=2,B177*AI177,D176*(1+Z177)))))))))","v":0},null,0,null,0,null,{"$f":"IF(B177-H177=0,0,J175*(1+(3%)))","v":0},null,null,null,{"$f":"IF(OR('Simulador Valora'!$T$65=1,'Simulador Valora'!$T$65=3),0,L177*'Simulador Valora'!$T$66*'Simulador Valora'!$U$64)","v":0},null,0,null,0,null,{"$f":"IF(B177<=0,0,IF('Simulador Valora'!$X$73=1,0,B177*'Simulador Valora'!$X$76))","v":0},null,{"$f":"IF(B177<=0,0,IF('Simulador Valora'!$V$40=1,'Simulador Valora'!$L$52,IF('Simulador Valora'!$V$40=3,'Simulador Valora'!$I$52,IF('Simulador Valora'!$V$40=4,'Simulador Valora'!$E$52))))","v":0},null,0,null,null,null,13,2,0,0,0,0,{"$f":"AH176","v":0.12},0,0,0,0,0,0,"",{"$f":"IF(AJ177<=0,0,IF('Simulador Valora'!$X$73=1,0,AJ177*'Simulador Valora'!$X$76))+IF(AJ177<=0,0,IF('Simulador Valora'!$V$40=1,'Simulador Valora'!$L$52,IF('Simulador Valora'!$V$40=3,'Simulador Valora'!$I$52,IF('Simulador Valora'!$V$40=4,'Simulador Valora'!$E$52))))","v":0},null,0,0,"",0,158]
[159,0,null,{"$f":"IF(B178+F178-D177<=0,B178+F178,IF(A178=$B$10,$F$10,IF(A178=$B$11,$F$11,IF(A178=$B$12,$F$12,IF(A178=$B$13,$F$13,IF(A178=$B$14,$F$14,IF(AND('Simulador Valora'!$AE$45=2,L177=0),D177*(1+Z178),IF($AO$3=2,B178*AI178,D177*(1+Z178)))))))))","v":0},null,0,null,0,null,null,null,null,null,{"$f":"IF(OR('Simulador Valora'!$T$65=1,'Simulador Valora'!$T$65=3),0,L178*'Simulador Valora'!$T$66*'Simulador Valora'!$U$64)","v":0},null,0,null,0,null,{"$f":"IF(B178<=0,0,IF('Simulador Valora'!$X$73=1,0,B178*'Simulador Valora'!$X$76))","v":0},null,{"$f":"IF(B178<=0,0,IF('Simulador Valora'!$V$40=1,'Simulador Valora'!$L$52,IF('Simulador Valora'!$V$40=3,'Simulador Valora'!$I$52,IF('Simulador Valora'!$V$40=4,'Simulador Valora'!$E$52))))","v":0},null,0,null,null,null,13,3,0,0,0,0,{"$f":"AH177","v":0.12},0,0,0,0,0,0,"",{"$f":"IF(AJ178<=0,0,IF('Simulador Valora'!$X$73=1,0,AJ178*'Simulador Valora'!$X$76))+IF(AJ178<=0,0,IF('Simulador Valora'!$V$40=1,'Simulador Valora'!$L$52,IF('Simulador Valora'!$V$40=3,'Simulador Valora'!$I$52,IF('Simulador Valora'!$V$40=4,'Simulador Valora'!$E$52))))","v":0},null,0,0,"",0,159]
[160,0,null,{"$f":"IF(B179+F179-D178<=0,B179+F179,IF(A179=$B$10,$F$10,IF(A179=$B$11,$F$11,IF(A179=$B$12,$F$12,IF(A179=$B$13,$F$13,IF(A179=$B$14,$F$14,IF(AND('Simulador Valora'!$AE$45=2,L178=0),D178*(1+Z179),IF($AO$3=2,B179*AI179,D178*(1+Z179)))))))))","v":0},null,0,null,0,null,{"$f":"IF(B179-H179=0,0,J177)","v":0},null,null,null,{"$f":"IF(OR('Simulador Valora'!$T$65=1,'Simulador Valora'!$T$65=3),0,L179*'Simulador Valora'!$T$66*'Simulador Valora'!$U$64)","v":0},null,0,null,0,null,{"$f":"IF(B179<=0,0,IF('Simulador Valora'!$X$73=1,0,B179*'Simulador Valora'!$X$76))","v":0},null,{"$f":"IF(B179<=0,0,IF('Simulador Valora'!$V$40=1,'Simulador Valora'!$L$52,IF('Simulador Valora'!$V$40=3,'Simulador Valora'!$I$52,IF('Simulador Valora'!$V$40=4,'Simulador Valora'!$E$52))))","v":0},null,0,null,null,null,13,4,0,0,0,0,0.12,0,0,0,0,0,0,"",{"$f":"IF(AJ179<=0,0,IF('Simulador Valora'!$X$73=1,0,AJ179*'Simulador Valora'!$X$76))+IF(AJ179<=0,0,IF('Simulador Valora'!$V$40=1,'Simulador Valora'!$L$52,IF('Simulador Valora'!$V$40=3,'Simulador Valora'!$I$52,IF('Simulador Valora'!$V$40=4,'Simulador Valora'!$E$52))))","v":0},null,0,0,"",0,160]
[161,0,null,{"$f":"IF(B180+F180-D179<=0,B180+F180,IF(A180=$B$10,$F$10,IF(A180=$B$11,$F$11,IF(A180=$B$12,$F$12,IF(A180=$B$13,$F$13,IF(A180=$B$14,$F$14,IF(AND('Simulador Valora'!$AE$45=2,L179=0),D179*(1+Z180),IF($AO$3=2,B180*AI180,D179*(1+Z180)))))))))","v":0},null,0,null,0,null,null,null,null,null,{"$f":"IF(OR('Simulador Valora'!$T$65=1,'Simulador Valora'!$T$65=3),0,L180*'Simulador Valora'!$T$66*'Simulador Valora'!$U$64)","v":0},null,0,null,0,null,{"$f":"IF(B180<=0,0,IF('Simulador Valora'!$X$73=1,0,B180*'Simulador Valora'!$X$76))","v":0},null,{"$f":"IF(B180<=0,0,IF('Simulador Valora'!$V$40=1,'Simulador Valora'!$L$52,IF('Simulador Valora'!$V$40=3,'Simulador Valora'!$I$52,IF('Simulador Valora'!$V$40=4,'Simulador Valora'!$E$52))))","v":0},null,0,null,null,null,13,5,0,0,0,0,0.12,0,0,0,0,0,0,"",{"$f":"IF(AJ180<=0,0,IF('Simulador Valora'!$X$73=1,0,AJ180*'Simulador Valora'!$X$76))+IF(AJ180<=0,0,IF('Simulador Valora'!$V$40=1,'Simulador Valora'!$L$52,IF('Simulador Valora'!$V$40=3,'Simulador Valora'!$I$52,IF('Simulador Valora'!$V$40=4,'Simulador Valora'!$E$52))))","v":0},null,0,0,"",0,161]
[162,0,null,{"$f":"IF(B181+F181-D180<=0,B181+F181,IF(A181=$B$10,$F$10,IF(A181=$B$11,$F$11,IF(A181=$B$12,$F$12,IF(A181=$B$13,$F$13,IF(A181=$B$14,$F$14,IF(AND('Simulador Valora'!$AE$45=2,L180=0),D180*(1+Z181),IF($AO$3=2,B181*AI181,D180*(1+Z181)))))))))","v":0},null,0,null,0,null,{"$f":"IF(B181-H181=0,0,J179)","v":0},null,null,null,{"$f":"IF(OR('Simulador Valora'!$T$65=1,'Simulador Valora'!$T$65=3),0,L181*'Simulador Valora'!$T$66*'Simulador Valora'!$U$64)","v":0},null,0,null,0,null,{"$f":"IF(B181<=0,0,IF('Simulador Valora'!$X$73=1,0,B181*'Simulador Valora'!$X$76))","v":0},null,{"$f":"IF(B181<=0,0,IF('Simulador Valora'!$V$40=1,'Simulador Valora'!$L$52,IF('Simulador Valora'!$V$40=3,'Simulador Valora'!$I$52,IF('Simulador Valora'!$V$40=4,'Simulador Valora'!$E$52))))","v":0},null,0,null,null,null,13,6,0,0,0,0,0.12,0,0,0,0,0,0,"",{"$f":"IF(AJ181<=0,0,IF('Simulador Valora'!$X$73=1,0,AJ181*'Simulador Valora'!$X$76))+IF(AJ181<=0,0,IF('Simulador Valora'!$V$40=1,'Simulador Valora'!$L$52,IF('Simulador Valora'!$V$40=3,'Simulador Valora'!$I$52,IF('Simulador Valora'!$V$40=4,'Simulador Valora'!$E$52))))","v":0},null,0,0,"",0,162]
[163,0,null,{"$f":"IF(B182+F182-D181<=0,B182+F182,IF(A182=$B$10,$F$10,IF(A182=$B$11,$F$11,IF(A182=$B$12,$F$12,IF(A182=$B$13,$F$13,IF(A182=$B$14,$F$14,IF(AND('Simulador Valora'!$AE$45=2,L181=0),D181*(1+Z182),IF($AO$3=2,B182*AI182,D181*(1+Z182)))))))))","v":0},null,0,null,0,null,null,null,null,null,{"$f":"IF(OR('Simulador Valora'!$T$65=1,'Simulador Valora'!$T$65=3),0,L182*'Simulador Valora'!$T$66*'Simulador Valora'!$U$64)","v":0},null,0,null,0,null,{"$f":"IF(B182<=0,0,IF('Simulador Valora'!$X$73=1,0,B182*'Simulador Valora'!$X$76))","v":0},null,{"$f":"IF(B182<=0,0,IF('Simulador Valora'!$V$40=1,'Simulador Valora'!$L$52,IF('Simulador Valora'!$V$40=3,'Simulador Valora'!$I$52,IF('Simulador Valora'!$V$40=4,'Simulador Valora'!$E$52))))","v":0},null,0,null,null,null,13,7,0,0,0,0,0.12,0,0,0,0,0,0,"",{"$f":"IF(AJ182<=0,0,IF('Simulador Valora'!$X$73=1,0,AJ182*'Simulador Valora'!$X$76))+IF(AJ182<=0,0,IF('Simulador Valora'!$V$40=1,'Simulador Valora'!$L$52,IF('Simulador Valora'!$V$40=3,'Simulador Valora'!$I$52,IF('Simulador Valora'!$V$40=4,'Simulador Valora'!$E$52))))","v":0},null,0,0,"",0,163]
[164,0,null,{"$f":"IF(B183+F183-D182<=0,B183+F183,IF(A183=$B$10,$F$10,IF(A183=$B$11,$F$11,IF(A183=$B$12,$F$12,IF(A183=$B$13,$F$13,IF(A183=$B$14,$F$14,IF(AND('Simulador Valora'!$AE$45=2,L182=0),D182*(1+Z183),IF($AO$3=2,B183*AI183,D182*(1+Z183)))))))))","v":0},null,0,null,0,null,{"$f":"IF(B183-H183=0,0,J181)","v":0},null,null,null,{"$f":"IF(OR('Simulador Valora'!$T$65=1,'Simulador Valora'!$T$65=3),0,L183*'Simulador Valora'!$T$66*'Simulador Valora'!$U$64)","v":0},null,0,null,0,null,{"$f":"IF(B183<=0,0,IF('Simulador Valora'!$X$73=1,0,B183*'Simulador Valora'!$X$76))","v":0},null,{"$f":"IF(B183<=0,0,IF('Simulador Valora'!$V$40=1,'Simulador Valora'!$L$52,IF('Simulador Valora'!$V$40=3,'Simulador Valora'!$I$52,IF('Simulador Valora'!$V$40=4,'Simulador Valora'!$E$52))))","v":0},null,0,null,null,null,13,8,0,0,0,0,0.12,0,0,0,0,0,0,"",{"$f":"IF(AJ183<=0,0,IF('Simulador Valora'!$X$73=1,0,AJ183*'Simulador Valora'!$X$76))+IF(AJ183<=0,0,IF('Simulador Valora'!$V$40=1,'Simulador Valora'!$L$52,IF('Simulador Valora'!$V$40=3,'Simulador Valora'!$I$52,IF('Simulador Valora'!$V$40=4,'Simulador Valora'!$E$52))))","v":0},null,0,0,"",0,164]
[165,0,null,{"$f":"IF(B184+F184-D183<=0,B184+F184,IF(A184=$B$10,$F$10,IF(A184=$B$11,$F$11,IF(A184=$B$12,$F$12,IF(A184=$B$13,$F$13,IF(A184=$B$14,$F$14,IF(AND('Simulador Valora'!$AE$45=2,L183=0),D183*(1+Z184),IF($AO$3=2,B184*AI184,D183*(1+Z184)))))))))","v":0},null,0,null,0,null,null,null,null,null,{"$f":"IF(OR('Simulador Valora'!$T$65=1,'Simulador Valora'!$T$65=3),0,L184*'Simulador Valora'!$T$66*'Simulador Valora'!$U$64)","v":0},null,0,null,0,null,{"$f":"IF(B184<=0,0,IF('Simulador Valora'!$X$73=1,0,B184*'Simulador Valora'!$X$76))","v":0},null,{"$f":"IF(B184<=0,0,IF('Simulador Valora'!$V$40=1,'Simulador Valora'!$L$52,IF('Simulador Valora'!$V$40=3,'Simulador Valora'!$I$52,IF('Simulador Valora'!$V$40=4,'Simulador Valora'!$E$52))))","v":0},null,0,null,null,null,13,9,0,0,0,0,0.12,0,0,0,0,0,0,"",{"$f":"IF(AJ184<=0,0,IF('Simulador Valora'!$X$73=1,0,AJ184*'Simulador Valora'!$X$76))+IF(AJ184<=0,0,IF('Simulador Valora'!$V$40=1,'Simulador Valora'!$L$52,IF('Simulador Valora'!$V$40=3,'Simulador Valora'!$I$52,IF('Simulador Valora'!$V$40=4,'Simulador Valora'!$E$52))))","v":0},null,0,0,"",0,165]
[166,0,null,{"$f":"IF(B185+F185-D184<=0,B185+F185,IF(A185=$B$10,$F$10,IF(A185=$B$11,$F$11,IF(A185=$B$12,$F$12,IF(A185=$B$13,$F$13,IF(A185=$B$14,$F$14,IF(AND('Simulador Valora'!$AE$45=2,L184=0),D184*(1+Z185),IF($AO$3=2,B185*AI185,D184*(1+Z185)))))))))","v":0},null,0,null,0,null,{"$f":"IF(B185-H185=0,0,J183)","v":0},null,null,null,{"$f":"IF(OR('Simulador Valora'!$T$65=1,'Simulador Valora'!$T$65=3),0,L185*'Simulador Valora'!$T$66*'Simulador Valora'!$U$64)","v":0},null,0,null,0,null,{"$f":"IF(B185<=0,0,IF('Simulador Valora'!$X$73=1,0,B185*'Simulador Valora'!$X$76))","v":0},null,{"$f":"IF(B185<=0,0,IF('Simulador Valora'!$V$40=1,'Simulador Valora'!$L$52,IF('Simulador Valora'!$V$40=3,'Simulador Valora'!$I$52,IF('Simulador Valora'!$V$40=4,'Simulador Valora'!$E$52))))","v":0},null,0,null,null,null,13,10,0,0,0,0,0.12,0,0,0,0,0,0,"",{"$f":"IF(AJ185<=0,0,IF('Simulador Valora'!$X$73=1,0,AJ185*'Simulador Valora'!$X$76))+IF(AJ185<=0,0,IF('Simulador Valora'!$V$40=1,'Simulador Valora'!$L$52,IF('Simulador Valora'!$V$40=3,'Simulador Valora'!$I$52,IF('Simulador Valora'!$V$40=4,'Simulador Valora'!$E$52))))","v":0},null,0,0,"",0,166]
[167,0,null,{"$f":"IF(B186+F186-D185<=0,B186+F186,IF(A186=$B$10,$F$10,IF(A186=$B$11,$F$11,IF(A186=$B$12,$F$12,IF(A186=$B$13,$F$13,IF(A186=$B$14,$F$14,IF(AND('Simulador Valora'!$AE$45=2,L185=0),D185*(1+Z186),IF($AO$3=2,B186*AI186,D185*(1+Z186)))))))))","v":0},null,0,null,0,null,null,null,null,null,{"$f":"IF(OR('Simulador Valora'!$T$65=1,'Simulador Valora'!$T$65=3),0,L186*'Simulador Valora'!$T$66*'Simulador Valora'!$U$64)","v":0},null,0,null,0,null,{"$f":"IF(B186<=0,0,IF('Simulador Valora'!$X$73=1,0,B186*'Simulador Valora'!$X$76))","v":0},null,{"$f":"IF(B186<=0,0,IF('Simulador Valora'!$V$40=1,'Simulador Valora'!$L$52,IF('Simulador Valora'!$V$40=3,'Simulador Valora'!$I$52,IF('Simulador Valora'!$V$40=4,'Simulador Valora'!$E$52))))","v":0},null,0,null,null,null,13,11,0,0,0,0,0.12,0,0,0,0,0,0,"",{"$f":"IF(AJ186<=0,0,IF('Simulador Valora'!$X$73=1,0,AJ186*'Simulador Valora'!$X$76))+IF(AJ186<=0,0,IF('Simulador Valora'!$V$40=1,'Simulador Valora'!$L$52,IF('Simulador Valora'!$V$40=3,'Simulador Valora'!$I$52,IF('Simulador Valora'!$V$40=4,'Simulador Valora'!$E$52))))","v":0},null,0,0,"",0,167]
[168,0,null,{"$f":"IF(B187+F187-D186<=0,B187+F187,IF(A187=$B$10,$F$10,IF(A187=$B$11,$F$11,IF(A187=$B$12,$F$12,IF(A187=$B$13,$F$13,IF(A187=$B$14,$F$14,IF(AND('Simulador Valora'!$AE$45=2,L186=0),D186*(1+Z187),IF($AO$3=2,B187*AI187,D186*(1+Z187)))))))))","v":0},null,0,null,0,null,{"$f":"IF(B187-H187=0,0,J185)","v":0},null,null,null,{"$f":"IF(OR('Simulador Valora'!$T$65=1,'Simulador Valora'!$T$65=3),0,L187*'Simulador Valora'!$T$66*'Simulador Valora'!$U$64)","v":0},null,0,null,0,null,{"$f":"IF(B187<=0,0,IF('Simulador Valora'!$X$73=1,0,B187*'Simulador Valora'!$X$76))","v":0},null,{"$f":"IF(B187<=0,0,IF('Simulador Valora'!$V$40=1,'Simulador Valora'!$L$52,IF('Simulador Valora'!$V$40=3,'Simulador Valora'!$I$52,IF('Simulador Valora'!$V$40=4,'Simulador Valora'!$E$52))))","v":0},null,0,null,null,null,14,0,0,0,0,0,0.12,0,0,0,0,0,0,"",{"$f":"IF(AJ187<=0,0,IF('Simulador Valora'!$X$73=1,0,AJ187*'Simulador Valora'!$X$76))+IF(AJ187<=0,0,IF('Simulador Valora'!$V$40=1,'Simulador Valora'!$L$52,IF('Simulador Valora'!$V$40=3,'Simulador Valora'!$I$52,IF('Simulador Valora'!$V$40=4,'Simulador Valora'!$E$52))))","v":0},null,0,0,"",0,168]
[169,0,null,{"$f":"IF(B188+F188-D187<=0,B188+F188,IF(A188=$B$10,$F$10,IF(A188=$B$11,$F$11,IF(A188=$B$12,$F$12,IF(A188=$B$13,$F$13,IF(A188=$B$14,$F$14,IF(AND('Simulador Valora'!$AE$45=2,L187=0),D187*(1+Z188),IF($AO$3=2,B188*AI188,D187*(1+Z188)))))))))","v":0},null,0,null,0,null,null,null,null,null,{"$f":"IF(OR('Simulador Valora'!$T$65=1,'Simulador Valora'!$T$65=3),0,L188*'Simulador Valora'!$T$66*'Simulador Valora'!$U$64)","v":0},null,0,null,0,null,{"$f":"IF(B188<=0,0,IF('Simulador Valora'!$X$73=1,0,B188*'Simulador Valora'!$X$76))","v":0},null,{"$f":"IF(B188<=0,0,IF('Simulador Valora'!$V$40=1,'Simulador Valora'!$L$52,IF('Simulador Valora'!$V$40=3,'Simulador Valora'!$I$52,IF('Simulador Valora'!$V$40=4,'Simulador Valora'!$E$52))))","v":0},null,0,null,{"$f":"IF(B188<=0,0,'Simulador Valora'!$AF$53)","v":0},null,14,1,0,0,0,0,{"$f":"IF(AH187=$AG$4,AH187,IF(AH187-0.25%<=$AG$4,$AG$4,AH187-0.25%))","v":0.12},0,0,0,0,0,0,"",{"$f":"IF(AJ188<=0,0,IF('Simulador Valora'!$X$73=1,0,AJ188*'Simulador Valora'!$X$76))+IF(AJ188<=0,0,IF('Simulador Valora'!$V$40=1,'Simulador Valora'!$L$52,IF('Simulador Valora'!$V$40=3,'Simulador Valora'!$I$52,IF('Simulador Valora'!$V$40=4,'Simulador Valora'!$E$52))))","v":0},{"$f":"IF(AJ188<=0,0,$AQ$32)","v":0},0,0,"",0,169]
[170,0,null,{"$f":"IF(B189+F189-D188<=0,B189+F189,IF(A189=$B$10,$F$10,IF(A189=$B$11,$F$11,IF(A189=$B$12,$F$12,IF(A189=$B$13,$F$13,IF(A189=$B$14,$F$14,IF(AND('Simulador Valora'!$AE$45=2,L188=0),D188*(1+Z189),IF($AO$3=2,B189*AI189,D188*(1+Z189)))))))))","v":0},null,0,null,0,null,{"$f":"IF(B189-H189=0,0,J187*(1+(3%)))","v":0},null,null,null,{"$f":"IF(OR('Simulador Valora'!$T$65=1,'Simulador Valora'!$T$65=3),0,L189*'Simulador Valora'!$T$66*'Simulador Valora'!$U$64)","v":0},null,0,null,0,null,{"$f":"IF(B189<=0,0,IF('Simulador Valora'!$X$73=1,0,B189*'Simulador Valora'!$X$76))","v":0},null,{"$f":"IF(B189<=0,0,IF('Simulador Valora'!$V$40=1,'Simulador Valora'!$L$52,IF('Simulador Valora'!$V$40=3,'Simulador Valora'!$I$52,IF('Simulador Valora'!$V$40=4,'Simulador Valora'!$E$52))))","v":0},null,0,null,null,null,14,2,0,0,0,0,{"$f":"AH188","v":0.12},0,0,0,0,0,0,"",{"$f":"IF(AJ189<=0,0,IF('Simulador Valora'!$X$73=1,0,AJ189*'Simulador Valora'!$X$76))+IF(AJ189<=0,0,IF('Simulador Valora'!$V$40=1,'Simulador Valora'!$L$52,IF('Simulador Valora'!$V$40=3,'Simulador Valora'!$I$52,IF('Simulador Valora'!$V$40=4,'Simulador Valora'!$E$52))))","v":0},null,0,0,"",0,170]
[171,0,null,{"$f":"IF(B190+F190-D189<=0,B190+F190,IF(A190=$B$10,$F$10,IF(A190=$B$11,$F$11,IF(A190=$B$12,$F$12,IF(A190=$B$13,$F$13,IF(A190=$B$14,$F$14,IF(AND('Simulador Valora'!$AE$45=2,L189=0),D189*(1+Z190),IF($AO$3=2,B190*AI190,D189*(1+Z190)))))))))","v":0},null,0,null,0,null,null,null,null,null,{"$f":"IF(OR('Simulador Valora'!$T$65=1,'Simulador Valora'!$T$65=3),0,L190*'Simulador Valora'!$T$66*'Simulador Valora'!$U$64)","v":0},null,0,null,0,null,{"$f":"IF(B190<=0,0,IF('Simulador Valora'!$X$73=1,0,B190*'Simulador Valora'!$X$76))","v":0},null,{"$f":"IF(B190<=0,0,IF('Simulador Valora'!$V$40=1,'Simulador Valora'!$L$52,IF('Simulador Valora'!$V$40=3,'Simulador Valora'!$I$52,IF('Simulador Valora'!$V$40=4,'Simulador Valora'!$E$52))))","v":0},null,0,null,null,null,14,3,0,0,0,0,{"$f":"AH189","v":0.12},0,0,0,0,0,0,"",{"$f":"IF(AJ190<=0,0,IF('Simulador Valora'!$X$73=1,0,AJ190*'Simulador Valora'!$X$76))+IF(AJ190<=0,0,IF('Simulador Valora'!$V$40=1,'Simulador Valora'!$L$52,IF('Simulador Valora'!$V$40=3,'Simulador Valora'!$I$52,IF('Simulador Valora'!$V$40=4,'Simulador Valora'!$E$52))))","v":0},null,0,0,"",0,171]
[172,0,null,{"$f":"IF(B191+F191-D190<=0,B191+F191,IF(A191=$B$10,$F$10,IF(A191=$B$11,$F$11,IF(A191=$B$12,$F$12,IF(A191=$B$13,$F$13,IF(A191=$B$14,$F$14,IF(AND('Simulador Valora'!$AE$45=2,L190=0),D190*(1+Z191),IF($AO$3=2,B191*AI191,D190*(1+Z191)))))))))","v":0},null,0,null,0,null,{"$f":"IF(B191-H191=0,0,J189)","v":0},null,null,null,{"$f":"IF(OR('Simulador Valora'!$T$65=1,'Simulador Valora'!$T$65=3),0,L191*'Simulador Valora'!$T$66*'Simulador Valora'!$U$64)","v":0},null,0,null,0,null,{"$f":"IF(B191<=0,0,IF('Simulador Valora'!$X$73=1,0,B191*'Simulador Valora'!$X$76))","v":0},null,{"$f":"IF(B191<=0,0,IF('Simulador Valora'!$V$40=1,'Simulador Valora'!$L$52,IF('Simulador Valora'!$V$40=3,'Simulador Valora'!$I$52,IF('Simulador Valora'!$V$40=4,'Simulador Valora'!$E$52))))","v":0},null,0,null,null,null,14,4,0,0,0,0,0.12,0,0,0,0,0,0,"",{"$f":"IF(AJ191<=0,0,IF('Simulador Valora'!$X$73=1,0,AJ191*'Simulador Valora'!$X$76))+IF(AJ191<=0,0,IF('Simulador Valora'!$V$40=1,'Simulador Valora'!$L$52,IF('Simulador Valora'!$V$40=3,'Simulador Valora'!$I$52,IF('Simulador Valora'!$V$40=4,'Simulador Valora'!$E$52))))","v":0},null,0,0,"",0,172]
[173,0,null,{"$f":"IF(B192+F192-D191<=0,B192+F192,IF(A192=$B$10,$F$10,IF(A192=$B$11,$F$11,IF(A192=$B$12,$F$12,IF(A192=$B$13,$F$13,IF(A192=$B$14,$F$14,IF(AND('Simulador Valora'!$AE$45=2,L191=0),D191*(1+Z192),IF($AO$3=2,B192*AI192,D191*(1+Z192)))))))))","v":0},null,0,null,0,null,null,null,null,null,{"$f":"IF(OR('Simulador Valora'!$T$65=1,'Simulador Valora'!$T$65=3),0,L192*'Simulador Valora'!$T$66*'Simulador Valora'!$U$64)","v":0},null,0,null,0,null,{"$f":"IF(B192<=0,0,IF('Simulador Valora'!$X$73=1,0,B192*'Simulador Valora'!$X$76))","v":0},null,{"$f":"IF(B192<=0,0,IF('Simulador Valora'!$V$40=1,'Simulador Valora'!$L$52,IF('Simulador Valora'!$V$40=3,'Simulador Valora'!$I$52,IF('Simulador Valora'!$V$40=4,'Simulador Valora'!$E$52))))","v":0},null,0,null,null,null,14,5,0,0,0,0,0.12,0,0,0,0,0,0,"",{"$f":"IF(AJ192<=0,0,IF('Simulador Valora'!$X$73=1,0,AJ192*'Simulador Valora'!$X$76))+IF(AJ192<=0,0,IF('Simulador Valora'!$V$40=1,'Simulador Valora'!$L$52,IF('Simulador Valora'!$V$40=3,'Simulador Valora'!$I$52,IF('Simulador Valora'!$V$40=4,'Simulador Valora'!$E$52))))","v":0},null,0,0,"",0,173]
[174,0,null,{"$f":"IF(B193+F193-D192<=0,B193+F193,IF(A193=$B$10,$F$10,IF(A193=$B$11,$F$11,IF(A193=$B$12,$F$12,IF(A193=$B$13,$F$13,IF(A193=$B$14,$F$14,IF(AND('Simulador Valora'!$AE$45=2,L192=0),D192*(1+Z193),IF($AO$3=2,B193*AI193,D192*(1+Z193)))))))))","v":0},null,0,null,0,null,{"$f":"IF(B193-H193=0,0,J191)","v":0},null,null,null,{"$f":"IF(OR('Simulador Valora'!$T$65=1,'Simulador Valora'!$T$65=3),0,L193*'Simulador Valora'!$T$66*'Simulador Valora'!$U$64)","v":0},null,0,null,0,null,{"$f":"IF(B193<=0,0,IF('Simulador Valora'!$X$73=1,0,B193*'Simulador Valora'!$X$76))","v":0},null,{"$f":"IF(B193<=0,0,IF('Simulador Valora'!$V$40=1,'Simulador Valora'!$L$52,IF('Simulador Valora'!$V$40=3,'Simulador Valora'!$I$52,IF('Simulador Valora'!$V$40=4,'Simulador Valora'!$E$52))))","v":0},null,0,null,null,null,14,6,0,0,0,0,0.12,0,0,0,0,0,0,"",{"$f":"IF(AJ193<=0,0,IF('Simulador Valora'!$X$73=1,0,AJ193*'Simulador Valora'!$X$76))+IF(AJ193<=0,0,IF('Simulador Valora'!$V$40=1,'Simulador Valora'!$L$52,IF('Simulador Valora'!$V$40=3,'Simulador Valora'!$I$52,IF('Simulador Valora'!$V$40=4,'Simulador Valora'!$E$52))))","v":0},null,0,0,"",0,174]
[175,0,null,{"$f":"IF(B194+F194-D193<=0,B194+F194,IF(A194=$B$10,$F$10,IF(A194=$B$11,$F$11,IF(A194=$B$12,$F$12,IF(A194=$B$13,$F$13,IF(A194=$B$14,$F$14,IF(AND('Simulador Valora'!$AE$45=2,L193=0),D193*(1+Z194),IF($AO$3=2,B194*AI194,D193*(1+Z194)))))))))","v":0},null,0,null,0,null,null,null,null,null,{"$f":"IF(OR('Simulador Valora'!$T$65=1,'Simulador Valora'!$T$65=3),0,L194*'Simulador Valora'!$T$66*'Simulador Valora'!$U$64)","v":0},null,0,null,0,null,{"$f":"IF(B194<=0,0,IF('Simulador Valora'!$X$73=1,0,B194*'Simulador Valora'!$X$76))","v":0},null,{"$f":"IF(B194<=0,0,IF('Simulador Valora'!$V$40=1,'Simulador Valora'!$L$52,IF('Simulador Valora'!$V$40=3,'Simulador Valora'!$I$52,IF('Simulador Valora'!$V$40=4,'Simulador Valora'!$E$52))))","v":0},null,0,null,null,null,14,7,0,0,0,0,0.12,0,0,0,0,0,0,"",{"$f":"IF(AJ194<=0,0,IF('Simulador Valora'!$X$73=1,0,AJ194*'Simulador Valora'!$X$76))+IF(AJ194<=0,0,IF('Simulador Valora'!$V$40=1,'Simulador Valora'!$L$52,IF('Simulador Valora'!$V$40=3,'Simulador Valora'!$I$52,IF('Simulador Valora'!$V$40=4,'Simulador Valora'!$E$52))))","v":0},null,0,0,"",0,175]
[176,0,null,{"$f":"IF(B195+F195-D194<=0,B195+F195,IF(A195=$B$10,$F$10,IF(A195=$B$11,$F$11,IF(A195=$B$12,$F$12,IF(A195=$B$13,$F$13,IF(A195=$B$14,$F$14,IF(AND('Simulador Valora'!$AE$45=2,L194=0),D194*(1+Z195),IF($AO$3=2,B195*AI195,D194*(1+Z195)))))))))","v":0},null,0,null,0,null,{"$f":"IF(B195-H195=0,0,J193)","v":0},null,null,null,{"$f":"IF(OR('Simulador Valora'!$T$65=1,'Simulador Valora'!$T$65=3),0,L195*'Simulador Valora'!$T$66*'Simulador Valora'!$U$64)","v":0},null,0,null,0,null,{"$f":"IF(B195<=0,0,IF('Simulador Valora'!$X$73=1,0,B195*'Simulador Valora'!$X$76))","v":0},null,{"$f":"IF(B195<=0,0,IF('Simulador Valora'!$V$40=1,'Simulador Valora'!$L$52,IF('Simulador Valora'!$V$40=3,'Simulador Valora'!$I$52,IF('Simulador Valora'!$V$40=4,'Simulador Valora'!$E$52))))","v":0},null,0,null,null,null,14,8,0,0,0,0,0.12,0,0,0,0,0,0,"",{"$f":"IF(AJ195<=0,0,IF('Simulador Valora'!$X$73=1,0,AJ195*'Simulador Valora'!$X$76))+IF(AJ195<=0,0,IF('Simulador Valora'!$V$40=1,'Simulador Valora'!$L$52,IF('Simulador Valora'!$V$40=3,'Simulador Valora'!$I$52,IF('Simulador Valora'!$V$40=4,'Simulador Valora'!$E$52))))","v":0},null,0,0,"",0,176]
[177,0,null,{"$f":"IF(B196+F196-D195<=0,B196+F196,IF(A196=$B$10,$F$10,IF(A196=$B$11,$F$11,IF(A196=$B$12,$F$12,IF(A196=$B$13,$F$13,IF(A196=$B$14,$F$14,IF(AND('Simulador Valora'!$AE$45=2,L195=0),D195*(1+Z196),IF($AO$3=2,B196*AI196,D195*(1+Z196)))))))))","v":0},null,0,null,0,null,null,null,null,null,{"$f":"IF(OR('Simulador Valora'!$T$65=1,'Simulador Valora'!$T$65=3),0,L196*'Simulador Valora'!$T$66*'Simulador Valora'!$U$64)","v":0},null,0,null,0,null,{"$f":"IF(B196<=0,0,IF('Simulador Valora'!$X$73=1,0,B196*'Simulador Valora'!$X$76))","v":0},null,{"$f":"IF(B196<=0,0,IF('Simulador Valora'!$V$40=1,'Simulador Valora'!$L$52,IF('Simulador Valora'!$V$40=3,'Simulador Valora'!$I$52,IF('Simulador Valora'!$V$40=4,'Simulador Valora'!$E$52))))","v":0},null,0,null,null,null,14,9,0,0,0,0,0.12,0,0,0,0,0,0,"",{"$f":"IF(AJ196<=0,0,IF('Simulador Valora'!$X$73=1,0,AJ196*'Simulador Valora'!$X$76))+IF(AJ196<=0,0,IF('Simulador Valora'!$V$40=1,'Simulador Valora'!$L$52,IF('Simulador Valora'!$V$40=3,'Simulador Valora'!$I$52,IF('Simulador Valora'!$V$40=4,'Simulador Valora'!$E$52))))","v":0},null,0,0,"",0,177]
[178,0,null,{"$f":"IF(B197+F197-D196<=0,B197+F197,IF(A197=$B$10,$F$10,IF(A197=$B$11,$F$11,IF(A197=$B$12,$F$12,IF(A197=$B$13,$F$13,IF(A197=$B$14,$F$14,IF(AND('Simulador Valora'!$AE$45=2,L196=0),D196*(1+Z197),IF($AO$3=2,B197*AI197,D196*(1+Z197)))))))))","v":0},null,0,null,0,null,{"$f":"IF(B197-H197=0,0,J195)","v":0},null,null,null,{"$f":"IF(OR('Simulador Valora'!$T$65=1,'Simulador Valora'!$T$65=3),0,L197*'Simulador Valora'!$T$66*'Simulador Valora'!$U$64)","v":0},null,0,null,0,null,{"$f":"IF(B197<=0,0,IF('Simulador Valora'!$X$73=1,0,B197*'Simulador Valora'!$X$76))","v":0},null,{"$f":"IF(B197<=0,0,IF('Simulador Valora'!$V$40=1,'Simulador Valora'!$L$52,IF('Simulador Valora'!$V$40=3,'Simulador Valora'!$I$52,IF('Simulador Valora'!$V$40=4,'Simulador Valora'!$E$52))))","v":0},null,0,null,null,null,14,10,0,0,0,0,0.12,0,0,0,0,0,0,"",{"$f":"IF(AJ197<=0,0,IF('Simulador Valora'!$X$73=1,0,AJ197*'Simulador Valora'!$X$76))+IF(AJ197<=0,0,IF('Simulador Valora'!$V$40=1,'Simulador Valora'!$L$52,IF('Simulador Valora'!$V$40=3,'Simulador Valora'!$I$52,IF('Simulador Valora'!$V$40=4,'Simulador Valora'!$E$52))))","v":0},null,0,0,"",0,178]
[179,0,null,{"$f":"IF(B198+F198-D197<=0,B198+F198,IF(A198=$B$10,$F$10,IF(A198=$B$11,$F$11,IF(A198=$B$12,$F$12,IF(A198=$B$13,$F$13,IF(A198=$B$14,$F$14,IF(AND('Simulador Valora'!$AE$45=2,L197=0),D197*(1+Z198),IF($AO$3=2,B198*AI198,D197*(1+Z198)))))))))","v":0},null,0,null,0,null,null,null,null,null,{"$f":"IF(OR('Simulador Valora'!$T$65=1,'Simulador Valora'!$T$65=3),0,L198*'Simulador Valora'!$T$66*'Simulador Valora'!$U$64)","v":0},null,0,null,0,null,{"$f":"IF(B198<=0,0,IF('Simulador Valora'!$X$73=1,0,B198*'Simulador Valora'!$X$76))","v":0},null,{"$f":"IF(B198<=0,0,IF('Simulador Valora'!$V$40=1,'Simulador Valora'!$L$52,IF('Simulador Valora'!$V$40=3,'Simulador Valora'!$I$52,IF('Simulador Valora'!$V$40=4,'Simulador Valora'!$E$52))))","v":0},null,0,null,null,null,14,11,0,0,0,0,0.12,0,0,0,0,0,0,"",{"$f":"IF(AJ198<=0,0,IF('Simulador Valora'!$X$73=1,0,AJ198*'Simulador Valora'!$X$76))+IF(AJ198<=0,0,IF('Simulador Valora'!$V$40=1,'Simulador Valora'!$L$52,IF('Simulador Valora'!$V$40=3,'Simulador Valora'!$I$52,IF('Simulador Valora'!$V$40=4,'Simulador Valora'!$E$52))))","v":0},null,0,0,"",0,179]
[180,0,null,{"$f":"IF(B199+F199-D198<=0,B199+F199,IF(A199=$B$10,$F$10,IF(A199=$B$11,$F$11,IF(A199=$B$12,$F$12,IF(A199=$B$13,$F$13,IF(A199=$B$14,$F$14,IF(AND('Simulador Valora'!$AE$45=2,L198=0),D198*(1+Z199),IF($AO$3=2,B199*AI199,D198*(1+Z199)))))))))","v":0},null,0,null,0,null,{"$f":"IF(B199-H199=0,0,J197)","v":0},null,null,null,{"$f":"IF(OR('Simulador Valora'!$T$65=1,'Simulador Valora'!$T$65=3),0,L199*'Simulador Valora'!$T$66*'Simulador Valora'!$U$64)","v":0},null,0,null,0,null,{"$f":"IF(B199<=0,0,IF('Simulador Valora'!$X$73=1,0,B199*'Simulador Valora'!$X$76))","v":0},null,{"$f":"IF(B199<=0,0,IF('Simulador Valora'!$V$40=1,'Simulador Valora'!$L$52,IF('Simulador Valora'!$V$40=3,'Simulador Valora'!$I$52,IF('Simulador Valora'!$V$40=4,'Simulador Valora'!$E$52))))","v":0},null,0,null,null,null,15,0,0,0,0,0,0.12,0,0,0,0,0,0,"",{"$f":"IF(AJ199<=0,0,IF('Simulador Valora'!$X$73=1,0,AJ199*'Simulador Valora'!$X$76))+IF(AJ199<=0,0,IF('Simulador Valora'!$V$40=1,'Simulador Valora'!$L$52,IF('Simulador Valora'!$V$40=3,'Simulador Valora'!$I$52,IF('Simulador Valora'!$V$40=4,'Simulador Valora'!$E$52))))","v":0},null,0,0,"",0,180]
[181,0,null,{"$f":"IF(B200+F200-D199<=0,B200+F200,IF(A200=$B$10,$F$10,IF(A200=$B$11,$F$11,IF(A200=$B$12,$F$12,IF(A200=$B$13,$F$13,IF(A200=$B$14,$F$14,IF(AND('Simulador Valora'!$AE$45=2,L199=0),D199*(1+Z200),IF($AO$3=2,B200*AI200,D199*(1+Z200)))))))))","v":0},null,0,null,0,null,null,null,null,null,{"$f":"IF(OR('Simulador Valora'!$T$65=1,'Simulador Valora'!$T$65=3),0,L200*'Simulador Valora'!$T$66*'Simulador Valora'!$U$64)","v":0},null,0,null,0,null,{"$f":"IF(B200<=0,0,IF('Simulador Valora'!$X$73=1,0,B200*'Simulador Valora'!$X$76))","v":0},null,{"$f":"IF(B200<=0,0,IF('Simulador Valora'!$V$40=1,'Simulador Valora'!$L$52,IF('Simulador Valora'!$V$40=3,'Simulador Valora'!$I$52,IF('Simulador Valora'!$V$40=4,'Simulador Valora'!$E$52))))","v":0},null,0,null,{"$f":"IF(B200<=0,0,'Simulador Valora'!$AF$53)","v":0},null,15,1,0,0,0,0,{"$f":"IF(AH199=$AG$4,AH199,IF(AH199-0.25%<=$AG$4,$AG$4,AH199-0.25%))","v":0.12},0,0,0,0,0,0,"",{"$f":"IF(AJ200<=0,0,IF('Simulador Valora'!$X$73=1,0,AJ200*'Simulador Valora'!$X$76))+IF(AJ200<=0,0,IF('Simulador Valora'!$V$40=1,'Simulador Valora'!$L$52,IF('Simulador Valora'!$V$40=3,'Simulador Valora'!$I$52,IF('Simulador Valora'!$V$40=4,'Simulador Valora'!$E$52))))","v":0},{"$f":"IF(AJ200<=0,0,$AQ$32)","v":0},0,0,"",0,181]
[182,0,null,{"$f":"IF(B201+F201-D200<=0,B201+F201,IF(A201=$B$10,$F$10,IF(A201=$B$11,$F$11,IF(A201=$B$12,$F$12,IF(A201=$B$13,$F$13,IF(A201=$B$14,$F$14,IF(AND('Simulador Valora'!$AE$45=2,L200=0),D200*(1+Z201),IF($AO$3=2,B201*AI201,D200*(1+Z201)))))))))","v":0},null,0,null,0,null,{"$f":"IF(B201-H201=0,0,J199*(1+(3%)))","v":0},null,null,null,{"$f":"IF(OR('Simulador Valora'!$T$65=1,'Simulador Valora'!$T$65=3),0,L201*'Simulador Valora'!$T$66*'Simulador Valora'!$U$64)","v":0},null,0,null,0,null,{"$f":"IF(B201<=0,0,IF('Simulador Valora'!$X$73=1,0,B201*'Simulador Valora'!$X$76))","v":0},null,{"$f":"IF(B201<=0,0,IF('Simulador Valora'!$V$40=1,'Simulador Valora'!$L$52,IF('Simulador Valora'!$V$40=3,'Simulador Valora'!$I$52,IF('Simulador Valora'!$V$40=4,'Simulador Valora'!$E$52))))","v":0},null,0,null,null,null,15,2,0,0,0,0,{"$f":"AH200","v":0.12},0,0,0,0,0,0,"",{"$f":"IF(AJ201<=0,0,IF('Simulador Valora'!$X$73=1,0,AJ201*'Simulador Valora'!$X$76))+IF(AJ201<=0,0,IF('Simulador Valora'!$V$40=1,'Simulador Valora'!$L$52,IF('Simulador Valora'!$V$40=3,'Simulador Valora'!$I$52,IF('Simulador Valora'!$V$40=4,'Simulador Valora'!$E$52))))","v":0},null,0,0,"",0,182]
[183,0,null,{"$f":"IF(B202+F202-D201<=0,B202+F202,IF(A202=$B$10,$F$10,IF(A202=$B$11,$F$11,IF(A202=$B$12,$F$12,IF(A202=$B$13,$F$13,IF(A202=$B$14,$F$14,IF(AND('Simulador Valora'!$AE$45=2,L201=0),D201*(1+Z202),IF($AO$3=2,B202*AI202,D201*(1+Z202)))))))))","v":0},null,0,null,0,null,null,null,null,null,{"$f":"IF(OR('Simulador Valora'!$T$65=1,'Simulador Valora'!$T$65=3),0,L202*'Simulador Valora'!$T$66*'Simulador Valora'!$U$64)","v":0},null,0,null,0,null,{"$f":"IF(B202<=0,0,IF('Simulador Valora'!$X$73=1,0,B202*'Simulador Valora'!$X$76))","v":0},null,{"$f":"IF(B202<=0,0,IF('Simulador Valora'!$V$40=1,'Simulador Valora'!$L$52,IF('Simulador Valora'!$V$40=3,'Simulador Valora'!$I$52,IF('Simulador Valora'!$V$40=4,'Simulador Valora'!$E$52))))","v":0},null,0,null,null,null,15,3,0,0,0,0,{"$f":"AH201","v":0.12},0,0,0,0,0,0,"",{"$f":"IF(AJ202<=0,0,IF('Simulador Valora'!$X$73=1,0,AJ202*'Simulador Valora'!$X$76))+IF(AJ202<=0,0,IF('Simulador Valora'!$V$40=1,'Simulador Valora'!$L$52,IF('Simulador Valora'!$V$40=3,'Simulador Valora'!$I$52,IF('Simulador Valora'!$V$40=4,'Simulador Valora'!$E$52))))","v":0},null,0,0,"",0,183]
[184,0,null,{"$f":"IF(B203+F203-D202<=0,B203+F203,IF(A203=$B$10,$F$10,IF(A203=$B$11,$F$11,IF(A203=$B$12,$F$12,IF(A203=$B$13,$F$13,IF(A203=$B$14,$F$14,IF(AND('Simulador Valora'!$AE$45=2,L202=0),D202*(1+Z203),IF($AO$3=2,B203*AI203,D202*(1+Z203)))))))))","v":0},null,0,null,0,null,{"$f":"IF(B203-H203=0,0,J201)","v":0},null,null,null,{"$f":"IF(OR('Simulador Valora'!$T$65=1,'Simulador Valora'!$T$65=3),0,L203*'Simulador Valora'!$T$66*'Simulador Valora'!$U$64)","v":0},null,0,null,0,null,{"$f":"IF(B203<=0,0,IF('Simulador Valora'!$X$73=1,0,B203*'Simulador Valora'!$X$76))","v":0},null,{"$f":"IF(B203<=0,0,IF('Simulador Valora'!$V$40=1,'Simulador Valora'!$L$52,IF('Simulador Valora'!$V$40=3,'Simulador Valora'!$I$52,IF('Simulador Valora'!$V$40=4,'Simulador Valora'!$E$52))))","v":0},null,0,null,null,null,15,4,0,0,0,0,0.12,0,0,0,0,0,0,"",{"$f":"IF(AJ203<=0,0,IF('Simulador Valora'!$X$73=1,0,AJ203*'Simulador Valora'!$X$76))+IF(AJ203<=0,0,IF('Simulador Valora'!$V$40=1,'Simulador Valora'!$L$52,IF('Simulador Valora'!$V$40=3,'Simulador Valora'!$I$52,IF('Simulador Valora'!$V$40=4,'Simulador Valora'!$E$52))))","v":0},null,0,0,"",0,184]
[185,0,null,{"$f":"IF(B204+F204-D203<=0,B204+F204,IF(A204=$B$10,$F$10,IF(A204=$B$11,$F$11,IF(A204=$B$12,$F$12,IF(A204=$B$13,$F$13,IF(A204=$B$14,$F$14,IF(AND('Simulador Valora'!$AE$45=2,L203=0),D203*(1+Z204),IF($AO$3=2,B204*AI204,D203*(1+Z204)))))))))","v":0},null,0,null,0,null,null,null,null,null,{"$f":"IF(OR('Simulador Valora'!$T$65=1,'Simulador Valora'!$T$65=3),0,L204*'Simulador Valora'!$T$66*'Simulador Valora'!$U$64)","v":0},null,0,null,0,null,{"$f":"IF(B204<=0,0,IF('Simulador Valora'!$X$73=1,0,B204*'Simulador Valora'!$X$76))","v":0},null,{"$f":"IF(B204<=0,0,IF('Simulador Valora'!$V$40=1,'Simulador Valora'!$L$52,IF('Simulador Valora'!$V$40=3,'Simulador Valora'!$I$52,IF('Simulador Valora'!$V$40=4,'Simulador Valora'!$E$52))))","v":0},null,0,null,null,null,15,5,0,0,0,0,0.12,0,0,0,0,0,0,"",{"$f":"IF(AJ204<=0,0,IF('Simulador Valora'!$X$73=1,0,AJ204*'Simulador Valora'!$X$76))+IF(AJ204<=0,0,IF('Simulador Valora'!$V$40=1,'Simulador Valora'!$L$52,IF('Simulador Valora'!$V$40=3,'Simulador Valora'!$I$52,IF('Simulador Valora'!$V$40=4,'Simulador Valora'!$E$52))))","v":0},null,0,0,"",0,185]
[186,0,null,{"$f":"IF(B205+F205-D204<=0,B205+F205,IF(A205=$B$10,$F$10,IF(A205=$B$11,$F$11,IF(A205=$B$12,$F$12,IF(A205=$B$13,$F$13,IF(A205=$B$14,$F$14,IF(AND('Simulador Valora'!$AE$45=2,L204=0),D204*(1+Z205),IF($AO$3=2,B205*AI205,D204*(1+Z205)))))))))","v":0},null,0,null,0,null,{"$f":"IF(B205-H205=0,0,J203)","v":0},null,null,null,{"$f":"IF(OR('Simulador Valora'!$T$65=1,'Simulador Valora'!$T$65=3),0,L205*'Simulador Valora'!$T$66*'Simulador Valora'!$U$64)","v":0},null,0,null,0,null,{"$f":"IF(B205<=0,0,IF('Simulador Valora'!$X$73=1,0,B205*'Simulador Valora'!$X$76))","v":0},null,{"$f":"IF(B205<=0,0,IF('Simulador Valora'!$V$40=1,'Simulador Valora'!$L$52,IF('Simulador Valora'!$V$40=3,'Simulador Valora'!$I$52,IF('Simulador Valora'!$V$40=4,'Simulador Valora'!$E$52))))","v":0},null,0,null,null,null,15,6,0,0,0,0,0.12,0,0,0,0,0,0,"",{"$f":"IF(AJ205<=0,0,IF('Simulador Valora'!$X$73=1,0,AJ205*'Simulador Valora'!$X$76))+IF(AJ205<=0,0,IF('Simulador Valora'!$V$40=1,'Simulador Valora'!$L$52,IF('Simulador Valora'!$V$40=3,'Simulador Valora'!$I$52,IF('Simulador Valora'!$V$40=4,'Simulador Valora'!$E$52))))","v":0},null,0,{"$f":"IFERROR(IF(AK205<=0.01,0,AS204-1),0)","v":0},"",0,186]
[187,0,null,{"$f":"IF(B206+F206-D205<=0,B206+F206,IF(A206=$B$10,$F$10,IF(A206=$B$11,$F$11,IF(A206=$B$12,$F$12,IF(A206=$B$13,$F$13,IF(A206=$B$14,$F$14,IF(AND('Simulador Valora'!$AE$45=2,L205=0),D205*(1+Z206),IF($AO$3=2,B206*AI206,D205*(1+Z206)))))))))","v":0},null,0,null,0,null,null,null,null,null,{"$f":"IF(OR('Simulador Valora'!$T$65=1,'Simulador Valora'!$T$65=3),0,L206*'Simulador Valora'!$T$66*'Simulador Valora'!$U$64)","v":0},null,0,null,0,null,{"$f":"IF(B206<=0,0,IF('Simulador Valora'!$X$73=1,0,B206*'Simulador Valora'!$X$76))","v":0},null,{"$f":"IF(B206<=0,0,IF('Simulador Valora'!$V$40=1,'Simulador Valora'!$L$52,IF('Simulador Valora'!$V$40=3,'Simulador Valora'!$I$52,IF('Simulador Valora'!$V$40=4,'Simulador Valora'!$E$52))))","v":0},null,0,null,null,null,15,7,0,0,0,0,0.12,0,0,0,0,0,0,"",{"$f":"IF(AJ206<=0,0,IF('Simulador Valora'!$X$73=1,0,AJ206*'Simulador Valora'!$X$76))+IF(AJ206<=0,0,IF('Simulador Valora'!$V$40=1,'Simulador Valora'!$L$52,IF('Simulador Valora'!$V$40=3,'Simulador Valora'!$I$52,IF('Simulador Valora'!$V$40=4,'Simulador Valora'!$E$52))))","v":0},null,0,0,"",0,187]
[188,0,null,{"$f":"IF(B207+F207-D206<=0,B207+F207,IF(A207=$B$10,$F$10,IF(A207=$B$11,$F$11,IF(A207=$B$12,$F$12,IF(A207=$B$13,$F$13,IF(A207=$B$14,$F$14,IF(AND('Simulador Valora'!$AE$45=2,L206=0),D206*(1+Z207),IF($AO$3=2,B207*AI207,D206*(1+Z207)))))))))","v":0},null,0,null,0,null,{"$f":"IF(B207-H207=0,0,J205)","v":0},null,null,null,{"$f":"IF(OR('Simulador Valora'!$T$65=1,'Simulador Valora'!$T$65=3),0,L207*'Simulador Valora'!$T$66*'Simulador Valora'!$U$64)","v":0},null,0,null,0,null,{"$f":"IF(B207<=0,0,IF('Simulador Valora'!$X$73=1,0,B207*'Simulador Valora'!$X$76))","v":0},null,{"$f":"IF(B207<=0,0,IF('Simulador Valora'!$V$40=1,'Simulador Valora'!$L$52,IF('Simulador Valora'!$V$40=3,'Simulador Valora'!$I$52,IF('Simulador Valora'!$V$40=4,'Simulador Valora'!$E$52))))","v":0},null,0,null,null,null,15,8,0,0,0,0,0.12,0,0,0,0,0,0,"",{"$f":"IF(AJ207<=0,0,IF('Simulador Valora'!$X$73=1,0,AJ207*'Simulador Valora'!$X$76))+IF(AJ207<=0,0,IF('Simulador Valora'!$V$40=1,'Simulador Valora'!$L$52,IF('Simulador Valora'!$V$40=3,'Simulador Valora'!$I$52,IF('Simulador Valora'!$V$40=4,'Simulador Valora'!$E$52))))","v":0},null,0,0,"",0,188]
[189,0,null,{"$f":"IF(B208+F208-D207<=0,B208+F208,IF(A208=$B$10,$F$10,IF(A208=$B$11,$F$11,IF(A208=$B$12,$F$12,IF(A208=$B$13,$F$13,IF(A208=$B$14,$F$14,IF(AND('Simulador Valora'!$AE$45=2,L207=0),D207*(1+Z208),IF($AO$3=2,B208*AI208,D207*(1+Z208)))))))))","v":0},null,0,null,0,null,null,null,null,null,{"$f":"IF(OR('Simulador Valora'!$T$65=1,'Simulador Valora'!$T$65=3),0,L208*'Simulador Valora'!$T$66*'Simulador Valora'!$U$64)","v":0},null,0,null,0,null,{"$f":"IF(B208<=0,0,IF('Simulador Valora'!$X$73=1,0,B208*'Simulador Valora'!$X$76))","v":0},null,{"$f":"IF(B208<=0,0,IF('Simulador Valora'!$V$40=1,'Simulador Valora'!$L$52,IF('Simulador Valora'!$V$40=3,'Simulador Valora'!$I$52,IF('Simulador Valora'!$V$40=4,'Simulador Valora'!$E$52))))","v":0},null,0,null,null,null,15,9,0,0,0,0,0.12,0,0,0,0,0,0,"",{"$f":"IF(AJ208<=0,0,IF('Simulador Valora'!$X$73=1,0,AJ208*'Simulador Valora'!$X$76))+IF(AJ208<=0,0,IF('Simulador Valora'!$V$40=1,'Simulador Valora'!$L$52,IF('Simulador Valora'!$V$40=3,'Simulador Valora'!$I$52,IF('Simulador Valora'!$V$40=4,'Simulador Valora'!$E$52))))","v":0},null,0,0,"",0,189]
[190,0,null,{"$f":"IF(B209+F209-D208<=0,B209+F209,IF(A209=$B$10,$F$10,IF(A209=$B$11,$F$11,IF(A209=$B$12,$F$12,IF(A209=$B$13,$F$13,IF(A209=$B$14,$F$14,IF(AND('Simulador Valora'!$AE$45=2,L208=0),D208*(1+Z209),IF($AO$3=2,B209*AI209,D208*(1+Z209)))))))))","v":0},null,0,null,0,null,{"$f":"IF(B209-H209=0,0,J207)","v":0},null,null,null,{"$f":"IF(OR('Simulador Valora'!$T$65=1,'Simulador Valora'!$T$65=3),0,L209*'Simulador Valora'!$T$66*'Simulador Valora'!$U$64)","v":0},null,0,null,0,null,{"$f":"IF(B209<=0,0,IF('Simulador Valora'!$X$73=1,0,B209*'Simulador Valora'!$X$76))","v":0},null,{"$f":"IF(B209<=0,0,IF('Simulador Valora'!$V$40=1,'Simulador Valora'!$L$52,IF('Simulador Valora'!$V$40=3,'Simulador Valora'!$I$52,IF('Simulador Valora'!$V$40=4,'Simulador Valora'!$E$52))))","v":0},null,0,null,null,null,15,10,0,0,0,0,0.12,0,0,0,0,0,0,"",{"$f":"IF(AJ209<=0,0,IF('Simulador Valora'!$X$73=1,0,AJ209*'Simulador Valora'!$X$76))+IF(AJ209<=0,0,IF('Simulador Valora'!$V$40=1,'Simulador Valora'!$L$52,IF('Simulador Valora'!$V$40=3,'Simulador Valora'!$I$52,IF('Simulador Valora'!$V$40=4,'Simulador Valora'!$E$52))))","v":0},null,0,0,"",0,190]
[191,0,null,{"$f":"IF(B210+F210-D209<=0,B210+F210,IF(A210=$B$10,$F$10,IF(A210=$B$11,$F$11,IF(A210=$B$12,$F$12,IF(A210=$B$13,$F$13,IF(A210=$B$14,$F$14,IF(AND('Simulador Valora'!$AE$45=2,L209=0),D209*(1+Z210),IF($AO$3=2,B210*AI210,D209*(1+Z210)))))))))","v":0},null,0,null,0,null,null,null,null,null,{"$f":"IF(OR('Simulador Valora'!$T$65=1,'Simulador Valora'!$T$65=3),0,L210*'Simulador Valora'!$T$66*'Simulador Valora'!$U$64)","v":0},null,0,null,0,null,{"$f":"IF(B210<=0,0,IF('Simulador Valora'!$X$73=1,0,B210*'Simulador Valora'!$X$76))","v":0},null,{"$f":"IF(B210<=0,0,IF('Simulador Valora'!$V$40=1,'Simulador Valora'!$L$52,IF('Simulador Valora'!$V$40=3,'Simulador Valora'!$I$52,IF('Simulador Valora'!$V$40=4,'Simulador Valora'!$E$52))))","v":0},null,0,null,null,null,15,11,0,0,0,0,0.12,0,0,0,0,0,0,"",{"$f":"IF(AJ210<=0,0,IF('Simulador Valora'!$X$73=1,0,AJ210*'Simulador Valora'!$X$76))+IF(AJ210<=0,0,IF('Simulador Valora'!$V$40=1,'Simulador Valora'!$L$52,IF('Simulador Valora'!$V$40=3,'Simulador Valora'!$I$52,IF('Simulador Valora'!$V$40=4,'Simulador Valora'!$E$52))))","v":0},null,0,0,"",0,191]
[192,0,null,{"$f":"IF(B211+F211-D210<=0,B211+F211,IF(A211=$B$10,$F$10,IF(A211=$B$11,$F$11,IF(A211=$B$12,$F$12,IF(A211=$B$13,$F$13,IF(A211=$B$14,$F$14,IF(AND('Simulador Valora'!$AE$45=2,L210=0),D210*(1+Z211),IF($AO$3=2,B211*AI211,D210*(1+Z211)))))))))","v":0},null,0,null,0,null,{"$f":"IF(B211-H211=0,0,J209)","v":0},null,null,null,{"$f":"IF(OR('Simulador Valora'!$T$65=1,'Simulador Valora'!$T$65=3),0,L211*'Simulador Valora'!$T$66*'Simulador Valora'!$U$64)","v":0},null,0,null,0,null,{"$f":"IF(B211<=0,0,IF('Simulador Valora'!$X$73=1,0,B211*'Simulador Valora'!$X$76))","v":0},null,{"$f":"IF(B211<=0,0,IF('Simulador Valora'!$V$40=1,'Simulador Valora'!$L$52,IF('Simulador Valora'!$V$40=3,'Simulador Valora'!$I$52,IF('Simulador Valora'!$V$40=4,'Simulador Valora'!$E$52))))","v":0},null,0,null,null,null,16,0,0,0,0,0,0.12,0,0,0,0,0,0,"",{"$f":"IF(AJ211<=0,0,IF('Simulador Valora'!$X$73=1,0,AJ211*'Simulador Valora'!$X$76))+IF(AJ211<=0,0,IF('Simulador Valora'!$V$40=1,'Simulador Valora'!$L$52,IF('Simulador Valora'!$V$40=3,'Simulador Valora'!$I$52,IF('Simulador Valora'!$V$40=4,'Simulador Valora'!$E$52))))","v":0},null,0,0,"",0,192]
[193,0,null,{"$f":"IF(B212+F212-D211<=0,B212+F212,IF(A212=$B$10,$F$10,IF(A212=$B$11,$F$11,IF(A212=$B$12,$F$12,IF(A212=$B$13,$F$13,IF(A212=$B$14,$F$14,IF(AND('Simulador Valora'!$AE$45=2,L211=0),D211*(1+Z212),IF($AO$3=2,B212*AI212,D211*(1+Z212)))))))))","v":0},null,0,null,0,null,null,null,null,null,{"$f":"IF(OR('Simulador Valora'!$T$65=1,'Simulador Valora'!$T$65=3),0,L212*'Simulador Valora'!$T$66*'Simulador Valora'!$U$64)","v":0},null,0,null,0,null,{"$f":"IF(B212<=0,0,IF('Simulador Valora'!$X$73=1,0,B212*'Simulador Valora'!$X$76))","v":0},null,{"$f":"IF(B212<=0,0,IF('Simulador Valora'!$V$40=1,'Simulador Valora'!$L$52,IF('Simulador Valora'!$V$40=3,'Simulador Valora'!$I$52,IF('Simulador Valora'!$V$40=4,'Simulador Valora'!$E$52))))","v":0},null,0,null,{"$f":"IF(B212<=0,0,'Simulador Valora'!$AF$53)","v":0},null,16,1,0,0,0,0,{"$f":"IF(AH211=$AG$4,AH211,IF(AH211-0.25%<=$AG$4,$AG$4,AH211-0.25%))","v":0.12},0,0,0,0,{"$f":"+AK212-AL212","v":0},{"$f":"+AJ212-AM212","v":0},"",{"$f":"IF(AJ212<=0,0,IF('Simulador Valora'!$X$73=1,0,AJ212*'Simulador Valora'!$X$76))+IF(AJ212<=0,0,IF('Simulador Valora'!$V$40=1,'Simulador Valora'!$L$52,IF('Simulador Valora'!$V$40=3,'Simulador Valora'!$I$52,IF('Simulador Valora'!$V$40=4,'Simulador Valora'!$E$52))))","v":0},{"$f":"IF(AJ212<=0,0,$AQ$32)","v":0},0,0,"",0,193]
[194,{"$f":"IF(R212<0,0,IF(A213=$B$10,R212+$D$10,IF(A213=$B$11,R212+$D$11,IF(A213=$B$12,R212+$D$12,IF(A213=$B$13,R212+$D$13,IF(A213=$B$14,R212+$D$14,R212))))))","v":0},null,{"$f":"IF(B213+F213-D212<=0,B213+F213,IF(A213=$B$10,$F$10,IF(A213=$B$11,$F$11,IF(A213=$B$12,$F$12,IF(A213=$B$13,$F$13,IF(A213=$B$14,$F$14,IF(AND('Simulador Valora'!$AE$45=2,L212=0),D212*(1+Z213),IF($AO$3=2,B213*AI213,D212*(1+Z213)))))))))","v":0},null,{"$f":"IF(B213=0,0,P213/360*AU213*B213)","v":0},null,0,null,{"$f":"IF(B213-H213=0,0,J211*(1+(3%)))","v":0},null,null,null,{"$f":"IF(OR('Simulador Valora'!$T$65=1,'Simulador Valora'!$T$65=3),0,L213*'Simulador Valora'!$T$66*'Simulador Valora'!$U$64)","v":0},null,{"$f":"IF(B213=0,0,AH213)","v":0},null,{"$f":"B213-H213-J213-L213+N213","v":0},null,{"$f":"IF(B213<=0,0,IF('Simulador Valora'!$X$73=1,0,B213*'Simulador Valora'!$X$76))","v":0},null,{"$f":"IF(B213<=0,0,IF('Simulador Valora'!$V$40=1,'Simulador Valora'!$L$52,IF('Simulador Valora'!$V$40=3,'Simulador Valora'!$I$52,IF('Simulador Valora'!$V$40=4,'Simulador Valora'!$E$52))))","v":0},null,{"$f":"IF(B213<=0,0,(D213+L213+T213+V213))","v":0},null,null,null,16,2,{"$f":"+IF(R213<=0,IF(R212>0,+A213,0),0)","v":0},{"$f":"+IF(AD213>0,+AB213,0)","v":0},{"$f":"+IF(AD213>0,+AC213,0)","v":0},{"$f":"X213","v":0},{"$f":"AH212","v":0.12},{"$f":"IFERROR(AK213/AJ213,0)","v":0},0,0,{"$f":"IFERROR((AO213/360*AU213*AJ213),0)","v":0},0,0,{"$f":"IF(AJ213=0,\"\",AH213)","v":""},{"$f":"IF(AJ213<=0,0,IF('Simulador Valora'!$X$73=1,0,AJ213*'Simulador Valora'!$X$76))+IF(AJ213<=0,0,IF('Simulador Valora'!$V$40=1,'Simulador Valora'!$L$52,IF('Simulador Valora'!$V$40=3,'Simulador Valora'!$I$52,IF('Simulador Valora'!$V$40=4,'Simulador Valora'!$E$52))))","v":0},null,{"$f":"AL213+AM213+AP213","v":0},0,"",{"$f":"IFERROR(DAY(DATE(YEAR(AT213),MONTH(AT213)+1,0)),0)","v":0},194]
[195,0,null,{"$f":"IF(B214+F214-D213<=0,B214+F214,IF(A214=$B$10,$F$10,IF(A214=$B$11,$F$11,IF(A214=$B$12,$F$12,IF(A214=$B$13,$F$13,IF(A214=$B$14,$F$14,IF(AND('Simulador Valora'!$AE$45=2,L213=0),D213*(1+Z214),IF($AO$3=2,B214*AI214,D213*(1+Z214)))))))))","v":0},null,0,null,{"$f":"D214-F214","v":0},null,null,null,null,null,{"$f":"IF(OR('Simulador Valora'!$T$65=1,'Simulador Valora'!$T$65=3),0,L214*'Simulador Valora'!$T$66*'Simulador Valora'!$U$64)","v":0},null,0,null,0,null,{"$f":"IF(B214<=0,0,IF('Simulador Valora'!$X$73=1,0,B214*'Simulador Valora'!$X$76))","v":0},null,{"$f":"IF(B214<=0,0,IF('Simulador Valora'!$V$40=1,'Simulador Valora'!$L$52,IF('Simulador Valora'!$V$40=3,'Simulador Valora'!$I$52,IF('Simulador Valora'!$V$40=4,'Simulador Valora'!$E$52))))","v":0},null,0,null,null,null,16,3,0,0,0,0,{"$f":"AH213","v":0.12},0,{"$f":"IF(AN213<0,0,IF(A214=$B$10,AN213+$D$10,IF(A214=$B$11,AN213+$D$11,IF(A214=$B$12,AN213+$D$12,IF(A214=$B$13,AN213+$D$13,IF(A214=$B$14,AN213+$D$14,AN213))))))","v":0},{"$f":"IF(AJ214+AL214-AK213<=0,AJ214+AL214,IF(A214=$B$10,$F$10,IF(A214=$B$11,$F$11,IF(A214=$B$12,$F$12,IF(A214=$B$13,$F$13,IF(A214=$B$14,$F$14,AK213*(1+AQ214)))))))","v":0},0,0,0,"",{"$f":"IF(AJ214<=0,0,IF('Simulador Valora'!$X$73=1,0,AJ214*'Simulador Valora'!$X$76))+IF(AJ214<=0,0,IF('Simulador Valora'!$V$40=1,'Simulador Valora'!$L$52,IF('Simulador Valora'!$V$40=3,'Simulador Valora'!$I$52,IF('Simulador Valora'!$V$40=4,'Simulador Valora'!$E$52))))","v":0},null,0,0,{"$f":"IF(AJ214=0,\"\",DATE(YEAR(AT213),MONTH(AT213)+1,1))","v":""},0,195]
[196,0,null,{"$f":"IF(B215+F215-D214<=0,B215+F215,IF(A215=$B$10,$F$10,IF(A215=$B$11,$F$11,IF(A215=$B$12,$F$12,IF(A215=$B$13,$F$13,IF(A215=$B$14,$F$14,IF(AND('Simulador Valora'!$AE$45=2,L214=0),D214*(1+Z215),IF($AO$3=2,B215*AI215,D214*(1+Z215)))))))))","v":0},null,0,null,0,null,{"$f":"IF(B215-H215=0,0,J213)","v":0},null,null,null,{"$f":"IF(OR('Simulador Valora'!$T$65=1,'Simulador Valora'!$T$65=3),0,L215*'Simulador Valora'!$T$66*'Simulador Valora'!$U$64)","v":0},null,0,null,0,null,{"$f":"IF(B215<=0,0,IF('Simulador Valora'!$X$73=1,0,B215*'Simulador Valora'!$X$76))","v":0},null,{"$f":"IF(B215<=0,0,IF('Simulador Valora'!$V$40=1,'Simulador Valora'!$L$52,IF('Simulador Valora'!$V$40=3,'Simulador Valora'!$I$52,IF('Simulador Valora'!$V$40=4,'Simulador Valora'!$E$52))))","v":0},null,0,null,null,null,16,4,0,0,0,0,0.12,0,0,0,0,0,0,"",{"$f":"IF(AJ215<=0,0,IF('Simulador Valora'!$X$73=1,0,AJ215*'Simulador Valora'!$X$76))+IF(AJ215<=0,0,IF('Simulador Valora'!$V$40=1,'Simulador Valora'!$L$52,IF('Simulador Valora'!$V$40=3,'Simulador Valora'!$I$52,IF('Simulador Valora'!$V$40=4,'Simulador Valora'!$E$52))))","v":0},null,0,0,"",0,196]
[197,0,null,{"$f":"IF(B216+F216-D215<=0,B216+F216,IF(A216=$B$10,$F$10,IF(A216=$B$11,$F$11,IF(A216=$B$12,$F$12,IF(A216=$B$13,$F$13,IF(A216=$B$14,$F$14,IF(AND('Simulador Valora'!$AE$45=2,L215=0),D215*(1+Z216),IF($AO$3=2,B216*AI216,D215*(1+Z216)))))))))","v":0},null,0,null,0,null,null,null,null,null,{"$f":"IF(OR('Simulador Valora'!$T$65=1,'Simulador Valora'!$T$65=3),0,L216*'Simulador Valora'!$T$66*'Simulador Valora'!$U$64)","v":0},null,0,null,0,null,{"$f":"IF(B216<=0,0,IF('Simulador Valora'!$X$73=1,0,B216*'Simulador Valora'!$X$76))","v":0},null,{"$f":"IF(B216<=0,0,IF('Simulador Valora'!$V$40=1,'Simulador Valora'!$L$52,IF('Simulador Valora'!$V$40=3,'Simulador Valora'!$I$52,IF('Simulador Valora'!$V$40=4,'Simulador Valora'!$E$52))))","v":0},null,0,null,null,null,16,5,0,0,0,0,0.12,0,0,0,0,0,0,"",{"$f":"IF(AJ216<=0,0,IF('Simulador Valora'!$X$73=1,0,AJ216*'Simulador Valora'!$X$76))+IF(AJ216<=0,0,IF('Simulador Valora'!$V$40=1,'Simulador Valora'!$L$52,IF('Simulador Valora'!$V$40=3,'Simulador Valora'!$I$52,IF('Simulador Valora'!$V$40=4,'Simulador Valora'!$E$52))))","v":0},null,0,0,"",0,197]
[198,0,null,{"$f":"IF(B217+F217-D216<=0,B217+F217,IF(A217=$B$10,$F$10,IF(A217=$B$11,$F$11,IF(A217=$B$12,$F$12,IF(A217=$B$13,$F$13,IF(A217=$B$14,$F$14,IF(AND('Simulador Valora'!$AE$45=2,L216=0),D216*(1+Z217),IF($AO$3=2,B217*AI217,D216*(1+Z217)))))))))","v":0},null,0,null,0,null,{"$f":"IF(B217-H217=0,0,J215)","v":0},null,null,null,{"$f":"IF(OR('Simulador Valora'!$T$65=1,'Simulador Valora'!$T$65=3),0,L217*'Simulador Valora'!$T$66*'Simulador Valora'!$U$64)","v":0},null,0,null,0,null,{"$f":"IF(B217<=0,0,IF('Simulador Valora'!$X$73=1,0,B217*'Simulador Valora'!$X$76))","v":0},null,{"$f":"IF(B217<=0,0,IF('Simulador Valora'!$V$40=1,'Simulador Valora'!$L$52,IF('Simulador Valora'!$V$40=3,'Simulador Valora'!$I$52,IF('Simulador Valora'!$V$40=4,'Simulador Valora'!$E$52))))","v":0},null,0,null,null,null,16,6,0,0,0,0,0.12,0,0,0,0,0,0,"",{"$f":"IF(AJ217<=0,0,IF('Simulador Valora'!$X$73=1,0,AJ217*'Simulador Valora'!$X$76))+IF(AJ217<=0,0,IF('Simulador Valora'!$V$40=1,'Simulador Valora'!$L$52,IF('Simulador Valora'!$V$40=3,'Simulador Valora'!$I$52,IF('Simulador Valora'!$V$40=4,'Simulador Valora'!$E$52))))","v":0},null,0,0,"",0,198]
[199,0,null,{"$f":"IF(B218+F218-D217<=0,B218+F218,IF(A218=$B$10,$F$10,IF(A218=$B$11,$F$11,IF(A218=$B$12,$F$12,IF(A218=$B$13,$F$13,IF(A218=$B$14,$F$14,IF(AND('Simulador Valora'!$AE$45=2,L217=0),D217*(1+Z218),IF($AO$3=2,B218*AI218,D217*(1+Z218)))))))))","v":0},null,0,null,0,null,null,null,null,null,{"$f":"IF(OR('Simulador Valora'!$T$65=1,'Simulador Valora'!$T$65=3),0,L218*'Simulador Valora'!$T$66*'Simulador Valora'!$U$64)","v":0},null,0,null,0,null,{"$f":"IF(B218<=0,0,IF('Simulador Valora'!$X$73=1,0,B218*'Simulador Valora'!$X$76))","v":0},null,{"$f":"IF(B218<=0,0,IF('Simulador Valora'!$V$40=1,'Simulador Valora'!$L$52,IF('Simulador Valora'!$V$40=3,'Simulador Valora'!$I$52,IF('Simulador Valora'!$V$40=4,'Simulador Valora'!$E$52))))","v":0},null,0,null,null,null,16,7,0,0,0,0,0.12,0,0,0,0,0,0,"",{"$f":"IF(AJ218<=0,0,IF('Simulador Valora'!$X$73=1,0,AJ218*'Simulador Valora'!$X$76))+IF(AJ218<=0,0,IF('Simulador Valora'!$V$40=1,'Simulador Valora'!$L$52,IF('Simulador Valora'!$V$40=3,'Simulador Valora'!$I$52,IF('Simulador Valora'!$V$40=4,'Simulador Valora'!$E$52))))","v":0},null,0,0,"",0,199]
[200,0,null,{"$f":"IF(B219+F219-D218<=0,B219+F219,IF(A219=$B$10,$F$10,IF(A219=$B$11,$F$11,IF(A219=$B$12,$F$12,IF(A219=$B$13,$F$13,IF(A219=$B$14,$F$14,IF(AND('Simulador Valora'!$AE$45=2,L218=0),D218*(1+Z219),IF($AO$3=2,B219*AI219,D218*(1+Z219)))))))))","v":0},null,0,null,0,null,{"$f":"IF(B219-H219=0,0,J217)","v":0},null,null,null,{"$f":"IF(OR('Simulador Valora'!$T$65=1,'Simulador Valora'!$T$65=3),0,L219*'Simulador Valora'!$T$66*'Simulador Valora'!$U$64)","v":0},null,0,null,0,null,{"$f":"IF(B219<=0,0,IF('Simulador Valora'!$X$73=1,0,B219*'Simulador Valora'!$X$76))","v":0},null,{"$f":"IF(B219<=0,0,IF('Simulador Valora'!$V$40=1,'Simulador Valora'!$L$52,IF('Simulador Valora'!$V$40=3,'Simulador Valora'!$I$52,IF('Simulador Valora'!$V$40=4,'Simulador Valora'!$E$52))))","v":0},null,0,null,null,null,16,8,0,0,0,0,0.12,0,0,0,0,0,0,"",{"$f":"IF(AJ219<=0,0,IF('Simulador Valora'!$X$73=1,0,AJ219*'Simulador Valora'!$X$76))+IF(AJ219<=0,0,IF('Simulador Valora'!$V$40=1,'Simulador Valora'!$L$52,IF('Simulador Valora'!$V$40=3,'Simulador Valora'!$I$52,IF('Simulador Valora'!$V$40=4,'Simulador Valora'!$E$52))))","v":0},null,0,0,"",0,200]
[201,0,null,{"$f":"IF(B220+F220-D219<=0,B220+F220,IF(A220=$B$10,$F$10,IF(A220=$B$11,$F$11,IF(A220=$B$12,$F$12,IF(A220=$B$13,$F$13,IF(A220=$B$14,$F$14,IF(AND('Simulador Valora'!$AE$45=2,L219=0),D219*(1+Z220),IF($AO$3=2,B220*AI220,D219*(1+Z220)))))))))","v":0},null,0,null,0,null,null,null,null,null,{"$f":"IF(OR('Simulador Valora'!$T$65=1,'Simulador Valora'!$T$65=3),0,L220*'Simulador Valora'!$T$66*'Simulador Valora'!$U$64)","v":0},null,0,null,0,null,{"$f":"IF(B220<=0,0,IF('Simulador Valora'!$X$73=1,0,B220*'Simulador Valora'!$X$76))","v":0},null,{"$f":"IF(B220<=0,0,IF('Simulador Valora'!$V$40=1,'Simulador Valora'!$L$52,IF('Simulador Valora'!$V$40=3,'Simulador Valora'!$I$52,IF('Simulador Valora'!$V$40=4,'Simulador Valora'!$E$52))))","v":0},null,0,null,null,null,16,9,0,0,0,0,0.12,0,0,0,0,0,0,"",{"$f":"IF(AJ220<=0,0,IF('Simulador Valora'!$X$73=1,0,AJ220*'Simulador Valora'!$X$76))+IF(AJ220<=0,0,IF('Simulador Valora'!$V$40=1,'Simulador Valora'!$L$52,IF('Simulador Valora'!$V$40=3,'Simulador Valora'!$I$52,IF('Simulador Valora'!$V$40=4,'Simulador Valora'!$E$52))))","v":0},null,0,0,"",0,201]
[202,0,null,{"$f":"IF(B221+F221-D220<=0,B221+F221,IF(A221=$B$10,$F$10,IF(A221=$B$11,$F$11,IF(A221=$B$12,$F$12,IF(A221=$B$13,$F$13,IF(A221=$B$14,$F$14,IF(AND('Simulador Valora'!$AE$45=2,L220=0),D220*(1+Z221),IF($AO$3=2,B221*AI221,D220*(1+Z221)))))))))","v":0},null,0,null,0,null,{"$f":"IF(B221-H221=0,0,J219)","v":0},null,null,null,{"$f":"IF(OR('Simulador Valora'!$T$65=1,'Simulador Valora'!$T$65=3),0,L221*'Simulador Valora'!$T$66*'Simulador Valora'!$U$64)","v":0},null,0,null,0,null,{"$f":"IF(B221<=0,0,IF('Simulador Valora'!$X$73=1,0,B221*'Simulador Valora'!$X$76))","v":0},null,{"$f":"IF(B221<=0,0,IF('Simulador Valora'!$V$40=1,'Simulador Valora'!$L$52,IF('Simulador Valora'!$V$40=3,'Simulador Valora'!$I$52,IF('Simulador Valora'!$V$40=4,'Simulador Valora'!$E$52))))","v":0},null,0,null,null,null,16,10,0,0,0,0,0.12,0,0,0,0,0,0,"",{"$f":"IF(AJ221<=0,0,IF('Simulador Valora'!$X$73=1,0,AJ221*'Simulador Valora'!$X$76))+IF(AJ221<=0,0,IF('Simulador Valora'!$V$40=1,'Simulador Valora'!$L$52,IF('Simulador Valora'!$V$40=3,'Simulador Valora'!$I$52,IF('Simulador Valora'!$V$40=4,'Simulador Valora'!$E$52))))","v":0},null,0,0,"",0,202]
[203,0,null,{"$f":"IF(B222+F222-D221<=0,B222+F222,IF(A222=$B$10,$F$10,IF(A222=$B$11,$F$11,IF(A222=$B$12,$F$12,IF(A222=$B$13,$F$13,IF(A222=$B$14,$F$14,IF(AND('Simulador Valora'!$AE$45=2,L221=0),D221*(1+Z222),IF($AO$3=2,B222*AI222,D221*(1+Z222)))))))))","v":0},null,0,null,0,null,null,null,null,null,{"$f":"IF(OR('Simulador Valora'!$T$65=1,'Simulador Valora'!$T$65=3),0,L222*'Simulador Valora'!$T$66*'Simulador Valora'!$U$64)","v":0},null,0,null,0,null,{"$f":"IF(B222<=0,0,IF('Simulador Valora'!$X$73=1,0,B222*'Simulador Valora'!$X$76))","v":0},null,{"$f":"IF(B222<=0,0,IF('Simulador Valora'!$V$40=1,'Simulador Valora'!$L$52,IF('Simulador Valora'!$V$40=3,'Simulador Valora'!$I$52,IF('Simulador Valora'!$V$40=4,'Simulador Valora'!$E$52))))","v":0},null,0,null,null,null,16,11,0,0,0,0,0.12,0,0,0,0,0,0,"",{"$f":"IF(AJ222<=0,0,IF('Simulador Valora'!$X$73=1,0,AJ222*'Simulador Valora'!$X$76))+IF(AJ222<=0,0,IF('Simulador Valora'!$V$40=1,'Simulador Valora'!$L$52,IF('Simulador Valora'!$V$40=3,'Simulador Valora'!$I$52,IF('Simulador Valora'!$V$40=4,'Simulador Valora'!$E$52))))","v":0},null,0,0,"",0,203]
[204,0,null,{"$f":"IF(B223+F223-D222<=0,B223+F223,IF(A223=$B$10,$F$10,IF(A223=$B$11,$F$11,IF(A223=$B$12,$F$12,IF(A223=$B$13,$F$13,IF(A223=$B$14,$F$14,IF(AND('Simulador Valora'!$AE$45=2,L222=0),D222*(1+Z223),IF($AO$3=2,B223*AI223,D222*(1+Z223)))))))))","v":0},null,0,null,0,null,{"$f":"IF(B223-H223=0,0,J221)","v":0},null,null,null,{"$f":"IF(OR('Simulador Valora'!$T$65=1,'Simulador Valora'!$T$65=3),0,L223*'Simulador Valora'!$T$66*'Simulador Valora'!$U$64)","v":0},null,0,null,0,null,{"$f":"IF(B223<=0,0,IF('Simulador Valora'!$X$73=1,0,B223*'Simulador Valora'!$X$76))","v":0},null,{"$f":"IF(B223<=0,0,IF('Simulador Valora'!$V$40=1,'Simulador Valora'!$L$52,IF('Simulador Valora'!$V$40=3,'Simulador Valora'!$I$52,IF('Simulador Valora'!$V$40=4,'Simulador Valora'!$E$52))))","v":0},null,0,null,null,null,17,0,0,0,0,0,0.12,0,0,0,0,0,0,"",{"$f":"IF(AJ223<=0,0,IF('Simulador Valora'!$X$73=1,0,AJ223*'Simulador Valora'!$X$76))+IF(AJ223<=0,0,IF('Simulador Valora'!$V$40=1,'Simulador Valora'!$L$52,IF('Simulador Valora'!$V$40=3,'Simulador Valora'!$I$52,IF('Simulador Valora'!$V$40=4,'Simulador Valora'!$E$52))))","v":0},null,0,0,"",0,204]
[205,0,null,{"$f":"IF(B224+F224-D223<=0,B224+F224,IF(A224=$B$10,$F$10,IF(A224=$B$11,$F$11,IF(A224=$B$12,$F$12,IF(A224=$B$13,$F$13,IF(A224=$B$14,$F$14,IF(AND('Simulador Valora'!$AE$45=2,L223=0),D223*(1+Z224),IF($AO$3=2,B224*AI224,D223*(1+Z224)))))))))","v":0},null,0,null,0,null,null,null,null,null,{"$f":"IF(OR('Simulador Valora'!$T$65=1,'Simulador Valora'!$T$65=3),0,L224*'Simulador Valora'!$T$66*'Simulador Valora'!$U$64)","v":0},null,0,null,0,null,{"$f":"IF(B224<=0,0,IF('Simulador Valora'!$X$73=1,0,B224*'Simulador Valora'!$X$76))","v":0},null,{"$f":"IF(B224<=0,0,IF('Simulador Valora'!$V$40=1,'Simulador Valora'!$L$52,IF('Simulador Valora'!$V$40=3,'Simulador Valora'!$I$52,IF('Simulador Valora'!$V$40=4,'Simulador Valora'!$E$52))))","v":0},null,0,null,{"$f":"IF(B224<=0,0,'Simulador Valora'!$AF$53)","v":0},null,17,1,0,0,0,0,{"$f":"IF(AH223=$AG$4,AH223,IF(AH223-0.25%<=$AG$4,$AG$4,AH223-0.25%))","v":0.12},0,0,0,0,0,0,"",{"$f":"IF(AJ224<=0,0,IF('Simulador Valora'!$X$73=1,0,AJ224*'Simulador Valora'!$X$76))+IF(AJ224<=0,0,IF('Simulador Valora'!$V$40=1,'Simulador Valora'!$L$52,IF('Simulador Valora'!$V$40=3,'Simulador Valora'!$I$52,IF('Simulador Valora'!$V$40=4,'Simulador Valora'!$E$52))))","v":0},{"$f":"IF(AJ224<=0,0,$AQ$32)","v":0},0,0,"",0,205]
[206,0,null,{"$f":"IF(B225+F225-D224<=0,B225+F225,IF(A225=$B$10,$F$10,IF(A225=$B$11,$F$11,IF(A225=$B$12,$F$12,IF(A225=$B$13,$F$13,IF(A225=$B$14,$F$14,IF(AND('Simulador Valora'!$AE$45=2,L224=0),D224*(1+Z225),IF($AO$3=2,B225*AI225,D224*(1+Z225)))))))))","v":0},null,0,null,0,null,{"$f":"IF(B225-H225=0,0,J223*(1+(3%)))","v":0},null,null,null,{"$f":"IF(OR('Simulador Valora'!$T$65=1,'Simulador Valora'!$T$65=3),0,L225*'Simulador Valora'!$T$66*'Simulador Valora'!$U$64)","v":0},null,0,null,0,null,{"$f":"IF(B225<=0,0,IF('Simulador Valora'!$X$73=1,0,B225*'Simulador Valora'!$X$76))","v":0},null,{"$f":"IF(B225<=0,0,IF('Simulador Valora'!$V$40=1,'Simulador Valora'!$L$52,IF('Simulador Valora'!$V$40=3,'Simulador Valora'!$I$52,IF('Simulador Valora'!$V$40=4,'Simulador Valora'!$E$52))))","v":0},null,0,null,null,null,17,2,0,0,0,0,{"$f":"AH224","v":0.12},0,0,0,0,0,0,"",{"$f":"IF(AJ225<=0,0,IF('Simulador Valora'!$X$73=1,0,AJ225*'Simulador Valora'!$X$76))+IF(AJ225<=0,0,IF('Simulador Valora'!$V$40=1,'Simulador Valora'!$L$52,IF('Simulador Valora'!$V$40=3,'Simulador Valora'!$I$52,IF('Simulador Valora'!$V$40=4,'Simulador Valora'!$E$52))))","v":0},null,0,0,"",0,206]
[207,0,null,{"$f":"IF(B226+F226-D225<=0,B226+F226,IF(A226=$B$10,$F$10,IF(A226=$B$11,$F$11,IF(A226=$B$12,$F$12,IF(A226=$B$13,$F$13,IF(A226=$B$14,$F$14,IF(AND('Simulador Valora'!$AE$45=2,L225=0),D225*(1+Z226),IF($AO$3=2,B226*AI226,D225*(1+Z226)))))))))","v":0},null,0,null,0,null,null,null,null,null,{"$f":"IF(OR('Simulador Valora'!$T$65=1,'Simulador Valora'!$T$65=3),0,L226*'Simulador Valora'!$T$66*'Simulador Valora'!$U$64)","v":0},null,0,null,0,null,{"$f":"IF(B226<=0,0,IF('Simulador Valora'!$X$73=1,0,B226*'Simulador Valora'!$X$76))","v":0},null,{"$f":"IF(B226<=0,0,IF('Simulador Valora'!$V$40=1,'Simulador Valora'!$L$52,IF('Simulador Valora'!$V$40=3,'Simulador Valora'!$I$52,IF('Simulador Valora'!$V$40=4,'Simulador Valora'!$E$52))))","v":0},null,0,null,null,null,17,3,0,0,0,0,{"$f":"AH225","v":0.12},0,0,0,0,0,0,"",{"$f":"IF(AJ226<=0,0,IF('Simulador Valora'!$X$73=1,0,AJ226*'Simulador Valora'!$X$76))+IF(AJ226<=0,0,IF('Simulador Valora'!$V$40=1,'Simulador Valora'!$L$52,IF('Simulador Valora'!$V$40=3,'Simulador Valora'!$I$52,IF('Simulador Valora'!$V$40=4,'Simulador Valora'!$E$52))))","v":0},null,0,0,"",0,207]
[208,0,null,{"$f":"IF(B227+F227-D226<=0,B227+F227,IF(A227=$B$10,$F$10,IF(A227=$B$11,$F$11,IF(A227=$B$12,$F$12,IF(A227=$B$13,$F$13,IF(A227=$B$14,$F$14,IF(AND('Simulador Valora'!$AE$45=2,L226=0),D226*(1+Z227),IF($AO$3=2,B227*AI227,D226*(1+Z227)))))))))","v":0},null,0,null,0,null,{"$f":"IF(B227-H227=0,0,J225)","v":0},null,null,null,{"$f":"IF(OR('Simulador Valora'!$T$65=1,'Simulador Valora'!$T$65=3),0,L227*'Simulador Valora'!$T$66*'Simulador Valora'!$U$64)","v":0},null,0,null,0,null,{"$f":"IF(B227<=0,0,IF('Simulador Valora'!$X$73=1,0,B227*'Simulador Valora'!$X$76))","v":0},null,{"$f":"IF(B227<=0,0,IF('Simulador Valora'!$V$40=1,'Simulador Valora'!$L$52,IF('Simulador Valora'!$V$40=3,'Simulador Valora'!$I$52,IF('Simulador Valora'!$V$40=4,'Simulador Valora'!$E$52))))","v":0},null,0,null,null,null,17,4,0,0,0,0,0.12,0,0,0,0,0,0,"",{"$f":"IF(AJ227<=0,0,IF('Simulador Valora'!$X$73=1,0,AJ227*'Simulador Valora'!$X$76))+IF(AJ227<=0,0,IF('Simulador Valora'!$V$40=1,'Simulador Valora'!$L$52,IF('Simulador Valora'!$V$40=3,'Simulador Valora'!$I$52,IF('Simulador Valora'!$V$40=4,'Simulador Valora'!$E$52))))","v":0},null,0,0,"",0,208]
[209,0,null,{"$f":"IF(B228+F228-D227<=0,B228+F228,IF(A228=$B$10,$F$10,IF(A228=$B$11,$F$11,IF(A228=$B$12,$F$12,IF(A228=$B$13,$F$13,IF(A228=$B$14,$F$14,IF(AND('Simulador Valora'!$AE$45=2,L227=0),D227*(1+Z228),IF($AO$3=2,B228*AI228,D227*(1+Z228)))))))))","v":0},null,0,null,0,null,null,null,null,null,{"$f":"IF(OR('Simulador Valora'!$T$65=1,'Simulador Valora'!$T$65=3),0,L228*'Simulador Valora'!$T$66*'Simulador Valora'!$U$64)","v":0},null,0,null,0,null,{"$f":"IF(B228<=0,0,IF('Simulador Valora'!$X$73=1,0,B228*'Simulador Valora'!$X$76))","v":0},null,{"$f":"IF(B228<=0,0,IF('Simulador Valora'!$V$40=1,'Simulador Valora'!$L$52,IF('Simulador Valora'!$V$40=3,'Simulador Valora'!$I$52,IF('Simulador Valora'!$V$40=4,'Simulador Valora'!$E$52))))","v":0},null,0,null,null,null,17,5,0,0,0,0,0.12,0,0,0,0,0,0,"",{"$f":"IF(AJ228<=0,0,IF('Simulador Valora'!$X$73=1,0,AJ228*'Simulador Valora'!$X$76))+IF(AJ228<=0,0,IF('Simulador Valora'!$V$40=1,'Simulador Valora'!$L$52,IF('Simulador Valora'!$V$40=3,'Simulador Valora'!$I$52,IF('Simulador Valora'!$V$40=4,'Simulador Valora'!$E$52))))","v":0},null,0,0,"",0,209]
[210,0,null,{"$f":"IF(B229+F229-D228<=0,B229+F229,IF(A229=$B$10,$F$10,IF(A229=$B$11,$F$11,IF(A229=$B$12,$F$12,IF(A229=$B$13,$F$13,IF(A229=$B$14,$F$14,IF(AND('Simulador Valora'!$AE$45=2,L228=0),D228*(1+Z229),IF($AO$3=2,B229*AI229,D228*(1+Z229)))))))))","v":0},null,0,null,0,null,{"$f":"IF(B229-H229=0,0,J227)","v":0},null,null,null,{"$f":"IF(OR('Simulador Valora'!$T$65=1,'Simulador Valora'!$T$65=3),0,L229*'Simulador Valora'!$T$66*'Simulador Valora'!$U$64)","v":0},null,0,null,0,null,{"$f":"IF(B229<=0,0,IF('Simulador Valora'!$X$73=1,0,B229*'Simulador Valora'!$X$76))","v":0},null,{"$f":"IF(B229<=0,0,IF('Simulador Valora'!$V$40=1,'Simulador Valora'!$L$52,IF('Simulador Valora'!$V$40=3,'Simulador Valora'!$I$52,IF('Simulador Valora'!$V$40=4,'Simulador Valora'!$E$52))))","v":0},null,0,null,null,null,17,6,0,0,0,0,0.12,0,0,0,0,0,0,"",{"$f":"IF(AJ229<=0,0,IF('Simulador Valora'!$X$73=1,0,AJ229*'Simulador Valora'!$X$76))+IF(AJ229<=0,0,IF('Simulador Valora'!$V$40=1,'Simulador Valora'!$L$52,IF('Simulador Valora'!$V$40=3,'Simulador Valora'!$I$52,IF('Simulador Valora'!$V$40=4,'Simulador Valora'!$E$52))))","v":0},null,0,0,"",0,210]
[211,0,null,{"$f":"IF(B230+F230-D229<=0,B230+F230,IF(A230=$B$10,$F$10,IF(A230=$B$11,$F$11,IF(A230=$B$12,$F$12,IF(A230=$B$13,$F$13,IF(A230=$B$14,$F$14,IF(AND('Simulador Valora'!$AE$45=2,L229=0),D229*(1+Z230),IF($AO$3=2,B230*AI230,D229*(1+Z230)))))))))","v":0},null,0,null,0,null,null,null,null,null,{"$f":"IF(OR('Simulador Valora'!$T$65=1,'Simulador Valora'!$T$65=3),0,L230*'Simulador Valora'!$T$66*'Simulador Valora'!$U$64)","v":0},null,0,null,0,null,{"$f":"IF(B230<=0,0,IF('Simulador Valora'!$X$73=1,0,B230*'Simulador Valora'!$X$76))","v":0},null,{"$f":"IF(B230<=0,0,IF('Simulador Valora'!$V$40=1,'Simulador Valora'!$L$52,IF('Simulador Valora'!$V$40=3,'Simulador Valora'!$I$52,IF('Simulador Valora'!$V$40=4,'Simulador Valora'!$E$52))))","v":0},null,0,null,null,null,17,7,0,0,0,0,0.12,0,0,0,0,0,0,"",{"$f":"IF(AJ230<=0,0,IF('Simulador Valora'!$X$73=1,0,AJ230*'Simulador Valora'!$X$76))+IF(AJ230<=0,0,IF('Simulador Valora'!$V$40=1,'Simulador Valora'!$L$52,IF('Simulador Valora'!$V$40=3,'Simulador Valora'!$I$52,IF('Simulador Valora'!$V$40=4,'Simulador Valora'!$E$52))))","v":0},null,0,0,"",0,211]
[212,0,null,{"$f":"IF(B231+F231-D230<=0,B231+F231,IF(A231=$B$10,$F$10,IF(A231=$B$11,$F$11,IF(A231=$B$12,$F$12,IF(A231=$B$13,$F$13,IF(A231=$B$14,$F$14,IF(AND('Simulador Valora'!$AE$45=2,L230=0),D230*(1+Z231),IF($AO$3=2,B231*AI231,D230*(1+Z231)))))))))","v":0},null,0,null,0,null,{"$f":"IF(B231-H231=0,0,J229)","v":0},null,null,null,{"$f":"IF(OR('Simulador Valora'!$T$65=1,'Simulador Valora'!$T$65=3),0,L231*'Simulador Valora'!$T$66*'Simulador Valora'!$U$64)","v":0},null,0,null,0,null,{"$f":"IF(B231<=0,0,IF('Simulador Valora'!$X$73=1,0,B231*'Simulador Valora'!$X$76))","v":0},null,{"$f":"IF(B231<=0,0,IF('Simulador Valora'!$V$40=1,'Simulador Valora'!$L$52,IF('Simulador Valora'!$V$40=3,'Simulador Valora'!$I$52,IF('Simulador Valora'!$V$40=4,'Simulador Valora'!$E$52))))","v":0},null,0,null,null,null,17,8,0,0,0,0,0.12,0,0,0,0,0,0,"",{"$f":"IF(AJ231<=0,0,IF('Simulador Valora'!$X$73=1,0,AJ231*'Simulador Valora'!$X$76))+IF(AJ231<=0,0,IF('Simulador Valora'!$V$40=1,'Simulador Valora'!$L$52,IF('Simulador Valora'!$V$40=3,'Simulador Valora'!$I$52,IF('Simulador Valora'!$V$40=4,'Simulador Valora'!$E$52))))","v":0},null,0,0,"",0,212]
[213,0,null,{"$f":"IF(B232+F232-D231<=0,B232+F232,IF(A232=$B$10,$F$10,IF(A232=$B$11,$F$11,IF(A232=$B$12,$F$12,IF(A232=$B$13,$F$13,IF(A232=$B$14,$F$14,IF(AND('Simulador Valora'!$AE$45=2,L231=0),D231*(1+Z232),IF($AO$3=2,B232*AI232,D231*(1+Z232)))))))))","v":0},null,0,null,0,null,null,null,null,null,{"$f":"IF(OR('Simulador Valora'!$T$65=1,'Simulador Valora'!$T$65=3),0,L232*'Simulador Valora'!$T$66*'Simulador Valora'!$U$64)","v":0},null,0,null,0,null,{"$f":"IF(B232<=0,0,IF('Simulador Valora'!$X$73=1,0,B232*'Simulador Valora'!$X$76))","v":0},null,{"$f":"IF(B232<=0,0,IF('Simulador Valora'!$V$40=1,'Simulador Valora'!$L$52,IF('Simulador Valora'!$V$40=3,'Simulador Valora'!$I$52,IF('Simulador Valora'!$V$40=4,'Simulador Valora'!$E$52))))","v":0},null,0,null,null,null,17,9,0,0,0,0,0.12,0,0,0,0,0,0,"",{"$f":"IF(AJ232<=0,0,IF('Simulador Valora'!$X$73=1,0,AJ232*'Simulador Valora'!$X$76))+IF(AJ232<=0,0,IF('Simulador Valora'!$V$40=1,'Simulador Valora'!$L$52,IF('Simulador Valora'!$V$40=3,'Simulador Valora'!$I$52,IF('Simulador Valora'!$V$40=4,'Simulador Valora'!$E$52))))","v":0},null,0,0,"",0,213]
[214,0,null,{"$f":"IF(B233+F233-D232<=0,B233+F233,IF(A233=$B$10,$F$10,IF(A233=$B$11,$F$11,IF(A233=$B$12,$F$12,IF(A233=$B$13,$F$13,IF(A233=$B$14,$F$14,IF(AND('Simulador Valora'!$AE$45=2,L232=0),D232*(1+Z233),IF($AO$3=2,B233*AI233,D232*(1+Z233)))))))))","v":0},null,0,null,0,null,{"$f":"IF(B233-H233=0,0,J231)","v":0},null,null,null,{"$f":"IF(OR('Simulador Valora'!$T$65=1,'Simulador Valora'!$T$65=3),0,L233*'Simulador Valora'!$T$66*'Simulador Valora'!$U$64)","v":0},null,0,null,0,null,{"$f":"IF(B233<=0,0,IF('Simulador Valora'!$X$73=1,0,B233*'Simulador Valora'!$X$76))","v":0},null,{"$f":"IF(B233<=0,0,IF('Simulador Valora'!$V$40=1,'Simulador Valora'!$L$52,IF('Simulador Valora'!$V$40=3,'Simulador Valora'!$I$52,IF('Simulador Valora'!$V$40=4,'Simulador Valora'!$E$52))))","v":0},null,0,null,null,null,17,10,0,0,0,0,0.12,0,0,0,0,0,0,"",{"$f":"IF(AJ233<=0,0,IF('Simulador Valora'!$X$73=1,0,AJ233*'Simulador Valora'!$X$76))+IF(AJ233<=0,0,IF('Simulador Valora'!$V$40=1,'Simulador Valora'!$L$52,IF('Simulador Valora'!$V$40=3,'Simulador Valora'!$I$52,IF('Simulador Valora'!$V$40=4,'Simulador Valora'!$E$52))))","v":0},null,0,0,"",0,214]
[215,0,null,{"$f":"IF(B234+F234-D233<=0,B234+F234,IF(A234=$B$10,$F$10,IF(A234=$B$11,$F$11,IF(A234=$B$12,$F$12,IF(A234=$B$13,$F$13,IF(A234=$B$14,$F$14,IF(AND('Simulador Valora'!$AE$45=2,L233=0),D233*(1+Z234),IF($AO$3=2,B234*AI234,D233*(1+Z234)))))))))","v":0},null,0,null,0,null,null,null,null,null,{"$f":"IF(OR('Simulador Valora'!$T$65=1,'Simulador Valora'!$T$65=3),0,L234*'Simulador Valora'!$T$66*'Simulador Valora'!$U$64)","v":0},null,0,null,0,null,{"$f":"IF(B234<=0,0,IF('Simulador Valora'!$X$73=1,0,B234*'Simulador Valora'!$X$76))","v":0},null,{"$f":"IF(B234<=0,0,IF('Simulador Valora'!$V$40=1,'Simulador Valora'!$L$52,IF('Simulador Valora'!$V$40=3,'Simulador Valora'!$I$52,IF('Simulador Valora'!$V$40=4,'Simulador Valora'!$E$52))))","v":0},null,0,null,null,null,17,11,0,0,0,0,0.12,0,0,0,0,0,0,"",{"$f":"IF(AJ234<=0,0,IF('Simulador Valora'!$X$73=1,0,AJ234*'Simulador Valora'!$X$76))+IF(AJ234<=0,0,IF('Simulador Valora'!$V$40=1,'Simulador Valora'!$L$52,IF('Simulador Valora'!$V$40=3,'Simulador Valora'!$I$52,IF('Simulador Valora'!$V$40=4,'Simulador Valora'!$E$52))))","v":0},null,0,0,"",0,215]
[216,0,null,{"$f":"IF(B235+F235-D234<=0,B235+F235,IF(A235=$B$10,$F$10,IF(A235=$B$11,$F$11,IF(A235=$B$12,$F$12,IF(A235=$B$13,$F$13,IF(A235=$B$14,$F$14,IF(AND('Simulador Valora'!$AE$45=2,L234=0),D234*(1+Z235),IF($AO$3=2,B235*AI235,D234*(1+Z235)))))))))","v":0},null,0,null,0,null,{"$f":"IF(B235-H235=0,0,J233)","v":0},null,null,null,{"$f":"IF(OR('Simulador Valora'!$T$65=1,'Simulador Valora'!$T$65=3),0,L235*'Simulador Valora'!$T$66*'Simulador Valora'!$U$64)","v":0},null,0,null,0,null,{"$f":"IF(B235<=0,0,IF('Simulador Valora'!$X$73=1,0,B235*'Simulador Valora'!$X$76))","v":0},null,{"$f":"IF(B235<=0,0,IF('Simulador Valora'!$V$40=1,'Simulador Valora'!$L$52,IF('Simulador Valora'!$V$40=3,'Simulador Valora'!$I$52,IF('Simulador Valora'!$V$40=4,'Simulador Valora'!$E$52))))","v":0},null,0,null,null,null,18,0,0,0,0,0,0.12,0,0,0,0,0,0,"",{"$f":"IF(AJ235<=0,0,IF('Simulador Valora'!$X$73=1,0,AJ235*'Simulador Valora'!$X$76))+IF(AJ235<=0,0,IF('Simulador Valora'!$V$40=1,'Simulador Valora'!$L$52,IF('Simulador Valora'!$V$40=3,'Simulador Valora'!$I$52,IF('Simulador Valora'!$V$40=4,'Simulador Valora'!$E$52))))","v":0},null,0,0,"",0,216]
[217,0,null,{"$f":"IF(B236+F236-D235<=0,B236+F236,IF(A236=$B$10,$F$10,IF(A236=$B$11,$F$11,IF(A236=$B$12,$F$12,IF(A236=$B$13,$F$13,IF(A236=$B$14,$F$14,IF(AND('Simulador Valora'!$AE$45=2,L235=0),D235*(1+Z236),IF($AO$3=2,B236*AI236,D235*(1+Z236)))))))))","v":0},null,0,null,0,null,null,null,null,null,{"$f":"IF(OR('Simulador Valora'!$T$65=1,'Simulador Valora'!$T$65=3),0,L236*'Simulador Valora'!$T$66*'Simulador Valora'!$U$64)","v":0},null,0,null,0,null,{"$f":"IF(B236<=0,0,IF('Simulador Valora'!$X$73=1,0,B236*'Simulador Valora'!$X$76))","v":0},null,{"$f":"IF(B236<=0,0,IF('Simulador Valora'!$V$40=1,'Simulador Valora'!$L$52,IF('Simulador Valora'!$V$40=3,'Simulador Valora'!$I$52,IF('Simulador Valora'!$V$40=4,'Simulador Valora'!$E$52))))","v":0},null,0,null,{"$f":"IF(B236<=0,0,'Simulador Valora'!$AF$53)","v":0},null,18,1,0,0,0,0,{"$f":"IF(AH235=$AG$4,AH235,IF(AH235-0.25%<=$AG$4,$AG$4,AH235-0.25%))","v":0.12},0,0,0,0,0,0,"",{"$f":"IF(AJ236<=0,0,IF('Simulador Valora'!$X$73=1,0,AJ236*'Simulador Valora'!$X$76))+IF(AJ236<=0,0,IF('Simulador Valora'!$V$40=1,'Simulador Valora'!$L$52,IF('Simulador Valora'!$V$40=3,'Simulador Valora'!$I$52,IF('Simulador Valora'!$V$40=4,'Simulador Valora'!$E$52))))","v":0},{"$f":"IF(AJ236<=0,0,$AQ$32)","v":0},0,0,"",0,217]
[218,0,null,{"$f":"IF(B237+F237-D236<=0,B237+F237,IF(A237=$B$10,$F$10,IF(A237=$B$11,$F$11,IF(A237=$B$12,$F$12,IF(A237=$B$13,$F$13,IF(A237=$B$14,$F$14,IF(AND('Simulador Valora'!$AE$45=2,L236=0),D236*(1+Z237),IF($AO$3=2,B237*AI237,D236*(1+Z237)))))))))","v":0},null,0,null,0,null,{"$f":"IF(B237-H237=0,0,J235*(1+(3%)))","v":0},null,null,null,{"$f":"IF(OR('Simulador Valora'!$T$65=1,'Simulador Valora'!$T$65=3),0,L237*'Simulador Valora'!$T$66*'Simulador Valora'!$U$64)","v":0},null,0,null,0,null,{"$f":"IF(B237<=0,0,IF('Simulador Valora'!$X$73=1,0,B237*'Simulador Valora'!$X$76))","v":0},null,{"$f":"IF(B237<=0,0,IF('Simulador Valora'!$V$40=1,'Simulador Valora'!$L$52,IF('Simulador Valora'!$V$40=3,'Simulador Valora'!$I$52,IF('Simulador Valora'!$V$40=4,'Simulador Valora'!$E$52))))","v":0},null,0,null,null,null,18,2,0,0,0,0,{"$f":"AH236","v":0.12},0,0,0,0,0,0,"",{"$f":"IF(AJ237<=0,0,IF('Simulador Valora'!$X$73=1,0,AJ237*'Simulador Valora'!$X$76))+IF(AJ237<=0,0,IF('Simulador Valora'!$V$40=1,'Simulador Valora'!$L$52,IF('Simulador Valora'!$V$40=3,'Simulador Valora'!$I$52,IF('Simulador Valora'!$V$40=4,'Simulador Valora'!$E$52))))","v":0},null,0,0,"",0,218]
[219,0,null,{"$f":"IF(B238+F238-D237<=0,B238+F238,IF(A238=$B$10,$F$10,IF(A238=$B$11,$F$11,IF(A238=$B$12,$F$12,IF(A238=$B$13,$F$13,IF(A238=$B$14,$F$14,IF(AND('Simulador Valora'!$AE$45=2,L237=0),D237*(1+Z238),IF($AO$3=2,B238*AI238,D237*(1+Z238)))))))))","v":0},null,0,null,0,null,null,null,null,null,{"$f":"IF(OR('Simulador Valora'!$T$65=1,'Simulador Valora'!$T$65=3),0,L238*'Simulador Valora'!$T$66*'Simulador Valora'!$U$64)","v":0},null,0,null,0,null,{"$f":"IF(B238<=0,0,IF('Simulador Valora'!$X$73=1,0,B238*'Simulador Valora'!$X$76))","v":0},null,{"$f":"IF(B238<=0,0,IF('Simulador Valora'!$V$40=1,'Simulador Valora'!$L$52,IF('Simulador Valora'!$V$40=3,'Simulador Valora'!$I$52,IF('Simulador Valora'!$V$40=4,'Simulador Valora'!$E$52))))","v":0},null,0,null,null,null,18,3,0,0,0,0,{"$f":"AH237","v":0.12},0,0,0,0,0,0,"",{"$f":"IF(AJ238<=0,0,IF('Simulador Valora'!$X$73=1,0,AJ238*'Simulador Valora'!$X$76))+IF(AJ238<=0,0,IF('Simulador Valora'!$V$40=1,'Simulador Valora'!$L$52,IF('Simulador Valora'!$V$40=3,'Simulador Valora'!$I$52,IF('Simulador Valora'!$V$40=4,'Simulador Valora'!$E$52))))","v":0},null,0,0,"",0,219]
[220,0,null,{"$f":"IF(B239+F239-D238<=0,B239+F239,IF(A239=$B$10,$F$10,IF(A239=$B$11,$F$11,IF(A239=$B$12,$F$12,IF(A239=$B$13,$F$13,IF(A239=$B$14,$F$14,IF(AND('Simulador Valora'!$AE$45=2,L238=0),D238*(1+Z239),IF($AO$3=2,B239*AI239,D238*(1+Z239)))))))))","v":0},null,0,null,0,null,{"$f":"IF(B239-H239=0,0,J237)","v":0},null,null,null,{"$f":"IF(OR('Simulador Valora'!$T$65=1,'Simulador Valora'!$T$65=3),0,L239*'Simulador Valora'!$T$66*'Simulador Valora'!$U$64)","v":0},null,0,null,0,null,{"$f":"IF(B239<=0,0,IF('Simulador Valora'!$X$73=1,0,B239*'Simulador Valora'!$X$76))","v":0},null,{"$f":"IF(B239<=0,0,IF('Simulador Valora'!$V$40=1,'Simulador Valora'!$L$52,IF('Simulador Valora'!$V$40=3,'Simulador Valora'!$I$52,IF('Simulador Valora'!$V$40=4,'Simulador Valora'!$E$52))))","v":0},null,0,null,null,null,18,4,0,0,0,0,0.12,0,0,0,0,0,0,"",{"$f":"IF(AJ239<=0,0,IF('Simulador Valora'!$X$73=1,0,AJ239*'Simulador Valora'!$X$76))+IF(AJ239<=0,0,IF('Simulador Valora'!$V$40=1,'Simulador Valora'!$L$52,IF('Simulador Valora'!$V$40=3,'Simulador Valora'!$I$52,IF('Simulador Valora'!$V$40=4,'Simulador Valora'!$E$52))))","v":0},null,0,0,"",0,220]
[221,0,null,{"$f":"IF(B240+F240-D239<=0,B240+F240,IF(A240=$B$10,$F$10,IF(A240=$B$11,$F$11,IF(A240=$B$12,$F$12,IF(A240=$B$13,$F$13,IF(A240=$B$14,$F$14,IF(AND('Simulador Valora'!$AE$45=2,L239=0),D239*(1+Z240),IF($AO$3=2,B240*AI240,D239*(1+Z240)))))))))","v":0},null,0,null,0,null,null,null,null,null,{"$f":"IF(OR('Simulador Valora'!$T$65=1,'Simulador Valora'!$T$65=3),0,L240*'Simulador Valora'!$T$66*'Simulador Valora'!$U$64)","v":0},null,0,null,0,null,{"$f":"IF(B240<=0,0,IF('Simulador Valora'!$X$73=1,0,B240*'Simulador Valora'!$X$76))","v":0},null,{"$f":"IF(B240<=0,0,IF('Simulador Valora'!$V$40=1,'Simulador Valora'!$L$52,IF('Simulador Valora'!$V$40=3,'Simulador Valora'!$I$52,IF('Simulador Valora'!$V$40=4,'Simulador Valora'!$E$52))))","v":0},null,0,null,null,null,18,5,0,0,0,0,0.12,0,0,0,0,0,0,"",{"$f":"IF(AJ240<=0,0,IF('Simulador Valora'!$X$73=1,0,AJ240*'Simulador Valora'!$X$76))+IF(AJ240<=0,0,IF('Simulador Valora'!$V$40=1,'Simulador Valora'!$L$52,IF('Simulador Valora'!$V$40=3,'Simulador Valora'!$I$52,IF('Simulador Valora'!$V$40=4,'Simulador Valora'!$E$52))))","v":0},null,0,0,"",0,221]
[222,0,null,{"$f":"IF(B241+F241-D240<=0,B241+F241,IF(A241=$B$10,$F$10,IF(A241=$B$11,$F$11,IF(A241=$B$12,$F$12,IF(A241=$B$13,$F$13,IF(A241=$B$14,$F$14,IF(AND('Simulador Valora'!$AE$45=2,L240=0),D240*(1+Z241),IF($AO$3=2,B241*AI241,D240*(1+Z241)))))))))","v":0},null,0,null,0,null,{"$f":"IF(B241-H241=0,0,J239)","v":0},null,null,null,{"$f":"IF(OR('Simulador Valora'!$T$65=1,'Simulador Valora'!$T$65=3),0,L241*'Simulador Valora'!$T$66*'Simulador Valora'!$U$64)","v":0},null,0,null,0,null,{"$f":"IF(B241<=0,0,IF('Simulador Valora'!$X$73=1,0,B241*'Simulador Valora'!$X$76))","v":0},null,{"$f":"IF(B241<=0,0,IF('Simulador Valora'!$V$40=1,'Simulador Valora'!$L$52,IF('Simulador Valora'!$V$40=3,'Simulador Valora'!$I$52,IF('Simulador Valora'!$V$40=4,'Simulador Valora'!$E$52))))","v":0},null,0,null,null,null,18,6,0,0,0,0,0.12,0,0,0,0,0,0,"",{"$f":"IF(AJ241<=0,0,IF('Simulador Valora'!$X$73=1,0,AJ241*'Simulador Valora'!$X$76))+IF(AJ241<=0,0,IF('Simulador Valora'!$V$40=1,'Simulador Valora'!$L$52,IF('Simulador Valora'!$V$40=3,'Simulador Valora'!$I$52,IF('Simulador Valora'!$V$40=4,'Simulador Valora'!$E$52))))","v":0},null,0,0,"",0,222]
[223,0,null,{"$f":"IF(B242+F242-D241<=0,B242+F242,IF(A242=$B$10,$F$10,IF(A242=$B$11,$F$11,IF(A242=$B$12,$F$12,IF(A242=$B$13,$F$13,IF(A242=$B$14,$F$14,IF(AND('Simulador Valora'!$AE$45=2,L241=0),D241*(1+Z242),IF($AO$3=2,B242*AI242,D241*(1+Z242)))))))))","v":0},null,0,null,0,null,null,null,null,null,{"$f":"IF(OR('Simulador Valora'!$T$65=1,'Simulador Valora'!$T$65=3),0,L242*'Simulador Valora'!$T$66*'Simulador Valora'!$U$64)","v":0},null,0,null,0,null,{"$f":"IF(B242<=0,0,IF('Simulador Valora'!$X$73=1,0,B242*'Simulador Valora'!$X$76))","v":0},null,{"$f":"IF(B242<=0,0,IF('Simulador Valora'!$V$40=1,'Simulador Valora'!$L$52,IF('Simulador Valora'!$V$40=3,'Simulador Valora'!$I$52,IF('Simulador Valora'!$V$40=4,'Simulador Valora'!$E$52))))","v":0},null,0,null,null,null,18,7,0,0,0,0,0.12,0,0,0,0,0,0,"",{"$f":"IF(AJ242<=0,0,IF('Simulador Valora'!$X$73=1,0,AJ242*'Simulador Valora'!$X$76))+IF(AJ242<=0,0,IF('Simulador Valora'!$V$40=1,'Simulador Valora'!$L$52,IF('Simulador Valora'!$V$40=3,'Simulador Valora'!$I$52,IF('Simulador Valora'!$V$40=4,'Simulador Valora'!$E$52))))","v":0},null,0,0,"",0,223]
[224,0,null,{"$f":"IF(B243+F243-D242<=0,B243+F243,IF(A243=$B$10,$F$10,IF(A243=$B$11,$F$11,IF(A243=$B$12,$F$12,IF(A243=$B$13,$F$13,IF(A243=$B$14,$F$14,IF(AND('Simulador Valora'!$AE$45=2,L242=0),D242*(1+Z243),IF($AO$3=2,B243*AI243,D242*(1+Z243)))))))))","v":0},null,0,null,0,null,{"$f":"IF(B243-H243=0,0,J241)","v":0},null,null,null,{"$f":"IF(OR('Simulador Valora'!$T$65=1,'Simulador Valora'!$T$65=3),0,L243*'Simulador Valora'!$T$66*'Simulador Valora'!$U$64)","v":0},null,0,null,0,null,{"$f":"IF(B243<=0,0,IF('Simulador Valora'!$X$73=1,0,B243*'Simulador Valora'!$X$76))","v":0},null,{"$f":"IF(B243<=0,0,IF('Simulador Valora'!$V$40=1,'Simulador Valora'!$L$52,IF('Simulador Valora'!$V$40=3,'Simulador Valora'!$I$52,IF('Simulador Valora'!$V$40=4,'Simulador Valora'!$E$52))))","v":0},null,0,null,null,null,18,8,0,0,0,0,0.12,0,0,0,0,0,0,"",{"$f":"IF(AJ243<=0,0,IF('Simulador Valora'!$X$73=1,0,AJ243*'Simulador Valora'!$X$76))+IF(AJ243<=0,0,IF('Simulador Valora'!$V$40=1,'Simulador Valora'!$L$52,IF('Simulador Valora'!$V$40=3,'Simulador Valora'!$I$52,IF('Simulador Valora'!$V$40=4,'Simulador Valora'!$E$52))))","v":0},null,0,0,"",0,224]
[225,0,null,{"$f":"IF(B244+F244-D243<=0,B244+F244,IF(A244=$B$10,$F$10,IF(A244=$B$11,$F$11,IF(A244=$B$12,$F$12,IF(A244=$B$13,$F$13,IF(A244=$B$14,$F$14,IF(AND('Simulador Valora'!$AE$45=2,L243=0),D243*(1+Z244),IF($AO$3=2,B244*AI244,D243*(1+Z244)))))))))","v":0},null,0,null,0,null,null,null,null,null,{"$f":"IF(OR('Simulador Valora'!$T$65=1,'Simulador Valora'!$T$65=3),0,L244*'Simulador Valora'!$T$66*'Simulador Valora'!$U$64)","v":0},null,0,null,0,null,{"$f":"IF(B244<=0,0,IF('Simulador Valora'!$X$73=1,0,B244*'Simulador Valora'!$X$76))","v":0},null,{"$f":"IF(B244<=0,0,IF('Simulador Valora'!$V$40=1,'Simulador Valora'!$L$52,IF('Simulador Valora'!$V$40=3,'Simulador Valora'!$I$52,IF('Simulador Valora'!$V$40=4,'Simulador Valora'!$E$52))))","v":0},null,0,null,null,null,18,9,0,0,0,0,0.12,0,0,0,0,0,0,"",{"$f":"IF(AJ244<=0,0,IF('Simulador Valora'!$X$73=1,0,AJ244*'Simulador Valora'!$X$76))+IF(AJ244<=0,0,IF('Simulador Valora'!$V$40=1,'Simulador Valora'!$L$52,IF('Simulador Valora'!$V$40=3,'Simulador Valora'!$I$52,IF('Simulador Valora'!$V$40=4,'Simulador Valora'!$E$52))))","v":0},null,0,0,"",0,225]
[226,0,null,{"$f":"IF(B245+F245-D244<=0,B245+F245,IF(A245=$B$10,$F$10,IF(A245=$B$11,$F$11,IF(A245=$B$12,$F$12,IF(A245=$B$13,$F$13,IF(A245=$B$14,$F$14,IF(AND('Simulador Valora'!$AE$45=2,L244=0),D244*(1+Z245),IF($AO$3=2,B245*AI245,D244*(1+Z245)))))))))","v":0},null,0,null,0,null,{"$f":"IF(B245-H245=0,0,J243)","v":0},null,null,null,{"$f":"IF(OR('Simulador Valora'!$T$65=1,'Simulador Valora'!$T$65=3),0,L245*'Simulador Valora'!$T$66*'Simulador Valora'!$U$64)","v":0},null,0,null,0,null,{"$f":"IF(B245<=0,0,IF('Simulador Valora'!$X$73=1,0,B245*'Simulador Valora'!$X$76))","v":0},null,{"$f":"IF(B245<=0,0,IF('Simulador Valora'!$V$40=1,'Simulador Valora'!$L$52,IF('Simulador Valora'!$V$40=3,'Simulador Valora'!$I$52,IF('Simulador Valora'!$V$40=4,'Simulador Valora'!$E$52))))","v":0},null,0,null,null,null,18,10,0,0,0,0,0.12,0,0,0,0,0,0,"",{"$f":"IF(AJ245<=0,0,IF('Simulador Valora'!$X$73=1,0,AJ245*'Simulador Valora'!$X$76))+IF(AJ245<=0,0,IF('Simulador Valora'!$V$40=1,'Simulador Valora'!$L$52,IF('Simulador Valora'!$V$40=3,'Simulador Valora'!$I$52,IF('Simulador Valora'!$V$40=4,'Simulador Valora'!$E$52))))","v":0},null,0,0,"",0,226]
[227,0,null,{"$f":"IF(B246+F246-D245<=0,B246+F246,IF(A246=$B$10,$F$10,IF(A246=$B$11,$F$11,IF(A246=$B$12,$F$12,IF(A246=$B$13,$F$13,IF(A246=$B$14,$F$14,IF(AND('Simulador Valora'!$AE$45=2,L245=0),D245*(1+Z246),IF($AO$3=2,B246*AI246,D245*(1+Z246)))))))))","v":0},null,0,null,0,null,null,null,null,null,{"$f":"IF(OR('Simulador Valora'!$T$65=1,'Simulador Valora'!$T$65=3),0,L246*'Simulador Valora'!$T$66*'Simulador Valora'!$U$64)","v":0},null,0,null,0,null,{"$f":"IF(B246<=0,0,IF('Simulador Valora'!$X$73=1,0,B246*'Simulador Valora'!$X$76))","v":0},null,{"$f":"IF(B246<=0,0,IF('Simulador Valora'!$V$40=1,'Simulador Valora'!$L$52,IF('Simulador Valora'!$V$40=3,'Simulador Valora'!$I$52,IF('Simulador Valora'!$V$40=4,'Simulador Valora'!$E$52))))","v":0},null,0,null,null,null,18,11,0,0,0,0,0.12,0,0,0,0,0,0,"",{"$f":"IF(AJ246<=0,0,IF('Simulador Valora'!$X$73=1,0,AJ246*'Simulador Valora'!$X$76))+IF(AJ246<=0,0,IF('Simulador Valora'!$V$40=1,'Simulador Valora'!$L$52,IF('Simulador Valora'!$V$40=3,'Simulador Valora'!$I$52,IF('Simulador Valora'!$V$40=4,'Simulador Valora'!$E$52))))","v":0},null,0,0,"",0,227]
[228,0,null,{"$f":"IF(B247+F247-D246<=0,B247+F247,IF(A247=$B$10,$F$10,IF(A247=$B$11,$F$11,IF(A247=$B$12,$F$12,IF(A247=$B$13,$F$13,IF(A247=$B$14,$F$14,IF(AND('Simulador Valora'!$AE$45=2,L246=0),D246*(1+Z247),IF($AO$3=2,B247*AI247,D246*(1+Z247)))))))))","v":0},null,0,null,0,null,{"$f":"IF(B247-H247=0,0,J245)","v":0},null,null,null,{"$f":"IF(OR('Simulador Valora'!$T$65=1,'Simulador Valora'!$T$65=3),0,L247*'Simulador Valora'!$T$66*'Simulador Valora'!$U$64)","v":0},null,0,null,0,null,{"$f":"IF(B247<=0,0,IF('Simulador Valora'!$X$73=1,0,B247*'Simulador Valora'!$X$76))","v":0},null,{"$f":"IF(B247<=0,0,IF('Simulador Valora'!$V$40=1,'Simulador Valora'!$L$52,IF('Simulador Valora'!$V$40=3,'Simulador Valora'!$I$52,IF('Simulador Valora'!$V$40=4,'Simulador Valora'!$E$52))))","v":0},null,0,null,null,null,19,0,0,0,0,0,0.12,0,0,0,0,0,0,"",{"$f":"IF(AJ247<=0,0,IF('Simulador Valora'!$X$73=1,0,AJ247*'Simulador Valora'!$X$76))+IF(AJ247<=0,0,IF('Simulador Valora'!$V$40=1,'Simulador Valora'!$L$52,IF('Simulador Valora'!$V$40=3,'Simulador Valora'!$I$52,IF('Simulador Valora'!$V$40=4,'Simulador Valora'!$E$52))))","v":0},null,0,0,"",0,228]
[229,0,null,{"$f":"IF(B248+F248-D247<=0,B248+F248,IF(A248=$B$10,$F$10,IF(A248=$B$11,$F$11,IF(A248=$B$12,$F$12,IF(A248=$B$13,$F$13,IF(A248=$B$14,$F$14,IF(AND('Simulador Valora'!$AE$45=2,L247=0),D247*(1+Z248),IF($AO$3=2,B248*AI248,D247*(1+Z248)))))))))","v":0},null,0,null,0,null,null,null,null,null,{"$f":"IF(OR('Simulador Valora'!$T$65=1,'Simulador Valora'!$T$65=3),0,L248*'Simulador Valora'!$T$66*'Simulador Valora'!$U$64)","v":0},null,0,null,0,null,{"$f":"IF(B248<=0,0,IF('Simulador Valora'!$X$73=1,0,B248*'Simulador Valora'!$X$76))","v":0},null,{"$f":"IF(B248<=0,0,IF('Simulador Valora'!$V$40=1,'Simulador Valora'!$L$52,IF('Simulador Valora'!$V$40=3,'Simulador Valora'!$I$52,IF('Simulador Valora'!$V$40=4,'Simulador Valora'!$E$52))))","v":0},null,0,null,{"$f":"IF(B248<=0,0,'Simulador Valora'!$AF$53)","v":0},null,19,1,0,0,0,0,{"$f":"IF(AH247=$AG$4,AH247,IF(AH247-0.25%<=$AG$4,$AG$4,AH247-0.25%))","v":0.12},0,0,0,0,0,0,"",{"$f":"IF(AJ248<=0,0,IF('Simulador Valora'!$X$73=1,0,AJ248*'Simulador Valora'!$X$76))+IF(AJ248<=0,0,IF('Simulador Valora'!$V$40=1,'Simulador Valora'!$L$52,IF('Simulador Valora'!$V$40=3,'Simulador Valora'!$I$52,IF('Simulador Valora'!$V$40=4,'Simulador Valora'!$E$52))))","v":0},{"$f":"IF(AJ248<=0,0,$AQ$32)","v":0},0,0,"",0,229]
[230,0,null,{"$f":"IF(B249+F249-D248<=0,B249+F249,IF(A249=$B$10,$F$10,IF(A249=$B$11,$F$11,IF(A249=$B$12,$F$12,IF(A249=$B$13,$F$13,IF(A249=$B$14,$F$14,IF(AND('Simulador Valora'!$AE$45=2,L248=0),D248*(1+Z249),IF($AO$3=2,B249*AI249,D248*(1+Z249)))))))))","v":0},null,0,null,0,null,{"$f":"IF(B249-H249=0,0,J247*(1+(3%)))","v":0},null,null,null,{"$f":"IF(OR('Simulador Valora'!$T$65=1,'Simulador Valora'!$T$65=3),0,L249*'Simulador Valora'!$T$66*'Simulador Valora'!$U$64)","v":0},null,0,null,0,null,{"$f":"IF(B249<=0,0,IF('Simulador Valora'!$X$73=1,0,B249*'Simulador Valora'!$X$76))","v":0},null,{"$f":"IF(B249<=0,0,IF('Simulador Valora'!$V$40=1,'Simulador Valora'!$L$52,IF('Simulador Valora'!$V$40=3,'Simulador Valora'!$I$52,IF('Simulador Valora'!$V$40=4,'Simulador Valora'!$E$52))))","v":0},null,0,null,null,null,19,2,0,0,0,0,{"$f":"AH248","v":0.12},0,0,0,0,0,0,"",{"$f":"IF(AJ249<=0,0,IF('Simulador Valora'!$X$73=1,0,AJ249*'Simulador Valora'!$X$76))+IF(AJ249<=0,0,IF('Simulador Valora'!$V$40=1,'Simulador Valora'!$L$52,IF('Simulador Valora'!$V$40=3,'Simulador Valora'!$I$52,IF('Simulador Valora'!$V$40=4,'Simulador Valora'!$E$52))))","v":0},null,0,0,"",0,230]
[231,0,null,{"$f":"IF(B250+F250-D249<=0,B250+F250,IF(A250=$B$10,$F$10,IF(A250=$B$11,$F$11,IF(A250=$B$12,$F$12,IF(A250=$B$13,$F$13,IF(A250=$B$14,$F$14,IF(AND('Simulador Valora'!$AE$45=2,L249=0),D249*(1+Z250),IF($AO$3=2,B250*AI250,D249*(1+Z250)))))))))","v":0},null,0,null,0,null,null,null,null,null,{"$f":"IF(OR('Simulador Valora'!$T$65=1,'Simulador Valora'!$T$65=3),0,L250*'Simulador Valora'!$T$66*'Simulador Valora'!$U$64)","v":0},null,0,null,0,null,{"$f":"IF(B250<=0,0,IF('Simulador Valora'!$X$73=1,0,B250*'Simulador Valora'!$X$76))","v":0},null,{"$f":"IF(B250<=0,0,IF('Simulador Valora'!$V$40=1,'Simulador Valora'!$L$52,IF('Simulador Valora'!$V$40=3,'Simulador Valora'!$I$52,IF('Simulador Valora'!$V$40=4,'Simulador Valora'!$E$52))))","v":0},null,0,null,null,null,19,3,0,0,0,0,{"$f":"AH249","v":0.12},0,0,0,0,0,0,"",{"$f":"IF(AJ250<=0,0,IF('Simulador Valora'!$X$73=1,0,AJ250*'Simulador Valora'!$X$76))+IF(AJ250<=0,0,IF('Simulador Valora'!$V$40=1,'Simulador Valora'!$L$52,IF('Simulador Valora'!$V$40=3,'Simulador Valora'!$I$52,IF('Simulador Valora'!$V$40=4,'Simulador Valora'!$E$52))))","v":0},null,0,0,"",0,231]
[232,0,null,{"$f":"IF(B251+F251-D250<=0,B251+F251,IF(A251=$B$10,$F$10,IF(A251=$B$11,$F$11,IF(A251=$B$12,$F$12,IF(A251=$B$13,$F$13,IF(A251=$B$14,$F$14,IF(AND('Simulador Valora'!$AE$45=2,L250=0),D250*(1+Z251),IF($AO$3=2,B251*AI251,D250*(1+Z251)))))))))","v":0},null,0,null,0,null,{"$f":"IF(B251-H251=0,0,J249)","v":0},null,null,null,{"$f":"IF(OR('Simulador Valora'!$T$65=1,'Simulador Valora'!$T$65=3),0,L251*'Simulador Valora'!$T$66*'Simulador Valora'!$U$64)","v":0},null,0,null,0,null,{"$f":"IF(B251<=0,0,IF('Simulador Valora'!$X$73=1,0,B251*'Simulador Valora'!$X$76))","v":0},null,{"$f":"IF(B251<=0,0,IF('Simulador Valora'!$V$40=1,'Simulador Valora'!$L$52,IF('Simulador Valora'!$V$40=3,'Simulador Valora'!$I$52,IF('Simulador Valora'!$V$40=4,'Simulador Valora'!$E$52))))","v":0},null,0,null,null,null,19,4,0,0,0,0,0.12,0,0,0,0,0,0,"",{"$f":"IF(AJ251<=0,0,IF('Simulador Valora'!$X$73=1,0,AJ251*'Simulador Valora'!$X$76))+IF(AJ251<=0,0,IF('Simulador Valora'!$V$40=1,'Simulador Valora'!$L$52,IF('Simulador Valora'!$V$40=3,'Simulador Valora'!$I$52,IF('Simulador Valora'!$V$40=4,'Simulador Valora'!$E$52))))","v":0},null,0,0,"",0,232]
[233,0,null,{"$f":"IF(B252+F252-D251<=0,B252+F252,IF(A252=$B$10,$F$10,IF(A252=$B$11,$F$11,IF(A252=$B$12,$F$12,IF(A252=$B$13,$F$13,IF(A252=$B$14,$F$14,IF(AND('Simulador Valora'!$AE$45=2,L251=0),D251*(1+Z252),IF($AO$3=2,B252*AI252,D251*(1+Z252)))))))))","v":0},null,0,null,0,null,null,null,null,null,{"$f":"IF(OR('Simulador Valora'!$T$65=1,'Simulador Valora'!$T$65=3),0,L252*'Simulador Valora'!$T$66*'Simulador Valora'!$U$64)","v":0},null,0,null,0,null,{"$f":"IF(B252<=0,0,IF('Simulador Valora'!$X$73=1,0,B252*'Simulador Valora'!$X$76))","v":0},null,{"$f":"IF(B252<=0,0,IF('Simulador Valora'!$V$40=1,'Simulador Valora'!$L$52,IF('Simulador Valora'!$V$40=3,'Simulador Valora'!$I$52,IF('Simulador Valora'!$V$40=4,'Simulador Valora'!$E$52))))","v":0},null,0,null,null,null,19,5,0,0,0,0,0.12,0,0,0,0,0,0,"",{"$f":"IF(AJ252<=0,0,IF('Simulador Valora'!$X$73=1,0,AJ252*'Simulador Valora'!$X$76))+IF(AJ252<=0,0,IF('Simulador Valora'!$V$40=1,'Simulador Valora'!$L$52,IF('Simulador Valora'!$V$40=3,'Simulador Valora'!$I$52,IF('Simulador Valora'!$V$40=4,'Simulador Valora'!$E$52))))","v":0},null,0,0,"",0,233]
[234,0,null,{"$f":"IF(B253+F253-D252<=0,B253+F253,IF(A253=$B$10,$F$10,IF(A253=$B$11,$F$11,IF(A253=$B$12,$F$12,IF(A253=$B$13,$F$13,IF(A253=$B$14,$F$14,IF(AND('Simulador Valora'!$AE$45=2,L252=0),D252*(1+Z253),IF($AO$3=2,B253*AI253,D252*(1+Z253)))))))))","v":0},null,0,null,0,null,{"$f":"IF(B253-H253=0,0,J251)","v":0},null,null,null,{"$f":"IF(OR('Simulador Valora'!$T$65=1,'Simulador Valora'!$T$65=3),0,L253*'Simulador Valora'!$T$66*'Simulador Valora'!$U$64)","v":0},null,0,null,0,null,{"$f":"IF(B253<=0,0,IF('Simulador Valora'!$X$73=1,0,B253*'Simulador Valora'!$X$76))","v":0},null,{"$f":"IF(B253<=0,0,IF('Simulador Valora'!$V$40=1,'Simulador Valora'!$L$52,IF('Simulador Valora'!$V$40=3,'Simulador Valora'!$I$52,IF('Simulador Valora'!$V$40=4,'Simulador Valora'!$E$52))))","v":0},null,0,null,null,null,19,6,0,0,0,0,0.12,0,0,0,0,0,0,"",{"$f":"IF(AJ253<=0,0,IF('Simulador Valora'!$X$73=1,0,AJ253*'Simulador Valora'!$X$76))+IF(AJ253<=0,0,IF('Simulador Valora'!$V$40=1,'Simulador Valora'!$L$52,IF('Simulador Valora'!$V$40=3,'Simulador Valora'!$I$52,IF('Simulador Valora'!$V$40=4,'Simulador Valora'!$E$52))))","v":0},null,0,0,"",0,234]
[235,0,null,{"$f":"IF(B254+F254-D253<=0,B254+F254,IF(A254=$B$10,$F$10,IF(A254=$B$11,$F$11,IF(A254=$B$12,$F$12,IF(A254=$B$13,$F$13,IF(A254=$B$14,$F$14,IF(AND('Simulador Valora'!$AE$45=2,L253=0),D253*(1+Z254),IF($AO$3=2,B254*AI254,D253*(1+Z254)))))))))","v":0},null,0,null,0,null,null,null,null,null,{"$f":"IF(OR('Simulador Valora'!$T$65=1,'Simulador Valora'!$T$65=3),0,L254*'Simulador Valora'!$T$66*'Simulador Valora'!$U$64)","v":0},null,0,null,0,null,{"$f":"IF(B254<=0,0,IF('Simulador Valora'!$X$73=1,0,B254*'Simulador Valora'!$X$76))","v":0},null,{"$f":"IF(B254<=0,0,IF('Simulador Valora'!$V$40=1,'Simulador Valora'!$L$52,IF('Simulador Valora'!$V$40=3,'Simulador Valora'!$I$52,IF('Simulador Valora'!$V$40=4,'Simulador Valora'!$E$52))))","v":0},null,0,null,null,null,19,7,0,0,0,0,0.12,0,0,0,0,0,0,"",{"$f":"IF(AJ254<=0,0,IF('Simulador Valora'!$X$73=1,0,AJ254*'Simulador Valora'!$X$76))+IF(AJ254<=0,0,IF('Simulador Valora'!$V$40=1,'Simulador Valora'!$L$52,IF('Simulador Valora'!$V$40=3,'Simulador Valora'!$I$52,IF('Simulador Valora'!$V$40=4,'Simulador Valora'!$E$52))))","v":0},null,0,0,"",0,235]
[236,0,null,{"$f":"IF(B255+F255-D254<=0,B255+F255,IF(A255=$B$10,$F$10,IF(A255=$B$11,$F$11,IF(A255=$B$12,$F$12,IF(A255=$B$13,$F$13,IF(A255=$B$14,$F$14,IF(AND('Simulador Valora'!$AE$45=2,L254=0),D254*(1+Z255),IF($AO$3=2,B255*AI255,D254*(1+Z255)))))))))","v":0},null,0,null,0,null,{"$f":"IF(B255-H255=0,0,J253)","v":0},null,null,null,{"$f":"IF(OR('Simulador Valora'!$T$65=1,'Simulador Valora'!$T$65=3),0,L255*'Simulador Valora'!$T$66*'Simulador Valora'!$U$64)","v":0},null,0,null,0,null,{"$f":"IF(B255<=0,0,IF('Simulador Valora'!$X$73=1,0,B255*'Simulador Valora'!$X$76))","v":0},null,{"$f":"IF(B255<=0,0,IF('Simulador Valora'!$V$40=1,'Simulador Valora'!$L$52,IF('Simulador Valora'!$V$40=3,'Simulador Valora'!$I$52,IF('Simulador Valora'!$V$40=4,'Simulador Valora'!$E$52))))","v":0},null,0,null,null,null,19,8,0,0,0,0,0.12,0,0,0,0,0,0,"",{"$f":"IF(AJ255<=0,0,IF('Simulador Valora'!$X$73=1,0,AJ255*'Simulador Valora'!$X$76))+IF(AJ255<=0,0,IF('Simulador Valora'!$V$40=1,'Simulador Valora'!$L$52,IF('Simulador Valora'!$V$40=3,'Simulador Valora'!$I$52,IF('Simulador Valora'!$V$40=4,'Simulador Valora'!$E$52))))","v":0},null,0,0,"",0,236]
[237,0,null,{"$f":"IF(B256+F256-D255<=0,B256+F256,IF(A256=$B$10,$F$10,IF(A256=$B$11,$F$11,IF(A256=$B$12,$F$12,IF(A256=$B$13,$F$13,IF(A256=$B$14,$F$14,IF(AND('Simulador Valora'!$AE$45=2,L255=0),D255*(1+Z256),IF($AO$3=2,B256*AI256,D255*(1+Z256)))))))))","v":0},null,0,null,0,null,null,null,null,null,{"$f":"IF(OR('Simulador Valora'!$T$65=1,'Simulador Valora'!$T$65=3),0,L256*'Simulador Valora'!$T$66*'Simulador Valora'!$U$64)","v":0},null,0,null,0,null,{"$f":"IF(B256<=0,0,IF('Simulador Valora'!$X$73=1,0,B256*'Simulador Valora'!$X$76))","v":0},null,{"$f":"IF(B256<=0,0,IF('Simulador Valora'!$V$40=1,'Simulador Valora'!$L$52,IF('Simulador Valora'!$V$40=3,'Simulador Valora'!$I$52,IF('Simulador Valora'!$V$40=4,'Simulador Valora'!$E$52))))","v":0},null,0,null,null,null,19,9,0,0,0,0,0.12,0,0,0,0,0,0,"",{"$f":"IF(AJ256<=0,0,IF('Simulador Valora'!$X$73=1,0,AJ256*'Simulador Valora'!$X$76))+IF(AJ256<=0,0,IF('Simulador Valora'!$V$40=1,'Simulador Valora'!$L$52,IF('Simulador Valora'!$V$40=3,'Simulador Valora'!$I$52,IF('Simulador Valora'!$V$40=4,'Simulador Valora'!$E$52))))","v":0},null,0,0,"",0,237]
[238,0,null,{"$f":"IF(B257+F257-D256<=0,B257+F257,IF(A257=$B$10,$F$10,IF(A257=$B$11,$F$11,IF(A257=$B$12,$F$12,IF(A257=$B$13,$F$13,IF(A257=$B$14,$F$14,IF(AND('Simulador Valora'!$AE$45=2,L256=0),D256*(1+Z257),IF($AO$3=2,B257*AI257,D256*(1+Z257)))))))))","v":0},null,0,null,0,null,{"$f":"IF(B257-H257=0,0,J255)","v":0},null,null,null,{"$f":"IF(OR('Simulador Valora'!$T$65=1,'Simulador Valora'!$T$65=3),0,L257*'Simulador Valora'!$T$66*'Simulador Valora'!$U$64)","v":0},null,0,null,0,null,{"$f":"IF(B257<=0,0,IF('Simulador Valora'!$X$73=1,0,B257*'Simulador Valora'!$X$76))","v":0},null,{"$f":"IF(B257<=0,0,IF('Simulador Valora'!$V$40=1,'Simulador Valora'!$L$52,IF('Simulador Valora'!$V$40=3,'Simulador Valora'!$I$52,IF('Simulador Valora'!$V$40=4,'Simulador Valora'!$E$52))))","v":0},null,0,null,null,null,19,10,0,0,0,0,0.12,0,0,0,0,0,0,"",{"$f":"IF(AJ257<=0,0,IF('Simulador Valora'!$X$73=1,0,AJ257*'Simulador Valora'!$X$76))+IF(AJ257<=0,0,IF('Simulador Valora'!$V$40=1,'Simulador Valora'!$L$52,IF('Simulador Valora'!$V$40=3,'Simulador Valora'!$I$52,IF('Simulador Valora'!$V$40=4,'Simulador Valora'!$E$52))))","v":0},null,0,0,"",0,238]
[239,0,null,{"$f":"IF(B258+F258-D257<=0,B258+F258,IF(A258=$B$10,$F$10,IF(A258=$B$11,$F$11,IF(A258=$B$12,$F$12,IF(A258=$B$13,$F$13,IF(A258=$B$14,$F$14,IF(AND('Simulador Valora'!$AE$45=2,L257=0),D257*(1+Z258),IF($AO$3=2,B258*AI258,D257*(1+Z258)))))))))","v":0},null,0,null,0,null,null,null,null,null,{"$f":"IF(OR('Simulador Valora'!$T$65=1,'Simulador Valora'!$T$65=3),0,L258*'Simulador Valora'!$T$66*'Simulador Valora'!$U$64)","v":0},null,0,null,0,null,{"$f":"IF(B258<=0,0,IF('Simulador Valora'!$X$73=1,0,B258*'Simulador Valora'!$X$76))","v":0},null,{"$f":"IF(B258<=0,0,IF('Simulador Valora'!$V$40=1,'Simulador Valora'!$L$52,IF('Simulador Valora'!$V$40=3,'Simulador Valora'!$I$52,IF('Simulador Valora'!$V$40=4,'Simulador Valora'!$E$52))))","v":0},null,0,null,null,null,19,11,0,0,0,0,0.12,0,0,0,0,0,0,"",{"$f":"IF(AJ258<=0,0,IF('Simulador Valora'!$X$73=1,0,AJ258*'Simulador Valora'!$X$76))+IF(AJ258<=0,0,IF('Simulador Valora'!$V$40=1,'Simulador Valora'!$L$52,IF('Simulador Valora'!$V$40=3,'Simulador Valora'!$I$52,IF('Simulador Valora'!$V$40=4,'Simulador Valora'!$E$52))))","v":0},null,0,0,"",0,239]
[240,0,null,{"$f":"IF(B259+F259-D258<=0,B259+F259,IF(A259=$B$10,$F$10,IF(A259=$B$11,$F$11,IF(A259=$B$12,$F$12,IF(A259=$B$13,$F$13,IF(A259=$B$14,$F$14,IF(AND('Simulador Valora'!$AE$45=2,L258=0),D258*(1+Z259),IF($AO$3=2,B259*AI259,D258*(1+Z259)))))))))","v":0},null,0,null,0,null,{"$f":"IF(B259-H259=0,0,J257)","v":0},null,null,null,{"$f":"IF(OR('Simulador Valora'!$T$65=1,'Simulador Valora'!$T$65=3),0,L259*'Simulador Valora'!$T$66*'Simulador Valora'!$U$64)","v":0},null,0,null,0,null,{"$f":"IF(B259<=0,0,IF('Simulador Valora'!$X$73=1,0,B259*'Simulador Valora'!$X$76))","v":0},null,{"$f":"IF(B259<=0,0,IF('Simulador Valora'!$V$40=1,'Simulador Valora'!$L$52,IF('Simulador Valora'!$V$40=3,'Simulador Valora'!$I$52,IF('Simulador Valora'!$V$40=4,'Simulador Valora'!$E$52))))","v":0},null,0,null,null,null,20,0,0,0,0,0,0.12,0,0,0,0,0,0,"",{"$f":"IF(AJ259<=0,0,IF('Simulador Valora'!$X$73=1,0,AJ259*'Simulador Valora'!$X$76))+IF(AJ259<=0,0,IF('Simulador Valora'!$V$40=1,'Simulador Valora'!$L$52,IF('Simulador Valora'!$V$40=3,'Simulador Valora'!$I$52,IF('Simulador Valora'!$V$40=4,'Simulador Valora'!$E$52))))","v":0},null,0,0,"",0,240]
[null,null,null,{"$f":"IF(B260+F260-D259<=0,B260+F260,IF(A260=$B$10,$F$10,IF(A260=$B$11,$F$11,IF(A260=$B$12,$F$12,IF(A260=$B$13,$F$13,IF(A260=$B$14,$F$14,IF(AND('Simulador Valora'!$AE$45=2,L259=0),D259*(1+Z260),IF($AO$3=2,B260*AI260,D259*(1+Z260)))))))))","v":{"$error":"#VALUE!"}},null,"Interés \n(a)",null,"Amortización (b)",null,null,null,"Prepagos a capital (c)",null,null,null,null,null,null,null,"Seguro de \nvida y desempleo (d)",null,"Seguro de daños \n(e)",null,"Pago Mensual (a+b+c+d+e)"]
[null,null,null,{"$f":"SUM(D20:D259)","v":0},null,{"$f":"SUM(F20:F259)","v":0},null,{"$f":"SUM(H20:H259)","v":0},null,null,null,{"$f":"SUM(L20:L259)","v":0},null,null,null,null,null,null,null,{"$f":"SUM(T20:T259)","v":0},null,{"$f":"SUM(V20:V259)","v":0},null,{"$f":"SUM(X20:X259)","v":0}]
[]
[null,null,null,null,null,null,null,null,null,null,null,null,null,null,null,null,null,null,null,null,null,null,null,{"$f":"SUM(X20:X260)","v":0}]

{"sheet":"Exclusivo SB Carta Bienvenida","index":2,"n_rows":63,"n_cols":18,"rows_kept":63,"cut":false,"hidden":true,"merged":[[17,6,17,7]]}
["Liga para obtener certificado vida",null,null,"Certificado de seguro de vida"]
["Liga para obtener certificado daños",null,null,"Certificado de seguro de daños"]
["Liga para obtener certificado obra civil",null,null,"Certificado de seguro obra civil"]
["Datos de entrada"]
["Fecha de Operación (cuando se depositó el crédito):",null,null,null,null,"(DD/MM/AAAA)",null,null,null,null,null,null,null,"Crédito",{"$f":"'Tabla Valora'!B20","v":0},null,"dia",{"$f":"DAY(E5)","v":0}]
["Numero de crédito:",null,null,null,null,null,null,null,null,null,null,null,null,"Tasa",{"$f":"'Tabla Valora'!P20","v":0},null,"Mes",{"$f":"MONTH(E5)","v":1}]
[null,null,null,null,null,null,null,null,null,null,null,null,null,"Fecha de vencimiento",{"$f":"VALUE(CONCATENATE(\"17\",\"-\",R7,\"-\",R9))","v":"1900-01-17"},null,"Mes siguiente",{"$f":"IF(R5<17,R6,IF(R6=12,1,R6+1))","v":1}]
[null,null,null,null,null,null,null,null,null,null,null,null,null,"Días transcurridos",{"$f":"O7-E5","v":17},null,"Año",{"$f":"YEAR(E5)","v":1900}]
[null,null,null,null,null,null,null,null,null,null,null,null,null,"Intereses",{"$f":"ROUND($O$5*O6/360*$O$8,2)","v":0},null,"Año siguiente",{"$f":"IF(AND(R6=12,R5>=17),R8+1,R8)","v":1900}]
["Para que los calculos de la carta sean correctos es necesario que en el simulador se simule el crédito autorizado y el esquema que el cliente escogió",null,null,null,null,null,null,null,null,null,null,null,null,"Seguro hipotecario",{"$f":"ROUND($O$5*E7/360*$O$8,2)","v":0}]
[null,null,null,null,null,null,null,null,null,null,null,null,null,"Total",{"$f":"IF(R5=17,0,O9+O10)","v":0}]
[]
[]
[]
[]
[]
[]
[null,null,null,null,null,null,{"$f":"E5","v":"00:00:00"}]
[]
[]
["Estimado (s) Clientes (s):"]
[]
["ScotiaBank lo(s) felicita por la construcción de su nueva casa y se complace en ser parte importante de la"]
["consolidación de su patrimonio familiar, a través de su crédito hipotecario Scotiabank."]
[]
["A continuación le proporcionamos información importante relativa a su Financiamiento:"]
[]
[{"$f":"CONCATENATE(\"Su  número  de  crédito  es el No \",E6,\" que  le  servirá  como   referencia  para  cualquier  aclaración\")","v":"Su  número  de  crédito  es el No  que  le  servirá  como   referencia  para  cualquier  aclaración"}]
["futura  que  tenga  con  su  crédito, en  caso  de querer  realizar anticipos a capital, deberá abonar a este"]
["número a través de nuestra red de sucursales con cheque a favor de Scotiabank Inverlat S.A."]
[]
["La fecha de pago de sus mensualidades serán los días 17 de cada mes. Este pago lo realizará mediante"]
["cargo  automático  a  su  cuenta  de  cheques. Si  el  día de pago fuera inhábil, el cargo automático a su "]
["cuenta de cheques se realizará el día hábil inmediato siguiente."]
[]
["Le  recomendamos  depositar  el  importe de su pago mensual antes de la fecha de pago, especialmente"]
["si su depósito es con cheque de otro banco."]
[]
["Es   importante   mencionar   que  el  cálculo  del  seguro  de  daños  se  realiza  con  base  en  el  valor "]
["destructible  del  inmueble, por  lo que  es posible que difiera de las tablas de amortización que le hemos"]
["entregado, y además tenga variaciones en el tiempo."]
[]
[{"$f":"IF(R5=17,\"Su   primer   pago   deberá   ser   por   la   mensualidad   completa  que   se   establece  en  su  contrato\",\"El  importe  de  su  primer  pago  será  por  la  cantidad  de  $\"&TEXT(O11,\"#,##0.00\")&\" que  corresponden a  los intereses\")","v":"El  importe  de  su  primer  pago  será  por  la  cantidad  de  $0.00 que  corresponden a  los intereses"}]
[{"$f":"IF(R5=17,\"de crédito y que le será informada mediante su estado de cuenta.\",\"que se devengarán entre hoy y el próximo día 17.\")","v":"que se devengarán entre hoy y el próximo día 17."}]
[{"$f":"IF(AND(E7>0,R5<>17),\"Esta cantidad ya tiene incluida la parte proporcional de la prima de seguro de crédito a la vivienda\",\"\")","v":""}]
[]
["A  partir  de  este  momento, usted  cuenta  con  un  seguro  de  vida  e invalidez total y permanente, un "]
["seguro  de  obra  civil, durante  la  etapa  de  construcción  del  inmueble y un seguro de daños sobre la"]
["propiedad ya construida, anexo a la presente, las cartas de cobertura correspondientes."]
[]
["Si  por  algún  motivo no  recibiera  su  estado  de  cuenta  con oportunidad  o tuviera dudas relacionadas"]
["con   su   crédito,  le   sugerimos  llamar   a   nuestro   Centro  de  Atención  Telefónica  a  los  teléfonos"]
["5728-1900 para  el  D.F. y  para  el  interior  de  la  República,  sin  costo para usted, al 01-800-70459-00;"]
["donde con gusto le atenderán."]
[]
["Con su financiamiento Scotiabank, el hogar de sus sueños es hoy una realidad."]
[]
["Atentamente"]
[]
[]
[]
["Ejecutivo Especializado"]
["Crédito Hipotecario."]

{"sheet":"caratula de contrato","index":3,"n_rows":84,"n_cols":12,"rows_kept":84,"cut":false,"hidden":true,"merged":[[83,0,83,1],[77,0,77,6],[78,2,78,3],[78,4,78,6],[79,0,79,6],[80,4,80,5],[83,4,83,5],[70,0,70,6],[71,0,71,2],[71,3,71,6],[74,0,75,0],[74,1,75,2],[74,3,74,6],[75,3,75,6],[72,1,72,2],[72,3,72,6],[73,1,73,2],[73,3,73,6],[80,0,80,1],[63,0,63,6],[64,0,64,5],[52,0,52,5],[53,0,53,5],[54,5,54,6],[55,0,59,0],[55,1,59,1],[55,2,59,2],[69,0,69,6],[55,3,59,3],[55,4,59,4],[55,5,59,6],[65,0,65,6],[66,0,66,6],[67,0,67,6],[68,0,68,6],[49,0,50,0],[49,1,50,1],[49,2,50,6],[51,0,51,6],[60,0,61,6],[62,0,62,6],[40,1,40,3],[40,4,40,6],[33,0,33,1],[33,2,33,3],[33,4,33,6],[34,0,34,1],[34,2,34,3],[46,0,46,6],[47,0,48,0],[47,1,48,1],[47,2,48,6],[41,1,43,3],[42,4,42,6],[43,4,43,6],[44,0,44,6],[29,0,29,6],[30,0,30,6],[31,0,31,6],[32,0,32,1],[32,2,32,3],[32,4,32,6],[35,2,35,3],[36,2,36,3],[37,0,39,6],[27,0,27,1],[27,2,27,3],[27,4,27,5],[28,0,28,6],[24,0,24,1],[24,2,24,3],[24,4,24,6],[25,0,25,1],[25,2,26,3],[25,4,25,6],[12,4,15,4],[14,1,14,2],[16,0,16,2],[17,0,17,6],[9,1,9,2],[11,0,15,0],[11,3,15,3],[12,1,12,2],[26,0,26,1],[26,4,26,6],[19,0,19,6],[21,0,21,6],[22,0,22,6],[23,0,23,1],[23,2,23,3],[23,4,23,6],[0,3,0,6],[1,0,1,6],[2,0,2,6],[3,0,3,6],[4,0,4,6],[6,0,8,0],[6,1,8,2],[6,3,8,3],[6,4,8,4],[6,5,7,6]]}
[null,null,null,"CONTRATO DE APERTURA DE CRÉDITO SIMPLE"]
["CONTRATO DE APERTURA DE CRÉDITO SIMPLE CON INTERÉS Y GARANTÍA HIPOTECARIA QUE CELEBRAN POR UNA PARTE SCOTIABANK INVERLAT S.A., INSTITUCIÓN DE BANCA MÚLTIPLE, GRUPO FINANCIERO SCOTIABANK, A QUIEN EN LO SUCESIVO SE LE DENOMINARÁ \"EL ACREDITANTE\" Y POR OTRA PARTE, LA PERSONA CUYOS DATOS Y FIRMA SE ENCUENTRAN EN LA SOLICITUD, A QUIEN EN LO SUCESIVO SE LE DENOMINARÁ \"EL ACREDITADO\", DE CONFORMIDAD CON LAS DECLARACIONES Y CLÁUSULAS SIGUIENTES:"]
["CARÁTULA DEL CONTRATO DE ADHESIÓN DE CRÉDITO HIPOTECARIO "]
["NOMBRE COMPLETO DEL ACREDITADO"]
[{"$f":"'Simulador Valora'!C13","v":0}]
[]
["CAT Sin IVA      COSTO ANUAL TOTAL","TASA DE INTERÉS ANUAL",null,"MONTO DEL CRÉDITO","MONTO TOTAL A PAGAR","COMISIONES "]
[]
[null,null,null,null,null,"Montos (sin IVA)","Cláusulas"]
[]
[{"$f":"'Tabla Valora'!M13","v":0},"Ordinaria","Moratoria",{"$f":"'Tabla Valora'!H10","v":0},"Estimado según el contrato","Por apertura","Decimo Primera"]
["Para fines informativos y de comparación exclusivamente  Nota: IVA (Impuesto al Valor Agregado)",{"$f":"'Simulador Valora'!AD69","v":0.12},{"$f":"B12*1.5","v":0.18},"Moneda en Pesos Mexicanos (Sin incluir intereses, comisiones y demás accesorios)",{"$f":"'Tabla Valora'!X263","v":0},{"$f":"'Tabla Valora'!AM3","v":0}]
[null,null,null,null,"Segun Tabla de Amortización Moneda en Pesos Mexicanos (Incluyendo intereses, comisiones y demás accesorios)","Por prepago","Aplican otras comisiones"]
[null,null,null,null,null,{"$f":"IF('Simulador Valora'!T65=1,0,3%)","v":0}]
[null,"Las tasas están sujetas a lo establecido en las cláusulas financieras",null,null,null,"Por cobranza"]
[null,null,null,null,null,350]
["Metodología de cálculo de interés:"]
["La tasa de interés ordinaria aplicable al período de que se trate, se multiplica por el saldo insoluto decreciente del crédito, se divide entre 360 y se multiplica por el número de días transcurridos en el período de cómputo de los intereses."]
[]
["La tasa de interés moratoria, se calculará multiplicando por uno punto cinco veces la tasa de interés ordinaria aplicable al período de que se trate y se aplica al período en que subsista la mora por parte del ACREDITADO."]
[]
["Plazo o vigencia del crédito: 20 años."]
["Sus Pagos serán como siguen:"]
["Número",null,"Monto",null,"Cuándo se realizan los pagos"]
[240,null,{"$f":"'Tabla Valora'!X20","v":0},null,"Periodicidad: MENSUAL"]
[null,null,"Incluye IVA y accesorios, por lo que pueden existir pequeñas variaciones en cada pago. Aplica sobre la primer ministración",null,"Fecha límite de pago: Día 17 de cada mes*."]
[null,null,null,null,"Fecha de corte: Día 17 de cada mes."]
[]
["Con tasas de interés variable: \"Si su crédito es de tasa variable, los intereses que se generen a su cargo, pueden cambiar y, en su caso, aumentar ante un ajuste en las tasas de interés utilizadas como referencia.\""]
["Sujetas a una variable de ajuste: \"Esta operación puede variar según las condiciones de mercado existentes, sobre todo cuando se usen referencias variables.\""]
["De crédito: \"Contratar créditos en exceso a su capacidad de pago puede afectar su patrimonio y su historial crediticio\""]
["TASE VARIABLE"]
["Tasa de referencia",null,"Descripción",null,"Comportamiento del Diferencial"]
["Tasa de referencia: No Aplica",null,"Tasa de referencia de",null,"No Aplica"]
["Puede consultarse en: No Aplica ",null,"Hoy No Aplica "]
[null,null,"Diferencial No Aplica "]
[null,null,"Total de Interés: No aplica"]
["[MONEDA]: Pesos Moneda Nacional"]
[]
[]
["[País de curso legal:","Forma de consultar el tipo de cambio o equivalencia",null,null,"Informativo"]
["   México         ]","www.banxico.org.mx"]
[null,null,null,null,"[Tipo de cambio]/ [Equivalencia] a la fecha: No aplica"]
[null,null,null,null,"Monto del crédito en pesos a la fecha: \"No aplica\"     "]
["Autorización Los datos personales pueden utilizarse para mercadeo:"]
[null,null,null,"Si","No"]
["GARANTÍA: Para garantizar el pago de este crédito, el ACREDITADO deja en garantía el bien que se describe a continuación:"]
["Bien","Descripción","Referencias"]
[]
["Inmueble","Casa habitación","Cláusula Vigésima Segunda"]
[]
["SEGURO: La presente operación cuenta con seguro de vida contratado con la compañía: ASSURANT Vida México S.A."]
["Fecha para presentar renovación No aplica."]
["Independientemente del seguro anterior, se cuenta con los siguientes:"]
["Tipo de seguro:","Cía. De Seguros:","Monto Asegurado","Siniestro objeto de cobertura","Beneficiarios","Cláusula"]
["De daños y de obra y responsabilidad civil, en su caso.","MAPFRE TEPEYAC S.A.",{"$f":"'Simulador Valora'!C23","v":0},"Consultar cláusula: Vigésima Tercer, en caso de Apoyo Infonavit y/u Obligación Solidaria Vigésima Cuarta o Vigésima Quinta","ScotiaBank Inverlat S.A DE C.V. y/o Acreditado","Vigésima Tercera, en caso de Apoyo Infonavit y/u Obligación Solidaria Vigésima Cuarta o Vigésima Quinta."]
[]
[]
[]
[]
["Prima pagadera con periodicidad MENSUAL en moneda nacional, por el monto indicado en el estado de cuenta",{"$error":"#REF!"},{"$error":"#REF!"},{"$error":"#REF!"},{"$error":"#REF!"},{"$error":"#REF!"},{"$error":"#REF!"}]
[{"$error":"#REF!"},{"$error":"#REF!"},{"$error":"#REF!"},{"$error":"#REF!"},{"$error":"#REF!"},{"$error":"#REF!"},{"$error":"#REF!"}]
["Dudas, aclaraciones y reclamaciones:"]
["El procedimiento de reclamaciones está previsto en el artículo 23 de la Ley para la Transparencia y Ordenamiento de los Servicios financieros y se describe en la cláusula Décima Novena del contrato. Para seguir dicho procedimiento la reclamación respectiva deberá dirigirse a la:"]
[]
["Unidad especializada de Atención a clientes localizada en:"]
["Domicilio: Lorenzo Boturini no. 206, Colonia tránsito, código Postal 06820, en méxico, distrito Federal"]
["Teléfono: en la zona metropolitana al teléfono 57281000 extensiones 4484 y e el interior de la República al 018007045900"]
["Correo electrónico: servclientes@scotiabank.com.mx"]
["Pagina de Internet: www.scotiabank.com.mx"]
["Condusef: Teléfono 5340 0099 y en el interior de la República 01 800 999 8080 Página de Internet: www.condusef.gob.mx"]
["Estado de cuenta",null,null,"Consulta de Movimientos"]
["Periodicidad","Mensual",null,"Internet."]
["Lugar de entrega","Domicilio donde se ubica la garantía del crédito o en el indicado por el ACREDITADO",null,"Invertel*: Centro de atención telefónica 5728 1900 o 018000 704 59 00 del interior de la República."]
["Lugar para consulta","Cualquier sucursal",null,"Inverweb*: Banca electrónica por Internet"]
[null,null,null,"*Previa contratación de estos servicios."]
[]
["Datos de inscripcion en el Registro de Contratos de Adhesión"]
["Fecha:",{"$f":"'Simulador Valora'!C7","v":"2025-04-10"},"No: de Registro:",null,{"$f":"IF('Simulador Valora'!AE45=1,'caratula de contrato'!I81,'caratula de contrato'!I82)","v":"0319-138-003328/05-08926-0610"}]
["*La presente carátula es parte integrante del contrato de apertura de crédito simple con interés y garantía hipotecaria *Crédito Hipotecario* para todos los efectos legales a que haya lugar."]
["Firma de conformidad:",null,null,null,"Firma de conformidad:",null,null,null,"0319-138-003328/05-08926-0610",null,null,"construc"]
[null,null,null,null,null,null,null,null,"0319-138-003329/05-08927-0610",null,null,"const con apoyo"]
[]
["EL ACREDITADO.",null,null,null,"EL OBLIGADO SOLIDARIO"]

{"sheet":"Oferta Vinculante","index":4,"n_rows":175,"n_cols":5,"rows_kept":175,"cut":false,"hidden":true,"merged":[[9,1,9,2],[11,1,11,4],[13,1,13,4],[69,0,69,5],[167,0,167,1],[45,1,45,3],[46,1,46,3],[50,1,50,3],[51,1,51,3],[56,1,56,3],[57,1,57,3],[58,1,58,3],[59,1,59,3]]}
[]
[]
[]
["Scotiabank Inverlat, S.A.,"]
["Institución de Banca Múltiple, "]
["Grupo Financiero Scotiabank Inverlat                                                    "]
[null,"OFERTA VINCULANTE "]
[]
[]
["Lugar y Fecha:",{"$f":"'Simulador Valora'!C10&\"  a\"","v":"  a"},null,{"$f":"'Simulador Valora'!C7","v":"2025-04-10"}]
[]
["Nombre del Solicitante y Cónyuge, en su caso:",{"$f":"'Simulador Valora'!C13","v":0}]
[]
["Destino del crédito:","Construcción de vivienda"]
[]
[]
["Importe del Crédito Solicitado:",{"$f":"'Tabla Valora'!H10","v":0}]
[]
["Valor Estimado de la garantía*:",{"$f":"'Simulador Valora'!AB74","v":0},"Aforo (máximo 70%)*:",null,{"$f":"B17/B19","v":{"$error":"#DIV/0!"}}]
[]
["Comisión por Apertura:",{"$f":"'Tabla Valora'!AM3","v":0},"Comisión por dictámen técnico:",null,{"$f":"'Tabla Valora'!AM5","v":0}]
[]
["Seguro de Vida:",{"$f":"B17*0.0005","v":0},"Seguro de Daños:",null,{"$f":"B19*0.0002623","v":0}]
[]
[null,null,"Gastos Notariales y"]
["Costo de Avalúo*:",{"$f":"'Tabla Valora'!AM4","v":0}," de Escrituración (Aprox):",null,{"$f":"B19*5%","v":0}]
[]
["*El valor real se conocerá hasta tener el avalúo correspondiente del inmueble"]
[]
["Condiciones del Crédito:"]
["Tasa de Interés ordinaria anual: ",{"$f":"'Tabla Valora'!P20","v":0}," Fija inicial"]
["Tasa Moratoria anual:",{"$f":"B31*1.5","v":0}," Fija inicial"]
["Pago por cada mil pesos de préstamo:",{"$f":"'Simulador Valora'!AB75","v":10.36}," Inicial"]
["Plazo:",{"$f":"'Simulador Valora'!AB76","v":"20 Años"}]
["Financiamiento Máximo (Aforo)",0.7]
["Costo Anual Total (1):",{"$f":"'Tabla Valora'!M13","v":0}]
["Forma de Amortización:","Amortización mensual creciente"]
["Gastos notariales y de escrituración (Aproximados):",0.05,"sobre valor del inmueble"]
["Seguro de Vida:","0.50 al millar sobre saldo insoluto"]
["Seguro de Daños:","0.2623 al millar sobre el valor destructible de la garantía, el cual corresponde al"]
[null,"valor de la construcción, según avalúo."]
["Forma de entrega del préstamo","En parcialidades de acuerdo con los avances de obra que se fijen"]
[]
["Comisiones del Crédito:"]
[]
["Comisión por Apertura de Crédito (2)","2% sobre el importe de crédito autorizado."]
["Comisión por Pago Anticipado de Crédito (2)","3% más impuesto al valor agregado (I.V.A.) sobre el importe a anticipar"]
[]
["Comisiones Adicionales del Crédito:"]
[]
["Por copia de documento o certificación del estado de cuenta (copia del estado de cuenta, certificación del saldo, integración, amortización o desglose). Costo por hoja.","$25.00 (veinticinco pesos, moneda nacional) más el impuesto al valor agregado (I.V.A.)"]
["Por concepto de gastos de cobranza, por cada mensualidad no pagada","$350.00 (trescientos cincuenta pesos, moneda nacional) más el impuesto al valor agragado (I.V.A.)"]
["Nota: Las comisiones adicionales al crédito se cobrarán en caso de que el cliente solicite el servicio o incurra en ellos."]
[]
["Costos del Crédito:"]
[]
["Seguro de Vida","0.50 al millar sobre el saldo insoluto del crédito"]
["Seguro de Daños","0.2623 al millar sobre el valor de construcción"]
["Costo del Avalúo","Depende del valor del inmueble (ver tabla de costos anexa)"]
["Dictamen Técnico","1% sobre el monto del crédito autorizado, con un costo máximo de $12,000 y mínimo de $4,500."]
[]
["(1)Costo Anual Total (CAT promedio sin IVA)): factor que anualiza la  totalidad de los costos por el Crédito Garantizado (Hipotecario), incluyendo  seguro de vida y daños,"]
["avalúo, comisiones e intereses, excluyendo las contribuciones federales y locales, así como los costos correspondientes a trámites y servicios prestados por terceros."]
["Costo Anual Total de créditos denominados en moneda nacional a tasa fija para fines informativos y de comparación exclusivamente. Este CAT sólo es comprable con el"]
["CAT de otros créditos denominados en moneda nacional a tasa fija."]
[]
["(2) El cliente elige entre la comisión por apertura o la comisión por pagos anticipados, esta opción solo aplica para el esquema de Valora (I.V.A.: Impuesto al valor agregado)"]
[]
[]
["Condiciones y Especificaciones de la Oferta Vinculante."]
[]
[]
[]
[]
[]
[]
[]
[]
[]
[]
[]
[]
[]
[]
[]
[]
[]
[]
[]
[]
[]
[]
[]
[]
[]
[]
[]
[]
[]
[]
[]
[]
[]
[]
[]
[]
[]
[]
[]
[]
[]
[]
[]
[]
[]
[]
[]
[]
[]
[]
[]
[]
[]
[]
[]
[]
[]
[]
[]
[]
[]
[]
[]
[]
[]
[]
[]
[]
[]
[]
[]
[]
[]
[]
[]
[]
[]
[]
[]
[]
[]
[]
[]
[]
[]
[]
[]
[]
[]
[]
[]
[]
[]
[]
[]
[]
[]
[{"$f":"'Simulador Valora'!F13","v":0},null,null,{"$f":"B12","v":0}]
["Nombre del Ejecutivo",null,null,"Firma del Solicitante"]
[{"$f":"CONCATENATE(\"Sucursal: \",'Simulador Valora'!F10)","v":"Sucursal: "}]
[]
[]
[]
[null,{"$f":"D10","v":"2025-04-10"}]
[null,"Fecha de Recepción"]

{"sheet":"Carat_cont_VA","index":5,"n_rows":46,"n_cols":4,"rows_kept":46,"cut":false,"hidden":false,"merged":[[1,0,1,3],[6,1,6,3],[7,0,7,3],[8,0,8,3],[16,1,16,3],[11,1,14,1],[45,0,45,3],[37,0,37,3],[38,0,38,3],[39,0,39,3],[40,0,40,3],[41,0,41,3],[42,0,42,3],[44,0,44,3],[43,0,43,3],[35,0,35,3],[36,0,36,3],[23,0,23,3],[24,0,24,3],[25,0,25,3],[26,0,26,3],[27,0,27,3],[28,0,28,3],[21,2,21,3],[22,0,22,1],[22,2,22,3],[32,2,34,3],[17,1,17,3],[18,1,18,3],[17,0,19,0],[19,1,19,3],[20,0,20,3],[21,0,21,1]]}
[]
["Carátula de Crédito "]
[null,null,null,"Nombre del Acreditado y/o Coacreditado:"]
[null,null,null,{"$f":"IF('Simulador Valora'!C13=\"\",\"\",'Simulador Valora'!C13)","v":""}]
[null,null,null,"Número de Crédito:"]
[]
["Nombre comercial del producto:",{"$f":"\"CREDICONSTRUCCION VALORA\"&\" \"&A18","v":"CREDICONSTRUCCION VALORA 20 Años"}]
[]
["Tipo de Crédito: Crédito Hipotecario "]
["CAT","TASA DE INTERES","MONTO O LINEA DE","MONTO TOTAL A PAGAR O"]
["(Costo Anual Total)","ANUAL ORDINARIA","CRÉDITO","MINIMO A PAGAR"]
[{"$f":"'Tabla Valora'!$M$13","v":0},{"$f":"IF('Simulador Valora'!C23=0,0,'Simulador Valora'!$AB$77)","v":0},{"$f":"'Simulador Valora'!$AB$78","v":0},{"$f":"IFERROR(SUM('Tabla Valora'!$X$20:$X$259),0)","v":0}]
["Sin IVA",null,null,"Moneda en"]
["Para fines",null,null,"Pesos"]
["informativos y de",null,null,"Mexicanos "]
["comparación","Tasa Fija"]
["PLAZO DEL CRÉDITO:","Fecha Límite de pago:"]
[{"$f":"'Simulador Valora'!$AB$76","v":"20 Años"},{"$f":"IF(AND(DAY('Simulador Valora'!E10)>=3,DAY('Simulador Valora'!E10)<=16),\"Si tu fecha de corte es el día 3, tu fecha de pago es el día 3 de cada mes.\",\"Si tu fecha de corte es el día 17, tu fecha de pago es el día 17 de cada mes.\")","v":"Si tu fecha de corte es el día 17, tu fecha de pago es el día 17 de cada mes."}]
[null,"Fecha de corte:"]
[null,{"$f":"IF(AND(DAY('Simulador Valora'!E10)>=3,DAY('Simulador Valora'!E10)<=16),\"Si tu fecha de disposición es entre el dia 3 y 16, tu fecha de corte será el día 3 de cada mes.\",\"Si tu fecha de disposición es entre el día 17 y 2, tu fecha de corte será el día 17 de cada mes.\")","v":"Si tu fecha de disposición es entre el día 17 y 2, tu fecha de corte será el día 17 de cada mes."}]
["COMISIONES RELEVANTES"]
[{"$f":"\"Apertura: \"&TEXT('Tabla Valora'!$AM$3,\"$###,###.00\")","v":"Apertura: $.00"},null,"Cobranza: $500.00 más IVA por pago tardío "]
[{"$f":"\"Prepago: \"&IF('Simulador Valora'!$T$65=1,\"0% \",\"3% \")&\"más IVA sobre el monto anticipado\"","v":"Prepago: 0% más IVA sobre el monto anticipado"},null,"Para otras comisiones consulte la cláusula décimo tercera"]
["ADVERTENCIAS"]
[]
["Incumplir tus obligaciones te puede generar comisiones e intereses moratorios. "]
["Contratar créditos que excedan tu capacidad de pago afecta tu historial crediticio. "]
["El avalista, obligado solidario o coacreditado responderá como obligado principal por el total del pago frente a la Institución Financiera. "]
["SEGUROS"]
["Seguros Obligatorios:","Aseguradora:","Cláusulas:"]
[]
["Vida y Desempleo","Cardif México Seguros de Vida,          S.A. de C.V.","Vigésima Cuarta"]
[null,null,"Scotiabank Inverlat le ofrece al acreditado y/o coacreditado, la posibilidad de contratar a nombre de este (os) último(s) los seguros establecidos en la cláusula vigésima cuarta. Lo anterior sin perjuicio del derecho innegable que el cliente tiene de contratarlos a través de terceros."]
["Daños y Responsabilidad Civil","Cardif México Seguros Generales, S.A. de C.V."]
[]
["ESTADO DE CUENTA"]
["Envío a Domicilio ü              Consulta vía Internet ___            Envío por Correo Electrónico ___"]
["Aclaraciones y reclamaciones:"]
["Unidad Especializada de Aclaraciones:"]
["Domicilio: Río Usumacinta S/N, esq. con Fernando Montes de Oca, Col. La Presita, Municipio de Cuautitlán Izcalli, Estado de México, C.P. 54763"]
["Teléfono: (55) 5123 0990"]
["Correo electrónico: une@scotiabank.com.mx"]
["Página de Internet: www.scotiabank.com.mx "]
[{"$f":"\"Registro de Contratos de Adhesión Núm:  \"&IF('Simulador Valora'!C23=0,\"\",IFERROR(VLOOKUP('Simulador Valora'!$AE$45&\"-1-1\",RECAS!$A$3:$D$6,4,0),\"Revisa los datos ingresados\"))","v":"Registro de Contratos de Adhesión Núm:  "}]
["Comisión Nacional para la Protección y Defensa de los Usuarios de Servicios Financieros (CONDUSEF):"]
["Teléfono: 800 999 8080 y (55) 5340 0999. Página de Internet. www.condusef.gob.mx "]

{"sheet":"Simulador Pagos Oportunos","index":6,"n_rows":91,"n_cols":45,"rows_kept":91,"cut":false,"hidden":false,"merged":[[59,9,59,10],[59,11,59,12],[59,13,59,14],[63,7,63,8],[63,9,63,10],[63,11,63,12],[63,13,63,14],[2,2,2,15],[3,2,3,15],[9,6,9,10],[12,2,12,4],[12,6,12,11],[63,34,63,36],[4,2,4,15],[15,2,15,4],[15,6,15,11],[35,4,35,5],[35,7,35,14],[37,4,37,5],[39,4,39,5],[43,4,43,5],[41,4,41,5],[63,4,63,5],[55,4,55,5],[57,4,57,5],[59,4,59,5],[61,4,61,5],[59,7,59,8],[53,4,53,5],[45,4,45,5],[47,4,47,5],[49,4,49,5],[51,4,51,5],[52,4,52,5]]}
[null,null,null,null,null,null,null,null,null,null,null,null,null,null,null,null,null,".",null,null,null,null,null,null,null,null,null,null,null,null,null,null,null,null,null,null,null,null,null,null,null,null,null,null,"."]
[]
[null,null,"SIMULADOR CREDITO HIPOTECARIO"]
[null,null,"FINANCIAMIENTO PARA CONSTRUCCION SCOTIABANK "]
[null,null,"PAGOS OPORTUNOS"]
[]
[null,null,{"$f":"TODAY()","v":"2025-04-10"}]
[]
[null,null,"Lugar",null,"Fecha Firma",null,"Sucursal"]
[]
[]
[null,null,"Nombre del cliente / Conyuge en su caso.",null,null,null,"Ejecutivo / Broker que le atendió"]
[]
[]
[null,null,"Telefonos del cliente",null,null,null,"Teléfonos del ejecutivo"]
[]
[]
[null,null,"Paso 1",null,null,null,{"$f":"IF(S49=1,\"Paso 4\",\"\")","v":"Paso 4"}]
[null,null,"Escoja su base de cálculo",null,null,null,{"$f":"IF(S49=1,\"Escoja la opción de su interés:\",\"\")","v":"Escoja la opción de su interés:"}]
[null,null,"Campaña"]
[null,null,"Paso 2"]
[null,null,"Escriba los datos solicitados:",null,null,null,{"$f":"IF(S49=1,\"Comisión Manual por Apertura\",\"\")","v":"Comisión Manual por Apertura"}]
[null,null,null,null,{"$f":"IF(AC45=1,\"Presupuesto de obra\",\"Ingresos brutos mensuales\")","v":"Presupuesto de obra"},null,{"$f":"IF(S49=1,\"Paso 5\",\"Paso 4\")","v":"Paso 5"},null,null,null,null,{"$f":"IF(AND(L22<>\"\",$U$65=2),\"corrije comisión en el pto 4\",\"\")","v":""}]
[null,null,null,null,"Valor del terreno",null,"Va a construir en la frontera"]
[null,null,null,null,{"$f":"IF(AC45=1,\"Capital invertido en la obra\",IF(AND(C23>0,AC45=2),\"El crédito solicitado podría ser menor por perfil de cliente\",\"\"))","v":"Capital invertido en la obra"}]
[null,null,{"$f":"IF(AND(C23=\"\",C24=\"\"),\"\",IF(AC45=1,C23+C24,\"\"))","v":""},null,{"$f":"IF(AC45=2,\"\",\"Valor físico proyectado\")","v":"Valor físico proyectado"}]
[null,null,{"$f":"IF(AND(AC45=1,C23>0,C24>0,C25>=AD39),\"\",AD39)","v":""},null,{"$f":"IF(C27<>\"\",\"Usted necesita como mínimo de capital invertido\",\"\")","v":""},null,{"$f":"IF(S49=1,\"Paso 6\",\"Paso 5\")","v":"Paso 6"}]
[null,null,"Paso 3",null,null,null,"Con apoyo Infonavit"]
[null,null,"Financiamiento para comprar el terreno?",null,null,null,{"$f":"IF(AND($AC$45=1,$AF$45=1),\"\",IF($AC$45=2,\"\",\"Teclee su sueldo bruto\"))","v":""}]
[null,null,{"$f":"IF(AC45=2,\"\",IF(AND(C23=0,C24=0,C25=0),\"\",IF(H46<150000,\"El monto mínimo a financiar es de $150,000\",\"\")))","v":""},null,null,null,{"$f":"IF(S49=1,\"Paso 7\",\"Paso 6\")","v":"Paso 7"}]
[null,null,{"$f":"IF(AC45=2,\"\",IF(AND(C23=0,C24=0,C25=0),\"\",IF(AND(AC45=1,C23+C24<1000000),\"El valor de la vivienda mínimo para Monterrey, Guadalajara y México es de $1,000,000 para el resto de la república es de $750,000\",\"\")))","v":""},null,null,null,"El cliente opta por seguros externos"]
[null,null,{"$f":"IF(AND(AC45=1,C23=0,C24=0,C25=0),\"\",IF(AND(AC45=1,C25>=C23),\"El capital invertido en la obra es más alto o igual que el presupuesto de obra\",\"\"))","v":""}]
[null,null,{"$f":"IF(C23=\"\",\"\",\"Línea máxima a otorgar puede ser menor por perfil del cliente\")","v":""}]
[null,null,null,null,null,null,null,null,null,null,null,null,null,null,null,null,null,null,null,null,null,null,null,null,null,null,null,"credito maximo",{"$f":"MAX(E46:O46)","v":0}]
[null,null,null,null,null,null,null,null,null,null,null,null,null,null,null,null,null,null,null,null,null,null,null,null,null,null,null,"LTV",{"$f":"E46/E42","v":{"$error":"#DIV/0!"}},null,{"$f":"H46/H42","v":{"$error":"#DIV/0!"}},{"$f":"J46/J42","v":{"$error":"#DIV/0!"}},{"$f":"L46/L42","v":{"$error":"#DIV/0!"}},{"$f":"N46/N42","v":{"$error":"#DIV/0!"}}]
[null,null,null,null,null,null,null,"PAGOS OPORTUNOS"]
[]
[null,null,"Plazo",null,null,null,null,"7 AÑOS",null,"10 AÑOS",null,"15 AÑOS",null,"20 AÑOS",null,null,null,null,null,null,null,null,null,null,null,null,null,"Calculo de credito construcción",null,"AFORO =",0.8,null,0.5]
[null,null,null,null,null,null,null,null,null,null,null,null,null,null,null,null,null,null,null,null,null,null,null,null,{"$f":"450+750","v":1200},null,null,{"$f":"IF($AC$45=1,(C23+C24)*AE$38,C23*$AG$38)","v":0},null,{"$f":"IF(AND(AC45=1,C23>0,C24>0),C23-AB42,\"\")","v":""},"capital invertido",null,"PTI"]
[null,null,"Tasa de Interés",null,null,null,null,{"$f":"\"1 año / \"&TEXT(Z54,\"0.00%\")&\n\"\n2 año / \"&TEXT(Z54-0.002,\"0.00%\")&\n\"\n3 año / \"&TEXT(Z54-0.004,\"0.00%\")&\n\"\n4 año / \"&TEXT(Z54-0.006,\"0.00%\")&\n\"\n5 al 7 / \"&TEXT(Z54-0.0075,\"0.00%\")","v":"1 año / 13.00%\n2 año / 12.80%\n3 año / 12.60%\n4 año / 12.40%\n5 al 7 / 12.25%"},null,{"$f":"\"1 año / \"&TEXT(AB54,\"0.00%\")&\n\"\n2 año / \"&TEXT(AB54-0.002,\"0.00%\")&\n\"\n3 año / \"&TEXT(AB54-0.004,\"0.00%\")&\n\"\n4 año / \"&TEXT(AB54-0.006,\"0.00%\")&\n\"\n5 al 10 / \"&TEXT(AB54-0.0075,\"0.00%\")","v":"1 año / 13.00%\n2 año / 12.80%\n3 año / 12.60%\n4 año / 12.40%\n5 al 10 / 12.25%"},null,{"$f":"\"1 año / \"&TEXT(AB54,\"0.00%\")&\n\"\n2 año / \"&TEXT(AB54-0.002,\"0.00%\")&\n\"\n3 año / \"&TEXT(AB54-0.004,\"0.00%\")&\n\"\n4 año / \"&TEXT(AB54-0.006,\"0.00%\")&\n\"\n5 al 15 / \"&TEXT(AB54-0.0075,\"0.00%\")","v":"1 año / 13.00%\n2 año / 12.80%\n3 año / 12.60%\n4 año / 12.40%\n5 al 15 / 12.25%"},null,{"$f":"\"1 año / \"&TEXT(AB54,\"0.00%\")&\n\"\n2 año / \"&TEXT(AB54-0.002,\"0.00%\")&\n\"\n3 año / \"&TEXT(AB54-0.004,\"0.00%\")&\n\"\n4 año / \"&TEXT(AB54-0.006,\"0.00%\")&\n\"\n5 al 20 / \"&TEXT(AB54-0.0075,\"0.00%\")","v":"1 año / 13.00%\n2 año / 12.80%\n3 año / 12.60%\n4 año / 12.40%\n5 al 20 / 12.25%"},null,null,null,null,null,"Esquemas",null,4,{"$f":"V40+1","v":5},null,null,null,null,{"$f":"C23","v":0}]
[null,null,null,null,null,null,null,null,null,null,null,null,null,null,null,null,null,null,null,null,null,null,null,null,null,null,null,{"$f":"+AB39","v":0},null,{"$f":"IF((C25+C24)<((C23+C24)*0.7),\"Se necesita mayor capital invertido\",\"\")","v":""}]
[null,null,"Valor de la vivienda proyectado",null,null,null,null,{"$f":"IF($AC$45=1,$C$23+$C$24,H$46/$AE$38)","v":0},null,{"$f":"IF($AC$45=1,$C$23+$C$24,J46/$AE$38)","v":0},null,{"$f":"IF($AC$45=1,$C$23+$C$24,L46/$AE$38)","v":0},null,{"$f":"IF($AC$45=1,$C$23+$C$24,N46/$AE$38)","v":0},null,null,null,null,null,{"$f":"E46/E42","v":{"$error":"#DIV/0!"}},null,null,null,null,null,null,null,{"$f":"+IF(C23+C24-C25<AB41,C23+C24-C25,AB41)","v":0}]
[null,null,null,null,null,null,null,null,null,null,null,null,null,null,null,null,null,null,null,null,null,null,null,"Cambio de etiqueta",{"$f":"IF(AC45=1,\"Valor del inmueble\",\"Ingresos Brutos Mensuales\")","v":"Valor del inmueble"},null,null,"Ingresos",{"$f":"IF(AND(AF45=2,AC45=1),J29,C23)","v":0}]
[null,null,"% máximo de financiamiento",null,null,null,null,{"$f":"$AE$38","v":0.8},null,{"$f":"$AE$38","v":0.8},null,{"$f":"$AE$38","v":0.8},null,{"$f":"$AE$38","v":0.8},null,null,null,null,null,null,null,null,null,null,null,null,null,null,null,null,"Apoyo Infonavit"]
[null,null,null,null,null,null,null,null,null,null,null,null,null,null,null,null,null,null,null,"Adquisición",1,null,null,null,{"$f":"IF(U45=2,\" \",\"Monto a Financiar\")","v":"Monto a Financiar"},null,"Pago por mil","Por Valor del Inmueble",1,1,"NO",1]
[null,null,"Monto del crédito",null,null,null,null,{"$f":"Z61","v":0},null,{"$f":"AA61","v":0},null,{"$f":"AC61","v":0},null,{"$f":"AD61","v":0},null,null,null,null,null,"Pasivo Hipotecario",null,"Cambio de pasivo o adquisi",null,{"$f":"IF(AND(U45=1,AC45=1),\"Enganche\",IF(AND(U45=2,AC45=1),\"Saldo actual\",\"\"))","v":"Enganche"},{"$f":"IF($W$40=6,H46,IF($W$40=3,J46,IF($W$40=4,L46,IF($W$40=5,N46))))","v":0},null,{"$f":"IF($W$40=1,AE67,IF($W$40=2,AE67,IF($W$40=3,AA51,IF($W$40=4,AB51,IF($W$40=5,AC51,IF($W$40=6,Z51,AE51))))))","v":11.86},"Por Ingresos",null,null,"SI"]
[]
[null,null,"Erogación inicial",null,null,null,null,{"$f":"IF($AC$45=1,H46/1000*Z51,$C$23*$AG$38)","v":0},null,{"$f":"IF($AC$45=1,J46/1000*AA51,$C$23*$AG$38)","v":0},null,{"$f":"IF($AC$45=1,L46/1000*AB51,$C$23*$AG$38)","v":0},null,{"$f":"IF($AC$45=1,N46/1000*AC51,$C$23*$AG$38)","v":0},null,null,null,null,null,null,null,null,null,null,null,"Pagos oportunos","Pagos oportunos","Pagos oportunos","Pagos oportunos"]
[null,null,null,null,null,null,null,null,null,null,null,null,null,null,null,null,null,null,1,null,7,10,15,20,"Plazo",7,10,15,20]
[null,null,"Seguro de vida",null,null,null,null,{"$f":"IF($Y$73=1,0,H46*$Y$76)","v":0},null,{"$f":"IF($Y$73=1,0,J46*$Y$76)","v":0},null,{"$f":"IF($Y$73=1,0,L46*$Y$76)","v":0},null,{"$f":"IF(4=1,0,N46*$Y$76)","v":0},null,null,null,null,"Ninguna",0.13,18.38,15.05,12.79,11.86]
[null,null,null,null,null,null,null,null,null,null,null,null,null,null,null,null,null,null,"Premium",9.7500000000000003E-2,16.55,13.16,10.7,9.59,"Pago x mil",{"$f":"IF($S$49=1,U50,IF($S$49=2,U51,IF($S$49=3,U52,\"\")))","v":18.38},{"$f":"IF($S$49=1,V50,IF($S$49=2,V51,IF($S$49=3,V52,\"\")))","v":15.05},{"$f":"IF($S$49=1,W50,IF($S$49=2,W51,IF($S$49=3,W52,\"\")))","v":12.79},11.86,null,null,null,{"$f":"IF($W$40=1,$V$51*$E$46/1000,IF($W$40=2,$X$51*#REF!/1000,0))","v":0}]
[null,null,"Seguro de daños",null,null,null,null,{"$f":"IF($AC$45=1,$C$23,H42)*IF($Y$73=1,0,$Y$77)","v":0},null,{"$f":"IF($AC$45=1,$C$23,J42)*IF($Y$73=1,0,$Y$77)","v":0},null,{"$f":"IF($AC$45=1,$C$23,L42)*IF($Y$73=1,0,$Y$77)","v":0},null,{"$f":"IF($AC$45=1,$C$23,N42)*IF($Y$73=1,0,$Y$77)","v":0},null,null,null,null,"Vinculación",0.1075,17.100000000000001,13.73,11.32,10.27]
[null,null,null,null,null,null,null,null,null,null,null,null,null,null,null,null,null,null,null,null,null,null,null,null,"Incremento anual ",0,0,0,0,null,null,null,0]
[null,null,"Total mensualidad inicial",null,null,null,null,{"$f":"H52+H50+H48","v":0},null,{"$f":"J52+J50+J48","v":0},null,{"$f":"L52+L50+L48","v":0},null,{"$f":"N52+N50+N48","v":0},null,null,null,null,null,null,null,null,null,null,"Tasa de int.",{"$f":"IF($S$49=1,T50,IF($S$49=2,T51,IF($S$49=3,T52,\"\")))","v":0.13},{"$f":"Z54","v":0.13},{"$f":"Z54","v":0.13},{"$f":"Z54","v":0.13}]
[]
[null,null,"Incremento anual del pago",null,null,null,null,"No aplica",null,"No aplica",null,"No aplica",null,"No aplica",null,null,null,null,"Monto a financiar adquisición",null,null,null,null,null,null,{"$f":"IF($AC$45=1,$AB$42,IF($AC$45=2,H48/Z51*1000,0))","v":0},{"$f":"IF($AC$45=1,$AB$42,J48/AA51*1000)","v":0},null,{"$f":"IF($AC$45=1,$AB$42,IF($AC$45=2,L48/AB51*1000,0))","v":0},{"$f":"IF($AC$45=1,$AB$42,IF($AC$45=2,N48/AC51*1000,0))","v":0}]
[null,null,null,null,null,null,null,null,null,null,null,null,null,null,null,null,null,null,"Monto a financiar adquisición",null,null,{"$f":"IF(V56>4000000,4000000,V56)","v":0},null,{"$f":"IF(X56>4000000,4000000,X56)","v":0},null,{"$f":"IF(Z56>4000000,4000000,Z56)","v":0},{"$f":"IF(AA56>4000000,4000000,AA56)","v":0},null,{"$f":"IF(AC56>4000000,4000000,AC56)","v":0},{"$f":"IF(AD56>4000000,4000000,AD56)","v":0},{"$f":"IF(AE56>4000000,4000000,AE56)","v":0}]
[null,null,"Ingresos brutos por comprobar",null,null,null,null,{"$f":"IF($AC$45=1,H48/$AG$38,$C$23)","v":0},null,{"$f":"IF($AC$45=1,J48/$AG$38,$C$23)","v":0},null,{"$f":"IF($AC$45=1,L48/$AG$38,$C$23)","v":0},null,{"$f":"IF($AC$45=1,N48/$AG$38,$C$23)","v":0},null,null,null,null,"erogación adquisición",null,null,{"$f":"V57/1000*V51","v":0},null,{"$f":"X57/1000*X51","v":0},null,{"$f":"Z57/1000*Z51","v":0},{"$f":"AA57/1000*AA51","v":0},null,{"$f":"AC57/1000*AB51","v":0},{"$f":"AD57/1000*AC51","v":0},{"$f":"AE57/1000*AE51","v":0}]
[null,null,null,null,null,null,null,null,null,null,null,null,null,null,null,null,null,null,"Monto a financiar pasivo",null,null,{"$f":"IF(AND($AC$45=1,$X$45>=0.2),#REF!,IF($AC$45=2,$E$48/V51*1000,0))","v":0},null,{"$f":"IF(AND($AC$45=1,$X$45>=0.2),Y46,IF($AC$45=2,Y46/X51*1000,0))","v":0},null,{"$f":"IF(AND($AC$45=1,$X$45>=0.25),Y46,IF($AC$45=2,Y46/Z51*1000,0))","v":0},{"$f":"IF(AND($AC$45=1,$X$45>=0.25),Y46,IF($AC$45=2,Y46/AA51*1000,0))","v":0},null,{"$f":"IF(AND($AC$45=1,$X$45>=0.2),Y46,IF($AC$45=2,Y46/AB51*1000,0))","v":0},{"$f":"IF(AND($AC$45=1,$X$45>=0.2),Y46,IF($AC$45=2,Y46/AC51*1000,0))","v":0},{"$f":"IF(AND($AC$45=1,$X$45>=0.2),Y46,IF($AC$45=2,Y46/AE51*1000,0))","v":0}]
[null,null,"Comisión por apertura",null,null,null,null,{"$f":"IF(OR(S49=2,S49=3),0,IF(OR($U$65=1,$L$22<>\"\"),H46*$Y$86,0))","v":0},null,{"$f":"IF(OR(S49=2,S49=3),0,IF(OR($U$65=1,$L$22<>\"\"),J46*$Y$86,0))","v":0},null,{"$f":"IF(OR(S49=2,S49=3),0,IF(OR($U$65=1,$L$22<>\"\"),L46*$Y$86,0))","v":0},null,{"$f":"IF(OR(S49=2,S49=3),0,IF(OR($U$65=1,$L$22<>\"\"),N46*$Y$86,0))","v":0},null,null,null,null,"Monto a financiar pasivo",null,null,{"$f":"IF(V59>4000000,4000000,V59)","v":0},null,{"$f":"IF(X59>4000000,4000000,X59)","v":0},null,{"$f":"IF(Z59>4000000,4000000,Z59)","v":0},{"$f":"IF(AA59>4000000,4000000,AA59)","v":0},null,{"$f":"IF(AC59>4000000,4000000,AC59)","v":0},{"$f":"IF(AD59>4000000,4000000,AD59)","v":0},{"$f":"IF(AE59>4000000,4000000,AE59)","v":0}]
[null,null,null,null,null,null,null,null,null,null,null,null,null,null,null,null,null,null,"Desición de monto a financiar",null,null,{"$f":"V56","v":0},null,{"$f":"X56","v":0},null,{"$f":"Z56","v":0},{"$f":"AA56","v":0},null,{"$f":"AC56","v":0},{"$f":"AD56","v":0},{"$f":"AE56","v":0}]
[null,null,{"$f":"\"Avalúo     \"&IFERROR(IF(OR(AND($AC$45=1,$C$23>T84),($C$23+$C$24)>T84),\"'Favor de Cotizar.' - Val. apróx.\",\"\"),\"\")","v":"Avalúo     "},null,null,null,null,{"$f":"IF(S49=2,0,IFERROR(IF(AND($AC$45=1,$C$23<=$T$84),VLOOKUP(($C$23+$C$24),$S$71:$U$85,3),IF(AND($AC$45=2,H42<=$T$84),VLOOKUP(H42,$S$71:$U$85,3),$U$85)),0))","v":0},null,{"$f":"IF(S49=2,0,IFERROR(IF(AND($AC$45=1,$C$23<=$T$84),VLOOKUP(($C$23+$C$24),$S$71:$U$85,3),IF(AND($AC$45=2,J42<=$T$84),VLOOKUP(J42,$S$71:$U$85,3),$U$85)),0))","v":0},null,{"$f":"IF(S49=2,0,IFERROR(IF(AND($AC$45=1,$C$23<=$T$84),VLOOKUP(($C$23+$C$24),$S$71:$U$85,3),IF(AND($AC$45=2,L42<=$T$84),VLOOKUP(L42,$S$71:$U$85,3),$U$85)),0))","v":0},null,{"$f":"IF(S49=2,0,IFERROR(IF(AND($AC$45=1,$C$23<=$T$84),VLOOKUP(($C$23+$C$24),$S$71:$U$85,3),IF(AND($AC$45=2,N42<=$T$84),VLOOKUP(N42,$S$71:$U$85,3),$U$85)),0))","v":0},null,null,null,null,null,null,null,null,null,null,null,null,null,null,null,null,null,null,null,null,5000000,5000000,6500000]
[null,null,null,null,null,null,null,null,null,null,null,null,null,null,null,null,null,null,"Frontera","NO",null,null,"Compra Terreno?",null,"NO",null,null,null,null,null,null,null,null,null,1,2,3]
[null,null,"Comisión por pagos anticipados",null,null,null,null,{"$f":"$U$66","v":"NO APLICA"},null,{"$f":"$U$66","v":"NO APLICA"},null,{"$f":"$U$66","v":"NO APLICA"},null,{"$f":"$U$66","v":"NO APLICA"},null,null,null,null,"IVA","SI",1,{"$f":"IF(U64=1,1.16,1.16)","v":1.1599999999999999},"No compra terreno",null,"SI",1,null,null,null,null,null,null,null,null,"Aforo p/créd > $5'000,000"]
[null,null,null,null,null,null,null,null,null,null,null,null,null,null,null,null,null,null,"Comisión de apertura",null,1,{"$f":"IF(S49=1,\"Comisión por apertura \"&TEXT($Y$86,\"##.00%\")&\" y comisión por prepago 0%\",\"Comisión por apertura 0% y comisión por prepago 0%\")","v":"Comisión por apertura 1.00% y comisión por prepago 0%"},null,null,null,null,null,"Tasas PAR",null,null,null,null,null,null,"< $5mdp","< $6.5mdp","> $6.5 mdp"]
[null,null,"Ver tabla de amortización",null,null,null,null,null,null,null,null,null,null,null,null,null,null,null,"Comisión por prepago",null,{"$f":"IF(U65=2,3%,\"NO APLICA\")","v":"NO APLICA"},null,null,null,null,null,1,0.105,9.0500000000000007,2.7E-2,2,null,null,null,0.8,0.7,0.65]
[null,null,null,null,null,null,null,null,null,null,null,null,null,null,null,null,null,null,null,null,null,null,null,null,null,null,2,0.11,9.5,2.7E-2,{"$f":"IF($AE$66=1,AC66,IF($AE$66=2,AC67,IF($AE$66=3,AC68,IF($AE$66=4,AC69,IF($AE$66=5,AC70,IF($AE$66=6,AC71,AC72))))))","v":9.5},null,null,null,0.8,0.7,0.65]
[null,null,"Observaciones:",null,null,null,null,null,null,null,null,null,null,null,null,null,null,null,"Com Aut Dif",250,250,250,250,250,{"$f":"IF($W$40=1,V68,IF($W$40=2,U68,IF($W$40=3,T68,IF($W$40=4,W68,IF($W$40=5,X68,0)))))","v":250},null,3,0.1125,9.6999999999999993,2.5999999999999999E-2,{"$f":"IF($AE$66=1,AD66,IF($AE$66=2,AD67,IF($AE$66=3,AD68,IF($AE$66=4,AD69,IF($AE$66=5,AD70,IF($AE$66=6,AD71,AD72))))))","v":2.7E-2},null,null,null,0.8,0.7,0.65]
[null,null,"-No se incluyen los gastos notariales, los cuales se pagaran al momento de la firma del crédito",null,null,null,null,null,null,null,null,null,null,null,null,null,null,null,"Avalúo",{"$f":"IFERROR(IF(C23<15000001,VLOOKUP(C23,$S$71:$U$87,3),\"Cotización especial\"),0)","v":0},null,null,null,null,null,null,4,0.11749999999999999,10.119999999999999,2.1000000000000001E-2,{"$f":"IF($AE$66=1,AB66,IF($AE$66=2,AB67,IF($AE$66=3,AB68,IF($AE$66=4,AB69,IF($AE$66=5,AB70,IF($AE$66=6,AB71,AB72))))))","v":0.11},null,null,null,0.7,0.65,0.5]
[null,null,"-  El crédito solicitado dependerá de la capacidad de pago de cada cliente",null,null,null,null,null,null,null,null,null,null,null,null,null,null,null,"Mayor a","Hasta a","Importe",null,null,null,null,null,5,0.12,10.34,2.1000000000000001E-2,null,null,null,null,0.7,0.65,0.5]
[null,null,"-  Scotiabank se reserva el derecho de solicitar información adicional y/o restringir parámetros de enganche, monto, plazo o tasa en función de las características específicas del solicitante",null,null,null,null,null,null,null,null,null,null,null,null,null,null,null,0.01,500000,1900,null,null,null,null,null,6,0.125,10.8,1.7000000000000001E-2,null,null,null,null,0.7,0.65,0.5]
[null,null,"    y del inmueble objeto de la operación.",null,null,null,null,null,null,null,null,null,null,null,null,null,null,null,500001,1000000,3300,null,null,"Contratación de Seguros"]
[null,null,"-  En caso de que aplique, la comisión por pagos anticipados causa I.V.A.",null,null,null,null,null,null,null,null,null,null,null,null,null,null,null,1000001,1500000,4500,null,null,"SI ",2,null,null,null,null,null,null,null,null,null,{"$f":"IF($C$23>$AK$62,3,IF($C$23>$AJ$62,2,IF($C$23<=$AI$62,1,0)))","v":1}]
[null,null,"- Esta cotización tiene carácter informativo, Scotiabank se reserva el derecho de cambiar cualquier condición sin previo aviso.",null,null,null,null,null,null,null,null,null,null,null,null,null,null,null,1500001,2000000,5750,null,null,"NO",null,null,null,"Valor del Inmueble",{"$f":"IF($W$40=1,E42,IF($W$40=6,H42,IF($W$40=3,J42,IF($W$40=4,L42,IF($W$40=5,N42,0)))))","v":0}]
[null,null,"- Este documento NO implica que el crédito ha sido autorizado, ni establece obligación alguna para Scotiabank.",null,null,null,null,null,null,null,null,null,null,null,null,null,null,null,2000001,2500000,7000,null,null,"Seguros",null,null,null,"Pago por mil",{"$f":"IF($W$40=1,AE67,IF($W$40=6,Z51,IF($W$40=3,AA51,IF($W$40=4,AB51,IF($W$40=5,AC51,IF($W$40=7,AE51))))))","v":11.86}]
[null,null,"- Para los esquemas de \"Pagos Oportunos\" y \"Valora\" se deberá cumplir con las reglas establecidas en los programas para la disminución de la tasa de interés",null,null,null,null,null,null,null,null,null,null,{"$f":"+'Simulador Valora'!M76","v":"v2025.04"},null,null,null,null,2500001,3000000,8200,null,null,"Vida",5.9999999999999995E-4,{"$f":"Y76","v":5.9999999999999995E-4},null,"Plazo",{"$f":"IF($W$40=1,\"20 Años\",IF($W$40=6,\"7 Años\",IF($W$40=3,\"10 Años\",IF($W$40=4,\"15 Años\",IF($W$40=5,\"20 Años\",IF($W$40=7,\"30 Años\"))))))","v":"20 Años"}]
[null,null,null,null,null,null,null,null,null,null,null,null,null,null,null,null,null,null,3000001,4000000,11000,null,null,"Daños",3.1E-4,{"$f":"Y77","v":3.1E-4},null,"Tasa",{"$f":"IF($W$40=1,AE67,IF($W$40=6,Z54,IF($W$40=3,AA54,IF($W$40=4,AB54,IF($W$40=5,AC54,IF($W$40=7,AE54))))))","v":0.13},null,null,"CALCULO PARA EL IMPORTE MAXIMO DE APORTACION PATRONAL"]
[null,null,null,null,null,null,null,null,null,null,null,null,null,null,null,null,null,null,4000001,5000000,13900,null,null,null,null,null,null,"Monto Crédito",{"$f":"IF($W$40=1,E46,IF($W$40=6,H46,IF($W$40=3,J46,IF($W$40=4,L46,IF($W$40=5,N46,0)))))","v":0},null,null,{"$f":"'Simulador Valora'!AD75","v":"Salario diario nominal (UMA enero 2024)"},null,{"$f":"'Simulador Valora'!AF75","v":108.57}]
[null,null,null,null,null,null,null,null,null,null,null,null,null,null,null,null,null,null,5000001,6000000,15500,null,null,"Plazo",null,null,"LTV",null,null,null,null,"Tope de aportación patronal",null,25]
[null,null,null,null,null,null,null,null,null,null,null,null,null,null,null,null,null,null,6000001,7000000,19000,null,null,7,6,5,{"$f":"E46/E42","v":{"$error":"#DIV/0!"}},{"$f":"H46/H42","v":{"$error":"#DIV/0!"}},{"$f":"J46/J42","v":{"$error":"#DIV/0!"}},{"$f":"L46/L42","v":{"$error":"#DIV/0!"}},{"$f":"N46/N42","v":{"$error":"#DIV/0!"}},"Aportación patronal",null,{"$f":"+AH78*AH79","v":2714.25}]
[null,null,null,null,null,null,null,null,null,null,null,null,null,null,null,null,null,null,7000001,8000000,20000,null,null,10,3,2,null,null,null,null,null,"Aportación Patronal 5%",null,{"$f":"+AH80*0.05","v":135.71250000000001}]
[null,null,null,null,null,null,null,null,null,null,null,null,null,null,null,null,null,null,8000001,9000000,20100,null,null,15,4,3,null,null,null,null,null,null,0.05]
[null,null,null,null,null,null,null,null,null,null,null,null,null,null,null,null,null,null,9000001,10000000,22500,null,null,20,5,4,null,null,null,null,null,"No. de días del bimestre (promedio 60 días)",null,60.8]
[null,null,null,null,null,null,null,null,null,null,null,null,null,null,null,null,null,null,10000001,11000000,27000,null,null,null,null,null,null,null,null,null,null,"Aportación Patronal bimestral",null,{"$f":"+AH81*AH83","v":8251.32}]
[null,null,null,null,null,null,null,null,null,null,null,null,null,null,null,null,null,null,11000000,30000000,27000,null,null,"Comisión por aut difer =",250]
[null,null,null,null,null,null,null,null,null,null,null,null,null,null,null,null,null,null,null,null,null,null,null,"Comisión por Apertura =",{"$f":"IFERROR(IF($L$22<>\"\",$L$22,1%),0)","v":0.01}]
[null,null,null,null,null,null,null,null,null,null,null,null,null,null,null,null,null,null,null,null,null,null,null,"Comisión por Prepago =",0.03]
[null,null,null,null,null,null,null,null,null,null,null,null,null,null,null,null,null,null,null,null,null,null,null,"Avalúo",1E-3]
[null,null,null,null,null,null,null,null,null,null,null,null,null,null,null,null,null,null,null,null,null,null,null,"Dictamen técnico",0.01,18000]
[null,null,null,null,null,null,null,null,null,null,null,null,null,null,null,null,null,null,null,null,null,null,null,null,null,"Máximo"]
[null,null,null,null,null,null,null,null,null,null,null,null,null,null,null,null,null,null,null,null,null,null,null,null,null,"Ya no hay minimo"]

{"sheet":"Tabla Pagos Oportunos","index":7,"n_rows":263,"n_cols":62,"rows_kept":263,"cut":false,"hidden":false,"merged":[[16,35,16,37],[12,12,12,13],[0,0,0,26],[2,0,2,26],[3,0,3,26],[5,23,5,25],[1,0,1,26],[5,1,5,3],[4,1,4,3]]}
["Scotiabank Inverlat, S.A., Institución de Banca Múltiple, Grupo Financiero Scotiabank Inverlat",null,null,null,null,null,null,null,null,null,null,null,null,null,null,null,null,null,null,null,null,null,null,null,null,null,null,null,null,null,null,null,null,null,null,null,null,null,null,null,null,null,null,null,null,null,null,null,null,null,null,null,null,null,null,null,null,null,null,null,null,"-"]
["SIMULADOR CREDITO HIPOTECARIO"]
["FINANCIAMIENTO PARA CONSTRUCCION SCOTIABANK",null,null,null,null,null,null,null,null,null,null,null,null,null,null,null,null,null,null,null,null,null,null,null,null,null,null,null,null,null,null,null,null,null,null,null,"Comision por apertura",null,null,{"$f":"IF('Simulador Pagos Oportunos'!$W$40=3,'Simulador Pagos Oportunos'!J60,IF('Simulador Pagos Oportunos'!$W$40=4,'Simulador Pagos Oportunos'!L60,IF('Simulador Pagos Oportunos'!$W$40=5,'Simulador Pagos Oportunos'!N60,IF('Simulador Pagos Oportunos'!$W$40=6,'Simulador Pagos Oportunos'!H60))))","v":0},null,2]
[{"$f":"IF('Simulador Pagos Oportunos'!W40=3,\"PAGOS OPORTUNOS 10 AÑOS\",IF('Simulador Pagos Oportunos'!W40=4,\"PAGOS OPORTUNOS 15 AÑOS\",IF('Simulador Pagos Oportunos'!W40=5,\"PAGOS OPORTUNOS 20 AÑOS\",IF('Simulador Pagos Oportunos'!W40=6,\"PAGOS OPORTUNOS 7 AÑOS\"))))","v":"PAGOS OPORTUNOS 20 AÑOS"},null,null,null,null,null,null,null,null,null,null,null,null,null,null,null,null,null,null,null,null,null,null,null,null,null,null,null,null,null,null,null,null,null,null,null,"Avalúo",null,null,{"$f":"IF('Simulador Pagos Oportunos'!$W$40=3,'Simulador Pagos Oportunos'!J62,IF('Simulador Pagos Oportunos'!$W$40=4,'Simulador Pagos Oportunos'!L62,IF('Simulador Pagos Oportunos'!$W$40=5,'Simulador Pagos Oportunos'!N62,IF('Simulador Pagos Oportunos'!$W$40=6,'Simulador Pagos Oportunos'!H62))))","v":0},null,"Disminución de plazo"]
[null,"Excepción 6 Ministraciones",null,null,null,null,null,null,null,null,null,"Observaciones",null,null,null,null,null,null,null,null,null,null,null,null,null,null,null,null,null,null,null,null,null,null,null,null,null,null,null,null,null,"Disminución de pago"]
[null,"Avance de Obra Actual",null,null,null,0,null,{"$f":"IF(F6<20%,0,IF(F6<40%,1,IF(F6<60%,2,IF(F6<75%,3,IF(F6<90%,4,5)))))","v":0},null,null,null,"- La comisión por prepagos causa IVA y en la corrida ya lo incluye",null,null,null,null,null,null,null,null,null,null,null,{"$f":"'Simulador Pagos Oportunos'!C7","v":"2025-04-10"},null,null,null,null,null,null,"Valor del terreno","100% terreno","70% monto"]
[null,"Teclear los datos con celdas en blanco",null,null,null,null,null,null,null,null,null,"- El escenario que se presenta en la tabla de amortización siempre es considerando que se paga de manera puntual.",null,null,null,null,null,null,null,null,null,null,null,null,null,null,null,null,null,null,{"$f":"'Simulador Pagos Oportunos'!C24","v":0},{"$f":"IF(AE7>0,IF(AE7/H10<70%,AE7,AG7),0)","v":0},{"$f":"+H10*70%","v":0},{"$f":"AH8/H10","v":{"$error":"#DIV/0!"}},null,null,"Total",null,null,{"$f":"SUM(AN3:AN5)","v":0}]
[null,"Período",null,"Monto",null,"Erogación",null,null,null,null,null,"- Esta cotización tiene carácter informativo, Scotiabank se reserva el derecho de cambiar cualquier condición sin previo aviso.",null,null,null,null,null,null,null,null,null,null,null,null,null,null,null,null,null,null,null,null,null,{"$f":"AF7","v":0},2]
[0.2,1,null,{"$f":"IF(H6=0,AH9,IF(H6=1,AH10,IF(H6=2,AH11,IF(H6=3,AH12,IF(H6=4,AH13,IF(H6=5,AH13))))))","v":0},null,{"$f":"(D9/1000)*'Simulador Pagos Oportunos'!AA46","v":0},null,"Linea máxima de crédito",null,null,null,"- Este documento NO implica que el crédito ha sido autorizado, ni establece obligación alguna para Scotiabank.",null,null,null,null,null,null,null,null,null,null,null,null,null,null,null,null,null,null,null,null,null,{"$f":"AF7","v":0},"SI"]
[0.4,null,null,{"$f":"IF(AI8=2,IF(H6>=4,\"\",(H10-D9)/(5-H6-1)),IF(H6>=4,\"\",(H10-D9)/(5-H6-1)))","v":0},null,{"$f":"IFERROR(IF(B10>12,(((D10+D9)/1000*'Simulador Pagos Oportunos'!AA46*Z32)+(D10+D9)/1000*'Simulador Pagos Oportunos'!AA46),(D10+D9)/1000*'Simulador Pagos Oportunos'!AA46),\"\")","v":0},null,{"$f":"'Simulador Pagos Oportunos'!Y46","v":0},null,null,null,"- Para los esquemas \"Pagos Oportunos\" y \"Valora\" se deberán cumplir con las reglas establecidas en los programas ",null,null,null,null,null,null,null,null,null,null,null,null,null,null,null,null,null,null,null,null,1,{"$f":"IF(AI8=2,AH9+((H10-AH9)/4),AH9+((H10-AH9)/4))","v":0},"NO"]
[0.6,null,null,{"$f":"IF(AI8=2,IF(H6>=3,\"\",(H10-D9)/(5-H6-1)),IF(H6>=3,\"\",(H10-D9)/(5-H6-1)))","v":0},null,{"$f":"IFERROR(IF(B11>12,(((D11+D10+D9)/1000*'Simulador Pagos Oportunos'!AA46*Z32)+(D11+D10+D9)/1000*'Simulador Pagos Oportunos'!AA46),(D11+D10+D9)/1000*'Simulador Pagos Oportunos'!AA46),\"\")","v":0},null,{"$f":"IF((D10+D9)>H10,\"Se excede de la línea autorizada\",\"\")","v":""},null,null,null,"  para la disminución de la tasa de interés.",null,null,null,null,null,null,null,null,null,null,null,null,null,null,null,null,null,null,null,null,2,{"$f":"IF(AI8=2,AH9+(((H10-AH9)/4)*2),AH9+(((H10-AH9)/4)*2))","v":0}]
[0.75,null,null,{"$f":"IF(AI8=2,IF(H6>=2,\"\",(H10-D9)/(5-H6-1)),IF(H6>=2,\"\",(H10-D9)/(5-H6-1)))","v":0},null,{"$f":"IFERROR(IF(B12>12,(((D12+D11+D10+D9)/1000*'Simulador Pagos Oportunos'!AA46*Z32)+(D12+D11+D10+D9)/1000*'Simulador Pagos Oportunos'!AA46),(D12+D11+D10+D9)/1000*'Simulador Pagos Oportunos'!AA46),\"\")","v":0},null,{"$f":"IF((D11+D10)>H11,\"Se excede de la línea autorizada\",\"\")","v":""},null,null,null,null,null,null,null,null,null,null,null,null,null,null,null,null,null,null,null,null,null,null,null,null,3,{"$f":"IF(AI8=2,AH9+(((H10-AH9)/4)*3),AH9+(((H10-AH9)/4)*3))","v":0}]
[0.9,null,null,{"$f":"IF(AI8=2,IF(H6>=1,\"\",(H10-D9)/(5-H6-1)),IF(H6>=1,\"\",((H10-D9)/(5-H6-1)/2)))","v":0},null,{"$f":"IFERROR(IF(B13>12,(((D13+D12+D11+D10+D9)/1000*'Simulador Pagos Oportunos'!AA46*Z32)+(D13+D12+D11+D10+D9)/1000*'Simulador Pagos Oportunos'!AA46),(D13+D12+D11+D10+D9)/1000*'Simulador Pagos Oportunos'!AA46),\"\")","v":0},null,null,null,null,null,"- CAT =.",{"$f":"AW14","v":0},null,"\"Para fines informativos de comparación exclusivamente sin IVA\"",null,null,null,null,null,null,null,null,null,null,null,null,null,null,null,null,null,4,{"$f":"IF(AI8=2,AH9+(((H10-AH9)/4)*4),AH9+((((H10-AH9)/4)))*3.5)","v":0},null,null,null,null,null,null,null,null,null,null,null,null,null,null,{"$f":"AW17*12","v":0}]
[null,null,null,{"$f":"IF(AI8=2,\"\",IF(H6>=1,\"\",((H10-D9)/(5-H6-1)/2)))","v":""},null,{"$f":"IFERROR(IF(B14>12,(((D14+D13+D12+D11+D10+D9)/1000*'Simulador Pagos Oportunos'!AA46*Z33)+(D14+D13+D12+D11+D10+D9)/1000*'Simulador Pagos Oportunos'!AA46),(D14+D13+D12+D11+D10+D9)/1000*'Simulador Pagos Oportunos'!AA46),\"\")","v":""},null,null,null,null,null,"- En caso de anticipos a capital escoja la opción:",null,null,null,null,null,null,null,null,null,null,null,null,null,null,null,null,null,null,null,null,5,{"$f":"IF(AI8=2,\"\",AH9+((((H10-AH9)/4))*4))","v":""},null,null,null,null,null,null,null,null,null,null,null,null,null,null,{"$f":"((1+AW17)^12)-1","v":0}]
[null,{"$f":"\"Créditos en etapa de ministración no deben recibir pagos anticipados\"","v":"Créditos en etapa de ministración no deben recibir pagos anticipados"},null,null,null,null,null,null,null,null,null,null,null,null,null,null,null,null,null,null,null,null,null,null,null,null,null,null,null,null,null,null,"Corrida CAT",null,null,null,null,null,null,null,null,null,null,null,null,null,null,null,"Corrida para CAT"]
[null,{"$f":"IF('Simulador Pagos Oportunos'!S49=1,\"Se cobrará el 1% del monto por cada disposición\",\"\")","v":"Se cobrará el 1% del monto por cada disposición"},null,null,null,null,null,null,null,null,null,"El crédito se liquida",null,null,null,{"$f":"AE19","v":0},"Años",null,null,null,null,null,null,null,null,null,null,null,null,null,null,null,{"$f":"IFERROR(IRR(AG19:AG259,0),0)","v":0},{"$f":"((1+AG16)^12)-1","v":0},null,null,null,null,null,null,null,null,null,null,null,null,null,null,"TIR"]
[null,null,null,null,null,null,null,null,null,null,null,"por pago puntual en:",null,null,null,{"$f":"AF19","v":0},"Meses",null,null,null,null,null,null,null,null,null,null,null,null,null,null,null,null,null,null,"Tasa pagos oportunos",null,null,null,null,null,null,null,null,null,null,null,null,{"$f":"IFERROR(IRR(AW18:AW259,0),0)","v":0}]
[null,null,null,null,null,null,null,null,null,null,null,null,null,null,null,null,null,null,null,null,null,null,null,null,null,null,null,null,null,null,null,null,null,null,null,null,null,null,null,null,null,null,null,null,null,null,null,null,{"$f":"AN7-H10","v":0}]
["Período","Saldo Inicial",null,"Erogación",null,"Interés",null,"Amortización",null,"Aportación Bimestral",null,"Prepagos a capital",null,"Comisión por prepagos",null,"Tasa aplicada",null,"Saldo Final",null,"Seguro de vida y desempleo",null,"Seguro de daños",null,"Pago Mensual",null,"Inc. Pago",null,"años","meses",{"$f":"SUM(AD20:AD259)","v":1},{"$f":"SUM(AE20:AE259)","v":0},{"$f":"SUM(AF20:AF259)","v":0},{"$f":"AN7-H10","v":0},"Tasa Aplic.","7 años","10 años","15 años","20 años","30 años","Factor de pago","Saldo Inicial","Erogación","Interés","Amortización","Saldo Final","Tasa Aplic.","Seguros","Incremento Pago","Pago Mensual","Plazo","Fecha","Dias","Período","Año actual","Mes actual","Día actual","Dia/corte","sumar a mes"]
[1,{"$f":"IFERROR(VLOOKUP(A20,$B$9:$F$14,3,FALSE),0)","v":0},null,{"$f":"F9","v":0},null,{"$f":"IF(B20=0,0,P20/360*AZ20*B20)","v":0},null,{"$f":"D20-F20","v":0},null,null,null,null,null,{"$f":"IF(OR('Simulador Pagos Oportunos'!$U$65=1,'Simulador Pagos Oportunos'!$U$65=3),0,L20*'Simulador Pagos Oportunos'!$U$66*'Simulador Pagos Oportunos'!$V$64)","v":0},null,{"$f":"IF(B20=0,\"\",IF('Simulador Pagos Oportunos'!$W$40=3,AJ20,IF('Simulador Pagos Oportunos'!$W$40=4,AK20,IF('Simulador Pagos Oportunos'!$W$40=5,AL20,IF('Simulador Pagos Oportunos'!$W$40=6,AI20,AH20)))))","v":""},null,{"$f":"B20-H20-J20-L20+N20","v":0},null,{"$f":"IF(B20<=0,0,B20*'Simulador Pagos Oportunos'!$Y$76)","v":0},null,{"$f":"IF(B20<=0,0,IF('Simulador Pagos Oportunos'!$W$40=3,'Simulador Pagos Oportunos'!$J$52,IF('Simulador Pagos Oportunos'!$W$40=4,'Simulador Pagos Oportunos'!$L$52,IF('Simulador Pagos Oportunos'!$W$40=5,'Simulador Pagos Oportunos'!$N$52,IF('Simulador Pagos Oportunos'!$W$40=6,'Simulador Pagos Oportunos'!$H$52)))))","v":0},null,{"$f":"IF(B20<=0,0,D20+L20+T20+V20)","v":0},null,null,null,0,{"$f":"IF(B20=0,0,1)","v":0},{"$f":"+IF(R20<=0,IF(R19>0,+A20,0),0)","v":1},{"$f":"+IF(AD20>0,+AB20,0)","v":0},{"$f":"+IF(AD20>0,+AC20,0)","v":0},{"$f":"X20","v":0},{"$f":"'Simulador Pagos Oportunos'!$AC$77","v":0.13},{"$f":"'Simulador Pagos Oportunos'!Z54","v":0.13},{"$f":"'Simulador Pagos Oportunos'!AA54","v":0.13},{"$f":"'Simulador Pagos Oportunos'!AB54","v":0.13},{"$f":"'Simulador Pagos Oportunos'!AC54","v":0.13},0,{"$f":"IFERROR(AP20/AO20,0)","v":0},{"$f":"B20","v":0},{"$f":"D20","v":0},{"$f":"IFERROR((AT20/360*AZ20*AO20),0)","v":0},{"$f":"+AP20-AQ20","v":0},{"$f":"+AO20-AR20","v":0},{"$f":"IF(AO20=0,\"\",IF('Simulador Pagos Oportunos'!$W$40=3,AJ20,IF('Simulador Pagos Oportunos'!$W$40=4,AK20,IF('Simulador Pagos Oportunos'!$W$40=5,AL20,IF('Simulador Pagos Oportunos'!$W$40=6,AI20,AH20)))))","v":""},{"$f":"IF(AO20<=0,0,IF('Simulador Pagos Oportunos'!$Y$73=1,0,AO20*'Simulador Pagos Oportunos'!$Y$76))+IF(AO20<=0,0,IF('Simulador Pagos Oportunos'!$W$40=6,'Simulador Pagos Oportunos'!$H$52,IF('Simulador Pagos Oportunos'!$W$40=3,'Simulador Pagos Oportunos'!$J$52,IF('Simulador Pagos Oportunos'!$W$40=4,'Simulador Pagos Oportunos'!$L$52,'Simulador Pagos Oportunos'!$N$52))))","v":0},null,{"$f":"AQ20+AR20+AU20","v":0},{"$f":"IF('Simulador Pagos Oportunos'!$W$40=6,84,IF('Simulador Pagos Oportunos'!$W$40=3,120,IF('Simulador Pagos Oportunos'!$W$40=4,180,240)))","v":240},{"$f":"IF(AO20=0,\"\",DATE(BB20,BC20+BF20,BE20))","v":""},{"$f":"IFERROR(DAY(DATE(YEAR(AY20),MONTH(AY20)+1,0)),0)","v":0},1,{"$f":"IFERROR(YEAR('Simulador Pagos Oportunos'!C7),YEAR('Simulador Pagos Oportunos'!C7))","v":2025},{"$f":"IFERROR(MONTH('Simulador Pagos Oportunos'!C7),MONTH('Simulador Pagos Oportunos'!C7))","v":4},{"$f":"IFERROR(DAY('Simulador Pagos Oportunos'!C7),DAY('Simulador Pagos Oportunos'!C7))","v":10},{"$f":"IF(AND(DAY('Simulador Pagos Oportunos'!C7)>=3,DAY('Simulador Pagos Oportunos'!C7)<=16),3,17)","v":3},{"$f":"IF(BD20>BE20,1,0)","v":1}]
[2,{"$f":"IF(R20<0,0,IF(A21=$B$10,R20+$D$10,IF(A21=$B$11,R20+$D$11,IF(A21=$B$12,R20+$D$12,IF(A21=$B$13,R20+$D$13,IF(A21=$B$14,R20+$D$14,R20))))))","v":0},null,{"$f":"IF(B21+F21-D20<=0,B21+F21,IF(A21=$B$10,$F$10,IF(A21=$B$11,$F$11,IF(A21=$B$12,$F$12,IF(A21=$B$13,$F$13,IF(A21=$B$14,$F$14,IF(AND('Simulador Pagos Oportunos'!$AF$45=2,L20=0),D20*(1+Z21),IF($AP$3=2,B21*AN21,D20*(1+Z21)))))))))","v":0},null,{"$f":"IF(B21=0,0,P21/360*AZ21*B21)","v":0},null,{"$f":"D21-F21","v":0},null,{"$f":"IF(B21=0,0,IF('Simulador Pagos Oportunos'!$AF$45=1,0,IF('Simulador Pagos Oportunos'!$AC$43*'Simulador Pagos Oportunos'!$AG$82*2>'Simulador Pagos Oportunos'!$AH$84,'Simulador Pagos Oportunos'!$AH$84,IF(B21=0,0,'Simulador Pagos Oportunos'!$AC$43*'Simulador Pagos Oportunos'!$AG$82*2))))","v":0},null,null,null,{"$f":"IF(OR('Simulador Pagos Oportunos'!$U$65=1,'Simulador Pagos Oportunos'!$U$65=3),0,L21*'Simulador Pagos Oportunos'!$U$66*'Simulador Pagos Oportunos'!$V$64)","v":0},null,{"$f":"IF(B21=0,\"\",IF('Simulador Pagos Oportunos'!$W$40=3,AJ21,IF('Simulador Pagos Oportunos'!$W$40=4,AK21,IF('Simulador Pagos Oportunos'!$W$40=5,AL21,IF('Simulador Pagos Oportunos'!$W$40=6,AI21,AH21)))))","v":""},null,{"$f":"B21-H21-J21-L21+N21","v":0},null,{"$f":"IF(B21<=0,0,B21*'Simulador Pagos Oportunos'!$Y$76)","v":0},null,{"$f":"IF(B21<=0,0,IF('Simulador Pagos Oportunos'!$W$40=3,'Simulador Pagos Oportunos'!$J$52,IF('Simulador Pagos Oportunos'!$W$40=4,'Simulador Pagos Oportunos'!$L$52,IF('Simulador Pagos Oportunos'!$W$40=5,'Simulador Pagos Oportunos'!$N$52,IF('Simulador Pagos Oportunos'!$W$40=6,'Simulador Pagos Oportunos'!$H$52)))))","v":0},null,{"$f":"IF(B21<=0,0,D21+L21+T21+V21)","v":0},null,null,null,0,2,{"$f":"+IF(R21<=0,IF(R20>0,+A21,0),0)","v":0},{"$f":"+IF(AD21>0,+AB21,0)","v":0},{"$f":"+IF(AD21>0,+AC21,0)","v":0},{"$f":"X21","v":0},{"$f":"'Simulador Pagos Oportunos'!$AC$77","v":0.13},{"$f":"AI20","v":0.13},{"$f":"AJ20","v":0.13},0.13,0.13,0,{"$f":"IFERROR(AP21/AO21,0)","v":0},{"$f":"IF(AS20<0,0,IF(A21=$B$10,AS20+$D$10,IF(A21=$B$11,AS20+$D$11,IF(A21=$B$12,AS20+$D$12,IF(A21=$B$13,AS20+$D$13,IF(A21=$B$14,AS20+$D$14,AS20))))))","v":0},{"$f":"IF(AO21+AQ21-AP20<=0,AO21+AQ21,IF($A21=$B$10,$F$10,IF($A21=$B$11,$F$11,IF($A21=$B$12,$F$12,IF($A21=$B$13,$F$13,IF($A21=$B$14,$F$14,AP20*(1+AV21)))))))","v":0},{"$f":"IFERROR((AT21/360*AZ21*AO21),0)","v":0},0,0,{"$f":"IF(AO21=0,\"\",IF('Simulador Pagos Oportunos'!$W$40=3,AJ21,IF('Simulador Pagos Oportunos'!$W$40=4,AK21,IF('Simulador Pagos Oportunos'!$W$40=5,AL21,IF('Simulador Pagos Oportunos'!$W$40=6,AI21,AH21)))))","v":""},{"$f":"IF(AO21<=0,0,IF('Simulador Pagos Oportunos'!$Y$73=1,0,AO21*'Simulador Pagos Oportunos'!$Y$76))+IF(AO21<=0,0,IF('Simulador Pagos Oportunos'!$W$40=6,'Simulador Pagos Oportunos'!$H$52,IF('Simulador Pagos Oportunos'!$W$40=3,'Simulador Pagos Oportunos'!$J$52,IF('Simulador Pagos Oportunos'!$W$40=4,'Simulador Pagos Oportunos'!$L$52,'Simulador Pagos Oportunos'!$N$52))))","v":0},null,{"$f":"AQ21+AR21+AU21","v":0},{"$f":"IFERROR(IF(AP21<=0.01,0,AX20-1),0)","v":0},{"$f":"IF(AO21=0,\"\",DATE(YEAR(AY20),MONTH(AY20)+1,1))","v":""},{"$f":"IFERROR(DAY(DATE(YEAR(AY21),MONTH(AY21)+1,0)),0)","v":0},2]
[3,0,null,{"$f":"IF(B22+F22-D21<=0,B22+F22,IF(A22=$B$10,$F$10,IF(A22=$B$11,$F$11,IF(A22=$B$12,$F$12,IF(A22=$B$13,$F$13,IF(A22=$B$14,$F$14,IF(AND('Simulador Pagos Oportunos'!$AF$45=2,L21=0),D21*(1+Z22),IF($AP$3=2,B22*AN22,D21*(1+Z22)))))))))","v":0},null,0,null,{"$f":"D22-F22","v":0},null,null,null,null,null,{"$f":"IF(OR('Simulador Pagos Oportunos'!$U$65=1,'Simulador Pagos Oportunos'!$U$65=3),0,L22*'Simulador Pagos Oportunos'!$U$66*'Simulador Pagos Oportunos'!$V$64)","v":0},null,{"$f":"IF(B22=0,\"\",IF('Simulador Pagos Oportunos'!$W$40=3,AJ22,IF('Simulador Pagos Oportunos'!$W$40=4,AK22,IF('Simulador Pagos Oportunos'!$W$40=5,AL22,IF('Simulador Pagos Oportunos'!$W$40=6,AI22,AH22)))))","v":""},null,0,null,{"$f":"IF(B22<=0,0,B22*'Simulador Pagos Oportunos'!$Y$76)","v":0},null,{"$f":"IF(B22<=0,0,IF('Simulador Pagos Oportunos'!$W$40=3,'Simulador Pagos Oportunos'!$J$52,IF('Simulador Pagos Oportunos'!$W$40=4,'Simulador Pagos Oportunos'!$L$52,IF('Simulador Pagos Oportunos'!$W$40=5,'Simulador Pagos Oportunos'!$N$52,IF('Simulador Pagos Oportunos'!$W$40=6,'Simulador Pagos Oportunos'!$H$52)))))","v":0},null,0,null,null,null,0,3,0,0,0,0,{"$f":"'Simulador Pagos Oportunos'!$AC$77","v":0.13},{"$f":"AI21","v":0.13},0.13,0.13,0.13,0,0,{"$f":"IF(AS21<0,0,IF(A22=$B$10,AS21+$D$10,IF(A22=$B$11,AS21+$D$11,IF(A22=$B$12,AS21+$D$12,IF(A22=$B$13,AS21+$D$13,IF(A22=$B$14,AS21+$D$14,AS21))))))","v":0},{"$f":"IF(AO22+AQ22-AP21<=0,AO22+AQ22,IF($A22=$B$10,$F$10,IF($A22=$B$11,$F$11,IF($A22=$B$12,$F$12,IF($A22=$B$13,$F$13,IF($A22=$B$14,$F$14,AP21*(1+AV22)))))))","v":0},0,0,0,{"$f":"IF(AO22=0,\"\",IF('Simulador Pagos Oportunos'!$W$40=3,AJ22,IF('Simulador Pagos Oportunos'!$W$40=4,AK22,IF('Simulador Pagos Oportunos'!$W$40=5,AL22,IF('Simulador Pagos Oportunos'!$W$40=6,AI22,AH22)))))","v":""},{"$f":"IF(AO22<=0,0,IF('Simulador Pagos Oportunos'!$Y$73=1,0,AO22*'Simulador Pagos Oportunos'!$Y$76))+IF(AO22<=0,0,IF('Simulador Pagos Oportunos'!$W$40=6,'Simulador Pagos Oportunos'!$H$52,IF('Simulador Pagos Oportunos'!$W$40=3,'Simulador Pagos Oportunos'!$J$52,IF('Simulador Pagos Oportunos'!$W$40=4,'Simulador Pagos Oportunos'!$L$52,'Simulador Pagos Oportunos'!$N$52))))","v":0},null,0,0,{"$f":"IF(AO22=0,\"\",DATE(YEAR(AY21),MONTH(AY21)+1,1))","v":""},0,3,"Días/Mes",{"$f":"365.25/12","v":30.4375}]
[4,0,null,{"$f":"IF(B23+F23-D22<=0,B23+F23,IF(A23=$B$10,$F$10,IF(A23=$B$11,$F$11,IF(A23=$B$12,$F$12,IF(A23=$B$13,$F$13,IF(A23=$B$14,$F$14,IF(AND('Simulador Pagos Oportunos'!$AF$45=2,L22=0),D22*(1+Z23),IF($AP$3=2,B23*AN23,D22*(1+Z23)))))))))","v":0},null,0,null,0,null,{"$f":"IF(B23-H23=0,0,J21)","v":0},null,null,null,{"$f":"IF(OR('Simulador Pagos Oportunos'!$U$65=1,'Simulador Pagos Oportunos'!$U$65=3),0,L23*'Simulador Pagos Oportunos'!$U$66*'Simulador Pagos Oportunos'!$V$64)","v":0},null,{"$f":"IF(B23=0,\"\",IF('Simulador Pagos Oportunos'!$W$40=3,AJ23,IF('Simulador Pagos Oportunos'!$W$40=4,AK23,IF('Simulador Pagos Oportunos'!$W$40=5,AL23,IF('Simulador Pagos Oportunos'!$W$40=6,AI23,AH23)))))","v":""},null,0,null,{"$f":"IF(B23<=0,0,B23*'Simulador Pagos Oportunos'!$Y$76)","v":0},null,{"$f":"IF(B23<=0,0,IF('Simulador Pagos Oportunos'!$W$40=3,'Simulador Pagos Oportunos'!$J$52,IF('Simulador Pagos Oportunos'!$W$40=4,'Simulador Pagos Oportunos'!$L$52,IF('Simulador Pagos Oportunos'!$W$40=5,'Simulador Pagos Oportunos'!$N$52,IF('Simulador Pagos Oportunos'!$W$40=6,'Simulador Pagos Oportunos'!$H$52)))))","v":0},null,0,null,null,null,0,4,0,0,0,0,{"$f":"'Simulador Pagos Oportunos'!$AC$77","v":0.13},0.13,0.13,0.13,0.13,0,0,0,0,0,0,0,{"$f":"IF(AO23=0,\"\",IF('Simulador Pagos Oportunos'!$W$40=3,AJ23,IF('Simulador Pagos Oportunos'!$W$40=4,AK23,IF('Simulador Pagos Oportunos'!$W$40=5,AL23,IF('Simulador Pagos Oportunos'!$W$40=6,AI23,AH23)))))","v":""},{"$f":"IF(AO23<=0,0,IF('Simulador Pagos Oportunos'!$Y$73=1,0,AO23*'Simulador Pagos Oportunos'!$Y$76))+IF(AO23<=0,0,IF('Simulador Pagos Oportunos'!$W$40=6,'Simulador Pagos Oportunos'!$H$52,IF('Simulador Pagos Oportunos'!$W$40=3,'Simulador Pagos Oportunos'!$J$52,IF('Simulador Pagos Oportunos'!$W$40=4,'Simulador Pagos Oportunos'!$L$52,'Simulador Pagos Oportunos'!$N$52))))","v":0},null,0,0,"",0,4,null,"Interés mensual = Sdo inicial x tasa / 360 x # días del mes"]
[5,0,null,{"$f":"IF(B24+F24-D23<=0,B24+F24,IF(A24=$B$10,$F$10,IF(A24=$B$11,$F$11,IF(A24=$B$12,$F$12,IF(A24=$B$13,$F$13,IF(A24=$B$14,$F$14,IF(AND('Simulador Pagos Oportunos'!$AF$45=2,L23=0),D23*(1+Z24),IF($AP$3=2,B24*AN24,D23*(1+Z24)))))))))","v":0},null,0,null,0,null,null,null,null,null,{"$f":"IF(OR('Simulador Pagos Oportunos'!$U$65=1,'Simulador Pagos Oportunos'!$U$65=3),0,L24*'Simulador Pagos Oportunos'!$U$66*'Simulador Pagos Oportunos'!$V$64)","v":0},null,{"$f":"IF(B24=0,\"\",IF('Simulador Pagos Oportunos'!$W$40=3,AJ24,IF('Simulador Pagos Oportunos'!$W$40=4,AK24,IF('Simulador Pagos Oportunos'!$W$40=5,AL24,IF('Simulador Pagos Oportunos'!$W$40=6,AI24,AH24)))))","v":""},null,0,null,{"$f":"IF(B24<=0,0,B24*'Simulador Pagos Oportunos'!$Y$76)","v":0},null,{"$f":"IF(B24<=0,0,IF('Simulador Pagos Oportunos'!$W$40=3,'Simulador Pagos Oportunos'!$J$52,IF('Simulador Pagos Oportunos'!$W$40=4,'Simulador Pagos Oportunos'!$L$52,IF('Simulador Pagos Oportunos'!$W$40=5,'Simulador Pagos Oportunos'!$N$52,IF('Simulador Pagos Oportunos'!$W$40=6,'Simulador Pagos Oportunos'!$H$52)))))","v":0},null,0,null,null,null,0,5,0,0,0,0,{"$f":"'Simulador Pagos Oportunos'!$AC$77","v":0.13},0.13,0.13,0.13,0.13,0,0,0,0,0,0,0,{"$f":"IF(AO24=0,\"\",IF('Simulador Pagos Oportunos'!$W$40=3,AJ24,IF('Simulador Pagos Oportunos'!$W$40=4,AK24,IF('Simulador Pagos Oportunos'!$W$40=5,AL24,IF('Simulador Pagos Oportunos'!$W$40=6,AI24,AH24)))))","v":""},{"$f":"IF(AO24<=0,0,IF('Simulador Pagos Oportunos'!$Y$73=1,0,AO24*'Simulador Pagos Oportunos'!$Y$76))+IF(AO24<=0,0,IF('Simulador Pagos Oportunos'!$W$40=6,'Simulador Pagos Oportunos'!$H$52,IF('Simulador Pagos Oportunos'!$W$40=3,'Simulador Pagos Oportunos'!$J$52,IF('Simulador Pagos Oportunos'!$W$40=4,'Simulador Pagos Oportunos'!$L$52,'Simulador Pagos Oportunos'!$N$52))))","v":0},null,0,0,"",0,5]
[6,0,null,{"$f":"IF(B25+F25-D24<=0,B25+F25,IF(A25=$B$10,$F$10,IF(A25=$B$11,$F$11,IF(A25=$B$12,$F$12,IF(A25=$B$13,$F$13,IF(A25=$B$14,$F$14,IF(AND('Simulador Pagos Oportunos'!$AF$45=2,L24=0),D24*(1+Z25),IF($AP$3=2,B25*AN25,D24*(1+Z25)))))))))","v":0},null,0,null,0,null,{"$f":"IF(B25-H25=0,0,J23)","v":0},null,null,null,{"$f":"IF(OR('Simulador Pagos Oportunos'!$U$65=1,'Simulador Pagos Oportunos'!$U$65=3),0,L25*'Simulador Pagos Oportunos'!$U$66*'Simulador Pagos Oportunos'!$V$64)","v":0},null,{"$f":"IF(B25=0,\"\",IF('Simulador Pagos Oportunos'!$W$40=3,AJ25,IF('Simulador Pagos Oportunos'!$W$40=4,AK25,IF('Simulador Pagos Oportunos'!$W$40=5,AL25,IF('Simulador Pagos Oportunos'!$W$40=6,AI25,AH25)))))","v":""},null,0,null,{"$f":"IF(B25<=0,0,B25*'Simulador Pagos Oportunos'!$Y$76)","v":0},null,{"$f":"IF(B25<=0,0,IF('Simulador Pagos Oportunos'!$W$40=3,'Simulador Pagos Oportunos'!$J$52,IF('Simulador Pagos Oportunos'!$W$40=4,'Simulador Pagos Oportunos'!$L$52,IF('Simulador Pagos Oportunos'!$W$40=5,'Simulador Pagos Oportunos'!$N$52,IF('Simulador Pagos Oportunos'!$W$40=6,'Simulador Pagos Oportunos'!$H$52)))))","v":0},null,0,null,null,null,0,6,0,0,0,0,{"$f":"'Simulador Pagos Oportunos'!$AC$77","v":0.13},0.13,0.13,0.13,0.13,0,0,0,0,0,0,0,{"$f":"IF(AO25=0,\"\",IF('Simulador Pagos Oportunos'!$W$40=3,AJ25,IF('Simulador Pagos Oportunos'!$W$40=4,AK25,IF('Simulador Pagos Oportunos'!$W$40=5,AL25,IF('Simulador Pagos Oportunos'!$W$40=6,AI25,AH25)))))","v":""},{"$f":"IF(AO25<=0,0,IF('Simulador Pagos Oportunos'!$Y$73=1,0,AO25*'Simulador Pagos Oportunos'!$Y$76))+IF(AO25<=0,0,IF('Simulador Pagos Oportunos'!$W$40=6,'Simulador Pagos Oportunos'!$H$52,IF('Simulador Pagos Oportunos'!$W$40=3,'Simulador Pagos Oportunos'!$J$52,IF('Simulador Pagos Oportunos'!$W$40=4,'Simulador Pagos Oportunos'!$L$52,'Simulador Pagos Oportunos'!$N$52))))","v":0},null,0,0,"",0,6]
[7,0,null,{"$f":"IF(B26+F26-D25<=0,B26+F26,IF(A26=$B$10,$F$10,IF(A26=$B$11,$F$11,IF(A26=$B$12,$F$12,IF(A26=$B$13,$F$13,IF(A26=$B$14,$F$14,IF(AND('Simulador Pagos Oportunos'!$AF$45=2,L25=0),D25*(1+Z26),IF($AP$3=2,B26*AN26,D25*(1+Z26)))))))))","v":0},null,0,null,0,null,null,null,null,null,{"$f":"IF(OR('Simulador Pagos Oportunos'!$U$65=1,'Simulador Pagos Oportunos'!$U$65=3),0,L26*'Simulador Pagos Oportunos'!$U$66*'Simulador Pagos Oportunos'!$V$64)","v":0},null,{"$f":"IF(B26=0,\"\",IF('Simulador Pagos Oportunos'!$W$40=3,AJ26,IF('Simulador Pagos Oportunos'!$W$40=4,AK26,IF('Simulador Pagos Oportunos'!$W$40=5,AL26,IF('Simulador Pagos Oportunos'!$W$40=6,AI26,AH26)))))","v":""},null,0,null,{"$f":"IF(B26<=0,0,B26*'Simulador Pagos Oportunos'!$Y$76)","v":0},null,{"$f":"IF(B26<=0,0,IF('Simulador Pagos Oportunos'!$W$40=3,'Simulador Pagos Oportunos'!$J$52,IF('Simulador Pagos Oportunos'!$W$40=4,'Simulador Pagos Oportunos'!$L$52,IF('Simulador Pagos Oportunos'!$W$40=5,'Simulador Pagos Oportunos'!$N$52,IF('Simulador Pagos Oportunos'!$W$40=6,'Simulador Pagos Oportunos'!$H$52)))))","v":0},null,0,null,null,null,0,7,0,0,0,0,{"$f":"'Simulador Pagos Oportunos'!$AC$77","v":0.13},0.13,0.13,0.13,0.13,0,0,0,0,0,0,0,{"$f":"IF(AO26=0,\"\",IF('Simulador Pagos Oportunos'!$W$40=3,AJ26,IF('Simulador Pagos Oportunos'!$W$40=4,AK26,IF('Simulador Pagos Oportunos'!$W$40=5,AL26,IF('Simulador Pagos Oportunos'!$W$40=6,AI26,AH26)))))","v":""},{"$f":"IF(AO26<=0,0,IF('Simulador Pagos Oportunos'!$Y$73=1,0,AO26*'Simulador Pagos Oportunos'!$Y$76))+IF(AO26<=0,0,IF('Simulador Pagos Oportunos'!$W$40=6,'Simulador Pagos Oportunos'!$H$52,IF('Simulador Pagos Oportunos'!$W$40=3,'Simulador Pagos Oportunos'!$J$52,IF('Simulador Pagos Oportunos'!$W$40=4,'Simulador Pagos Oportunos'!$L$52,'Simulador Pagos Oportunos'!$N$52))))","v":0},null,0,0,"",0,7]
[8,0,null,{"$f":"IF(B27+F27-D26<=0,B27+F27,IF(A27=$B$10,$F$10,IF(A27=$B$11,$F$11,IF(A27=$B$12,$F$12,IF(A27=$B$13,$F$13,IF(A27=$B$14,$F$14,IF(AND('Simulador Pagos Oportunos'!$AF$45=2,L26=0),D26*(1+Z27),IF($AP$3=2,B27*AN27,D26*(1+Z27)))))))))","v":0},null,0,null,0,null,{"$f":"IF(B27-H27=0,0,J25)","v":0},null,null,null,{"$f":"IF(OR('Simulador Pagos Oportunos'!$U$65=1,'Simulador Pagos Oportunos'!$U$65=3),0,L27*'Simulador Pagos Oportunos'!$U$66*'Simulador Pagos Oportunos'!$V$64)","v":0},null,{"$f":"IF(B27=0,\"\",IF('Simulador Pagos Oportunos'!$W$40=3,AJ27,IF('Simulador Pagos Oportunos'!$W$40=4,AK27,IF('Simulador Pagos Oportunos'!$W$40=5,AL27,IF('Simulador Pagos Oportunos'!$W$40=6,AI27,AH27)))))","v":""},null,0,null,{"$f":"IF(B27<=0,0,B27*'Simulador Pagos Oportunos'!$Y$76)","v":0},null,{"$f":"IF(B27<=0,0,IF('Simulador Pagos Oportunos'!$W$40=3,'Simulador Pagos Oportunos'!$J$52,IF('Simulador Pagos Oportunos'!$W$40=4,'Simulador Pagos Oportunos'!$L$52,IF('Simulador Pagos Oportunos'!$W$40=5,'Simulador Pagos Oportunos'!$N$52,IF('Simulador Pagos Oportunos'!$W$40=6,'Simulador Pagos Oportunos'!$H$52)))))","v":0},null,0,null,null,null,0,8,0,0,0,0,{"$f":"'Simulador Pagos Oportunos'!$AC$77","v":0.13},0.13,0.13,0.13,0.13,0,0,0,0,0,0,0,{"$f":"IF(AO27=0,\"\",IF('Simulador Pagos Oportunos'!$W$40=3,AJ27,IF('Simulador Pagos Oportunos'!$W$40=4,AK27,IF('Simulador Pagos Oportunos'!$W$40=5,AL27,IF('Simulador Pagos Oportunos'!$W$40=6,AI27,AH27)))))","v":""},{"$f":"IF(AO27<=0,0,IF('Simulador Pagos Oportunos'!$Y$73=1,0,AO27*'Simulador Pagos Oportunos'!$Y$76))+IF(AO27<=0,0,IF('Simulador Pagos Oportunos'!$W$40=6,'Simulador Pagos Oportunos'!$H$52,IF('Simulador Pagos Oportunos'!$W$40=3,'Simulador Pagos Oportunos'!$J$52,IF('Simulador Pagos Oportunos'!$W$40=4,'Simulador Pagos Oportunos'!$L$52,'Simulador Pagos Oportunos'!$N$52))))","v":0},null,0,0,"",0,8]
[9,0,null,{"$f":"IF(B28+F28-D27<=0,B28+F28,IF(A28=$B$10,$F$10,IF(A28=$B$11,$F$11,IF(A28=$B$12,$F$12,IF(A28=$B$13,$F$13,IF(A28=$B$14,$F$14,IF(AND('Simulador Pagos Oportunos'!$AF$45=2,L27=0),D27*(1+Z28),IF($AP$3=2,B28*AN28,D27*(1+Z28)))))))))","v":0},null,0,null,0,null,null,null,null,null,{"$f":"IF(OR('Simulador Pagos Oportunos'!$U$65=1,'Simulador Pagos Oportunos'!$U$65=3),0,L28*'Simulador Pagos Oportunos'!$U$66*'Simulador Pagos Oportunos'!$V$64)","v":0},null,{"$f":"IF(B28=0,\"\",IF('Simulador Pagos Oportunos'!$W$40=3,AJ28,IF('Simulador Pagos Oportunos'!$W$40=4,AK28,IF('Simulador Pagos Oportunos'!$W$40=5,AL28,IF('Simulador Pagos Oportunos'!$W$40=6,AI28,AH28)))))","v":""},null,0,null,{"$f":"IF(B28<=0,0,B28*'Simulador Pagos Oportunos'!$Y$76)","v":0},null,{"$f":"IF(B28<=0,0,IF('Simulador Pagos Oportunos'!$W$40=3,'Simulador Pagos Oportunos'!$J$52,IF('Simulador Pagos Oportunos'!$W$40=4,'Simulador Pagos Oportunos'!$L$52,IF('Simulador Pagos Oportunos'!$W$40=5,'Simulador Pagos Oportunos'!$N$52,IF('Simulador Pagos Oportunos'!$W$40=6,'Simulador Pagos Oportunos'!$H$52)))))","v":0},null,0,null,null,null,0,9,0,0,0,0,{"$f":"'Simulador Pagos Oportunos'!$AC$77","v":0.13},0.13,0.13,0.13,0.13,0,0,0,0,0,0,0,{"$f":"IF(AO28=0,\"\",IF('Simulador Pagos Oportunos'!$W$40=3,AJ28,IF('Simulador Pagos Oportunos'!$W$40=4,AK28,IF('Simulador Pagos Oportunos'!$W$40=5,AL28,IF('Simulador Pagos Oportunos'!$W$40=6,AI28,AH28)))))","v":""},{"$f":"IF(AO28<=0,0,IF('Simulador Pagos Oportunos'!$Y$73=1,0,AO28*'Simulador Pagos Oportunos'!$Y$76))+IF(AO28<=0,0,IF('Simulador Pagos Oportunos'!$W$40=6,'Simulador Pagos Oportunos'!$H$52,IF('Simulador Pagos Oportunos'!$W$40=3,'Simulador Pagos Oportunos'!$J$52,IF('Simulador Pagos Oportunos'!$W$40=4,'Simulador Pagos Oportunos'!$L$52,'Simulador Pagos Oportunos'!$N$52))))","v":0},null,0,0,"",0,9]
[10,0,null,{"$f":"IF(B29+F29-D28<=0,B29+F29,IF(A29=$B$10,$F$10,IF(A29=$B$11,$F$11,IF(A29=$B$12,$F$12,IF(A29=$B$13,$F$13,IF(A29=$B$14,$F$14,IF(AND('Simulador Pagos Oportunos'!$AF$45=2,L28=0),D28*(1+Z29),IF($AP$3=2,B29*AN29,D28*(1+Z29)))))))))","v":0},null,0,null,0,null,{"$f":"IF(B29-H29=0,0,J27)","v":0},null,null,null,{"$f":"IF(OR('Simulador Pagos Oportunos'!$U$65=1,'Simulador Pagos Oportunos'!$U$65=3),0,L29*'Simulador Pagos Oportunos'!$U$66*'Simulador Pagos Oportunos'!$V$64)","v":0},null,{"$f":"IF(B29=0,\"\",IF('Simulador Pagos Oportunos'!$W$40=3,AJ29,IF('Simulador Pagos Oportunos'!$W$40=4,AK29,IF('Simulador Pagos Oportunos'!$W$40=5,AL29,IF('Simulador Pagos Oportunos'!$W$40=6,AI29,AH29)))))","v":""},null,0,null,{"$f":"IF(B29<=0,0,B29*'Simulador Pagos Oportunos'!$Y$76)","v":0},null,{"$f":"IF(B29<=0,0,IF('Simulador Pagos Oportunos'!$W$40=3,'Simulador Pagos Oportunos'!$J$52,IF('Simulador Pagos Oportunos'!$W$40=4,'Simulador Pagos Oportunos'!$L$52,IF('Simulador Pagos Oportunos'!$W$40=5,'Simulador Pagos Oportunos'!$N$52,IF('Simulador Pagos Oportunos'!$W$40=6,'Simulador Pagos Oportunos'!$H$52)))))","v":0},null,0,null,null,null,0,10,0,0,0,0,{"$f":"'Simulador Pagos Oportunos'!$AC$77","v":0.13},0.13,0.13,0.13,0.13,0,0,0,0,0,0,0,{"$f":"IF(AO29=0,\"\",IF('Simulador Pagos Oportunos'!$W$40=3,AJ29,IF('Simulador Pagos Oportunos'!$W$40=4,AK29,IF('Simulador Pagos Oportunos'!$W$40=5,AL29,IF('Simulador Pagos Oportunos'!$W$40=6,AI29,AH29)))))","v":""},{"$f":"IF(AO29<=0,0,IF('Simulador Pagos Oportunos'!$Y$73=1,0,AO29*'Simulador Pagos Oportunos'!$Y$76))+IF(AO29<=0,0,IF('Simulador Pagos Oportunos'!$W$40=6,'Simulador Pagos Oportunos'!$H$52,IF('Simulador Pagos Oportunos'!$W$40=3,'Simulador Pagos Oportunos'!$J$52,IF('Simulador Pagos Oportunos'!$W$40=4,'Simulador Pagos Oportunos'!$L$52,'Simulador Pagos Oportunos'!$N$52))))","v":0},null,0,0,"",0,10]
[11,0,null,{"$f":"IF(B30+F30-D29<=0,B30+F30,IF(A30=$B$10,$F$10,IF(A30=$B$11,$F$11,IF(A30=$B$12,$F$12,IF(A30=$B$13,$F$13,IF(A30=$B$14,$F$14,IF(AND('Simulador Pagos Oportunos'!$AF$45=2,L29=0),D29*(1+Z30),IF($AP$3=2,B30*AN30,D29*(1+Z30)))))))))","v":0},null,0,null,0,null,null,null,null,null,{"$f":"IF(OR('Simulador Pagos Oportunos'!$U$65=1,'Simulador Pagos Oportunos'!$U$65=3),0,L30*'Simulador Pagos Oportunos'!$U$66*'Simulador Pagos Oportunos'!$V$64)","v":0},null,{"$f":"IF(B30=0,\"\",IF('Simulador Pagos Oportunos'!$W$40=3,AJ30,IF('Simulador Pagos Oportunos'!$W$40=4,AK30,IF('Simulador Pagos Oportunos'!$W$40=5,AL30,IF('Simulador Pagos Oportunos'!$W$40=6,AI30,AH30)))))","v":""},null,0,null,{"$f":"IF(B30<=0,0,B30*'Simulador Pagos Oportunos'!$Y$76)","v":0},null,{"$f":"IF(B30<=0,0,IF('Simulador Pagos Oportunos'!$W$40=3,'Simulador Pagos Oportunos'!$J$52,IF('Simulador Pagos Oportunos'!$W$40=4,'Simulador Pagos Oportunos'!$L$52,IF('Simulador Pagos Oportunos'!$W$40=5,'Simulador Pagos Oportunos'!$N$52,IF('Simulador Pagos Oportunos'!$W$40=6,'Simulador Pagos Oportunos'!$H$52)))))","v":0},null,0,null,null,null,0,11,0,0,0,0,{"$f":"'Simulador Pagos Oportunos'!$AC$77","v":0.13},0.13,0.13,0.13,0.13,0,0,0,0,0,0,0,{"$f":"IF(AO30=0,\"\",IF('Simulador Pagos Oportunos'!$W$40=3,AJ30,IF('Simulador Pagos Oportunos'!$W$40=4,AK30,IF('Simulador Pagos Oportunos'!$W$40=5,AL30,IF('Simulador Pagos Oportunos'!$W$40=6,AI30,AH30)))))","v":""},{"$f":"IF(AO30<=0,0,IF('Simulador Pagos Oportunos'!$Y$73=1,0,AO30*'Simulador Pagos Oportunos'!$Y$76))+IF(AO30<=0,0,IF('Simulador Pagos Oportunos'!$W$40=6,'Simulador Pagos Oportunos'!$H$52,IF('Simulador Pagos Oportunos'!$W$40=3,'Simulador Pagos Oportunos'!$J$52,IF('Simulador Pagos Oportunos'!$W$40=4,'Simulador Pagos Oportunos'!$L$52,'Simulador Pagos Oportunos'!$N$52))))","v":0},null,0,0,"",0,11]
[12,0,null,{"$f":"IF(B31+F31-D30<=0,B31+F31,IF(A31=$B$10,$F$10,IF(A31=$B$11,$F$11,IF(A31=$B$12,$F$12,IF(A31=$B$13,$F$13,IF(A31=$B$14,$F$14,IF(AND('Simulador Pagos Oportunos'!$AF$45=2,L30=0),D30*(1+Z31),IF($AP$3=2,B31*AN31,D30*(1+Z31)))))))))","v":0},null,0,null,0,null,{"$f":"IF(B31-H31=0,0,J29)","v":0},null,null,null,{"$f":"IF(OR('Simulador Pagos Oportunos'!$U$65=1,'Simulador Pagos Oportunos'!$U$65=3),0,L31*'Simulador Pagos Oportunos'!$U$66*'Simulador Pagos Oportunos'!$V$64)","v":0},null,{"$f":"IF(B31=0,\"\",IF('Simulador Pagos Oportunos'!$W$40=3,AJ31,IF('Simulador Pagos Oportunos'!$W$40=4,AK31,IF('Simulador Pagos Oportunos'!$W$40=5,AL31,IF('Simulador Pagos Oportunos'!$W$40=6,AI31,AH31)))))","v":""},null,0,null,{"$f":"IF(B31<=0,0,B31*'Simulador Pagos Oportunos'!$Y$76)","v":0},null,{"$f":"IF(B31<=0,0,IF('Simulador Pagos Oportunos'!$W$40=3,'Simulador Pagos Oportunos'!$J$52,IF('Simulador Pagos Oportunos'!$W$40=4,'Simulador Pagos Oportunos'!$L$52,IF('Simulador Pagos Oportunos'!$W$40=5,'Simulador Pagos Oportunos'!$N$52,IF('Simulador Pagos Oportunos'!$W$40=6,'Simulador Pagos Oportunos'!$H$52)))))","v":0},null,0,null,null,null,1,0,0,0,0,0,{"$f":"'Simulador Pagos Oportunos'!$AC$77","v":0.13},0.13,0.13,0.13,0.13,0,0,0,0,0,0,0,{"$f":"IF(AO31=0,\"\",IF('Simulador Pagos Oportunos'!$W$40=3,AJ31,IF('Simulador Pagos Oportunos'!$W$40=4,AK31,IF('Simulador Pagos Oportunos'!$W$40=5,AL31,IF('Simulador Pagos Oportunos'!$W$40=6,AI31,AH31)))))","v":""},{"$f":"IF(AO31<=0,0,IF('Simulador Pagos Oportunos'!$Y$73=1,0,AO31*'Simulador Pagos Oportunos'!$Y$76))+IF(AO31<=0,0,IF('Simulador Pagos Oportunos'!$W$40=6,'Simulador Pagos Oportunos'!$H$52,IF('Simulador Pagos Oportunos'!$W$40=3,'Simulador Pagos Oportunos'!$J$52,IF('Simulador Pagos Oportunos'!$W$40=4,'Simulador Pagos Oportunos'!$L$52,'Simulador Pagos Oportunos'!$N$52))))","v":0},null,0,0,"",0,12]
[13,0,null,{"$f":"IF(B32+F32-D31<=0,B32+F32,IF(A32=$B$10,$F$10,IF(A32=$B$11,$F$11,IF(A32=$B$12,$F$12,IF(A32=$B$13,$F$13,IF(A32=$B$14,$F$14,IF(AND('Simulador Pagos Oportunos'!$AF$45=2,L31=0),D31*(1+Z32),IF($AP$3=2,B32*AN32,D31*(1+Z32)))))))))","v":0},null,0,null,0,null,null,null,null,null,{"$f":"IF(OR('Simulador Pagos Oportunos'!$U$65=1,'Simulador Pagos Oportunos'!$U$65=3),0,L32*'Simulador Pagos Oportunos'!$U$66*'Simulador Pagos Oportunos'!$V$64)","v":0},null,{"$f":"IF(B32=0,\"\",IF('Simulador Pagos Oportunos'!$W$40=3,AJ32,IF('Simulador Pagos Oportunos'!$W$40=4,AK32,IF('Simulador Pagos Oportunos'!$W$40=5,AL32,IF('Simulador Pagos Oportunos'!$W$40=6,AI32,AH32)))))","v":""},null,0,null,{"$f":"IF(B32<=0,0,B32*'Simulador Pagos Oportunos'!$Y$76)","v":0},null,{"$f":"IF(B32<=0,0,IF('Simulador Pagos Oportunos'!$W$40=3,'Simulador Pagos Oportunos'!$J$52,IF('Simulador Pagos Oportunos'!$W$40=4,'Simulador Pagos Oportunos'!$L$52,IF('Simulador Pagos Oportunos'!$W$40=5,'Simulador Pagos Oportunos'!$N$52,IF('Simulador Pagos Oportunos'!$W$40=6,'Simulador Pagos Oportunos'!$H$52)))))","v":0},null,0,null,{"$f":"IF(B32<=0,0,'Simulador Pagos Oportunos'!AG53)","v":0},null,1,1,0,0,0,0,{"$f":"'Simulador Pagos Oportunos'!$AC$77","v":0.13},{"$f":"AI31-0.2%","v":0.128},{"$f":"AJ31-0.2%","v":0.128},{"$f":"AK31-0.2%","v":0.128},{"$f":"AL31-0.2%","v":0.128},0,0,0,0,0,0,0,{"$f":"IF(AO32=0,\"\",IF('Simulador Pagos Oportunos'!$W$40=3,AJ32,IF('Simulador Pagos Oportunos'!$W$40=4,AK32,IF('Simulador Pagos Oportunos'!$W$40=5,AL32,IF('Simulador Pagos Oportunos'!$W$40=6,AI32,AH32)))))","v":""},{"$f":"IF(AO32<=0,0,IF('Simulador Pagos Oportunos'!$Y$73=1,0,AO32*'Simulador Pagos Oportunos'!$Y$76))+IF(AO32<=0,0,IF('Simulador Pagos Oportunos'!$W$40=6,'Simulador Pagos Oportunos'!$H$52,IF('Simulador Pagos Oportunos'!$W$40=3,'Simulador Pagos Oportunos'!$J$52,IF('Simulador Pagos Oportunos'!$W$40=4,'Simulador Pagos Oportunos'!$L$52,'Simulador Pagos Oportunos'!$N$52))))","v":0},{"$f":"IF(AO32<=0,0,'Simulador Pagos Oportunos'!AG53)","v":0},0,0,"",0,13]
[14,0,null,{"$f":"IF(B33+F33-D32<=0,B33+F33,IF(A33=$B$10,$F$10,IF(A33=$B$11,$F$11,IF(A33=$B$12,$F$12,IF(A33=$B$13,$F$13,IF(A33=$B$14,$F$14,IF(AND('Simulador Pagos Oportunos'!$AF$45=2,L32=0),D32*(1+Z33),IF($AP$3=2,B33*AN33,D32*(1+Z33)))))))))","v":0},null,0,null,0,null,{"$f":"IF(B33-H33=0,0,J31*(1+(3%)))","v":0},null,null,null,{"$f":"IF(OR('Simulador Pagos Oportunos'!$U$65=1,'Simulador Pagos Oportunos'!$U$65=3),0,L33*'Simulador Pagos Oportunos'!$U$66*'Simulador Pagos Oportunos'!$V$64)","v":0},null,{"$f":"IF(B33=0,\"\",IF('Simulador Pagos Oportunos'!$W$40=3,AJ33,IF('Simulador Pagos Oportunos'!$W$40=4,AK33,IF('Simulador Pagos Oportunos'!$W$40=5,AL33,IF('Simulador Pagos Oportunos'!$W$40=6,AI33,AH33)))))","v":""},null,0,null,{"$f":"IF(B33<=0,0,B33*'Simulador Pagos Oportunos'!$Y$76)","v":0},null,{"$f":"IF(B33<=0,0,IF('Simulador Pagos Oportunos'!$W$40=3,'Simulador Pagos Oportunos'!$J$52,IF('Simulador Pagos Oportunos'!$W$40=4,'Simulador Pagos Oportunos'!$L$52,IF('Simulador Pagos Oportunos'!$W$40=5,'Simulador Pagos Oportunos'!$N$52,IF('Simulador Pagos Oportunos'!$W$40=6,'Simulador Pagos Oportunos'!$H$52)))))","v":0},null,0,null,null,null,1,2,0,0,0,0,{"$f":"'Simulador Pagos Oportunos'!$AC$77","v":0.13},{"$f":"AI32","v":0.128},{"$f":"AJ32","v":0.128},0.128,0.128,0,0,0,0,0,0,0,{"$f":"IF(AO33=0,\"\",IF('Simulador Pagos Oportunos'!$W$40=3,AJ33,IF('Simulador Pagos Oportunos'!$W$40=4,AK33,IF('Simulador Pagos Oportunos'!$W$40=5,AL33,IF('Simulador Pagos Oportunos'!$W$40=6,AI33,AH33)))))","v":""},{"$f":"IF(AO33<=0,0,IF('Simulador Pagos Oportunos'!$Y$73=1,0,AO33*'Simulador Pagos Oportunos'!$Y$76))+IF(AO33<=0,0,IF('Simulador Pagos Oportunos'!$W$40=6,'Simulador Pagos Oportunos'!$H$52,IF('Simulador Pagos Oportunos'!$W$40=3,'Simulador Pagos Oportunos'!$J$52,IF('Simulador Pagos Oportunos'!$W$40=4,'Simulador Pagos Oportunos'!$L$52,'Simulador Pagos Oportunos'!$N$52))))","v":0},null,0,0,"",0,14]
[15,0,null,{"$f":"IF(B34+F34-D33<=0,B34+F34,IF(A34=$B$10,$F$10,IF(A34=$B$11,$F$11,IF(A34=$B$12,$F$12,IF(A34=$B$13,$F$13,IF(A34=$B$14,$F$14,IF(AND('Simulador Pagos Oportunos'!$AF$45=2,L33=0),D33*(1+Z34),IF($AP$3=2,B34*AN34,D33*(1+Z34)))))))))","v":0},null,0,null,0,null,null,null,null,null,{"$f":"IF(OR('Simulador Pagos Oportunos'!$U$65=1,'Simulador Pagos Oportunos'!$U$65=3),0,L34*'Simulador Pagos Oportunos'!$U$66*'Simulador Pagos Oportunos'!$V$64)","v":0},null,{"$f":"IF(B34=0,\"\",IF('Simulador Pagos Oportunos'!$W$40=3,AJ34,IF('Simulador Pagos Oportunos'!$W$40=4,AK34,IF('Simulador Pagos Oportunos'!$W$40=5,AL34,IF('Simulador Pagos Oportunos'!$W$40=6,AI34,AH34)))))","v":""},null,0,null,{"$f":"IF(B34<=0,0,B34*'Simulador Pagos Oportunos'!$Y$76)","v":0},null,{"$f":"IF(B34<=0,0,IF('Simulador Pagos Oportunos'!$W$40=3,'Simulador Pagos Oportunos'!$J$52,IF('Simulador Pagos Oportunos'!$W$40=4,'Simulador Pagos Oportunos'!$L$52,IF('Simulador Pagos Oportunos'!$W$40=5,'Simulador Pagos Oportunos'!$N$52,IF('Simulador Pagos Oportunos'!$W$40=6,'Simulador Pagos Oportunos'!$H$52)))))","v":0},null,0,null,null,null,1,3,0,0,0,0,{"$f":"'Simulador Pagos Oportunos'!$AC$77","v":0.13},{"$f":"AI33","v":0.128},0.128,0.128,0.128,0,0,0,0,0,0,0,{"$f":"IF(AO34=0,\"\",IF('Simulador Pagos Oportunos'!$W$40=3,AJ34,IF('Simulador Pagos Oportunos'!$W$40=4,AK34,IF('Simulador Pagos Oportunos'!$W$40=5,AL34,IF('Simulador Pagos Oportunos'!$W$40=6,AI34,AH34)))))","v":""},{"$f":"IF(AO34<=0,0,IF('Simulador Pagos Oportunos'!$Y$73=1,0,AO34*'Simulador Pagos Oportunos'!$Y$76))+IF(AO34<=0,0,IF('Simulador Pagos Oportunos'!$W$40=6,'Simulador Pagos Oportunos'!$H$52,IF('Simulador Pagos Oportunos'!$W$40=3,'Simulador Pagos Oportunos'!$J$52,IF('Simulador Pagos Oportunos'!$W$40=4,'Simulador Pagos Oportunos'!$L$52,'Simulador Pagos Oportunos'!$N$52))))","v":0},null,0,0,"",0,15]
[16,0,null,{"$f":"IF(B35+F35-D34<=0,B35+F35,IF(A35=$B$10,$F$10,IF(A35=$B$11,$F$11,IF(A35=$B$12,$F$12,IF(A35=$B$13,$F$13,IF(A35=$B$14,$F$14,IF(AND('Simulador Pagos Oportunos'!$AF$45=2,L34=0),D34*(1+Z35),IF($AP$3=2,B35*AN35,D34*(1+Z35)))))))))","v":0},null,0,null,0,null,{"$f":"IF(B35-H35=0,0,J33)","v":0},null,null,null,{"$f":"IF(OR('Simulador Pagos Oportunos'!$U$65=1,'Simulador Pagos Oportunos'!$U$65=3),0,L35*'Simulador Pagos Oportunos'!$U$66*'Simulador Pagos Oportunos'!$V$64)","v":0},null,{"$f":"IF(B35=0,\"\",IF('Simulador Pagos Oportunos'!$W$40=3,AJ35,IF('Simulador Pagos Oportunos'!$W$40=4,AK35,IF('Simulador Pagos Oportunos'!$W$40=5,AL35,IF('Simulador Pagos Oportunos'!$W$40=6,AI35,AH35)))))","v":""},null,0,null,{"$f":"IF(B35<=0,0,B35*'Simulador Pagos Oportunos'!$Y$76)","v":0},null,{"$f":"IF(B35<=0,0,IF('Simulador Pagos Oportunos'!$W$40=3,'Simulador Pagos Oportunos'!$J$52,IF('Simulador Pagos Oportunos'!$W$40=4,'Simulador Pagos Oportunos'!$L$52,IF('Simulador Pagos Oportunos'!$W$40=5,'Simulador Pagos Oportunos'!$N$52,IF('Simulador Pagos Oportunos'!$W$40=6,'Simulador Pagos Oportunos'!$H$52)))))","v":0},null,0,null,null,null,1,4,0,0,0,0,{"$f":"'Simulador Pagos Oportunos'!$AC$77","v":0.13},0.128,0.128,0.128,0.128,0,0,0,0,0,0,0,{"$f":"IF(AO35=0,\"\",IF('Simulador Pagos Oportunos'!$W$40=3,AJ35,IF('Simulador Pagos Oportunos'!$W$40=4,AK35,IF('Simulador Pagos Oportunos'!$W$40=5,AL35,IF('Simulador Pagos Oportunos'!$W$40=6,AI35,AH35)))))","v":""},{"$f":"IF(AO35<=0,0,IF('Simulador Pagos Oportunos'!$Y$73=1,0,AO35*'Simulador Pagos Oportunos'!$Y$76))+IF(AO35<=0,0,IF('Simulador Pagos Oportunos'!$W$40=6,'Simulador Pagos Oportunos'!$H$52,IF('Simulador Pagos Oportunos'!$W$40=3,'Simulador Pagos Oportunos'!$J$52,IF('Simulador Pagos Oportunos'!$W$40=4,'Simulador Pagos Oportunos'!$L$52,'Simulador Pagos Oportunos'!$N$52))))","v":0},null,0,0,"",0,16]
[17,0,null,{"$f":"IF(B36+F36-D35<=0,B36+F36,IF(A36=$B$10,$F$10,IF(A36=$B$11,$F$11,IF(A36=$B$12,$F$12,IF(A36=$B$13,$F$13,IF(A36=$B$14,$F$14,IF(AND('Simulador Pagos Oportunos'!$AF$45=2,L35=0),D35*(1+Z36),IF($AP$3=2,B36*AN36,D35*(1+Z36)))))))))","v":0},null,0,null,0,null,null,null,null,null,{"$f":"IF(OR('Simulador Pagos Oportunos'!$U$65=1,'Simulador Pagos Oportunos'!$U$65=3),0,L36*'Simulador Pagos Oportunos'!$U$66*'Simulador Pagos Oportunos'!$V$64)","v":0},null,{"$f":"IF(B36=0,\"\",IF('Simulador Pagos Oportunos'!$W$40=3,AJ36,IF('Simulador Pagos Oportunos'!$W$40=4,AK36,IF('Simulador Pagos Oportunos'!$W$40=5,AL36,IF('Simulador Pagos Oportunos'!$W$40=6,AI36,AH36)))))","v":""},null,0,null,{"$f":"IF(B36<=0,0,B36*'Simulador Pagos Oportunos'!$Y$76)","v":0},null,{"$f":"IF(B36<=0,0,IF('Simulador Pagos Oportunos'!$W$40=3,'Simulador Pagos Oportunos'!$J$52,IF('Simulador Pagos Oportunos'!$W$40=4,'Simulador Pagos Oportunos'!$L$52,IF('Simulador Pagos Oportunos'!$W$40=5,'Simulador Pagos Oportunos'!$N$52,IF('Simulador Pagos Oportunos'!$W$40=6,'Simulador Pagos Oportunos'!$H$52)))))","v":0},null,0,null,null,null,1,5,0,0,0,0,{"$f":"'Simulador Pagos Oportunos'!$AC$77","v":0.13},0.128,0.128,0.128,0.128,0,0,0,0,0,0,0,{"$f":"IF(AO36=0,\"\",IF('Simulador Pagos Oportunos'!$W$40=3,AJ36,IF('Simulador Pagos Oportunos'!$W$40=4,AK36,IF('Simulador Pagos Oportunos'!$W$40=5,AL36,IF('Simulador Pagos Oportunos'!$W$40=6,AI36,AH36)))))","v":""},{"$f":"IF(AO36<=0,0,IF('Simulador Pagos Oportunos'!$Y$73=1,0,AO36*'Simulador Pagos Oportunos'!$Y$76))+IF(AO36<=0,0,IF('Simulador Pagos Oportunos'!$W$40=6,'Simulador Pagos Oportunos'!$H$52,IF('Simulador Pagos Oportunos'!$W$40=3,'Simulador Pagos Oportunos'!$J$52,IF('Simulador Pagos Oportunos'!$W$40=4,'Simulador Pagos Oportunos'!$L$52,'Simulador Pagos Oportunos'!$N$52))))","v":0},null,0,0,"",0,17]
[18,0,null,{"$f":"IF(B37+F37-D36<=0,B37+F37,IF(A37=$B$10,$F$10,IF(A37=$B$11,$F$11,IF(A37=$B$12,$F$12,IF(A37=$B$13,$F$13,IF(A37=$B$14,$F$14,IF(AND('Simulador Pagos Oportunos'!$AF$45=2,L36=0),D36*(1+Z37),IF($AP$3=2,B37*AN37,D36*(1+Z37)))))))))","v":0},null,0,null,0,null,{"$f":"IF(B37-H37=0,0,J35)","v":0},null,null,null,{"$f":"IF(OR('Simulador Pagos Oportunos'!$U$65=1,'Simulador Pagos Oportunos'!$U$65=3),0,L37*'Simulador Pagos Oportunos'!$U$66*'Simulador Pagos Oportunos'!$V$64)","v":0},null,{"$f":"IF(B37=0,\"\",IF('Simulador Pagos Oportunos'!$W$40=3,AJ37,IF('Simulador Pagos Oportunos'!$W$40=4,AK37,IF('Simulador Pagos Oportunos'!$W$40=5,AL37,IF('Simulador Pagos Oportunos'!$W$40=6,AI37,AH37)))))","v":""},null,0,null,{"$f":"IF(B37<=0,0,B37*'Simulador Pagos Oportunos'!$Y$76)","v":0},null,{"$f":"IF(B37<=0,0,IF('Simulador Pagos Oportunos'!$W$40=3,'Simulador Pagos Oportunos'!$J$52,IF('Simulador Pagos Oportunos'!$W$40=4,'Simulador Pagos Oportunos'!$L$52,IF('Simulador Pagos Oportunos'!$W$40=5,'Simulador Pagos Oportunos'!$N$52,IF('Simulador Pagos Oportunos'!$W$40=6,'Simulador Pagos Oportunos'!$H$52)))))","v":0},null,0,null,null,null,1,6,0,0,0,0,{"$f":"'Simulador Pagos Oportunos'!$AC$77","v":0.13},0.128,0.128,0.128,0.128,0,0,0,0,0,0,0,{"$f":"IF(AO37=0,\"\",IF('Simulador Pagos Oportunos'!$W$40=3,AJ37,IF('Simulador Pagos Oportunos'!$W$40=4,AK37,IF('Simulador Pagos Oportunos'!$W$40=5,AL37,IF('Simulador Pagos Oportunos'!$W$40=6,AI37,AH37)))))","v":""},{"$f":"IF(AO37<=0,0,IF('Simulador Pagos Oportunos'!$Y$73=1,0,AO37*'Simulador Pagos Oportunos'!$Y$76))+IF(AO37<=0,0,IF('Simulador Pagos Oportunos'!$W$40=6,'Simulador Pagos Oportunos'!$H$52,IF('Simulador Pagos Oportunos'!$W$40=3,'Simulador Pagos Oportunos'!$J$52,IF('Simulador Pagos Oportunos'!$W$40=4,'Simulador Pagos Oportunos'!$L$52,'Simulador Pagos Oportunos'!$N$52))))","v":0},null,0,0,"",0,18]
[19,0,null,{"$f":"IF(B38+F38-D37<=0,B38+F38,IF(A38=$B$10,$F$10,IF(A38=$B$11,$F$11,IF(A38=$B$12,$F$12,IF(A38=$B$13,$F$13,IF(A38=$B$14,$F$14,IF(AND('Simulador Pagos Oportunos'!$AF$45=2,L37=0),D37*(1+Z38),IF($AP$3=2,B38*AN38,D37*(1+Z38)))))))))","v":0},null,0,null,0,null,null,null,null,null,{"$f":"IF(OR('Simulador Pagos Oportunos'!$U$65=1,'Simulador Pagos Oportunos'!$U$65=3),0,L38*'Simulador Pagos Oportunos'!$U$66*'Simulador Pagos Oportunos'!$V$64)","v":0},null,{"$f":"IF(B38=0,\"\",IF('Simulador Pagos Oportunos'!$W$40=3,AJ38,IF('Simulador Pagos Oportunos'!$W$40=4,AK38,IF('Simulador Pagos Oportunos'!$W$40=5,AL38,IF('Simulador Pagos Oportunos'!$W$40=6,AI38,AH38)))))","v":""},null,0,null,{"$f":"IF(B38<=0,0,B38*'Simulador Pagos Oportunos'!$Y$76)","v":0},null,{"$f":"IF(B38<=0,0,IF('Simulador Pagos Oportunos'!$W$40=3,'Simulador Pagos Oportunos'!$J$52,IF('Simulador Pagos Oportunos'!$W$40=4,'Simulador Pagos Oportunos'!$L$52,IF('Simulador Pagos Oportunos'!$W$40=5,'Simulador Pagos Oportunos'!$N$52,IF('Simulador Pagos Oportunos'!$W$40=6,'Simulador Pagos Oportunos'!$H$52)))))","v":0},null,0,null,null,null,1,7,0,0,0,0,{"$f":"'Simulador Pagos Oportunos'!$AC$77","v":0.13},0.128,0.128,0.128,0.128,0,0,0,0,0,0,0,{"$f":"IF(AO38=0,\"\",IF('Simulador Pagos Oportunos'!$W$40=3,AJ38,IF('Simulador Pagos Oportunos'!$W$40=4,AK38,IF('Simulador Pagos Oportunos'!$W$40=5,AL38,IF('Simulador Pagos Oportunos'!$W$40=6,AI38,AH38)))))","v":""},{"$f":"IF(AO38<=0,0,IF('Simulador Pagos Oportunos'!$Y$73=1,0,AO38*'Simulador Pagos Oportunos'!$Y$76))+IF(AO38<=0,0,IF('Simulador Pagos Oportunos'!$W$40=6,'Simulador Pagos Oportunos'!$H$52,IF('Simulador Pagos Oportunos'!$W$40=3,'Simulador Pagos Oportunos'!$J$52,IF('Simulador Pagos Oportunos'!$W$40=4,'Simulador Pagos Oportunos'!$L$52,'Simulador Pagos Oportunos'!$N$52))))","v":0},null,0,0,"",0,19]
[20,0,null,{"$f":"IF(B39+F39-D38<=0,B39+F39,IF(A39=$B$10,$F$10,IF(A39=$B$11,$F$11,IF(A39=$B$12,$F$12,IF(A39=$B$13,$F$13,IF(A39=$B$14,$F$14,IF(AND('Simulador Pagos Oportunos'!$AF$45=2,L38=0),D38*(1+Z39),IF($AP$3=2,B39*AN39,D38*(1+Z39)))))))))","v":0},null,0,null,0,null,{"$f":"IF(B39-H39=0,0,J37)","v":0},null,null,null,{"$f":"IF(OR('Simulador Pagos Oportunos'!$U$65=1,'Simulador Pagos Oportunos'!$U$65=3),0,L39*'Simulador Pagos Oportunos'!$U$66*'Simulador Pagos Oportunos'!$V$64)","v":0},null,{"$f":"IF(B39=0,\"\",IF('Simulador Pagos Oportunos'!$W$40=3,AJ39,IF('Simulador Pagos Oportunos'!$W$40=4,AK39,IF('Simulador Pagos Oportunos'!$W$40=5,AL39,IF('Simulador Pagos Oportunos'!$W$40=6,AI39,AH39)))))","v":""},null,0,null,{"$f":"IF(B39<=0,0,B39*'Simulador Pagos Oportunos'!$Y$76)","v":0},null,{"$f":"IF(B39<=0,0,IF('Simulador Pagos Oportunos'!$W$40=3,'Simulador Pagos Oportunos'!$J$52,IF('Simulador Pagos Oportunos'!$W$40=4,'Simulador Pagos Oportunos'!$L$52,IF('Simulador Pagos Oportunos'!$W$40=5,'Simulador Pagos Oportunos'!$N$52,IF('Simulador Pagos Oportunos'!$W$40=6,'Simulador Pagos Oportunos'!$H$52)))))","v":0},null,0,null,null,null,1,8,0,0,0,0,{"$f":"'Simulador Pagos Oportunos'!$AC$77","v":0.13},0.128,0.128,0.128,0.128,0,0,0,0,0,0,0,{"$f":"IF(AO39=0,\"\",IF('Simulador Pagos Oportunos'!$W$40=3,AJ39,IF('Simulador Pagos Oportunos'!$W$40=4,AK39,IF('Simulador Pagos Oportunos'!$W$40=5,AL39,IF('Simulador Pagos Oportunos'!$W$40=6,AI39,AH39)))))","v":""},{"$f":"IF(AO39<=0,0,IF('Simulador Pagos Oportunos'!$Y$73=1,0,AO39*'Simulador Pagos Oportunos'!$Y$76))+IF(AO39<=0,0,IF('Simulador Pagos Oportunos'!$W$40=6,'Simulador Pagos Oportunos'!$H$52,IF('Simulador Pagos Oportunos'!$W$40=3,'Simulador Pagos Oportunos'!$J$52,IF('Simulador Pagos Oportunos'!$W$40=4,'Simulador Pagos Oportunos'!$L$52,'Simulador Pagos Oportunos'!$N$52))))","v":0},null,0,0,"",0,20]
[21,0,null,{"$f":"IF(B40+F40-D39<=0,B40+F40,IF(A40=$B$10,$F$10,IF(A40=$B$11,$F$11,IF(A40=$B$12,$F$12,IF(A40=$B$13,$F$13,IF(A40=$B$14,$F$14,IF(AND('Simulador Pagos Oportunos'!$AF$45=2,L39=0),D39*(1+Z40),IF($AP$3=2,B40*AN40,D39*(1+Z40)))))))))","v":0},null,0,null,0,null,null,null,null,null,{"$f":"IF(OR('Simulador Pagos Oportunos'!$U$65=1,'Simulador Pagos Oportunos'!$U$65=3),0,L40*'Simulador Pagos Oportunos'!$U$66*'Simulador Pagos Oportunos'!$V$64)","v":0},null,{"$f":"IF(B40=0,\"\",IF('Simulador Pagos Oportunos'!$W$40=3,AJ40,IF('Simulador Pagos Oportunos'!$W$40=4,AK40,IF('Simulador Pagos Oportunos'!$W$40=5,AL40,IF('Simulador Pagos Oportunos'!$W$40=6,AI40,AH40)))))","v":""},null,0,null,{"$f":"IF(B40<=0,0,B40*'Simulador Pagos Oportunos'!$Y$76)","v":0},null,{"$f":"IF(B40<=0,0,IF('Simulador Pagos Oportunos'!$W$40=3,'Simulador Pagos Oportunos'!$J$52,IF('Simulador Pagos Oportunos'!$W$40=4,'Simulador Pagos Oportunos'!$L$52,IF('Simulador Pagos Oportunos'!$W$40=5,'Simulador Pagos Oportunos'!$N$52,IF('Simulador Pagos Oportunos'!$W$40=6,'Simulador Pagos Oportunos'!$H$52)))))","v":0},null,0,null,null,null,1,9,0,0,0,0,{"$f":"'Simulador Pagos Oportunos'!$AC$77","v":0.13},0.128,0.128,0.128,0.128,0,0,0,0,0,0,0,{"$f":"IF(AO40=0,\"\",IF('Simulador Pagos Oportunos'!$W$40=3,AJ40,IF('Simulador Pagos Oportunos'!$W$40=4,AK40,IF('Simulador Pagos Oportunos'!$W$40=5,AL40,IF('Simulador Pagos Oportunos'!$W$40=6,AI40,AH40)))))","v":""},{"$f":"IF(AO40<=0,0,IF('Simulador Pagos Oportunos'!$Y$73=1,0,AO40*'Simulador Pagos Oportunos'!$Y$76))+IF(AO40<=0,0,IF('Simulador Pagos Oportunos'!$W$40=6,'Simulador Pagos Oportunos'!$H$52,IF('Simulador Pagos Oportunos'!$W$40=3,'Simulador Pagos Oportunos'!$J$52,IF('Simulador Pagos Oportunos'!$W$40=4,'Simulador Pagos Oportunos'!$L$52,'Simulador Pagos Oportunos'!$N$52))))","v":0},null,0,0,"",0,21]
[22,0,null,{"$f":"IF(B41+F41-D40<=0,B41+F41,IF(A41=$B$10,$F$10,IF(A41=$B$11,$F$11,IF(A41=$B$12,$F$12,IF(A41=$B$13,$F$13,IF(A41=$B$14,$F$14,IF(AND('Simulador Pagos Oportunos'!$AF$45=2,L40=0),D40*(1+Z41),IF($AP$3=2,B41*AN41,D40*(1+Z41)))))))))","v":0},null,0,null,0,null,{"$f":"IF(B41-H41=0,0,J39)","v":0},null,null,null,{"$f":"IF(OR('Simulador Pagos Oportunos'!$U$65=1,'Simulador Pagos Oportunos'!$U$65=3),0,L41*'Simulador Pagos Oportunos'!$U$66*'Simulador Pagos Oportunos'!$V$64)","v":0},null,{"$f":"IF(B41=0,\"\",IF('Simulador Pagos Oportunos'!$W$40=3,AJ41,IF('Simulador Pagos Oportunos'!$W$40=4,AK41,IF('Simulador Pagos Oportunos'!$W$40=5,AL41,IF('Simulador Pagos Oportunos'!$W$40=6,AI41,AH41)))))","v":""},null,0,null,{"$f":"IF(B41<=0,0,B41*'Simulador Pagos Oportunos'!$Y$76)","v":0},null,{"$f":"IF(B41<=0,0,IF('Simulador Pagos Oportunos'!$W$40=3,'Simulador Pagos Oportunos'!$J$52,IF('Simulador Pagos Oportunos'!$W$40=4,'Simulador Pagos Oportunos'!$L$52,IF('Simulador Pagos Oportunos'!$W$40=5,'Simulador Pagos Oportunos'!$N$52,IF('Simulador Pagos Oportunos'!$W$40=6,'Simulador Pagos Oportunos'!$H$52)))))","v":0},null,0,null,null,null,1,10,0,0,0,0,{"$f":"'Simulador Pagos Oportunos'!$AC$77","v":0.13},0.128,0.128,0.128,0.128,0,0,0,0,0,0,0,{"$f":"IF(AO41=0,\"\",IF('Simulador Pagos Oportunos'!$W$40=3,AJ41,IF('Simulador Pagos Oportunos'!$W$40=4,AK41,IF('Simulador Pagos Oportunos'!$W$40=5,AL41,IF('Simulador Pagos Oportunos'!$W$40=6,AI41,AH41)))))","v":""},{"$f":"IF(AO41<=0,0,IF('Simulador Pagos Oportunos'!$Y$73=1,0,AO41*'Simulador Pagos Oportunos'!$Y$76))+IF(AO41<=0,0,IF('Simulador Pagos Oportunos'!$W$40=6,'Simulador Pagos Oportunos'!$H$52,IF('Simulador Pagos Oportunos'!$W$40=3,'Simulador Pagos Oportunos'!$J$52,IF('Simulador Pagos Oportunos'!$W$40=4,'Simulador Pagos Oportunos'!$L$52,'Simulador Pagos Oportunos'!$N$52))))","v":0},null,0,0,"",0,22]
[23,0,null,{"$f":"IF(B42+F42-D41<=0,B42+F42,IF(A42=$B$10,$F$10,IF(A42=$B$11,$F$11,IF(A42=$B$12,$F$12,IF(A42=$B$13,$F$13,IF(A42=$B$14,$F$14,IF(AND('Simulador Pagos Oportunos'!$AF$45=2,L41=0),D41*(1+Z42),IF($AP$3=2,B42*AN42,D41*(1+Z42)))))))))","v":0},null,0,null,0,null,null,null,null,null,{"$f":"IF(OR('Simulador Pagos Oportunos'!$U$65=1,'Simulador Pagos Oportunos'!$U$65=3),0,L42*'Simulador Pagos Oportunos'!$U$66*'Simulador Pagos Oportunos'!$V$64)","v":0},null,{"$f":"IF(B42=0,\"\",IF('Simulador Pagos Oportunos'!$W$40=3,AJ42,IF('Simulador Pagos Oportunos'!$W$40=4,AK42,IF('Simulador Pagos Oportunos'!$W$40=5,AL42,IF('Simulador Pagos Oportunos'!$W$40=6,AI42,AH42)))))","v":""},null,0,null,{"$f":"IF(B42<=0,0,B42*'Simulador Pagos Oportunos'!$Y$76)","v":0},null,{"$f":"IF(B42<=0,0,IF('Simulador Pagos Oportunos'!$W$40=3,'Simulador Pagos Oportunos'!$J$52,IF('Simulador Pagos Oportunos'!$W$40=4,'Simulador Pagos Oportunos'!$L$52,IF('Simulador Pagos Oportunos'!$W$40=5,'Simulador Pagos Oportunos'!$N$52,IF('Simulador Pagos Oportunos'!$W$40=6,'Simulador Pagos Oportunos'!$H$52)))))","v":0},null,0,null,null,null,1,11,0,0,0,0,{"$f":"'Simulador Pagos Oportunos'!$AC$77","v":0.13},0.128,0.128,0.128,0.128,0,0,0,0,0,0,0,{"$f":"IF(AO42=0,\"\",IF('Simulador Pagos Oportunos'!$W$40=3,AJ42,IF('Simulador Pagos Oportunos'!$W$40=4,AK42,IF('Simulador Pagos Oportunos'!$W$40=5,AL42,IF('Simulador Pagos Oportunos'!$W$40=6,AI42,AH42)))))","v":""},{"$f":"IF(AO42<=0,0,IF('Simulador Pagos Oportunos'!$Y$73=1,0,AO42*'Simulador Pagos Oportunos'!$Y$76))+IF(AO42<=0,0,IF('Simulador Pagos Oportunos'!$W$40=6,'Simulador Pagos Oportunos'!$H$52,IF('Simulador Pagos Oportunos'!$W$40=3,'Simulador Pagos Oportunos'!$J$52,IF('Simulador Pagos Oportunos'!$W$40=4,'Simulador Pagos Oportunos'!$L$52,'Simulador Pagos Oportunos'!$N$52))))","v":0},null,0,0,"",0,23]
[24,0,null,{"$f":"IF(B43+F43-D42<=0,B43+F43,IF(A43=$B$10,$F$10,IF(A43=$B$11,$F$11,IF(A43=$B$12,$F$12,IF(A43=$B$13,$F$13,IF(A43=$B$14,$F$14,IF(AND('Simulador Pagos Oportunos'!$AF$45=2,L42=0),D42*(1+Z43),IF($AP$3=2,B43*AN43,D42*(1+Z43)))))))))","v":0},null,0,null,0,null,{"$f":"IF(B43-H43=0,0,J41)","v":0},null,null,null,{"$f":"IF(OR('Simulador Pagos Oportunos'!$U$65=1,'Simulador Pagos Oportunos'!$U$65=3),0,L43*'Simulador Pagos Oportunos'!$U$66*'Simulador Pagos Oportunos'!$V$64)","v":0},null,{"$f":"IF(B43=0,\"\",IF('Simulador Pagos Oportunos'!$W$40=3,AJ43,IF('Simulador Pagos Oportunos'!$W$40=4,AK43,IF('Simulador Pagos Oportunos'!$W$40=5,AL43,IF('Simulador Pagos Oportunos'!$W$40=6,AI43,AH43)))))","v":""},null,0,null,{"$f":"IF(B43<=0,0,B43*'Simulador Pagos Oportunos'!$Y$76)","v":0},null,{"$f":"IF(B43<=0,0,IF('Simulador Pagos Oportunos'!$W$40=3,'Simulador Pagos Oportunos'!$J$52,IF('Simulador Pagos Oportunos'!$W$40=4,'Simulador Pagos Oportunos'!$L$52,IF('Simulador Pagos Oportunos'!$W$40=5,'Simulador Pagos Oportunos'!$N$52,IF('Simulador Pagos Oportunos'!$W$40=6,'Simulador Pagos Oportunos'!$H$52)))))","v":0},null,0,null,null,null,2,0,0,0,0,0,{"$f":"'Simulador Pagos Oportunos'!$AC$77","v":0.13},0.128,0.128,0.128,0.128,0,0,0,0,0,0,0,{"$f":"IF(AO43=0,\"\",IF('Simulador Pagos Oportunos'!$W$40=3,AJ43,IF('Simulador Pagos Oportunos'!$W$40=4,AK43,IF('Simulador Pagos Oportunos'!$W$40=5,AL43,IF('Simulador Pagos Oportunos'!$W$40=6,AI43,AH43)))))","v":""},{"$f":"IF(AO43<=0,0,IF('Simulador Pagos Oportunos'!$Y$73=1,0,AO43*'Simulador Pagos Oportunos'!$Y$76))+IF(AO43<=0,0,IF('Simulador Pagos Oportunos'!$W$40=6,'Simulador Pagos Oportunos'!$H$52,IF('Simulador Pagos Oportunos'!$W$40=3,'Simulador Pagos Oportunos'!$J$52,IF('Simulador Pagos Oportunos'!$W$40=4,'Simulador Pagos Oportunos'!$L$52,'Simulador Pagos Oportunos'!$N$52))))","v":0},null,0,0,"",0,24]
[25,0,null,{"$f":"IF(B44+F44-D43<=0,B44+F44,IF(A44=$B$10,$F$10,IF(A44=$B$11,$F$11,IF(A44=$B$12,$F$12,IF(A44=$B$13,$F$13,IF(A44=$B$14,$F$14,IF(AND('Simulador Pagos Oportunos'!$AF$45=2,L43=0),D43*(1+Z44),IF($AP$3=2,B44*AN44,D43*(1+Z44)))))))))","v":0},null,0,null,0,null,null,null,null,null,{"$f":"IF(OR('Simulador Pagos Oportunos'!$U$65=1,'Simulador Pagos Oportunos'!$U$65=3),0,L44*'Simulador Pagos Oportunos'!$U$66*'Simulador Pagos Oportunos'!$V$64)","v":0},null,{"$f":"IF(B44=0,\"\",IF('Simulador Pagos Oportunos'!$W$40=3,AJ44,IF('Simulador Pagos Oportunos'!$W$40=4,AK44,IF('Simulador Pagos Oportunos'!$W$40=5,AL44,IF('Simulador Pagos Oportunos'!$W$40=6,AI44,AH44)))))","v":""},null,0,null,{"$f":"IF(B44<=0,0,B44*'Simulador Pagos Oportunos'!$Y$76)","v":0},null,{"$f":"IF(B44<=0,0,IF('Simulador Pagos Oportunos'!$W$40=3,'Simulador Pagos Oportunos'!$J$52,IF('Simulador Pagos Oportunos'!$W$40=4,'Simulador Pagos Oportunos'!$L$52,IF('Simulador Pagos Oportunos'!$W$40=5,'Simulador Pagos Oportunos'!$N$52,IF('Simulador Pagos Oportunos'!$W$40=6,'Simulador Pagos Oportunos'!$H$52)))))","v":0},null,0,null,{"$f":"IF(B44<=0,0,$Z$32)","v":0},null,2,1,0,0,0,0,{"$f":"'Simulador Pagos Oportunos'!$AC$77","v":0.13},{"$f":"AI43-0.2%","v":0.126},{"$f":"AJ43-0.2%","v":0.126},{"$f":"AK43-0.2%","v":0.126},{"$f":"AL43-0.2%","v":0.126},0,0,0,0,0,0,0,{"$f":"IF(AO44=0,\"\",IF('Simulador Pagos Oportunos'!$W$40=3,AJ44,IF('Simulador Pagos Oportunos'!$W$40=4,AK44,IF('Simulador Pagos Oportunos'!$W$40=5,AL44,IF('Simulador Pagos Oportunos'!$W$40=6,AI44,AH44)))))","v":""},{"$f":"IF(AO44<=0,0,IF('Simulador Pagos Oportunos'!$Y$73=1,0,AO44*'Simulador Pagos Oportunos'!$Y$76))+IF(AO44<=0,0,IF('Simulador Pagos Oportunos'!$W$40=6,'Simulador Pagos Oportunos'!$H$52,IF('Simulador Pagos Oportunos'!$W$40=3,'Simulador Pagos Oportunos'!$J$52,IF('Simulador Pagos Oportunos'!$W$40=4,'Simulador Pagos Oportunos'!$L$52,'Simulador Pagos Oportunos'!$N$52))))","v":0},{"$f":"IF(AO44<=0,0,$AV$32)","v":0},0,0,"",0,25]
[26,0,null,{"$f":"IF(B45+F45-D44<=0,B45+F45,IF(A45=$B$10,$F$10,IF(A45=$B$11,$F$11,IF(A45=$B$12,$F$12,IF(A45=$B$13,$F$13,IF(A45=$B$14,$F$14,IF(AND('Simulador Pagos Oportunos'!$AF$45=2,L44=0),D44*(1+Z45),IF($AP$3=2,B45*AN45,D44*(1+Z45)))))))))","v":0},null,0,null,0,null,{"$f":"IF(B45-H45=0,0,J43*(1+(3%)))","v":0},null,null,null,{"$f":"IF(OR('Simulador Pagos Oportunos'!$U$65=1,'Simulador Pagos Oportunos'!$U$65=3),0,L45*'Simulador Pagos Oportunos'!$U$66*'Simulador Pagos Oportunos'!$V$64)","v":0},null,{"$f":"IF(B45=0,\"\",IF('Simulador Pagos Oportunos'!$W$40=3,AJ45,IF('Simulador Pagos Oportunos'!$W$40=4,AK45,IF('Simulador Pagos Oportunos'!$W$40=5,AL45,IF('Simulador Pagos Oportunos'!$W$40=6,AI45,AH45)))))","v":""},null,0,null,{"$f":"IF(B45<=0,0,B45*'Simulador Pagos Oportunos'!$Y$76)","v":0},null,{"$f":"IF(B45<=0,0,IF('Simulador Pagos Oportunos'!$W$40=3,'Simulador Pagos Oportunos'!$J$52,IF('Simulador Pagos Oportunos'!$W$40=4,'Simulador Pagos Oportunos'!$L$52,IF('Simulador Pagos Oportunos'!$W$40=5,'Simulador Pagos Oportunos'!$N$52,IF('Simulador Pagos Oportunos'!$W$40=6,'Simulador Pagos Oportunos'!$H$52)))))","v":0},null,0,null,null,null,2,2,0,0,0,0,{"$f":"'Simulador Pagos Oportunos'!$AC$77","v":0.13},{"$f":"AI44","v":0.126},{"$f":"AJ44","v":0.126},0.126,0.126,0,0,0,0,0,0,0,{"$f":"IF(AO45=0,\"\",IF('Simulador Pagos Oportunos'!$W$40=3,AJ45,IF('Simulador Pagos Oportunos'!$W$40=4,AK45,IF('Simulador Pagos Oportunos'!$W$40=5,AL45,IF('Simulador Pagos Oportunos'!$W$40=6,AI45,AH45)))))","v":""},{"$f":"IF(AO45<=0,0,IF('Simulador Pagos Oportunos'!$Y$73=1,0,AO45*'Simulador Pagos Oportunos'!$Y$76))+IF(AO45<=0,0,IF('Simulador Pagos Oportunos'!$W$40=6,'Simulador Pagos Oportunos'!$H$52,IF('Simulador Pagos Oportunos'!$W$40=3,'Simulador Pagos Oportunos'!$J$52,IF('Simulador Pagos Oportunos'!$W$40=4,'Simulador Pagos Oportunos'!$L$52,'Simulador Pagos Oportunos'!$N$52))))","v":0},null,0,0,"",0,26]
[27,0,null,{"$f":"IF(B46+F46-D45<=0,B46+F46,IF(A46=$B$10,$F$10,IF(A46=$B$11,$F$11,IF(A46=$B$12,$F$12,IF(A46=$B$13,$F$13,IF(A46=$B$14,$F$14,IF(AND('Simulador Pagos Oportunos'!$AF$45=2,L45=0),D45*(1+Z46),IF($AP$3=2,B46*AN46,D45*(1+Z46)))))))))","v":0},null,0,null,0,null,null,null,null,null,{"$f":"IF(OR('Simulador Pagos Oportunos'!$U$65=1,'Simulador Pagos Oportunos'!$U$65=3),0,L46*'Simulador Pagos Oportunos'!$U$66*'Simulador Pagos Oportunos'!$V$64)","v":0},null,{"$f":"IF(B46=0,\"\",IF('Simulador Pagos Oportunos'!$W$40=3,AJ46,IF('Simulador Pagos Oportunos'!$W$40=4,AK46,IF('Simulador Pagos Oportunos'!$W$40=5,AL46,IF('Simulador Pagos Oportunos'!$W$40=6,AI46,AH46)))))","v":""},null,0,null,{"$f":"IF(B46<=0,0,B46*'Simulador Pagos Oportunos'!$Y$76)","v":0},null,{"$f":"IF(B46<=0,0,IF('Simulador Pagos Oportunos'!$W$40=3,'Simulador Pagos Oportunos'!$J$52,IF('Simulador Pagos Oportunos'!$W$40=4,'Simulador Pagos Oportunos'!$L$52,IF('Simulador Pagos Oportunos'!$W$40=5,'Simulador Pagos Oportunos'!$N$52,IF('Simulador Pagos Oportunos'!$W$40=6,'Simulador Pagos Oportunos'!$H$52)))))","v":0},null,0,null,null,null,2,3,0,0,0,0,{"$f":"'Simulador Pagos Oportunos'!$AC$77","v":0.13},{"$f":"AI45","v":0.126},0.126,0.126,0.126,0,0,0,0,0,0,0,{"$f":"IF(AO46=0,\"\",IF('Simulador Pagos Oportunos'!$W$40=3,AJ46,IF('Simulador Pagos Oportunos'!$W$40=4,AK46,IF('Simulador Pagos Oportunos'!$W$40=5,AL46,IF('Simulador Pagos Oportunos'!$W$40=6,AI46,AH46)))))","v":""},{"$f":"IF(AO46<=0,0,IF('Simulador Pagos Oportunos'!$Y$73=1,0,AO46*'Simulador Pagos Oportunos'!$Y$76))+IF(AO46<=0,0,IF('Simulador Pagos Oportunos'!$W$40=6,'Simulador Pagos Oportunos'!$H$52,IF('Simulador Pagos Oportunos'!$W$40=3,'Simulador Pagos Oportunos'!$J$52,IF('Simulador Pagos Oportunos'!$W$40=4,'Simulador Pagos Oportunos'!$L$52,'Simulador Pagos Oportunos'!$N$52))))","v":0},null,0,0,"",0,27]
[28,0,null,{"$f":"IF(B47+F47-D46<=0,B47+F47,IF(A47=$B$10,$F$10,IF(A47=$B$11,$F$11,IF(A47=$B$12,$F$12,IF(A47=$B$13,$F$13,IF(A47=$B$14,$F$14,IF(AND('Simulador Pagos Oportunos'!$AF$45=2,L46=0),D46*(1+Z47),IF($AP$3=2,B47*AN47,D46*(1+Z47)))))))))","v":0},null,0,null,0,null,{"$f":"IF(B47-H47=0,0,J45)","v":0},null,null,null,{"$f":"IF(OR('Simulador Pagos Oportunos'!$U$65=1,'Simulador Pagos Oportunos'!$U$65=3),0,L47*'Simulador Pagos Oportunos'!$U$66*'Simulador Pagos Oportunos'!$V$64)","v":0},null,{"$f":"IF(B47=0,\"\",IF('Simulador Pagos Oportunos'!$W$40=3,AJ47,IF('Simulador Pagos Oportunos'!$W$40=4,AK47,IF('Simulador Pagos Oportunos'!$W$40=5,AL47,IF('Simulador Pagos Oportunos'!$W$40=6,AI47,AH47)))))","v":""},null,0,null,{"$f":"IF(B47<=0,0,B47*'Simulador Pagos Oportunos'!$Y$76)","v":0},null,{"$f":"IF(B47<=0,0,IF('Simulador Pagos Oportunos'!$W$40=3,'Simulador Pagos Oportunos'!$J$52,IF('Simulador Pagos Oportunos'!$W$40=4,'Simulador Pagos Oportunos'!$L$52,IF('Simulador Pagos Oportunos'!$W$40=5,'Simulador Pagos Oportunos'!$N$52,IF('Simulador Pagos Oportunos'!$W$40=6,'Simulador Pagos Oportunos'!$H$52)))))","v":0},null,0,null,null,null,2,4,0,0,0,0,{"$f":"'Simulador Pagos Oportunos'!$AC$77","v":0.13},0.126,0.126,0.126,0.126,0,0,0,0,0,0,0,{"$f":"IF(AO47=0,\"\",IF('Simulador Pagos Oportunos'!$W$40=3,AJ47,IF('Simulador Pagos Oportunos'!$W$40=4,AK47,IF('Simulador Pagos Oportunos'!$W$40=5,AL47,IF('Simulador Pagos Oportunos'!$W$40=6,AI47,AH47)))))","v":""},{"$f":"IF(AO47<=0,0,IF('Simulador Pagos Oportunos'!$Y$73=1,0,AO47*'Simulador Pagos Oportunos'!$Y$76))+IF(AO47<=0,0,IF('Simulador Pagos Oportunos'!$W$40=6,'Simulador Pagos Oportunos'!$H$52,IF('Simulador Pagos Oportunos'!$W$40=3,'Simulador Pagos Oportunos'!$J$52,IF('Simulador Pagos Oportunos'!$W$40=4,'Simulador Pagos Oportunos'!$L$52,'Simulador Pagos Oportunos'!$N$52))))","v":0},null,0,0,"",0,28]
[29,0,null,{"$f":"IF(B48+F48-D47<=0,B48+F48,IF(A48=$B$10,$F$10,IF(A48=$B$11,$F$11,IF(A48=$B$12,$F$12,IF(A48=$B$13,$F$13,IF(A48=$B$14,$F$14,IF(AND('Simulador Pagos Oportunos'!$AF$45=2,L47=0),D47*(1+Z48),IF($AP$3=2,B48*AN48,D47*(1+Z48)))))))))","v":0},null,0,null,0,null,null,null,null,null,{"$f":"IF(OR('Simulador Pagos Oportunos'!$U$65=1,'Simulador Pagos Oportunos'!$U$65=3),0,L48*'Simulador Pagos Oportunos'!$U$66*'Simulador Pagos Oportunos'!$V$64)","v":0},null,{"$f":"IF(B48=0,\"\",IF('Simulador Pagos Oportunos'!$W$40=3,AJ48,IF('Simulador Pagos Oportunos'!$W$40=4,AK48,IF('Simulador Pagos Oportunos'!$W$40=5,AL48,IF('Simulador Pagos Oportunos'!$W$40=6,AI48,AH48)))))","v":""},null,0,null,{"$f":"IF(B48<=0,0,B48*'Simulador Pagos Oportunos'!$Y$76)","v":0},null,{"$f":"IF(B48<=0,0,IF('Simulador Pagos Oportunos'!$W$40=3,'Simulador Pagos Oportunos'!$J$52,IF('Simulador Pagos Oportunos'!$W$40=4,'Simulador Pagos Oportunos'!$L$52,IF('Simulador Pagos Oportunos'!$W$40=5,'Simulador Pagos Oportunos'!$N$52,IF('Simulador Pagos Oportunos'!$W$40=6,'Simulador Pagos Oportunos'!$H$52)))))","v":0},null,0,null,null,null,2,5,0,0,0,0,{"$f":"'Simulador Pagos Oportunos'!$AC$77","v":0.13},0.126,0.126,0.126,0.126,0,0,0,0,0,0,0,{"$f":"IF(AO48=0,\"\",IF('Simulador Pagos Oportunos'!$W$40=3,AJ48,IF('Simulador Pagos Oportunos'!$W$40=4,AK48,IF('Simulador Pagos Oportunos'!$W$40=5,AL48,IF('Simulador Pagos Oportunos'!$W$40=6,AI48,AH48)))))","v":""},{"$f":"IF(AO48<=0,0,IF('Simulador Pagos Oportunos'!$Y$73=1,0,AO48*'Simulador Pagos Oportunos'!$Y$76))+IF(AO48<=0,0,IF('Simulador Pagos Oportunos'!$W$40=6,'Simulador Pagos Oportunos'!$H$52,IF('Simulador Pagos Oportunos'!$W$40=3,'Simulador Pagos Oportunos'!$J$52,IF('Simulador Pagos Oportunos'!$W$40=4,'Simulador Pagos Oportunos'!$L$52,'Simulador Pagos Oportunos'!$N$52))))","v":0},null,0,0,"",0,29]
[30,0,null,{"$f":"IF(B49+F49-D48<=0,B49+F49,IF(A49=$B$10,$F$10,IF(A49=$B$11,$F$11,IF(A49=$B$12,$F$12,IF(A49=$B$13,$F$13,IF(A49=$B$14,$F$14,IF(AND('Simulador Pagos Oportunos'!$AF$45=2,L48=0),D48*(1+Z49),IF($AP$3=2,B49*AN49,D48*(1+Z49)))))))))","v":0},null,0,null,0,null,{"$f":"IF(B49-H49=0,0,J47)","v":0},null,null,null,{"$f":"IF(OR('Simulador Pagos Oportunos'!$U$65=1,'Simulador Pagos Oportunos'!$U$65=3),0,L49*'Simulador Pagos Oportunos'!$U$66*'Simulador Pagos Oportunos'!$V$64)","v":0},null,{"$f":"IF(B49=0,\"\",IF('Simulador Pagos Oportunos'!$W$40=3,AJ49,IF('Simulador Pagos Oportunos'!$W$40=4,AK49,IF('Simulador Pagos Oportunos'!$W$40=5,AL49,IF('Simulador Pagos Oportunos'!$W$40=6,AI49,AH49)))))","v":""},null,0,null,{"$f":"IF(B49<=0,0,B49*'Simulador Pagos Oportunos'!$Y$76)","v":0},null,{"$f":"IF(B49<=0,0,IF('Simulador Pagos Oportunos'!$W$40=3,'Simulador Pagos Oportunos'!$J$52,IF('Simulador Pagos Oportunos'!$W$40=4,'Simulador Pagos Oportunos'!$L$52,IF('Simulador Pagos Oportunos'!$W$40=5,'Simulador Pagos Oportunos'!$N$52,IF('Simulador Pagos Oportunos'!$W$40=6,'Simulador Pagos Oportunos'!$H$52)))))","v":0},null,0,null,null,null,2,6,0,0,0,0,{"$f":"'Simulador Pagos Oportunos'!$AC$77","v":0.13},0.126,0.126,0.126,0.126,0,0,0,0,0,0,0,{"$f":"IF(AO49=0,\"\",IF('Simulador Pagos Oportunos'!$W$40=3,AJ49,IF('Simulador Pagos Oportunos'!$W$40=4,AK49,IF('Simulador Pagos Oportunos'!$W$40=5,AL49,IF('Simulador Pagos Oportunos'!$W$40=6,AI49,AH49)))))","v":""},{"$f":"IF(AO49<=0,0,IF('Simulador Pagos Oportunos'!$Y$73=1,0,AO49*'Simulador Pagos Oportunos'!$Y$76))+IF(AO49<=0,0,IF('Simulador Pagos Oportunos'!$W$40=6,'Simulador Pagos Oportunos'!$H$52,IF('Simulador Pagos Oportunos'!$W$40=3,'Simulador Pagos Oportunos'!$J$52,IF('Simulador Pagos Oportunos'!$W$40=4,'Simulador Pagos Oportunos'!$L$52,'Simulador Pagos Oportunos'!$N$52))))","v":0},null,0,0,"",0,30]
[31,0,null,{"$f":"IF(B50+F50-D49<=0,B50+F50,IF(A50=$B$10,$F$10,IF(A50=$B$11,$F$11,IF(A50=$B$12,$F$12,IF(A50=$B$13,$F$13,IF(A50=$B$14,$F$14,IF(AND('Simulador Pagos Oportunos'!$AF$45=2,L49=0),D49*(1+Z50),IF($AP$3=2,B50*AN50,D49*(1+Z50)))))))))","v":0},null,0,null,0,null,null,null,null,null,{"$f":"IF(OR('Simulador Pagos Oportunos'!$U$65=1,'Simulador Pagos Oportunos'!$U$65=3),0,L50*'Simulador Pagos Oportunos'!$U$66*'Simulador Pagos Oportunos'!$V$64)","v":0},null,{"$f":"IF(B50=0,\"\",IF('Simulador Pagos Oportunos'!$W$40=3,AJ50,IF('Simulador Pagos Oportunos'!$W$40=4,AK50,IF('Simulador Pagos Oportunos'!$W$40=5,AL50,IF('Simulador Pagos Oportunos'!$W$40=6,AI50,AH50)))))","v":""},null,0,null,{"$f":"IF(B50<=0,0,B50*'Simulador Pagos Oportunos'!$Y$76)","v":0},null,{"$f":"IF(B50<=0,0,IF('Simulador Pagos Oportunos'!$W$40=3,'Simulador Pagos Oportunos'!$J$52,IF('Simulador Pagos Oportunos'!$W$40=4,'Simulador Pagos Oportunos'!$L$52,IF('Simulador Pagos Oportunos'!$W$40=5,'Simulador Pagos Oportunos'!$N$52,IF('Simulador Pagos Oportunos'!$W$40=6,'Simulador Pagos Oportunos'!$H$52)))))","v":0},null,0,null,null,null,2,7,0,0,0,0,{"$f":"'Simulador Pagos Oportunos'!$AC$77","v":0.13},0.126,0.126,0.126,0.126,0,0,0,0,0,0,0,{"$f":"IF(AO50=0,\"\",IF('Simulador Pagos Oportunos'!$W$40=3,AJ50,IF('Simulador Pagos Oportunos'!$W$40=4,AK50,IF('Simulador Pagos Oportunos'!$W$40=5,AL50,IF('Simulador Pagos Oportunos'!$W$40=6,AI50,AH50)))))","v":""},{"$f":"IF(AO50<=0,0,IF('Simulador Pagos Oportunos'!$Y$73=1,0,AO50*'Simulador Pagos Oportunos'!$Y$76))+IF(AO50<=0,0,IF('Simulador Pagos Oportunos'!$W$40=6,'Simulador Pagos Oportunos'!$H$52,IF('Simulador Pagos Oportunos'!$W$40=3,'Simulador Pagos Oportunos'!$J$52,IF('Simulador Pagos Oportunos'!$W$40=4,'Simulador Pagos Oportunos'!$L$52,'Simulador Pagos Oportunos'!$N$52))))","v":0},null,0,0,"",0,31]
[32,0,null,{"$f":"IF(B51+F51-D50<=0,B51+F51,IF(A51=$B$10,$F$10,IF(A51=$B$11,$F$11,IF(A51=$B$12,$F$12,IF(A51=$B$13,$F$13,IF(A51=$B$14,$F$14,IF(AND('Simulador Pagos Oportunos'!$AF$45=2,L50=0),D50*(1+Z51),IF($AP$3=2,B51*AN51,D50*(1+Z51)))))))))","v":0},null,0,null,0,null,{"$f":"IF(B51-H51=0,0,J49)","v":0},null,null,null,{"$f":"IF(OR('Simulador Pagos Oportunos'!$U$65=1,'Simulador Pagos Oportunos'!$U$65=3),0,L51*'Simulador Pagos Oportunos'!$U$66*'Simulador Pagos Oportunos'!$V$64)","v":0},null,{"$f":"IF(B51=0,\"\",IF('Simulador Pagos Oportunos'!$W$40=3,AJ51,IF('Simulador Pagos Oportunos'!$W$40=4,AK51,IF('Simulador Pagos Oportunos'!$W$40=5,AL51,IF('Simulador Pagos Oportunos'!$W$40=6,AI51,AH51)))))","v":""},null,0,null,{"$f":"IF(B51<=0,0,B51*'Simulador Pagos Oportunos'!$Y$76)","v":0},null,{"$f":"IF(B51<=0,0,IF('Simulador Pagos Oportunos'!$W$40=3,'Simulador Pagos Oportunos'!$J$52,IF('Simulador Pagos Oportunos'!$W$40=4,'Simulador Pagos Oportunos'!$L$52,IF('Simulador Pagos Oportunos'!$W$40=5,'Simulador Pagos Oportunos'!$N$52,IF('Simulador Pagos Oportunos'!$W$40=6,'Simulador Pagos Oportunos'!$H$52)))))","v":0},null,0,null,null,null,2,8,0,0,0,0,{"$f":"'Simulador Pagos Oportunos'!$AC$77","v":0.13},0.126,0.126,0.126,0.126,0,0,0,0,0,0,0,{"$f":"IF(AO51=0,\"\",IF('Simulador Pagos Oportunos'!$W$40=3,AJ51,IF('Simulador Pagos Oportunos'!$W$40=4,AK51,IF('Simulador Pagos Oportunos'!$W$40=5,AL51,IF('Simulador Pagos Oportunos'!$W$40=6,AI51,AH51)))))","v":""},{"$f":"IF(AO51<=0,0,IF('Simulador Pagos Oportunos'!$Y$73=1,0,AO51*'Simulador Pagos Oportunos'!$Y$76))+IF(AO51<=0,0,IF('Simulador Pagos Oportunos'!$W$40=6,'Simulador Pagos Oportunos'!$H$52,IF('Simulador Pagos Oportunos'!$W$40=3,'Simulador Pagos Oportunos'!$J$52,IF('Simulador Pagos Oportunos'!$W$40=4,'Simulador Pagos Oportunos'!$L$52,'Simulador Pagos Oportunos'!$N$52))))","v":0},null,0,0,"",0,32]
[33,0,null,{"$f":"IF(B52+F52-D51<=0,B52+F52,IF(A52=$B$10,$F$10,IF(A52=$B$11,$F$11,IF(A52=$B$12,$F$12,IF(A52=$B$13,$F$13,IF(A52=$B$14,$F$14,IF(AND('Simulador Pagos Oportunos'!$AF$45=2,L51=0),D51*(1+Z52),IF($AP$3=2,B52*AN52,D51*(1+Z52)))))))))","v":0},null,0,null,0,null,null,null,null,null,{"$f":"IF(OR('Simulador Pagos Oportunos'!$U$65=1,'Simulador Pagos Oportunos'!$U$65=3),0,L52*'Simulador Pagos Oportunos'!$U$66*'Simulador Pagos Oportunos'!$V$64)","v":0},null,{"$f":"IF(B52=0,\"\",IF('Simulador Pagos Oportunos'!$W$40=3,AJ52,IF('Simulador Pagos Oportunos'!$W$40=4,AK52,IF('Simulador Pagos Oportunos'!$W$40=5,AL52,IF('Simulador Pagos Oportunos'!$W$40=6,AI52,AH52)))))","v":""},null,0,null,{"$f":"IF(B52<=0,0,B52*'Simulador Pagos Oportunos'!$Y$76)","v":0},null,{"$f":"IF(B52<=0,0,IF('Simulador Pagos Oportunos'!$W$40=3,'Simulador Pagos Oportunos'!$J$52,IF('Simulador Pagos Oportunos'!$W$40=4,'Simulador Pagos Oportunos'!$L$52,IF('Simulador Pagos Oportunos'!$W$40=5,'Simulador Pagos Oportunos'!$N$52,IF('Simulador Pagos Oportunos'!$W$40=6,'Simulador Pagos Oportunos'!$H$52)))))","v":0},null,0,null,null,null,2,9,0,0,0,0,{"$f":"'Simulador Pagos Oportunos'!$AC$77","v":0.13},0.126,0.126,0.126,0.126,0,0,0,0,0,0,0,{"$f":"IF(AO52=0,\"\",IF('Simulador Pagos Oportunos'!$W$40=3,AJ52,IF('Simulador Pagos Oportunos'!$W$40=4,AK52,IF('Simulador Pagos Oportunos'!$W$40=5,AL52,IF('Simulador Pagos Oportunos'!$W$40=6,AI52,AH52)))))","v":""},{"$f":"IF(AO52<=0,0,IF('Simulador Pagos Oportunos'!$Y$73=1,0,AO52*'Simulador Pagos Oportunos'!$Y$76))+IF(AO52<=0,0,IF('Simulador Pagos Oportunos'!$W$40=6,'Simulador Pagos Oportunos'!$H$52,IF('Simulador Pagos Oportunos'!$W$40=3,'Simulador Pagos Oportunos'!$J$52,IF('Simulador Pagos Oportunos'!$W$40=4,'Simulador Pagos Oportunos'!$L$52,'Simulador Pagos Oportunos'!$N$52))))","v":0},null,0,0,"",0,33]
[34,0,null,{"$f":"IF(B53+F53-D52<=0,B53+F53,IF(A53=$B$10,$F$10,IF(A53=$B$11,$F$11,IF(A53=$B$12,$F$12,IF(A53=$B$13,$F$13,IF(A53=$B$14,$F$14,IF(AND('Simulador Pagos Oportunos'!$AF$45=2,L52=0),D52*(1+Z53),IF($AP$3=2,B53*AN53,D52*(1+Z53)))))))))","v":0},null,0,null,0,null,{"$f":"IF(B53-H53=0,0,J51)","v":0},null,null,null,{"$f":"IF(OR('Simulador Pagos Oportunos'!$U$65=1,'Simulador Pagos Oportunos'!$U$65=3),0,L53*'Simulador Pagos Oportunos'!$U$66*'Simulador Pagos Oportunos'!$V$64)","v":0},null,{"$f":"IF(B53=0,\"\",IF('Simulador Pagos Oportunos'!$W$40=3,AJ53,IF('Simulador Pagos Oportunos'!$W$40=4,AK53,IF('Simulador Pagos Oportunos'!$W$40=5,AL53,IF('Simulador Pagos Oportunos'!$W$40=6,AI53,AH53)))))","v":""},null,0,null,{"$f":"IF(B53<=0,0,B53*'Simulador Pagos Oportunos'!$Y$76)","v":0},null,{"$f":"IF(B53<=0,0,IF('Simulador Pagos Oportunos'!$W$40=3,'Simulador Pagos Oportunos'!$J$52,IF('Simulador Pagos Oportunos'!$W$40=4,'Simulador Pagos Oportunos'!$L$52,IF('Simulador Pagos Oportunos'!$W$40=5,'Simulador Pagos Oportunos'!$N$52,IF('Simulador Pagos Oportunos'!$W$40=6,'Simulador Pagos Oportunos'!$H$52)))))","v":0},null,0,null,null,null,2,10,0,0,0,0,{"$f":"'Simulador Pagos Oportunos'!$AC$77","v":0.13},0.126,0.126,0.126,0.126,0,0,0,0,0,0,0,{"$f":"IF(AO53=0,\"\",IF('Simulador Pagos Oportunos'!$W$40=3,AJ53,IF('Simulador Pagos Oportunos'!$W$40=4,AK53,IF('Simulador Pagos Oportunos'!$W$40=5,AL53,IF('Simulador Pagos Oportunos'!$W$40=6,AI53,AH53)))))","v":""},{"$f":"IF(AO53<=0,0,IF('Simulador Pagos Oportunos'!$Y$73=1,0,AO53*'Simulador Pagos Oportunos'!$Y$76))+IF(AO53<=0,0,IF('Simulador Pagos Oportunos'!$W$40=6,'Simulador Pagos Oportunos'!$H$52,IF('Simulador Pagos Oportunos'!$W$40=3,'Simulador Pagos Oportunos'!$J$52,IF('Simulador Pagos Oportunos'!$W$40=4,'Simulador Pagos Oportunos'!$L$52,'Simulador Pagos Oportunos'!$N$52))))","v":0},null,0,0,"",0,34]
[35,0,null,{"$f":"IF(B54+F54-D53<=0,B54+F54,IF(A54=$B$10,$F$10,IF(A54=$B$11,$F$11,IF(A54=$B$12,$F$12,IF(A54=$B$13,$F$13,IF(A54=$B$14,$F$14,IF(AND('Simulador Pagos Oportunos'!$AF$45=2,L53=0),D53*(1+Z54),IF($AP$3=2,B54*AN54,D53*(1+Z54)))))))))","v":0},null,0,null,0,null,null,null,null,null,{"$f":"IF(OR('Simulador Pagos Oportunos'!$U$65=1,'Simulador Pagos Oportunos'!$U$65=3),0,L54*'Simulador Pagos Oportunos'!$U$66*'Simulador Pagos Oportunos'!$V$64)","v":0},null,{"$f":"IF(B54=0,\"\",IF('Simulador Pagos Oportunos'!$W$40=3,AJ54,IF('Simulador Pagos Oportunos'!$W$40=4,AK54,IF('Simulador Pagos Oportunos'!$W$40=5,AL54,IF('Simulador Pagos Oportunos'!$W$40=6,AI54,AH54)))))","v":""},null,0,null,{"$f":"IF(B54<=0,0,B54*'Simulador Pagos Oportunos'!$Y$76)","v":0},null,{"$f":"IF(B54<=0,0,IF('Simulador Pagos Oportunos'!$W$40=3,'Simulador Pagos Oportunos'!$J$52,IF('Simulador Pagos Oportunos'!$W$40=4,'Simulador Pagos Oportunos'!$L$52,IF('Simulador Pagos Oportunos'!$W$40=5,'Simulador Pagos Oportunos'!$N$52,IF('Simulador Pagos Oportunos'!$W$40=6,'Simulador Pagos Oportunos'!$H$52)))))","v":0},null,0,null,null,null,2,11,0,0,0,0,{"$f":"'Simulador Pagos Oportunos'!$AC$77","v":0.13},0.126,0.126,0.126,0.126,0,0,0,0,0,0,0,{"$f":"IF(AO54=0,\"\",IF('Simulador Pagos Oportunos'!$W$40=3,AJ54,IF('Simulador Pagos Oportunos'!$W$40=4,AK54,IF('Simulador Pagos Oportunos'!$W$40=5,AL54,IF('Simulador Pagos Oportunos'!$W$40=6,AI54,AH54)))))","v":""},{"$f":"IF(AO54<=0,0,IF('Simulador Pagos Oportunos'!$Y$73=1,0,AO54*'Simulador Pagos Oportunos'!$Y$76))+IF(AO54<=0,0,IF('Simulador Pagos Oportunos'!$W$40=6,'Simulador Pagos Oportunos'!$H$52,IF('Simulador Pagos Oportunos'!$W$40=3,'Simulador Pagos Oportunos'!$J$52,IF('Simulador Pagos Oportunos'!$W$40=4,'Simulador Pagos Oportunos'!$L$52,'Simulador Pagos Oportunos'!$N$52))))","v":0},null,0,0,"",0,35]
[36,0,null,{"$f":"IF(B55+F55-D54<=0,B55+F55,IF(A55=$B$10,$F$10,IF(A55=$B$11,$F$11,IF(A55=$B$12,$F$12,IF(A55=$B$13,$F$13,IF(A55=$B$14,$F$14,IF(AND('Simulador Pagos Oportunos'!$AF$45=2,L54=0),D54*(1+Z55),IF($AP$3=2,B55*AN55,D54*(1+Z55)))))))))","v":0},null,0,null,0,null,{"$f":"IF(B55-H55=0,0,J53)","v":0},null,null,null,{"$f":"IF(OR('Simulador Pagos Oportunos'!$U$65=1,'Simulador Pagos Oportunos'!$U$65=3),0,L55*'Simulador Pagos Oportunos'!$U$66*'Simulador Pagos Oportunos'!$V$64)","v":0},null,{"$f":"IF(B55=0,\"\",IF('Simulador Pagos Oportunos'!$W$40=3,AJ55,IF('Simulador Pagos Oportunos'!$W$40=4,AK55,IF('Simulador Pagos Oportunos'!$W$40=5,AL55,IF('Simulador Pagos Oportunos'!$W$40=6,AI55,AH55)))))","v":""},null,0,null,{"$f":"IF(B55<=0,0,B55*'Simulador Pagos Oportunos'!$Y$76)","v":0},null,{"$f":"IF(B55<=0,0,IF('Simulador Pagos Oportunos'!$W$40=3,'Simulador Pagos Oportunos'!$J$52,IF('Simulador Pagos Oportunos'!$W$40=4,'Simulador Pagos Oportunos'!$L$52,IF('Simulador Pagos Oportunos'!$W$40=5,'Simulador Pagos Oportunos'!$N$52,IF('Simulador Pagos Oportunos'!$W$40=6,'Simulador Pagos Oportunos'!$H$52)))))","v":0},null,0,null,null,null,3,0,0,0,0,0,{"$f":"'Simulador Pagos Oportunos'!$AC$77","v":0.13},0.126,0.126,0.126,0.126,0,0,0,0,0,0,0,{"$f":"IF(AO55=0,\"\",IF('Simulador Pagos Oportunos'!$W$40=3,AJ55,IF('Simulador Pagos Oportunos'!$W$40=4,AK55,IF('Simulador Pagos Oportunos'!$W$40=5,AL55,IF('Simulador Pagos Oportunos'!$W$40=6,AI55,AH55)))))","v":""},{"$f":"IF(AO55<=0,0,IF('Simulador Pagos Oportunos'!$Y$73=1,0,AO55*'Simulador Pagos Oportunos'!$Y$76))+IF(AO55<=0,0,IF('Simulador Pagos Oportunos'!$W$40=6,'Simulador Pagos Oportunos'!$H$52,IF('Simulador Pagos Oportunos'!$W$40=3,'Simulador Pagos Oportunos'!$J$52,IF('Simulador Pagos Oportunos'!$W$40=4,'Simulador Pagos Oportunos'!$L$52,'Simulador Pagos Oportunos'!$N$52))))","v":0},null,0,0,"",0,36]
[37,0,null,{"$f":"IF(B56+F56-D55<=0,B56+F56,IF(A56=$B$10,$F$10,IF(A56=$B$11,$F$11,IF(A56=$B$12,$F$12,IF(A56=$B$13,$F$13,IF(A56=$B$14,$F$14,IF(AND('Simulador Pagos Oportunos'!$AF$45=2,L55=0),D55*(1+Z56),IF($AP$3=2,B56*AN56,D55*(1+Z56)))))))))","v":0},null,0,null,0,null,null,null,null,null,{"$f":"IF(OR('Simulador Pagos Oportunos'!$U$65=1,'Simulador Pagos Oportunos'!$U$65=3),0,L56*'Simulador Pagos Oportunos'!$U$66*'Simulador Pagos Oportunos'!$V$64)","v":0},null,{"$f":"IF(B56=0,\"\",IF('Simulador Pagos Oportunos'!$W$40=3,AJ56,IF('Simulador Pagos Oportunos'!$W$40=4,AK56,IF('Simulador Pagos Oportunos'!$W$40=5,AL56,IF('Simulador Pagos Oportunos'!$W$40=6,AI56,AH56)))))","v":""},null,0,null,{"$f":"IF(B56<=0,0,B56*'Simulador Pagos Oportunos'!$Y$76)","v":0},null,{"$f":"IF(B56<=0,0,IF('Simulador Pagos Oportunos'!$W$40=3,'Simulador Pagos Oportunos'!$J$52,IF('Simulador Pagos Oportunos'!$W$40=4,'Simulador Pagos Oportunos'!$L$52,IF('Simulador Pagos Oportunos'!$W$40=5,'Simulador Pagos Oportunos'!$N$52,IF('Simulador Pagos Oportunos'!$W$40=6,'Simulador Pagos Oportunos'!$H$52)))))","v":0},null,0,null,{"$f":"IF(B56<=0,0,$Z$32)","v":0},null,3,1,0,0,0,0,{"$f":"IF(AH55=$AH$6,AH55,IF(AH55-0.2%<=$AH$6,$AH$6,AH55-0.2%))","v":0.128},{"$f":"AI55-0.2%","v":0.124},{"$f":"AJ55-0.2%","v":0.124},{"$f":"AK55-0.2%","v":0.124},{"$f":"AL55-0.2%","v":0.124},0,0,0,0,0,0,0,{"$f":"IF(AO56=0,\"\",IF('Simulador Pagos Oportunos'!$W$40=3,AJ56,IF('Simulador Pagos Oportunos'!$W$40=4,AK56,IF('Simulador Pagos Oportunos'!$W$40=5,AL56,IF('Simulador Pagos Oportunos'!$W$40=6,AI56,AH56)))))","v":""},{"$f":"IF(AO56<=0,0,IF('Simulador Pagos Oportunos'!$Y$73=1,0,AO56*'Simulador Pagos Oportunos'!$Y$76))+IF(AO56<=0,0,IF('Simulador Pagos Oportunos'!$W$40=6,'Simulador Pagos Oportunos'!$H$52,IF('Simulador Pagos Oportunos'!$W$40=3,'Simulador Pagos Oportunos'!$J$52,IF('Simulador Pagos Oportunos'!$W$40=4,'Simulador Pagos Oportunos'!$L$52,'Simulador Pagos Oportunos'!$N$52))))","v":0},{"$f":"IF(AO56<=0,0,$AV$32)","v":0},0,0,"",0,37]
[38,0,null,{"$f":"IF(B57+F57-D56<=0,B57+F57,IF(A57=$B$10,$F$10,IF(A57=$B$11,$F$11,IF(A57=$B$12,$F$12,IF(A57=$B$13,$F$13,IF(A57=$B$14,$F$14,IF(AND('Simulador Pagos Oportunos'!$AF$45=2,L56=0),D56*(1+Z57),IF($AP$3=2,B57*AN57,D56*(1+Z57)))))))))","v":0},null,0,null,0,null,{"$f":"IF(B57-H57=0,0,J55*(1+(3%)))","v":0},null,null,null,{"$f":"IF(OR('Simulador Pagos Oportunos'!$U$65=1,'Simulador Pagos Oportunos'!$U$65=3),0,L57*'Simulador Pagos Oportunos'!$U$66*'Simulador Pagos Oportunos'!$V$64)","v":0},null,{"$f":"IF(B57=0,\"\",IF('Simulador Pagos Oportunos'!$W$40=3,AJ57,IF('Simulador Pagos Oportunos'!$W$40=4,AK57,IF('Simulador Pagos Oportunos'!$W$40=5,AL57,IF('Simulador Pagos Oportunos'!$W$40=6,AI57,AH57)))))","v":""},null,0,null,{"$f":"IF(B57<=0,0,B57*'Simulador Pagos Oportunos'!$Y$76)","v":0},null,{"$f":"IF(B57<=0,0,IF('Simulador Pagos Oportunos'!$W$40=3,'Simulador Pagos Oportunos'!$J$52,IF('Simulador Pagos Oportunos'!$W$40=4,'Simulador Pagos Oportunos'!$L$52,IF('Simulador Pagos Oportunos'!$W$40=5,'Simulador Pagos Oportunos'!$N$52,IF('Simulador Pagos Oportunos'!$W$40=6,'Simulador Pagos Oportunos'!$H$52)))))","v":0},null,0,null,null,null,3,2,0,0,0,0,{"$f":"AH56","v":0.128},{"$f":"AI56","v":0.124},{"$f":"AJ56","v":0.124},0.124,0.124,0,0,0,0,0,0,0,{"$f":"IF(AO57=0,\"\",IF('Simulador Pagos Oportunos'!$W$40=3,AJ57,IF('Simulador Pagos Oportunos'!$W$40=4,AK57,IF('Simulador Pagos Oportunos'!$W$40=5,AL57,IF('Simulador Pagos Oportunos'!$W$40=6,AI57,AH57)))))","v":""},{"$f":"IF(AO57<=0,0,IF('Simulador Pagos Oportunos'!$Y$73=1,0,AO57*'Simulador Pagos Oportunos'!$Y$76))+IF(AO57<=0,0,IF('Simulador Pagos Oportunos'!$W$40=6,'Simulador Pagos Oportunos'!$H$52,IF('Simulador Pagos Oportunos'!$W$40=3,'Simulador Pagos Oportunos'!$J$52,IF('Simulador Pagos Oportunos'!$W$40=4,'Simulador Pagos Oportunos'!$L$52,'Simulador Pagos Oportunos'!$N$52))))","v":0},null,0,0,"",0,38]
[39,0,null,{"$f":"IF(B58+F58-D57<=0,B58+F58,IF(A58=$B$10,$F$10,IF(A58=$B$11,$F$11,IF(A58=$B$12,$F$12,IF(A58=$B$13,$F$13,IF(A58=$B$14,$F$14,IF(AND('Simulador Pagos Oportunos'!$AF$45=2,L57=0),D57*(1+Z58),IF($AP$3=2,B58*AN58,D57*(1+Z58)))))))))","v":0},null,0,null,0,null,null,null,null,null,{"$f":"IF(OR('Simulador Pagos Oportunos'!$U$65=1,'Simulador Pagos Oportunos'!$U$65=3),0,L58*'Simulador Pagos Oportunos'!$U$66*'Simulador Pagos Oportunos'!$V$64)","v":0},null,{"$f":"IF(B58=0,\"\",IF('Simulador Pagos Oportunos'!$W$40=3,AJ58,IF('Simulador Pagos Oportunos'!$W$40=4,AK58,IF('Simulador Pagos Oportunos'!$W$40=5,AL58,IF('Simulador Pagos Oportunos'!$W$40=6,AI58,AH58)))))","v":""},null,0,null,{"$f":"IF(B58<=0,0,B58*'Simulador Pagos Oportunos'!$Y$76)","v":0},null,{"$f":"IF(B58<=0,0,IF('Simulador Pagos Oportunos'!$W$40=3,'Simulador Pagos Oportunos'!$J$52,IF('Simulador Pagos Oportunos'!$W$40=4,'Simulador Pagos Oportunos'!$L$52,IF('Simulador Pagos Oportunos'!$W$40=5,'Simulador Pagos Oportunos'!$N$52,IF('Simulador Pagos Oportunos'!$W$40=6,'Simulador Pagos Oportunos'!$H$52)))))","v":0},null,0,null,null,null,3,3,0,0,0,0,{"$f":"AH57","v":0.128},0.124,0.124,0.124,0.124,0,0,0,0,0,0,0,{"$f":"IF(AO58=0,\"\",IF('Simulador Pagos Oportunos'!$W$40=3,AJ58,IF('Simulador Pagos Oportunos'!$W$40=4,AK58,IF('Simulador Pagos Oportunos'!$W$40=5,AL58,IF('Simulador Pagos Oportunos'!$W$40=6,AI58,AH58)))))","v":""},{"$f":"IF(AO58<=0,0,IF('Simulador Pagos Oportunos'!$Y$73=1,0,AO58*'Simulador Pagos Oportunos'!$Y$76))+IF(AO58<=0,0,IF('Simulador Pagos Oportunos'!$W$40=6,'Simulador Pagos Oportunos'!$H$52,IF('Simulador Pagos Oportunos'!$W$40=3,'Simulador Pagos Oportunos'!$J$52,IF('Simulador Pagos Oportunos'!$W$40=4,'Simulador Pagos Oportunos'!$L$52,'Simulador Pagos Oportunos'!$N$52))))","v":0},null,0,0,"",0,39]
[40,0,null,{"$f":"IF(B59+F59-D58<=0,B59+F59,IF(A59=$B$10,$F$10,IF(A59=$B$11,$F$11,IF(A59=$B$12,$F$12,IF(A59=$B$13,$F$13,IF(A59=$B$14,$F$14,IF(AND('Simulador Pagos Oportunos'!$AF$45=2,L58=0),D58*(1+Z59),IF($AP$3=2,B59*AN59,D58*(1+Z59)))))))))","v":0},null,0,null,0,null,{"$f":"IF(B59-H59=0,0,J57)","v":0},null,null,null,{"$f":"IF(OR('Simulador Pagos Oportunos'!$U$65=1,'Simulador Pagos Oportunos'!$U$65=3),0,L59*'Simulador Pagos Oportunos'!$U$66*'Simulador Pagos Oportunos'!$V$64)","v":0},null,{"$f":"IF(B59=0,\"\",IF('Simulador Pagos Oportunos'!$W$40=3,AJ59,IF('Simulador Pagos Oportunos'!$W$40=4,AK59,IF('Simulador Pagos Oportunos'!$W$40=5,AL59,IF('Simulador Pagos Oportunos'!$W$40=6,AI59,AH59)))))","v":""},null,0,null,{"$f":"IF(B59<=0,0,B59*'Simulador Pagos Oportunos'!$Y$76)","v":0},null,{"$f":"IF(B59<=0,0,IF('Simulador Pagos Oportunos'!$W$40=3,'Simulador Pagos Oportunos'!$J$52,IF('Simulador Pagos Oportunos'!$W$40=4,'Simulador Pagos Oportunos'!$L$52,IF('Simulador Pagos Oportunos'!$W$40=5,'Simulador Pagos Oportunos'!$N$52,IF('Simulador Pagos Oportunos'!$W$40=6,'Simulador Pagos Oportunos'!$H$52)))))","v":0},null,0,null,null,null,3,4,0,0,0,0,0.128,0.124,0.124,0.124,0.124,0,0,0,0,0,0,0,{"$f":"IF(AO59=0,\"\",IF('Simulador Pagos Oportunos'!$W$40=3,AJ59,IF('Simulador Pagos Oportunos'!$W$40=4,AK59,IF('Simulador Pagos Oportunos'!$W$40=5,AL59,IF('Simulador Pagos Oportunos'!$W$40=6,AI59,AH59)))))","v":""},{"$f":"IF(AO59<=0,0,IF('Simulador Pagos Oportunos'!$Y$73=1,0,AO59*'Simulador Pagos Oportunos'!$Y$76))+IF(AO59<=0,0,IF('Simulador Pagos Oportunos'!$W$40=6,'Simulador Pagos Oportunos'!$H$52,IF('Simulador Pagos Oportunos'!$W$40=3,'Simulador Pagos Oportunos'!$J$52,IF('Simulador Pagos Oportunos'!$W$40=4,'Simulador Pagos Oportunos'!$L$52,'Simulador Pagos Oportunos'!$N$52))))","v":0},null,0,0,"",0,40]
[41,0,null,{"$f":"IF(B60+F60-D59<=0,B60+F60,IF(A60=$B$10,$F$10,IF(A60=$B$11,$F$11,IF(A60=$B$12,$F$12,IF(A60=$B$13,$F$13,IF(A60=$B$14,$F$14,IF(AND('Simulador Pagos Oportunos'!$AF$45=2,L59=0),D59*(1+Z60),IF($AP$3=2,B60*AN60,D59*(1+Z60)))))))))","v":0},null,0,null,0,null,null,null,null,null,{"$f":"IF(OR('Simulador Pagos Oportunos'!$U$65=1,'Simulador Pagos Oportunos'!$U$65=3),0,L60*'Simulador Pagos Oportunos'!$U$66*'Simulador Pagos Oportunos'!$V$64)","v":0},null,{"$f":"IF(B60=0,\"\",IF('Simulador Pagos Oportunos'!$W$40=3,AJ60,IF('Simulador Pagos Oportunos'!$W$40=4,AK60,IF('Simulador Pagos Oportunos'!$W$40=5,AL60,IF('Simulador Pagos Oportunos'!$W$40=6,AI60,AH60)))))","v":""},null,0,null,{"$f":"IF(B60<=0,0,B60*'Simulador Pagos Oportunos'!$Y$76)","v":0},null,{"$f":"IF(B60<=0,0,IF('Simulador Pagos Oportunos'!$W$40=3,'Simulador Pagos Oportunos'!$J$52,IF('Simulador Pagos Oportunos'!$W$40=4,'Simulador Pagos Oportunos'!$L$52,IF('Simulador Pagos Oportunos'!$W$40=5,'Simulador Pagos Oportunos'!$N$52,IF('Simulador Pagos Oportunos'!$W$40=6,'Simulador Pagos Oportunos'!$H$52)))))","v":0},null,0,null,null,null,3,5,0,0,0,0,0.128,0.124,0.124,0.124,0.124,0,0,0,0,0,0,0,{"$f":"IF(AO60=0,\"\",IF('Simulador Pagos Oportunos'!$W$40=3,AJ60,IF('Simulador Pagos Oportunos'!$W$40=4,AK60,IF('Simulador Pagos Oportunos'!$W$40=5,AL60,IF('Simulador Pagos Oportunos'!$W$40=6,AI60,AH60)))))","v":""},{"$f":"IF(AO60<=0,0,IF('Simulador Pagos Oportunos'!$Y$73=1,0,AO60*'Simulador Pagos Oportunos'!$Y$76))+IF(AO60<=0,0,IF('Simulador Pagos Oportunos'!$W$40=6,'Simulador Pagos Oportunos'!$H$52,IF('Simulador Pagos Oportunos'!$W$40=3,'Simulador Pagos Oportunos'!$J$52,IF('Simulador Pagos Oportunos'!$W$40=4,'Simulador Pagos Oportunos'!$L$52,'Simulador Pagos Oportunos'!$N$52))))","v":0},null,0,0,"",0,41]
[42,0,null,{"$f":"IF(B61+F61-D60<=0,B61+F61,IF(A61=$B$10,$F$10,IF(A61=$B$11,$F$11,IF(A61=$B$12,$F$12,IF(A61=$B$13,$F$13,IF(A61=$B$14,$F$14,IF(AND('Simulador Pagos Oportunos'!$AF$45=2,L60=0),D60*(1+Z61),IF($AP$3=2,B61*AN61,D60*(1+Z61)))))))))","v":0},null,0,null,0,null,{"$f":"IF(B61-H61=0,0,J59)","v":0},null,null,null,{"$f":"IF(OR('Simulador Pagos Oportunos'!$U$65=1,'Simulador Pagos Oportunos'!$U$65=3),0,L61*'Simulador Pagos Oportunos'!$U$66*'Simulador Pagos Oportunos'!$V$64)","v":0},null,{"$f":"IF(B61=0,\"\",IF('Simulador Pagos Oportunos'!$W$40=3,AJ61,IF('Simulador Pagos Oportunos'!$W$40=4,AK61,IF('Simulador Pagos Oportunos'!$W$40=5,AL61,IF('Simulador Pagos Oportunos'!$W$40=6,AI61,AH61)))))","v":""},null,0,null,{"$f":"IF(B61<=0,0,B61*'Simulador Pagos Oportunos'!$Y$76)","v":0},null,{"$f":"IF(B61<=0,0,IF('Simulador Pagos Oportunos'!$W$40=3,'Simulador Pagos Oportunos'!$J$52,IF('Simulador Pagos Oportunos'!$W$40=4,'Simulador Pagos Oportunos'!$L$52,IF('Simulador Pagos Oportunos'!$W$40=5,'Simulador Pagos Oportunos'!$N$52,IF('Simulador Pagos Oportunos'!$W$40=6,'Simulador Pagos Oportunos'!$H$52)))))","v":0},null,0,null,null,null,3,6,0,0,0,0,0.128,0.124,0.124,0.124,0.124,0,0,0,0,0,0,0,{"$f":"IF(AO61=0,\"\",IF('Simulador Pagos Oportunos'!$W$40=3,AJ61,IF('Simulador Pagos Oportunos'!$W$40=4,AK61,IF('Simulador Pagos Oportunos'!$W$40=5,AL61,IF('Simulador Pagos Oportunos'!$W$40=6,AI61,AH61)))))","v":""},{"$f":"IF(AO61<=0,0,IF('Simulador Pagos Oportunos'!$Y$73=1,0,AO61*'Simulador Pagos Oportunos'!$Y$76))+IF(AO61<=0,0,IF('Simulador Pagos Oportunos'!$W$40=6,'Simulador Pagos Oportunos'!$H$52,IF('Simulador Pagos Oportunos'!$W$40=3,'Simulador Pagos Oportunos'!$J$52,IF('Simulador Pagos Oportunos'!$W$40=4,'Simulador Pagos Oportunos'!$L$52,'Simulador Pagos Oportunos'!$N$52))))","v":0},null,0,0,"",0,42]
[43,0,null,{"$f":"IF(B62+F62-D61<=0,B62+F62,IF(A62=$B$10,$F$10,IF(A62=$B$11,$F$11,IF(A62=$B$12,$F$12,IF(A62=$B$13,$F$13,IF(A62=$B$14,$F$14,IF(AND('Simulador Pagos Oportunos'!$AF$45=2,L61=0),D61*(1+Z62),IF($AP$3=2,B62*AN62,D61*(1+Z62)))))))))","v":0},null,0,null,0,null,null,null,null,null,{"$f":"IF(OR('Simulador Pagos Oportunos'!$U$65=1,'Simulador Pagos Oportunos'!$U$65=3),0,L62*'Simulador Pagos Oportunos'!$U$66*'Simulador Pagos Oportunos'!$V$64)","v":0},null,{"$f":"IF(B62=0,\"\",IF('Simulador Pagos Oportunos'!$W$40=3,AJ62,IF('Simulador Pagos Oportunos'!$W$40=4,AK62,IF('Simulador Pagos Oportunos'!$W$40=5,AL62,IF('Simulador Pagos Oportunos'!$W$40=6,AI62,AH62)))))","v":""},null,0,null,{"$f":"IF(B62<=0,0,B62*'Simulador Pagos Oportunos'!$Y$76)","v":0},null,{"$f":"IF(B62<=0,0,IF('Simulador Pagos Oportunos'!$W$40=3,'Simulador Pagos Oportunos'!$J$52,IF('Simulador Pagos Oportunos'!$W$40=4,'Simulador Pagos Oportunos'!$L$52,IF('Simulador Pagos Oportunos'!$W$40=5,'Simulador Pagos Oportunos'!$N$52,IF('Simulador Pagos Oportunos'!$W$40=6,'Simulador Pagos Oportunos'!$H$52)))))","v":0},null,0,null,null,null,3,7,0,0,0,0,0.128,0.124,0.124,0.124,0.124,0,0,0,0,0,0,0,{"$f":"IF(AO62=0,\"\",IF('Simulador Pagos Oportunos'!$W$40=3,AJ62,IF('Simulador Pagos Oportunos'!$W$40=4,AK62,IF('Simulador Pagos Oportunos'!$W$40=5,AL62,IF('Simulador Pagos Oportunos'!$W$40=6,AI62,AH62)))))","v":""},{"$f":"IF(AO62<=0,0,IF('Simulador Pagos Oportunos'!$Y$73=1,0,AO62*'Simulador Pagos Oportunos'!$Y$76))+IF(AO62<=0,0,IF('Simulador Pagos Oportunos'!$W$40=6,'Simulador Pagos Oportunos'!$H$52,IF('Simulador Pagos Oportunos'!$W$40=3,'Simulador Pagos Oportunos'!$J$52,IF('Simulador Pagos Oportunos'!$W$40=4,'Simulador Pagos Oportunos'!$L$52,'Simulador Pagos Oportunos'!$N$52))))","v":0},null,0,0,"",0,43]
[44,0,null,{"$f":"IF(B63+F63-D62<=0,B63+F63,IF(A63=$B$10,$F$10,IF(A63=$B$11,$F$11,IF(A63=$B$12,$F$12,IF(A63=$B$13,$F$13,IF(A63=$B$14,$F$14,IF(AND('Simulador Pagos Oportunos'!$AF$45=2,L62=0),D62*(1+Z63),IF($AP$3=2,B63*AN63,D62*(1+Z63)))))))))","v":0},null,0,null,0,null,{"$f":"IF(B63-H63=0,0,J61)","v":0},null,null,null,{"$f":"IF(OR('Simulador Pagos Oportunos'!$U$65=1,'Simulador Pagos Oportunos'!$U$65=3),0,L63*'Simulador Pagos Oportunos'!$U$66*'Simulador Pagos Oportunos'!$V$64)","v":0},null,{"$f":"IF(B63=0,\"\",IF('Simulador Pagos Oportunos'!$W$40=3,AJ63,IF('Simulador Pagos Oportunos'!$W$40=4,AK63,IF('Simulador Pagos Oportunos'!$W$40=5,AL63,IF('Simulador Pagos Oportunos'!$W$40=6,AI63,AH63)))))","v":""},null,0,null,{"$f":"IF(B63<=0,0,B63*'Simulador Pagos Oportunos'!$Y$76)","v":0},null,{"$f":"IF(B63<=0,0,IF('Simulador Pagos Oportunos'!$W$40=3,'Simulador Pagos Oportunos'!$J$52,IF('Simulador Pagos Oportunos'!$W$40=4,'Simulador Pagos Oportunos'!$L$52,IF('Simulador Pagos Oportunos'!$W$40=5,'Simulador Pagos Oportunos'!$N$52,IF('Simulador Pagos Oportunos'!$W$40=6,'Simulador Pagos Oportunos'!$H$52)))))","v":0},null,0,null,null,null,3,8,0,0,0,0,0.128,0.124,0.124,0.124,0.124,0,0,0,0,0,0,0,{"$f":"IF(AO63=0,\"\",IF('Simulador Pagos Oportunos'!$W$40=3,AJ63,IF('Simulador Pagos Oportunos'!$W$40=4,AK63,IF('Simulador Pagos Oportunos'!$W$40=5,AL63,IF('Simulador Pagos Oportunos'!$W$40=6,AI63,AH63)))))","v":""},{"$f":"IF(AO63<=0,0,IF('Simulador Pagos Oportunos'!$Y$73=1,0,AO63*'Simulador Pagos Oportunos'!$Y$76))+IF(AO63<=0,0,IF('Simulador Pagos Oportunos'!$W$40=6,'Simulador Pagos Oportunos'!$H$52,IF('Simulador Pagos Oportunos'!$W$40=3,'Simulador Pagos Oportunos'!$J$52,IF('Simulador Pagos Oportunos'!$W$40=4,'Simulador Pagos Oportunos'!$L$52,'Simulador Pagos Oportunos'!$N$52))))","v":0},null,0,0,"",0,44]
[45,0,null,{"$f":"IF(B64+F64-D63<=0,B64+F64,IF(A64=$B$10,$F$10,IF(A64=$B$11,$F$11,IF(A64=$B$12,$F$12,IF(A64=$B$13,$F$13,IF(A64=$B$14,$F$14,IF(AND('Simulador Pagos Oportunos'!$AF$45=2,L63=0),D63*(1+Z64),IF($AP$3=2,B64*AN64,D63*(1+Z64)))))))))","v":0},null,0,null,0,null,null,null,null,null,{"$f":"IF(OR('Simulador Pagos Oportunos'!$U$65=1,'Simulador Pagos Oportunos'!$U$65=3),0,L64*'Simulador Pagos Oportunos'!$U$66*'Simulador Pagos Oportunos'!$V$64)","v":0},null,{"$f":"IF(B64=0,\"\",IF('Simulador Pagos Oportunos'!$W$40=3,AJ64,IF('Simulador Pagos Oportunos'!$W$40=4,AK64,IF('Simulador Pagos Oportunos'!$W$40=5,AL64,IF('Simulador Pagos Oportunos'!$W$40=6,AI64,AH64)))))","v":""},null,0,null,{"$f":"IF(B64<=0,0,B64*'Simulador Pagos Oportunos'!$Y$76)","v":0},null,{"$f":"IF(B64<=0,0,IF('Simulador Pagos Oportunos'!$W$40=3,'Simulador Pagos Oportunos'!$J$52,IF('Simulador Pagos Oportunos'!$W$40=4,'Simulador Pagos Oportunos'!$L$52,IF('Simulador Pagos Oportunos'!$W$40=5,'Simulador Pagos Oportunos'!$N$52,IF('Simulador Pagos Oportunos'!$W$40=6,'Simulador Pagos Oportunos'!$H$52)))))","v":0},null,0,null,null,null,3,9,0,0,0,0,0.128,0.124,0.124,0.124,0.124,0,0,0,0,0,0,0,{"$f":"IF(AO64=0,\"\",IF('Simulador Pagos Oportunos'!$W$40=3,AJ64,IF('Simulador Pagos Oportunos'!$W$40=4,AK64,IF('Simulador Pagos Oportunos'!$W$40=5,AL64,IF('Simulador Pagos Oportunos'!$W$40=6,AI64,AH64)))))","v":""},{"$f":"IF(AO64<=0,0,IF('Simulador Pagos Oportunos'!$Y$73=1,0,AO64*'Simulador Pagos Oportunos'!$Y$76))+IF(AO64<=0,0,IF('Simulador Pagos Oportunos'!$W$40=6,'Simulador Pagos Oportunos'!$H$52,IF('Simulador Pagos Oportunos'!$W$40=3,'Simulador Pagos Oportunos'!$J$52,IF('Simulador Pagos Oportunos'!$W$40=4,'Simulador Pagos Oportunos'!$L$52,'Simulador Pagos Oportunos'!$N$52))))","v":0},null,0,0,"",0,45]
[46,0,null,{"$f":"IF(B65+F65-D64<=0,B65+F65,IF(A65=$B$10,$F$10,IF(A65=$B$11,$F$11,IF(A65=$B$12,$F$12,IF(A65=$B$13,$F$13,IF(A65=$B$14,$F$14,IF(AND('Simulador Pagos Oportunos'!$AF$45=2,L64=0),D64*(1+Z65),IF($AP$3=2,B65*AN65,D64*(1+Z65)))))))))","v":0},null,0,null,0,null,{"$f":"IF(B65-H65=0,0,J63)","v":0},null,null,null,{"$f":"IF(OR('Simulador Pagos Oportunos'!$U$65=1,'Simulador Pagos Oportunos'!$U$65=3),0,L65*'Simulador Pagos Oportunos'!$U$66*'Simulador Pagos Oportunos'!$V$64)","v":0},null,{"$f":"IF(B65=0,\"\",IF('Simulador Pagos Oportunos'!$W$40=3,AJ65,IF('Simulador Pagos Oportunos'!$W$40=4,AK65,IF('Simulador Pagos Oportunos'!$W$40=5,AL65,IF('Simulador Pagos Oportunos'!$W$40=6,AI65,AH65)))))","v":""},null,0,null,{"$f":"IF(B65<=0,0,B65*'Simulador Pagos Oportunos'!$Y$76)","v":0},null,{"$f":"IF(B65<=0,0,IF('Simulador Pagos Oportunos'!$W$40=3,'Simulador Pagos Oportunos'!$J$52,IF('Simulador Pagos Oportunos'!$W$40=4,'Simulador Pagos Oportunos'!$L$52,IF('Simulador Pagos Oportunos'!$W$40=5,'Simulador Pagos Oportunos'!$N$52,IF('Simulador Pagos Oportunos'!$W$40=6,'Simulador Pagos Oportunos'!$H$52)))))","v":0},null,0,null,null,null,3,10,0,0,0,0,0.128,0.124,0.124,0.124,0.124,0,0,0,0,0,0,0,{"$f":"IF(AO65=0,\"\",IF('Simulador Pagos Oportunos'!$W$40=3,AJ65,IF('Simulador Pagos Oportunos'!$W$40=4,AK65,IF('Simulador Pagos Oportunos'!$W$40=5,AL65,IF('Simulador Pagos Oportunos'!$W$40=6,AI65,AH65)))))","v":""},{"$f":"IF(AO65<=0,0,IF('Simulador Pagos Oportunos'!$Y$73=1,0,AO65*'Simulador Pagos Oportunos'!$Y$76))+IF(AO65<=0,0,IF('Simulador Pagos Oportunos'!$W$40=6,'Simulador Pagos Oportunos'!$H$52,IF('Simulador Pagos Oportunos'!$W$40=3,'Simulador Pagos Oportunos'!$J$52,IF('Simulador Pagos Oportunos'!$W$40=4,'Simulador Pagos Oportunos'!$L$52,'Simulador Pagos Oportunos'!$N$52))))","v":0},null,0,0,"",0,46]
[47,0,null,{"$f":"IF(B66+F66-D65<=0,B66+F66,IF(A66=$B$10,$F$10,IF(A66=$B$11,$F$11,IF(A66=$B$12,$F$12,IF(A66=$B$13,$F$13,IF(A66=$B$14,$F$14,IF(AND('Simulador Pagos Oportunos'!$AF$45=2,L65=0),D65*(1+Z66),IF($AP$3=2,B66*AN66,D65*(1+Z66)))))))))","v":0},null,0,null,0,null,null,null,null,null,{"$f":"IF(OR('Simulador Pagos Oportunos'!$U$65=1,'Simulador Pagos Oportunos'!$U$65=3),0,L66*'Simulador Pagos Oportunos'!$U$66*'Simulador Pagos Oportunos'!$V$64)","v":0},null,{"$f":"IF(B66=0,\"\",IF('Simulador Pagos Oportunos'!$W$40=3,AJ66,IF('Simulador Pagos Oportunos'!$W$40=4,AK66,IF('Simulador Pagos Oportunos'!$W$40=5,AL66,IF('Simulador Pagos Oportunos'!$W$40=6,AI66,AH66)))))","v":""},null,0,null,{"$f":"IF(B66<=0,0,B66*'Simulador Pagos Oportunos'!$Y$76)","v":0},null,{"$f":"IF(B66<=0,0,IF('Simulador Pagos Oportunos'!$W$40=3,'Simulador Pagos Oportunos'!$J$52,IF('Simulador Pagos Oportunos'!$W$40=4,'Simulador Pagos Oportunos'!$L$52,IF('Simulador Pagos Oportunos'!$W$40=5,'Simulador Pagos Oportunos'!$N$52,IF('Simulador Pagos Oportunos'!$W$40=6,'Simulador Pagos Oportunos'!$H$52)))))","v":0},null,0,null,null,null,3,11,0,0,0,0,0.128,0.124,0.124,0.124,0.124,0,0,0,0,0,0,0,{"$f":"IF(AO66=0,\"\",IF('Simulador Pagos Oportunos'!$W$40=3,AJ66,IF('Simulador Pagos Oportunos'!$W$40=4,AK66,IF('Simulador Pagos Oportunos'!$W$40=5,AL66,IF('Simulador Pagos Oportunos'!$W$40=6,AI66,AH66)))))","v":""},{"$f":"IF(AO66<=0,0,IF('Simulador Pagos Oportunos'!$Y$73=1,0,AO66*'Simulador Pagos Oportunos'!$Y$76))+IF(AO66<=0,0,IF('Simulador Pagos Oportunos'!$W$40=6,'Simulador Pagos Oportunos'!$H$52,IF('Simulador Pagos Oportunos'!$W$40=3,'Simulador Pagos Oportunos'!$J$52,IF('Simulador Pagos Oportunos'!$W$40=4,'Simulador Pagos Oportunos'!$L$52,'Simulador Pagos Oportunos'!$N$52))))","v":0},null,0,0,"",0,47]
[48,0,null,{"$f":"IF(B67+F67-D66<=0,B67+F67,IF(A67=$B$10,$F$10,IF(A67=$B$11,$F$11,IF(A67=$B$12,$F$12,IF(A67=$B$13,$F$13,IF(A67=$B$14,$F$14,IF(AND('Simulador Pagos Oportunos'!$AF$45=2,L66=0),D66*(1+Z67),IF($AP$3=2,B67*AN67,D66*(1+Z67)))))))))","v":0},null,0,null,0,null,{"$f":"IF(B67-H67=0,0,J65)","v":0},null,null,null,{"$f":"IF(OR('Simulador Pagos Oportunos'!$U$65=1,'Simulador Pagos Oportunos'!$U$65=3),0,L67*'Simulador Pagos Oportunos'!$U$66*'Simulador Pagos Oportunos'!$V$64)","v":0},null,{"$f":"IF(B67=0,\"\",IF('Simulador Pagos Oportunos'!$W$40=3,AJ67,IF('Simulador Pagos Oportunos'!$W$40=4,AK67,IF('Simulador Pagos Oportunos'!$W$40=5,AL67,IF('Simulador Pagos Oportunos'!$W$40=6,AI67,AH67)))))","v":""},null,0,null,{"$f":"IF(B67<=0,0,B67*'Simulador Pagos Oportunos'!$Y$76)","v":0},null,{"$f":"IF(B67<=0,0,IF('Simulador Pagos Oportunos'!$W$40=3,'Simulador Pagos Oportunos'!$J$52,IF('Simulador Pagos Oportunos'!$W$40=4,'Simulador Pagos Oportunos'!$L$52,IF('Simulador Pagos Oportunos'!$W$40=5,'Simulador Pagos Oportunos'!$N$52,IF('Simulador Pagos Oportunos'!$W$40=6,'Simulador Pagos Oportunos'!$H$52)))))","v":0},null,0,null,null,null,4,0,0,0,0,0,0.128,0.124,0.124,0.124,0.124,0,0,0,0,0,0,0,{"$f":"IF(AO67=0,\"\",IF('Simulador Pagos Oportunos'!$W$40=3,AJ67,IF('Simulador Pagos Oportunos'!$W$40=4,AK67,IF('Simulador Pagos Oportunos'!$W$40=5,AL67,IF('Simulador Pagos Oportunos'!$W$40=6,AI67,AH67)))))","v":""},{"$f":"IF(AO67<=0,0,IF('Simulador Pagos Oportunos'!$Y$73=1,0,AO67*'Simulador Pagos Oportunos'!$Y$76))+IF(AO67<=0,0,IF('Simulador Pagos Oportunos'!$W$40=6,'Simulador Pagos Oportunos'!$H$52,IF('Simulador Pagos Oportunos'!$W$40=3,'Simulador Pagos Oportunos'!$J$52,IF('Simulador Pagos Oportunos'!$W$40=4,'Simulador Pagos Oportunos'!$L$52,'Simulador Pagos Oportunos'!$N$52))))","v":0},null,0,0,"",0,48]
[49,0,null,{"$f":"IF(B68+F68-D67<=0,B68+F68,IF(A68=$B$10,$F$10,IF(A68=$B$11,$F$11,IF(A68=$B$12,$F$12,IF(A68=$B$13,$F$13,IF(A68=$B$14,$F$14,IF(AND('Simulador Pagos Oportunos'!$AF$45=2,L67=0),D67*(1+Z68),IF($AP$3=2,B68*AN68,D67*(1+Z68)))))))))","v":0},null,0,null,0,null,null,null,null,null,{"$f":"IF(OR('Simulador Pagos Oportunos'!$U$65=1,'Simulador Pagos Oportunos'!$U$65=3),0,L68*'Simulador Pagos Oportunos'!$U$66*'Simulador Pagos Oportunos'!$V$64)","v":0},null,{"$f":"IF(B68=0,\"\",IF('Simulador Pagos Oportunos'!$W$40=3,AJ68,IF('Simulador Pagos Oportunos'!$W$40=4,AK68,IF('Simulador Pagos Oportunos'!$W$40=5,AL68,IF('Simulador Pagos Oportunos'!$W$40=6,AI68,AH68)))))","v":""},null,0,null,{"$f":"IF(B68<=0,0,B68*'Simulador Pagos Oportunos'!$Y$76)","v":0},null,{"$f":"IF(B68<=0,0,IF('Simulador Pagos Oportunos'!$W$40=3,'Simulador Pagos Oportunos'!$J$52,IF('Simulador Pagos Oportunos'!$W$40=4,'Simulador Pagos Oportunos'!$L$52,IF('Simulador Pagos Oportunos'!$W$40=5,'Simulador Pagos Oportunos'!$N$52,IF('Simulador Pagos Oportunos'!$W$40=6,'Simulador Pagos Oportunos'!$H$52)))))","v":0},null,0,null,{"$f":"IF(B68<=0,0,$Z$32)","v":0},null,4,1,0,0,0,0,{"$f":"IF(AH67=$AH$6,AH67,IF(AH67-0.2%<=$AH$6,$AH$6,AH67-0.2%))","v":0.126},{"$f":"AI67-0.15%","v":0.1225},{"$f":"AJ67-0.15%","v":0.1225},{"$f":"AK67-0.15%","v":0.1225},{"$f":"AL67-0.15%","v":0.1225},0,0,0,0,0,0,0,{"$f":"IF(AO68=0,\"\",IF('Simulador Pagos Oportunos'!$W$40=3,AJ68,IF('Simulador Pagos Oportunos'!$W$40=4,AK68,IF('Simulador Pagos Oportunos'!$W$40=5,AL68,IF('Simulador Pagos Oportunos'!$W$40=6,AI68,AH68)))))","v":""},{"$f":"IF(AO68<=0,0,IF('Simulador Pagos Oportunos'!$Y$73=1,0,AO68*'Simulador Pagos Oportunos'!$Y$76))+IF(AO68<=0,0,IF('Simulador Pagos Oportunos'!$W$40=6,'Simulador Pagos Oportunos'!$H$52,IF('Simulador Pagos Oportunos'!$W$40=3,'Simulador Pagos Oportunos'!$J$52,IF('Simulador Pagos Oportunos'!$W$40=4,'Simulador Pagos Oportunos'!$L$52,'Simulador Pagos Oportunos'!$N$52))))","v":0},{"$f":"IF(AO68<=0,0,$AV$32)","v":0},0,0,"",0,49]
[50,0,null,{"$f":"IF(B69+F69-D68<=0,B69+F69,IF(A69=$B$10,$F$10,IF(A69=$B$11,$F$11,IF(A69=$B$12,$F$12,IF(A69=$B$13,$F$13,IF(A69=$B$14,$F$14,IF(AND('Simulador Pagos Oportunos'!$AF$45=2,L68=0),D68*(1+Z69),IF($AP$3=2,B69*AN69,D68*(1+Z69)))))))))","v":0},null,0,null,0,null,{"$f":"IF(B69-H69=0,0,J67*(1+(3%)))","v":0},null,null,null,{"$f":"IF(OR('Simulador Pagos Oportunos'!$U$65=1,'Simulador Pagos Oportunos'!$U$65=3),0,L69*'Simulador Pagos Oportunos'!$U$66*'Simulador Pagos Oportunos'!$V$64)","v":0},null,{"$f":"IF(B69=0,\"\",IF('Simulador Pagos Oportunos'!$W$40=3,AJ69,IF('Simulador Pagos Oportunos'!$W$40=4,AK69,IF('Simulador Pagos Oportunos'!$W$40=5,AL69,IF('Simulador Pagos Oportunos'!$W$40=6,AI69,AH69)))))","v":""},null,0,null,{"$f":"IF(B69<=0,0,B69*'Simulador Pagos Oportunos'!$Y$76)","v":0},null,{"$f":"IF(B69<=0,0,IF('Simulador Pagos Oportunos'!$W$40=3,'Simulador Pagos Oportunos'!$J$52,IF('Simulador Pagos Oportunos'!$W$40=4,'Simulador Pagos Oportunos'!$L$52,IF('Simulador Pagos Oportunos'!$W$40=5,'Simulador Pagos Oportunos'!$N$52,IF('Simulador Pagos Oportunos'!$W$40=6,'Simulador Pagos Oportunos'!$H$52)))))","v":0},null,0,null,null,null,4,2,0,0,0,0,{"$f":"AH68","v":0.126},{"$f":"AI68","v":0.1225},{"$f":"AJ68","v":0.1225},0.1225,0.1225,0,0,0,0,0,0,0,{"$f":"IF(AO69=0,\"\",IF('Simulador Pagos Oportunos'!$W$40=3,AJ69,IF('Simulador Pagos Oportunos'!$W$40=4,AK69,IF('Simulador Pagos Oportunos'!$W$40=5,AL69,IF('Simulador Pagos Oportunos'!$W$40=6,AI69,AH69)))))","v":""},{"$f":"IF(AO69<=0,0,IF('Simulador Pagos Oportunos'!$Y$73=1,0,AO69*'Simulador Pagos Oportunos'!$Y$76))+IF(AO69<=0,0,IF('Simulador Pagos Oportunos'!$W$40=6,'Simulador Pagos Oportunos'!$H$52,IF('Simulador Pagos Oportunos'!$W$40=3,'Simulador Pagos Oportunos'!$J$52,IF('Simulador Pagos Oportunos'!$W$40=4,'Simulador Pagos Oportunos'!$L$52,'Simulador Pagos Oportunos'!$N$52))))","v":0},null,0,0,"",0,50]
[51,0,null,{"$f":"IF(B70+F70-D69<=0,B70+F70,IF(A70=$B$10,$F$10,IF(A70=$B$11,$F$11,IF(A70=$B$12,$F$12,IF(A70=$B$13,$F$13,IF(A70=$B$14,$F$14,IF(AND('Simulador Pagos Oportunos'!$AF$45=2,L69=0),D69*(1+Z70),IF($AP$3=2,B70*AN70,D69*(1+Z70)))))))))","v":0},null,0,null,0,null,null,null,null,null,{"$f":"IF(OR('Simulador Pagos Oportunos'!$U$65=1,'Simulador Pagos Oportunos'!$U$65=3),0,L70*'Simulador Pagos Oportunos'!$U$66*'Simulador Pagos Oportunos'!$V$64)","v":0},null,{"$f":"IF(B70=0,\"\",IF('Simulador Pagos Oportunos'!$W$40=3,AJ70,IF('Simulador Pagos Oportunos'!$W$40=4,AK70,IF('Simulador Pagos Oportunos'!$W$40=5,AL70,IF('Simulador Pagos Oportunos'!$W$40=6,AI70,AH70)))))","v":""},null,0,null,{"$f":"IF(B70<=0,0,B70*'Simulador Pagos Oportunos'!$Y$76)","v":0},null,{"$f":"IF(B70<=0,0,IF('Simulador Pagos Oportunos'!$W$40=3,'Simulador Pagos Oportunos'!$J$52,IF('Simulador Pagos Oportunos'!$W$40=4,'Simulador Pagos Oportunos'!$L$52,IF('Simulador Pagos Oportunos'!$W$40=5,'Simulador Pagos Oportunos'!$N$52,IF('Simulador Pagos Oportunos'!$W$40=6,'Simulador Pagos Oportunos'!$H$52)))))","v":0},null,0,null,null,null,4,3,0,0,0,0,0.126,0.1225,0.1225,0.1225,0.1225,0,0,0,0,0,0,0,{"$f":"IF(AO70=0,\"\",IF('Simulador Pagos Oportunos'!$W$40=3,AJ70,IF('Simulador Pagos Oportunos'!$W$40=4,AK70,IF('Simulador Pagos Oportunos'!$W$40=5,AL70,IF('Simulador Pagos Oportunos'!$W$40=6,AI70,AH70)))))","v":""},{"$f":"IF(AO70<=0,0,IF('Simulador Pagos Oportunos'!$Y$73=1,0,AO70*'Simulador Pagos Oportunos'!$Y$76))+IF(AO70<=0,0,IF('Simulador Pagos Oportunos'!$W$40=6,'Simulador Pagos Oportunos'!$H$52,IF('Simulador Pagos Oportunos'!$W$40=3,'Simulador Pagos Oportunos'!$J$52,IF('Simulador Pagos Oportunos'!$W$40=4,'Simulador Pagos Oportunos'!$L$52,'Simulador Pagos Oportunos'!$N$52))))","v":0},null,0,0,"",0,51]
[52,0,null,{"$f":"IF(B71+F71-D70<=0,B71+F71,IF(A71=$B$10,$F$10,IF(A71=$B$11,$F$11,IF(A71=$B$12,$F$12,IF(A71=$B$13,$F$13,IF(A71=$B$14,$F$14,IF(AND('Simulador Pagos Oportunos'!$AF$45=2,L70=0),D70*(1+Z71),IF($AP$3=2,B71*AN71,D70*(1+Z71)))))))))","v":0},null,0,null,0,null,{"$f":"IF(B71-H71=0,0,J69)","v":0},null,null,null,{"$f":"IF(OR('Simulador Pagos Oportunos'!$U$65=1,'Simulador Pagos Oportunos'!$U$65=3),0,L71*'Simulador Pagos Oportunos'!$U$66*'Simulador Pagos Oportunos'!$V$64)","v":0},null,{"$f":"IF(B71=0,\"\",IF('Simulador Pagos Oportunos'!$W$40=3,AJ71,IF('Simulador Pagos Oportunos'!$W$40=4,AK71,IF('Simulador Pagos Oportunos'!$W$40=5,AL71,IF('Simulador Pagos Oportunos'!$W$40=6,AI71,AH71)))))","v":""},null,0,null,{"$f":"IF(B71<=0,0,B71*'Simulador Pagos Oportunos'!$Y$76)","v":0},null,{"$f":"IF(B71<=0,0,IF('Simulador Pagos Oportunos'!$W$40=3,'Simulador Pagos Oportunos'!$J$52,IF('Simulador Pagos Oportunos'!$W$40=4,'Simulador Pagos Oportunos'!$L$52,IF('Simulador Pagos Oportunos'!$W$40=5,'Simulador Pagos Oportunos'!$N$52,IF('Simulador Pagos Oportunos'!$W$40=6,'Simulador Pagos Oportunos'!$H$52)))))","v":0},null,0,null,null,null,4,4,0,0,0,0,0.126,0.1225,0.1225,0.1225,0.1225,0,0,0,0,0,0,0,{"$f":"IF(AO71=0,\"\",IF('Simulador Pagos Oportunos'!$W$40=3,AJ71,IF('Simulador Pagos Oportunos'!$W$40=4,AK71,IF('Simulador Pagos Oportunos'!$W$40=5,AL71,IF('Simulador Pagos Oportunos'!$W$40=6,AI71,AH71)))))","v":""},{"$f":"IF(AO71<=0,0,IF('Simulador Pagos Oportunos'!$Y$73=1,0,AO71*'Simulador Pagos Oportunos'!$Y$76))+IF(AO71<=0,0,IF('Simulador Pagos Oportunos'!$W$40=6,'Simulador Pagos Oportunos'!$H$52,IF('Simulador Pagos Oportunos'!$W$40=3,'Simulador Pagos Oportunos'!$J$52,IF('Simulador Pagos Oportunos'!$W$40=4,'Simulador Pagos Oportunos'!$L$52,'Simulador Pagos Oportunos'!$N$52))))","v":0},null,0,0,"",0,52]
[53,0,null,{"$f":"IF(B72+F72-D71<=0,B72+F72,IF(A72=$B$10,$F$10,IF(A72=$B$11,$F$11,IF(A72=$B$12,$F$12,IF(A72=$B$13,$F$13,IF(A72=$B$14,$F$14,IF(AND('Simulador Pagos Oportunos'!$AF$45=2,L71=0),D71*(1+Z72),IF($AP$3=2,B72*AN72,D71*(1+Z72)))))))))","v":0},null,0,null,0,null,null,null,null,null,{"$f":"IF(OR('Simulador Pagos Oportunos'!$U$65=1,'Simulador Pagos Oportunos'!$U$65=3),0,L72*'Simulador Pagos Oportunos'!$U$66*'Simulador Pagos Oportunos'!$V$64)","v":0},null,{"$f":"IF(B72=0,\"\",IF('Simulador Pagos Oportunos'!$W$40=3,AJ72,IF('Simulador Pagos Oportunos'!$W$40=4,AK72,IF('Simulador Pagos Oportunos'!$W$40=5,AL72,IF('Simulador Pagos Oportunos'!$W$40=6,AI72,AH72)))))","v":""},null,0,null,{"$f":"IF(B72<=0,0,B72*'Simulador Pagos Oportunos'!$Y$76)","v":0},null,{"$f":"IF(B72<=0,0,IF('Simulador Pagos Oportunos'!$W$40=3,'Simulador Pagos Oportunos'!$J$52,IF('Simulador Pagos Oportunos'!$W$40=4,'Simulador Pagos Oportunos'!$L$52,IF('Simulador Pagos Oportunos'!$W$40=5,'Simulador Pagos Oportunos'!$N$52,IF('Simulador Pagos Oportunos'!$W$40=6,'Simulador Pagos Oportunos'!$H$52)))))","v":0},null,0,null,null,null,4,5,0,0,0,0,0.126,0.1225,0.1225,0.1225,0.1225,0,0,0,0,0,0,0,{"$f":"IF(AO72=0,\"\",IF('Simulador Pagos Oportunos'!$W$40=3,AJ72,IF('Simulador Pagos Oportunos'!$W$40=4,AK72,IF('Simulador Pagos Oportunos'!$W$40=5,AL72,IF('Simulador Pagos Oportunos'!$W$40=6,AI72,AH72)))))","v":""},{"$f":"IF(AO72<=0,0,IF('Simulador Pagos Oportunos'!$Y$73=1,0,AO72*'Simulador Pagos Oportunos'!$Y$76))+IF(AO72<=0,0,IF('Simulador Pagos Oportunos'!$W$40=6,'Simulador Pagos Oportunos'!$H$52,IF('Simulador Pagos Oportunos'!$W$40=3,'Simulador Pagos Oportunos'!$J$52,IF('Simulador Pagos Oportunos'!$W$40=4,'Simulador Pagos Oportunos'!$L$52,'Simulador Pagos Oportunos'!$N$52))))","v":0},null,0,0,"",0,53]
[54,0,null,{"$f":"IF(B73+F73-D72<=0,B73+F73,IF(A73=$B$10,$F$10,IF(A73=$B$11,$F$11,IF(A73=$B$12,$F$12,IF(A73=$B$13,$F$13,IF(A73=$B$14,$F$14,IF(AND('Simulador Pagos Oportunos'!$AF$45=2,L72=0),D72*(1+Z73),IF($AP$3=2,B73*AN73,D72*(1+Z73)))))))))","v":0},null,0,null,0,null,{"$f":"IF(B73-H73=0,0,J71)","v":0},null,null,null,{"$f":"IF(OR('Simulador Pagos Oportunos'!$U$65=1,'Simulador Pagos Oportunos'!$U$65=3),0,L73*'Simulador Pagos Oportunos'!$U$66*'Simulador Pagos Oportunos'!$V$64)","v":0},null,{"$f":"IF(B73=0,\"\",IF('Simulador Pagos Oportunos'!$W$40=3,AJ73,IF('Simulador Pagos Oportunos'!$W$40=4,AK73,IF('Simulador Pagos Oportunos'!$W$40=5,AL73,IF('Simulador Pagos Oportunos'!$W$40=6,AI73,AH73)))))","v":""},null,0,null,{"$f":"IF(B73<=0,0,B73*'Simulador Pagos Oportunos'!$Y$76)","v":0},null,{"$f":"IF(B73<=0,0,IF('Simulador Pagos Oportunos'!$W$40=3,'Simulador Pagos Oportunos'!$J$52,IF('Simulador Pagos Oportunos'!$W$40=4,'Simulador Pagos Oportunos'!$L$52,IF('Simulador Pagos Oportunos'!$W$40=5,'Simulador Pagos Oportunos'!$N$52,IF('Simulador Pagos Oportunos'!$W$40=6,'Simulador Pagos Oportunos'!$H$52)))))","v":0},null,0,null,null,null,4,6,0,0,0,0,0.126,0.1225,0.1225,0.1225,0.1225,0,0,0,0,0,0,0,{"$f":"IF(AO73=0,\"\",IF('Simulador Pagos Oportunos'!$W$40=3,AJ73,IF('Simulador Pagos Oportunos'!$W$40=4,AK73,IF('Simulador Pagos Oportunos'!$W$40=5,AL73,IF('Simulador Pagos Oportunos'!$W$40=6,AI73,AH73)))))","v":""},{"$f":"IF(AO73<=0,0,IF('Simulador Pagos Oportunos'!$Y$73=1,0,AO73*'Simulador Pagos Oportunos'!$Y$76))+IF(AO73<=0,0,IF('Simulador Pagos Oportunos'!$W$40=6,'Simulador Pagos Oportunos'!$H$52,IF('Simulador Pagos Oportunos'!$W$40=3,'Simulador Pagos Oportunos'!$J$52,IF('Simulador Pagos Oportunos'!$W$40=4,'Simulador Pagos Oportunos'!$L$52,'Simulador Pagos Oportunos'!$N$52))))","v":0},null,0,0,"",0,54]
[55,0,null,{"$f":"IF(B74+F74-D73<=0,B74+F74,IF(A74=$B$10,$F$10,IF(A74=$B$11,$F$11,IF(A74=$B$12,$F$12,IF(A74=$B$13,$F$13,IF(A74=$B$14,$F$14,IF(AND('Simulador Pagos Oportunos'!$AF$45=2,L73=0),D73*(1+Z74),IF($AP$3=2,B74*AN74,D73*(1+Z74)))))))))","v":0},null,0,null,0,null,null,null,null,null,{"$f":"IF(OR('Simulador Pagos Oportunos'!$U$65=1,'Simulador Pagos Oportunos'!$U$65=3),0,L74*'Simulador Pagos Oportunos'!$U$66*'Simulador Pagos Oportunos'!$V$64)","v":0},null,{"$f":"IF(B74=0,\"\",IF('Simulador Pagos Oportunos'!$W$40=3,AJ74,IF('Simulador Pagos Oportunos'!$W$40=4,AK74,IF('Simulador Pagos Oportunos'!$W$40=5,AL74,IF('Simulador Pagos Oportunos'!$W$40=6,AI74,AH74)))))","v":""},null,0,null,{"$f":"IF(B74<=0,0,B74*'Simulador Pagos Oportunos'!$Y$76)","v":0},null,{"$f":"IF(B74<=0,0,IF('Simulador Pagos Oportunos'!$W$40=3,'Simulador Pagos Oportunos'!$J$52,IF('Simulador Pagos Oportunos'!$W$40=4,'Simulador Pagos Oportunos'!$L$52,IF('Simulador Pagos Oportunos'!$W$40=5,'Simulador Pagos Oportunos'!$N$52,IF('Simulador Pagos Oportunos'!$W$40=6,'Simulador Pagos Oportunos'!$H$52)))))","v":0},null,0,null,null,null,4,7,0,0,0,0,0.126,0.1225,0.1225,0.1225,0.1225,0,0,0,0,0,0,0,{"$f":"IF(AO74=0,\"\",IF('Simulador Pagos Oportunos'!$W$40=3,AJ74,IF('Simulador Pagos Oportunos'!$W$40=4,AK74,IF('Simulador Pagos Oportunos'!$W$40=5,AL74,IF('Simulador Pagos Oportunos'!$W$40=6,AI74,AH74)))))","v":""},{"$f":"IF(AO74<=0,0,IF('Simulador Pagos Oportunos'!$Y$73=1,0,AO74*'Simulador Pagos Oportunos'!$Y$76))+IF(AO74<=0,0,IF('Simulador Pagos Oportunos'!$W$40=6,'Simulador Pagos Oportunos'!$H$52,IF('Simulador Pagos Oportunos'!$W$40=3,'Simulador Pagos Oportunos'!$J$52,IF('Simulador Pagos Oportunos'!$W$40=4,'Simulador Pagos Oportunos'!$L$52,'Simulador Pagos Oportunos'!$N$52))))","v":0},null,0,0,"",0,55]
[56,0,null,{"$f":"IF(B75+F75-D74<=0,B75+F75,IF(A75=$B$10,$F$10,IF(A75=$B$11,$F$11,IF(A75=$B$12,$F$12,IF(A75=$B$13,$F$13,IF(A75=$B$14,$F$14,IF(AND('Simulador Pagos Oportunos'!$AF$45=2,L74=0),D74*(1+Z75),IF($AP$3=2,B75*AN75,D74*(1+Z75)))))))))","v":0},null,0,null,0,null,{"$f":"IF(B75-H75=0,0,J73)","v":0},null,null,null,{"$f":"IF(OR('Simulador Pagos Oportunos'!$U$65=1,'Simulador Pagos Oportunos'!$U$65=3),0,L75*'Simulador Pagos Oportunos'!$U$66*'Simulador Pagos Oportunos'!$V$64)","v":0},null,{"$f":"IF(B75=0,\"\",IF('Simulador Pagos Oportunos'!$W$40=3,AJ75,IF('Simulador Pagos Oportunos'!$W$40=4,AK75,IF('Simulador Pagos Oportunos'!$W$40=5,AL75,IF('Simulador Pagos Oportunos'!$W$40=6,AI75,AH75)))))","v":""},null,0,null,{"$f":"IF(B75<=0,0,B75*'Simulador Pagos Oportunos'!$Y$76)","v":0},null,{"$f":"IF(B75<=0,0,IF('Simulador Pagos Oportunos'!$W$40=3,'Simulador Pagos Oportunos'!$J$52,IF('Simulador Pagos Oportunos'!$W$40=4,'Simulador Pagos Oportunos'!$L$52,IF('Simulador Pagos Oportunos'!$W$40=5,'Simulador Pagos Oportunos'!$N$52,IF('Simulador Pagos Oportunos'!$W$40=6,'Simulador Pagos Oportunos'!$H$52)))))","v":0},null,0,null,null,null,4,8,0,0,0,0,0.126,0.1225,0.1225,0.1225,0.1225,0,0,0,0,0,0,0,{"$f":"IF(AO75=0,\"\",IF('Simulador Pagos Oportunos'!$W$40=3,AJ75,IF('Simulador Pagos Oportunos'!$W$40=4,AK75,IF('Simulador Pagos Oportunos'!$W$40=5,AL75,IF('Simulador Pagos Oportunos'!$W$40=6,AI75,AH75)))))","v":""},{"$f":"IF(AO75<=0,0,IF('Simulador Pagos Oportunos'!$Y$73=1,0,AO75*'Simulador Pagos Oportunos'!$Y$76))+IF(AO75<=0,0,IF('Simulador Pagos Oportunos'!$W$40=6,'Simulador Pagos Oportunos'!$H$52,IF('Simulador Pagos Oportunos'!$W$40=3,'Simulador Pagos Oportunos'!$J$52,IF('Simulador Pagos Oportunos'!$W$40=4,'Simulador Pagos Oportunos'!$L$52,'Simulador Pagos Oportunos'!$N$52))))","v":0},null,0,0,"",0,56]
[57,0,null,{"$f":"IF(B76+F76-D75<=0,B76+F76,IF(A76=$B$10,$F$10,IF(A76=$B$11,$F$11,IF(A76=$B$12,$F$12,IF(A76=$B$13,$F$13,IF(A76=$B$14,$F$14,IF(AND('Simulador Pagos Oportunos'!$AF$45=2,L75=0),D75*(1+Z76),IF($AP$3=2,B76*AN76,D75*(1+Z76)))))))))","v":0},null,0,null,0,null,null,null,null,null,{"$f":"IF(OR('Simulador Pagos Oportunos'!$U$65=1,'Simulador Pagos Oportunos'!$U$65=3),0,L76*'Simulador Pagos Oportunos'!$U$66*'Simulador Pagos Oportunos'!$V$64)","v":0},null,{"$f":"IF(B76=0,\"\",IF('Simulador Pagos Oportunos'!$W$40=3,AJ76,IF('Simulador Pagos Oportunos'!$W$40=4,AK76,IF('Simulador Pagos Oportunos'!$W$40=5,AL76,IF('Simulador Pagos Oportunos'!$W$40=6,AI76,AH76)))))","v":""},null,0,null,{"$f":"IF(B76<=0,0,B76*'Simulador Pagos Oportunos'!$Y$76)","v":0},null,{"$f":"IF(B76<=0,0,IF('Simulador Pagos Oportunos'!$W$40=3,'Simulador Pagos Oportunos'!$J$52,IF('Simulador Pagos Oportunos'!$W$40=4,'Simulador Pagos Oportunos'!$L$52,IF('Simulador Pagos Oportunos'!$W$40=5,'Simulador Pagos Oportunos'!$N$52,IF('Simulador Pagos Oportunos'!$W$40=6,'Simulador Pagos Oportunos'!$H$52)))))","v":0},null,0,null,null,null,4,9,0,0,0,0,0.126,0.1225,0.1225,0.1225,0.1225,0,0,0,0,0,0,0,{"$f":"IF(AO76=0,\"\",IF('Simulador Pagos Oportunos'!$W$40=3,AJ76,IF('Simulador Pagos Oportunos'!$W$40=4,AK76,IF('Simulador Pagos Oportunos'!$W$40=5,AL76,IF('Simulador Pagos Oportunos'!$W$40=6,AI76,AH76)))))","v":""},{"$f":"IF(AO76<=0,0,IF('Simulador Pagos Oportunos'!$Y$73=1,0,AO76*'Simulador Pagos Oportunos'!$Y$76))+IF(AO76<=0,0,IF('Simulador Pagos Oportunos'!$W$40=6,'Simulador Pagos Oportunos'!$H$52,IF('Simulador Pagos Oportunos'!$W$40=3,'Simulador Pagos Oportunos'!$J$52,IF('Simulador Pagos Oportunos'!$W$40=4,'Simulador Pagos Oportunos'!$L$52,'Simulador Pagos Oportunos'!$N$52))))","v":0},null,0,0,"",0,57]
[58,0,null,{"$f":"IF(B77+F77-D76<=0,B77+F77,IF(A77=$B$10,$F$10,IF(A77=$B$11,$F$11,IF(A77=$B$12,$F$12,IF(A77=$B$13,$F$13,IF(A77=$B$14,$F$14,IF(AND('Simulador Pagos Oportunos'!$AF$45=2,L76=0),D76*(1+Z77),IF($AP$3=2,B77*AN77,D76*(1+Z77)))))))))","v":0},null,0,null,0,null,{"$f":"IF(B77-H77=0,0,J75)","v":0},null,null,null,{"$f":"IF(OR('Simulador Pagos Oportunos'!$U$65=1,'Simulador Pagos Oportunos'!$U$65=3),0,L77*'Simulador Pagos Oportunos'!$U$66*'Simulador Pagos Oportunos'!$V$64)","v":0},null,{"$f":"IF(B77=0,\"\",IF('Simulador Pagos Oportunos'!$W$40=3,AJ77,IF('Simulador Pagos Oportunos'!$W$40=4,AK77,IF('Simulador Pagos Oportunos'!$W$40=5,AL77,IF('Simulador Pagos Oportunos'!$W$40=6,AI77,AH77)))))","v":""},null,0,null,{"$f":"IF(B77<=0,0,B77*'Simulador Pagos Oportunos'!$Y$76)","v":0},null,{"$f":"IF(B77<=0,0,IF('Simulador Pagos Oportunos'!$W$40=3,'Simulador Pagos Oportunos'!$J$52,IF('Simulador Pagos Oportunos'!$W$40=4,'Simulador Pagos Oportunos'!$L$52,IF('Simulador Pagos Oportunos'!$W$40=5,'Simulador Pagos Oportunos'!$N$52,IF('Simulador Pagos Oportunos'!$W$40=6,'Simulador Pagos Oportunos'!$H$52)))))","v":0},null,0,null,null,null,4,10,0,0,0,0,0.126,0.1225,0.1225,0.1225,0.1225,0,0,0,0,0,0,0,{"$f":"IF(AO77=0,\"\",IF('Simulador Pagos Oportunos'!$W$40=3,AJ77,IF('Simulador Pagos Oportunos'!$W$40=4,AK77,IF('Simulador Pagos Oportunos'!$W$40=5,AL77,IF('Simulador Pagos Oportunos'!$W$40=6,AI77,AH77)))))","v":""},{"$f":"IF(AO77<=0,0,IF('Simulador Pagos Oportunos'!$Y$73=1,0,AO77*'Simulador Pagos Oportunos'!$Y$76))+IF(AO77<=0,0,IF('Simulador Pagos Oportunos'!$W$40=6,'Simulador Pagos Oportunos'!$H$52,IF('Simulador Pagos Oportunos'!$W$40=3,'Simulador Pagos Oportunos'!$J$52,IF('Simulador Pagos Oportunos'!$W$40=4,'Simulador Pagos Oportunos'!$L$52,'Simulador Pagos Oportunos'!$N$52))))","v":0},null,0,0,"",0,58]
[59,0,null,{"$f":"IF(B78+F78-D77<=0,B78+F78,IF(A78=$B$10,$F$10,IF(A78=$B$11,$F$11,IF(A78=$B$12,$F$12,IF(A78=$B$13,$F$13,IF(A78=$B$14,$F$14,IF(AND('Simulador Pagos Oportunos'!$AF$45=2,L77=0),D77*(1+Z78),IF($AP$3=2,B78*AN78,D77*(1+Z78)))))))))","v":0},null,0,null,0,null,null,null,null,null,{"$f":"IF(OR('Simulador Pagos Oportunos'!$U$65=1,'Simulador Pagos Oportunos'!$U$65=3),0,L78*'Simulador Pagos Oportunos'!$U$66*'Simulador Pagos Oportunos'!$V$64)","v":0},null,{"$f":"IF(B78=0,\"\",IF('Simulador Pagos Oportunos'!$W$40=3,AJ78,IF('Simulador Pagos Oportunos'!$W$40=4,AK78,IF('Simulador Pagos Oportunos'!$W$40=5,AL78,IF('Simulador Pagos Oportunos'!$W$40=6,AI78,AH78)))))","v":""},null,0,null,{"$f":"IF(B78<=0,0,B78*'Simulador Pagos Oportunos'!$Y$76)","v":0},null,{"$f":"IF(B78<=0,0,IF('Simulador Pagos Oportunos'!$W$40=3,'Simulador Pagos Oportunos'!$J$52,IF('Simulador Pagos Oportunos'!$W$40=4,'Simulador Pagos Oportunos'!$L$52,IF('Simulador Pagos Oportunos'!$W$40=5,'Simulador Pagos Oportunos'!$N$52,IF('Simulador Pagos Oportunos'!$W$40=6,'Simulador Pagos Oportunos'!$H$52)))))","v":0},null,0,null,null,null,4,11,0,0,0,0,0.126,0.1225,0.1225,0.1225,0.1225,0,0,0,0,0,0,0,{"$f":"IF(AO78=0,\"\",IF('Simulador Pagos Oportunos'!$W$40=3,AJ78,IF('Simulador Pagos Oportunos'!$W$40=4,AK78,IF('Simulador Pagos Oportunos'!$W$40=5,AL78,IF('Simulador Pagos Oportunos'!$W$40=6,AI78,AH78)))))","v":""},{"$f":"IF(AO78<=0,0,IF('Simulador Pagos Oportunos'!$Y$73=1,0,AO78*'Simulador Pagos Oportunos'!$Y$76))+IF(AO78<=0,0,IF('Simulador Pagos Oportunos'!$W$40=6,'Simulador Pagos Oportunos'!$H$52,IF('Simulador Pagos Oportunos'!$W$40=3,'Simulador Pagos Oportunos'!$J$52,IF('Simulador Pagos Oportunos'!$W$40=4,'Simulador Pagos Oportunos'!$L$52,'Simulador Pagos Oportunos'!$N$52))))","v":0},null,0,0,"",0,59]
[60,0,null,{"$f":"IF(B79+F79-D78<=0,B79+F79,IF(A79=$B$10,$F$10,IF(A79=$B$11,$F$11,IF(A79=$B$12,$F$12,IF(A79=$B$13,$F$13,IF(A79=$B$14,$F$14,IF(AND('Simulador Pagos Oportunos'!$AF$45=2,L78=0),D78*(1+Z79),IF($AP$3=2,B79*AN79,D78*(1+Z79)))))))))","v":0},null,0,null,0,null,{"$f":"IF(B79-H79=0,0,J77)","v":0},null,null,null,{"$f":"IF(OR('Simulador Pagos Oportunos'!$U$65=1,'Simulador Pagos Oportunos'!$U$65=3),0,L79*'Simulador Pagos Oportunos'!$U$66*'Simulador Pagos Oportunos'!$V$64)","v":0},null,{"$f":"IF(B79=0,\"\",IF('Simulador Pagos Oportunos'!$W$40=3,AJ79,IF('Simulador Pagos Oportunos'!$W$40=4,AK79,IF('Simulador Pagos Oportunos'!$W$40=5,AL79,IF('Simulador Pagos Oportunos'!$W$40=6,AI79,AH79)))))","v":""},null,0,null,{"$f":"IF(B79<=0,0,B79*'Simulador Pagos Oportunos'!$Y$76)","v":0},null,{"$f":"IF(B79<=0,0,IF('Simulador Pagos Oportunos'!$W$40=3,'Simulador Pagos Oportunos'!$J$52,IF('Simulador Pagos Oportunos'!$W$40=4,'Simulador Pagos Oportunos'!$L$52,IF('Simulador Pagos Oportunos'!$W$40=5,'Simulador Pagos Oportunos'!$N$52,IF('Simulador Pagos Oportunos'!$W$40=6,'Simulador Pagos Oportunos'!$H$52)))))","v":0},null,0,null,null,null,5,0,0,0,0,0,0.126,0.1225,0.1225,0.1225,0.1225,0,0,0,0,0,0,0,{"$f":"IF(AO79=0,\"\",IF('Simulador Pagos Oportunos'!$W$40=3,AJ79,IF('Simulador Pagos Oportunos'!$W$40=4,AK79,IF('Simulador Pagos Oportunos'!$W$40=5,AL79,IF('Simulador Pagos Oportunos'!$W$40=6,AI79,AH79)))))","v":""},{"$f":"IF(AO79<=0,0,IF('Simulador Pagos Oportunos'!$Y$73=1,0,AO79*'Simulador Pagos Oportunos'!$Y$76))+IF(AO79<=0,0,IF('Simulador Pagos Oportunos'!$W$40=6,'Simulador Pagos Oportunos'!$H$52,IF('Simulador Pagos Oportunos'!$W$40=3,'Simulador Pagos Oportunos'!$J$52,IF('Simulador Pagos Oportunos'!$W$40=4,'Simulador Pagos Oportunos'!$L$52,'Simulador Pagos Oportunos'!$N$52))))","v":0},null,0,0,"",0,60]
[61,0,null,{"$f":"IF(B80+F80-D79<=0,B80+F80,IF(A80=$B$10,$F$10,IF(A80=$B$11,$F$11,IF(A80=$B$12,$F$12,IF(A80=$B$13,$F$13,IF(A80=$B$14,$F$14,IF(AND('Simulador Pagos Oportunos'!$AF$45=2,L79=0),D79*(1+Z80),IF($AP$3=2,B80*AN80,D79*(1+Z80)))))))))","v":0},null,0,null,0,null,null,null,null,null,{"$f":"IF(OR('Simulador Pagos Oportunos'!$U$65=1,'Simulador Pagos Oportunos'!$U$65=3),0,L80*'Simulador Pagos Oportunos'!$U$66*'Simulador Pagos Oportunos'!$V$64)","v":0},null,{"$f":"IF(B80=0,\"\",IF('Simulador Pagos Oportunos'!$W$40=3,AJ80,IF('Simulador Pagos Oportunos'!$W$40=4,AK80,IF('Simulador Pagos Oportunos'!$W$40=5,AL80,IF('Simulador Pagos Oportunos'!$W$40=6,AI80,AH80)))))","v":""},null,0,null,{"$f":"IF(B80<=0,0,B80*'Simulador Pagos Oportunos'!$Y$76)","v":0},null,{"$f":"IF(B80<=0,0,IF('Simulador Pagos Oportunos'!$W$40=3,'Simulador Pagos Oportunos'!$J$52,IF('Simulador Pagos Oportunos'!$W$40=4,'Simulador Pagos Oportunos'!$L$52,IF('Simulador Pagos Oportunos'!$W$40=5,'Simulador Pagos Oportunos'!$N$52,IF('Simulador Pagos Oportunos'!$W$40=6,'Simulador Pagos Oportunos'!$H$52)))))","v":0},null,0,null,{"$f":"IF(B80<=0,0,$Z$32)","v":0},null,5,1,0,0,0,0,{"$f":"IF(AH79=$AH$6,AH79,IF(AH79-0.2%<=$AH$6,$AH$6,AH79-0.2%))","v":0.124},{"$f":"AI79","v":0.1225},0.1225,0.1225,0.1225,0,0,0,0,0,0,0,{"$f":"IF(AO80=0,\"\",IF('Simulador Pagos Oportunos'!$W$40=3,AJ80,IF('Simulador Pagos Oportunos'!$W$40=4,AK80,IF('Simulador Pagos Oportunos'!$W$40=5,AL80,IF('Simulador Pagos Oportunos'!$W$40=6,AI80,AH80)))))","v":""},{"$f":"IF(AO80<=0,0,IF('Simulador Pagos Oportunos'!$Y$73=1,0,AO80*'Simulador Pagos Oportunos'!$Y$76))+IF(AO80<=0,0,IF('Simulador Pagos Oportunos'!$W$40=6,'Simulador Pagos Oportunos'!$H$52,IF('Simulador Pagos Oportunos'!$W$40=3,'Simulador Pagos Oportunos'!$J$52,IF('Simulador Pagos Oportunos'!$W$40=4,'Simulador Pagos Oportunos'!$L$52,'Simulador Pagos Oportunos'!$N$52))))","v":0},{"$f":"IF(AO80<=0,0,$AV$32)","v":0},0,0,"",0,61]
[62,0,null,{"$f":"IF(B81+F81-D80<=0,B81+F81,IF(A81=$B$10,$F$10,IF(A81=$B$11,$F$11,IF(A81=$B$12,$F$12,IF(A81=$B$13,$F$13,IF(A81=$B$14,$F$14,IF(AND('Simulador Pagos Oportunos'!$AF$45=2,L80=0),D80*(1+Z81),IF($AP$3=2,B81*AN81,D80*(1+Z81)))))))))","v":0},null,0,null,0,null,{"$f":"IF(B81-H81=0,0,J79*(1+(3%)))","v":0},null,null,null,{"$f":"IF(OR('Simulador Pagos Oportunos'!$U$65=1,'Simulador Pagos Oportunos'!$U$65=3),0,L81*'Simulador Pagos Oportunos'!$U$66*'Simulador Pagos Oportunos'!$V$64)","v":0},null,{"$f":"IF(B81=0,\"\",IF('Simulador Pagos Oportunos'!$W$40=3,AJ81,IF('Simulador Pagos Oportunos'!$W$40=4,AK81,IF('Simulador Pagos Oportunos'!$W$40=5,AL81,IF('Simulador Pagos Oportunos'!$W$40=6,AI81,AH81)))))","v":""},null,0,null,{"$f":"IF(B81<=0,0,B81*'Simulador Pagos Oportunos'!$Y$76)","v":0},null,{"$f":"IF(B81<=0,0,IF('Simulador Pagos Oportunos'!$W$40=3,'Simulador Pagos Oportunos'!$J$52,IF('Simulador Pagos Oportunos'!$W$40=4,'Simulador Pagos Oportunos'!$L$52,IF('Simulador Pagos Oportunos'!$W$40=5,'Simulador Pagos Oportunos'!$N$52,IF('Simulador Pagos Oportunos'!$W$40=6,'Simulador Pagos Oportunos'!$H$52)))))","v":0},null,0,null,null,null,5,2,0,0,0,0,{"$f":"AH80","v":0.124},0.1225,0.1225,0.1225,0.1225,0,0,0,0,0,0,0,{"$f":"IF(AO81=0,\"\",IF('Simulador Pagos Oportunos'!$W$40=3,AJ81,IF('Simulador Pagos Oportunos'!$W$40=4,AK81,IF('Simulador Pagos Oportunos'!$W$40=5,AL81,IF('Simulador Pagos Oportunos'!$W$40=6,AI81,AH81)))))","v":""},{"$f":"IF(AO81<=0,0,IF('Simulador Pagos Oportunos'!$Y$73=1,0,AO81*'Simulador Pagos Oportunos'!$Y$76))+IF(AO81<=0,0,IF('Simulador Pagos Oportunos'!$W$40=6,'Simulador Pagos Oportunos'!$H$52,IF('Simulador Pagos Oportunos'!$W$40=3,'Simulador Pagos Oportunos'!$J$52,IF('Simulador Pagos Oportunos'!$W$40=4,'Simulador Pagos Oportunos'!$L$52,'Simulador Pagos Oportunos'!$N$52))))","v":0},null,0,0,"",0,62]
[63,0,null,{"$f":"IF(B82+F82-D81<=0,B82+F82,IF(A82=$B$10,$F$10,IF(A82=$B$11,$F$11,IF(A82=$B$12,$F$12,IF(A82=$B$13,$F$13,IF(A82=$B$14,$F$14,IF(AND('Simulador Pagos Oportunos'!$AF$45=2,L81=0),D81*(1+Z82),IF($AP$3=2,B82*AN82,D81*(1+Z82)))))))))","v":0},null,0,null,0,null,null,null,null,null,{"$f":"IF(OR('Simulador Pagos Oportunos'!$U$65=1,'Simulador Pagos Oportunos'!$U$65=3),0,L82*'Simulador Pagos Oportunos'!$U$66*'Simulador Pagos Oportunos'!$V$64)","v":0},null,{"$f":"IF(B82=0,\"\",IF('Simulador Pagos Oportunos'!$W$40=3,AJ82,IF('Simulador Pagos Oportunos'!$W$40=4,AK82,IF('Simulador Pagos Oportunos'!$W$40=5,AL82,IF('Simulador Pagos Oportunos'!$W$40=6,AI82,AH82)))))","v":""},null,0,null,{"$f":"IF(B82<=0,0,B82*'Simulador Pagos Oportunos'!$Y$76)","v":0},null,{"$f":"IF(B82<=0,0,IF('Simulador Pagos Oportunos'!$W$40=3,'Simulador Pagos Oportunos'!$J$52,IF('Simulador Pagos Oportunos'!$W$40=4,'Simulador Pagos Oportunos'!$L$52,IF('Simulador Pagos Oportunos'!$W$40=5,'Simulador Pagos Oportunos'!$N$52,IF('Simulador Pagos Oportunos'!$W$40=6,'Simulador Pagos Oportunos'!$H$52)))))","v":0},null,0,null,null,null,5,3,0,0,0,0,{"$f":"AH81","v":0.124},0.1225,0.1225,0.1225,0.1225,0,0,0,0,0,0,0,{"$f":"IF(AO82=0,\"\",IF('Simulador Pagos Oportunos'!$W$40=3,AJ82,IF('Simulador Pagos Oportunos'!$W$40=4,AK82,IF('Simulador Pagos Oportunos'!$W$40=5,AL82,IF('Simulador Pagos Oportunos'!$W$40=6,AI82,AH82)))))","v":""},{"$f":"IF(AO82<=0,0,IF('Simulador Pagos Oportunos'!$Y$73=1,0,AO82*'Simulador Pagos Oportunos'!$Y$76))+IF(AO82<=0,0,IF('Simulador Pagos Oportunos'!$W$40=6,'Simulador Pagos Oportunos'!$H$52,IF('Simulador Pagos Oportunos'!$W$40=3,'Simulador Pagos Oportunos'!$J$52,IF('Simulador Pagos Oportunos'!$W$40=4,'Simulador Pagos Oportunos'!$L$52,'Simulador Pagos Oportunos'!$N$52))))","v":0},null,0,0,"",0,63]
[64,0,null,{"$f":"IF(B83+F83-D82<=0,B83+F83,IF(A83=$B$10,$F$10,IF(A83=$B$11,$F$11,IF(A83=$B$12,$F$12,IF(A83=$B$13,$F$13,IF(A83=$B$14,$F$14,IF(AND('Simulador Pagos Oportunos'!$AF$45=2,L82=0),D82*(1+Z83),IF($AP$3=2,B83*AN83,D82*(1+Z83)))))))))","v":0},null,0,null,0,null,{"$f":"IF(B83-H83=0,0,J81)","v":0},null,null,null,{"$f":"IF(OR('Simulador Pagos Oportunos'!$U$65=1,'Simulador Pagos Oportunos'!$U$65=3),0,L83*'Simulador Pagos Oportunos'!$U$66*'Simulador Pagos Oportunos'!$V$64)","v":0},null,{"$f":"IF(B83=0,\"\",IF('Simulador Pagos Oportunos'!$W$40=3,AJ83,IF('Simulador Pagos Oportunos'!$W$40=4,AK83,IF('Simulador Pagos Oportunos'!$W$40=5,AL83,IF('Simulador Pagos Oportunos'!$W$40=6,AI83,AH83)))))","v":""},null,0,null,{"$f":"IF(B83<=0,0,B83*'Simulador Pagos Oportunos'!$Y$76)","v":0},null,{"$f":"IF(B83<=0,0,IF('Simulador Pagos Oportunos'!$W$40=3,'Simulador Pagos Oportunos'!$J$52,IF('Simulador Pagos Oportunos'!$W$40=4,'Simulador Pagos Oportunos'!$L$52,IF('Simulador Pagos Oportunos'!$W$40=5,'Simulador Pagos Oportunos'!$N$52,IF('Simulador Pagos Oportunos'!$W$40=6,'Simulador Pagos Oportunos'!$H$52)))))","v":0},null,0,null,null,null,5,4,0,0,0,0,0.124,0.1225,0.1225,0.1225,0.1225,0,0,0,0,0,0,0,{"$f":"IF(AO83=0,\"\",IF('Simulador Pagos Oportunos'!$W$40=3,AJ83,IF('Simulador Pagos Oportunos'!$W$40=4,AK83,IF('Simulador Pagos Oportunos'!$W$40=5,AL83,IF('Simulador Pagos Oportunos'!$W$40=6,AI83,AH83)))))","v":""},{"$f":"IF(AO83<=0,0,IF('Simulador Pagos Oportunos'!$Y$73=1,0,AO83*'Simulador Pagos Oportunos'!$Y$76))+IF(AO83<=0,0,IF('Simulador Pagos Oportunos'!$W$40=6,'Simulador Pagos Oportunos'!$H$52,IF('Simulador Pagos Oportunos'!$W$40=3,'Simulador Pagos Oportunos'!$J$52,IF('Simulador Pagos Oportunos'!$W$40=4,'Simulador Pagos Oportunos'!$L$52,'Simulador Pagos Oportunos'!$N$52))))","v":0},null,0,0,"",0,64]
[65,0,null,{"$f":"IF(B84+F84-D83<=0,B84+F84,IF(A84=$B$10,$F$10,IF(A84=$B$11,$F$11,IF(A84=$B$12,$F$12,IF(A84=$B$13,$F$13,IF(A84=$B$14,$F$14,IF(AND('Simulador Pagos Oportunos'!$AF$45=2,L83=0),D83*(1+Z84),IF($AP$3=2,B84*AN84,D83*(1+Z84)))))))))","v":0},null,0,null,0,null,null,null,null,null,{"$f":"IF(OR('Simulador Pagos Oportunos'!$U$65=1,'Simulador Pagos Oportunos'!$U$65=3),0,L84*'Simulador Pagos Oportunos'!$U$66*'Simulador Pagos Oportunos'!$V$64)","v":0},null,{"$f":"IF(B84=0,\"\",IF('Simulador Pagos Oportunos'!$W$40=3,AJ84,IF('Simulador Pagos Oportunos'!$W$40=4,AK84,IF('Simulador Pagos Oportunos'!$W$40=5,AL84,IF('Simulador Pagos Oportunos'!$W$40=6,AI84,AH84)))))","v":""},null,0,null,{"$f":"IF(B84<=0,0,B84*'Simulador Pagos Oportunos'!$Y$76)","v":0},null,{"$f":"IF(B84<=0,0,IF('Simulador Pagos Oportunos'!$W$40=3,'Simulador Pagos Oportunos'!$J$52,IF('Simulador Pagos Oportunos'!$W$40=4,'Simulador Pagos Oportunos'!$L$52,IF('Simulador Pagos Oportunos'!$W$40=5,'Simulador Pagos Oportunos'!$N$52,IF('Simulador Pagos Oportunos'!$W$40=6,'Simulador Pagos Oportunos'!$H$52)))))","v":0},null,0,null,null,null,5,5,0,0,0,0,0.124,0.1225,0.1225,0.1225,0.1225,0,0,0,0,0,{"$f":"+AP84-AQ84","v":0},{"$f":"+AO84-AR84","v":0},{"$f":"IF(AO84=0,\"\",IF('Simulador Pagos Oportunos'!$W$40=3,AJ84,IF('Simulador Pagos Oportunos'!$W$40=4,AK84,IF('Simulador Pagos Oportunos'!$W$40=5,AL84,IF('Simulador Pagos Oportunos'!$W$40=6,AI84,AH84)))))","v":""},{"$f":"IF(AO84<=0,0,IF('Simulador Pagos Oportunos'!$Y$73=1,0,AO84*'Simulador Pagos Oportunos'!$Y$76))+IF(AO84<=0,0,IF('Simulador Pagos Oportunos'!$W$40=6,'Simulador Pagos Oportunos'!$H$52,IF('Simulador Pagos Oportunos'!$W$40=3,'Simulador Pagos Oportunos'!$J$52,IF('Simulador Pagos Oportunos'!$W$40=4,'Simulador Pagos Oportunos'!$L$52,'Simulador Pagos Oportunos'!$N$52))))","v":0},null,0,0,"",0,65]
[66,{"$f":"IF(R84<0,0,IF(A85=$B$10,R84+$D$10,IF(A85=$B$11,R84+$D$11,IF(A85=$B$12,R84+$D$12,IF(A85=$B$13,R84+$D$13,IF(A85=$B$14,R84+$D$14,R84))))))","v":0},null,{"$f":"IF(B85+F85-D84<=0,B85+F85,IF(A85=$B$10,$F$10,IF(A85=$B$11,$F$11,IF(A85=$B$12,$F$12,IF(A85=$B$13,$F$13,IF(A85=$B$14,$F$14,IF(AND('Simulador Pagos Oportunos'!$AF$45=2,L84=0),D84*(1+Z85),IF($AP$3=2,B85*AN85,D84*(1+Z85)))))))))","v":0},null,{"$f":"IF(B85=0,0,P85/360*AZ85*B85)","v":0},null,0,null,{"$f":"IF(B85-H85=0,0,J83)","v":0},null,null,null,{"$f":"IF(OR('Simulador Pagos Oportunos'!$U$65=1,'Simulador Pagos Oportunos'!$U$65=3),0,L85*'Simulador Pagos Oportunos'!$U$66*'Simulador Pagos Oportunos'!$V$64)","v":0},null,{"$f":"IF(B85=0,\"\",IF('Simulador Pagos Oportunos'!$W$40=3,AJ85,IF('Simulador Pagos Oportunos'!$W$40=4,AK85,IF('Simulador Pagos Oportunos'!$W$40=5,AL85,IF('Simulador Pagos Oportunos'!$W$40=6,AI85,AH85)))))","v":""},null,{"$f":"B85-H85-J85-L85+N85","v":0},null,{"$f":"IF(B85<=0,0,B85*'Simulador Pagos Oportunos'!$Y$76)","v":0},null,{"$f":"IF(B85<=0,0,IF('Simulador Pagos Oportunos'!$W$40=3,'Simulador Pagos Oportunos'!$J$52,IF('Simulador Pagos Oportunos'!$W$40=4,'Simulador Pagos Oportunos'!$L$52,IF('Simulador Pagos Oportunos'!$W$40=5,'Simulador Pagos Oportunos'!$N$52,IF('Simulador Pagos Oportunos'!$W$40=6,'Simulador Pagos Oportunos'!$H$52)))))","v":0},null,{"$f":"IF(B85<=0,0,D85+L85+T85+V85)","v":0},null,null,null,5,6,{"$f":"+IF(R85<=0,IF(R84>0,+A85,0),0)","v":0},{"$f":"+IF(AD85>0,+AB85,0)","v":0},{"$f":"+IF(AD85>0,+AC85,0)","v":0},{"$f":"X85","v":0},0.124,0.1225,{"$f":"AJ84","v":0.1225},{"$f":"AK84","v":0.1225},{"$f":"AL84","v":0.1225},0,{"$f":"IFERROR(AP85/AO85,0)","v":0},0,0,{"$f":"IFERROR((AT85/360*AZ85*AO85),0)","v":0},0,0,{"$f":"IF(AO85=0,\"\",IF('Simulador Pagos Oportunos'!$W$40=3,AJ85,IF('Simulador Pagos Oportunos'!$W$40=4,AK85,IF('Simulador Pagos Oportunos'!$W$40=5,AL85,IF('Simulador Pagos Oportunos'!$W$40=6,AI85,AH85)))))","v":""},{"$f":"IF(AO85<=0,0,IF('Simulador Pagos Oportunos'!$Y$73=1,0,AO85*'Simulador Pagos Oportunos'!$Y$76))+IF(AO85<=0,0,IF('Simulador Pagos Oportunos'!$W$40=6,'Simulador Pagos Oportunos'!$H$52,IF('Simulador Pagos Oportunos'!$W$40=3,'Simulador Pagos Oportunos'!$J$52,IF('Simulador Pagos Oportunos'!$W$40=4,'Simulador Pagos Oportunos'!$L$52,'Simulador Pagos Oportunos'!$N$52))))","v":0},null,{"$f":"AQ85+AR85+AU85","v":0},{"$f":"IFERROR(IF(AP85<=0.01,0,AX84-1),0)","v":0},"",{"$f":"IFERROR(DAY(DATE(YEAR(AY85),MONTH(AY85)+1,0)),0)","v":0},66]
[67,0,null,{"$f":"IF(B86+F86-D85<=0,B86+F86,IF(A86=$B$10,$F$10,IF(A86=$B$11,$F$11,IF(A86=$B$12,$F$12,IF(A86=$B$13,$F$13,IF(A86=$B$14,$F$14,IF(AND('Simulador Pagos Oportunos'!$AF$45=2,L85=0),D85*(1+Z86),IF($AP$3=2,B86*AN86,D85*(1+Z86)))))))))","v":0},null,0,null,{"$f":"D86-F86","v":0},null,null,null,null,null,{"$f":"IF(OR('Simulador Pagos Oportunos'!$U$65=1,'Simulador Pagos Oportunos'!$U$65=3),0,L86*'Simulador Pagos Oportunos'!$U$66*'Simulador Pagos Oportunos'!$V$64)","v":0},null,{"$f":"IF(B86=0,\"\",IF('Simulador Pagos Oportunos'!$W$40=3,AJ86,IF('Simulador Pagos Oportunos'!$W$40=4,AK86,IF('Simulador Pagos Oportunos'!$W$40=5,AL86,IF('Simulador Pagos Oportunos'!$W$40=6,AI86,AH86)))))","v":""},null,0,null,{"$f":"IF(B86<=0,0,B86*'Simulador Pagos Oportunos'!$Y$76)","v":0},null,{"$f":"IF(B86<=0,0,IF('Simulador Pagos Oportunos'!$W$40=3,'Simulador Pagos Oportunos'!$J$52,IF('Simulador Pagos Oportunos'!$W$40=4,'Simulador Pagos Oportunos'!$L$52,IF('Simulador Pagos Oportunos'!$W$40=5,'Simulador Pagos Oportunos'!$N$52,IF('Simulador Pagos Oportunos'!$W$40=6,'Simulador Pagos Oportunos'!$H$52)))))","v":0},null,0,null,null,null,5,7,0,0,0,0,0.124,0.1225,0.1225,0.1225,0.1225,0,0,{"$f":"IF(AS85<0,0,IF(A86=$B$10,AS85+$D$10,IF(A86=$B$11,AS85+$D$11,IF(A86=$B$12,AS85+$D$12,IF(A86=$B$13,AS85+$D$13,IF(A86=$B$14,AS85+$D$14,AS85))))))","v":0},{"$f":"IF(AO86+AQ86-AP85<=0,AO86+AQ86,IF($A86=$B$10,$F$10,IF($A86=$B$11,$F$11,IF($A86=$B$12,$F$12,IF($A86=$B$13,$F$13,IF($A86=$B$14,$F$14,AP85*(1+AV86)))))))","v":0},0,0,0,{"$f":"IF(AO86=0,\"\",IF('Simulador Pagos Oportunos'!$W$40=3,AJ86,IF('Simulador Pagos Oportunos'!$W$40=4,AK86,IF('Simulador Pagos Oportunos'!$W$40=5,AL86,IF('Simulador Pagos Oportunos'!$W$40=6,AI86,AH86)))))","v":""},{"$f":"IF(AO86<=0,0,IF('Simulador Pagos Oportunos'!$Y$73=1,0,AO86*'Simulador Pagos Oportunos'!$Y$76))+IF(AO86<=0,0,IF('Simulador Pagos Oportunos'!$W$40=6,'Simulador Pagos Oportunos'!$H$52,IF('Simulador Pagos Oportunos'!$W$40=3,'Simulador Pagos Oportunos'!$J$52,IF('Simulador Pagos Oportunos'!$W$40=4,'Simulador Pagos Oportunos'!$L$52,'Simulador Pagos Oportunos'!$N$52))))","v":0},null,0,0,{"$f":"IF(AO86=0,\"\",DATE(YEAR(AY85),MONTH(AY85)+1,1))","v":""},0,67]
[68,0,null,{"$f":"IF(B87+F87-D86<=0,B87+F87,IF(A87=$B$10,$F$10,IF(A87=$B$11,$F$11,IF(A87=$B$12,$F$12,IF(A87=$B$13,$F$13,IF(A87=$B$14,$F$14,IF(AND('Simulador Pagos Oportunos'!$AF$45=2,L86=0),D86*(1+Z87),IF($AP$3=2,B87*AN87,D86*(1+Z87)))))))))","v":0},null,0,null,0,null,{"$f":"IF(B87-H87=0,0,J85)","v":0},null,null,null,{"$f":"IF(OR('Simulador Pagos Oportunos'!$U$65=1,'Simulador Pagos Oportunos'!$U$65=3),0,L87*'Simulador Pagos Oportunos'!$U$66*'Simulador Pagos Oportunos'!$V$64)","v":0},null,{"$f":"IF(B87=0,\"\",IF('Simulador Pagos Oportunos'!$W$40=3,AJ87,IF('Simulador Pagos Oportunos'!$W$40=4,AK87,IF('Simulador Pagos Oportunos'!$W$40=5,AL87,IF('Simulador Pagos Oportunos'!$W$40=6,AI87,AH87)))))","v":""},null,0,null,{"$f":"IF(B87<=0,0,B87*'Simulador Pagos Oportunos'!$Y$76)","v":0},null,{"$f":"IF(B87<=0,0,IF('Simulador Pagos Oportunos'!$W$40=3,'Simulador Pagos Oportunos'!$J$52,IF('Simulador Pagos Oportunos'!$W$40=4,'Simulador Pagos Oportunos'!$L$52,IF('Simulador Pagos Oportunos'!$W$40=5,'Simulador Pagos Oportunos'!$N$52,IF('Simulador Pagos Oportunos'!$W$40=6,'Simulador Pagos Oportunos'!$H$52)))))","v":0},null,0,null,null,null,5,8,0,0,0,0,0.124,0.1225,0.1225,0.1225,0.1225,0,0,0,0,0,0,0,{"$f":"IF(AO87=0,\"\",IF('Simulador Pagos Oportunos'!$W$40=3,AJ87,IF('Simulador Pagos Oportunos'!$W$40=4,AK87,IF('Simulador Pagos Oportunos'!$W$40=5,AL87,IF('Simulador Pagos Oportunos'!$W$40=6,AI87,AH87)))))","v":""},{"$f":"IF(AO87<=0,0,IF('Simulador Pagos Oportunos'!$Y$73=1,0,AO87*'Simulador Pagos Oportunos'!$Y$76))+IF(AO87<=0,0,IF('Simulador Pagos Oportunos'!$W$40=6,'Simulador Pagos Oportunos'!$H$52,IF('Simulador Pagos Oportunos'!$W$40=3,'Simulador Pagos Oportunos'!$J$52,IF('Simulador Pagos Oportunos'!$W$40=4,'Simulador Pagos Oportunos'!$L$52,'Simulador Pagos Oportunos'!$N$52))))","v":0},null,0,0,"",0,68]
[69,0,null,{"$f":"IF(B88+F88-D87<=0,B88+F88,IF(A88=$B$10,$F$10,IF(A88=$B$11,$F$11,IF(A88=$B$12,$F$12,IF(A88=$B$13,$F$13,IF(A88=$B$14,$F$14,IF(AND('Simulador Pagos Oportunos'!$AF$45=2,L87=0),D87*(1+Z88),IF($AP$3=2,B88*AN88,D87*(1+Z88)))))))))","v":0},null,0,null,0,null,null,null,null,null,{"$f":"IF(OR('Simulador Pagos Oportunos'!$U$65=1,'Simulador Pagos Oportunos'!$U$65=3),0,L88*'Simulador Pagos Oportunos'!$U$66*'Simulador Pagos Oportunos'!$V$64)","v":0},null,{"$f":"IF(B88=0,\"\",IF('Simulador Pagos Oportunos'!$W$40=3,AJ88,IF('Simulador Pagos Oportunos'!$W$40=4,AK88,IF('Simulador Pagos Oportunos'!$W$40=5,AL88,IF('Simulador Pagos Oportunos'!$W$40=6,AI88,AH88)))))","v":""},null,0,null,{"$f":"IF(B88<=0,0,B88*'Simulador Pagos Oportunos'!$Y$76)","v":0},null,{"$f":"IF(B88<=0,0,IF('Simulador Pagos Oportunos'!$W$40=3,'Simulador Pagos Oportunos'!$J$52,IF('Simulador Pagos Oportunos'!$W$40=4,'Simulador Pagos Oportunos'!$L$52,IF('Simulador Pagos Oportunos'!$W$40=5,'Simulador Pagos Oportunos'!$N$52,IF('Simulador Pagos Oportunos'!$W$40=6,'Simulador Pagos Oportunos'!$H$52)))))","v":0},null,0,null,null,null,5,9,0,0,0,0,0.124,0.1225,0.1225,0.1225,0.1225,0,0,0,0,0,0,0,{"$f":"IF(AO88=0,\"\",IF('Simulador Pagos Oportunos'!$W$40=3,AJ88,IF('Simulador Pagos Oportunos'!$W$40=4,AK88,IF('Simulador Pagos Oportunos'!$W$40=5,AL88,IF('Simulador Pagos Oportunos'!$W$40=6,AI88,AH88)))))","v":""},{"$f":"IF(AO88<=0,0,IF('Simulador Pagos Oportunos'!$Y$73=1,0,AO88*'Simulador Pagos Oportunos'!$Y$76))+IF(AO88<=0,0,IF('Simulador Pagos Oportunos'!$W$40=6,'Simulador Pagos Oportunos'!$H$52,IF('Simulador Pagos Oportunos'!$W$40=3,'Simulador Pagos Oportunos'!$J$52,IF('Simulador Pagos Oportunos'!$W$40=4,'Simulador Pagos Oportunos'!$L$52,'Simulador Pagos Oportunos'!$N$52))))","v":0},null,0,0,"",0,69]
[70,0,null,{"$f":"IF(B89+F89-D88<=0,B89+F89,IF(A89=$B$10,$F$10,IF(A89=$B$11,$F$11,IF(A89=$B$12,$F$12,IF(A89=$B$13,$F$13,IF(A89=$B$14,$F$14,IF(AND('Simulador Pagos Oportunos'!$AF$45=2,L88=0),D88*(1+Z89),IF($AP$3=2,B89*AN89,D88*(1+Z89)))))))))","v":0},null,0,null,0,null,{"$f":"IF(B89-H89=0,0,J87)","v":0},null,null,null,{"$f":"IF(OR('Simulador Pagos Oportunos'!$U$65=1,'Simulador Pagos Oportunos'!$U$65=3),0,L89*'Simulador Pagos Oportunos'!$U$66*'Simulador Pagos Oportunos'!$V$64)","v":0},null,{"$f":"IF(B89=0,\"\",IF('Simulador Pagos Oportunos'!$W$40=3,AJ89,IF('Simulador Pagos Oportunos'!$W$40=4,AK89,IF('Simulador Pagos Oportunos'!$W$40=5,AL89,IF('Simulador Pagos Oportunos'!$W$40=6,AI89,AH89)))))","v":""},null,0,null,{"$f":"IF(B89<=0,0,B89*'Simulador Pagos Oportunos'!$Y$76)","v":0},null,{"$f":"IF(B89<=0,0,IF('Simulador Pagos Oportunos'!$W$40=3,'Simulador Pagos Oportunos'!$J$52,IF('Simulador Pagos Oportunos'!$W$40=4,'Simulador Pagos Oportunos'!$L$52,IF('Simulador Pagos Oportunos'!$W$40=5,'Simulador Pagos Oportunos'!$N$52,IF('Simulador Pagos Oportunos'!$W$40=6,'Simulador Pagos Oportunos'!$H$52)))))","v":0},null,0,null,null,null,5,10,0,0,0,0,0.124,0.1225,0.1225,0.1225,0.1225,0,0,0,0,0,0,0,{"$f":"IF(AO89=0,\"\",IF('Simulador Pagos Oportunos'!$W$40=3,AJ89,IF('Simulador Pagos Oportunos'!$W$40=4,AK89,IF('Simulador Pagos Oportunos'!$W$40=5,AL89,IF('Simulador Pagos Oportunos'!$W$40=6,AI89,AH89)))))","v":""},{"$f":"IF(AO89<=0,0,IF('Simulador Pagos Oportunos'!$Y$73=1,0,AO89*'Simulador Pagos Oportunos'!$Y$76))+IF(AO89<=0,0,IF('Simulador Pagos Oportunos'!$W$40=6,'Simulador Pagos Oportunos'!$H$52,IF('Simulador Pagos Oportunos'!$W$40=3,'Simulador Pagos Oportunos'!$J$52,IF('Simulador Pagos Oportunos'!$W$40=4,'Simulador Pagos Oportunos'!$L$52,'Simulador Pagos Oportunos'!$N$52))))","v":0},null,0,0,"",0,70]
[71,0,null,{"$f":"IF(B90+F90-D89<=0,B90+F90,IF(A90=$B$10,$F$10,IF(A90=$B$11,$F$11,IF(A90=$B$12,$F$12,IF(A90=$B$13,$F$13,IF(A90=$B$14,$F$14,IF(AND('Simulador Pagos Oportunos'!$AF$45=2,L89=0),D89*(1+Z90),IF($AP$3=2,B90*AN90,D89*(1+Z90)))))))))","v":0},null,0,null,0,null,null,null,null,null,{"$f":"IF(OR('Simulador Pagos Oportunos'!$U$65=1,'Simulador Pagos Oportunos'!$U$65=3),0,L90*'Simulador Pagos Oportunos'!$U$66*'Simulador Pagos Oportunos'!$V$64)","v":0},null,{"$f":"IF(B90=0,\"\",IF('Simulador Pagos Oportunos'!$W$40=3,AJ90,IF('Simulador Pagos Oportunos'!$W$40=4,AK90,IF('Simulador Pagos Oportunos'!$W$40=5,AL90,IF('Simulador Pagos Oportunos'!$W$40=6,AI90,AH90)))))","v":""},null,0,null,{"$f":"IF(B90<=0,0,B90*'Simulador Pagos Oportunos'!$Y$76)","v":0},null,{"$f":"IF(B90<=0,0,IF('Simulador Pagos Oportunos'!$W$40=3,'Simulador Pagos Oportunos'!$J$52,IF('Simulador Pagos Oportunos'!$W$40=4,'Simulador Pagos Oportunos'!$L$52,IF('Simulador Pagos Oportunos'!$W$40=5,'Simulador Pagos Oportunos'!$N$52,IF('Simulador Pagos Oportunos'!$W$40=6,'Simulador Pagos Oportunos'!$H$52)))))","v":0},null,0,null,null,null,5,11,0,0,0,0,0.124,0.1225,0.1225,0.1225,0.1225,0,0,0,0,0,0,0,{"$f":"IF(AO90=0,\"\",IF('Simulador Pagos Oportunos'!$W$40=3,AJ90,IF('Simulador Pagos Oportunos'!$W$40=4,AK90,IF('Simulador Pagos Oportunos'!$W$40=5,AL90,IF('Simulador Pagos Oportunos'!$W$40=6,AI90,AH90)))))","v":""},{"$f":"IF(AO90<=0,0,IF('Simulador Pagos Oportunos'!$Y$73=1,0,AO90*'Simulador Pagos Oportunos'!$Y$76))+IF(AO90<=0,0,IF('Simulador Pagos Oportunos'!$W$40=6,'Simulador Pagos Oportunos'!$H$52,IF('Simulador Pagos Oportunos'!$W$40=3,'Simulador Pagos Oportunos'!$J$52,IF('Simulador Pagos Oportunos'!$W$40=4,'Simulador Pagos Oportunos'!$L$52,'Simulador Pagos Oportunos'!$N$52))))","v":0},null,0,0,"",0,71]
[72,0,null,{"$f":"IF(B91+F91-D90<=0,B91+F91,IF(A91=$B$10,$F$10,IF(A91=$B$11,$F$11,IF(A91=$B$12,$F$12,IF(A91=$B$13,$F$13,IF(A91=$B$14,$F$14,IF(AND('Simulador Pagos Oportunos'!$AF$45=2,L90=0),D90*(1+Z91),IF($AP$3=2,B91*AN91,D90*(1+Z91)))))))))","v":0},null,0,null,0,null,{"$f":"IF(B91-H91=0,0,J89)","v":0},null,null,null,{"$f":"IF(OR('Simulador Pagos Oportunos'!$U$65=1,'Simulador Pagos Oportunos'!$U$65=3),0,L91*'Simulador Pagos Oportunos'!$U$66*'Simulador Pagos Oportunos'!$V$64)","v":0},null,{"$f":"IF(B91=0,\"\",IF('Simulador Pagos Oportunos'!$W$40=3,AJ91,IF('Simulador Pagos Oportunos'!$W$40=4,AK91,IF('Simulador Pagos Oportunos'!$W$40=5,AL91,IF('Simulador Pagos Oportunos'!$W$40=6,AI91,AH91)))))","v":""},null,0,null,{"$f":"IF(B91<=0,0,B91*'Simulador Pagos Oportunos'!$Y$76)","v":0},null,{"$f":"IF(B91<=0,0,IF('Simulador Pagos Oportunos'!$W$40=3,'Simulador Pagos Oportunos'!$J$52,IF('Simulador Pagos Oportunos'!$W$40=4,'Simulador Pagos Oportunos'!$L$52,IF('Simulador Pagos Oportunos'!$W$40=5,'Simulador Pagos Oportunos'!$N$52,IF('Simulador Pagos Oportunos'!$W$40=6,'Simulador Pagos Oportunos'!$H$52)))))","v":0},null,0,null,null,null,6,0,0,0,0,0,0.124,0.1225,0.1225,0.1225,0.1225,0,0,0,0,0,0,0,{"$f":"IF(AO91=0,\"\",IF('Simulador Pagos Oportunos'!$W$40=3,AJ91,IF('Simulador Pagos Oportunos'!$W$40=4,AK91,IF('Simulador Pagos Oportunos'!$W$40=5,AL91,IF('Simulador Pagos Oportunos'!$W$40=6,AI91,AH91)))))","v":""},{"$f":"IF(AO91<=0,0,IF('Simulador Pagos Oportunos'!$Y$73=1,0,AO91*'Simulador Pagos Oportunos'!$Y$76))+IF(AO91<=0,0,IF('Simulador Pagos Oportunos'!$W$40=6,'Simulador Pagos Oportunos'!$H$52,IF('Simulador Pagos Oportunos'!$W$40=3,'Simulador Pagos Oportunos'!$J$52,IF('Simulador Pagos Oportunos'!$W$40=4,'Simulador Pagos Oportunos'!$L$52,'Simulador Pagos Oportunos'!$N$52))))","v":0},null,0,0,"",0,72]
[73,0,null,{"$f":"IF(B92+F92-D91<=0,B92+F92,IF(A92=$B$10,$F$10,IF(A92=$B$11,$F$11,IF(A92=$B$12,$F$12,IF(A92=$B$13,$F$13,IF(A92=$B$14,$F$14,IF(AND('Simulador Pagos Oportunos'!$AF$45=2,L91=0),D91*(1+Z92),IF($AP$3=2,B92*AN92,D91*(1+Z92)))))))))","v":0},null,0,null,0,null,null,null,null,null,{"$f":"IF(OR('Simulador Pagos Oportunos'!$U$65=1,'Simulador Pagos Oportunos'!$U$65=3),0,L92*'Simulador Pagos Oportunos'!$U$66*'Simulador Pagos Oportunos'!$V$64)","v":0},null,{"$f":"IF(B92=0,\"\",IF('Simulador Pagos Oportunos'!$W$40=3,AJ92,IF('Simulador Pagos Oportunos'!$W$40=4,AK92,IF('Simulador Pagos Oportunos'!$W$40=5,AL92,IF('Simulador Pagos Oportunos'!$W$40=6,AI92,AH92)))))","v":""},null,0,null,{"$f":"IF(B92<=0,0,B92*'Simulador Pagos Oportunos'!$Y$76)","v":0},null,{"$f":"IF(B92<=0,0,IF('Simulador Pagos Oportunos'!$W$40=3,'Simulador Pagos Oportunos'!$J$52,IF('Simulador Pagos Oportunos'!$W$40=4,'Simulador Pagos Oportunos'!$L$52,IF('Simulador Pagos Oportunos'!$W$40=5,'Simulador Pagos Oportunos'!$N$52,IF('Simulador Pagos Oportunos'!$W$40=6,'Simulador Pagos Oportunos'!$H$52)))))","v":0},null,0,null,{"$f":"IF(B92<=0,0,$Z$32)","v":0},null,6,1,0,0,0,0,{"$f":"IF(AH91=$AH$6,AH91,IF(AH91-0.25%<=$AH$6,$AH$6,AH91-0.25%))","v":0.1215},0.1225,0.1225,0.1225,0.1225,0,0,0,0,0,0,0,{"$f":"IF(AO92=0,\"\",IF('Simulador Pagos Oportunos'!$W$40=3,AJ92,IF('Simulador Pagos Oportunos'!$W$40=4,AK92,IF('Simulador Pagos Oportunos'!$W$40=5,AL92,IF('Simulador Pagos Oportunos'!$W$40=6,AI92,AH92)))))","v":""},{"$f":"IF(AO92<=0,0,IF('Simulador Pagos Oportunos'!$Y$73=1,0,AO92*'Simulador Pagos Oportunos'!$Y$76))+IF(AO92<=0,0,IF('Simulador Pagos Oportunos'!$W$40=6,'Simulador Pagos Oportunos'!$H$52,IF('Simulador Pagos Oportunos'!$W$40=3,'Simulador Pagos Oportunos'!$J$52,IF('Simulador Pagos Oportunos'!$W$40=4,'Simulador Pagos Oportunos'!$L$52,'Simulador Pagos Oportunos'!$N$52))))","v":0},{"$f":"IF(AO92<=0,0,$AV$32)","v":0},0,0,"",0,73]
[74,0,null,{"$f":"IF(B93+F93-D92<=0,B93+F93,IF(A93=$B$10,$F$10,IF(A93=$B$11,$F$11,IF(A93=$B$12,$F$12,IF(A93=$B$13,$F$13,IF(A93=$B$14,$F$14,IF(AND('Simulador Pagos Oportunos'!$AF$45=2,L92=0),D92*(1+Z93),IF($AP$3=2,B93*AN93,D92*(1+Z93)))))))))","v":0},null,0,null,0,null,{"$f":"IF(B93-H93=0,0,J91*(1+(3%)))","v":0},null,null,null,{"$f":"IF(OR('Simulador Pagos Oportunos'!$U$65=1,'Simulador Pagos Oportunos'!$U$65=3),0,L93*'Simulador Pagos Oportunos'!$U$66*'Simulador Pagos Oportunos'!$V$64)","v":0},null,{"$f":"IF(B93=0,\"\",IF('Simulador Pagos Oportunos'!$W$40=3,AJ93,IF('Simulador Pagos Oportunos'!$W$40=4,AK93,IF('Simulador Pagos Oportunos'!$W$40=5,AL93,IF('Simulador Pagos Oportunos'!$W$40=6,AI93,AH93)))))","v":""},null,0,null,{"$f":"IF(B93<=0,0,B93*'Simulador Pagos Oportunos'!$Y$76)","v":0},null,{"$f":"IF(B93<=0,0,IF('Simulador Pagos Oportunos'!$W$40=3,'Simulador Pagos Oportunos'!$J$52,IF('Simulador Pagos Oportunos'!$W$40=4,'Simulador Pagos Oportunos'!$L$52,IF('Simulador Pagos Oportunos'!$W$40=5,'Simulador Pagos Oportunos'!$N$52,IF('Simulador Pagos Oportunos'!$W$40=6,'Simulador Pagos Oportunos'!$H$52)))))","v":0},null,0,null,null,null,6,2,0,0,0,0,{"$f":"AH92","v":0.1215},0.1225,0.1225,0.1225,0.1225,0,0,0,0,0,0,0,{"$f":"IF(AO93=0,\"\",IF('Simulador Pagos Oportunos'!$W$40=3,AJ93,IF('Simulador Pagos Oportunos'!$W$40=4,AK93,IF('Simulador Pagos Oportunos'!$W$40=5,AL93,IF('Simulador Pagos Oportunos'!$W$40=6,AI93,AH93)))))","v":""},{"$f":"IF(AO93<=0,0,IF('Simulador Pagos Oportunos'!$Y$73=1,0,AO93*'Simulador Pagos Oportunos'!$Y$76))+IF(AO93<=0,0,IF('Simulador Pagos Oportunos'!$W$40=6,'Simulador Pagos Oportunos'!$H$52,IF('Simulador Pagos Oportunos'!$W$40=3,'Simulador Pagos Oportunos'!$J$52,IF('Simulador Pagos Oportunos'!$W$40=4,'Simulador Pagos Oportunos'!$L$52,'Simulador Pagos Oportunos'!$N$52))))","v":0},null,0,0,"",0,74]
[75,0,null,{"$f":"IF(B94+F94-D93<=0,B94+F94,IF(A94=$B$10,$F$10,IF(A94=$B$11,$F$11,IF(A94=$B$12,$F$12,IF(A94=$B$13,$F$13,IF(A94=$B$14,$F$14,IF(AND('Simulador Pagos Oportunos'!$AF$45=2,L93=0),D93*(1+Z94),IF($AP$3=2,B94*AN94,D93*(1+Z94)))))))))","v":0},null,0,null,0,null,null,null,null,null,{"$f":"IF(OR('Simulador Pagos Oportunos'!$U$65=1,'Simulador Pagos Oportunos'!$U$65=3),0,L94*'Simulador Pagos Oportunos'!$U$66*'Simulador Pagos Oportunos'!$V$64)","v":0},null,{"$f":"IF(B94=0,\"\",IF('Simulador Pagos Oportunos'!$W$40=3,AJ94,IF('Simulador Pagos Oportunos'!$W$40=4,AK94,IF('Simulador Pagos Oportunos'!$W$40=5,AL94,IF('Simulador Pagos Oportunos'!$W$40=6,AI94,AH94)))))","v":""},null,0,null,{"$f":"IF(B94<=0,0,B94*'Simulador Pagos Oportunos'!$Y$76)","v":0},null,{"$f":"IF(B94<=0,0,IF('Simulador Pagos Oportunos'!$W$40=3,'Simulador Pagos Oportunos'!$J$52,IF('Simulador Pagos Oportunos'!$W$40=4,'Simulador Pagos Oportunos'!$L$52,IF('Simulador Pagos Oportunos'!$W$40=5,'Simulador Pagos Oportunos'!$N$52,IF('Simulador Pagos Oportunos'!$W$40=6,'Simulador Pagos Oportunos'!$H$52)))))","v":0},null,0,null,null,null,6,3,0,0,0,0,{"$f":"AH93","v":0.1215},0.1225,0.1225,0.1225,0.1225,0,0,0,0,0,0,0,{"$f":"IF(AO94=0,\"\",IF('Simulador Pagos Oportunos'!$W$40=3,AJ94,IF('Simulador Pagos Oportunos'!$W$40=4,AK94,IF('Simulador Pagos Oportunos'!$W$40=5,AL94,IF('Simulador Pagos Oportunos'!$W$40=6,AI94,AH94)))))","v":""},{"$f":"IF(AO94<=0,0,IF('Simulador Pagos Oportunos'!$Y$73=1,0,AO94*'Simulador Pagos Oportunos'!$Y$76))+IF(AO94<=0,0,IF('Simulador Pagos Oportunos'!$W$40=6,'Simulador Pagos Oportunos'!$H$52,IF('Simulador Pagos Oportunos'!$W$40=3,'Simulador Pagos Oportunos'!$J$52,IF('Simulador Pagos Oportunos'!$W$40=4,'Simulador Pagos Oportunos'!$L$52,'Simulador Pagos Oportunos'!$N$52))))","v":0},null,0,0,"",0,75]
[76,0,null,{"$f":"IF(B95+F95-D94<=0,B95+F95,IF(A95=$B$10,$F$10,IF(A95=$B$11,$F$11,IF(A95=$B$12,$F$12,IF(A95=$B$13,$F$13,IF(A95=$B$14,$F$14,IF(AND('Simulador Pagos Oportunos'!$AF$45=2,L94=0),D94*(1+Z95),IF($AP$3=2,B95*AN95,D94*(1+Z95)))))))))","v":0},null,0,null,0,null,{"$f":"IF(B95-H95=0,0,J93)","v":0},null,null,null,{"$f":"IF(OR('Simulador Pagos Oportunos'!$U$65=1,'Simulador Pagos Oportunos'!$U$65=3),0,L95*'Simulador Pagos Oportunos'!$U$66*'Simulador Pagos Oportunos'!$V$64)","v":0},null,{"$f":"IF(B95=0,\"\",IF('Simulador Pagos Oportunos'!$W$40=3,AJ95,IF('Simulador Pagos Oportunos'!$W$40=4,AK95,IF('Simulador Pagos Oportunos'!$W$40=5,AL95,IF('Simulador Pagos Oportunos'!$W$40=6,AI95,AH95)))))","v":""},null,0,null,{"$f":"IF(B95<=0,0,B95*'Simulador Pagos Oportunos'!$Y$76)","v":0},null,{"$f":"IF(B95<=0,0,IF('Simulador Pagos Oportunos'!$W$40=3,'Simulador Pagos Oportunos'!$J$52,IF('Simulador Pagos Oportunos'!$W$40=4,'Simulador Pagos Oportunos'!$L$52,IF('Simulador Pagos Oportunos'!$W$40=5,'Simulador Pagos Oportunos'!$N$52,IF('Simulador Pagos Oportunos'!$W$40=6,'Simulador Pagos Oportunos'!$H$52)))))","v":0},null,0,null,null,null,6,4,0,0,0,0,0.1215,0.1225,0.1225,0.1225,0.1225,0,0,0,0,0,0,0,{"$f":"IF(AO95=0,\"\",IF('Simulador Pagos Oportunos'!$W$40=3,AJ95,IF('Simulador Pagos Oportunos'!$W$40=4,AK95,IF('Simulador Pagos Oportunos'!$W$40=5,AL95,IF('Simulador Pagos Oportunos'!$W$40=6,AI95,AH95)))))","v":""},{"$f":"IF(AO95<=0,0,IF('Simulador Pagos Oportunos'!$Y$73=1,0,AO95*'Simulador Pagos Oportunos'!$Y$76))+IF(AO95<=0,0,IF('Simulador Pagos Oportunos'!$W$40=6,'Simulador Pagos Oportunos'!$H$52,IF('Simulador Pagos Oportunos'!$W$40=3,'Simulador Pagos Oportunos'!$J$52,IF('Simulador Pagos Oportunos'!$W$40=4,'Simulador Pagos Oportunos'!$L$52,'Simulador Pagos Oportunos'!$N$52))))","v":0},null,0,0,"",0,76]
[77,0,null,{"$f":"IF(B96+F96-D95<=0,B96+F96,IF(A96=$B$10,$F$10,IF(A96=$B$11,$F$11,IF(A96=$B$12,$F$12,IF(A96=$B$13,$F$13,IF(A96=$B$14,$F$14,IF(AND('Simulador Pagos Oportunos'!$AF$45=2,L95=0),D95*(1+Z96),IF($AP$3=2,B96*AN96,D95*(1+Z96)))))))))","v":0},null,0,null,0,null,null,null,null,null,{"$f":"IF(OR('Simulador Pagos Oportunos'!$U$65=1,'Simulador Pagos Oportunos'!$U$65=3),0,L96*'Simulador Pagos Oportunos'!$U$66*'Simulador Pagos Oportunos'!$V$64)","v":0},null,{"$f":"IF(B96=0,\"\",IF('Simulador Pagos Oportunos'!$W$40=3,AJ96,IF('Simulador Pagos Oportunos'!$W$40=4,AK96,IF('Simulador Pagos Oportunos'!$W$40=5,AL96,IF('Simulador Pagos Oportunos'!$W$40=6,AI96,AH96)))))","v":""},null,0,null,{"$f":"IF(B96<=0,0,B96*'Simulador Pagos Oportunos'!$Y$76)","v":0},null,{"$f":"IF(B96<=0,0,IF('Simulador Pagos Oportunos'!$W$40=3,'Simulador Pagos Oportunos'!$J$52,IF('Simulador Pagos Oportunos'!$W$40=4,'Simulador Pagos Oportunos'!$L$52,IF('Simulador Pagos Oportunos'!$W$40=5,'Simulador Pagos Oportunos'!$N$52,IF('Simulador Pagos Oportunos'!$W$40=6,'Simulador Pagos Oportunos'!$H$52)))))","v":0},null,0,null,null,null,6,5,0,0,0,0,0.1215,0.1225,0.1225,0.1225,0.1225,0,0,0,0,0,0,0,{"$f":"IF(AO96=0,\"\",IF('Simulador Pagos Oportunos'!$W$40=3,AJ96,IF('Simulador Pagos Oportunos'!$W$40=4,AK96,IF('Simulador Pagos Oportunos'!$W$40=5,AL96,IF('Simulador Pagos Oportunos'!$W$40=6,AI96,AH96)))))","v":""},{"$f":"IF(AO96<=0,0,IF('Simulador Pagos Oportunos'!$Y$73=1,0,AO96*'Simulador Pagos Oportunos'!$Y$76))+IF(AO96<=0,0,IF('Simulador Pagos Oportunos'!$W$40=6,'Simulador Pagos Oportunos'!$H$52,IF('Simulador Pagos Oportunos'!$W$40=3,'Simulador Pagos Oportunos'!$J$52,IF('Simulador Pagos Oportunos'!$W$40=4,'Simulador Pagos Oportunos'!$L$52,'Simulador Pagos Oportunos'!$N$52))))","v":0},null,0,0,"",0,77]
[78,0,null,{"$f":"IF(B97+F97-D96<=0,B97+F97,IF(A97=$B$10,$F$10,IF(A97=$B$11,$F$11,IF(A97=$B$12,$F$12,IF(A97=$B$13,$F$13,IF(A97=$B$14,$F$14,IF(AND('Simulador Pagos Oportunos'!$AF$45=2,L96=0),D96*(1+Z97),IF($AP$3=2,B97*AN97,D96*(1+Z97)))))))))","v":0},null,0,null,0,null,{"$f":"IF(B97-H97=0,0,J95)","v":0},null,null,null,{"$f":"IF(OR('Simulador Pagos Oportunos'!$U$65=1,'Simulador Pagos Oportunos'!$U$65=3),0,L97*'Simulador Pagos Oportunos'!$U$66*'Simulador Pagos Oportunos'!$V$64)","v":0},null,{"$f":"IF(B97=0,\"\",IF('Simulador Pagos Oportunos'!$W$40=3,AJ97,IF('Simulador Pagos Oportunos'!$W$40=4,AK97,IF('Simulador Pagos Oportunos'!$W$40=5,AL97,IF('Simulador Pagos Oportunos'!$W$40=6,AI97,AH97)))))","v":""},null,0,null,{"$f":"IF(B97<=0,0,B97*'Simulador Pagos Oportunos'!$Y$76)","v":0},null,{"$f":"IF(B97<=0,0,IF('Simulador Pagos Oportunos'!$W$40=3,'Simulador Pagos Oportunos'!$J$52,IF('Simulador Pagos Oportunos'!$W$40=4,'Simulador Pagos Oportunos'!$L$52,IF('Simulador Pagos Oportunos'!$W$40=5,'Simulador Pagos Oportunos'!$N$52,IF('Simulador Pagos Oportunos'!$W$40=6,'Simulador Pagos Oportunos'!$H$52)))))","v":0},null,0,null,null,null,6,6,0,0,0,0,0.1215,0.1225,0.1225,0.1225,0.1225,0,0,0,0,0,0,0,{"$f":"IF(AO97=0,\"\",IF('Simulador Pagos Oportunos'!$W$40=3,AJ97,IF('Simulador Pagos Oportunos'!$W$40=4,AK97,IF('Simulador Pagos Oportunos'!$W$40=5,AL97,IF('Simulador Pagos Oportunos'!$W$40=6,AI97,AH97)))))","v":""},{"$f":"IF(AO97<=0,0,IF('Simulador Pagos Oportunos'!$Y$73=1,0,AO97*'Simulador Pagos Oportunos'!$Y$76))+IF(AO97<=0,0,IF('Simulador Pagos Oportunos'!$W$40=6,'Simulador Pagos Oportunos'!$H$52,IF('Simulador Pagos Oportunos'!$W$40=3,'Simulador Pagos Oportunos'!$J$52,IF('Simulador Pagos Oportunos'!$W$40=4,'Simulador Pagos Oportunos'!$L$52,'Simulador Pagos Oportunos'!$N$52))))","v":0},null,0,0,"",0,78]
[79,0,null,{"$f":"IF(B98+F98-D97<=0,B98+F98,IF(A98=$B$10,$F$10,IF(A98=$B$11,$F$11,IF(A98=$B$12,$F$12,IF(A98=$B$13,$F$13,IF(A98=$B$14,$F$14,IF(AND('Simulador Pagos Oportunos'!$AF$45=2,L97=0),D97*(1+Z98),IF($AP$3=2,B98*AN98,D97*(1+Z98)))))))))","v":0},null,0,null,0,null,null,null,null,null,{"$f":"IF(OR('Simulador Pagos Oportunos'!$U$65=1,'Simulador Pagos Oportunos'!$U$65=3),0,L98*'Simulador Pagos Oportunos'!$U$66*'Simulador Pagos Oportunos'!$V$64)","v":0},null,{"$f":"IF(B98=0,\"\",IF('Simulador Pagos Oportunos'!$W$40=3,AJ98,IF('Simulador Pagos Oportunos'!$W$40=4,AK98,IF('Simulador Pagos Oportunos'!$W$40=5,AL98,IF('Simulador Pagos Oportunos'!$W$40=6,AI98,AH98)))))","v":""},null,0,null,{"$f":"IF(B98<=0,0,B98*'Simulador Pagos Oportunos'!$Y$76)","v":0},null,{"$f":"IF(B98<=0,0,IF('Simulador Pagos Oportunos'!$W$40=3,'Simulador Pagos Oportunos'!$J$52,IF('Simulador Pagos Oportunos'!$W$40=4,'Simulador Pagos Oportunos'!$L$52,IF('Simulador Pagos Oportunos'!$W$40=5,'Simulador Pagos Oportunos'!$N$52,IF('Simulador Pagos Oportunos'!$W$40=6,'Simulador Pagos Oportunos'!$H$52)))))","v":0},null,0,null,null,null,6,7,0,0,0,0,0.1215,0.1225,0.1225,0.1225,0.1225,0,0,0,0,0,0,0,{"$f":"IF(AO98=0,\"\",IF('Simulador Pagos Oportunos'!$W$40=3,AJ98,IF('Simulador Pagos Oportunos'!$W$40=4,AK98,IF('Simulador Pagos Oportunos'!$W$40=5,AL98,IF('Simulador Pagos Oportunos'!$W$40=6,AI98,AH98)))))","v":""},{"$f":"IF(AO98<=0,0,IF('Simulador Pagos Oportunos'!$Y$73=1,0,AO98*'Simulador Pagos Oportunos'!$Y$76))+IF(AO98<=0,0,IF('Simulador Pagos Oportunos'!$W$40=6,'Simulador Pagos Oportunos'!$H$52,IF('Simulador Pagos Oportunos'!$W$40=3,'Simulador Pagos Oportunos'!$J$52,IF('Simulador Pagos Oportunos'!$W$40=4,'Simulador Pagos Oportunos'!$L$52,'Simulador Pagos Oportunos'!$N$52))))","v":0},null,0,0,"",0,79]
[80,0,null,{"$f":"IF(B99+F99-D98<=0,B99+F99,IF(A99=$B$10,$F$10,IF(A99=$B$11,$F$11,IF(A99=$B$12,$F$12,IF(A99=$B$13,$F$13,IF(A99=$B$14,$F$14,IF(AND('Simulador Pagos Oportunos'!$AF$45=2,L98=0),D98*(1+Z99),IF($AP$3=2,B99*AN99,D98*(1+Z99)))))))))","v":0},null,0,null,0,null,{"$f":"IF(B99-H99=0,0,J97)","v":0},null,null,null,{"$f":"IF(OR('Simulador Pagos Oportunos'!$U$65=1,'Simulador Pagos Oportunos'!$U$65=3),0,L99*'Simulador Pagos Oportunos'!$U$66*'Simulador Pagos Oportunos'!$V$64)","v":0},null,{"$f":"IF(B99=0,\"\",IF('Simulador Pagos Oportunos'!$W$40=3,AJ99,IF('Simulador Pagos Oportunos'!$W$40=4,AK99,IF('Simulador Pagos Oportunos'!$W$40=5,AL99,IF('Simulador Pagos Oportunos'!$W$40=6,AI99,AH99)))))","v":""},null,0,null,{"$f":"IF(B99<=0,0,B99*'Simulador Pagos Oportunos'!$Y$76)","v":0},null,{"$f":"IF(B99<=0,0,IF('Simulador Pagos Oportunos'!$W$40=3,'Simulador Pagos Oportunos'!$J$52,IF('Simulador Pagos Oportunos'!$W$40=4,'Simulador Pagos Oportunos'!$L$52,IF('Simulador Pagos Oportunos'!$W$40=5,'Simulador Pagos Oportunos'!$N$52,IF('Simulador Pagos Oportunos'!$W$40=6,'Simulador Pagos Oportunos'!$H$52)))))","v":0},null,0,null,null,null,6,8,0,0,0,0,0.1215,0.1225,0.1225,0.1225,0.1225,0,0,0,0,0,0,0,{"$f":"IF(AO99=0,\"\",IF('Simulador Pagos Oportunos'!$W$40=3,AJ99,IF('Simulador Pagos Oportunos'!$W$40=4,AK99,IF('Simulador Pagos Oportunos'!$W$40=5,AL99,IF('Simulador Pagos Oportunos'!$W$40=6,AI99,AH99)))))","v":""},{"$f":"IF(AO99<=0,0,IF('Simulador Pagos Oportunos'!$Y$73=1,0,AO99*'Simulador Pagos Oportunos'!$Y$76))+IF(AO99<=0,0,IF('Simulador Pagos Oportunos'!$W$40=6,'Simulador Pagos Oportunos'!$H$52,IF('Simulador Pagos Oportunos'!$W$40=3,'Simulador Pagos Oportunos'!$J$52,IF('Simulador Pagos Oportunos'!$W$40=4,'Simulador Pagos Oportunos'!$L$52,'Simulador Pagos Oportunos'!$N$52))))","v":0},null,0,0,"",0,80]
[81,0,null,{"$f":"IF(B100+F100-D99<=0,B100+F100,IF(A100=$B$10,$F$10,IF(A100=$B$11,$F$11,IF(A100=$B$12,$F$12,IF(A100=$B$13,$F$13,IF(A100=$B$14,$F$14,IF(AND('Simulador Pagos Oportunos'!$AF$45=2,L99=0),D99*(1+Z100),IF($AP$3=2,B100*AN100,D99*(1+Z100)))))))))","v":0},null,0,null,0,null,null,null,null,null,{"$f":"IF(OR('Simulador Pagos Oportunos'!$U$65=1,'Simulador Pagos Oportunos'!$U$65=3),0,L100*'Simulador Pagos Oportunos'!$U$66*'Simulador Pagos Oportunos'!$V$64)","v":0},null,{"$f":"IF(B100=0,\"\",IF('Simulador Pagos Oportunos'!$W$40=3,AJ100,IF('Simulador Pagos Oportunos'!$W$40=4,AK100,IF('Simulador Pagos Oportunos'!$W$40=5,AL100,IF('Simulador Pagos Oportunos'!$W$40=6,AI100,AH100)))))","v":""},null,0,null,{"$f":"IF(B100<=0,0,B100*'Simulador Pagos Oportunos'!$Y$76)","v":0},null,{"$f":"IF(B100<=0,0,IF('Simulador Pagos Oportunos'!$W$40=3,'Simulador Pagos Oportunos'!$J$52,IF('Simulador Pagos Oportunos'!$W$40=4,'Simulador Pagos Oportunos'!$L$52,IF('Simulador Pagos Oportunos'!$W$40=5,'Simulador Pagos Oportunos'!$N$52,IF('Simulador Pagos Oportunos'!$W$40=6,'Simulador Pagos Oportunos'!$H$52)))))","v":0},null,0,null,null,null,6,9,0,0,0,0,0.1215,0.1225,0.1225,0.1225,0.1225,0,0,0,0,0,0,0,{"$f":"IF(AO100=0,\"\",IF('Simulador Pagos Oportunos'!$W$40=3,AJ100,IF('Simulador Pagos Oportunos'!$W$40=4,AK100,IF('Simulador Pagos Oportunos'!$W$40=5,AL100,IF('Simulador Pagos Oportunos'!$W$40=6,AI100,AH100)))))","v":""},{"$f":"IF(AO100<=0,0,IF('Simulador Pagos Oportunos'!$Y$73=1,0,AO100*'Simulador Pagos Oportunos'!$Y$76))+IF(AO100<=0,0,IF('Simulador Pagos Oportunos'!$W$40=6,'Simulador Pagos Oportunos'!$H$52,IF('Simulador Pagos Oportunos'!$W$40=3,'Simulador Pagos Oportunos'!$J$52,IF('Simulador Pagos Oportunos'!$W$40=4,'Simulador Pagos Oportunos'!$L$52,'Simulador Pagos Oportunos'!$N$52))))","v":0},null,0,0,"",0,81]
[82,0,null,{"$f":"IF(B101+F101-D100<=0,B101+F101,IF(A101=$B$10,$F$10,IF(A101=$B$11,$F$11,IF(A101=$B$12,$F$12,IF(A101=$B$13,$F$13,IF(A101=$B$14,$F$14,IF(AND('Simulador Pagos Oportunos'!$AF$45=2,L100=0),D100*(1+Z101),IF($AP$3=2,B101*AN101,D100*(1+Z101)))))))))","v":0},null,0,null,0,null,{"$f":"IF(B101-H101=0,0,J99)","v":0},null,null,null,{"$f":"IF(OR('Simulador Pagos Oportunos'!$U$65=1,'Simulador Pagos Oportunos'!$U$65=3),0,L101*'Simulador Pagos Oportunos'!$U$66*'Simulador Pagos Oportunos'!$V$64)","v":0},null,{"$f":"IF(B101=0,\"\",IF('Simulador Pagos Oportunos'!$W$40=3,AJ101,IF('Simulador Pagos Oportunos'!$W$40=4,AK101,IF('Simulador Pagos Oportunos'!$W$40=5,AL101,IF('Simulador Pagos Oportunos'!$W$40=6,AI101,AH101)))))","v":""},null,0,null,{"$f":"IF(B101<=0,0,B101*'Simulador Pagos Oportunos'!$Y$76)","v":0},null,{"$f":"IF(B101<=0,0,IF('Simulador Pagos Oportunos'!$W$40=3,'Simulador Pagos Oportunos'!$J$52,IF('Simulador Pagos Oportunos'!$W$40=4,'Simulador Pagos Oportunos'!$L$52,IF('Simulador Pagos Oportunos'!$W$40=5,'Simulador Pagos Oportunos'!$N$52,IF('Simulador Pagos Oportunos'!$W$40=6,'Simulador Pagos Oportunos'!$H$52)))))","v":0},null,0,null,null,null,6,10,0,0,0,0,0.1215,0.1225,0.1225,0.1225,0.1225,0,0,0,0,0,0,0,{"$f":"IF(AO101=0,\"\",IF('Simulador Pagos Oportunos'!$W$40=3,AJ101,IF('Simulador Pagos Oportunos'!$W$40=4,AK101,IF('Simulador Pagos Oportunos'!$W$40=5,AL101,IF('Simulador Pagos Oportunos'!$W$40=6,AI101,AH101)))))","v":""},{"$f":"IF(AO101<=0,0,IF('Simulador Pagos Oportunos'!$Y$73=1,0,AO101*'Simulador Pagos Oportunos'!$Y$76))+IF(AO101<=0,0,IF('Simulador Pagos Oportunos'!$W$40=6,'Simulador Pagos Oportunos'!$H$52,IF('Simulador Pagos Oportunos'!$W$40=3,'Simulador Pagos Oportunos'!$J$52,IF('Simulador Pagos Oportunos'!$W$40=4,'Simulador Pagos Oportunos'!$L$52,'Simulador Pagos Oportunos'!$N$52))))","v":0},null,0,0,"",0,82]
[83,0,null,{"$f":"IF(B102+F102-D101<=0,B102+F102,IF(A102=$B$10,$F$10,IF(A102=$B$11,$F$11,IF(A102=$B$12,$F$12,IF(A102=$B$13,$F$13,IF(A102=$B$14,$F$14,IF(AND('Simulador Pagos Oportunos'!$AF$45=2,L101=0),D101*(1+Z102),IF($AP$3=2,B102*AN102,D101*(1+Z102)))))))))","v":0},null,0,null,0,null,null,null,null,null,{"$f":"IF(OR('Simulador Pagos Oportunos'!$U$65=1,'Simulador Pagos Oportunos'!$U$65=3),0,L102*'Simulador Pagos Oportunos'!$U$66*'Simulador Pagos Oportunos'!$V$64)","v":0},null,{"$f":"IF(B102=0,\"\",IF('Simulador Pagos Oportunos'!$W$40=3,AJ102,IF('Simulador Pagos Oportunos'!$W$40=4,AK102,IF('Simulador Pagos Oportunos'!$W$40=5,AL102,IF('Simulador Pagos Oportunos'!$W$40=6,AI102,AH102)))))","v":""},null,0,null,{"$f":"IF(B102<=0,0,B102*'Simulador Pagos Oportunos'!$Y$76)","v":0},null,{"$f":"IF(B102<=0,0,IF('Simulador Pagos Oportunos'!$W$40=3,'Simulador Pagos Oportunos'!$J$52,IF('Simulador Pagos Oportunos'!$W$40=4,'Simulador Pagos Oportunos'!$L$52,IF('Simulador Pagos Oportunos'!$W$40=5,'Simulador Pagos Oportunos'!$N$52,IF('Simulador Pagos Oportunos'!$W$40=6,'Simulador Pagos Oportunos'!$H$52)))))","v":0},null,0,null,null,null,6,11,0,0,0,0,0.1215,0.1225,0.1225,0.1225,0.1225,0,0,0,0,0,0,0,{"$f":"IF(AO102=0,\"\",IF('Simulador Pagos Oportunos'!$W$40=3,AJ102,IF('Simulador Pagos Oportunos'!$W$40=4,AK102,IF('Simulador Pagos Oportunos'!$W$40=5,AL102,IF('Simulador Pagos Oportunos'!$W$40=6,AI102,AH102)))))","v":""},{"$f":"IF(AO102<=0,0,IF('Simulador Pagos Oportunos'!$Y$73=1,0,AO102*'Simulador Pagos Oportunos'!$Y$76))+IF(AO102<=0,0,IF('Simulador Pagos Oportunos'!$W$40=6,'Simulador Pagos Oportunos'!$H$52,IF('Simulador Pagos Oportunos'!$W$40=3,'Simulador Pagos Oportunos'!$J$52,IF('Simulador Pagos Oportunos'!$W$40=4,'Simulador Pagos Oportunos'!$L$52,'Simulador Pagos Oportunos'!$N$52))))","v":0},null,0,0,"",0,83]
[84,0,null,{"$f":"IF(B103+F103-D102<=0,B103+F103,IF(A103=$B$10,$F$10,IF(A103=$B$11,$F$11,IF(A103=$B$12,$F$12,IF(A103=$B$13,$F$13,IF(A103=$B$14,$F$14,IF(AND('Simulador Pagos Oportunos'!$AF$45=2,L102=0),D102*(1+Z103),IF($AP$3=2,B103*AN103,D102*(1+Z103)))))))))","v":0},null,0,null,0,null,{"$f":"IF(B103-H103=0,0,J101)","v":0},null,null,null,{"$f":"IF(OR('Simulador Pagos Oportunos'!$U$65=1,'Simulador Pagos Oportunos'!$U$65=3),0,L103*'Simulador Pagos Oportunos'!$U$66*'Simulador Pagos Oportunos'!$V$64)","v":0},null,{"$f":"IF(B103=0,\"\",IF('Simulador Pagos Oportunos'!$W$40=3,AJ103,IF('Simulador Pagos Oportunos'!$W$40=4,AK103,IF('Simulador Pagos Oportunos'!$W$40=5,AL103,IF('Simulador Pagos Oportunos'!$W$40=6,AI103,AH103)))))","v":""},null,0,null,{"$f":"IF(B103<=0,0,B103*'Simulador Pagos Oportunos'!$Y$76)","v":0},null,{"$f":"IF(B103<=0,0,IF('Simulador Pagos Oportunos'!$W$40=3,'Simulador Pagos Oportunos'!$J$52,IF('Simulador Pagos Oportunos'!$W$40=4,'Simulador Pagos Oportunos'!$L$52,IF('Simulador Pagos Oportunos'!$W$40=5,'Simulador Pagos Oportunos'!$N$52,IF('Simulador Pagos Oportunos'!$W$40=6,'Simulador Pagos Oportunos'!$H$52)))))","v":0},null,0,null,null,null,7,0,0,0,0,0,0.1215,0.1225,0.1225,0.1225,0.1225,0,0,0,0,0,0,0,{"$f":"IF(AO103=0,\"\",IF('Simulador Pagos Oportunos'!$W$40=3,AJ103,IF('Simulador Pagos Oportunos'!$W$40=4,AK103,IF('Simulador Pagos Oportunos'!$W$40=5,AL103,IF('Simulador Pagos Oportunos'!$W$40=6,AI103,AH103)))))","v":""},{"$f":"IF(AO103<=0,0,IF('Simulador Pagos Oportunos'!$Y$73=1,0,AO103*'Simulador Pagos Oportunos'!$Y$76))+IF(AO103<=0,0,IF('Simulador Pagos Oportunos'!$W$40=6,'Simulador Pagos Oportunos'!$H$52,IF('Simulador Pagos Oportunos'!$W$40=3,'Simulador Pagos Oportunos'!$J$52,IF('Simulador Pagos Oportunos'!$W$40=4,'Simulador Pagos Oportunos'!$L$52,'Simulador Pagos Oportunos'!$N$52))))","v":0},null,0,0,"",0,84]
[85,0,null,{"$f":"IF(B104+F104-D103<=0,B104+F104,IF(A104=$B$10,$F$10,IF(A104=$B$11,$F$11,IF(A104=$B$12,$F$12,IF(A104=$B$13,$F$13,IF(A104=$B$14,$F$14,IF(AND('Simulador Pagos Oportunos'!$AF$45=2,L103=0),D103*(1+Z104),IF($AP$3=2,B104*AN104,D103*(1+Z104)))))))))","v":0},null,0,null,0,null,null,null,null,null,{"$f":"IF(OR('Simulador Pagos Oportunos'!$U$65=1,'Simulador Pagos Oportunos'!$U$65=3),0,L104*'Simulador Pagos Oportunos'!$U$66*'Simulador Pagos Oportunos'!$V$64)","v":0},null,{"$f":"IF(B104=0,\"\",IF('Simulador Pagos Oportunos'!$W$40=3,AJ104,IF('Simulador Pagos Oportunos'!$W$40=4,AK104,IF('Simulador Pagos Oportunos'!$W$40=5,AL104,IF('Simulador Pagos Oportunos'!$W$40=6,AI104,AH104)))))","v":""},null,0,null,{"$f":"IF(B104<=0,0,B104*'Simulador Pagos Oportunos'!$Y$76)","v":0},null,{"$f":"IF(B104<=0,0,IF('Simulador Pagos Oportunos'!$W$40=3,'Simulador Pagos Oportunos'!$J$52,IF('Simulador Pagos Oportunos'!$W$40=4,'Simulador Pagos Oportunos'!$L$52,IF('Simulador Pagos Oportunos'!$W$40=5,'Simulador Pagos Oportunos'!$N$52,IF('Simulador Pagos Oportunos'!$W$40=6,'Simulador Pagos Oportunos'!$H$52)))))","v":0},null,0,null,{"$f":"IF(B104<=0,0,$Z$32)","v":0},null,7,1,0,0,0,0,{"$f":"IF(AH103=$AH$6,AH103,IF(AH103-0.25%<=$AH$6,$AH$6,AH103-0.25%))","v":0.11899999999999999},null,0.1225,0.1225,0.1225,0,0,0,0,0,0,0,{"$f":"IF(AO104=0,\"\",IF('Simulador Pagos Oportunos'!$W$40=3,AJ104,IF('Simulador Pagos Oportunos'!$W$40=4,AK104,IF('Simulador Pagos Oportunos'!$W$40=5,AL104,IF('Simulador Pagos Oportunos'!$W$40=6,AI104,AH104)))))","v":""},{"$f":"IF(AO104<=0,0,IF('Simulador Pagos Oportunos'!$Y$73=1,0,AO104*'Simulador Pagos Oportunos'!$Y$76))+IF(AO104<=0,0,IF('Simulador Pagos Oportunos'!$W$40=6,'Simulador Pagos Oportunos'!$H$52,IF('Simulador Pagos Oportunos'!$W$40=3,'Simulador Pagos Oportunos'!$J$52,IF('Simulador Pagos Oportunos'!$W$40=4,'Simulador Pagos Oportunos'!$L$52,'Simulador Pagos Oportunos'!$N$52))))","v":0},{"$f":"IF(AO104<=0,0,$AV$32)","v":0},0,0,"",0,85]
[86,0,null,{"$f":"IF(B105+F105-D104<=0,B105+F105,IF(A105=$B$10,$F$10,IF(A105=$B$11,$F$11,IF(A105=$B$12,$F$12,IF(A105=$B$13,$F$13,IF(A105=$B$14,$F$14,IF(AND('Simulador Pagos Oportunos'!$AF$45=2,L104=0),D104*(1+Z105),IF($AP$3=2,B105*AN105,D104*(1+Z105)))))))))","v":0},null,0,null,0,null,{"$f":"IF(B105-H105=0,0,J103*(1+(3%)))","v":0},null,null,null,{"$f":"IF(OR('Simulador Pagos Oportunos'!$U$65=1,'Simulador Pagos Oportunos'!$U$65=3),0,L105*'Simulador Pagos Oportunos'!$U$66*'Simulador Pagos Oportunos'!$V$64)","v":0},null,{"$f":"IF(B105=0,\"\",IF('Simulador Pagos Oportunos'!$W$40=3,AJ105,IF('Simulador Pagos Oportunos'!$W$40=4,AK105,IF('Simulador Pagos Oportunos'!$W$40=5,AL105,IF('Simulador Pagos Oportunos'!$W$40=6,AI105,AH105)))))","v":""},null,0,null,{"$f":"IF(B105<=0,0,B105*'Simulador Pagos Oportunos'!$Y$76)","v":0},null,{"$f":"IF(B105<=0,0,IF('Simulador Pagos Oportunos'!$W$40=3,'Simulador Pagos Oportunos'!$J$52,IF('Simulador Pagos Oportunos'!$W$40=4,'Simulador Pagos Oportunos'!$L$52,IF('Simulador Pagos Oportunos'!$W$40=5,'Simulador Pagos Oportunos'!$N$52,IF('Simulador Pagos Oportunos'!$W$40=6,'Simulador Pagos Oportunos'!$H$52)))))","v":0},null,0,null,null,null,7,2,0,0,0,0,{"$f":"AH104","v":0.11899999999999999},null,0.1225,0.1225,0.1225,0,0,0,0,0,0,0,{"$f":"IF(AO105=0,\"\",IF('Simulador Pagos Oportunos'!$W$40=3,AJ105,IF('Simulador Pagos Oportunos'!$W$40=4,AK105,IF('Simulador Pagos Oportunos'!$W$40=5,AL105,IF('Simulador Pagos Oportunos'!$W$40=6,AI105,AH105)))))","v":""},{"$f":"IF(AO105<=0,0,IF('Simulador Pagos Oportunos'!$Y$73=1,0,AO105*'Simulador Pagos Oportunos'!$Y$76))+IF(AO105<=0,0,IF('Simulador Pagos Oportunos'!$W$40=6,'Simulador Pagos Oportunos'!$H$52,IF('Simulador Pagos Oportunos'!$W$40=3,'Simulador Pagos Oportunos'!$J$52,IF('Simulador Pagos Oportunos'!$W$40=4,'Simulador Pagos Oportunos'!$L$52,'Simulador Pagos Oportunos'!$N$52))))","v":0},null,0,0,"",0,86]
[87,0,null,{"$f":"IF(B106+F106-D105<=0,B106+F106,IF(A106=$B$10,$F$10,IF(A106=$B$11,$F$11,IF(A106=$B$12,$F$12,IF(A106=$B$13,$F$13,IF(A106=$B$14,$F$14,IF(AND('Simulador Pagos Oportunos'!$AF$45=2,L105=0),D105*(1+Z106),IF($AP$3=2,B106*AN106,D105*(1+Z106)))))))))","v":0},null,0,null,0,null,null,null,null,null,{"$f":"IF(OR('Simulador Pagos Oportunos'!$U$65=1,'Simulador Pagos Oportunos'!$U$65=3),0,L106*'Simulador Pagos Oportunos'!$U$66*'Simulador Pagos Oportunos'!$V$64)","v":0},null,{"$f":"IF(B106=0,\"\",IF('Simulador Pagos Oportunos'!$W$40=3,AJ106,IF('Simulador Pagos Oportunos'!$W$40=4,AK106,IF('Simulador Pagos Oportunos'!$W$40=5,AL106,IF('Simulador Pagos Oportunos'!$W$40=6,AI106,AH106)))))","v":""},null,0,null,{"$f":"IF(B106<=0,0,B106*'Simulador Pagos Oportunos'!$Y$76)","v":0},null,{"$f":"IF(B106<=0,0,IF('Simulador Pagos Oportunos'!$W$40=3,'Simulador Pagos Oportunos'!$J$52,IF('Simulador Pagos Oportunos'!$W$40=4,'Simulador Pagos Oportunos'!$L$52,IF('Simulador Pagos Oportunos'!$W$40=5,'Simulador Pagos Oportunos'!$N$52,IF('Simulador Pagos Oportunos'!$W$40=6,'Simulador Pagos Oportunos'!$H$52)))))","v":0},null,0,null,null,null,7,3,0,0,0,0,{"$f":"AH105","v":0.11899999999999999},null,0.1225,0.1225,0.1225,0,0,0,0,0,0,0,{"$f":"IF(AO106=0,\"\",IF('Simulador Pagos Oportunos'!$W$40=3,AJ106,IF('Simulador Pagos Oportunos'!$W$40=4,AK106,IF('Simulador Pagos Oportunos'!$W$40=5,AL106,IF('Simulador Pagos Oportunos'!$W$40=6,AI106,AH106)))))","v":""},{"$f":"IF(AO106<=0,0,IF('Simulador Pagos Oportunos'!$Y$73=1,0,AO106*'Simulador Pagos Oportunos'!$Y$76))+IF(AO106<=0,0,IF('Simulador Pagos Oportunos'!$W$40=6,'Simulador Pagos Oportunos'!$H$52,IF('Simulador Pagos Oportunos'!$W$40=3,'Simulador Pagos Oportunos'!$J$52,IF('Simulador Pagos Oportunos'!$W$40=4,'Simulador Pagos Oportunos'!$L$52,'Simulador Pagos Oportunos'!$N$52))))","v":0},null,0,0,"",0,87]
[88,0,null,{"$f":"IF(B107+F107-D106<=0,B107+F107,IF(A107=$B$10,$F$10,IF(A107=$B$11,$F$11,IF(A107=$B$12,$F$12,IF(A107=$B$13,$F$13,IF(A107=$B$14,$F$14,IF(AND('Simulador Pagos Oportunos'!$AF$45=2,L106=0),D106*(1+Z107),IF($AP$3=2,B107*AN107,D106*(1+Z107)))))))))","v":0},null,0,null,0,null,{"$f":"IF(B107-H107=0,0,J105)","v":0},null,null,null,{"$f":"IF(OR('Simulador Pagos Oportunos'!$U$65=1,'Simulador Pagos Oportunos'!$U$65=3),0,L107*'Simulador Pagos Oportunos'!$U$66*'Simulador Pagos Oportunos'!$V$64)","v":0},null,{"$f":"IF(B107=0,\"\",IF('Simulador Pagos Oportunos'!$W$40=3,AJ107,IF('Simulador Pagos Oportunos'!$W$40=4,AK107,IF('Simulador Pagos Oportunos'!$W$40=5,AL107,IF('Simulador Pagos Oportunos'!$W$40=6,AI107,AH107)))))","v":""},null,0,null,{"$f":"IF(B107<=0,0,B107*'Simulador Pagos Oportunos'!$Y$76)","v":0},null,{"$f":"IF(B107<=0,0,IF('Simulador Pagos Oportunos'!$W$40=3,'Simulador Pagos Oportunos'!$J$52,IF('Simulador Pagos Oportunos'!$W$40=4,'Simulador Pagos Oportunos'!$L$52,IF('Simulador Pagos Oportunos'!$W$40=5,'Simulador Pagos Oportunos'!$N$52,IF('Simulador Pagos Oportunos'!$W$40=6,'Simulador Pagos Oportunos'!$H$52)))))","v":0},null,0,null,null,null,7,4,0,0,0,0,0.11899999999999999,null,0.1225,0.1225,0.1225,0,0,0,0,0,0,0,{"$f":"IF(AO107=0,\"\",IF('Simulador Pagos Oportunos'!$W$40=3,AJ107,IF('Simulador Pagos Oportunos'!$W$40=4,AK107,IF('Simulador Pagos Oportunos'!$W$40=5,AL107,IF('Simulador Pagos Oportunos'!$W$40=6,AI107,AH107)))))","v":""},{"$f":"IF(AO107<=0,0,IF('Simulador Pagos Oportunos'!$Y$73=1,0,AO107*'Simulador Pagos Oportunos'!$Y$76))+IF(AO107<=0,0,IF('Simulador Pagos Oportunos'!$W$40=6,'Simulador Pagos Oportunos'!$H$52,IF('Simulador Pagos Oportunos'!$W$40=3,'Simulador Pagos Oportunos'!$J$52,IF('Simulador Pagos Oportunos'!$W$40=4,'Simulador Pagos Oportunos'!$L$52,'Simulador Pagos Oportunos'!$N$52))))","v":0},null,0,0,"",0,88]
[89,0,null,{"$f":"IF(B108+F108-D107<=0,B108+F108,IF(A108=$B$10,$F$10,IF(A108=$B$11,$F$11,IF(A108=$B$12,$F$12,IF(A108=$B$13,$F$13,IF(A108=$B$14,$F$14,IF(AND('Simulador Pagos Oportunos'!$AF$45=2,L107=0),D107*(1+Z108),IF($AP$3=2,B108*AN108,D107*(1+Z108)))))))))","v":0},null,0,null,0,null,null,null,null,null,{"$f":"IF(OR('Simulador Pagos Oportunos'!$U$65=1,'Simulador Pagos Oportunos'!$U$65=3),0,L108*'Simulador Pagos Oportunos'!$U$66*'Simulador Pagos Oportunos'!$V$64)","v":0},null,{"$f":"IF(B108=0,\"\",IF('Simulador Pagos Oportunos'!$W$40=3,AJ108,IF('Simulador Pagos Oportunos'!$W$40=4,AK108,IF('Simulador Pagos Oportunos'!$W$40=5,AL108,IF('Simulador Pagos Oportunos'!$W$40=6,AI108,AH108)))))","v":""},null,0,null,{"$f":"IF(B108<=0,0,B108*'Simulador Pagos Oportunos'!$Y$76)","v":0},null,{"$f":"IF(B108<=0,0,IF('Simulador Pagos Oportunos'!$W$40=3,'Simulador Pagos Oportunos'!$J$52,IF('Simulador Pagos Oportunos'!$W$40=4,'Simulador Pagos Oportunos'!$L$52,IF('Simulador Pagos Oportunos'!$W$40=5,'Simulador Pagos Oportunos'!$N$52,IF('Simulador Pagos Oportunos'!$W$40=6,'Simulador Pagos Oportunos'!$H$52)))))","v":0},null,0,null,null,null,7,5,0,0,0,0,0.11899999999999999,null,0.1225,0.1225,0.1225,0,0,0,0,0,0,0,{"$f":"IF(AO108=0,\"\",IF('Simulador Pagos Oportunos'!$W$40=3,AJ108,IF('Simulador Pagos Oportunos'!$W$40=4,AK108,IF('Simulador Pagos Oportunos'!$W$40=5,AL108,IF('Simulador Pagos Oportunos'!$W$40=6,AI108,AH108)))))","v":""},{"$f":"IF(AO108<=0,0,IF('Simulador Pagos Oportunos'!$Y$73=1,0,AO108*'Simulador Pagos Oportunos'!$Y$76))+IF(AO108<=0,0,IF('Simulador Pagos Oportunos'!$W$40=6,'Simulador Pagos Oportunos'!$H$52,IF('Simulador Pagos Oportunos'!$W$40=3,'Simulador Pagos Oportunos'!$J$52,IF('Simulador Pagos Oportunos'!$W$40=4,'Simulador Pagos Oportunos'!$L$52,'Simulador Pagos Oportunos'!$N$52))))","v":0},null,0,0,"",0,89]
[90,0,null,{"$f":"IF(B109+F109-D108<=0,B109+F109,IF(A109=$B$10,$F$10,IF(A109=$B$11,$F$11,IF(A109=$B$12,$F$12,IF(A109=$B$13,$F$13,IF(A109=$B$14,$F$14,IF(AND('Simulador Pagos Oportunos'!$AF$45=2,L108=0),D108*(1+Z109),IF($AP$3=2,B109*AN109,D108*(1+Z109)))))))))","v":0},null,0,null,0,null,{"$f":"IF(B109-H109=0,0,J107)","v":0},null,null,null,{"$f":"IF(OR('Simulador Pagos Oportunos'!$U$65=1,'Simulador Pagos Oportunos'!$U$65=3),0,L109*'Simulador Pagos Oportunos'!$U$66*'Simulador Pagos Oportunos'!$V$64)","v":0},null,{"$f":"IF(B109=0,\"\",IF('Simulador Pagos Oportunos'!$W$40=3,AJ109,IF('Simulador Pagos Oportunos'!$W$40=4,AK109,IF('Simulador Pagos Oportunos'!$W$40=5,AL109,IF('Simulador Pagos Oportunos'!$W$40=6,AI109,AH109)))))","v":""},null,0,null,{"$f":"IF(B109<=0,0,B109*'Simulador Pagos Oportunos'!$Y$76)","v":0},null,{"$f":"IF(B109<=0,0,IF('Simulador Pagos Oportunos'!$W$40=3,'Simulador Pagos Oportunos'!$J$52,IF('Simulador Pagos Oportunos'!$W$40=4,'Simulador Pagos Oportunos'!$L$52,IF('Simulador Pagos Oportunos'!$W$40=5,'Simulador Pagos Oportunos'!$N$52,IF('Simulador Pagos Oportunos'!$W$40=6,'Simulador Pagos Oportunos'!$H$52)))))","v":0},null,0,null,null,null,7,6,0,0,0,0,0.11899999999999999,null,0.1225,0.1225,0.1225,0,0,0,0,0,0,0,{"$f":"IF(AO109=0,\"\",IF('Simulador Pagos Oportunos'!$W$40=3,AJ109,IF('Simulador Pagos Oportunos'!$W$40=4,AK109,IF('Simulador Pagos Oportunos'!$W$40=5,AL109,IF('Simulador Pagos Oportunos'!$W$40=6,AI109,AH109)))))","v":""},{"$f":"IF(AO109<=0,0,IF('Simulador Pagos Oportunos'!$Y$73=1,0,AO109*'Simulador Pagos Oportunos'!$Y$76))+IF(AO109<=0,0,IF('Simulador Pagos Oportunos'!$W$40=6,'Simulador Pagos Oportunos'!$H$52,IF('Simulador Pagos Oportunos'!$W$40=3,'Simulador Pagos Oportunos'!$J$52,IF('Simulador Pagos Oportunos'!$W$40=4,'Simulador Pagos Oportunos'!$L$52,'Simulador Pagos Oportunos'!$N$52))))","v":0},null,0,0,"",0,90]
[91,0,null,{"$f":"IF(B110+F110-D109<=0,B110+F110,IF(A110=$B$10,$F$10,IF(A110=$B$11,$F$11,IF(A110=$B$12,$F$12,IF(A110=$B$13,$F$13,IF(A110=$B$14,$F$14,IF(AND('Simulador Pagos Oportunos'!$AF$45=2,L109=0),D109*(1+Z110),IF($AP$3=2,B110*AN110,D109*(1+Z110)))))))))","v":0},null,0,null,0,null,null,null,null,null,{"$f":"IF(OR('Simulador Pagos Oportunos'!$U$65=1,'Simulador Pagos Oportunos'!$U$65=3),0,L110*'Simulador Pagos Oportunos'!$U$66*'Simulador Pagos Oportunos'!$V$64)","v":0},null,{"$f":"IF(B110=0,\"\",IF('Simulador Pagos Oportunos'!$W$40=3,AJ110,IF('Simulador Pagos Oportunos'!$W$40=4,AK110,IF('Simulador Pagos Oportunos'!$W$40=5,AL110,IF('Simulador Pagos Oportunos'!$W$40=6,AI110,AH110)))))","v":""},null,0,null,{"$f":"IF(B110<=0,0,B110*'Simulador Pagos Oportunos'!$Y$76)","v":0},null,{"$f":"IF(B110<=0,0,IF('Simulador Pagos Oportunos'!$W$40=3,'Simulador Pagos Oportunos'!$J$52,IF('Simulador Pagos Oportunos'!$W$40=4,'Simulador Pagos Oportunos'!$L$52,IF('Simulador Pagos Oportunos'!$W$40=5,'Simulador Pagos Oportunos'!$N$52,IF('Simulador Pagos Oportunos'!$W$40=6,'Simulador Pagos Oportunos'!$H$52)))))","v":0},null,0,null,null,null,7,7,0,0,0,0,0.11899999999999999,null,{"$f":"AJ109","v":0.1225},0.1225,0.1225,0,0,0,0,0,0,0,{"$f":"IF(AO110=0,\"\",IF('Simulador Pagos Oportunos'!$W$40=3,AJ110,IF('Simulador Pagos Oportunos'!$W$40=4,AK110,IF('Simulador Pagos Oportunos'!$W$40=5,AL110,IF('Simulador Pagos Oportunos'!$W$40=6,AI110,AH110)))))","v":""},{"$f":"IF(AO110<=0,0,IF('Simulador Pagos Oportunos'!$Y$73=1,0,AO110*'Simulador Pagos Oportunos'!$Y$76))+IF(AO110<=0,0,IF('Simulador Pagos Oportunos'!$W$40=6,'Simulador Pagos Oportunos'!$H$52,IF('Simulador Pagos Oportunos'!$W$40=3,'Simulador Pagos Oportunos'!$J$52,IF('Simulador Pagos Oportunos'!$W$40=4,'Simulador Pagos Oportunos'!$L$52,'Simulador Pagos Oportunos'!$N$52))))","v":0},null,0,0,"",0,91]
[92,0,null,{"$f":"IF(B111+F111-D110<=0,B111+F111,IF(A111=$B$10,$F$10,IF(A111=$B$11,$F$11,IF(A111=$B$12,$F$12,IF(A111=$B$13,$F$13,IF(A111=$B$14,$F$14,IF(AND('Simulador Pagos Oportunos'!$AF$45=2,L110=0),D110*(1+Z111),IF($AP$3=2,B111*AN111,D110*(1+Z111)))))))))","v":0},null,0,null,0,null,{"$f":"IF(B111-H111=0,0,J109)","v":0},null,null,null,{"$f":"IF(OR('Simulador Pagos Oportunos'!$U$65=1,'Simulador Pagos Oportunos'!$U$65=3),0,L111*'Simulador Pagos Oportunos'!$U$66*'Simulador Pagos Oportunos'!$V$64)","v":0},null,{"$f":"IF(B111=0,\"\",IF('Simulador Pagos Oportunos'!$W$40=3,AJ111,IF('Simulador Pagos Oportunos'!$W$40=4,AK111,IF('Simulador Pagos Oportunos'!$W$40=5,AL111,IF('Simulador Pagos Oportunos'!$W$40=6,AI111,AH111)))))","v":""},null,0,null,{"$f":"IF(B111<=0,0,B111*'Simulador Pagos Oportunos'!$Y$76)","v":0},null,{"$f":"IF(B111<=0,0,IF('Simulador Pagos Oportunos'!$W$40=3,'Simulador Pagos Oportunos'!$J$52,IF('Simulador Pagos Oportunos'!$W$40=4,'Simulador Pagos Oportunos'!$L$52,IF('Simulador Pagos Oportunos'!$W$40=5,'Simulador Pagos Oportunos'!$N$52,IF('Simulador Pagos Oportunos'!$W$40=6,'Simulador Pagos Oportunos'!$H$52)))))","v":0},null,0,null,null,null,7,8,0,0,0,0,0.11899999999999999,null,0.1225,0.1225,0.1225,0,0,0,0,0,0,0,{"$f":"IF(AO111=0,\"\",IF('Simulador Pagos Oportunos'!$W$40=3,AJ111,IF('Simulador Pagos Oportunos'!$W$40=4,AK111,IF('Simulador Pagos Oportunos'!$W$40=5,AL111,IF('Simulador Pagos Oportunos'!$W$40=6,AI111,AH111)))))","v":""},{"$f":"IF(AO111<=0,0,IF('Simulador Pagos Oportunos'!$Y$73=1,0,AO111*'Simulador Pagos Oportunos'!$Y$76))+IF(AO111<=0,0,IF('Simulador Pagos Oportunos'!$W$40=6,'Simulador Pagos Oportunos'!$H$52,IF('Simulador Pagos Oportunos'!$W$40=3,'Simulador Pagos Oportunos'!$J$52,IF('Simulador Pagos Oportunos'!$W$40=4,'Simulador Pagos Oportunos'!$L$52,'Simulador Pagos Oportunos'!$N$52))))","v":0},null,0,0,"",0,92]
[93,0,null,{"$f":"IF(B112+F112-D111<=0,B112+F112,IF(A112=$B$10,$F$10,IF(A112=$B$11,$F$11,IF(A112=$B$12,$F$12,IF(A112=$B$13,$F$13,IF(A112=$B$14,$F$14,IF(AND('Simulador Pagos Oportunos'!$AF$45=2,L111=0),D111*(1+Z112),IF($AP$3=2,B112*AN112,D111*(1+Z112)))))))))","v":0},null,0,null,0,null,null,null,null,null,{"$f":"IF(OR('Simulador Pagos Oportunos'!$U$65=1,'Simulador Pagos Oportunos'!$U$65=3),0,L112*'Simulador Pagos Oportunos'!$U$66*'Simulador Pagos Oportunos'!$V$64)","v":0},null,{"$f":"IF(B112=0,\"\",IF('Simulador Pagos Oportunos'!$W$40=3,AJ112,IF('Simulador Pagos Oportunos'!$W$40=4,AK112,IF('Simulador Pagos Oportunos'!$W$40=5,AL112,IF('Simulador Pagos Oportunos'!$W$40=6,AI112,AH112)))))","v":""},null,0,null,{"$f":"IF(B112<=0,0,B112*'Simulador Pagos Oportunos'!$Y$76)","v":0},null,{"$f":"IF(B112<=0,0,IF('Simulador Pagos Oportunos'!$W$40=3,'Simulador Pagos Oportunos'!$J$52,IF('Simulador Pagos Oportunos'!$W$40=4,'Simulador Pagos Oportunos'!$L$52,IF('Simulador Pagos Oportunos'!$W$40=5,'Simulador Pagos Oportunos'!$N$52,IF('Simulador Pagos Oportunos'!$W$40=6,'Simulador Pagos Oportunos'!$H$52)))))","v":0},null,0,null,null,null,7,9,0,0,0,0,0.11899999999999999,null,0.1225,0.1225,0.1225,0,0,0,0,0,0,0,{"$f":"IF(AO112=0,\"\",IF('Simulador Pagos Oportunos'!$W$40=3,AJ112,IF('Simulador Pagos Oportunos'!$W$40=4,AK112,IF('Simulador Pagos Oportunos'!$W$40=5,AL112,IF('Simulador Pagos Oportunos'!$W$40=6,AI112,AH112)))))","v":""},{"$f":"IF(AO112<=0,0,IF('Simulador Pagos Oportunos'!$Y$73=1,0,AO112*'Simulador Pagos Oportunos'!$Y$76))+IF(AO112<=0,0,IF('Simulador Pagos Oportunos'!$W$40=6,'Simulador Pagos Oportunos'!$H$52,IF('Simulador Pagos Oportunos'!$W$40=3,'Simulador Pagos Oportunos'!$J$52,IF('Simulador Pagos Oportunos'!$W$40=4,'Simulador Pagos Oportunos'!$L$52,'Simulador Pagos Oportunos'!$N$52))))","v":0},null,0,0,"",0,93]
[94,0,null,{"$f":"IF(B113+F113-D112<=0,B113+F113,IF(A113=$B$10,$F$10,IF(A113=$B$11,$F$11,IF(A113=$B$12,$F$12,IF(A113=$B$13,$F$13,IF(A113=$B$14,$F$14,IF(AND('Simulador Pagos Oportunos'!$AF$45=2,L112=0),D112*(1+Z113),IF($AP$3=2,B113*AN113,D112*(1+Z113)))))))))","v":0},null,0,null,0,null,{"$f":"IF(B113-H113=0,0,J111)","v":0},null,null,null,{"$f":"IF(OR('Simulador Pagos Oportunos'!$U$65=1,'Simulador Pagos Oportunos'!$U$65=3),0,L113*'Simulador Pagos Oportunos'!$U$66*'Simulador Pagos Oportunos'!$V$64)","v":0},null,{"$f":"IF(B113=0,\"\",IF('Simulador Pagos Oportunos'!$W$40=3,AJ113,IF('Simulador Pagos Oportunos'!$W$40=4,AK113,IF('Simulador Pagos Oportunos'!$W$40=5,AL113,IF('Simulador Pagos Oportunos'!$W$40=6,AI113,AH113)))))","v":""},null,0,null,{"$f":"IF(B113<=0,0,B113*'Simulador Pagos Oportunos'!$Y$76)","v":0},null,{"$f":"IF(B113<=0,0,IF('Simulador Pagos Oportunos'!$W$40=3,'Simulador Pagos Oportunos'!$J$52,IF('Simulador Pagos Oportunos'!$W$40=4,'Simulador Pagos Oportunos'!$L$52,IF('Simulador Pagos Oportunos'!$W$40=5,'Simulador Pagos Oportunos'!$N$52,IF('Simulador Pagos Oportunos'!$W$40=6,'Simulador Pagos Oportunos'!$H$52)))))","v":0},null,0,null,null,null,7,10,0,0,0,0,0.11899999999999999,null,0.1225,0.1225,0.1225,0,0,0,0,0,0,0,{"$f":"IF(AO113=0,\"\",IF('Simulador Pagos Oportunos'!$W$40=3,AJ113,IF('Simulador Pagos Oportunos'!$W$40=4,AK113,IF('Simulador Pagos Oportunos'!$W$40=5,AL113,IF('Simulador Pagos Oportunos'!$W$40=6,AI113,AH113)))))","v":""},{"$f":"IF(AO113<=0,0,IF('Simulador Pagos Oportunos'!$Y$73=1,0,AO113*'Simulador Pagos Oportunos'!$Y$76))+IF(AO113<=0,0,IF('Simulador Pagos Oportunos'!$W$40=6,'Simulador Pagos Oportunos'!$H$52,IF('Simulador Pagos Oportunos'!$W$40=3,'Simulador Pagos Oportunos'!$J$52,IF('Simulador Pagos Oportunos'!$W$40=4,'Simulador Pagos Oportunos'!$L$52,'Simulador Pagos Oportunos'!$N$52))))","v":0},null,0,0,"",0,94]
[95,0,null,{"$f":"IF(B114+F114-D113<=0,B114+F114,IF(A114=$B$10,$F$10,IF(A114=$B$11,$F$11,IF(A114=$B$12,$F$12,IF(A114=$B$13,$F$13,IF(A114=$B$14,$F$14,IF(AND('Simulador Pagos Oportunos'!$AF$45=2,L113=0),D113*(1+Z114),IF($AP$3=2,B114*AN114,D113*(1+Z114)))))))))","v":0},null,0,null,0,null,null,null,null,null,{"$f":"IF(OR('Simulador Pagos Oportunos'!$U$65=1,'Simulador Pagos Oportunos'!$U$65=3),0,L114*'Simulador Pagos Oportunos'!$U$66*'Simulador Pagos Oportunos'!$V$64)","v":0},null,{"$f":"IF(B114=0,\"\",IF('Simulador Pagos Oportunos'!$W$40=3,AJ114,IF('Simulador Pagos Oportunos'!$W$40=4,AK114,IF('Simulador Pagos Oportunos'!$W$40=5,AL114,IF('Simulador Pagos Oportunos'!$W$40=6,AI114,AH114)))))","v":""},null,0,null,{"$f":"IF(B114<=0,0,B114*'Simulador Pagos Oportunos'!$Y$76)","v":0},null,{"$f":"IF(B114<=0,0,IF('Simulador Pagos Oportunos'!$W$40=3,'Simulador Pagos Oportunos'!$J$52,IF('Simulador Pagos Oportunos'!$W$40=4,'Simulador Pagos Oportunos'!$L$52,IF('Simulador Pagos Oportunos'!$W$40=5,'Simulador Pagos Oportunos'!$N$52,IF('Simulador Pagos Oportunos'!$W$40=6,'Simulador Pagos Oportunos'!$H$52)))))","v":0},null,0,null,null,null,7,11,0,0,0,0,0.11899999999999999,null,0.1225,0.1225,0.1225,0,0,0,0,0,0,0,{"$f":"IF(AO114=0,\"\",IF('Simulador Pagos Oportunos'!$W$40=3,AJ114,IF('Simulador Pagos Oportunos'!$W$40=4,AK114,IF('Simulador Pagos Oportunos'!$W$40=5,AL114,IF('Simulador Pagos Oportunos'!$W$40=6,AI114,AH114)))))","v":""},{"$f":"IF(AO114<=0,0,IF('Simulador Pagos Oportunos'!$Y$73=1,0,AO114*'Simulador Pagos Oportunos'!$Y$76))+IF(AO114<=0,0,IF('Simulador Pagos Oportunos'!$W$40=6,'Simulador Pagos Oportunos'!$H$52,IF('Simulador Pagos Oportunos'!$W$40=3,'Simulador Pagos Oportunos'!$J$52,IF('Simulador Pagos Oportunos'!$W$40=4,'Simulador Pagos Oportunos'!$L$52,'Simulador Pagos Oportunos'!$N$52))))","v":0},null,0,0,"",0,95]
[96,0,null,{"$f":"IF(B115+F115-D114<=0,B115+F115,IF(A115=$B$10,$F$10,IF(A115=$B$11,$F$11,IF(A115=$B$12,$F$12,IF(A115=$B$13,$F$13,IF(A115=$B$14,$F$14,IF(AND('Simulador Pagos Oportunos'!$AF$45=2,L114=0),D114*(1+Z115),IF($AP$3=2,B115*AN115,D114*(1+Z115)))))))))","v":0},null,0,null,0,null,{"$f":"IF(B115-H115=0,0,J113)","v":0},null,null,null,{"$f":"IF(OR('Simulador Pagos Oportunos'!$U$65=1,'Simulador Pagos Oportunos'!$U$65=3),0,L115*'Simulador Pagos Oportunos'!$U$66*'Simulador Pagos Oportunos'!$V$64)","v":0},null,{"$f":"IF(B115=0,\"\",IF('Simulador Pagos Oportunos'!$W$40=3,AJ115,IF('Simulador Pagos Oportunos'!$W$40=4,AK115,IF('Simulador Pagos Oportunos'!$W$40=5,AL115,IF('Simulador Pagos Oportunos'!$W$40=6,AI115,AH115)))))","v":""},null,0,null,{"$f":"IF(B115<=0,0,B115*'Simulador Pagos Oportunos'!$Y$76)","v":0},null,{"$f":"IF(B115<=0,0,IF('Simulador Pagos Oportunos'!$W$40=3,'Simulador Pagos Oportunos'!$J$52,IF('Simulador Pagos Oportunos'!$W$40=4,'Simulador Pagos Oportunos'!$L$52,IF('Simulador Pagos Oportunos'!$W$40=5,'Simulador Pagos Oportunos'!$N$52,IF('Simulador Pagos Oportunos'!$W$40=6,'Simulador Pagos Oportunos'!$H$52)))))","v":0},null,0,null,null,null,8,0,0,0,0,0,0.11899999999999999,null,0.1225,0.1225,0.1225,0,0,0,0,0,0,0,{"$f":"IF(AO115=0,\"\",IF('Simulador Pagos Oportunos'!$W$40=3,AJ115,IF('Simulador Pagos Oportunos'!$W$40=4,AK115,IF('Simulador Pagos Oportunos'!$W$40=5,AL115,IF('Simulador Pagos Oportunos'!$W$40=6,AI115,AH115)))))","v":""},{"$f":"IF(AO115<=0,0,IF('Simulador Pagos Oportunos'!$Y$73=1,0,AO115*'Simulador Pagos Oportunos'!$Y$76))+IF(AO115<=0,0,IF('Simulador Pagos Oportunos'!$W$40=6,'Simulador Pagos Oportunos'!$H$52,IF('Simulador Pagos Oportunos'!$W$40=3,'Simulador Pagos Oportunos'!$J$52,IF('Simulador Pagos Oportunos'!$W$40=4,'Simulador Pagos Oportunos'!$L$52,'Simulador Pagos Oportunos'!$N$52))))","v":0},null,0,0,"",0,96]
[97,0,null,{"$f":"IF(B116+F116-D115<=0,B116+F116,IF(A116=$B$10,$F$10,IF(A116=$B$11,$F$11,IF(A116=$B$12,$F$12,IF(A116=$B$13,$F$13,IF(A116=$B$14,$F$14,IF(AND('Simulador Pagos Oportunos'!$AF$45=2,L115=0),D115*(1+Z116),IF($AP$3=2,B116*AN116,D115*(1+Z116)))))))))","v":0},null,0,null,0,null,null,null,null,null,{"$f":"IF(OR('Simulador Pagos Oportunos'!$U$65=1,'Simulador Pagos Oportunos'!$U$65=3),0,L116*'Simulador Pagos Oportunos'!$U$66*'Simulador Pagos Oportunos'!$V$64)","v":0},null,{"$f":"IF(B116=0,\"\",IF('Simulador Pagos Oportunos'!$W$40=3,AJ116,IF('Simulador Pagos Oportunos'!$W$40=4,AK116,IF('Simulador Pagos Oportunos'!$W$40=5,AL116,IF('Simulador Pagos Oportunos'!$W$40=6,AI116,AH116)))))","v":""},null,0,null,{"$f":"IF(B116<=0,0,B116*'Simulador Pagos Oportunos'!$Y$76)","v":0},null,{"$f":"IF(B116<=0,0,IF('Simulador Pagos Oportunos'!$W$40=3,'Simulador Pagos Oportunos'!$J$52,IF('Simulador Pagos Oportunos'!$W$40=4,'Simulador Pagos Oportunos'!$L$52,IF('Simulador Pagos Oportunos'!$W$40=5,'Simulador Pagos Oportunos'!$N$52,IF('Simulador Pagos Oportunos'!$W$40=6,'Simulador Pagos Oportunos'!$H$52)))))","v":0},null,0,null,{"$f":"IF(B116<=0,0,$Z$32)","v":0},null,8,1,0,0,0,0,{"$f":"IF(AH115=$AH$6,AH115,IF(AH115-0.25%<=$AH$6,$AH$6,AH115-0.25%))","v":0.11649999999999999},null,0.1225,0.1225,0.1225,0,0,0,0,0,0,0,{"$f":"IF(AO116=0,\"\",IF('Simulador Pagos Oportunos'!$W$40=3,AJ116,IF('Simulador Pagos Oportunos'!$W$40=4,AK116,IF('Simulador Pagos Oportunos'!$W$40=5,AL116,IF('Simulador Pagos Oportunos'!$W$40=6,AI116,AH116)))))","v":""},{"$f":"IF(AO116<=0,0,IF('Simulador Pagos Oportunos'!$Y$73=1,0,AO116*'Simulador Pagos Oportunos'!$Y$76))+IF(AO116<=0,0,IF('Simulador Pagos Oportunos'!$W$40=6,'Simulador Pagos Oportunos'!$H$52,IF('Simulador Pagos Oportunos'!$W$40=3,'Simulador Pagos Oportunos'!$J$52,IF('Simulador Pagos Oportunos'!$W$40=4,'Simulador Pagos Oportunos'!$L$52,'Simulador Pagos Oportunos'!$N$52))))","v":0},{"$f":"IF(AO116<=0,0,$AV$32)","v":0},0,0,"",0,97]
[98,0,null,{"$f":"IF(B117+F117-D116<=0,B117+F117,IF(A117=$B$10,$F$10,IF(A117=$B$11,$F$11,IF(A117=$B$12,$F$12,IF(A117=$B$13,$F$13,IF(A117=$B$14,$F$14,IF(AND('Simulador Pagos Oportunos'!$AF$45=2,L116=0),D116*(1+Z117),IF($AP$3=2,B117*AN117,D116*(1+Z117)))))))))","v":0},null,0,null,0,null,{"$f":"IF(B117-H117=0,0,J115*(1+(3%)))","v":0},null,null,null,{"$f":"IF(OR('Simulador Pagos Oportunos'!$U$65=1,'Simulador Pagos Oportunos'!$U$65=3),0,L117*'Simulador Pagos Oportunos'!$U$66*'Simulador Pagos Oportunos'!$V$64)","v":0},null,{"$f":"IF(B117=0,\"\",IF('Simulador Pagos Oportunos'!$W$40=3,AJ117,IF('Simulador Pagos Oportunos'!$W$40=4,AK117,IF('Simulador Pagos Oportunos'!$W$40=5,AL117,IF('Simulador Pagos Oportunos'!$W$40=6,AI117,AH117)))))","v":""},null,0,null,{"$f":"IF(B117<=0,0,B117*'Simulador Pagos Oportunos'!$Y$76)","v":0},null,{"$f":"IF(B117<=0,0,IF('Simulador Pagos Oportunos'!$W$40=3,'Simulador Pagos Oportunos'!$J$52,IF('Simulador Pagos Oportunos'!$W$40=4,'Simulador Pagos Oportunos'!$L$52,IF('Simulador Pagos Oportunos'!$W$40=5,'Simulador Pagos Oportunos'!$N$52,IF('Simulador Pagos Oportunos'!$W$40=6,'Simulador Pagos Oportunos'!$H$52)))))","v":0},null,0,null,null,null,8,2,0,0,0,0,{"$f":"AH116","v":0.11649999999999999},null,0.1225,0.1225,0.1225,0,0,0,0,0,0,0,{"$f":"IF(AO117=0,\"\",IF('Simulador Pagos Oportunos'!$W$40=3,AJ117,IF('Simulador Pagos Oportunos'!$W$40=4,AK117,IF('Simulador Pagos Oportunos'!$W$40=5,AL117,IF('Simulador Pagos Oportunos'!$W$40=6,AI117,AH117)))))","v":""},{"$f":"IF(AO117<=0,0,IF('Simulador Pagos Oportunos'!$Y$73=1,0,AO117*'Simulador Pagos Oportunos'!$Y$76))+IF(AO117<=0,0,IF('Simulador Pagos Oportunos'!$W$40=6,'Simulador Pagos Oportunos'!$H$52,IF('Simulador Pagos Oportunos'!$W$40=3,'Simulador Pagos Oportunos'!$J$52,IF('Simulador Pagos Oportunos'!$W$40=4,'Simulador Pagos Oportunos'!$L$52,'Simulador Pagos Oportunos'!$N$52))))","v":0},null,0,0,"",0,98]
[99,0,null,{"$f":"IF(B118+F118-D117<=0,B118+F118,IF(A118=$B$10,$F$10,IF(A118=$B$11,$F$11,IF(A118=$B$12,$F$12,IF(A118=$B$13,$F$13,IF(A118=$B$14,$F$14,IF(AND('Simulador Pagos Oportunos'!$AF$45=2,L117=0),D117*(1+Z118),IF($AP$3=2,B118*AN118,D117*(1+Z118)))))))))","v":0},null,0,null,0,null,null,null,null,null,{"$f":"IF(OR('Simulador Pagos Oportunos'!$U$65=1,'Simulador Pagos Oportunos'!$U$65=3),0,L118*'Simulador Pagos Oportunos'!$U$66*'Simulador Pagos Oportunos'!$V$64)","v":0},null,{"$f":"IF(B118=0,\"\",IF('Simulador Pagos Oportunos'!$W$40=3,AJ118,IF('Simulador Pagos Oportunos'!$W$40=4,AK118,IF('Simulador Pagos Oportunos'!$W$40=5,AL118,IF('Simulador Pagos Oportunos'!$W$40=6,AI118,AH118)))))","v":""},null,0,null,{"$f":"IF(B118<=0,0,B118*'Simulador Pagos Oportunos'!$Y$76)","v":0},null,{"$f":"IF(B118<=0,0,IF('Simulador Pagos Oportunos'!$W$40=3,'Simulador Pagos Oportunos'!$J$52,IF('Simulador Pagos Oportunos'!$W$40=4,'Simulador Pagos Oportunos'!$L$52,IF('Simulador Pagos Oportunos'!$W$40=5,'Simulador Pagos Oportunos'!$N$52,IF('Simulador Pagos Oportunos'!$W$40=6,'Simulador Pagos Oportunos'!$H$52)))))","v":0},null,0,null,null,null,8,3,0,0,0,0,{"$f":"AH117","v":0.11649999999999999},null,0.1225,0.1225,0.1225,0,0,0,0,0,0,0,{"$f":"IF(AO118=0,\"\",IF('Simulador Pagos Oportunos'!$W$40=3,AJ118,IF('Simulador Pagos Oportunos'!$W$40=4,AK118,IF('Simulador Pagos Oportunos'!$W$40=5,AL118,IF('Simulador Pagos Oportunos'!$W$40=6,AI118,AH118)))))","v":""},{"$f":"IF(AO118<=0,0,IF('Simulador Pagos Oportunos'!$Y$73=1,0,AO118*'Simulador Pagos Oportunos'!$Y$76))+IF(AO118<=0,0,IF('Simulador Pagos Oportunos'!$W$40=6,'Simulador Pagos Oportunos'!$H$52,IF('Simulador Pagos Oportunos'!$W$40=3,'Simulador Pagos Oportunos'!$J$52,IF('Simulador Pagos Oportunos'!$W$40=4,'Simulador Pagos Oportunos'!$L$52,'Simulador Pagos Oportunos'!$N$52))))","v":0},null,0,0,"",0,99]
[100,0,null,{"$f":"IF(B119+F119-D118<=0,B119+F119,IF(A119=$B$10,$F$10,IF(A119=$B$11,$F$11,IF(A119=$B$12,$F$12,IF(A119=$B$13,$F$13,IF(A119=$B$14,$F$14,IF(AND('Simulador Pagos Oportunos'!$AF$45=2,L118=0),D118*(1+Z119),IF($AP$3=2,B119*AN119,D118*(1+Z119)))))))))","v":0},null,0,null,0,null,{"$f":"IF(B119-H119=0,0,J117)","v":0},null,null,null,{"$f":"IF(OR('Simulador Pagos Oportunos'!$U$65=1,'Simulador Pagos Oportunos'!$U$65=3),0,L119*'Simulador Pagos Oportunos'!$U$66*'Simulador Pagos Oportunos'!$V$64)","v":0},null,{"$f":"IF(B119=0,\"\",IF('Simulador Pagos Oportunos'!$W$40=3,AJ119,IF('Simulador Pagos Oportunos'!$W$40=4,AK119,IF('Simulador Pagos Oportunos'!$W$40=5,AL119,IF('Simulador Pagos Oportunos'!$W$40=6,AI119,AH119)))))","v":""},null,0,null,{"$f":"IF(B119<=0,0,B119*'Simulador Pagos Oportunos'!$Y$76)","v":0},null,{"$f":"IF(B119<=0,0,IF('Simulador Pagos Oportunos'!$W$40=3,'Simulador Pagos Oportunos'!$J$52,IF('Simulador Pagos Oportunos'!$W$40=4,'Simulador Pagos Oportunos'!$L$52,IF('Simulador Pagos Oportunos'!$W$40=5,'Simulador Pagos Oportunos'!$N$52,IF('Simulador Pagos Oportunos'!$W$40=6,'Simulador Pagos Oportunos'!$H$52)))))","v":0},null,0,null,null,null,8,4,0,0,0,0,0.11649999999999999,null,0.1225,0.1225,0.1225,0,0,0,0,0,0,0,{"$f":"IF(AO119=0,\"\",IF('Simulador Pagos Oportunos'!$W$40=3,AJ119,IF('Simulador Pagos Oportunos'!$W$40=4,AK119,IF('Simulador Pagos Oportunos'!$W$40=5,AL119,IF('Simulador Pagos Oportunos'!$W$40=6,AI119,AH119)))))","v":""},{"$f":"IF(AO119<=0,0,IF('Simulador Pagos Oportunos'!$Y$73=1,0,AO119*'Simulador Pagos Oportunos'!$Y$76))+IF(AO119<=0,0,IF('Simulador Pagos Oportunos'!$W$40=6,'Simulador Pagos Oportunos'!$H$52,IF('Simulador Pagos Oportunos'!$W$40=3,'Simulador Pagos Oportunos'!$J$52,IF('Simulador Pagos Oportunos'!$W$40=4,'Simulador Pagos Oportunos'!$L$52,'Simulador Pagos Oportunos'!$N$52))))","v":0},null,0,0,"",0,100]
[101,0,null,{"$f":"IF(B120+F120-D119<=0,B120+F120,IF(A120=$B$10,$F$10,IF(A120=$B$11,$F$11,IF(A120=$B$12,$F$12,IF(A120=$B$13,$F$13,IF(A120=$B$14,$F$14,IF(AND('Simulador Pagos Oportunos'!$AF$45=2,L119=0),D119*(1+Z120),IF($AP$3=2,B120*AN120,D119*(1+Z120)))))))))","v":0},null,0,null,0,null,null,null,null,null,{"$f":"IF(OR('Simulador Pagos Oportunos'!$U$65=1,'Simulador Pagos Oportunos'!$U$65=3),0,L120*'Simulador Pagos Oportunos'!$U$66*'Simulador Pagos Oportunos'!$V$64)","v":0},null,{"$f":"IF(B120=0,\"\",IF('Simulador Pagos Oportunos'!$W$40=3,AJ120,IF('Simulador Pagos Oportunos'!$W$40=4,AK120,IF('Simulador Pagos Oportunos'!$W$40=5,AL120,IF('Simulador Pagos Oportunos'!$W$40=6,AI120,AH120)))))","v":""},null,0,null,{"$f":"IF(B120<=0,0,B120*'Simulador Pagos Oportunos'!$Y$76)","v":0},null,{"$f":"IF(B120<=0,0,IF('Simulador Pagos Oportunos'!$W$40=3,'Simulador Pagos Oportunos'!$J$52,IF('Simulador Pagos Oportunos'!$W$40=4,'Simulador Pagos Oportunos'!$L$52,IF('Simulador Pagos Oportunos'!$W$40=5,'Simulador Pagos Oportunos'!$N$52,IF('Simulador Pagos Oportunos'!$W$40=6,'Simulador Pagos Oportunos'!$H$52)))))","v":0},null,0,null,null,null,8,5,0,0,0,0,0.11649999999999999,null,0.1225,0.1225,0.1225,0,0,0,0,0,0,0,{"$f":"IF(AO120=0,\"\",IF('Simulador Pagos Oportunos'!$W$40=3,AJ120,IF('Simulador Pagos Oportunos'!$W$40=4,AK120,IF('Simulador Pagos Oportunos'!$W$40=5,AL120,IF('Simulador Pagos Oportunos'!$W$40=6,AI120,AH120)))))","v":""},{"$f":"IF(AO120<=0,0,IF('Simulador Pagos Oportunos'!$Y$73=1,0,AO120*'Simulador Pagos Oportunos'!$Y$76))+IF(AO120<=0,0,IF('Simulador Pagos Oportunos'!$W$40=6,'Simulador Pagos Oportunos'!$H$52,IF('Simulador Pagos Oportunos'!$W$40=3,'Simulador Pagos Oportunos'!$J$52,IF('Simulador Pagos Oportunos'!$W$40=4,'Simulador Pagos Oportunos'!$L$52,'Simulador Pagos Oportunos'!$N$52))))","v":0},null,0,0,"",0,101]
[102,0,null,{"$f":"IF(B121+F121-D120<=0,B121+F121,IF(A121=$B$10,$F$10,IF(A121=$B$11,$F$11,IF(A121=$B$12,$F$12,IF(A121=$B$13,$F$13,IF(A121=$B$14,$F$14,IF(AND('Simulador Pagos Oportunos'!$AF$45=2,L120=0),D120*(1+Z121),IF($AP$3=2,B121*AN121,D120*(1+Z121)))))))))","v":0},null,0,null,0,null,{"$f":"IF(B121-H121=0,0,J119)","v":0},null,null,null,{"$f":"IF(OR('Simulador Pagos Oportunos'!$U$65=1,'Simulador Pagos Oportunos'!$U$65=3),0,L121*'Simulador Pagos Oportunos'!$U$66*'Simulador Pagos Oportunos'!$V$64)","v":0},null,{"$f":"IF(B121=0,\"\",IF('Simulador Pagos Oportunos'!$W$40=3,AJ121,IF('Simulador Pagos Oportunos'!$W$40=4,AK121,IF('Simulador Pagos Oportunos'!$W$40=5,AL121,IF('Simulador Pagos Oportunos'!$W$40=6,AI121,AH121)))))","v":""},null,0,null,{"$f":"IF(B121<=0,0,B121*'Simulador Pagos Oportunos'!$Y$76)","v":0},null,{"$f":"IF(B121<=0,0,IF('Simulador Pagos Oportunos'!$W$40=3,'Simulador Pagos Oportunos'!$J$52,IF('Simulador Pagos Oportunos'!$W$40=4,'Simulador Pagos Oportunos'!$L$52,IF('Simulador Pagos Oportunos'!$W$40=5,'Simulador Pagos Oportunos'!$N$52,IF('Simulador Pagos Oportunos'!$W$40=6,'Simulador Pagos Oportunos'!$H$52)))))","v":0},null,0,null,null,null,8,6,0,0,0,0,0.11649999999999999,null,0.1225,0.1225,0.1225,0,0,0,0,0,0,0,{"$f":"IF(AO121=0,\"\",IF('Simulador Pagos Oportunos'!$W$40=3,AJ121,IF('Simulador Pagos Oportunos'!$W$40=4,AK121,IF('Simulador Pagos Oportunos'!$W$40=5,AL121,IF('Simulador Pagos Oportunos'!$W$40=6,AI121,AH121)))))","v":""},{"$f":"IF(AO121<=0,0,IF('Simulador Pagos Oportunos'!$Y$73=1,0,AO121*'Simulador Pagos Oportunos'!$Y$76))+IF(AO121<=0,0,IF('Simulador Pagos Oportunos'!$W$40=6,'Simulador Pagos Oportunos'!$H$52,IF('Simulador Pagos Oportunos'!$W$40=3,'Simulador Pagos Oportunos'!$J$52,IF('Simulador Pagos Oportunos'!$W$40=4,'Simulador Pagos Oportunos'!$L$52,'Simulador Pagos Oportunos'!$N$52))))","v":0},null,0,0,"",0,102]
[103,0,null,{"$f":"IF(B122+F122-D121<=0,B122+F122,IF(A122=$B$10,$F$10,IF(A122=$B$11,$F$11,IF(A122=$B$12,$F$12,IF(A122=$B$13,$F$13,IF(A122=$B$14,$F$14,IF(AND('Simulador Pagos Oportunos'!$AF$45=2,L121=0),D121*(1+Z122),IF($AP$3=2,B122*AN122,D121*(1+Z122)))))))))","v":0},null,0,null,0,null,null,null,null,null,{"$f":"IF(OR('Simulador Pagos Oportunos'!$U$65=1,'Simulador Pagos Oportunos'!$U$65=3),0,L122*'Simulador Pagos Oportunos'!$U$66*'Simulador Pagos Oportunos'!$V$64)","v":0},null,{"$f":"IF(B122=0,\"\",IF('Simulador Pagos Oportunos'!$W$40=3,AJ122,IF('Simulador Pagos Oportunos'!$W$40=4,AK122,IF('Simulador Pagos Oportunos'!$W$40=5,AL122,IF('Simulador Pagos Oportunos'!$W$40=6,AI122,AH122)))))","v":""},null,0,null,{"$f":"IF(B122<=0,0,B122*'Simulador Pagos Oportunos'!$Y$76)","v":0},null,{"$f":"IF(B122<=0,0,IF('Simulador Pagos Oportunos'!$W$40=3,'Simulador Pagos Oportunos'!$J$52,IF('Simulador Pagos Oportunos'!$W$40=4,'Simulador Pagos Oportunos'!$L$52,IF('Simulador Pagos Oportunos'!$W$40=5,'Simulador Pagos Oportunos'!$N$52,IF('Simulador Pagos Oportunos'!$W$40=6,'Simulador Pagos Oportunos'!$H$52)))))","v":0},null,0,null,null,null,8,7,0,0,0,0,0.11649999999999999,null,0.1225,0.1225,0.1225,0,0,0,0,0,0,0,{"$f":"IF(AO122=0,\"\",IF('Simulador Pagos Oportunos'!$W$40=3,AJ122,IF('Simulador Pagos Oportunos'!$W$40=4,AK122,IF('Simulador Pagos Oportunos'!$W$40=5,AL122,IF('Simulador Pagos Oportunos'!$W$40=6,AI122,AH122)))))","v":""},{"$f":"IF(AO122<=0,0,IF('Simulador Pagos Oportunos'!$Y$73=1,0,AO122*'Simulador Pagos Oportunos'!$Y$76))+IF(AO122<=0,0,IF('Simulador Pagos Oportunos'!$W$40=6,'Simulador Pagos Oportunos'!$H$52,IF('Simulador Pagos Oportunos'!$W$40=3,'Simulador Pagos Oportunos'!$J$52,IF('Simulador Pagos Oportunos'!$W$40=4,'Simulador Pagos Oportunos'!$L$52,'Simulador Pagos Oportunos'!$N$52))))","v":0},null,0,0,"",0,103]
[104,0,null,{"$f":"IF(B123+F123-D122<=0,B123+F123,IF(A123=$B$10,$F$10,IF(A123=$B$11,$F$11,IF(A123=$B$12,$F$12,IF(A123=$B$13,$F$13,IF(A123=$B$14,$F$14,IF(AND('Simulador Pagos Oportunos'!$AF$45=2,L122=0),D122*(1+Z123),IF($AP$3=2,B123*AN123,D122*(1+Z123)))))))))","v":0},null,0,null,0,null,{"$f":"IF(B123-H123=0,0,J121)","v":0},null,null,null,{"$f":"IF(OR('Simulador Pagos Oportunos'!$U$65=1,'Simulador Pagos Oportunos'!$U$65=3),0,L123*'Simulador Pagos Oportunos'!$U$66*'Simulador Pagos Oportunos'!$V$64)","v":0},null,{"$f":"IF(B123=0,\"\",IF('Simulador Pagos Oportunos'!$W$40=3,AJ123,IF('Simulador Pagos Oportunos'!$W$40=4,AK123,IF('Simulador Pagos Oportunos'!$W$40=5,AL123,IF('Simulador Pagos Oportunos'!$W$40=6,AI123,AH123)))))","v":""},null,0,null,{"$f":"IF(B123<=0,0,B123*'Simulador Pagos Oportunos'!$Y$76)","v":0},null,{"$f":"IF(B123<=0,0,IF('Simulador Pagos Oportunos'!$W$40=3,'Simulador Pagos Oportunos'!$J$52,IF('Simulador Pagos Oportunos'!$W$40=4,'Simulador Pagos Oportunos'!$L$52,IF('Simulador Pagos Oportunos'!$W$40=5,'Simulador Pagos Oportunos'!$N$52,IF('Simulador Pagos Oportunos'!$W$40=6,'Simulador Pagos Oportunos'!$H$52)))))","v":0},null,0,null,null,null,8,8,0,0,0,0,0.11649999999999999,null,0.1225,0.1225,0.1225,0,0,0,0,0,0,0,{"$f":"IF(AO123=0,\"\",IF('Simulador Pagos Oportunos'!$W$40=3,AJ123,IF('Simulador Pagos Oportunos'!$W$40=4,AK123,IF('Simulador Pagos Oportunos'!$W$40=5,AL123,IF('Simulador Pagos Oportunos'!$W$40=6,AI123,AH123)))))","v":""},{"$f":"IF(AO123<=0,0,IF('Simulador Pagos Oportunos'!$Y$73=1,0,AO123*'Simulador Pagos Oportunos'!$Y$76))+IF(AO123<=0,0,IF('Simulador Pagos Oportunos'!$W$40=6,'Simulador Pagos Oportunos'!$H$52,IF('Simulador Pagos Oportunos'!$W$40=3,'Simulador Pagos Oportunos'!$J$52,IF('Simulador Pagos Oportunos'!$W$40=4,'Simulador Pagos Oportunos'!$L$52,'Simulador Pagos Oportunos'!$N$52))))","v":0},null,0,0,"",0,104]
[105,0,null,{"$f":"IF(B124+F124-D123<=0,B124+F124,IF(A124=$B$10,$F$10,IF(A124=$B$11,$F$11,IF(A124=$B$12,$F$12,IF(A124=$B$13,$F$13,IF(A124=$B$14,$F$14,IF(AND('Simulador Pagos Oportunos'!$AF$45=2,L123=0),D123*(1+Z124),IF($AP$3=2,B124*AN124,D123*(1+Z124)))))))))","v":0},null,0,null,0,null,null,null,null,null,{"$f":"IF(OR('Simulador Pagos Oportunos'!$U$65=1,'Simulador Pagos Oportunos'!$U$65=3),0,L124*'Simulador Pagos Oportunos'!$U$66*'Simulador Pagos Oportunos'!$V$64)","v":0},null,{"$f":"IF(B124=0,\"\",IF('Simulador Pagos Oportunos'!$W$40=3,AJ124,IF('Simulador Pagos Oportunos'!$W$40=4,AK124,IF('Simulador Pagos Oportunos'!$W$40=5,AL124,IF('Simulador Pagos Oportunos'!$W$40=6,AI124,AH124)))))","v":""},null,0,null,{"$f":"IF(B124<=0,0,B124*'Simulador Pagos Oportunos'!$Y$76)","v":0},null,{"$f":"IF(B124<=0,0,IF('Simulador Pagos Oportunos'!$W$40=3,'Simulador Pagos Oportunos'!$J$52,IF('Simulador Pagos Oportunos'!$W$40=4,'Simulador Pagos Oportunos'!$L$52,IF('Simulador Pagos Oportunos'!$W$40=5,'Simulador Pagos Oportunos'!$N$52,IF('Simulador Pagos Oportunos'!$W$40=6,'Simulador Pagos Oportunos'!$H$52)))))","v":0},null,0,null,null,null,8,9,0,0,0,0,0.11649999999999999,null,0.1225,0.1225,0.1225,0,0,0,0,0,0,0,{"$f":"IF(AO124=0,\"\",IF('Simulador Pagos Oportunos'!$W$40=3,AJ124,IF('Simulador Pagos Oportunos'!$W$40=4,AK124,IF('Simulador Pagos Oportunos'!$W$40=5,AL124,IF('Simulador Pagos Oportunos'!$W$40=6,AI124,AH124)))))","v":""},{"$f":"IF(AO124<=0,0,IF('Simulador Pagos Oportunos'!$Y$73=1,0,AO124*'Simulador Pagos Oportunos'!$Y$76))+IF(AO124<=0,0,IF('Simulador Pagos Oportunos'!$W$40=6,'Simulador Pagos Oportunos'!$H$52,IF('Simulador Pagos Oportunos'!$W$40=3,'Simulador Pagos Oportunos'!$J$52,IF('Simulador Pagos Oportunos'!$W$40=4,'Simulador Pagos Oportunos'!$L$52,'Simulador Pagos Oportunos'!$N$52))))","v":0},null,0,0,"",0,105]
[106,0,null,{"$f":"IF(B125+F125-D124<=0,B125+F125,IF(A125=$B$10,$F$10,IF(A125=$B$11,$F$11,IF(A125=$B$12,$F$12,IF(A125=$B$13,$F$13,IF(A125=$B$14,$F$14,IF(AND('Simulador Pagos Oportunos'!$AF$45=2,L124=0),D124*(1+Z125),IF($AP$3=2,B125*AN125,D124*(1+Z125)))))))))","v":0},null,0,null,0,null,{"$f":"IF(B125-H125=0,0,J123)","v":0},null,null,null,{"$f":"IF(OR('Simulador Pagos Oportunos'!$U$65=1,'Simulador Pagos Oportunos'!$U$65=3),0,L125*'Simulador Pagos Oportunos'!$U$66*'Simulador Pagos Oportunos'!$V$64)","v":0},null,{"$f":"IF(B125=0,\"\",IF('Simulador Pagos Oportunos'!$W$40=3,AJ125,IF('Simulador Pagos Oportunos'!$W$40=4,AK125,IF('Simulador Pagos Oportunos'!$W$40=5,AL125,IF('Simulador Pagos Oportunos'!$W$40=6,AI125,AH125)))))","v":""},null,0,null,{"$f":"IF(B125<=0,0,B125*'Simulador Pagos Oportunos'!$Y$76)","v":0},null,{"$f":"IF(B125<=0,0,IF('Simulador Pagos Oportunos'!$W$40=3,'Simulador Pagos Oportunos'!$J$52,IF('Simulador Pagos Oportunos'!$W$40=4,'Simulador Pagos Oportunos'!$L$52,IF('Simulador Pagos Oportunos'!$W$40=5,'Simulador Pagos Oportunos'!$N$52,IF('Simulador Pagos Oportunos'!$W$40=6,'Simulador Pagos Oportunos'!$H$52)))))","v":0},null,0,null,null,null,8,10,0,0,0,0,0.11649999999999999,null,0.1225,0.1225,0.1225,0,0,0,0,0,0,0,{"$f":"IF(AO125=0,\"\",IF('Simulador Pagos Oportunos'!$W$40=3,AJ125,IF('Simulador Pagos Oportunos'!$W$40=4,AK125,IF('Simulador Pagos Oportunos'!$W$40=5,AL125,IF('Simulador Pagos Oportunos'!$W$40=6,AI125,AH125)))))","v":""},{"$f":"IF(AO125<=0,0,IF('Simulador Pagos Oportunos'!$Y$73=1,0,AO125*'Simulador Pagos Oportunos'!$Y$76))+IF(AO125<=0,0,IF('Simulador Pagos Oportunos'!$W$40=6,'Simulador Pagos Oportunos'!$H$52,IF('Simulador Pagos Oportunos'!$W$40=3,'Simulador Pagos Oportunos'!$J$52,IF('Simulador Pagos Oportunos'!$W$40=4,'Simulador Pagos Oportunos'!$L$52,'Simulador Pagos Oportunos'!$N$52))))","v":0},null,0,0,"",0,106]
[107,0,null,{"$f":"IF(B126+F126-D125<=0,B126+F126,IF(A126=$B$10,$F$10,IF(A126=$B$11,$F$11,IF(A126=$B$12,$F$12,IF(A126=$B$13,$F$13,IF(A126=$B$14,$F$14,IF(AND('Simulador Pagos Oportunos'!$AF$45=2,L125=0),D125*(1+Z126),IF($AP$3=2,B126*AN126,D125*(1+Z126)))))))))","v":0},null,0,null,0,null,null,null,null,null,{"$f":"IF(OR('Simulador Pagos Oportunos'!$U$65=1,'Simulador Pagos Oportunos'!$U$65=3),0,L126*'Simulador Pagos Oportunos'!$U$66*'Simulador Pagos Oportunos'!$V$64)","v":0},null,{"$f":"IF(B126=0,\"\",IF('Simulador Pagos Oportunos'!$W$40=3,AJ126,IF('Simulador Pagos Oportunos'!$W$40=4,AK126,IF('Simulador Pagos Oportunos'!$W$40=5,AL126,IF('Simulador Pagos Oportunos'!$W$40=6,AI126,AH126)))))","v":""},null,0,null,{"$f":"IF(B126<=0,0,B126*'Simulador Pagos Oportunos'!$Y$76)","v":0},null,{"$f":"IF(B126<=0,0,IF('Simulador Pagos Oportunos'!$W$40=3,'Simulador Pagos Oportunos'!$J$52,IF('Simulador Pagos Oportunos'!$W$40=4,'Simulador Pagos Oportunos'!$L$52,IF('Simulador Pagos Oportunos'!$W$40=5,'Simulador Pagos Oportunos'!$N$52,IF('Simulador Pagos Oportunos'!$W$40=6,'Simulador Pagos Oportunos'!$H$52)))))","v":0},null,0,null,null,null,8,11,0,0,0,0,0.11649999999999999,null,{"$f":"AJ125","v":0.1225},0.1225,0.1225,0,0,0,0,0,0,0,{"$f":"IF(AO126=0,\"\",IF('Simulador Pagos Oportunos'!$W$40=3,AJ126,IF('Simulador Pagos Oportunos'!$W$40=4,AK126,IF('Simulador Pagos Oportunos'!$W$40=5,AL126,IF('Simulador Pagos Oportunos'!$W$40=6,AI126,AH126)))))","v":""},{"$f":"IF(AO126<=0,0,IF('Simulador Pagos Oportunos'!$Y$73=1,0,AO126*'Simulador Pagos Oportunos'!$Y$76))+IF(AO126<=0,0,IF('Simulador Pagos Oportunos'!$W$40=6,'Simulador Pagos Oportunos'!$H$52,IF('Simulador Pagos Oportunos'!$W$40=3,'Simulador Pagos Oportunos'!$J$52,IF('Simulador Pagos Oportunos'!$W$40=4,'Simulador Pagos Oportunos'!$L$52,'Simulador Pagos Oportunos'!$N$52))))","v":0},null,0,0,"",0,107]
[108,0,null,{"$f":"IF(B127+F127-D126<=0,B127+F127,IF(A127=$B$10,$F$10,IF(A127=$B$11,$F$11,IF(A127=$B$12,$F$12,IF(A127=$B$13,$F$13,IF(A127=$B$14,$F$14,IF(AND('Simulador Pagos Oportunos'!$AF$45=2,L126=0),D126*(1+Z127),IF($AP$3=2,B127*AN127,D126*(1+Z127)))))))))","v":0},null,0,null,0,null,{"$f":"IF(B127-H127=0,0,J125)","v":0},null,null,null,{"$f":"IF(OR('Simulador Pagos Oportunos'!$U$65=1,'Simulador Pagos Oportunos'!$U$65=3),0,L127*'Simulador Pagos Oportunos'!$U$66*'Simulador Pagos Oportunos'!$V$64)","v":0},null,{"$f":"IF(B127=0,\"\",IF('Simulador Pagos Oportunos'!$W$40=3,AJ127,IF('Simulador Pagos Oportunos'!$W$40=4,AK127,IF('Simulador Pagos Oportunos'!$W$40=5,AL127,IF('Simulador Pagos Oportunos'!$W$40=6,AI127,AH127)))))","v":""},null,0,null,{"$f":"IF(B127<=0,0,B127*'Simulador Pagos Oportunos'!$Y$76)","v":0},null,{"$f":"IF(B127<=0,0,IF('Simulador Pagos Oportunos'!$W$40=3,'Simulador Pagos Oportunos'!$J$52,IF('Simulador Pagos Oportunos'!$W$40=4,'Simulador Pagos Oportunos'!$L$52,IF('Simulador Pagos Oportunos'!$W$40=5,'Simulador Pagos Oportunos'!$N$52,IF('Simulador Pagos Oportunos'!$W$40=6,'Simulador Pagos Oportunos'!$H$52)))))","v":0},null,0,null,null,null,9,0,0,0,0,0,0.11649999999999999,null,0.1225,0.1225,0.1225,0,0,0,0,0,0,0,{"$f":"IF(AO127=0,\"\",IF('Simulador Pagos Oportunos'!$W$40=3,AJ127,IF('Simulador Pagos Oportunos'!$W$40=4,AK127,IF('Simulador Pagos Oportunos'!$W$40=5,AL127,IF('Simulador Pagos Oportunos'!$W$40=6,AI127,AH127)))))","v":""},{"$f":"IF(AO127<=0,0,IF('Simulador Pagos Oportunos'!$Y$73=1,0,AO127*'Simulador Pagos Oportunos'!$Y$76))+IF(AO127<=0,0,IF('Simulador Pagos Oportunos'!$W$40=6,'Simulador Pagos Oportunos'!$H$52,IF('Simulador Pagos Oportunos'!$W$40=3,'Simulador Pagos Oportunos'!$J$52,IF('Simulador Pagos Oportunos'!$W$40=4,'Simulador Pagos Oportunos'!$L$52,'Simulador Pagos Oportunos'!$N$52))))","v":0},null,0,0,"",0,108]
[109,0,null,{"$f":"IF(B128+F128-D127<=0,B128+F128,IF(A128=$B$10,$F$10,IF(A128=$B$11,$F$11,IF(A128=$B$12,$F$12,IF(A128=$B$13,$F$13,IF(A128=$B$14,$F$14,IF(AND('Simulador Pagos Oportunos'!$AF$45=2,L127=0),D127*(1+Z128),IF($AP$3=2,B128*AN128,D127*(1+Z128)))))))))","v":0},null,0,null,0,null,null,null,null,null,{"$f":"IF(OR('Simulador Pagos Oportunos'!$U$65=1,'Simulador Pagos Oportunos'!$U$65=3),0,L128*'Simulador Pagos Oportunos'!$U$66*'Simulador Pagos Oportunos'!$V$64)","v":0},null,{"$f":"IF(B128=0,\"\",IF('Simulador Pagos Oportunos'!$W$40=3,AJ128,IF('Simulador Pagos Oportunos'!$W$40=4,AK128,IF('Simulador Pagos Oportunos'!$W$40=5,AL128,IF('Simulador Pagos Oportunos'!$W$40=6,AI128,AH128)))))","v":""},null,0,null,{"$f":"IF(B128<=0,0,B128*'Simulador Pagos Oportunos'!$Y$76)","v":0},null,{"$f":"IF(B128<=0,0,IF('Simulador Pagos Oportunos'!$W$40=3,'Simulador Pagos Oportunos'!$J$52,IF('Simulador Pagos Oportunos'!$W$40=4,'Simulador Pagos Oportunos'!$L$52,IF('Simulador Pagos Oportunos'!$W$40=5,'Simulador Pagos Oportunos'!$N$52,IF('Simulador Pagos Oportunos'!$W$40=6,'Simulador Pagos Oportunos'!$H$52)))))","v":0},null,0,null,{"$f":"IF(B128<=0,0,$Z$32)","v":0},null,9,1,0,0,0,0,{"$f":"IF(AH127=$AH$6,AH127,IF(AH127-0.25%<=$AH$6,$AH$6,AH127-0.25%))","v":0.11399999999999999},null,0.1225,0.1225,0.1225,0,0,0,0,0,0,0,{"$f":"IF(AO128=0,\"\",IF('Simulador Pagos Oportunos'!$W$40=3,AJ128,IF('Simulador Pagos Oportunos'!$W$40=4,AK128,IF('Simulador Pagos Oportunos'!$W$40=5,AL128,IF('Simulador Pagos Oportunos'!$W$40=6,AI128,AH128)))))","v":""},{"$f":"IF(AO128<=0,0,IF('Simulador Pagos Oportunos'!$Y$73=1,0,AO128*'Simulador Pagos Oportunos'!$Y$76))+IF(AO128<=0,0,IF('Simulador Pagos Oportunos'!$W$40=6,'Simulador Pagos Oportunos'!$H$52,IF('Simulador Pagos Oportunos'!$W$40=3,'Simulador Pagos Oportunos'!$J$52,IF('Simulador Pagos Oportunos'!$W$40=4,'Simulador Pagos Oportunos'!$L$52,'Simulador Pagos Oportunos'!$N$52))))","v":0},{"$f":"IF(AO128<=0,0,$AV$32)","v":0},0,0,"",0,109]
[110,0,null,{"$f":"IF(B129+F129-D128<=0,B129+F129,IF(A129=$B$10,$F$10,IF(A129=$B$11,$F$11,IF(A129=$B$12,$F$12,IF(A129=$B$13,$F$13,IF(A129=$B$14,$F$14,IF(AND('Simulador Pagos Oportunos'!$AF$45=2,L128=0),D128*(1+Z129),IF($AP$3=2,B129*AN129,D128*(1+Z129)))))))))","v":0},null,0,null,0,null,{"$f":"IF(B129-H129=0,0,J127*(1+(3%)))","v":0},null,null,null,{"$f":"IF(OR('Simulador Pagos Oportunos'!$U$65=1,'Simulador Pagos Oportunos'!$U$65=3),0,L129*'Simulador Pagos Oportunos'!$U$66*'Simulador Pagos Oportunos'!$V$64)","v":0},null,{"$f":"IF(B129=0,\"\",IF('Simulador Pagos Oportunos'!$W$40=3,AJ129,IF('Simulador Pagos Oportunos'!$W$40=4,AK129,IF('Simulador Pagos Oportunos'!$W$40=5,AL129,IF('Simulador Pagos Oportunos'!$W$40=6,AI129,AH129)))))","v":""},null,0,null,{"$f":"IF(B129<=0,0,B129*'Simulador Pagos Oportunos'!$Y$76)","v":0},null,{"$f":"IF(B129<=0,0,IF('Simulador Pagos Oportunos'!$W$40=3,'Simulador Pagos Oportunos'!$J$52,IF('Simulador Pagos Oportunos'!$W$40=4,'Simulador Pagos Oportunos'!$L$52,IF('Simulador Pagos Oportunos'!$W$40=5,'Simulador Pagos Oportunos'!$N$52,IF('Simulador Pagos Oportunos'!$W$40=6,'Simulador Pagos Oportunos'!$H$52)))))","v":0},null,0,null,null,null,9,2,0,0,0,0,{"$f":"AH128","v":0.11399999999999999},null,0.1225,0.1225,0.1225,0,0,0,0,0,0,0,{"$f":"IF(AO129=0,\"\",IF('Simulador Pagos Oportunos'!$W$40=3,AJ129,IF('Simulador Pagos Oportunos'!$W$40=4,AK129,IF('Simulador Pagos Oportunos'!$W$40=5,AL129,IF('Simulador Pagos Oportunos'!$W$40=6,AI129,AH129)))))","v":""},{"$f":"IF(AO129<=0,0,IF('Simulador Pagos Oportunos'!$Y$73=1,0,AO129*'Simulador Pagos Oportunos'!$Y$76))+IF(AO129<=0,0,IF('Simulador Pagos Oportunos'!$W$40=6,'Simulador Pagos Oportunos'!$H$52,IF('Simulador Pagos Oportunos'!$W$40=3,'Simulador Pagos Oportunos'!$J$52,IF('Simulador Pagos Oportunos'!$W$40=4,'Simulador Pagos Oportunos'!$L$52,'Simulador Pagos Oportunos'!$N$52))))","v":0},null,0,0,"",0,110]
[111,0,null,{"$f":"IF(B130+F130-D129<=0,B130+F130,IF(A130=$B$10,$F$10,IF(A130=$B$11,$F$11,IF(A130=$B$12,$F$12,IF(A130=$B$13,$F$13,IF(A130=$B$14,$F$14,IF(AND('Simulador Pagos Oportunos'!$AF$45=2,L129=0),D129*(1+Z130),IF($AP$3=2,B130*AN130,D129*(1+Z130)))))))))","v":0},null,0,null,0,null,null,null,null,null,{"$f":"IF(OR('Simulador Pagos Oportunos'!$U$65=1,'Simulador Pagos Oportunos'!$U$65=3),0,L130*'Simulador Pagos Oportunos'!$U$66*'Simulador Pagos Oportunos'!$V$64)","v":0},null,{"$f":"IF(B130=0,\"\",IF('Simulador Pagos Oportunos'!$W$40=3,AJ130,IF('Simulador Pagos Oportunos'!$W$40=4,AK130,IF('Simulador Pagos Oportunos'!$W$40=5,AL130,IF('Simulador Pagos Oportunos'!$W$40=6,AI130,AH130)))))","v":""},null,0,null,{"$f":"IF(B130<=0,0,B130*'Simulador Pagos Oportunos'!$Y$76)","v":0},null,{"$f":"IF(B130<=0,0,IF('Simulador Pagos Oportunos'!$W$40=3,'Simulador Pagos Oportunos'!$J$52,IF('Simulador Pagos Oportunos'!$W$40=4,'Simulador Pagos Oportunos'!$L$52,IF('Simulador Pagos Oportunos'!$W$40=5,'Simulador Pagos Oportunos'!$N$52,IF('Simulador Pagos Oportunos'!$W$40=6,'Simulador Pagos Oportunos'!$H$52)))))","v":0},null,0,null,null,null,9,3,0,0,0,0,{"$f":"AH129","v":0.11399999999999999},null,0.1225,0.1225,0.1225,0,0,0,0,0,0,0,{"$f":"IF(AO130=0,\"\",IF('Simulador Pagos Oportunos'!$W$40=3,AJ130,IF('Simulador Pagos Oportunos'!$W$40=4,AK130,IF('Simulador Pagos Oportunos'!$W$40=5,AL130,IF('Simulador Pagos Oportunos'!$W$40=6,AI130,AH130)))))","v":""},{"$f":"IF(AO130<=0,0,IF('Simulador Pagos Oportunos'!$Y$73=1,0,AO130*'Simulador Pagos Oportunos'!$Y$76))+IF(AO130<=0,0,IF('Simulador Pagos Oportunos'!$W$40=6,'Simulador Pagos Oportunos'!$H$52,IF('Simulador Pagos Oportunos'!$W$40=3,'Simulador Pagos Oportunos'!$J$52,IF('Simulador Pagos Oportunos'!$W$40=4,'Simulador Pagos Oportunos'!$L$52,'Simulador Pagos Oportunos'!$N$52))))","v":0},null,0,0,"",0,111]
[112,0,null,{"$f":"IF(B131+F131-D130<=0,B131+F131,IF(A131=$B$10,$F$10,IF(A131=$B$11,$F$11,IF(A131=$B$12,$F$12,IF(A131=$B$13,$F$13,IF(A131=$B$14,$F$14,IF(AND('Simulador Pagos Oportunos'!$AF$45=2,L130=0),D130*(1+Z131),IF($AP$3=2,B131*AN131,D130*(1+Z131)))))))))","v":0},null,0,null,0,null,{"$f":"IF(B131-H131=0,0,J129)","v":0},null,null,null,{"$f":"IF(OR('Simulador Pagos Oportunos'!$U$65=1,'Simulador Pagos Oportunos'!$U$65=3),0,L131*'Simulador Pagos Oportunos'!$U$66*'Simulador Pagos Oportunos'!$V$64)","v":0},null,{"$f":"IF(B131=0,\"\",IF('Simulador Pagos Oportunos'!$W$40=3,AJ131,IF('Simulador Pagos Oportunos'!$W$40=4,AK131,IF('Simulador Pagos Oportunos'!$W$40=5,AL131,IF('Simulador Pagos Oportunos'!$W$40=6,AI131,AH131)))))","v":""},null,0,null,{"$f":"IF(B131<=0,0,B131*'Simulador Pagos Oportunos'!$Y$76)","v":0},null,{"$f":"IF(B131<=0,0,IF('Simulador Pagos Oportunos'!$W$40=3,'Simulador Pagos Oportunos'!$J$52,IF('Simulador Pagos Oportunos'!$W$40=4,'Simulador Pagos Oportunos'!$L$52,IF('Simulador Pagos Oportunos'!$W$40=5,'Simulador Pagos Oportunos'!$N$52,IF('Simulador Pagos Oportunos'!$W$40=6,'Simulador Pagos Oportunos'!$H$52)))))","v":0},null,0,null,null,null,9,4,0,0,0,0,0.11399999999999999,null,0.1225,0.1225,0.1225,0,0,0,0,0,0,0,{"$f":"IF(AO131=0,\"\",IF('Simulador Pagos Oportunos'!$W$40=3,AJ131,IF('Simulador Pagos Oportunos'!$W$40=4,AK131,IF('Simulador Pagos Oportunos'!$W$40=5,AL131,IF('Simulador Pagos Oportunos'!$W$40=6,AI131,AH131)))))","v":""},{"$f":"IF(AO131<=0,0,IF('Simulador Pagos Oportunos'!$Y$73=1,0,AO131*'Simulador Pagos Oportunos'!$Y$76))+IF(AO131<=0,0,IF('Simulador Pagos Oportunos'!$W$40=6,'Simulador Pagos Oportunos'!$H$52,IF('Simulador Pagos Oportunos'!$W$40=3,'Simulador Pagos Oportunos'!$J$52,IF('Simulador Pagos Oportunos'!$W$40=4,'Simulador Pagos Oportunos'!$L$52,'Simulador Pagos Oportunos'!$N$52))))","v":0},null,0,0,"",0,112]
[113,0,null,{"$f":"IF(B132+F132-D131<=0,B132+F132,IF(A132=$B$10,$F$10,IF(A132=$B$11,$F$11,IF(A132=$B$12,$F$12,IF(A132=$B$13,$F$13,IF(A132=$B$14,$F$14,IF(AND('Simulador Pagos Oportunos'!$AF$45=2,L131=0),D131*(1+Z132),IF($AP$3=2,B132*AN132,D131*(1+Z132)))))))))","v":0},null,0,null,0,null,null,null,null,null,{"$f":"IF(OR('Simulador Pagos Oportunos'!$U$65=1,'Simulador Pagos Oportunos'!$U$65=3),0,L132*'Simulador Pagos Oportunos'!$U$66*'Simulador Pagos Oportunos'!$V$64)","v":0},null,{"$f":"IF(B132=0,\"\",IF('Simulador Pagos Oportunos'!$W$40=3,AJ132,IF('Simulador Pagos Oportunos'!$W$40=4,AK132,IF('Simulador Pagos Oportunos'!$W$40=5,AL132,IF('Simulador Pagos Oportunos'!$W$40=6,AI132,AH132)))))","v":""},null,0,null,{"$f":"IF(B132<=0,0,B132*'Simulador Pagos Oportunos'!$Y$76)","v":0},null,{"$f":"IF(B132<=0,0,IF('Simulador Pagos Oportunos'!$W$40=3,'Simulador Pagos Oportunos'!$J$52,IF('Simulador Pagos Oportunos'!$W$40=4,'Simulador Pagos Oportunos'!$L$52,IF('Simulador Pagos Oportunos'!$W$40=5,'Simulador Pagos Oportunos'!$N$52,IF('Simulador Pagos Oportunos'!$W$40=6,'Simulador Pagos Oportunos'!$H$52)))))","v":0},null,0,null,null,null,9,5,0,0,0,0,0.11399999999999999,null,0.1225,0.1225,0.1225,0,0,0,0,0,0,0,{"$f":"IF(AO132=0,\"\",IF('Simulador Pagos Oportunos'!$W$40=3,AJ132,IF('Simulador Pagos Oportunos'!$W$40=4,AK132,IF('Simulador Pagos Oportunos'!$W$40=5,AL132,IF('Simulador Pagos Oportunos'!$W$40=6,AI132,AH132)))))","v":""},{"$f":"IF(AO132<=0,0,IF('Simulador Pagos Oportunos'!$Y$73=1,0,AO132*'Simulador Pagos Oportunos'!$Y$76))+IF(AO132<=0,0,IF('Simulador Pagos Oportunos'!$W$40=6,'Simulador Pagos Oportunos'!$H$52,IF('Simulador Pagos Oportunos'!$W$40=3,'Simulador Pagos Oportunos'!$J$52,IF('Simulador Pagos Oportunos'!$W$40=4,'Simulador Pagos Oportunos'!$L$52,'Simulador Pagos Oportunos'!$N$52))))","v":0},null,0,0,"",0,113]
[114,0,null,{"$f":"IF(B133+F133-D132<=0,B133+F133,IF(A133=$B$10,$F$10,IF(A133=$B$11,$F$11,IF(A133=$B$12,$F$12,IF(A133=$B$13,$F$13,IF(A133=$B$14,$F$14,IF(AND('Simulador Pagos Oportunos'!$AF$45=2,L132=0),D132*(1+Z133),IF($AP$3=2,B133*AN133,D132*(1+Z133)))))))))","v":0},null,0,null,0,null,{"$f":"IF(B133-H133=0,0,J131)","v":0},null,null,null,{"$f":"IF(OR('Simulador Pagos Oportunos'!$U$65=1,'Simulador Pagos Oportunos'!$U$65=3),0,L133*'Simulador Pagos Oportunos'!$U$66*'Simulador Pagos Oportunos'!$V$64)","v":0},null,{"$f":"IF(B133=0,\"\",IF('Simulador Pagos Oportunos'!$W$40=3,AJ133,IF('Simulador Pagos Oportunos'!$W$40=4,AK133,IF('Simulador Pagos Oportunos'!$W$40=5,AL133,IF('Simulador Pagos Oportunos'!$W$40=6,AI133,AH133)))))","v":""},null,0,null,{"$f":"IF(B133<=0,0,B133*'Simulador Pagos Oportunos'!$Y$76)","v":0},null,{"$f":"IF(B133<=0,0,IF('Simulador Pagos Oportunos'!$W$40=3,'Simulador Pagos Oportunos'!$J$52,IF('Simulador Pagos Oportunos'!$W$40=4,'Simulador Pagos Oportunos'!$L$52,IF('Simulador Pagos Oportunos'!$W$40=5,'Simulador Pagos Oportunos'!$N$52,IF('Simulador Pagos Oportunos'!$W$40=6,'Simulador Pagos Oportunos'!$H$52)))))","v":0},null,0,null,null,null,9,6,0,0,0,0,0.11399999999999999,null,0.1225,0.1225,0.1225,0,0,0,0,0,0,0,{"$f":"IF(AO133=0,\"\",IF('Simulador Pagos Oportunos'!$W$40=3,AJ133,IF('Simulador Pagos Oportunos'!$W$40=4,AK133,IF('Simulador Pagos Oportunos'!$W$40=5,AL133,IF('Simulador Pagos Oportunos'!$W$40=6,AI133,AH133)))))","v":""},{"$f":"IF(AO133<=0,0,IF('Simulador Pagos Oportunos'!$Y$73=1,0,AO133*'Simulador Pagos Oportunos'!$Y$76))+IF(AO133<=0,0,IF('Simulador Pagos Oportunos'!$W$40=6,'Simulador Pagos Oportunos'!$H$52,IF('Simulador Pagos Oportunos'!$W$40=3,'Simulador Pagos Oportunos'!$J$52,IF('Simulador Pagos Oportunos'!$W$40=4,'Simulador Pagos Oportunos'!$L$52,'Simulador Pagos Oportunos'!$N$52))))","v":0},null,0,0,"",0,114]
[115,0,null,{"$f":"IF(B134+F134-D133<=0,B134+F134,IF(A134=$B$10,$F$10,IF(A134=$B$11,$F$11,IF(A134=$B$12,$F$12,IF(A134=$B$13,$F$13,IF(A134=$B$14,$F$14,IF(AND('Simulador Pagos Oportunos'!$AF$45=2,L133=0),D133*(1+Z134),IF($AP$3=2,B134*AN134,D133*(1+Z134)))))))))","v":0},null,0,null,0,null,null,null,null,null,{"$f":"IF(OR('Simulador Pagos Oportunos'!$U$65=1,'Simulador Pagos Oportunos'!$U$65=3),0,L134*'Simulador Pagos Oportunos'!$U$66*'Simulador Pagos Oportunos'!$V$64)","v":0},null,{"$f":"IF(B134=0,\"\",IF('Simulador Pagos Oportunos'!$W$40=3,AJ134,IF('Simulador Pagos Oportunos'!$W$40=4,AK134,IF('Simulador Pagos Oportunos'!$W$40=5,AL134,IF('Simulador Pagos Oportunos'!$W$40=6,AI134,AH134)))))","v":""},null,0,null,{"$f":"IF(B134<=0,0,B134*'Simulador Pagos Oportunos'!$Y$76)","v":0},null,{"$f":"IF(B134<=0,0,IF('Simulador Pagos Oportunos'!$W$40=3,'Simulador Pagos Oportunos'!$J$52,IF('Simulador Pagos Oportunos'!$W$40=4,'Simulador Pagos Oportunos'!$L$52,IF('Simulador Pagos Oportunos'!$W$40=5,'Simulador Pagos Oportunos'!$N$52,IF('Simulador Pagos Oportunos'!$W$40=6,'Simulador Pagos Oportunos'!$H$52)))))","v":0},null,0,null,null,null,9,7,0,0,0,0,0.11399999999999999,null,0.1225,0.1225,0.1225,0,0,0,0,0,0,0,{"$f":"IF(AO134=0,\"\",IF('Simulador Pagos Oportunos'!$W$40=3,AJ134,IF('Simulador Pagos Oportunos'!$W$40=4,AK134,IF('Simulador Pagos Oportunos'!$W$40=5,AL134,IF('Simulador Pagos Oportunos'!$W$40=6,AI134,AH134)))))","v":""},{"$f":"IF(AO134<=0,0,IF('Simulador Pagos Oportunos'!$Y$73=1,0,AO134*'Simulador Pagos Oportunos'!$Y$76))+IF(AO134<=0,0,IF('Simulador Pagos Oportunos'!$W$40=6,'Simulador Pagos Oportunos'!$H$52,IF('Simulador Pagos Oportunos'!$W$40=3,'Simulador Pagos Oportunos'!$J$52,IF('Simulador Pagos Oportunos'!$W$40=4,'Simulador Pagos Oportunos'!$L$52,'Simulador Pagos Oportunos'!$N$52))))","v":0},null,0,0,"",0,115]
[116,0,null,{"$f":"IF(B135+F135-D134<=0,B135+F135,IF(A135=$B$10,$F$10,IF(A135=$B$11,$F$11,IF(A135=$B$12,$F$12,IF(A135=$B$13,$F$13,IF(A135=$B$14,$F$14,IF(AND('Simulador Pagos Oportunos'!$AF$45=2,L134=0),D134*(1+Z135),IF($AP$3=2,B135*AN135,D134*(1+Z135)))))))))","v":0},null,0,null,0,null,{"$f":"IF(B135-H135=0,0,J133)","v":0},null,null,null,{"$f":"IF(OR('Simulador Pagos Oportunos'!$U$65=1,'Simulador Pagos Oportunos'!$U$65=3),0,L135*'Simulador Pagos Oportunos'!$U$66*'Simulador Pagos Oportunos'!$V$64)","v":0},null,{"$f":"IF(B135=0,\"\",IF('Simulador Pagos Oportunos'!$W$40=3,AJ135,IF('Simulador Pagos Oportunos'!$W$40=4,AK135,IF('Simulador Pagos Oportunos'!$W$40=5,AL135,IF('Simulador Pagos Oportunos'!$W$40=6,AI135,AH135)))))","v":""},null,0,null,{"$f":"IF(B135<=0,0,B135*'Simulador Pagos Oportunos'!$Y$76)","v":0},null,{"$f":"IF(B135<=0,0,IF('Simulador Pagos Oportunos'!$W$40=3,'Simulador Pagos Oportunos'!$J$52,IF('Simulador Pagos Oportunos'!$W$40=4,'Simulador Pagos Oportunos'!$L$52,IF('Simulador Pagos Oportunos'!$W$40=5,'Simulador Pagos Oportunos'!$N$52,IF('Simulador Pagos Oportunos'!$W$40=6,'Simulador Pagos Oportunos'!$H$52)))))","v":0},null,0,null,null,null,9,8,0,0,0,0,0.11399999999999999,null,0.1225,0.1225,0.1225,0,0,0,0,0,0,0,{"$f":"IF(AO135=0,\"\",IF('Simulador Pagos Oportunos'!$W$40=3,AJ135,IF('Simulador Pagos Oportunos'!$W$40=4,AK135,IF('Simulador Pagos Oportunos'!$W$40=5,AL135,IF('Simulador Pagos Oportunos'!$W$40=6,AI135,AH135)))))","v":""},{"$f":"IF(AO135<=0,0,IF('Simulador Pagos Oportunos'!$Y$73=1,0,AO135*'Simulador Pagos Oportunos'!$Y$76))+IF(AO135<=0,0,IF('Simulador Pagos Oportunos'!$W$40=6,'Simulador Pagos Oportunos'!$H$52,IF('Simulador Pagos Oportunos'!$W$40=3,'Simulador Pagos Oportunos'!$J$52,IF('Simulador Pagos Oportunos'!$W$40=4,'Simulador Pagos Oportunos'!$L$52,'Simulador Pagos Oportunos'!$N$52))))","v":0},null,0,0,"",0,116]
[117,0,null,{"$f":"IF(B136+F136-D135<=0,B136+F136,IF(A136=$B$10,$F$10,IF(A136=$B$11,$F$11,IF(A136=$B$12,$F$12,IF(A136=$B$13,$F$13,IF(A136=$B$14,$F$14,IF(AND('Simulador Pagos Oportunos'!$AF$45=2,L135=0),D135*(1+Z136),IF($AP$3=2,B136*AN136,D135*(1+Z136)))))))))","v":0},null,0,null,0,null,null,null,null,null,{"$f":"IF(OR('Simulador Pagos Oportunos'!$U$65=1,'Simulador Pagos Oportunos'!$U$65=3),0,L136*'Simulador Pagos Oportunos'!$U$66*'Simulador Pagos Oportunos'!$V$64)","v":0},null,{"$f":"IF(B136=0,\"\",IF('Simulador Pagos Oportunos'!$W$40=3,AJ136,IF('Simulador Pagos Oportunos'!$W$40=4,AK136,IF('Simulador Pagos Oportunos'!$W$40=5,AL136,IF('Simulador Pagos Oportunos'!$W$40=6,AI136,AH136)))))","v":""},null,0,null,{"$f":"IF(B136<=0,0,B136*'Simulador Pagos Oportunos'!$Y$76)","v":0},null,{"$f":"IF(B136<=0,0,IF('Simulador Pagos Oportunos'!$W$40=3,'Simulador Pagos Oportunos'!$J$52,IF('Simulador Pagos Oportunos'!$W$40=4,'Simulador Pagos Oportunos'!$L$52,IF('Simulador Pagos Oportunos'!$W$40=5,'Simulador Pagos Oportunos'!$N$52,IF('Simulador Pagos Oportunos'!$W$40=6,'Simulador Pagos Oportunos'!$H$52)))))","v":0},null,0,null,null,null,9,9,0,0,0,0,0.11399999999999999,null,0.1225,0.1225,0.1225,0,0,0,0,0,0,0,{"$f":"IF(AO136=0,\"\",IF('Simulador Pagos Oportunos'!$W$40=3,AJ136,IF('Simulador Pagos Oportunos'!$W$40=4,AK136,IF('Simulador Pagos Oportunos'!$W$40=5,AL136,IF('Simulador Pagos Oportunos'!$W$40=6,AI136,AH136)))))","v":""},{"$f":"IF(AO136<=0,0,IF('Simulador Pagos Oportunos'!$Y$73=1,0,AO136*'Simulador Pagos Oportunos'!$Y$76))+IF(AO136<=0,0,IF('Simulador Pagos Oportunos'!$W$40=6,'Simulador Pagos Oportunos'!$H$52,IF('Simulador Pagos Oportunos'!$W$40=3,'Simulador Pagos Oportunos'!$J$52,IF('Simulador Pagos Oportunos'!$W$40=4,'Simulador Pagos Oportunos'!$L$52,'Simulador Pagos Oportunos'!$N$52))))","v":0},null,0,0,"",0,117]
[118,0,null,{"$f":"IF(B137+F137-D136<=0,B137+F137,IF(A137=$B$10,$F$10,IF(A137=$B$11,$F$11,IF(A137=$B$12,$F$12,IF(A137=$B$13,$F$13,IF(A137=$B$14,$F$14,IF(AND('Simulador Pagos Oportunos'!$AF$45=2,L136=0),D136*(1+Z137),IF($AP$3=2,B137*AN137,D136*(1+Z137)))))))))","v":0},null,0,null,0,null,{"$f":"IF(B137-H137=0,0,J135)","v":0},null,null,null,{"$f":"IF(OR('Simulador Pagos Oportunos'!$U$65=1,'Simulador Pagos Oportunos'!$U$65=3),0,L137*'Simulador Pagos Oportunos'!$U$66*'Simulador Pagos Oportunos'!$V$64)","v":0},null,{"$f":"IF(B137=0,\"\",IF('Simulador Pagos Oportunos'!$W$40=3,AJ137,IF('Simulador Pagos Oportunos'!$W$40=4,AK137,IF('Simulador Pagos Oportunos'!$W$40=5,AL137,IF('Simulador Pagos Oportunos'!$W$40=6,AI137,AH137)))))","v":""},null,0,null,{"$f":"IF(B137<=0,0,B137*'Simulador Pagos Oportunos'!$Y$76)","v":0},null,{"$f":"IF(B137<=0,0,IF('Simulador Pagos Oportunos'!$W$40=3,'Simulador Pagos Oportunos'!$J$52,IF('Simulador Pagos Oportunos'!$W$40=4,'Simulador Pagos Oportunos'!$L$52,IF('Simulador Pagos Oportunos'!$W$40=5,'Simulador Pagos Oportunos'!$N$52,IF('Simulador Pagos Oportunos'!$W$40=6,'Simulador Pagos Oportunos'!$H$52)))))","v":0},null,0,null,null,null,9,10,0,0,0,0,0.11399999999999999,null,0.1225,0.1225,0.1225,0,0,0,0,0,0,0,{"$f":"IF(AO137=0,\"\",IF('Simulador Pagos Oportunos'!$W$40=3,AJ137,IF('Simulador Pagos Oportunos'!$W$40=4,AK137,IF('Simulador Pagos Oportunos'!$W$40=5,AL137,IF('Simulador Pagos Oportunos'!$W$40=6,AI137,AH137)))))","v":""},{"$f":"IF(AO137<=0,0,IF('Simulador Pagos Oportunos'!$Y$73=1,0,AO137*'Simulador Pagos Oportunos'!$Y$76))+IF(AO137<=0,0,IF('Simulador Pagos Oportunos'!$W$40=6,'Simulador Pagos Oportunos'!$H$52,IF('Simulador Pagos Oportunos'!$W$40=3,'Simulador Pagos Oportunos'!$J$52,IF('Simulador Pagos Oportunos'!$W$40=4,'Simulador Pagos Oportunos'!$L$52,'Simulador Pagos Oportunos'!$N$52))))","v":0},null,0,0,"",0,118]
[119,0,null,{"$f":"IF(B138+F138-D137<=0,B138+F138,IF(A138=$B$10,$F$10,IF(A138=$B$11,$F$11,IF(A138=$B$12,$F$12,IF(A138=$B$13,$F$13,IF(A138=$B$14,$F$14,IF(AND('Simulador Pagos Oportunos'!$AF$45=2,L137=0),D137*(1+Z138),IF($AP$3=2,B138*AN138,D137*(1+Z138)))))))))","v":0},null,0,null,0,null,null,null,null,null,{"$f":"IF(OR('Simulador Pagos Oportunos'!$U$65=1,'Simulador Pagos Oportunos'!$U$65=3),0,L138*'Simulador Pagos Oportunos'!$U$66*'Simulador Pagos Oportunos'!$V$64)","v":0},null,{"$f":"IF(B138=0,\"\",IF('Simulador Pagos Oportunos'!$W$40=3,AJ138,IF('Simulador Pagos Oportunos'!$W$40=4,AK138,IF('Simulador Pagos Oportunos'!$W$40=5,AL138,IF('Simulador Pagos Oportunos'!$W$40=6,AI138,AH138)))))","v":""},null,0,null,{"$f":"IF(B138<=0,0,B138*'Simulador Pagos Oportunos'!$Y$76)","v":0},null,{"$f":"IF(B138<=0,0,IF('Simulador Pagos Oportunos'!$W$40=3,'Simulador Pagos Oportunos'!$J$52,IF('Simulador Pagos Oportunos'!$W$40=4,'Simulador Pagos Oportunos'!$L$52,IF('Simulador Pagos Oportunos'!$W$40=5,'Simulador Pagos Oportunos'!$N$52,IF('Simulador Pagos Oportunos'!$W$40=6,'Simulador Pagos Oportunos'!$H$52)))))","v":0},null,0,null,null,null,9,11,0,0,0,0,0.11399999999999999,null,0.1225,0.1225,0.1225,0,0,0,0,0,0,0,{"$f":"IF(AO138=0,\"\",IF('Simulador Pagos Oportunos'!$W$40=3,AJ138,IF('Simulador Pagos Oportunos'!$W$40=4,AK138,IF('Simulador Pagos Oportunos'!$W$40=5,AL138,IF('Simulador Pagos Oportunos'!$W$40=6,AI138,AH138)))))","v":""},{"$f":"IF(AO138<=0,0,IF('Simulador Pagos Oportunos'!$Y$73=1,0,AO138*'Simulador Pagos Oportunos'!$Y$76))+IF(AO138<=0,0,IF('Simulador Pagos Oportunos'!$W$40=6,'Simulador Pagos Oportunos'!$H$52,IF('Simulador Pagos Oportunos'!$W$40=3,'Simulador Pagos Oportunos'!$J$52,IF('Simulador Pagos Oportunos'!$W$40=4,'Simulador Pagos Oportunos'!$L$52,'Simulador Pagos Oportunos'!$N$52))))","v":0},null,0,0,"",0,119]
[120,0,null,{"$f":"IF(B139+F139-D138<=0,B139+F139,IF(A139=$B$10,$F$10,IF(A139=$B$11,$F$11,IF(A139=$B$12,$F$12,IF(A139=$B$13,$F$13,IF(A139=$B$14,$F$14,IF(AND('Simulador Pagos Oportunos'!$AF$45=2,L138=0),D138*(1+Z139),IF($AP$3=2,B139*AN139,D138*(1+Z139)))))))))","v":0},null,0,null,0,null,{"$f":"IF(B139-H139=0,0,J137)","v":0},null,null,null,{"$f":"IF(OR('Simulador Pagos Oportunos'!$U$65=1,'Simulador Pagos Oportunos'!$U$65=3),0,L139*'Simulador Pagos Oportunos'!$U$66*'Simulador Pagos Oportunos'!$V$64)","v":0},null,{"$f":"IF(B139=0,\"\",IF('Simulador Pagos Oportunos'!$W$40=3,AJ139,IF('Simulador Pagos Oportunos'!$W$40=4,AK139,IF('Simulador Pagos Oportunos'!$W$40=5,AL139,IF('Simulador Pagos Oportunos'!$W$40=6,AI139,AH139)))))","v":""},null,0,null,{"$f":"IF(B139<=0,0,B139*'Simulador Pagos Oportunos'!$Y$76)","v":0},null,{"$f":"IF(B139<=0,0,IF('Simulador Pagos Oportunos'!$W$40=3,'Simulador Pagos Oportunos'!$J$52,IF('Simulador Pagos Oportunos'!$W$40=4,'Simulador Pagos Oportunos'!$L$52,IF('Simulador Pagos Oportunos'!$W$40=5,'Simulador Pagos Oportunos'!$N$52,IF('Simulador Pagos Oportunos'!$W$40=6,'Simulador Pagos Oportunos'!$H$52)))))","v":0},null,0,null,null,null,10,0,0,0,0,0,0.11399999999999999,null,0.1225,0.1225,0.1225,0,0,0,0,0,0,0,{"$f":"IF(AO139=0,\"\",IF('Simulador Pagos Oportunos'!$W$40=3,AJ139,IF('Simulador Pagos Oportunos'!$W$40=4,AK139,IF('Simulador Pagos Oportunos'!$W$40=5,AL139,IF('Simulador Pagos Oportunos'!$W$40=6,AI139,AH139)))))","v":""},{"$f":"IF(AO139<=0,0,IF('Simulador Pagos Oportunos'!$Y$73=1,0,AO139*'Simulador Pagos Oportunos'!$Y$76))+IF(AO139<=0,0,IF('Simulador Pagos Oportunos'!$W$40=6,'Simulador Pagos Oportunos'!$H$52,IF('Simulador Pagos Oportunos'!$W$40=3,'Simulador Pagos Oportunos'!$J$52,IF('Simulador Pagos Oportunos'!$W$40=4,'Simulador Pagos Oportunos'!$L$52,'Simulador Pagos Oportunos'!$N$52))))","v":0},null,0,0,"",0,120]
[121,0,null,{"$f":"IF(B140+F140-D139<=0,B140+F140,IF(A140=$B$10,$F$10,IF(A140=$B$11,$F$11,IF(A140=$B$12,$F$12,IF(A140=$B$13,$F$13,IF(A140=$B$14,$F$14,IF(AND('Simulador Pagos Oportunos'!$AF$45=2,L139=0),D139*(1+Z140),IF($AP$3=2,B140*AN140,D139*(1+Z140)))))))))","v":0},null,0,null,0,null,null,null,null,null,{"$f":"IF(OR('Simulador Pagos Oportunos'!$U$65=1,'Simulador Pagos Oportunos'!$U$65=3),0,L140*'Simulador Pagos Oportunos'!$U$66*'Simulador Pagos Oportunos'!$V$64)","v":0},null,{"$f":"IF(B140=0,\"\",IF('Simulador Pagos Oportunos'!$W$40=3,AJ140,IF('Simulador Pagos Oportunos'!$W$40=4,AK140,IF('Simulador Pagos Oportunos'!$W$40=5,AL140,IF('Simulador Pagos Oportunos'!$W$40=6,AI140,AH140)))))","v":""},null,0,null,{"$f":"IF(B140<=0,0,B140*'Simulador Pagos Oportunos'!$Y$76)","v":0},null,{"$f":"IF(B140<=0,0,IF('Simulador Pagos Oportunos'!$W$40=3,'Simulador Pagos Oportunos'!$J$52,IF('Simulador Pagos Oportunos'!$W$40=4,'Simulador Pagos Oportunos'!$L$52,IF('Simulador Pagos Oportunos'!$W$40=5,'Simulador Pagos Oportunos'!$N$52,IF('Simulador Pagos Oportunos'!$W$40=6,'Simulador Pagos Oportunos'!$H$52)))))","v":0},null,0,null,{"$f":"IF(B140<=0,0,$Z$32)","v":0},null,10,1,0,0,0,0,{"$f":"IF(AH139=$AH$6,AH139,IF(AH139-0.25%<=$AH$6,$AH$6,AH139-0.25%))","v":0.11149999999999999},null,null,0.1225,0.1225,0,0,0,0,0,0,0,{"$f":"IF(AO140=0,\"\",IF('Simulador Pagos Oportunos'!$W$40=3,AJ140,IF('Simulador Pagos Oportunos'!$W$40=4,AK140,IF('Simulador Pagos Oportunos'!$W$40=5,AL140,IF('Simulador Pagos Oportunos'!$W$40=6,AI140,AH140)))))","v":""},{"$f":"IF(AO140<=0,0,IF('Simulador Pagos Oportunos'!$Y$73=1,0,AO140*'Simulador Pagos Oportunos'!$Y$76))+IF(AO140<=0,0,IF('Simulador Pagos Oportunos'!$W$40=6,'Simulador Pagos Oportunos'!$H$52,IF('Simulador Pagos Oportunos'!$W$40=3,'Simulador Pagos Oportunos'!$J$52,IF('Simulador Pagos Oportunos'!$W$40=4,'Simulador Pagos Oportunos'!$L$52,'Simulador Pagos Oportunos'!$N$52))))","v":0},{"$f":"IF(AO140<=0,0,$AV$32)","v":0},0,{"$f":"IFERROR(IF(AP140<=0.01,0,AX139-1),0)","v":0},"",0,121]
[122,0,null,{"$f":"IF(B141+F141-D140<=0,B141+F141,IF(A141=$B$10,$F$10,IF(A141=$B$11,$F$11,IF(A141=$B$12,$F$12,IF(A141=$B$13,$F$13,IF(A141=$B$14,$F$14,IF(AND('Simulador Pagos Oportunos'!$AF$45=2,L140=0),D140*(1+Z141),IF($AP$3=2,B141*AN141,D140*(1+Z141)))))))))","v":0},null,0,null,0,null,{"$f":"IF(B141-H141=0,0,J139*(1+(3%)))","v":0},null,null,null,{"$f":"IF(OR('Simulador Pagos Oportunos'!$U$65=1,'Simulador Pagos Oportunos'!$U$65=3),0,L141*'Simulador Pagos Oportunos'!$U$66*'Simulador Pagos Oportunos'!$V$64)","v":0},null,{"$f":"IF(B141=0,\"\",IF('Simulador Pagos Oportunos'!$W$40=3,AJ141,IF('Simulador Pagos Oportunos'!$W$40=4,AK141,IF('Simulador Pagos Oportunos'!$W$40=5,AL141,IF('Simulador Pagos Oportunos'!$W$40=6,AI141,AH141)))))","v":""},null,0,null,{"$f":"IF(B141<=0,0,B141*'Simulador Pagos Oportunos'!$Y$76)","v":0},null,{"$f":"IF(B141<=0,0,IF('Simulador Pagos Oportunos'!$W$40=3,'Simulador Pagos Oportunos'!$J$52,IF('Simulador Pagos Oportunos'!$W$40=4,'Simulador Pagos Oportunos'!$L$52,IF('Simulador Pagos Oportunos'!$W$40=5,'Simulador Pagos Oportunos'!$N$52,IF('Simulador Pagos Oportunos'!$W$40=6,'Simulador Pagos Oportunos'!$H$52)))))","v":0},null,0,null,null,null,10,2,0,0,0,0,{"$f":"AH140","v":0.11149999999999999},null,null,0.1225,0.1225,0,0,0,0,0,0,0,{"$f":"IF(AO141=0,\"\",IF('Simulador Pagos Oportunos'!$W$40=3,AJ141,IF('Simulador Pagos Oportunos'!$W$40=4,AK141,IF('Simulador Pagos Oportunos'!$W$40=5,AL141,IF('Simulador Pagos Oportunos'!$W$40=6,AI141,AH141)))))","v":""},{"$f":"IF(AO141<=0,0,IF('Simulador Pagos Oportunos'!$Y$73=1,0,AO141*'Simulador Pagos Oportunos'!$Y$76))+IF(AO141<=0,0,IF('Simulador Pagos Oportunos'!$W$40=6,'Simulador Pagos Oportunos'!$H$52,IF('Simulador Pagos Oportunos'!$W$40=3,'Simulador Pagos Oportunos'!$J$52,IF('Simulador Pagos Oportunos'!$W$40=4,'Simulador Pagos Oportunos'!$L$52,'Simulador Pagos Oportunos'!$N$52))))","v":0},null,0,{"$f":"IFERROR(IF(AP141<=0.01,0,AX140-1),0)","v":0},"",0,122]
[123,0,null,{"$f":"IF(B142+F142-D141<=0,B142+F142,IF(A142=$B$10,$F$10,IF(A142=$B$11,$F$11,IF(A142=$B$12,$F$12,IF(A142=$B$13,$F$13,IF(A142=$B$14,$F$14,IF(AND('Simulador Pagos Oportunos'!$AF$45=2,L141=0),D141*(1+Z142),IF($AP$3=2,B142*AN142,D141*(1+Z142)))))))))","v":0},null,0,null,0,null,null,null,null,null,{"$f":"IF(OR('Simulador Pagos Oportunos'!$U$65=1,'Simulador Pagos Oportunos'!$U$65=3),0,L142*'Simulador Pagos Oportunos'!$U$66*'Simulador Pagos Oportunos'!$V$64)","v":0},null,{"$f":"IF(B142=0,\"\",IF('Simulador Pagos Oportunos'!$W$40=3,AJ142,IF('Simulador Pagos Oportunos'!$W$40=4,AK142,IF('Simulador Pagos Oportunos'!$W$40=5,AL142,IF('Simulador Pagos Oportunos'!$W$40=6,AI142,AH142)))))","v":""},null,0,null,{"$f":"IF(B142<=0,0,B142*'Simulador Pagos Oportunos'!$Y$76)","v":0},null,{"$f":"IF(B142<=0,0,IF('Simulador Pagos Oportunos'!$W$40=3,'Simulador Pagos Oportunos'!$J$52,IF('Simulador Pagos Oportunos'!$W$40=4,'Simulador Pagos Oportunos'!$L$52,IF('Simulador Pagos Oportunos'!$W$40=5,'Simulador Pagos Oportunos'!$N$52,IF('Simulador Pagos Oportunos'!$W$40=6,'Simulador Pagos Oportunos'!$H$52)))))","v":0},null,0,null,null,null,10,3,0,0,0,0,{"$f":"AH141","v":0.11149999999999999},null,null,{"$f":"AK141","v":0.1225},0.1225,0,0,0,0,0,0,0,{"$f":"IF(AO142=0,\"\",IF('Simulador Pagos Oportunos'!$W$40=3,AJ142,IF('Simulador Pagos Oportunos'!$W$40=4,AK142,IF('Simulador Pagos Oportunos'!$W$40=5,AL142,IF('Simulador Pagos Oportunos'!$W$40=6,AI142,AH142)))))","v":""},{"$f":"IF(AO142<=0,0,IF('Simulador Pagos Oportunos'!$Y$73=1,0,AO142*'Simulador Pagos Oportunos'!$Y$76))+IF(AO142<=0,0,IF('Simulador Pagos Oportunos'!$W$40=6,'Simulador Pagos Oportunos'!$H$52,IF('Simulador Pagos Oportunos'!$W$40=3,'Simulador Pagos Oportunos'!$J$52,IF('Simulador Pagos Oportunos'!$W$40=4,'Simulador Pagos Oportunos'!$L$52,'Simulador Pagos Oportunos'!$N$52))))","v":0},null,0,0,"",0,123]
[124,0,null,{"$f":"IF(B143+F143-D142<=0,B143+F143,IF(A143=$B$10,$F$10,IF(A143=$B$11,$F$11,IF(A143=$B$12,$F$12,IF(A143=$B$13,$F$13,IF(A143=$B$14,$F$14,IF(AND('Simulador Pagos Oportunos'!$AF$45=2,L142=0),D142*(1+Z143),IF($AP$3=2,B143*AN143,D142*(1+Z143)))))))))","v":0},null,0,null,0,null,{"$f":"IF(B143-H143=0,0,J141)","v":0},null,null,null,{"$f":"IF(OR('Simulador Pagos Oportunos'!$U$65=1,'Simulador Pagos Oportunos'!$U$65=3),0,L143*'Simulador Pagos Oportunos'!$U$66*'Simulador Pagos Oportunos'!$V$64)","v":0},null,{"$f":"IF(B143=0,\"\",IF('Simulador Pagos Oportunos'!$W$40=3,AJ143,IF('Simulador Pagos Oportunos'!$W$40=4,AK143,IF('Simulador Pagos Oportunos'!$W$40=5,AL143,IF('Simulador Pagos Oportunos'!$W$40=6,AI143,AH143)))))","v":""},null,0,null,{"$f":"IF(B143<=0,0,B143*'Simulador Pagos Oportunos'!$Y$76)","v":0},null,{"$f":"IF(B143<=0,0,IF('Simulador Pagos Oportunos'!$W$40=3,'Simulador Pagos Oportunos'!$J$52,IF('Simulador Pagos Oportunos'!$W$40=4,'Simulador Pagos Oportunos'!$L$52,IF('Simulador Pagos Oportunos'!$W$40=5,'Simulador Pagos Oportunos'!$N$52,IF('Simulador Pagos Oportunos'!$W$40=6,'Simulador Pagos Oportunos'!$H$52)))))","v":0},null,0,null,null,null,10,4,0,0,0,0,0.11149999999999999,null,null,0.1225,0.1225,0,0,0,0,0,0,0,{"$f":"IF(AO143=0,\"\",IF('Simulador Pagos Oportunos'!$W$40=3,AJ143,IF('Simulador Pagos Oportunos'!$W$40=4,AK143,IF('Simulador Pagos Oportunos'!$W$40=5,AL143,IF('Simulador Pagos Oportunos'!$W$40=6,AI143,AH143)))))","v":""},{"$f":"IF(AO143<=0,0,IF('Simulador Pagos Oportunos'!$Y$73=1,0,AO143*'Simulador Pagos Oportunos'!$Y$76))+IF(AO143<=0,0,IF('Simulador Pagos Oportunos'!$W$40=6,'Simulador Pagos Oportunos'!$H$52,IF('Simulador Pagos Oportunos'!$W$40=3,'Simulador Pagos Oportunos'!$J$52,IF('Simulador Pagos Oportunos'!$W$40=4,'Simulador Pagos Oportunos'!$L$52,'Simulador Pagos Oportunos'!$N$52))))","v":0},null,0,0,"",0,124]
[125,0,null,{"$f":"IF(B144+F144-D143<=0,B144+F144,IF(A144=$B$10,$F$10,IF(A144=$B$11,$F$11,IF(A144=$B$12,$F$12,IF(A144=$B$13,$F$13,IF(A144=$B$14,$F$14,IF(AND('Simulador Pagos Oportunos'!$AF$45=2,L143=0),D143*(1+Z144),IF($AP$3=2,B144*AN144,D143*(1+Z144)))))))))","v":0},null,0,null,0,null,null,null,null,null,{"$f":"IF(OR('Simulador Pagos Oportunos'!$U$65=1,'Simulador Pagos Oportunos'!$U$65=3),0,L144*'Simulador Pagos Oportunos'!$U$66*'Simulador Pagos Oportunos'!$V$64)","v":0},null,{"$f":"IF(B144=0,\"\",IF('Simulador Pagos Oportunos'!$W$40=3,AJ144,IF('Simulador Pagos Oportunos'!$W$40=4,AK144,IF('Simulador Pagos Oportunos'!$W$40=5,AL144,IF('Simulador Pagos Oportunos'!$W$40=6,AI144,AH144)))))","v":""},null,0,null,{"$f":"IF(B144<=0,0,B144*'Simulador Pagos Oportunos'!$Y$76)","v":0},null,{"$f":"IF(B144<=0,0,IF('Simulador Pagos Oportunos'!$W$40=3,'Simulador Pagos Oportunos'!$J$52,IF('Simulador Pagos Oportunos'!$W$40=4,'Simulador Pagos Oportunos'!$L$52,IF('Simulador Pagos Oportunos'!$W$40=5,'Simulador Pagos Oportunos'!$N$52,IF('Simulador Pagos Oportunos'!$W$40=6,'Simulador Pagos Oportunos'!$H$52)))))","v":0},null,0,null,null,null,10,5,0,0,0,0,0.11149999999999999,null,null,0.1225,0.1225,0,0,0,0,0,0,0,{"$f":"IF(AO144=0,\"\",IF('Simulador Pagos Oportunos'!$W$40=3,AJ144,IF('Simulador Pagos Oportunos'!$W$40=4,AK144,IF('Simulador Pagos Oportunos'!$W$40=5,AL144,IF('Simulador Pagos Oportunos'!$W$40=6,AI144,AH144)))))","v":""},{"$f":"IF(AO144<=0,0,IF('Simulador Pagos Oportunos'!$Y$73=1,0,AO144*'Simulador Pagos Oportunos'!$Y$76))+IF(AO144<=0,0,IF('Simulador Pagos Oportunos'!$W$40=6,'Simulador Pagos Oportunos'!$H$52,IF('Simulador Pagos Oportunos'!$W$40=3,'Simulador Pagos Oportunos'!$J$52,IF('Simulador Pagos Oportunos'!$W$40=4,'Simulador Pagos Oportunos'!$L$52,'Simulador Pagos Oportunos'!$N$52))))","v":0},null,0,0,"",0,125]
[126,0,null,{"$f":"IF(B145+F145-D144<=0,B145+F145,IF(A145=$B$10,$F$10,IF(A145=$B$11,$F$11,IF(A145=$B$12,$F$12,IF(A145=$B$13,$F$13,IF(A145=$B$14,$F$14,IF(AND('Simulador Pagos Oportunos'!$AF$45=2,L144=0),D144*(1+Z145),IF($AP$3=2,B145*AN145,D144*(1+Z145)))))))))","v":0},null,0,null,0,null,{"$f":"IF(B145-H145=0,0,J143)","v":0},null,null,null,{"$f":"IF(OR('Simulador Pagos Oportunos'!$U$65=1,'Simulador Pagos Oportunos'!$U$65=3),0,L145*'Simulador Pagos Oportunos'!$U$66*'Simulador Pagos Oportunos'!$V$64)","v":0},null,{"$f":"IF(B145=0,\"\",IF('Simulador Pagos Oportunos'!$W$40=3,AJ145,IF('Simulador Pagos Oportunos'!$W$40=4,AK145,IF('Simulador Pagos Oportunos'!$W$40=5,AL145,IF('Simulador Pagos Oportunos'!$W$40=6,AI145,AH145)))))","v":""},null,0,null,{"$f":"IF(B145<=0,0,B145*'Simulador Pagos Oportunos'!$Y$76)","v":0},null,{"$f":"IF(B145<=0,0,IF('Simulador Pagos Oportunos'!$W$40=3,'Simulador Pagos Oportunos'!$J$52,IF('Simulador Pagos Oportunos'!$W$40=4,'Simulador Pagos Oportunos'!$L$52,IF('Simulador Pagos Oportunos'!$W$40=5,'Simulador Pagos Oportunos'!$N$52,IF('Simulador Pagos Oportunos'!$W$40=6,'Simulador Pagos Oportunos'!$H$52)))))","v":0},null,0,null,null,null,10,6,0,0,0,0,0.11149999999999999,null,null,0.1225,0.1225,0,0,0,0,0,0,0,{"$f":"IF(AO145=0,\"\",IF('Simulador Pagos Oportunos'!$W$40=3,AJ145,IF('Simulador Pagos Oportunos'!$W$40=4,AK145,IF('Simulador Pagos Oportunos'!$W$40=5,AL145,IF('Simulador Pagos Oportunos'!$W$40=6,AI145,AH145)))))","v":""},{"$f":"IF(AO145<=0,0,IF('Simulador Pagos Oportunos'!$Y$73=1,0,AO145*'Simulador Pagos Oportunos'!$Y$76))+IF(AO145<=0,0,IF('Simulador Pagos Oportunos'!$W$40=6,'Simulador Pagos Oportunos'!$H$52,IF('Simulador Pagos Oportunos'!$W$40=3,'Simulador Pagos Oportunos'!$J$52,IF('Simulador Pagos Oportunos'!$W$40=4,'Simulador Pagos Oportunos'!$L$52,'Simulador Pagos Oportunos'!$N$52))))","v":0},null,0,0,"",0,126]
[127,0,null,{"$f":"IF(B146+F146-D145<=0,B146+F146,IF(A146=$B$10,$F$10,IF(A146=$B$11,$F$11,IF(A146=$B$12,$F$12,IF(A146=$B$13,$F$13,IF(A146=$B$14,$F$14,IF(AND('Simulador Pagos Oportunos'!$AF$45=2,L145=0),D145*(1+Z146),IF($AP$3=2,B146*AN146,D145*(1+Z146)))))))))","v":0},null,0,null,0,null,null,null,null,null,{"$f":"IF(OR('Simulador Pagos Oportunos'!$U$65=1,'Simulador Pagos Oportunos'!$U$65=3),0,L146*'Simulador Pagos Oportunos'!$U$66*'Simulador Pagos Oportunos'!$V$64)","v":0},null,{"$f":"IF(B146=0,\"\",IF('Simulador Pagos Oportunos'!$W$40=3,AJ146,IF('Simulador Pagos Oportunos'!$W$40=4,AK146,IF('Simulador Pagos Oportunos'!$W$40=5,AL146,IF('Simulador Pagos Oportunos'!$W$40=6,AI146,AH146)))))","v":""},null,0,null,{"$f":"IF(B146<=0,0,B146*'Simulador Pagos Oportunos'!$Y$76)","v":0},null,{"$f":"IF(B146<=0,0,IF('Simulador Pagos Oportunos'!$W$40=3,'Simulador Pagos Oportunos'!$J$52,IF('Simulador Pagos Oportunos'!$W$40=4,'Simulador Pagos Oportunos'!$L$52,IF('Simulador Pagos Oportunos'!$W$40=5,'Simulador Pagos Oportunos'!$N$52,IF('Simulador Pagos Oportunos'!$W$40=6,'Simulador Pagos Oportunos'!$H$52)))))","v":0},null,0,null,null,null,10,7,0,0,0,0,0.11149999999999999,null,null,0.1225,0.1225,0,0,0,0,0,0,0,{"$f":"IF(AO146=0,\"\",IF('Simulador Pagos Oportunos'!$W$40=3,AJ146,IF('Simulador Pagos Oportunos'!$W$40=4,AK146,IF('Simulador Pagos Oportunos'!$W$40=5,AL146,IF('Simulador Pagos Oportunos'!$W$40=6,AI146,AH146)))))","v":""},{"$f":"IF(AO146<=0,0,IF('Simulador Pagos Oportunos'!$Y$73=1,0,AO146*'Simulador Pagos Oportunos'!$Y$76))+IF(AO146<=0,0,IF('Simulador Pagos Oportunos'!$W$40=6,'Simulador Pagos Oportunos'!$H$52,IF('Simulador Pagos Oportunos'!$W$40=3,'Simulador Pagos Oportunos'!$J$52,IF('Simulador Pagos Oportunos'!$W$40=4,'Simulador Pagos Oportunos'!$L$52,'Simulador Pagos Oportunos'!$N$52))))","v":0},null,0,0,"",0,127]
[128,0,null,{"$f":"IF(B147+F147-D146<=0,B147+F147,IF(A147=$B$10,$F$10,IF(A147=$B$11,$F$11,IF(A147=$B$12,$F$12,IF(A147=$B$13,$F$13,IF(A147=$B$14,$F$14,IF(AND('Simulador Pagos Oportunos'!$AF$45=2,L146=0),D146*(1+Z147),IF($AP$3=2,B147*AN147,D146*(1+Z147)))))))))","v":0},null,0,null,0,null,{"$f":"IF(B147-H147=0,0,J145)","v":0},null,null,null,{"$f":"IF(OR('Simulador Pagos Oportunos'!$U$65=1,'Simulador Pagos Oportunos'!$U$65=3),0,L147*'Simulador Pagos Oportunos'!$U$66*'Simulador Pagos Oportunos'!$V$64)","v":0},null,{"$f":"IF(B147=0,\"\",IF('Simulador Pagos Oportunos'!$W$40=3,AJ147,IF('Simulador Pagos Oportunos'!$W$40=4,AK147,IF('Simulador Pagos Oportunos'!$W$40=5,AL147,IF('Simulador Pagos Oportunos'!$W$40=6,AI147,AH147)))))","v":""},null,0,null,{"$f":"IF(B147<=0,0,B147*'Simulador Pagos Oportunos'!$Y$76)","v":0},null,{"$f":"IF(B147<=0,0,IF('Simulador Pagos Oportunos'!$W$40=3,'Simulador Pagos Oportunos'!$J$52,IF('Simulador Pagos Oportunos'!$W$40=4,'Simulador Pagos Oportunos'!$L$52,IF('Simulador Pagos Oportunos'!$W$40=5,'Simulador Pagos Oportunos'!$N$52,IF('Simulador Pagos Oportunos'!$W$40=6,'Simulador Pagos Oportunos'!$H$52)))))","v":0},null,0,null,null,null,10,8,0,0,0,0,0.11149999999999999,null,null,0.1225,0.1225,0,0,0,0,0,0,0,{"$f":"IF(AO147=0,\"\",IF('Simulador Pagos Oportunos'!$W$40=3,AJ147,IF('Simulador Pagos Oportunos'!$W$40=4,AK147,IF('Simulador Pagos Oportunos'!$W$40=5,AL147,IF('Simulador Pagos Oportunos'!$W$40=6,AI147,AH147)))))","v":""},{"$f":"IF(AO147<=0,0,IF('Simulador Pagos Oportunos'!$Y$73=1,0,AO147*'Simulador Pagos Oportunos'!$Y$76))+IF(AO147<=0,0,IF('Simulador Pagos Oportunos'!$W$40=6,'Simulador Pagos Oportunos'!$H$52,IF('Simulador Pagos Oportunos'!$W$40=3,'Simulador Pagos Oportunos'!$J$52,IF('Simulador Pagos Oportunos'!$W$40=4,'Simulador Pagos Oportunos'!$L$52,'Simulador Pagos Oportunos'!$N$52))))","v":0},null,0,0,"",0,128]
[129,0,null,{"$f":"IF(B148+F148-D147<=0,B148+F148,IF(A148=$B$10,$F$10,IF(A148=$B$11,$F$11,IF(A148=$B$12,$F$12,IF(A148=$B$13,$F$13,IF(A148=$B$14,$F$14,IF(AND('Simulador Pagos Oportunos'!$AF$45=2,L147=0),D147*(1+Z148),IF($AP$3=2,B148*AN148,D147*(1+Z148)))))))))","v":0},null,0,null,0,null,null,null,null,null,{"$f":"IF(OR('Simulador Pagos Oportunos'!$U$65=1,'Simulador Pagos Oportunos'!$U$65=3),0,L148*'Simulador Pagos Oportunos'!$U$66*'Simulador Pagos Oportunos'!$V$64)","v":0},null,{"$f":"IF(B148=0,\"\",IF('Simulador Pagos Oportunos'!$W$40=3,AJ148,IF('Simulador Pagos Oportunos'!$W$40=4,AK148,IF('Simulador Pagos Oportunos'!$W$40=5,AL148,IF('Simulador Pagos Oportunos'!$W$40=6,AI148,AH148)))))","v":""},null,0,null,{"$f":"IF(B148<=0,0,B148*'Simulador Pagos Oportunos'!$Y$76)","v":0},null,{"$f":"IF(B148<=0,0,IF('Simulador Pagos Oportunos'!$W$40=3,'Simulador Pagos Oportunos'!$J$52,IF('Simulador Pagos Oportunos'!$W$40=4,'Simulador Pagos Oportunos'!$L$52,IF('Simulador Pagos Oportunos'!$W$40=5,'Simulador Pagos Oportunos'!$N$52,IF('Simulador Pagos Oportunos'!$W$40=6,'Simulador Pagos Oportunos'!$H$52)))))","v":0},null,0,null,null,null,10,9,0,0,0,0,0.11149999999999999,null,null,0.1225,0.1225,0,0,0,0,0,{"$f":"+AP148-AQ148","v":0},{"$f":"+AO148-AR148","v":0},{"$f":"IF(AO148=0,\"\",IF('Simulador Pagos Oportunos'!$W$40=3,AJ148,IF('Simulador Pagos Oportunos'!$W$40=4,AK148,IF('Simulador Pagos Oportunos'!$W$40=5,AL148,IF('Simulador Pagos Oportunos'!$W$40=6,AI148,AH148)))))","v":""},{"$f":"IF(AO148<=0,0,IF('Simulador Pagos Oportunos'!$Y$73=1,0,AO148*'Simulador Pagos Oportunos'!$Y$76))+IF(AO148<=0,0,IF('Simulador Pagos Oportunos'!$W$40=6,'Simulador Pagos Oportunos'!$H$52,IF('Simulador Pagos Oportunos'!$W$40=3,'Simulador Pagos Oportunos'!$J$52,IF('Simulador Pagos Oportunos'!$W$40=4,'Simulador Pagos Oportunos'!$L$52,'Simulador Pagos Oportunos'!$N$52))))","v":0},null,0,0,"",0,129]
[130,{"$f":"IF(R148<0,0,IF(A149=$B$10,R148+$D$10,IF(A149=$B$11,R148+$D$11,IF(A149=$B$12,R148+$D$12,IF(A149=$B$13,R148+$D$13,IF(A149=$B$14,R148+$D$14,R148))))))","v":0},null,{"$f":"IF(B149+F149-D148<=0,B149+F149,IF(A149=$B$10,$F$10,IF(A149=$B$11,$F$11,IF(A149=$B$12,$F$12,IF(A149=$B$13,$F$13,IF(A149=$B$14,$F$14,IF(AND('Simulador Pagos Oportunos'!$AF$45=2,L148=0),D148*(1+Z149),IF($AP$3=2,B149*AN149,D148*(1+Z149)))))))))","v":0},null,{"$f":"IF(B149=0,0,P149/360*AZ149*B149)","v":0},null,0,null,{"$f":"IF(B149-H149=0,0,J147)","v":0},null,null,null,{"$f":"IF(OR('Simulador Pagos Oportunos'!$U$65=1,'Simulador Pagos Oportunos'!$U$65=3),0,L149*'Simulador Pagos Oportunos'!$U$66*'Simulador Pagos Oportunos'!$V$64)","v":0},null,{"$f":"IF(B149=0,\"\",IF('Simulador Pagos Oportunos'!$W$40=3,AJ149,IF('Simulador Pagos Oportunos'!$W$40=4,AK149,IF('Simulador Pagos Oportunos'!$W$40=5,AL149,IF('Simulador Pagos Oportunos'!$W$40=6,AI149,AH149)))))","v":""},null,{"$f":"B149-H149-J149-L149+N149","v":0},null,{"$f":"IF(B149<=0,0,B149*'Simulador Pagos Oportunos'!$Y$76)","v":0},null,{"$f":"IF(B149<=0,0,IF('Simulador Pagos Oportunos'!$W$40=3,'Simulador Pagos Oportunos'!$J$52,IF('Simulador Pagos Oportunos'!$W$40=4,'Simulador Pagos Oportunos'!$L$52,IF('Simulador Pagos Oportunos'!$W$40=5,'Simulador Pagos Oportunos'!$N$52,IF('Simulador Pagos Oportunos'!$W$40=6,'Simulador Pagos Oportunos'!$H$52)))))","v":0},null,{"$f":"IF(B149<=0,0,D149+L149+T149+V149)","v":0},null,null,null,10,10,{"$f":"+IF(R149<=0,IF(R148>0,+A149,0),0)","v":0},{"$f":"+IF(AD149>0,+AB149,0)","v":0},{"$f":"+IF(AD149>0,+AC149,0)","v":0},{"$f":"X149","v":0},0.11149999999999999,null,null,0.1225,0.1225,0,{"$f":"IFERROR(AP149/AO149,0)","v":0},0,0,{"$f":"IFERROR((AT149/360*AZ149*AO149),0)","v":0},0,0,{"$f":"IF(AO149=0,\"\",IF('Simulador Pagos Oportunos'!$W$40=3,AJ149,IF('Simulador Pagos Oportunos'!$W$40=4,AK149,IF('Simulador Pagos Oportunos'!$W$40=5,AL149,IF('Simulador Pagos Oportunos'!$W$40=6,AI149,AH149)))))","v":""},{"$f":"IF(AO149<=0,0,IF('Simulador Pagos Oportunos'!$Y$73=1,0,AO149*'Simulador Pagos Oportunos'!$Y$76))+IF(AO149<=0,0,IF('Simulador Pagos Oportunos'!$W$40=6,'Simulador Pagos Oportunos'!$H$52,IF('Simulador Pagos Oportunos'!$W$40=3,'Simulador Pagos Oportunos'!$J$52,IF('Simulador Pagos Oportunos'!$W$40=4,'Simulador Pagos Oportunos'!$L$52,'Simulador Pagos Oportunos'!$N$52))))","v":0},null,{"$f":"AQ149+AR149+AU149","v":0},0,"",{"$f":"IFERROR(DAY(DATE(YEAR(AY149),MONTH(AY149)+1,0)),0)","v":0},130]
[131,0,null,{"$f":"IF(B150+F150-D149<=0,B150+F150,IF(A150=$B$10,$F$10,IF(A150=$B$11,$F$11,IF(A150=$B$12,$F$12,IF(A150=$B$13,$F$13,IF(A150=$B$14,$F$14,IF(AND('Simulador Pagos Oportunos'!$AF$45=2,L149=0),D149*(1+Z150),IF($AP$3=2,B150*AN150,D149*(1+Z150)))))))))","v":0},null,0,null,{"$f":"D150-F150","v":0},null,null,null,null,null,{"$f":"IF(OR('Simulador Pagos Oportunos'!$U$65=1,'Simulador Pagos Oportunos'!$U$65=3),0,L150*'Simulador Pagos Oportunos'!$U$66*'Simulador Pagos Oportunos'!$V$64)","v":0},null,{"$f":"IF(B150=0,\"\",IF('Simulador Pagos Oportunos'!$W$40=3,AJ150,IF('Simulador Pagos Oportunos'!$W$40=4,AK150,IF('Simulador Pagos Oportunos'!$W$40=5,AL150,IF('Simulador Pagos Oportunos'!$W$40=6,AI150,AH150)))))","v":""},null,0,null,{"$f":"IF(B150<=0,0,B150*'Simulador Pagos Oportunos'!$Y$76)","v":0},null,{"$f":"IF(B150<=0,0,IF('Simulador Pagos Oportunos'!$W$40=3,'Simulador Pagos Oportunos'!$J$52,IF('Simulador Pagos Oportunos'!$W$40=4,'Simulador Pagos Oportunos'!$L$52,IF('Simulador Pagos Oportunos'!$W$40=5,'Simulador Pagos Oportunos'!$N$52,IF('Simulador Pagos Oportunos'!$W$40=6,'Simulador Pagos Oportunos'!$H$52)))))","v":0},null,0,null,null,null,10,11,0,0,0,0,0.11149999999999999,null,null,0.1225,0.1225,0,0,{"$f":"IF(AS149<0,0,IF(A150=$B$10,AS149+$D$10,IF(A150=$B$11,AS149+$D$11,IF(A150=$B$12,AS149+$D$12,IF(A150=$B$13,AS149+$D$13,IF(A150=$B$14,AS149+$D$14,AS149))))))","v":0},{"$f":"IF(AO150+AQ150-AP149<=0,AO150+AQ150,IF($A150=$B$10,$F$10,IF($A150=$B$11,$F$11,IF($A150=$B$12,$F$12,IF($A150=$B$13,$F$13,IF($A150=$B$14,$F$14,AP149*(1+AV150)))))))","v":0},0,0,0,{"$f":"IF(AO150=0,\"\",IF('Simulador Pagos Oportunos'!$W$40=3,AJ150,IF('Simulador Pagos Oportunos'!$W$40=4,AK150,IF('Simulador Pagos Oportunos'!$W$40=5,AL150,IF('Simulador Pagos Oportunos'!$W$40=6,AI150,AH150)))))","v":""},{"$f":"IF(AO150<=0,0,IF('Simulador Pagos Oportunos'!$Y$73=1,0,AO150*'Simulador Pagos Oportunos'!$Y$76))+IF(AO150<=0,0,IF('Simulador Pagos Oportunos'!$W$40=6,'Simulador Pagos Oportunos'!$H$52,IF('Simulador Pagos Oportunos'!$W$40=3,'Simulador Pagos Oportunos'!$J$52,IF('Simulador Pagos Oportunos'!$W$40=4,'Simulador Pagos Oportunos'!$L$52,'Simulador Pagos Oportunos'!$N$52))))","v":0},null,0,0,{"$f":"IF(AO150=0,\"\",DATE(YEAR(AY149),MONTH(AY149)+1,1))","v":""},0,131]
[132,0,null,{"$f":"IF(B151+F151-D150<=0,B151+F151,IF(A151=$B$10,$F$10,IF(A151=$B$11,$F$11,IF(A151=$B$12,$F$12,IF(A151=$B$13,$F$13,IF(A151=$B$14,$F$14,IF(AND('Simulador Pagos Oportunos'!$AF$45=2,L150=0),D150*(1+Z151),IF($AP$3=2,B151*AN151,D150*(1+Z151)))))))))","v":0},null,0,null,0,null,{"$f":"IF(B151-H151=0,0,J149)","v":0},null,null,null,{"$f":"IF(OR('Simulador Pagos Oportunos'!$U$65=1,'Simulador Pagos Oportunos'!$U$65=3),0,L151*'Simulador Pagos Oportunos'!$U$66*'Simulador Pagos Oportunos'!$V$64)","v":0},null,{"$f":"IF(B151=0,\"\",IF('Simulador Pagos Oportunos'!$W$40=3,AJ151,IF('Simulador Pagos Oportunos'!$W$40=4,AK151,IF('Simulador Pagos Oportunos'!$W$40=5,AL151,IF('Simulador Pagos Oportunos'!$W$40=6,AI151,AH151)))))","v":""},null,0,null,{"$f":"IF(B151<=0,0,B151*'Simulador Pagos Oportunos'!$Y$76)","v":0},null,{"$f":"IF(B151<=0,0,IF('Simulador Pagos Oportunos'!$W$40=3,'Simulador Pagos Oportunos'!$J$52,IF('Simulador Pagos Oportunos'!$W$40=4,'Simulador Pagos Oportunos'!$L$52,IF('Simulador Pagos Oportunos'!$W$40=5,'Simulador Pagos Oportunos'!$N$52,IF('Simulador Pagos Oportunos'!$W$40=6,'Simulador Pagos Oportunos'!$H$52)))))","v":0},null,0,null,null,null,11,0,0,0,0,0,0.11149999999999999,null,null,0.1225,0.1225,0,0,0,0,0,0,0,{"$f":"IF(AO151=0,\"\",IF('Simulador Pagos Oportunos'!$W$40=3,AJ151,IF('Simulador Pagos Oportunos'!$W$40=4,AK151,IF('Simulador Pagos Oportunos'!$W$40=5,AL151,IF('Simulador Pagos Oportunos'!$W$40=6,AI151,AH151)))))","v":""},{"$f":"IF(AO151<=0,0,IF('Simulador Pagos Oportunos'!$Y$73=1,0,AO151*'Simulador Pagos Oportunos'!$Y$76))+IF(AO151<=0,0,IF('Simulador Pagos Oportunos'!$W$40=6,'Simulador Pagos Oportunos'!$H$52,IF('Simulador Pagos Oportunos'!$W$40=3,'Simulador Pagos Oportunos'!$J$52,IF('Simulador Pagos Oportunos'!$W$40=4,'Simulador Pagos Oportunos'!$L$52,'Simulador Pagos Oportunos'!$N$52))))","v":0},null,0,0,"",0,132]
[133,0,null,{"$f":"IF(B152+F152-D151<=0,B152+F152,IF(A152=$B$10,$F$10,IF(A152=$B$11,$F$11,IF(A152=$B$12,$F$12,IF(A152=$B$13,$F$13,IF(A152=$B$14,$F$14,IF(AND('Simulador Pagos Oportunos'!$AF$45=2,L151=0),D151*(1+Z152),IF($AP$3=2,B152*AN152,D151*(1+Z152)))))))))","v":0},null,0,null,0,null,null,null,null,null,{"$f":"IF(OR('Simulador Pagos Oportunos'!$U$65=1,'Simulador Pagos Oportunos'!$U$65=3),0,L152*'Simulador Pagos Oportunos'!$U$66*'Simulador Pagos Oportunos'!$V$64)","v":0},null,{"$f":"IF(B152=0,\"\",IF('Simulador Pagos Oportunos'!$W$40=3,AJ152,IF('Simulador Pagos Oportunos'!$W$40=4,AK152,IF('Simulador Pagos Oportunos'!$W$40=5,AL152,IF('Simulador Pagos Oportunos'!$W$40=6,AI152,AH152)))))","v":""},null,0,null,{"$f":"IF(B152<=0,0,B152*'Simulador Pagos Oportunos'!$Y$76)","v":0},null,{"$f":"IF(B152<=0,0,IF('Simulador Pagos Oportunos'!$W$40=3,'Simulador Pagos Oportunos'!$J$52,IF('Simulador Pagos Oportunos'!$W$40=4,'Simulador Pagos Oportunos'!$L$52,IF('Simulador Pagos Oportunos'!$W$40=5,'Simulador Pagos Oportunos'!$N$52,IF('Simulador Pagos Oportunos'!$W$40=6,'Simulador Pagos Oportunos'!$H$52)))))","v":0},null,0,null,{"$f":"IF(B152<=0,0,$Z$32)","v":0},null,11,1,0,0,0,0,{"$f":"IF(AH151=$AH$6,AH151,IF(AH151-0.25%<=$AH$6,$AH$6,AH151-0.25%))","v":0.10899999999999999},null,null,0.1225,0.1225,0,0,0,0,0,0,0,{"$f":"IF(AO152=0,\"\",IF('Simulador Pagos Oportunos'!$W$40=3,AJ152,IF('Simulador Pagos Oportunos'!$W$40=4,AK152,IF('Simulador Pagos Oportunos'!$W$40=5,AL152,IF('Simulador Pagos Oportunos'!$W$40=6,AI152,AH152)))))","v":""},{"$f":"IF(AO152<=0,0,IF('Simulador Pagos Oportunos'!$Y$73=1,0,AO152*'Simulador Pagos Oportunos'!$Y$76))+IF(AO152<=0,0,IF('Simulador Pagos Oportunos'!$W$40=6,'Simulador Pagos Oportunos'!$H$52,IF('Simulador Pagos Oportunos'!$W$40=3,'Simulador Pagos Oportunos'!$J$52,IF('Simulador Pagos Oportunos'!$W$40=4,'Simulador Pagos Oportunos'!$L$52,'Simulador Pagos Oportunos'!$N$52))))","v":0},{"$f":"IF(AO152<=0,0,$AV$32)","v":0},0,0,"",0,133]
[134,0,null,{"$f":"IF(B153+F153-D152<=0,B153+F153,IF(A153=$B$10,$F$10,IF(A153=$B$11,$F$11,IF(A153=$B$12,$F$12,IF(A153=$B$13,$F$13,IF(A153=$B$14,$F$14,IF(AND('Simulador Pagos Oportunos'!$AF$45=2,L152=0),D152*(1+Z153),IF($AP$3=2,B153*AN153,D152*(1+Z153)))))))))","v":0},null,0,null,0,null,{"$f":"IF(B153-H153=0,0,J151*(1+(3%)))","v":0},null,null,null,{"$f":"IF(OR('Simulador Pagos Oportunos'!$U$65=1,'Simulador Pagos Oportunos'!$U$65=3),0,L153*'Simulador Pagos Oportunos'!$U$66*'Simulador Pagos Oportunos'!$V$64)","v":0},null,{"$f":"IF(B153=0,\"\",IF('Simulador Pagos Oportunos'!$W$40=3,AJ153,IF('Simulador Pagos Oportunos'!$W$40=4,AK153,IF('Simulador Pagos Oportunos'!$W$40=5,AL153,IF('Simulador Pagos Oportunos'!$W$40=6,AI153,AH153)))))","v":""},null,0,null,{"$f":"IF(B153<=0,0,B153*'Simulador Pagos Oportunos'!$Y$76)","v":0},null,{"$f":"IF(B153<=0,0,IF('Simulador Pagos Oportunos'!$W$40=3,'Simulador Pagos Oportunos'!$J$52,IF('Simulador Pagos Oportunos'!$W$40=4,'Simulador Pagos Oportunos'!$L$52,IF('Simulador Pagos Oportunos'!$W$40=5,'Simulador Pagos Oportunos'!$N$52,IF('Simulador Pagos Oportunos'!$W$40=6,'Simulador Pagos Oportunos'!$H$52)))))","v":0},null,0,null,null,null,11,2,0,0,0,0,{"$f":"AH152","v":0.10899999999999999},null,null,0.1225,0.1225,0,0,0,0,0,0,0,{"$f":"IF(AO153=0,\"\",IF('Simulador Pagos Oportunos'!$W$40=3,AJ153,IF('Simulador Pagos Oportunos'!$W$40=4,AK153,IF('Simulador Pagos Oportunos'!$W$40=5,AL153,IF('Simulador Pagos Oportunos'!$W$40=6,AI153,AH153)))))","v":""},{"$f":"IF(AO153<=0,0,IF('Simulador Pagos Oportunos'!$Y$73=1,0,AO153*'Simulador Pagos Oportunos'!$Y$76))+IF(AO153<=0,0,IF('Simulador Pagos Oportunos'!$W$40=6,'Simulador Pagos Oportunos'!$H$52,IF('Simulador Pagos Oportunos'!$W$40=3,'Simulador Pagos Oportunos'!$J$52,IF('Simulador Pagos Oportunos'!$W$40=4,'Simulador Pagos Oportunos'!$L$52,'Simulador Pagos Oportunos'!$N$52))))","v":0},null,0,0,"",0,134]
[135,0,null,{"$f":"IF(B154+F154-D153<=0,B154+F154,IF(A154=$B$10,$F$10,IF(A154=$B$11,$F$11,IF(A154=$B$12,$F$12,IF(A154=$B$13,$F$13,IF(A154=$B$14,$F$14,IF(AND('Simulador Pagos Oportunos'!$AF$45=2,L153=0),D153*(1+Z154),IF($AP$3=2,B154*AN154,D153*(1+Z154)))))))))","v":0},null,0,null,0,null,null,null,null,null,{"$f":"IF(OR('Simulador Pagos Oportunos'!$U$65=1,'Simulador Pagos Oportunos'!$U$65=3),0,L154*'Simulador Pagos Oportunos'!$U$66*'Simulador Pagos Oportunos'!$V$64)","v":0},null,{"$f":"IF(B154=0,\"\",IF('Simulador Pagos Oportunos'!$W$40=3,AJ154,IF('Simulador Pagos Oportunos'!$W$40=4,AK154,IF('Simulador Pagos Oportunos'!$W$40=5,AL154,IF('Simulador Pagos Oportunos'!$W$40=6,AI154,AH154)))))","v":""},null,0,null,{"$f":"IF(B154<=0,0,B154*'Simulador Pagos Oportunos'!$Y$76)","v":0},null,{"$f":"IF(B154<=0,0,IF('Simulador Pagos Oportunos'!$W$40=3,'Simulador Pagos Oportunos'!$J$52,IF('Simulador Pagos Oportunos'!$W$40=4,'Simulador Pagos Oportunos'!$L$52,IF('Simulador Pagos Oportunos'!$W$40=5,'Simulador Pagos Oportunos'!$N$52,IF('Simulador Pagos Oportunos'!$W$40=6,'Simulador Pagos Oportunos'!$H$52)))))","v":0},null,0,null,null,null,11,3,0,0,0,0,{"$f":"AH153","v":0.10899999999999999},null,null,0.1225,0.1225,0,0,0,0,0,0,0,{"$f":"IF(AO154=0,\"\",IF('Simulador Pagos Oportunos'!$W$40=3,AJ154,IF('Simulador Pagos Oportunos'!$W$40=4,AK154,IF('Simulador Pagos Oportunos'!$W$40=5,AL154,IF('Simulador Pagos Oportunos'!$W$40=6,AI154,AH154)))))","v":""},{"$f":"IF(AO154<=0,0,IF('Simulador Pagos Oportunos'!$Y$73=1,0,AO154*'Simulador Pagos Oportunos'!$Y$76))+IF(AO154<=0,0,IF('Simulador Pagos Oportunos'!$W$40=6,'Simulador Pagos Oportunos'!$H$52,IF('Simulador Pagos Oportunos'!$W$40=3,'Simulador Pagos Oportunos'!$J$52,IF('Simulador Pagos Oportunos'!$W$40=4,'Simulador Pagos Oportunos'!$L$52,'Simulador Pagos Oportunos'!$N$52))))","v":0},null,0,0,"",0,135]
[136,0,null,{"$f":"IF(B155+F155-D154<=0,B155+F155,IF(A155=$B$10,$F$10,IF(A155=$B$11,$F$11,IF(A155=$B$12,$F$12,IF(A155=$B$13,$F$13,IF(A155=$B$14,$F$14,IF(AND('Simulador Pagos Oportunos'!$AF$45=2,L154=0),D154*(1+Z155),IF($AP$3=2,B155*AN155,D154*(1+Z155)))))))))","v":0},null,0,null,0,null,{"$f":"IF(B155-H155=0,0,J153)","v":0},null,null,null,{"$f":"IF(OR('Simulador Pagos Oportunos'!$U$65=1,'Simulador Pagos Oportunos'!$U$65=3),0,L155*'Simulador Pagos Oportunos'!$U$66*'Simulador Pagos Oportunos'!$V$64)","v":0},null,{"$f":"IF(B155=0,\"\",IF('Simulador Pagos Oportunos'!$W$40=3,AJ155,IF('Simulador Pagos Oportunos'!$W$40=4,AK155,IF('Simulador Pagos Oportunos'!$W$40=5,AL155,IF('Simulador Pagos Oportunos'!$W$40=6,AI155,AH155)))))","v":""},null,0,null,{"$f":"IF(B155<=0,0,B155*'Simulador Pagos Oportunos'!$Y$76)","v":0},null,{"$f":"IF(B155<=0,0,IF('Simulador Pagos Oportunos'!$W$40=3,'Simulador Pagos Oportunos'!$J$52,IF('Simulador Pagos Oportunos'!$W$40=4,'Simulador Pagos Oportunos'!$L$52,IF('Simulador Pagos Oportunos'!$W$40=5,'Simulador Pagos Oportunos'!$N$52,IF('Simulador Pagos Oportunos'!$W$40=6,'Simulador Pagos Oportunos'!$H$52)))))","v":0},null,0,null,null,null,11,4,0,0,0,0,0.10899999999999999,null,null,0.1225,0.1225,0,0,0,0,0,0,0,{"$f":"IF(AO155=0,\"\",IF('Simulador Pagos Oportunos'!$W$40=3,AJ155,IF('Simulador Pagos Oportunos'!$W$40=4,AK155,IF('Simulador Pagos Oportunos'!$W$40=5,AL155,IF('Simulador Pagos Oportunos'!$W$40=6,AI155,AH155)))))","v":""},{"$f":"IF(AO155<=0,0,IF('Simulador Pagos Oportunos'!$Y$73=1,0,AO155*'Simulador Pagos Oportunos'!$Y$76))+IF(AO155<=0,0,IF('Simulador Pagos Oportunos'!$W$40=6,'Simulador Pagos Oportunos'!$H$52,IF('Simulador Pagos Oportunos'!$W$40=3,'Simulador Pagos Oportunos'!$J$52,IF('Simulador Pagos Oportunos'!$W$40=4,'Simulador Pagos Oportunos'!$L$52,'Simulador Pagos Oportunos'!$N$52))))","v":0},null,0,0,"",0,136]
[137,0,null,{"$f":"IF(B156+F156-D155<=0,B156+F156,IF(A156=$B$10,$F$10,IF(A156=$B$11,$F$11,IF(A156=$B$12,$F$12,IF(A156=$B$13,$F$13,IF(A156=$B$14,$F$14,IF(AND('Simulador Pagos Oportunos'!$AF$45=2,L155=0),D155*(1+Z156),IF($AP$3=2,B156*AN156,D155*(1+Z156)))))))))","v":0},null,0,null,0,null,null,null,null,null,{"$f":"IF(OR('Simulador Pagos Oportunos'!$U$65=1,'Simulador Pagos Oportunos'!$U$65=3),0,L156*'Simulador Pagos Oportunos'!$U$66*'Simulador Pagos Oportunos'!$V$64)","v":0},null,{"$f":"IF(B156=0,\"\",IF('Simulador Pagos Oportunos'!$W$40=3,AJ156,IF('Simulador Pagos Oportunos'!$W$40=4,AK156,IF('Simulador Pagos Oportunos'!$W$40=5,AL156,IF('Simulador Pagos Oportunos'!$W$40=6,AI156,AH156)))))","v":""},null,0,null,{"$f":"IF(B156<=0,0,B156*'Simulador Pagos Oportunos'!$Y$76)","v":0},null,{"$f":"IF(B156<=0,0,IF('Simulador Pagos Oportunos'!$W$40=3,'Simulador Pagos Oportunos'!$J$52,IF('Simulador Pagos Oportunos'!$W$40=4,'Simulador Pagos Oportunos'!$L$52,IF('Simulador Pagos Oportunos'!$W$40=5,'Simulador Pagos Oportunos'!$N$52,IF('Simulador Pagos Oportunos'!$W$40=6,'Simulador Pagos Oportunos'!$H$52)))))","v":0},null,0,null,null,null,11,5,0,0,0,0,0.10899999999999999,null,null,0.1225,0.1225,0,0,0,0,0,0,0,{"$f":"IF(AO156=0,\"\",IF('Simulador Pagos Oportunos'!$W$40=3,AJ156,IF('Simulador Pagos Oportunos'!$W$40=4,AK156,IF('Simulador Pagos Oportunos'!$W$40=5,AL156,IF('Simulador Pagos Oportunos'!$W$40=6,AI156,AH156)))))","v":""},{"$f":"IF(AO156<=0,0,IF('Simulador Pagos Oportunos'!$Y$73=1,0,AO156*'Simulador Pagos Oportunos'!$Y$76))+IF(AO156<=0,0,IF('Simulador Pagos Oportunos'!$W$40=6,'Simulador Pagos Oportunos'!$H$52,IF('Simulador Pagos Oportunos'!$W$40=3,'Simulador Pagos Oportunos'!$J$52,IF('Simulador Pagos Oportunos'!$W$40=4,'Simulador Pagos Oportunos'!$L$52,'Simulador Pagos Oportunos'!$N$52))))","v":0},null,0,0,"",0,137]
[138,0,null,{"$f":"IF(B157+F157-D156<=0,B157+F157,IF(A157=$B$10,$F$10,IF(A157=$B$11,$F$11,IF(A157=$B$12,$F$12,IF(A157=$B$13,$F$13,IF(A157=$B$14,$F$14,IF(AND('Simulador Pagos Oportunos'!$AF$45=2,L156=0),D156*(1+Z157),IF($AP$3=2,B157*AN157,D156*(1+Z157)))))))))","v":0},null,0,null,0,null,{"$f":"IF(B157-H157=0,0,J155)","v":0},null,null,null,{"$f":"IF(OR('Simulador Pagos Oportunos'!$U$65=1,'Simulador Pagos Oportunos'!$U$65=3),0,L157*'Simulador Pagos Oportunos'!$U$66*'Simulador Pagos Oportunos'!$V$64)","v":0},null,{"$f":"IF(B157=0,\"\",IF('Simulador Pagos Oportunos'!$W$40=3,AJ157,IF('Simulador Pagos Oportunos'!$W$40=4,AK157,IF('Simulador Pagos Oportunos'!$W$40=5,AL157,IF('Simulador Pagos Oportunos'!$W$40=6,AI157,AH157)))))","v":""},null,0,null,{"$f":"IF(B157<=0,0,B157*'Simulador Pagos Oportunos'!$Y$76)","v":0},null,{"$f":"IF(B157<=0,0,IF('Simulador Pagos Oportunos'!$W$40=3,'Simulador Pagos Oportunos'!$J$52,IF('Simulador Pagos Oportunos'!$W$40=4,'Simulador Pagos Oportunos'!$L$52,IF('Simulador Pagos Oportunos'!$W$40=5,'Simulador Pagos Oportunos'!$N$52,IF('Simulador Pagos Oportunos'!$W$40=6,'Simulador Pagos Oportunos'!$H$52)))))","v":0},null,0,null,null,null,11,6,0,0,0,0,0.10899999999999999,null,null,0.1225,0.1225,0,0,0,0,0,0,0,{"$f":"IF(AO157=0,\"\",IF('Simulador Pagos Oportunos'!$W$40=3,AJ157,IF('Simulador Pagos Oportunos'!$W$40=4,AK157,IF('Simulador Pagos Oportunos'!$W$40=5,AL157,IF('Simulador Pagos Oportunos'!$W$40=6,AI157,AH157)))))","v":""},{"$f":"IF(AO157<=0,0,IF('Simulador Pagos Oportunos'!$Y$73=1,0,AO157*'Simulador Pagos Oportunos'!$Y$76))+IF(AO157<=0,0,IF('Simulador Pagos Oportunos'!$W$40=6,'Simulador Pagos Oportunos'!$H$52,IF('Simulador Pagos Oportunos'!$W$40=3,'Simulador Pagos Oportunos'!$J$52,IF('Simulador Pagos Oportunos'!$W$40=4,'Simulador Pagos Oportunos'!$L$52,'Simulador Pagos Oportunos'!$N$52))))","v":0},null,0,0,"",0,138]
[139,0,null,{"$f":"IF(B158+F158-D157<=0,B158+F158,IF(A158=$B$10,$F$10,IF(A158=$B$11,$F$11,IF(A158=$B$12,$F$12,IF(A158=$B$13,$F$13,IF(A158=$B$14,$F$14,IF(AND('Simulador Pagos Oportunos'!$AF$45=2,L157=0),D157*(1+Z158),IF($AP$3=2,B158*AN158,D157*(1+Z158)))))))))","v":0},null,0,null,0,null,null,null,null,null,{"$f":"IF(OR('Simulador Pagos Oportunos'!$U$65=1,'Simulador Pagos Oportunos'!$U$65=3),0,L158*'Simulador Pagos Oportunos'!$U$66*'Simulador Pagos Oportunos'!$V$64)","v":0},null,{"$f":"IF(B158=0,\"\",IF('Simulador Pagos Oportunos'!$W$40=3,AJ158,IF('Simulador Pagos Oportunos'!$W$40=4,AK158,IF('Simulador Pagos Oportunos'!$W$40=5,AL158,IF('Simulador Pagos Oportunos'!$W$40=6,AI158,AH158)))))","v":""},null,0,null,{"$f":"IF(B158<=0,0,B158*'Simulador Pagos Oportunos'!$Y$76)","v":0},null,{"$f":"IF(B158<=0,0,IF('Simulador Pagos Oportunos'!$W$40=3,'Simulador Pagos Oportunos'!$J$52,IF('Simulador Pagos Oportunos'!$W$40=4,'Simulador Pagos Oportunos'!$L$52,IF('Simulador Pagos Oportunos'!$W$40=5,'Simulador Pagos Oportunos'!$N$52,IF('Simulador Pagos Oportunos'!$W$40=6,'Simulador Pagos Oportunos'!$H$52)))))","v":0},null,0,null,null,null,11,7,0,0,0,0,0.10899999999999999,null,null,{"$f":"AK157","v":0.1225},0.1225,0,0,0,0,0,0,0,{"$f":"IF(AO158=0,\"\",IF('Simulador Pagos Oportunos'!$W$40=3,AJ158,IF('Simulador Pagos Oportunos'!$W$40=4,AK158,IF('Simulador Pagos Oportunos'!$W$40=5,AL158,IF('Simulador Pagos Oportunos'!$W$40=6,AI158,AH158)))))","v":""},{"$f":"IF(AO158<=0,0,IF('Simulador Pagos Oportunos'!$Y$73=1,0,AO158*'Simulador Pagos Oportunos'!$Y$76))+IF(AO158<=0,0,IF('Simulador Pagos Oportunos'!$W$40=6,'Simulador Pagos Oportunos'!$H$52,IF('Simulador Pagos Oportunos'!$W$40=3,'Simulador Pagos Oportunos'!$J$52,IF('Simulador Pagos Oportunos'!$W$40=4,'Simulador Pagos Oportunos'!$L$52,'Simulador Pagos Oportunos'!$N$52))))","v":0},null,0,0,"",0,139]
[140,0,null,{"$f":"IF(B159+F159-D158<=0,B159+F159,IF(A159=$B$10,$F$10,IF(A159=$B$11,$F$11,IF(A159=$B$12,$F$12,IF(A159=$B$13,$F$13,IF(A159=$B$14,$F$14,IF(AND('Simulador Pagos Oportunos'!$AF$45=2,L158=0),D158*(1+Z159),IF($AP$3=2,B159*AN159,D158*(1+Z159)))))))))","v":0},null,0,null,0,null,{"$f":"IF(B159-H159=0,0,J157)","v":0},null,null,null,{"$f":"IF(OR('Simulador Pagos Oportunos'!$U$65=1,'Simulador Pagos Oportunos'!$U$65=3),0,L159*'Simulador Pagos Oportunos'!$U$66*'Simulador Pagos Oportunos'!$V$64)","v":0},null,{"$f":"IF(B159=0,\"\",IF('Simulador Pagos Oportunos'!$W$40=3,AJ159,IF('Simulador Pagos Oportunos'!$W$40=4,AK159,IF('Simulador Pagos Oportunos'!$W$40=5,AL159,IF('Simulador Pagos Oportunos'!$W$40=6,AI159,AH159)))))","v":""},null,0,null,{"$f":"IF(B159<=0,0,B159*'Simulador Pagos Oportunos'!$Y$76)","v":0},null,{"$f":"IF(B159<=0,0,IF('Simulador Pagos Oportunos'!$W$40=3,'Simulador Pagos Oportunos'!$J$52,IF('Simulador Pagos Oportunos'!$W$40=4,'Simulador Pagos Oportunos'!$L$52,IF('Simulador Pagos Oportunos'!$W$40=5,'Simulador Pagos Oportunos'!$N$52,IF('Simulador Pagos Oportunos'!$W$40=6,'Simulador Pagos Oportunos'!$H$52)))))","v":0},null,0,null,null,null,11,8,0,0,0,0,0.10899999999999999,null,null,0.1225,0.1225,0,0,0,0,0,0,0,{"$f":"IF(AO159=0,\"\",IF('Simulador Pagos Oportunos'!$W$40=3,AJ159,IF('Simulador Pagos Oportunos'!$W$40=4,AK159,IF('Simulador Pagos Oportunos'!$W$40=5,AL159,IF('Simulador Pagos Oportunos'!$W$40=6,AI159,AH159)))))","v":""},{"$f":"IF(AO159<=0,0,IF('Simulador Pagos Oportunos'!$Y$73=1,0,AO159*'Simulador Pagos Oportunos'!$Y$76))+IF(AO159<=0,0,IF('Simulador Pagos Oportunos'!$W$40=6,'Simulador Pagos Oportunos'!$H$52,IF('Simulador Pagos Oportunos'!$W$40=3,'Simulador Pagos Oportunos'!$J$52,IF('Simulador Pagos Oportunos'!$W$40=4,'Simulador Pagos Oportunos'!$L$52,'Simulador Pagos Oportunos'!$N$52))))","v":0},null,0,0,"",0,140]
[141,0,null,{"$f":"IF(B160+F160-D159<=0,B160+F160,IF(A160=$B$10,$F$10,IF(A160=$B$11,$F$11,IF(A160=$B$12,$F$12,IF(A160=$B$13,$F$13,IF(A160=$B$14,$F$14,IF(AND('Simulador Pagos Oportunos'!$AF$45=2,L159=0),D159*(1+Z160),IF($AP$3=2,B160*AN160,D159*(1+Z160)))))))))","v":0},null,0,null,0,null,null,null,null,null,{"$f":"IF(OR('Simulador Pagos Oportunos'!$U$65=1,'Simulador Pagos Oportunos'!$U$65=3),0,L160*'Simulador Pagos Oportunos'!$U$66*'Simulador Pagos Oportunos'!$V$64)","v":0},null,{"$f":"IF(B160=0,\"\",IF('Simulador Pagos Oportunos'!$W$40=3,AJ160,IF('Simulador Pagos Oportunos'!$W$40=4,AK160,IF('Simulador Pagos Oportunos'!$W$40=5,AL160,IF('Simulador Pagos Oportunos'!$W$40=6,AI160,AH160)))))","v":""},null,0,null,{"$f":"IF(B160<=0,0,B160*'Simulador Pagos Oportunos'!$Y$76)","v":0},null,{"$f":"IF(B160<=0,0,IF('Simulador Pagos Oportunos'!$W$40=3,'Simulador Pagos Oportunos'!$J$52,IF('Simulador Pagos Oportunos'!$W$40=4,'Simulador Pagos Oportunos'!$L$52,IF('Simulador Pagos Oportunos'!$W$40=5,'Simulador Pagos Oportunos'!$N$52,IF('Simulador Pagos Oportunos'!$W$40=6,'Simulador Pagos Oportunos'!$H$52)))))","v":0},null,0,null,null,null,11,9,0,0,0,0,0.10899999999999999,null,null,0.1225,0.1225,0,0,0,0,0,0,0,{"$f":"IF(AO160=0,\"\",IF('Simulador Pagos Oportunos'!$W$40=3,AJ160,IF('Simulador Pagos Oportunos'!$W$40=4,AK160,IF('Simulador Pagos Oportunos'!$W$40=5,AL160,IF('Simulador Pagos Oportunos'!$W$40=6,AI160,AH160)))))","v":""},{"$f":"IF(AO160<=0,0,IF('Simulador Pagos Oportunos'!$Y$73=1,0,AO160*'Simulador Pagos Oportunos'!$Y$76))+IF(AO160<=0,0,IF('Simulador Pagos Oportunos'!$W$40=6,'Simulador Pagos Oportunos'!$H$52,IF('Simulador Pagos Oportunos'!$W$40=3,'Simulador Pagos Oportunos'!$J$52,IF('Simulador Pagos Oportunos'!$W$40=4,'Simulador Pagos Oportunos'!$L$52,'Simulador Pagos Oportunos'!$N$52))))","v":0},null,0,0,"",0,141]
[142,0,null,{"$f":"IF(B161+F161-D160<=0,B161+F161,IF(A161=$B$10,$F$10,IF(A161=$B$11,$F$11,IF(A161=$B$12,$F$12,IF(A161=$B$13,$F$13,IF(A161=$B$14,$F$14,IF(AND('Simulador Pagos Oportunos'!$AF$45=2,L160=0),D160*(1+Z161),IF($AP$3=2,B161*AN161,D160*(1+Z161)))))))))","v":0},null,0,null,0,null,{"$f":"IF(B161-H161=0,0,J159)","v":0},null,null,null,{"$f":"IF(OR('Simulador Pagos Oportunos'!$U$65=1,'Simulador Pagos Oportunos'!$U$65=3),0,L161*'Simulador Pagos Oportunos'!$U$66*'Simulador Pagos Oportunos'!$V$64)","v":0},null,{"$f":"IF(B161=0,\"\",IF('Simulador Pagos Oportunos'!$W$40=3,AJ161,IF('Simulador Pagos Oportunos'!$W$40=4,AK161,IF('Simulador Pagos Oportunos'!$W$40=5,AL161,IF('Simulador Pagos Oportunos'!$W$40=6,AI161,AH161)))))","v":""},null,0,null,{"$f":"IF(B161<=0,0,B161*'Simulador Pagos Oportunos'!$Y$76)","v":0},null,{"$f":"IF(B161<=0,0,IF('Simulador Pagos Oportunos'!$W$40=3,'Simulador Pagos Oportunos'!$J$52,IF('Simulador Pagos Oportunos'!$W$40=4,'Simulador Pagos Oportunos'!$L$52,IF('Simulador Pagos Oportunos'!$W$40=5,'Simulador Pagos Oportunos'!$N$52,IF('Simulador Pagos Oportunos'!$W$40=6,'Simulador Pagos Oportunos'!$H$52)))))","v":0},null,0,null,null,null,11,10,0,0,0,0,0.10899999999999999,null,null,0.1225,0.1225,0,0,0,0,0,0,0,{"$f":"IF(AO161=0,\"\",IF('Simulador Pagos Oportunos'!$W$40=3,AJ161,IF('Simulador Pagos Oportunos'!$W$40=4,AK161,IF('Simulador Pagos Oportunos'!$W$40=5,AL161,IF('Simulador Pagos Oportunos'!$W$40=6,AI161,AH161)))))","v":""},{"$f":"IF(AO161<=0,0,IF('Simulador Pagos Oportunos'!$Y$73=1,0,AO161*'Simulador Pagos Oportunos'!$Y$76))+IF(AO161<=0,0,IF('Simulador Pagos Oportunos'!$W$40=6,'Simulador Pagos Oportunos'!$H$52,IF('Simulador Pagos Oportunos'!$W$40=3,'Simulador Pagos Oportunos'!$J$52,IF('Simulador Pagos Oportunos'!$W$40=4,'Simulador Pagos Oportunos'!$L$52,'Simulador Pagos Oportunos'!$N$52))))","v":0},null,0,0,"",0,142]
[143,0,null,{"$f":"IF(B162+F162-D161<=0,B162+F162,IF(A162=$B$10,$F$10,IF(A162=$B$11,$F$11,IF(A162=$B$12,$F$12,IF(A162=$B$13,$F$13,IF(A162=$B$14,$F$14,IF(AND('Simulador Pagos Oportunos'!$AF$45=2,L161=0),D161*(1+Z162),IF($AP$3=2,B162*AN162,D161*(1+Z162)))))))))","v":0},null,0,null,0,null,null,null,null,null,{"$f":"IF(OR('Simulador Pagos Oportunos'!$U$65=1,'Simulador Pagos Oportunos'!$U$65=3),0,L162*'Simulador Pagos Oportunos'!$U$66*'Simulador Pagos Oportunos'!$V$64)","v":0},null,{"$f":"IF(B162=0,\"\",IF('Simulador Pagos Oportunos'!$W$40=3,AJ162,IF('Simulador Pagos Oportunos'!$W$40=4,AK162,IF('Simulador Pagos Oportunos'!$W$40=5,AL162,IF('Simulador Pagos Oportunos'!$W$40=6,AI162,AH162)))))","v":""},null,0,null,{"$f":"IF(B162<=0,0,B162*'Simulador Pagos Oportunos'!$Y$76)","v":0},null,{"$f":"IF(B162<=0,0,IF('Simulador Pagos Oportunos'!$W$40=3,'Simulador Pagos Oportunos'!$J$52,IF('Simulador Pagos Oportunos'!$W$40=4,'Simulador Pagos Oportunos'!$L$52,IF('Simulador Pagos Oportunos'!$W$40=5,'Simulador Pagos Oportunos'!$N$52,IF('Simulador Pagos Oportunos'!$W$40=6,'Simulador Pagos Oportunos'!$H$52)))))","v":0},null,0,null,null,null,11,11,0,0,0,0,0.10899999999999999,null,null,0.1225,0.1225,0,0,0,0,0,0,0,{"$f":"IF(AO162=0,\"\",IF('Simulador Pagos Oportunos'!$W$40=3,AJ162,IF('Simulador Pagos Oportunos'!$W$40=4,AK162,IF('Simulador Pagos Oportunos'!$W$40=5,AL162,IF('Simulador Pagos Oportunos'!$W$40=6,AI162,AH162)))))","v":""},{"$f":"IF(AO162<=0,0,IF('Simulador Pagos Oportunos'!$Y$73=1,0,AO162*'Simulador Pagos Oportunos'!$Y$76))+IF(AO162<=0,0,IF('Simulador Pagos Oportunos'!$W$40=6,'Simulador Pagos Oportunos'!$H$52,IF('Simulador Pagos Oportunos'!$W$40=3,'Simulador Pagos Oportunos'!$J$52,IF('Simulador Pagos Oportunos'!$W$40=4,'Simulador Pagos Oportunos'!$L$52,'Simulador Pagos Oportunos'!$N$52))))","v":0},null,0,0,"",0,143]
[144,0,null,{"$f":"IF(B163+F163-D162<=0,B163+F163,IF(A163=$B$10,$F$10,IF(A163=$B$11,$F$11,IF(A163=$B$12,$F$12,IF(A163=$B$13,$F$13,IF(A163=$B$14,$F$14,IF(AND('Simulador Pagos Oportunos'!$AF$45=2,L162=0),D162*(1+Z163),IF($AP$3=2,B163*AN163,D162*(1+Z163)))))))))","v":0},null,0,null,0,null,{"$f":"IF(B163-H163=0,0,J161)","v":0},null,null,null,{"$f":"IF(OR('Simulador Pagos Oportunos'!$U$65=1,'Simulador Pagos Oportunos'!$U$65=3),0,L163*'Simulador Pagos Oportunos'!$U$66*'Simulador Pagos Oportunos'!$V$64)","v":0},null,{"$f":"IF(B163=0,\"\",IF('Simulador Pagos Oportunos'!$W$40=3,AJ163,IF('Simulador Pagos Oportunos'!$W$40=4,AK163,IF('Simulador Pagos Oportunos'!$W$40=5,AL163,IF('Simulador Pagos Oportunos'!$W$40=6,AI163,AH163)))))","v":""},null,0,null,{"$f":"IF(B163<=0,0,B163*'Simulador Pagos Oportunos'!$Y$76)","v":0},null,{"$f":"IF(B163<=0,0,IF('Simulador Pagos Oportunos'!$W$40=3,'Simulador Pagos Oportunos'!$J$52,IF('Simulador Pagos Oportunos'!$W$40=4,'Simulador Pagos Oportunos'!$L$52,IF('Simulador Pagos Oportunos'!$W$40=5,'Simulador Pagos Oportunos'!$N$52,IF('Simulador Pagos Oportunos'!$W$40=6,'Simulador Pagos Oportunos'!$H$52)))))","v":0},null,0,null,null,null,12,0,0,0,0,0,0.10899999999999999,null,null,0.1225,0.1225,0,0,0,0,0,0,0,{"$f":"IF(AO163=0,\"\",IF('Simulador Pagos Oportunos'!$W$40=3,AJ163,IF('Simulador Pagos Oportunos'!$W$40=4,AK163,IF('Simulador Pagos Oportunos'!$W$40=5,AL163,IF('Simulador Pagos Oportunos'!$W$40=6,AI163,AH163)))))","v":""},{"$f":"IF(AO163<=0,0,IF('Simulador Pagos Oportunos'!$Y$73=1,0,AO163*'Simulador Pagos Oportunos'!$Y$76))+IF(AO163<=0,0,IF('Simulador Pagos Oportunos'!$W$40=6,'Simulador Pagos Oportunos'!$H$52,IF('Simulador Pagos Oportunos'!$W$40=3,'Simulador Pagos Oportunos'!$J$52,IF('Simulador Pagos Oportunos'!$W$40=4,'Simulador Pagos Oportunos'!$L$52,'Simulador Pagos Oportunos'!$N$52))))","v":0},null,0,0,"",0,144]
[145,0,null,{"$f":"IF(B164+F164-D163<=0,B164+F164,IF(A164=$B$10,$F$10,IF(A164=$B$11,$F$11,IF(A164=$B$12,$F$12,IF(A164=$B$13,$F$13,IF(A164=$B$14,$F$14,IF(AND('Simulador Pagos Oportunos'!$AF$45=2,L163=0),D163*(1+Z164),IF($AP$3=2,B164*AN164,D163*(1+Z164)))))))))","v":0},null,0,null,0,null,null,null,null,null,{"$f":"IF(OR('Simulador Pagos Oportunos'!$U$65=1,'Simulador Pagos Oportunos'!$U$65=3),0,L164*'Simulador Pagos Oportunos'!$U$66*'Simulador Pagos Oportunos'!$V$64)","v":0},null,{"$f":"IF(B164=0,\"\",IF('Simulador Pagos Oportunos'!$W$40=3,AJ164,IF('Simulador Pagos Oportunos'!$W$40=4,AK164,IF('Simulador Pagos Oportunos'!$W$40=5,AL164,IF('Simulador Pagos Oportunos'!$W$40=6,AI164,AH164)))))","v":""},null,0,null,{"$f":"IF(B164<=0,0,B164*'Simulador Pagos Oportunos'!$Y$76)","v":0},null,{"$f":"IF(B164<=0,0,IF('Simulador Pagos Oportunos'!$W$40=3,'Simulador Pagos Oportunos'!$J$52,IF('Simulador Pagos Oportunos'!$W$40=4,'Simulador Pagos Oportunos'!$L$52,IF('Simulador Pagos Oportunos'!$W$40=5,'Simulador Pagos Oportunos'!$N$52,IF('Simulador Pagos Oportunos'!$W$40=6,'Simulador Pagos Oportunos'!$H$52)))))","v":0},null,0,null,{"$f":"IF(B164<=0,0,$Z$32)","v":0},null,12,1,0,0,0,0,{"$f":"IF(AH163=$AH$6,AH163,IF(AH163-0.25%<=$AH$6,$AH$6,AH163-0.25%))","v":0.10649999999999998},null,null,0.1225,0.1225,0,0,0,0,0,0,0,{"$f":"IF(AO164=0,\"\",IF('Simulador Pagos Oportunos'!$W$40=3,AJ164,IF('Simulador Pagos Oportunos'!$W$40=4,AK164,IF('Simulador Pagos Oportunos'!$W$40=5,AL164,IF('Simulador Pagos Oportunos'!$W$40=6,AI164,AH164)))))","v":""},{"$f":"IF(AO164<=0,0,IF('Simulador Pagos Oportunos'!$Y$73=1,0,AO164*'Simulador Pagos Oportunos'!$Y$76))+IF(AO164<=0,0,IF('Simulador Pagos Oportunos'!$W$40=6,'Simulador Pagos Oportunos'!$H$52,IF('Simulador Pagos Oportunos'!$W$40=3,'Simulador Pagos Oportunos'!$J$52,IF('Simulador Pagos Oportunos'!$W$40=4,'Simulador Pagos Oportunos'!$L$52,'Simulador Pagos Oportunos'!$N$52))))","v":0},{"$f":"IF(AO164<=0,0,$AV$32)","v":0},0,0,"",0,145]
[146,0,null,{"$f":"IF(B165+F165-D164<=0,B165+F165,IF(A165=$B$10,$F$10,IF(A165=$B$11,$F$11,IF(A165=$B$12,$F$12,IF(A165=$B$13,$F$13,IF(A165=$B$14,$F$14,IF(AND('Simulador Pagos Oportunos'!$AF$45=2,L164=0),D164*(1+Z165),IF($AP$3=2,B165*AN165,D164*(1+Z165)))))))))","v":0},null,0,null,0,null,{"$f":"IF(B165-H165=0,0,J163*(1+(3%)))","v":0},null,null,null,{"$f":"IF(OR('Simulador Pagos Oportunos'!$U$65=1,'Simulador Pagos Oportunos'!$U$65=3),0,L165*'Simulador Pagos Oportunos'!$U$66*'Simulador Pagos Oportunos'!$V$64)","v":0},null,{"$f":"IF(B165=0,\"\",IF('Simulador Pagos Oportunos'!$W$40=3,AJ165,IF('Simulador Pagos Oportunos'!$W$40=4,AK165,IF('Simulador Pagos Oportunos'!$W$40=5,AL165,IF('Simulador Pagos Oportunos'!$W$40=6,AI165,AH165)))))","v":""},null,0,null,{"$f":"IF(B165<=0,0,B165*'Simulador Pagos Oportunos'!$Y$76)","v":0},null,{"$f":"IF(B165<=0,0,IF('Simulador Pagos Oportunos'!$W$40=3,'Simulador Pagos Oportunos'!$J$52,IF('Simulador Pagos Oportunos'!$W$40=4,'Simulador Pagos Oportunos'!$L$52,IF('Simulador Pagos Oportunos'!$W$40=5,'Simulador Pagos Oportunos'!$N$52,IF('Simulador Pagos Oportunos'!$W$40=6,'Simulador Pagos Oportunos'!$H$52)))))","v":0},null,0,null,null,null,12,2,0,0,0,0,{"$f":"AH164","v":0.10649999999999998},null,null,0.1225,0.1225,0,0,0,0,0,0,0,{"$f":"IF(AO165=0,\"\",IF('Simulador Pagos Oportunos'!$W$40=3,AJ165,IF('Simulador Pagos Oportunos'!$W$40=4,AK165,IF('Simulador Pagos Oportunos'!$W$40=5,AL165,IF('Simulador Pagos Oportunos'!$W$40=6,AI165,AH165)))))","v":""},{"$f":"IF(AO165<=0,0,IF('Simulador Pagos Oportunos'!$Y$73=1,0,AO165*'Simulador Pagos Oportunos'!$Y$76))+IF(AO165<=0,0,IF('Simulador Pagos Oportunos'!$W$40=6,'Simulador Pagos Oportunos'!$H$52,IF('Simulador Pagos Oportunos'!$W$40=3,'Simulador Pagos Oportunos'!$J$52,IF('Simulador Pagos Oportunos'!$W$40=4,'Simulador Pagos Oportunos'!$L$52,'Simulador Pagos Oportunos'!$N$52))))","v":0},null,0,0,"",0,146]
[147,0,null,{"$f":"IF(B166+F166-D165<=0,B166+F166,IF(A166=$B$10,$F$10,IF(A166=$B$11,$F$11,IF(A166=$B$12,$F$12,IF(A166=$B$13,$F$13,IF(A166=$B$14,$F$14,IF(AND('Simulador Pagos Oportunos'!$AF$45=2,L165=0),D165*(1+Z166),IF($AP$3=2,B166*AN166,D165*(1+Z166)))))))))","v":0},null,0,null,0,null,null,null,null,null,{"$f":"IF(OR('Simulador Pagos Oportunos'!$U$65=1,'Simulador Pagos Oportunos'!$U$65=3),0,L166*'Simulador Pagos Oportunos'!$U$66*'Simulador Pagos Oportunos'!$V$64)","v":0},null,{"$f":"IF(B166=0,\"\",IF('Simulador Pagos Oportunos'!$W$40=3,AJ166,IF('Simulador Pagos Oportunos'!$W$40=4,AK166,IF('Simulador Pagos Oportunos'!$W$40=5,AL166,IF('Simulador Pagos Oportunos'!$W$40=6,AI166,AH166)))))","v":""},null,0,null,{"$f":"IF(B166<=0,0,B166*'Simulador Pagos Oportunos'!$Y$76)","v":0},null,{"$f":"IF(B166<=0,0,IF('Simulador Pagos Oportunos'!$W$40=3,'Simulador Pagos Oportunos'!$J$52,IF('Simulador Pagos Oportunos'!$W$40=4,'Simulador Pagos Oportunos'!$L$52,IF('Simulador Pagos Oportunos'!$W$40=5,'Simulador Pagos Oportunos'!$N$52,IF('Simulador Pagos Oportunos'!$W$40=6,'Simulador Pagos Oportunos'!$H$52)))))","v":0},null,0,null,null,null,12,3,0,0,0,0,{"$f":"AH165","v":0.10649999999999998},null,null,0.1225,0.1225,0,0,0,0,0,0,0,{"$f":"IF(AO166=0,\"\",IF('Simulador Pagos Oportunos'!$W$40=3,AJ166,IF('Simulador Pagos Oportunos'!$W$40=4,AK166,IF('Simulador Pagos Oportunos'!$W$40=5,AL166,IF('Simulador Pagos Oportunos'!$W$40=6,AI166,AH166)))))","v":""},{"$f":"IF(AO166<=0,0,IF('Simulador Pagos Oportunos'!$Y$73=1,0,AO166*'Simulador Pagos Oportunos'!$Y$76))+IF(AO166<=0,0,IF('Simulador Pagos Oportunos'!$W$40=6,'Simulador Pagos Oportunos'!$H$52,IF('Simulador Pagos Oportunos'!$W$40=3,'Simulador Pagos Oportunos'!$J$52,IF('Simulador Pagos Oportunos'!$W$40=4,'Simulador Pagos Oportunos'!$L$52,'Simulador Pagos Oportunos'!$N$52))))","v":0},null,0,0,"",0,147]
[148,0,null,{"$f":"IF(B167+F167-D166<=0,B167+F167,IF(A167=$B$10,$F$10,IF(A167=$B$11,$F$11,IF(A167=$B$12,$F$12,IF(A167=$B$13,$F$13,IF(A167=$B$14,$F$14,IF(AND('Simulador Pagos Oportunos'!$AF$45=2,L166=0),D166*(1+Z167),IF($AP$3=2,B167*AN167,D166*(1+Z167)))))))))","v":0},null,0,null,0,null,{"$f":"IF(B167-H167=0,0,J165)","v":0},null,null,null,{"$f":"IF(OR('Simulador Pagos Oportunos'!$U$65=1,'Simulador Pagos Oportunos'!$U$65=3),0,L167*'Simulador Pagos Oportunos'!$U$66*'Simulador Pagos Oportunos'!$V$64)","v":0},null,{"$f":"IF(B167=0,\"\",IF('Simulador Pagos Oportunos'!$W$40=3,AJ167,IF('Simulador Pagos Oportunos'!$W$40=4,AK167,IF('Simulador Pagos Oportunos'!$W$40=5,AL167,IF('Simulador Pagos Oportunos'!$W$40=6,AI167,AH167)))))","v":""},null,0,null,{"$f":"IF(B167<=0,0,B167*'Simulador Pagos Oportunos'!$Y$76)","v":0},null,{"$f":"IF(B167<=0,0,IF('Simulador Pagos Oportunos'!$W$40=3,'Simulador Pagos Oportunos'!$J$52,IF('Simulador Pagos Oportunos'!$W$40=4,'Simulador Pagos Oportunos'!$L$52,IF('Simulador Pagos Oportunos'!$W$40=5,'Simulador Pagos Oportunos'!$N$52,IF('Simulador Pagos Oportunos'!$W$40=6,'Simulador Pagos Oportunos'!$H$52)))))","v":0},null,0,null,null,null,12,4,0,0,0,0,0.10649999999999998,null,null,0.1225,0.1225,0,0,0,0,0,0,0,{"$f":"IF(AO167=0,\"\",IF('Simulador Pagos Oportunos'!$W$40=3,AJ167,IF('Simulador Pagos Oportunos'!$W$40=4,AK167,IF('Simulador Pagos Oportunos'!$W$40=5,AL167,IF('Simulador Pagos Oportunos'!$W$40=6,AI167,AH167)))))","v":""},{"$f":"IF(AO167<=0,0,IF('Simulador Pagos Oportunos'!$Y$73=1,0,AO167*'Simulador Pagos Oportunos'!$Y$76))+IF(AO167<=0,0,IF('Simulador Pagos Oportunos'!$W$40=6,'Simulador Pagos Oportunos'!$H$52,IF('Simulador Pagos Oportunos'!$W$40=3,'Simulador Pagos Oportunos'!$J$52,IF('Simulador Pagos Oportunos'!$W$40=4,'Simulador Pagos Oportunos'!$L$52,'Simulador Pagos Oportunos'!$N$52))))","v":0},null,0,0,"",0,148]
[149,0,null,{"$f":"IF(B168+F168-D167<=0,B168+F168,IF(A168=$B$10,$F$10,IF(A168=$B$11,$F$11,IF(A168=$B$12,$F$12,IF(A168=$B$13,$F$13,IF(A168=$B$14,$F$14,IF(AND('Simulador Pagos Oportunos'!$AF$45=2,L167=0),D167*(1+Z168),IF($AP$3=2,B168*AN168,D167*(1+Z168)))))))))","v":0},null,0,null,0,null,null,null,null,null,{"$f":"IF(OR('Simulador Pagos Oportunos'!$U$65=1,'Simulador Pagos Oportunos'!$U$65=3),0,L168*'Simulador Pagos Oportunos'!$U$66*'Simulador Pagos Oportunos'!$V$64)","v":0},null,{"$f":"IF(B168=0,\"\",IF('Simulador Pagos Oportunos'!$W$40=3,AJ168,IF('Simulador Pagos Oportunos'!$W$40=4,AK168,IF('Simulador Pagos Oportunos'!$W$40=5,AL168,IF('Simulador Pagos Oportunos'!$W$40=6,AI168,AH168)))))","v":""},null,0,null,{"$f":"IF(B168<=0,0,B168*'Simulador Pagos Oportunos'!$Y$76)","v":0},null,{"$f":"IF(B168<=0,0,IF('Simulador Pagos Oportunos'!$W$40=3,'Simulador Pagos Oportunos'!$J$52,IF('Simulador Pagos Oportunos'!$W$40=4,'Simulador Pagos Oportunos'!$L$52,IF('Simulador Pagos Oportunos'!$W$40=5,'Simulador Pagos Oportunos'!$N$52,IF('Simulador Pagos Oportunos'!$W$40=6,'Simulador Pagos Oportunos'!$H$52)))))","v":0},null,0,null,null,null,12,5,0,0,0,0,0.10649999999999998,null,null,0.1225,0.1225,0,0,0,0,0,0,0,{"$f":"IF(AO168=0,\"\",IF('Simulador Pagos Oportunos'!$W$40=3,AJ168,IF('Simulador Pagos Oportunos'!$W$40=4,AK168,IF('Simulador Pagos Oportunos'!$W$40=5,AL168,IF('Simulador Pagos Oportunos'!$W$40=6,AI168,AH168)))))","v":""},{"$f":"IF(AO168<=0,0,IF('Simulador Pagos Oportunos'!$Y$73=1,0,AO168*'Simulador Pagos Oportunos'!$Y$76))+IF(AO168<=0,0,IF('Simulador Pagos Oportunos'!$W$40=6,'Simulador Pagos Oportunos'!$H$52,IF('Simulador Pagos Oportunos'!$W$40=3,'Simulador Pagos Oportunos'!$J$52,IF('Simulador Pagos Oportunos'!$W$40=4,'Simulador Pagos Oportunos'!$L$52,'Simulador Pagos Oportunos'!$N$52))))","v":0},null,0,0,"",0,149]
[150,0,null,{"$f":"IF(B169+F169-D168<=0,B169+F169,IF(A169=$B$10,$F$10,IF(A169=$B$11,$F$11,IF(A169=$B$12,$F$12,IF(A169=$B$13,$F$13,IF(A169=$B$14,$F$14,IF(AND('Simulador Pagos Oportunos'!$AF$45=2,L168=0),D168*(1+Z169),IF($AP$3=2,B169*AN169,D168*(1+Z169)))))))))","v":0},null,0,null,0,null,{"$f":"IF(B169-H169=0,0,J167)","v":0},null,null,null,{"$f":"IF(OR('Simulador Pagos Oportunos'!$U$65=1,'Simulador Pagos Oportunos'!$U$65=3),0,L169*'Simulador Pagos Oportunos'!$U$66*'Simulador Pagos Oportunos'!$V$64)","v":0},null,{"$f":"IF(B169=0,\"\",IF('Simulador Pagos Oportunos'!$W$40=3,AJ169,IF('Simulador Pagos Oportunos'!$W$40=4,AK169,IF('Simulador Pagos Oportunos'!$W$40=5,AL169,IF('Simulador Pagos Oportunos'!$W$40=6,AI169,AH169)))))","v":""},null,0,null,{"$f":"IF(B169<=0,0,B169*'Simulador Pagos Oportunos'!$Y$76)","v":0},null,{"$f":"IF(B169<=0,0,IF('Simulador Pagos Oportunos'!$W$40=3,'Simulador Pagos Oportunos'!$J$52,IF('Simulador Pagos Oportunos'!$W$40=4,'Simulador Pagos Oportunos'!$L$52,IF('Simulador Pagos Oportunos'!$W$40=5,'Simulador Pagos Oportunos'!$N$52,IF('Simulador Pagos Oportunos'!$W$40=6,'Simulador Pagos Oportunos'!$H$52)))))","v":0},null,0,null,null,null,12,6,0,0,0,0,0.10649999999999998,null,null,0.1225,0.1225,0,0,0,0,0,0,0,{"$f":"IF(AO169=0,\"\",IF('Simulador Pagos Oportunos'!$W$40=3,AJ169,IF('Simulador Pagos Oportunos'!$W$40=4,AK169,IF('Simulador Pagos Oportunos'!$W$40=5,AL169,IF('Simulador Pagos Oportunos'!$W$40=6,AI169,AH169)))))","v":""},{"$f":"IF(AO169<=0,0,IF('Simulador Pagos Oportunos'!$Y$73=1,0,AO169*'Simulador Pagos Oportunos'!$Y$76))+IF(AO169<=0,0,IF('Simulador Pagos Oportunos'!$W$40=6,'Simulador Pagos Oportunos'!$H$52,IF('Simulador Pagos Oportunos'!$W$40=3,'Simulador Pagos Oportunos'!$J$52,IF('Simulador Pagos Oportunos'!$W$40=4,'Simulador Pagos Oportunos'!$L$52,'Simulador Pagos Oportunos'!$N$52))))","v":0},null,0,0,"",0,150]
[151,0,null,{"$f":"IF(B170+F170-D169<=0,B170+F170,IF(A170=$B$10,$F$10,IF(A170=$B$11,$F$11,IF(A170=$B$12,$F$12,IF(A170=$B$13,$F$13,IF(A170=$B$14,$F$14,IF(AND('Simulador Pagos Oportunos'!$AF$45=2,L169=0),D169*(1+Z170),IF($AP$3=2,B170*AN170,D169*(1+Z170)))))))))","v":0},null,0,null,0,null,null,null,null,null,{"$f":"IF(OR('Simulador Pagos Oportunos'!$U$65=1,'Simulador Pagos Oportunos'!$U$65=3),0,L170*'Simulador Pagos Oportunos'!$U$66*'Simulador Pagos Oportunos'!$V$64)","v":0},null,{"$f":"IF(B170=0,\"\",IF('Simulador Pagos Oportunos'!$W$40=3,AJ170,IF('Simulador Pagos Oportunos'!$W$40=4,AK170,IF('Simulador Pagos Oportunos'!$W$40=5,AL170,IF('Simulador Pagos Oportunos'!$W$40=6,AI170,AH170)))))","v":""},null,0,null,{"$f":"IF(B170<=0,0,B170*'Simulador Pagos Oportunos'!$Y$76)","v":0},null,{"$f":"IF(B170<=0,0,IF('Simulador Pagos Oportunos'!$W$40=3,'Simulador Pagos Oportunos'!$J$52,IF('Simulador Pagos Oportunos'!$W$40=4,'Simulador Pagos Oportunos'!$L$52,IF('Simulador Pagos Oportunos'!$W$40=5,'Simulador Pagos Oportunos'!$N$52,IF('Simulador Pagos Oportunos'!$W$40=6,'Simulador Pagos Oportunos'!$H$52)))))","v":0},null,0,null,null,null,12,7,0,0,0,0,0.10649999999999998,null,null,0.1225,0.1225,0,0,0,0,0,0,0,{"$f":"IF(AO170=0,\"\",IF('Simulador Pagos Oportunos'!$W$40=3,AJ170,IF('Simulador Pagos Oportunos'!$W$40=4,AK170,IF('Simulador Pagos Oportunos'!$W$40=5,AL170,IF('Simulador Pagos Oportunos'!$W$40=6,AI170,AH170)))))","v":""},{"$f":"IF(AO170<=0,0,IF('Simulador Pagos Oportunos'!$Y$73=1,0,AO170*'Simulador Pagos Oportunos'!$Y$76))+IF(AO170<=0,0,IF('Simulador Pagos Oportunos'!$W$40=6,'Simulador Pagos Oportunos'!$H$52,IF('Simulador Pagos Oportunos'!$W$40=3,'Simulador Pagos Oportunos'!$J$52,IF('Simulador Pagos Oportunos'!$W$40=4,'Simulador Pagos Oportunos'!$L$52,'Simulador Pagos Oportunos'!$N$52))))","v":0},null,0,0,"",0,151]
[152,0,null,{"$f":"IF(B171+F171-D170<=0,B171+F171,IF(A171=$B$10,$F$10,IF(A171=$B$11,$F$11,IF(A171=$B$12,$F$12,IF(A171=$B$13,$F$13,IF(A171=$B$14,$F$14,IF(AND('Simulador Pagos Oportunos'!$AF$45=2,L170=0),D170*(1+Z171),IF($AP$3=2,B171*AN171,D170*(1+Z171)))))))))","v":0},null,0,null,0,null,{"$f":"IF(B171-H171=0,0,J169)","v":0},null,null,null,{"$f":"IF(OR('Simulador Pagos Oportunos'!$U$65=1,'Simulador Pagos Oportunos'!$U$65=3),0,L171*'Simulador Pagos Oportunos'!$U$66*'Simulador Pagos Oportunos'!$V$64)","v":0},null,{"$f":"IF(B171=0,\"\",IF('Simulador Pagos Oportunos'!$W$40=3,AJ171,IF('Simulador Pagos Oportunos'!$W$40=4,AK171,IF('Simulador Pagos Oportunos'!$W$40=5,AL171,IF('Simulador Pagos Oportunos'!$W$40=6,AI171,AH171)))))","v":""},null,0,null,{"$f":"IF(B171<=0,0,B171*'Simulador Pagos Oportunos'!$Y$76)","v":0},null,{"$f":"IF(B171<=0,0,IF('Simulador Pagos Oportunos'!$W$40=3,'Simulador Pagos Oportunos'!$J$52,IF('Simulador Pagos Oportunos'!$W$40=4,'Simulador Pagos Oportunos'!$L$52,IF('Simulador Pagos Oportunos'!$W$40=5,'Simulador Pagos Oportunos'!$N$52,IF('Simulador Pagos Oportunos'!$W$40=6,'Simulador Pagos Oportunos'!$H$52)))))","v":0},null,0,null,null,null,12,8,0,0,0,0,0.10649999999999998,null,null,0.1225,0.1225,0,0,0,0,0,0,0,{"$f":"IF(AO171=0,\"\",IF('Simulador Pagos Oportunos'!$W$40=3,AJ171,IF('Simulador Pagos Oportunos'!$W$40=4,AK171,IF('Simulador Pagos Oportunos'!$W$40=5,AL171,IF('Simulador Pagos Oportunos'!$W$40=6,AI171,AH171)))))","v":""},{"$f":"IF(AO171<=0,0,IF('Simulador Pagos Oportunos'!$Y$73=1,0,AO171*'Simulador Pagos Oportunos'!$Y$76))+IF(AO171<=0,0,IF('Simulador Pagos Oportunos'!$W$40=6,'Simulador Pagos Oportunos'!$H$52,IF('Simulador Pagos Oportunos'!$W$40=3,'Simulador Pagos Oportunos'!$J$52,IF('Simulador Pagos Oportunos'!$W$40=4,'Simulador Pagos Oportunos'!$L$52,'Simulador Pagos Oportunos'!$N$52))))","v":0},null,0,0,"",0,152]
[153,0,null,{"$f":"IF(B172+F172-D171<=0,B172+F172,IF(A172=$B$10,$F$10,IF(A172=$B$11,$F$11,IF(A172=$B$12,$F$12,IF(A172=$B$13,$F$13,IF(A172=$B$14,$F$14,IF(AND('Simulador Pagos Oportunos'!$AF$45=2,L171=0),D171*(1+Z172),IF($AP$3=2,B172*AN172,D171*(1+Z172)))))))))","v":0},null,0,null,0,null,null,null,null,null,{"$f":"IF(OR('Simulador Pagos Oportunos'!$U$65=1,'Simulador Pagos Oportunos'!$U$65=3),0,L172*'Simulador Pagos Oportunos'!$U$66*'Simulador Pagos Oportunos'!$V$64)","v":0},null,{"$f":"IF(B172=0,\"\",IF('Simulador Pagos Oportunos'!$W$40=3,AJ172,IF('Simulador Pagos Oportunos'!$W$40=4,AK172,IF('Simulador Pagos Oportunos'!$W$40=5,AL172,IF('Simulador Pagos Oportunos'!$W$40=6,AI172,AH172)))))","v":""},null,0,null,{"$f":"IF(B172<=0,0,B172*'Simulador Pagos Oportunos'!$Y$76)","v":0},null,{"$f":"IF(B172<=0,0,IF('Simulador Pagos Oportunos'!$W$40=3,'Simulador Pagos Oportunos'!$J$52,IF('Simulador Pagos Oportunos'!$W$40=4,'Simulador Pagos Oportunos'!$L$52,IF('Simulador Pagos Oportunos'!$W$40=5,'Simulador Pagos Oportunos'!$N$52,IF('Simulador Pagos Oportunos'!$W$40=6,'Simulador Pagos Oportunos'!$H$52)))))","v":0},null,0,null,null,null,12,9,0,0,0,0,0.10649999999999998,null,null,0.1225,0.1225,0,0,0,0,0,0,0,{"$f":"IF(AO172=0,\"\",IF('Simulador Pagos Oportunos'!$W$40=3,AJ172,IF('Simulador Pagos Oportunos'!$W$40=4,AK172,IF('Simulador Pagos Oportunos'!$W$40=5,AL172,IF('Simulador Pagos Oportunos'!$W$40=6,AI172,AH172)))))","v":""},{"$f":"IF(AO172<=0,0,IF('Simulador Pagos Oportunos'!$Y$73=1,0,AO172*'Simulador Pagos Oportunos'!$Y$76))+IF(AO172<=0,0,IF('Simulador Pagos Oportunos'!$W$40=6,'Simulador Pagos Oportunos'!$H$52,IF('Simulador Pagos Oportunos'!$W$40=3,'Simulador Pagos Oportunos'!$J$52,IF('Simulador Pagos Oportunos'!$W$40=4,'Simulador Pagos Oportunos'!$L$52,'Simulador Pagos Oportunos'!$N$52))))","v":0},null,0,0,"",0,153]
[154,0,null,{"$f":"IF(B173+F173-D172<=0,B173+F173,IF(A173=$B$10,$F$10,IF(A173=$B$11,$F$11,IF(A173=$B$12,$F$12,IF(A173=$B$13,$F$13,IF(A173=$B$14,$F$14,IF(AND('Simulador Pagos Oportunos'!$AF$45=2,L172=0),D172*(1+Z173),IF($AP$3=2,B173*AN173,D172*(1+Z173)))))))))","v":0},null,0,null,0,null,{"$f":"IF(B173-H173=0,0,J171)","v":0},null,null,null,{"$f":"IF(OR('Simulador Pagos Oportunos'!$U$65=1,'Simulador Pagos Oportunos'!$U$65=3),0,L173*'Simulador Pagos Oportunos'!$U$66*'Simulador Pagos Oportunos'!$V$64)","v":0},null,{"$f":"IF(B173=0,\"\",IF('Simulador Pagos Oportunos'!$W$40=3,AJ173,IF('Simulador Pagos Oportunos'!$W$40=4,AK173,IF('Simulador Pagos Oportunos'!$W$40=5,AL173,IF('Simulador Pagos Oportunos'!$W$40=6,AI173,AH173)))))","v":""},null,0,null,{"$f":"IF(B173<=0,0,B173*'Simulador Pagos Oportunos'!$Y$76)","v":0},null,{"$f":"IF(B173<=0,0,IF('Simulador Pagos Oportunos'!$W$40=3,'Simulador Pagos Oportunos'!$J$52,IF('Simulador Pagos Oportunos'!$W$40=4,'Simulador Pagos Oportunos'!$L$52,IF('Simulador Pagos Oportunos'!$W$40=5,'Simulador Pagos Oportunos'!$N$52,IF('Simulador Pagos Oportunos'!$W$40=6,'Simulador Pagos Oportunos'!$H$52)))))","v":0},null,0,null,null,null,12,10,0,0,0,0,0.10649999999999998,null,null,0.1225,0.1225,0,0,0,0,0,0,0,{"$f":"IF(AO173=0,\"\",IF('Simulador Pagos Oportunos'!$W$40=3,AJ173,IF('Simulador Pagos Oportunos'!$W$40=4,AK173,IF('Simulador Pagos Oportunos'!$W$40=5,AL173,IF('Simulador Pagos Oportunos'!$W$40=6,AI173,AH173)))))","v":""},{"$f":"IF(AO173<=0,0,IF('Simulador Pagos Oportunos'!$Y$73=1,0,AO173*'Simulador Pagos Oportunos'!$Y$76))+IF(AO173<=0,0,IF('Simulador Pagos Oportunos'!$W$40=6,'Simulador Pagos Oportunos'!$H$52,IF('Simulador Pagos Oportunos'!$W$40=3,'Simulador Pagos Oportunos'!$J$52,IF('Simulador Pagos Oportunos'!$W$40=4,'Simulador Pagos Oportunos'!$L$52,'Simulador Pagos Oportunos'!$N$52))))","v":0},null,0,0,"",0,154]
[155,0,null,{"$f":"IF(B174+F174-D173<=0,B174+F174,IF(A174=$B$10,$F$10,IF(A174=$B$11,$F$11,IF(A174=$B$12,$F$12,IF(A174=$B$13,$F$13,IF(A174=$B$14,$F$14,IF(AND('Simulador Pagos Oportunos'!$AF$45=2,L173=0),D173*(1+Z174),IF($AP$3=2,B174*AN174,D173*(1+Z174)))))))))","v":0},null,0,null,0,null,null,null,null,null,{"$f":"IF(OR('Simulador Pagos Oportunos'!$U$65=1,'Simulador Pagos Oportunos'!$U$65=3),0,L174*'Simulador Pagos Oportunos'!$U$66*'Simulador Pagos Oportunos'!$V$64)","v":0},null,{"$f":"IF(B174=0,\"\",IF('Simulador Pagos Oportunos'!$W$40=3,AJ174,IF('Simulador Pagos Oportunos'!$W$40=4,AK174,IF('Simulador Pagos Oportunos'!$W$40=5,AL174,IF('Simulador Pagos Oportunos'!$W$40=6,AI174,AH174)))))","v":""},null,0,null,{"$f":"IF(B174<=0,0,B174*'Simulador Pagos Oportunos'!$Y$76)","v":0},null,{"$f":"IF(B174<=0,0,IF('Simulador Pagos Oportunos'!$W$40=3,'Simulador Pagos Oportunos'!$J$52,IF('Simulador Pagos Oportunos'!$W$40=4,'Simulador Pagos Oportunos'!$L$52,IF('Simulador Pagos Oportunos'!$W$40=5,'Simulador Pagos Oportunos'!$N$52,IF('Simulador Pagos Oportunos'!$W$40=6,'Simulador Pagos Oportunos'!$H$52)))))","v":0},null,0,null,null,null,12,11,0,0,0,0,0.10649999999999998,null,null,{"$f":"AK173","v":0.1225},0.1225,0,0,0,0,0,0,0,{"$f":"IF(AO174=0,\"\",IF('Simulador Pagos Oportunos'!$W$40=3,AJ174,IF('Simulador Pagos Oportunos'!$W$40=4,AK174,IF('Simulador Pagos Oportunos'!$W$40=5,AL174,IF('Simulador Pagos Oportunos'!$W$40=6,AI174,AH174)))))","v":""},{"$f":"IF(AO174<=0,0,IF('Simulador Pagos Oportunos'!$Y$73=1,0,AO174*'Simulador Pagos Oportunos'!$Y$76))+IF(AO174<=0,0,IF('Simulador Pagos Oportunos'!$W$40=6,'Simulador Pagos Oportunos'!$H$52,IF('Simulador Pagos Oportunos'!$W$40=3,'Simulador Pagos Oportunos'!$J$52,IF('Simulador Pagos Oportunos'!$W$40=4,'Simulador Pagos Oportunos'!$L$52,'Simulador Pagos Oportunos'!$N$52))))","v":0},null,0,0,"",0,155]
[156,0,null,{"$f":"IF(B175+F175-D174<=0,B175+F175,IF(A175=$B$10,$F$10,IF(A175=$B$11,$F$11,IF(A175=$B$12,$F$12,IF(A175=$B$13,$F$13,IF(A175=$B$14,$F$14,IF(AND('Simulador Pagos Oportunos'!$AF$45=2,L174=0),D174*(1+Z175),IF($AP$3=2,B175*AN175,D174*(1+Z175)))))))))","v":0},null,0,null,0,null,{"$f":"IF(B175-H175=0,0,J173)","v":0},null,null,null,{"$f":"IF(OR('Simulador Pagos Oportunos'!$U$65=1,'Simulador Pagos Oportunos'!$U$65=3),0,L175*'Simulador Pagos Oportunos'!$U$66*'Simulador Pagos Oportunos'!$V$64)","v":0},null,{"$f":"IF(B175=0,\"\",IF('Simulador Pagos Oportunos'!$W$40=3,AJ175,IF('Simulador Pagos Oportunos'!$W$40=4,AK175,IF('Simulador Pagos Oportunos'!$W$40=5,AL175,IF('Simulador Pagos Oportunos'!$W$40=6,AI175,AH175)))))","v":""},null,0,null,{"$f":"IF(B175<=0,0,B175*'Simulador Pagos Oportunos'!$Y$76)","v":0},null,{"$f":"IF(B175<=0,0,IF('Simulador Pagos Oportunos'!$W$40=3,'Simulador Pagos Oportunos'!$J$52,IF('Simulador Pagos Oportunos'!$W$40=4,'Simulador Pagos Oportunos'!$L$52,IF('Simulador Pagos Oportunos'!$W$40=5,'Simulador Pagos Oportunos'!$N$52,IF('Simulador Pagos Oportunos'!$W$40=6,'Simulador Pagos Oportunos'!$H$52)))))","v":0},null,0,null,null,null,13,0,0,0,0,0,0.10649999999999998,null,null,0.1225,0.1225,0,0,0,0,0,0,0,{"$f":"IF(AO175=0,\"\",IF('Simulador Pagos Oportunos'!$W$40=3,AJ175,IF('Simulador Pagos Oportunos'!$W$40=4,AK175,IF('Simulador Pagos Oportunos'!$W$40=5,AL175,IF('Simulador Pagos Oportunos'!$W$40=6,AI175,AH175)))))","v":""},{"$f":"IF(AO175<=0,0,IF('Simulador Pagos Oportunos'!$Y$73=1,0,AO175*'Simulador Pagos Oportunos'!$Y$76))+IF(AO175<=0,0,IF('Simulador Pagos Oportunos'!$W$40=6,'Simulador Pagos Oportunos'!$H$52,IF('Simulador Pagos Oportunos'!$W$40=3,'Simulador Pagos Oportunos'!$J$52,IF('Simulador Pagos Oportunos'!$W$40=4,'Simulador Pagos Oportunos'!$L$52,'Simulador Pagos Oportunos'!$N$52))))","v":0},null,0,0,"",0,156]
[157,0,null,{"$f":"IF(B176+F176-D175<=0,B176+F176,IF(A176=$B$10,$F$10,IF(A176=$B$11,$F$11,IF(A176=$B$12,$F$12,IF(A176=$B$13,$F$13,IF(A176=$B$14,$F$14,IF(AND('Simulador Pagos Oportunos'!$AF$45=2,L175=0),D175*(1+Z176),IF($AP$3=2,B176*AN176,D175*(1+Z176)))))))))","v":0},null,0,null,0,null,null,null,null,null,{"$f":"IF(OR('Simulador Pagos Oportunos'!$U$65=1,'Simulador Pagos Oportunos'!$U$65=3),0,L176*'Simulador Pagos Oportunos'!$U$66*'Simulador Pagos Oportunos'!$V$64)","v":0},null,{"$f":"IF(B176=0,\"\",IF('Simulador Pagos Oportunos'!$W$40=3,AJ176,IF('Simulador Pagos Oportunos'!$W$40=4,AK176,IF('Simulador Pagos Oportunos'!$W$40=5,AL176,IF('Simulador Pagos Oportunos'!$W$40=6,AI176,AH176)))))","v":""},null,0,null,{"$f":"IF(B176<=0,0,B176*'Simulador Pagos Oportunos'!$Y$76)","v":0},null,{"$f":"IF(B176<=0,0,IF('Simulador Pagos Oportunos'!$W$40=3,'Simulador Pagos Oportunos'!$J$52,IF('Simulador Pagos Oportunos'!$W$40=4,'Simulador Pagos Oportunos'!$L$52,IF('Simulador Pagos Oportunos'!$W$40=5,'Simulador Pagos Oportunos'!$N$52,IF('Simulador Pagos Oportunos'!$W$40=6,'Simulador Pagos Oportunos'!$H$52)))))","v":0},null,0,null,{"$f":"IF(B176<=0,0,$Z$32)","v":0},null,13,1,0,0,0,0,{"$f":"IF(AH175=$AH$6,AH175,IF(AH175-0.25%<=$AH$6,$AH$6,AH175-0.25%))","v":0.10399999999999998},null,null,0.1225,0.1225,0,0,0,0,0,0,0,{"$f":"IF(AO176=0,\"\",IF('Simulador Pagos Oportunos'!$W$40=3,AJ176,IF('Simulador Pagos Oportunos'!$W$40=4,AK176,IF('Simulador Pagos Oportunos'!$W$40=5,AL176,IF('Simulador Pagos Oportunos'!$W$40=6,AI176,AH176)))))","v":""},{"$f":"IF(AO176<=0,0,IF('Simulador Pagos Oportunos'!$Y$73=1,0,AO176*'Simulador Pagos Oportunos'!$Y$76))+IF(AO176<=0,0,IF('Simulador Pagos Oportunos'!$W$40=6,'Simulador Pagos Oportunos'!$H$52,IF('Simulador Pagos Oportunos'!$W$40=3,'Simulador Pagos Oportunos'!$J$52,IF('Simulador Pagos Oportunos'!$W$40=4,'Simulador Pagos Oportunos'!$L$52,'Simulador Pagos Oportunos'!$N$52))))","v":0},{"$f":"IF(AO176<=0,0,$AV$32)","v":0},0,0,"",0,157]
[158,0,null,{"$f":"IF(B177+F177-D176<=0,B177+F177,IF(A177=$B$10,$F$10,IF(A177=$B$11,$F$11,IF(A177=$B$12,$F$12,IF(A177=$B$13,$F$13,IF(A177=$B$14,$F$14,IF(AND('Simulador Pagos Oportunos'!$AF$45=2,L176=0),D176*(1+Z177),IF($AP$3=2,B177*AN177,D176*(1+Z177)))))))))","v":0},null,0,null,0,null,{"$f":"IF(B177-H177=0,0,J175*(1+(3%)))","v":0},null,null,null,{"$f":"IF(OR('Simulador Pagos Oportunos'!$U$65=1,'Simulador Pagos Oportunos'!$U$65=3),0,L177*'Simulador Pagos Oportunos'!$U$66*'Simulador Pagos Oportunos'!$V$64)","v":0},null,{"$f":"IF(B177=0,\"\",IF('Simulador Pagos Oportunos'!$W$40=3,AJ177,IF('Simulador Pagos Oportunos'!$W$40=4,AK177,IF('Simulador Pagos Oportunos'!$W$40=5,AL177,IF('Simulador Pagos Oportunos'!$W$40=6,AI177,AH177)))))","v":""},null,0,null,{"$f":"IF(B177<=0,0,B177*'Simulador Pagos Oportunos'!$Y$76)","v":0},null,{"$f":"IF(B177<=0,0,IF('Simulador Pagos Oportunos'!$W$40=3,'Simulador Pagos Oportunos'!$J$52,IF('Simulador Pagos Oportunos'!$W$40=4,'Simulador Pagos Oportunos'!$L$52,IF('Simulador Pagos Oportunos'!$W$40=5,'Simulador Pagos Oportunos'!$N$52,IF('Simulador Pagos Oportunos'!$W$40=6,'Simulador Pagos Oportunos'!$H$52)))))","v":0},null,0,null,null,null,13,2,0,0,0,0,{"$f":"AH176","v":0.10399999999999998},null,null,0.1225,0.1225,0,0,0,0,0,0,0,{"$f":"IF(AO177=0,\"\",IF('Simulador Pagos Oportunos'!$W$40=3,AJ177,IF('Simulador Pagos Oportunos'!$W$40=4,AK177,IF('Simulador Pagos Oportunos'!$W$40=5,AL177,IF('Simulador Pagos Oportunos'!$W$40=6,AI177,AH177)))))","v":""},{"$f":"IF(AO177<=0,0,IF('Simulador Pagos Oportunos'!$Y$73=1,0,AO177*'Simulador Pagos Oportunos'!$Y$76))+IF(AO177<=0,0,IF('Simulador Pagos Oportunos'!$W$40=6,'Simulador Pagos Oportunos'!$H$52,IF('Simulador Pagos Oportunos'!$W$40=3,'Simulador Pagos Oportunos'!$J$52,IF('Simulador Pagos Oportunos'!$W$40=4,'Simulador Pagos Oportunos'!$L$52,'Simulador Pagos Oportunos'!$N$52))))","v":0},null,0,0,"",0,158]
[159,0,null,{"$f":"IF(B178+F178-D177<=0,B178+F178,IF(A178=$B$10,$F$10,IF(A178=$B$11,$F$11,IF(A178=$B$12,$F$12,IF(A178=$B$13,$F$13,IF(A178=$B$14,$F$14,IF(AND('Simulador Pagos Oportunos'!$AF$45=2,L177=0),D177*(1+Z178),IF($AP$3=2,B178*AN178,D177*(1+Z178)))))))))","v":0},null,0,null,0,null,null,null,null,null,{"$f":"IF(OR('Simulador Pagos Oportunos'!$U$65=1,'Simulador Pagos Oportunos'!$U$65=3),0,L178*'Simulador Pagos Oportunos'!$U$66*'Simulador Pagos Oportunos'!$V$64)","v":0},null,{"$f":"IF(B178=0,\"\",IF('Simulador Pagos Oportunos'!$W$40=3,AJ178,IF('Simulador Pagos Oportunos'!$W$40=4,AK178,IF('Simulador Pagos Oportunos'!$W$40=5,AL178,IF('Simulador Pagos Oportunos'!$W$40=6,AI178,AH178)))))","v":""},null,0,null,{"$f":"IF(B178<=0,0,B178*'Simulador Pagos Oportunos'!$Y$76)","v":0},null,{"$f":"IF(B178<=0,0,IF('Simulador Pagos Oportunos'!$W$40=3,'Simulador Pagos Oportunos'!$J$52,IF('Simulador Pagos Oportunos'!$W$40=4,'Simulador Pagos Oportunos'!$L$52,IF('Simulador Pagos Oportunos'!$W$40=5,'Simulador Pagos Oportunos'!$N$52,IF('Simulador Pagos Oportunos'!$W$40=6,'Simulador Pagos Oportunos'!$H$52)))))","v":0},null,0,null,null,null,13,3,0,0,0,0,{"$f":"AH177","v":0.10399999999999998},null,null,0.1225,0.1225,0,0,0,0,0,0,0,{"$f":"IF(AO178=0,\"\",IF('Simulador Pagos Oportunos'!$W$40=3,AJ178,IF('Simulador Pagos Oportunos'!$W$40=4,AK178,IF('Simulador Pagos Oportunos'!$W$40=5,AL178,IF('Simulador Pagos Oportunos'!$W$40=6,AI178,AH178)))))","v":""},{"$f":"IF(AO178<=0,0,IF('Simulador Pagos Oportunos'!$Y$73=1,0,AO178*'Simulador Pagos Oportunos'!$Y$76))+IF(AO178<=0,0,IF('Simulador Pagos Oportunos'!$W$40=6,'Simulador Pagos Oportunos'!$H$52,IF('Simulador Pagos Oportunos'!$W$40=3,'Simulador Pagos Oportunos'!$J$52,IF('Simulador Pagos Oportunos'!$W$40=4,'Simulador Pagos Oportunos'!$L$52,'Simulador Pagos Oportunos'!$N$52))))","v":0},null,0,0,"",0,159]
[160,0,null,{"$f":"IF(B179+F179-D178<=0,B179+F179,IF(A179=$B$10,$F$10,IF(A179=$B$11,$F$11,IF(A179=$B$12,$F$12,IF(A179=$B$13,$F$13,IF(A179=$B$14,$F$14,IF(AND('Simulador Pagos Oportunos'!$AF$45=2,L178=0),D178*(1+Z179),IF($AP$3=2,B179*AN179,D178*(1+Z179)))))))))","v":0},null,0,null,0,null,{"$f":"IF(B179-H179=0,0,J177)","v":0},null,null,null,{"$f":"IF(OR('Simulador Pagos Oportunos'!$U$65=1,'Simulador Pagos Oportunos'!$U$65=3),0,L179*'Simulador Pagos Oportunos'!$U$66*'Simulador Pagos Oportunos'!$V$64)","v":0},null,{"$f":"IF(B179=0,\"\",IF('Simulador Pagos Oportunos'!$W$40=3,AJ179,IF('Simulador Pagos Oportunos'!$W$40=4,AK179,IF('Simulador Pagos Oportunos'!$W$40=5,AL179,IF('Simulador Pagos Oportunos'!$W$40=6,AI179,AH179)))))","v":""},null,0,null,{"$f":"IF(B179<=0,0,B179*'Simulador Pagos Oportunos'!$Y$76)","v":0},null,{"$f":"IF(B179<=0,0,IF('Simulador Pagos Oportunos'!$W$40=3,'Simulador Pagos Oportunos'!$J$52,IF('Simulador Pagos Oportunos'!$W$40=4,'Simulador Pagos Oportunos'!$L$52,IF('Simulador Pagos Oportunos'!$W$40=5,'Simulador Pagos Oportunos'!$N$52,IF('Simulador Pagos Oportunos'!$W$40=6,'Simulador Pagos Oportunos'!$H$52)))))","v":0},null,0,null,null,null,13,4,0,0,0,0,0.10399999999999998,null,null,0.1225,0.1225,0,0,0,0,0,0,0,{"$f":"IF(AO179=0,\"\",IF('Simulador Pagos Oportunos'!$W$40=3,AJ179,IF('Simulador Pagos Oportunos'!$W$40=4,AK179,IF('Simulador Pagos Oportunos'!$W$40=5,AL179,IF('Simulador Pagos Oportunos'!$W$40=6,AI179,AH179)))))","v":""},{"$f":"IF(AO179<=0,0,IF('Simulador Pagos Oportunos'!$Y$73=1,0,AO179*'Simulador Pagos Oportunos'!$Y$76))+IF(AO179<=0,0,IF('Simulador Pagos Oportunos'!$W$40=6,'Simulador Pagos Oportunos'!$H$52,IF('Simulador Pagos Oportunos'!$W$40=3,'Simulador Pagos Oportunos'!$J$52,IF('Simulador Pagos Oportunos'!$W$40=4,'Simulador Pagos Oportunos'!$L$52,'Simulador Pagos Oportunos'!$N$52))))","v":0},null,0,0,"",0,160]
[161,0,null,{"$f":"IF(B180+F180-D179<=0,B180+F180,IF(A180=$B$10,$F$10,IF(A180=$B$11,$F$11,IF(A180=$B$12,$F$12,IF(A180=$B$13,$F$13,IF(A180=$B$14,$F$14,IF(AND('Simulador Pagos Oportunos'!$AF$45=2,L179=0),D179*(1+Z180),IF($AP$3=2,B180*AN180,D179*(1+Z180)))))))))","v":0},null,0,null,0,null,null,null,null,null,{"$f":"IF(OR('Simulador Pagos Oportunos'!$U$65=1,'Simulador Pagos Oportunos'!$U$65=3),0,L180*'Simulador Pagos Oportunos'!$U$66*'Simulador Pagos Oportunos'!$V$64)","v":0},null,{"$f":"IF(B180=0,\"\",IF('Simulador Pagos Oportunos'!$W$40=3,AJ180,IF('Simulador Pagos Oportunos'!$W$40=4,AK180,IF('Simulador Pagos Oportunos'!$W$40=5,AL180,IF('Simulador Pagos Oportunos'!$W$40=6,AI180,AH180)))))","v":""},null,0,null,{"$f":"IF(B180<=0,0,B180*'Simulador Pagos Oportunos'!$Y$76)","v":0},null,{"$f":"IF(B180<=0,0,IF('Simulador Pagos Oportunos'!$W$40=3,'Simulador Pagos Oportunos'!$J$52,IF('Simulador Pagos Oportunos'!$W$40=4,'Simulador Pagos Oportunos'!$L$52,IF('Simulador Pagos Oportunos'!$W$40=5,'Simulador Pagos Oportunos'!$N$52,IF('Simulador Pagos Oportunos'!$W$40=6,'Simulador Pagos Oportunos'!$H$52)))))","v":0},null,0,null,null,null,13,5,0,0,0,0,0.10399999999999998,null,null,0.1225,0.1225,0,0,0,0,0,0,0,{"$f":"IF(AO180=0,\"\",IF('Simulador Pagos Oportunos'!$W$40=3,AJ180,IF('Simulador Pagos Oportunos'!$W$40=4,AK180,IF('Simulador Pagos Oportunos'!$W$40=5,AL180,IF('Simulador Pagos Oportunos'!$W$40=6,AI180,AH180)))))","v":""},{"$f":"IF(AO180<=0,0,IF('Simulador Pagos Oportunos'!$Y$73=1,0,AO180*'Simulador Pagos Oportunos'!$Y$76))+IF(AO180<=0,0,IF('Simulador Pagos Oportunos'!$W$40=6,'Simulador Pagos Oportunos'!$H$52,IF('Simulador Pagos Oportunos'!$W$40=3,'Simulador Pagos Oportunos'!$J$52,IF('Simulador Pagos Oportunos'!$W$40=4,'Simulador Pagos Oportunos'!$L$52,'Simulador Pagos Oportunos'!$N$52))))","v":0},null,0,0,"",0,161]
[162,0,null,{"$f":"IF(B181+F181-D180<=0,B181+F181,IF(A181=$B$10,$F$10,IF(A181=$B$11,$F$11,IF(A181=$B$12,$F$12,IF(A181=$B$13,$F$13,IF(A181=$B$14,$F$14,IF(AND('Simulador Pagos Oportunos'!$AF$45=2,L180=0),D180*(1+Z181),IF($AP$3=2,B181*AN181,D180*(1+Z181)))))))))","v":0},null,0,null,0,null,{"$f":"IF(B181-H181=0,0,J179)","v":0},null,null,null,{"$f":"IF(OR('Simulador Pagos Oportunos'!$U$65=1,'Simulador Pagos Oportunos'!$U$65=3),0,L181*'Simulador Pagos Oportunos'!$U$66*'Simulador Pagos Oportunos'!$V$64)","v":0},null,{"$f":"IF(B181=0,\"\",IF('Simulador Pagos Oportunos'!$W$40=3,AJ181,IF('Simulador Pagos Oportunos'!$W$40=4,AK181,IF('Simulador Pagos Oportunos'!$W$40=5,AL181,IF('Simulador Pagos Oportunos'!$W$40=6,AI181,AH181)))))","v":""},null,0,null,{"$f":"IF(B181<=0,0,B181*'Simulador Pagos Oportunos'!$Y$76)","v":0},null,{"$f":"IF(B181<=0,0,IF('Simulador Pagos Oportunos'!$W$40=3,'Simulador Pagos Oportunos'!$J$52,IF('Simulador Pagos Oportunos'!$W$40=4,'Simulador Pagos Oportunos'!$L$52,IF('Simulador Pagos Oportunos'!$W$40=5,'Simulador Pagos Oportunos'!$N$52,IF('Simulador Pagos Oportunos'!$W$40=6,'Simulador Pagos Oportunos'!$H$52)))))","v":0},null,0,null,null,null,13,6,0,0,0,0,0.10399999999999998,null,null,0.1225,0.1225,0,0,0,0,0,0,0,{"$f":"IF(AO181=0,\"\",IF('Simulador Pagos Oportunos'!$W$40=3,AJ181,IF('Simulador Pagos Oportunos'!$W$40=4,AK181,IF('Simulador Pagos Oportunos'!$W$40=5,AL181,IF('Simulador Pagos Oportunos'!$W$40=6,AI181,AH181)))))","v":""},{"$f":"IF(AO181<=0,0,IF('Simulador Pagos Oportunos'!$Y$73=1,0,AO181*'Simulador Pagos Oportunos'!$Y$76))+IF(AO181<=0,0,IF('Simulador Pagos Oportunos'!$W$40=6,'Simulador Pagos Oportunos'!$H$52,IF('Simulador Pagos Oportunos'!$W$40=3,'Simulador Pagos Oportunos'!$J$52,IF('Simulador Pagos Oportunos'!$W$40=4,'Simulador Pagos Oportunos'!$L$52,'Simulador Pagos Oportunos'!$N$52))))","v":0},null,0,0,"",0,162]
[163,0,null,{"$f":"IF(B182+F182-D181<=0,B182+F182,IF(A182=$B$10,$F$10,IF(A182=$B$11,$F$11,IF(A182=$B$12,$F$12,IF(A182=$B$13,$F$13,IF(A182=$B$14,$F$14,IF(AND('Simulador Pagos Oportunos'!$AF$45=2,L181=0),D181*(1+Z182),IF($AP$3=2,B182*AN182,D181*(1+Z182)))))))))","v":0},null,0,null,0,null,null,null,null,null,{"$f":"IF(OR('Simulador Pagos Oportunos'!$U$65=1,'Simulador Pagos Oportunos'!$U$65=3),0,L182*'Simulador Pagos Oportunos'!$U$66*'Simulador Pagos Oportunos'!$V$64)","v":0},null,{"$f":"IF(B182=0,\"\",IF('Simulador Pagos Oportunos'!$W$40=3,AJ182,IF('Simulador Pagos Oportunos'!$W$40=4,AK182,IF('Simulador Pagos Oportunos'!$W$40=5,AL182,IF('Simulador Pagos Oportunos'!$W$40=6,AI182,AH182)))))","v":""},null,0,null,{"$f":"IF(B182<=0,0,B182*'Simulador Pagos Oportunos'!$Y$76)","v":0},null,{"$f":"IF(B182<=0,0,IF('Simulador Pagos Oportunos'!$W$40=3,'Simulador Pagos Oportunos'!$J$52,IF('Simulador Pagos Oportunos'!$W$40=4,'Simulador Pagos Oportunos'!$L$52,IF('Simulador Pagos Oportunos'!$W$40=5,'Simulador Pagos Oportunos'!$N$52,IF('Simulador Pagos Oportunos'!$W$40=6,'Simulador Pagos Oportunos'!$H$52)))))","v":0},null,0,null,null,null,13,7,0,0,0,0,0.10399999999999998,null,null,0.1225,0.1225,0,0,0,0,0,0,0,{"$f":"IF(AO182=0,\"\",IF('Simulador Pagos Oportunos'!$W$40=3,AJ182,IF('Simulador Pagos Oportunos'!$W$40=4,AK182,IF('Simulador Pagos Oportunos'!$W$40=5,AL182,IF('Simulador Pagos Oportunos'!$W$40=6,AI182,AH182)))))","v":""},{"$f":"IF(AO182<=0,0,IF('Simulador Pagos Oportunos'!$Y$73=1,0,AO182*'Simulador Pagos Oportunos'!$Y$76))+IF(AO182<=0,0,IF('Simulador Pagos Oportunos'!$W$40=6,'Simulador Pagos Oportunos'!$H$52,IF('Simulador Pagos Oportunos'!$W$40=3,'Simulador Pagos Oportunos'!$J$52,IF('Simulador Pagos Oportunos'!$W$40=4,'Simulador Pagos Oportunos'!$L$52,'Simulador Pagos Oportunos'!$N$52))))","v":0},null,0,0,"",0,163]
[164,0,null,{"$f":"IF(B183+F183-D182<=0,B183+F183,IF(A183=$B$10,$F$10,IF(A183=$B$11,$F$11,IF(A183=$B$12,$F$12,IF(A183=$B$13,$F$13,IF(A183=$B$14,$F$14,IF(AND('Simulador Pagos Oportunos'!$AF$45=2,L182=0),D182*(1+Z183),IF($AP$3=2,B183*AN183,D182*(1+Z183)))))))))","v":0},null,0,null,0,null,{"$f":"IF(B183-H183=0,0,J181)","v":0},null,null,null,{"$f":"IF(OR('Simulador Pagos Oportunos'!$U$65=1,'Simulador Pagos Oportunos'!$U$65=3),0,L183*'Simulador Pagos Oportunos'!$U$66*'Simulador Pagos Oportunos'!$V$64)","v":0},null,{"$f":"IF(B183=0,\"\",IF('Simulador Pagos Oportunos'!$W$40=3,AJ183,IF('Simulador Pagos Oportunos'!$W$40=4,AK183,IF('Simulador Pagos Oportunos'!$W$40=5,AL183,IF('Simulador Pagos Oportunos'!$W$40=6,AI183,AH183)))))","v":""},null,0,null,{"$f":"IF(B183<=0,0,B183*'Simulador Pagos Oportunos'!$Y$76)","v":0},null,{"$f":"IF(B183<=0,0,IF('Simulador Pagos Oportunos'!$W$40=3,'Simulador Pagos Oportunos'!$J$52,IF('Simulador Pagos Oportunos'!$W$40=4,'Simulador Pagos Oportunos'!$L$52,IF('Simulador Pagos Oportunos'!$W$40=5,'Simulador Pagos Oportunos'!$N$52,IF('Simulador Pagos Oportunos'!$W$40=6,'Simulador Pagos Oportunos'!$H$52)))))","v":0},null,0,null,null,null,13,8,0,0,0,0,0.10399999999999998,null,null,0.1225,0.1225,0,0,0,0,0,0,0,{"$f":"IF(AO183=0,\"\",IF('Simulador Pagos Oportunos'!$W$40=3,AJ183,IF('Simulador Pagos Oportunos'!$W$40=4,AK183,IF('Simulador Pagos Oportunos'!$W$40=5,AL183,IF('Simulador Pagos Oportunos'!$W$40=6,AI183,AH183)))))","v":""},{"$f":"IF(AO183<=0,0,IF('Simulador Pagos Oportunos'!$Y$73=1,0,AO183*'Simulador Pagos Oportunos'!$Y$76))+IF(AO183<=0,0,IF('Simulador Pagos Oportunos'!$W$40=6,'Simulador Pagos Oportunos'!$H$52,IF('Simulador Pagos Oportunos'!$W$40=3,'Simulador Pagos Oportunos'!$J$52,IF('Simulador Pagos Oportunos'!$W$40=4,'Simulador Pagos Oportunos'!$L$52,'Simulador Pagos Oportunos'!$N$52))))","v":0},null,0,0,"",0,164]
[165,0,null,{"$f":"IF(B184+F184-D183<=0,B184+F184,IF(A184=$B$10,$F$10,IF(A184=$B$11,$F$11,IF(A184=$B$12,$F$12,IF(A184=$B$13,$F$13,IF(A184=$B$14,$F$14,IF(AND('Simulador Pagos Oportunos'!$AF$45=2,L183=0),D183*(1+Z184),IF($AP$3=2,B184*AN184,D183*(1+Z184)))))))))","v":0},null,0,null,0,null,null,null,null,null,{"$f":"IF(OR('Simulador Pagos Oportunos'!$U$65=1,'Simulador Pagos Oportunos'!$U$65=3),0,L184*'Simulador Pagos Oportunos'!$U$66*'Simulador Pagos Oportunos'!$V$64)","v":0},null,{"$f":"IF(B184=0,\"\",IF('Simulador Pagos Oportunos'!$W$40=3,AJ184,IF('Simulador Pagos Oportunos'!$W$40=4,AK184,IF('Simulador Pagos Oportunos'!$W$40=5,AL184,IF('Simulador Pagos Oportunos'!$W$40=6,AI184,AH184)))))","v":""},null,0,null,{"$f":"IF(B184<=0,0,B184*'Simulador Pagos Oportunos'!$Y$76)","v":0},null,{"$f":"IF(B184<=0,0,IF('Simulador Pagos Oportunos'!$W$40=3,'Simulador Pagos Oportunos'!$J$52,IF('Simulador Pagos Oportunos'!$W$40=4,'Simulador Pagos Oportunos'!$L$52,IF('Simulador Pagos Oportunos'!$W$40=5,'Simulador Pagos Oportunos'!$N$52,IF('Simulador Pagos Oportunos'!$W$40=6,'Simulador Pagos Oportunos'!$H$52)))))","v":0},null,0,null,null,null,13,9,0,0,0,0,0.10399999999999998,null,null,0.1225,0.1225,0,0,0,0,0,0,0,{"$f":"IF(AO184=0,\"\",IF('Simulador Pagos Oportunos'!$W$40=3,AJ184,IF('Simulador Pagos Oportunos'!$W$40=4,AK184,IF('Simulador Pagos Oportunos'!$W$40=5,AL184,IF('Simulador Pagos Oportunos'!$W$40=6,AI184,AH184)))))","v":""},{"$f":"IF(AO184<=0,0,IF('Simulador Pagos Oportunos'!$Y$73=1,0,AO184*'Simulador Pagos Oportunos'!$Y$76))+IF(AO184<=0,0,IF('Simulador Pagos Oportunos'!$W$40=6,'Simulador Pagos Oportunos'!$H$52,IF('Simulador Pagos Oportunos'!$W$40=3,'Simulador Pagos Oportunos'!$J$52,IF('Simulador Pagos Oportunos'!$W$40=4,'Simulador Pagos Oportunos'!$L$52,'Simulador Pagos Oportunos'!$N$52))))","v":0},null,0,0,"",0,165]
[166,0,null,{"$f":"IF(B185+F185-D184<=0,B185+F185,IF(A185=$B$10,$F$10,IF(A185=$B$11,$F$11,IF(A185=$B$12,$F$12,IF(A185=$B$13,$F$13,IF(A185=$B$14,$F$14,IF(AND('Simulador Pagos Oportunos'!$AF$45=2,L184=0),D184*(1+Z185),IF($AP$3=2,B185*AN185,D184*(1+Z185)))))))))","v":0},null,0,null,0,null,{"$f":"IF(B185-H185=0,0,J183)","v":0},null,null,null,{"$f":"IF(OR('Simulador Pagos Oportunos'!$U$65=1,'Simulador Pagos Oportunos'!$U$65=3),0,L185*'Simulador Pagos Oportunos'!$U$66*'Simulador Pagos Oportunos'!$V$64)","v":0},null,{"$f":"IF(B185=0,\"\",IF('Simulador Pagos Oportunos'!$W$40=3,AJ185,IF('Simulador Pagos Oportunos'!$W$40=4,AK185,IF('Simulador Pagos Oportunos'!$W$40=5,AL185,IF('Simulador Pagos Oportunos'!$W$40=6,AI185,AH185)))))","v":""},null,0,null,{"$f":"IF(B185<=0,0,B185*'Simulador Pagos Oportunos'!$Y$76)","v":0},null,{"$f":"IF(B185<=0,0,IF('Simulador Pagos Oportunos'!$W$40=3,'Simulador Pagos Oportunos'!$J$52,IF('Simulador Pagos Oportunos'!$W$40=4,'Simulador Pagos Oportunos'!$L$52,IF('Simulador Pagos Oportunos'!$W$40=5,'Simulador Pagos Oportunos'!$N$52,IF('Simulador Pagos Oportunos'!$W$40=6,'Simulador Pagos Oportunos'!$H$52)))))","v":0},null,0,null,null,null,13,10,0,0,0,0,0.10399999999999998,null,null,0.1225,0.1225,0,0,0,0,0,0,0,{"$f":"IF(AO185=0,\"\",IF('Simulador Pagos Oportunos'!$W$40=3,AJ185,IF('Simulador Pagos Oportunos'!$W$40=4,AK185,IF('Simulador Pagos Oportunos'!$W$40=5,AL185,IF('Simulador Pagos Oportunos'!$W$40=6,AI185,AH185)))))","v":""},{"$f":"IF(AO185<=0,0,IF('Simulador Pagos Oportunos'!$Y$73=1,0,AO185*'Simulador Pagos Oportunos'!$Y$76))+IF(AO185<=0,0,IF('Simulador Pagos Oportunos'!$W$40=6,'Simulador Pagos Oportunos'!$H$52,IF('Simulador Pagos Oportunos'!$W$40=3,'Simulador Pagos Oportunos'!$J$52,IF('Simulador Pagos Oportunos'!$W$40=4,'Simulador Pagos Oportunos'!$L$52,'Simulador Pagos Oportunos'!$N$52))))","v":0},null,0,0,"",0,166]
[167,0,null,{"$f":"IF(B186+F186-D185<=0,B186+F186,IF(A186=$B$10,$F$10,IF(A186=$B$11,$F$11,IF(A186=$B$12,$F$12,IF(A186=$B$13,$F$13,IF(A186=$B$14,$F$14,IF(AND('Simulador Pagos Oportunos'!$AF$45=2,L185=0),D185*(1+Z186),IF($AP$3=2,B186*AN186,D185*(1+Z186)))))))))","v":0},null,0,null,0,null,null,null,null,null,{"$f":"IF(OR('Simulador Pagos Oportunos'!$U$65=1,'Simulador Pagos Oportunos'!$U$65=3),0,L186*'Simulador Pagos Oportunos'!$U$66*'Simulador Pagos Oportunos'!$V$64)","v":0},null,{"$f":"IF(B186=0,\"\",IF('Simulador Pagos Oportunos'!$W$40=3,AJ186,IF('Simulador Pagos Oportunos'!$W$40=4,AK186,IF('Simulador Pagos Oportunos'!$W$40=5,AL186,IF('Simulador Pagos Oportunos'!$W$40=6,AI186,AH186)))))","v":""},null,0,null,{"$f":"IF(B186<=0,0,B186*'Simulador Pagos Oportunos'!$Y$76)","v":0},null,{"$f":"IF(B186<=0,0,IF('Simulador Pagos Oportunos'!$W$40=3,'Simulador Pagos Oportunos'!$J$52,IF('Simulador Pagos Oportunos'!$W$40=4,'Simulador Pagos Oportunos'!$L$52,IF('Simulador Pagos Oportunos'!$W$40=5,'Simulador Pagos Oportunos'!$N$52,IF('Simulador Pagos Oportunos'!$W$40=6,'Simulador Pagos Oportunos'!$H$52)))))","v":0},null,0,null,null,null,13,11,0,0,0,0,0.10399999999999998,null,null,0.1225,0.1225,0,0,0,0,0,0,0,{"$f":"IF(AO186=0,\"\",IF('Simulador Pagos Oportunos'!$W$40=3,AJ186,IF('Simulador Pagos Oportunos'!$W$40=4,AK186,IF('Simulador Pagos Oportunos'!$W$40=5,AL186,IF('Simulador Pagos Oportunos'!$W$40=6,AI186,AH186)))))","v":""},{"$f":"IF(AO186<=0,0,IF('Simulador Pagos Oportunos'!$Y$73=1,0,AO186*'Simulador Pagos Oportunos'!$Y$76))+IF(AO186<=0,0,IF('Simulador Pagos Oportunos'!$W$40=6,'Simulador Pagos Oportunos'!$H$52,IF('Simulador Pagos Oportunos'!$W$40=3,'Simulador Pagos Oportunos'!$J$52,IF('Simulador Pagos Oportunos'!$W$40=4,'Simulador Pagos Oportunos'!$L$52,'Simulador Pagos Oportunos'!$N$52))))","v":0},null,0,0,"",0,167]
[168,0,null,{"$f":"IF(B187+F187-D186<=0,B187+F187,IF(A187=$B$10,$F$10,IF(A187=$B$11,$F$11,IF(A187=$B$12,$F$12,IF(A187=$B$13,$F$13,IF(A187=$B$14,$F$14,IF(AND('Simulador Pagos Oportunos'!$AF$45=2,L186=0),D186*(1+Z187),IF($AP$3=2,B187*AN187,D186*(1+Z187)))))))))","v":0},null,0,null,0,null,{"$f":"IF(B187-H187=0,0,J185)","v":0},null,null,null,{"$f":"IF(OR('Simulador Pagos Oportunos'!$U$65=1,'Simulador Pagos Oportunos'!$U$65=3),0,L187*'Simulador Pagos Oportunos'!$U$66*'Simulador Pagos Oportunos'!$V$64)","v":0},null,{"$f":"IF(B187=0,\"\",IF('Simulador Pagos Oportunos'!$W$40=3,AJ187,IF('Simulador Pagos Oportunos'!$W$40=4,AK187,IF('Simulador Pagos Oportunos'!$W$40=5,AL187,IF('Simulador Pagos Oportunos'!$W$40=6,AI187,AH187)))))","v":""},null,0,null,{"$f":"IF(B187<=0,0,B187*'Simulador Pagos Oportunos'!$Y$76)","v":0},null,{"$f":"IF(B187<=0,0,IF('Simulador Pagos Oportunos'!$W$40=3,'Simulador Pagos Oportunos'!$J$52,IF('Simulador Pagos Oportunos'!$W$40=4,'Simulador Pagos Oportunos'!$L$52,IF('Simulador Pagos Oportunos'!$W$40=5,'Simulador Pagos Oportunos'!$N$52,IF('Simulador Pagos Oportunos'!$W$40=6,'Simulador Pagos Oportunos'!$H$52)))))","v":0},null,0,null,null,null,14,0,0,0,0,0,0.10399999999999998,null,null,0.1225,0.1225,0,0,0,0,0,0,0,{"$f":"IF(AO187=0,\"\",IF('Simulador Pagos Oportunos'!$W$40=3,AJ187,IF('Simulador Pagos Oportunos'!$W$40=4,AK187,IF('Simulador Pagos Oportunos'!$W$40=5,AL187,IF('Simulador Pagos Oportunos'!$W$40=6,AI187,AH187)))))","v":""},{"$f":"IF(AO187<=0,0,IF('Simulador Pagos Oportunos'!$Y$73=1,0,AO187*'Simulador Pagos Oportunos'!$Y$76))+IF(AO187<=0,0,IF('Simulador Pagos Oportunos'!$W$40=6,'Simulador Pagos Oportunos'!$H$52,IF('Simulador Pagos Oportunos'!$W$40=3,'Simulador Pagos Oportunos'!$J$52,IF('Simulador Pagos Oportunos'!$W$40=4,'Simulador Pagos Oportunos'!$L$52,'Simulador Pagos Oportunos'!$N$52))))","v":0},null,0,0,"",0,168]
[169,0,null,{"$f":"IF(B188+F188-D187<=0,B188+F188,IF(A188=$B$10,$F$10,IF(A188=$B$11,$F$11,IF(A188=$B$12,$F$12,IF(A188=$B$13,$F$13,IF(A188=$B$14,$F$14,IF(AND('Simulador Pagos Oportunos'!$AF$45=2,L187=0),D187*(1+Z188),IF($AP$3=2,B188*AN188,D187*(1+Z188)))))))))","v":0},null,0,null,0,null,null,null,null,null,{"$f":"IF(OR('Simulador Pagos Oportunos'!$U$65=1,'Simulador Pagos Oportunos'!$U$65=3),0,L188*'Simulador Pagos Oportunos'!$U$66*'Simulador Pagos Oportunos'!$V$64)","v":0},null,{"$f":"IF(B188=0,\"\",IF('Simulador Pagos Oportunos'!$W$40=3,AJ188,IF('Simulador Pagos Oportunos'!$W$40=4,AK188,IF('Simulador Pagos Oportunos'!$W$40=5,AL188,IF('Simulador Pagos Oportunos'!$W$40=6,AI188,AH188)))))","v":""},null,0,null,{"$f":"IF(B188<=0,0,B188*'Simulador Pagos Oportunos'!$Y$76)","v":0},null,{"$f":"IF(B188<=0,0,IF('Simulador Pagos Oportunos'!$W$40=3,'Simulador Pagos Oportunos'!$J$52,IF('Simulador Pagos Oportunos'!$W$40=4,'Simulador Pagos Oportunos'!$L$52,IF('Simulador Pagos Oportunos'!$W$40=5,'Simulador Pagos Oportunos'!$N$52,IF('Simulador Pagos Oportunos'!$W$40=6,'Simulador Pagos Oportunos'!$H$52)))))","v":0},null,0,null,{"$f":"IF(B188<=0,0,$Z$32)","v":0},null,14,1,0,0,0,0,{"$f":"IF(AH187=$AH$6,AH187,IF(AH187-0.25%<=$AH$6,$AH$6,AH187-0.25%))","v":0.10149999999999998},null,null,0.1225,0.1225,0,0,0,0,0,0,0,{"$f":"IF(AO188=0,\"\",IF('Simulador Pagos Oportunos'!$W$40=3,AJ188,IF('Simulador Pagos Oportunos'!$W$40=4,AK188,IF('Simulador Pagos Oportunos'!$W$40=5,AL188,IF('Simulador Pagos Oportunos'!$W$40=6,AI188,AH188)))))","v":""},{"$f":"IF(AO188<=0,0,IF('Simulador Pagos Oportunos'!$Y$73=1,0,AO188*'Simulador Pagos Oportunos'!$Y$76))+IF(AO188<=0,0,IF('Simulador Pagos Oportunos'!$W$40=6,'Simulador Pagos Oportunos'!$H$52,IF('Simulador Pagos Oportunos'!$W$40=3,'Simulador Pagos Oportunos'!$J$52,IF('Simulador Pagos Oportunos'!$W$40=4,'Simulador Pagos Oportunos'!$L$52,'Simulador Pagos Oportunos'!$N$52))))","v":0},{"$f":"IF(AO188<=0,0,$AV$32)","v":0},0,0,"",0,169]
[170,0,null,{"$f":"IF(B189+F189-D188<=0,B189+F189,IF(A189=$B$10,$F$10,IF(A189=$B$11,$F$11,IF(A189=$B$12,$F$12,IF(A189=$B$13,$F$13,IF(A189=$B$14,$F$14,IF(AND('Simulador Pagos Oportunos'!$AF$45=2,L188=0),D188*(1+Z189),IF($AP$3=2,B189*AN189,D188*(1+Z189)))))))))","v":0},null,0,null,0,null,{"$f":"IF(B189-H189=0,0,J187*(1+(3%)))","v":0},null,null,null,{"$f":"IF(OR('Simulador Pagos Oportunos'!$U$65=1,'Simulador Pagos Oportunos'!$U$65=3),0,L189*'Simulador Pagos Oportunos'!$U$66*'Simulador Pagos Oportunos'!$V$64)","v":0},null,{"$f":"IF(B189=0,\"\",IF('Simulador Pagos Oportunos'!$W$40=3,AJ189,IF('Simulador Pagos Oportunos'!$W$40=4,AK189,IF('Simulador Pagos Oportunos'!$W$40=5,AL189,IF('Simulador Pagos Oportunos'!$W$40=6,AI189,AH189)))))","v":""},null,0,null,{"$f":"IF(B189<=0,0,B189*'Simulador Pagos Oportunos'!$Y$76)","v":0},null,{"$f":"IF(B189<=0,0,IF('Simulador Pagos Oportunos'!$W$40=3,'Simulador Pagos Oportunos'!$J$52,IF('Simulador Pagos Oportunos'!$W$40=4,'Simulador Pagos Oportunos'!$L$52,IF('Simulador Pagos Oportunos'!$W$40=5,'Simulador Pagos Oportunos'!$N$52,IF('Simulador Pagos Oportunos'!$W$40=6,'Simulador Pagos Oportunos'!$H$52)))))","v":0},null,0,null,null,null,14,2,0,0,0,0,{"$f":"AH188","v":0.10149999999999998},null,null,0.1225,0.1225,0,0,0,0,0,0,0,{"$f":"IF(AO189=0,\"\",IF('Simulador Pagos Oportunos'!$W$40=3,AJ189,IF('Simulador Pagos Oportunos'!$W$40=4,AK189,IF('Simulador Pagos Oportunos'!$W$40=5,AL189,IF('Simulador Pagos Oportunos'!$W$40=6,AI189,AH189)))))","v":""},{"$f":"IF(AO189<=0,0,IF('Simulador Pagos Oportunos'!$Y$73=1,0,AO189*'Simulador Pagos Oportunos'!$Y$76))+IF(AO189<=0,0,IF('Simulador Pagos Oportunos'!$W$40=6,'Simulador Pagos Oportunos'!$H$52,IF('Simulador Pagos Oportunos'!$W$40=3,'Simulador Pagos Oportunos'!$J$52,IF('Simulador Pagos Oportunos'!$W$40=4,'Simulador Pagos Oportunos'!$L$52,'Simulador Pagos Oportunos'!$N$52))))","v":0},null,0,0,"",0,170]
[171,0,null,{"$f":"IF(B190+F190-D189<=0,B190+F190,IF(A190=$B$10,$F$10,IF(A190=$B$11,$F$11,IF(A190=$B$12,$F$12,IF(A190=$B$13,$F$13,IF(A190=$B$14,$F$14,IF(AND('Simulador Pagos Oportunos'!$AF$45=2,L189=0),D189*(1+Z190),IF($AP$3=2,B190*AN190,D189*(1+Z190)))))))))","v":0},null,0,null,0,null,null,null,null,null,{"$f":"IF(OR('Simulador Pagos Oportunos'!$U$65=1,'Simulador Pagos Oportunos'!$U$65=3),0,L190*'Simulador Pagos Oportunos'!$U$66*'Simulador Pagos Oportunos'!$V$64)","v":0},null,{"$f":"IF(B190=0,\"\",IF('Simulador Pagos Oportunos'!$W$40=3,AJ190,IF('Simulador Pagos Oportunos'!$W$40=4,AK190,IF('Simulador Pagos Oportunos'!$W$40=5,AL190,IF('Simulador Pagos Oportunos'!$W$40=6,AI190,AH190)))))","v":""},null,0,null,{"$f":"IF(B190<=0,0,B190*'Simulador Pagos Oportunos'!$Y$76)","v":0},null,{"$f":"IF(B190<=0,0,IF('Simulador Pagos Oportunos'!$W$40=3,'Simulador Pagos Oportunos'!$J$52,IF('Simulador Pagos Oportunos'!$W$40=4,'Simulador Pagos Oportunos'!$L$52,IF('Simulador Pagos Oportunos'!$W$40=5,'Simulador Pagos Oportunos'!$N$52,IF('Simulador Pagos Oportunos'!$W$40=6,'Simulador Pagos Oportunos'!$H$52)))))","v":0},null,0,null,null,null,14,3,0,0,0,0,{"$f":"AH189","v":0.10149999999999998},null,null,{"$f":"AK189","v":0.1225},0.1225,0,0,0,0,0,0,0,{"$f":"IF(AO190=0,\"\",IF('Simulador Pagos Oportunos'!$W$40=3,AJ190,IF('Simulador Pagos Oportunos'!$W$40=4,AK190,IF('Simulador Pagos Oportunos'!$W$40=5,AL190,IF('Simulador Pagos Oportunos'!$W$40=6,AI190,AH190)))))","v":""},{"$f":"IF(AO190<=0,0,IF('Simulador Pagos Oportunos'!$Y$73=1,0,AO190*'Simulador Pagos Oportunos'!$Y$76))+IF(AO190<=0,0,IF('Simulador Pagos Oportunos'!$W$40=6,'Simulador Pagos Oportunos'!$H$52,IF('Simulador Pagos Oportunos'!$W$40=3,'Simulador Pagos Oportunos'!$J$52,IF('Simulador Pagos Oportunos'!$W$40=4,'Simulador Pagos Oportunos'!$L$52,'Simulador Pagos Oportunos'!$N$52))))","v":0},null,0,0,"",0,171]
[172,0,null,{"$f":"IF(B191+F191-D190<=0,B191+F191,IF(A191=$B$10,$F$10,IF(A191=$B$11,$F$11,IF(A191=$B$12,$F$12,IF(A191=$B$13,$F$13,IF(A191=$B$14,$F$14,IF(AND('Simulador Pagos Oportunos'!$AF$45=2,L190=0),D190*(1+Z191),IF($AP$3=2,B191*AN191,D190*(1+Z191)))))))))","v":0},null,0,null,0,null,{"$f":"IF(B191-H191=0,0,J189)","v":0},null,null,null,{"$f":"IF(OR('Simulador Pagos Oportunos'!$U$65=1,'Simulador Pagos Oportunos'!$U$65=3),0,L191*'Simulador Pagos Oportunos'!$U$66*'Simulador Pagos Oportunos'!$V$64)","v":0},null,{"$f":"IF(B191=0,\"\",IF('Simulador Pagos Oportunos'!$W$40=3,AJ191,IF('Simulador Pagos Oportunos'!$W$40=4,AK191,IF('Simulador Pagos Oportunos'!$W$40=5,AL191,IF('Simulador Pagos Oportunos'!$W$40=6,AI191,AH191)))))","v":""},null,0,null,{"$f":"IF(B191<=0,0,B191*'Simulador Pagos Oportunos'!$Y$76)","v":0},null,{"$f":"IF(B191<=0,0,IF('Simulador Pagos Oportunos'!$W$40=3,'Simulador Pagos Oportunos'!$J$52,IF('Simulador Pagos Oportunos'!$W$40=4,'Simulador Pagos Oportunos'!$L$52,IF('Simulador Pagos Oportunos'!$W$40=5,'Simulador Pagos Oportunos'!$N$52,IF('Simulador Pagos Oportunos'!$W$40=6,'Simulador Pagos Oportunos'!$H$52)))))","v":0},null,0,null,null,null,14,4,0,0,0,0,0.10149999999999998,null,null,0.1225,0.1225,0,0,0,0,0,0,0,{"$f":"IF(AO191=0,\"\",IF('Simulador Pagos Oportunos'!$W$40=3,AJ191,IF('Simulador Pagos Oportunos'!$W$40=4,AK191,IF('Simulador Pagos Oportunos'!$W$40=5,AL191,IF('Simulador Pagos Oportunos'!$W$40=6,AI191,AH191)))))","v":""},{"$f":"IF(AO191<=0,0,IF('Simulador Pagos Oportunos'!$Y$73=1,0,AO191*'Simulador Pagos Oportunos'!$Y$76))+IF(AO191<=0,0,IF('Simulador Pagos Oportunos'!$W$40=6,'Simulador Pagos Oportunos'!$H$52,IF('Simulador Pagos Oportunos'!$W$40=3,'Simulador Pagos Oportunos'!$J$52,IF('Simulador Pagos Oportunos'!$W$40=4,'Simulador Pagos Oportunos'!$L$52,'Simulador Pagos Oportunos'!$N$52))))","v":0},null,0,0,"",0,172]
[173,0,null,{"$f":"IF(B192+F192-D191<=0,B192+F192,IF(A192=$B$10,$F$10,IF(A192=$B$11,$F$11,IF(A192=$B$12,$F$12,IF(A192=$B$13,$F$13,IF(A192=$B$14,$F$14,IF(AND('Simulador Pagos Oportunos'!$AF$45=2,L191=0),D191*(1+Z192),IF($AP$3=2,B192*AN192,D191*(1+Z192)))))))))","v":0},null,0,null,0,null,null,null,null,null,{"$f":"IF(OR('Simulador Pagos Oportunos'!$U$65=1,'Simulador Pagos Oportunos'!$U$65=3),0,L192*'Simulador Pagos Oportunos'!$U$66*'Simulador Pagos Oportunos'!$V$64)","v":0},null,{"$f":"IF(B192=0,\"\",IF('Simulador Pagos Oportunos'!$W$40=3,AJ192,IF('Simulador Pagos Oportunos'!$W$40=4,AK192,IF('Simulador Pagos Oportunos'!$W$40=5,AL192,IF('Simulador Pagos Oportunos'!$W$40=6,AI192,AH192)))))","v":""},null,0,null,{"$f":"IF(B192<=0,0,B192*'Simulador Pagos Oportunos'!$Y$76)","v":0},null,{"$f":"IF(B192<=0,0,IF('Simulador Pagos Oportunos'!$W$40=3,'Simulador Pagos Oportunos'!$J$52,IF('Simulador Pagos Oportunos'!$W$40=4,'Simulador Pagos Oportunos'!$L$52,IF('Simulador Pagos Oportunos'!$W$40=5,'Simulador Pagos Oportunos'!$N$52,IF('Simulador Pagos Oportunos'!$W$40=6,'Simulador Pagos Oportunos'!$H$52)))))","v":0},null,0,null,null,null,14,5,0,0,0,0,0.10149999999999998,null,null,0.1225,0.1225,0,0,0,0,0,0,0,{"$f":"IF(AO192=0,\"\",IF('Simulador Pagos Oportunos'!$W$40=3,AJ192,IF('Simulador Pagos Oportunos'!$W$40=4,AK192,IF('Simulador Pagos Oportunos'!$W$40=5,AL192,IF('Simulador Pagos Oportunos'!$W$40=6,AI192,AH192)))))","v":""},{"$f":"IF(AO192<=0,0,IF('Simulador Pagos Oportunos'!$Y$73=1,0,AO192*'Simulador Pagos Oportunos'!$Y$76))+IF(AO192<=0,0,IF('Simulador Pagos Oportunos'!$W$40=6,'Simulador Pagos Oportunos'!$H$52,IF('Simulador Pagos Oportunos'!$W$40=3,'Simulador Pagos Oportunos'!$J$52,IF('Simulador Pagos Oportunos'!$W$40=4,'Simulador Pagos Oportunos'!$L$52,'Simulador Pagos Oportunos'!$N$52))))","v":0},null,0,0,"",0,173]
[174,0,null,{"$f":"IF(B193+F193-D192<=0,B193+F193,IF(A193=$B$10,$F$10,IF(A193=$B$11,$F$11,IF(A193=$B$12,$F$12,IF(A193=$B$13,$F$13,IF(A193=$B$14,$F$14,IF(AND('Simulador Pagos Oportunos'!$AF$45=2,L192=0),D192*(1+Z193),IF($AP$3=2,B193*AN193,D192*(1+Z193)))))))))","v":0},null,0,null,0,null,{"$f":"IF(B193-H193=0,0,J191)","v":0},null,null,null,{"$f":"IF(OR('Simulador Pagos Oportunos'!$U$65=1,'Simulador Pagos Oportunos'!$U$65=3),0,L193*'Simulador Pagos Oportunos'!$U$66*'Simulador Pagos Oportunos'!$V$64)","v":0},null,{"$f":"IF(B193=0,\"\",IF('Simulador Pagos Oportunos'!$W$40=3,AJ193,IF('Simulador Pagos Oportunos'!$W$40=4,AK193,IF('Simulador Pagos Oportunos'!$W$40=5,AL193,IF('Simulador Pagos Oportunos'!$W$40=6,AI193,AH193)))))","v":""},null,0,null,{"$f":"IF(B193<=0,0,B193*'Simulador Pagos Oportunos'!$Y$76)","v":0},null,{"$f":"IF(B193<=0,0,IF('Simulador Pagos Oportunos'!$W$40=3,'Simulador Pagos Oportunos'!$J$52,IF('Simulador Pagos Oportunos'!$W$40=4,'Simulador Pagos Oportunos'!$L$52,IF('Simulador Pagos Oportunos'!$W$40=5,'Simulador Pagos Oportunos'!$N$52,IF('Simulador Pagos Oportunos'!$W$40=6,'Simulador Pagos Oportunos'!$H$52)))))","v":0},null,0,null,null,null,14,6,0,0,0,0,0.10149999999999998,null,null,0.1225,0.1225,0,0,0,0,0,0,0,{"$f":"IF(AO193=0,\"\",IF('Simulador Pagos Oportunos'!$W$40=3,AJ193,IF('Simulador Pagos Oportunos'!$W$40=4,AK193,IF('Simulador Pagos Oportunos'!$W$40=5,AL193,IF('Simulador Pagos Oportunos'!$W$40=6,AI193,AH193)))))","v":""},{"$f":"IF(AO193<=0,0,IF('Simulador Pagos Oportunos'!$Y$73=1,0,AO193*'Simulador Pagos Oportunos'!$Y$76))+IF(AO193<=0,0,IF('Simulador Pagos Oportunos'!$W$40=6,'Simulador Pagos Oportunos'!$H$52,IF('Simulador Pagos Oportunos'!$W$40=3,'Simulador Pagos Oportunos'!$J$52,IF('Simulador Pagos Oportunos'!$W$40=4,'Simulador Pagos Oportunos'!$L$52,'Simulador Pagos Oportunos'!$N$52))))","v":0},null,0,0,"",0,174]
[175,0,null,{"$f":"IF(B194+F194-D193<=0,B194+F194,IF(A194=$B$10,$F$10,IF(A194=$B$11,$F$11,IF(A194=$B$12,$F$12,IF(A194=$B$13,$F$13,IF(A194=$B$14,$F$14,IF(AND('Simulador Pagos Oportunos'!$AF$45=2,L193=0),D193*(1+Z194),IF($AP$3=2,B194*AN194,D193*(1+Z194)))))))))","v":0},null,0,null,0,null,null,null,null,null,{"$f":"IF(OR('Simulador Pagos Oportunos'!$U$65=1,'Simulador Pagos Oportunos'!$U$65=3),0,L194*'Simulador Pagos Oportunos'!$U$66*'Simulador Pagos Oportunos'!$V$64)","v":0},null,{"$f":"IF(B194=0,\"\",IF('Simulador Pagos Oportunos'!$W$40=3,AJ194,IF('Simulador Pagos Oportunos'!$W$40=4,AK194,IF('Simulador Pagos Oportunos'!$W$40=5,AL194,IF('Simulador Pagos Oportunos'!$W$40=6,AI194,AH194)))))","v":""},null,0,null,{"$f":"IF(B194<=0,0,B194*'Simulador Pagos Oportunos'!$Y$76)","v":0},null,{"$f":"IF(B194<=0,0,IF('Simulador Pagos Oportunos'!$W$40=3,'Simulador Pagos Oportunos'!$J$52,IF('Simulador Pagos Oportunos'!$W$40=4,'Simulador Pagos Oportunos'!$L$52,IF('Simulador Pagos Oportunos'!$W$40=5,'Simulador Pagos Oportunos'!$N$52,IF('Simulador Pagos Oportunos'!$W$40=6,'Simulador Pagos Oportunos'!$H$52)))))","v":0},null,0,null,null,null,14,7,0,0,0,0,0.10149999999999998,null,null,0.1225,0.1225,0,0,0,0,0,0,0,{"$f":"IF(AO194=0,\"\",IF('Simulador Pagos Oportunos'!$W$40=3,AJ194,IF('Simulador Pagos Oportunos'!$W$40=4,AK194,IF('Simulador Pagos Oportunos'!$W$40=5,AL194,IF('Simulador Pagos Oportunos'!$W$40=6,AI194,AH194)))))","v":""},{"$f":"IF(AO194<=0,0,IF('Simulador Pagos Oportunos'!$Y$73=1,0,AO194*'Simulador Pagos Oportunos'!$Y$76))+IF(AO194<=0,0,IF('Simulador Pagos Oportunos'!$W$40=6,'Simulador Pagos Oportunos'!$H$52,IF('Simulador Pagos Oportunos'!$W$40=3,'Simulador Pagos Oportunos'!$J$52,IF('Simulador Pagos Oportunos'!$W$40=4,'Simulador Pagos Oportunos'!$L$52,'Simulador Pagos Oportunos'!$N$52))))","v":0},null,0,0,"",0,175]
[176,0,null,{"$f":"IF(B195+F195-D194<=0,B195+F195,IF(A195=$B$10,$F$10,IF(A195=$B$11,$F$11,IF(A195=$B$12,$F$12,IF(A195=$B$13,$F$13,IF(A195=$B$14,$F$14,IF(AND('Simulador Pagos Oportunos'!$AF$45=2,L194=0),D194*(1+Z195),IF($AP$3=2,B195*AN195,D194*(1+Z195)))))))))","v":0},null,0,null,0,null,{"$f":"IF(B195-H195=0,0,J193)","v":0},null,null,null,{"$f":"IF(OR('Simulador Pagos Oportunos'!$U$65=1,'Simulador Pagos Oportunos'!$U$65=3),0,L195*'Simulador Pagos Oportunos'!$U$66*'Simulador Pagos Oportunos'!$V$64)","v":0},null,{"$f":"IF(B195=0,\"\",IF('Simulador Pagos Oportunos'!$W$40=3,AJ195,IF('Simulador Pagos Oportunos'!$W$40=4,AK195,IF('Simulador Pagos Oportunos'!$W$40=5,AL195,IF('Simulador Pagos Oportunos'!$W$40=6,AI195,AH195)))))","v":""},null,0,null,{"$f":"IF(B195<=0,0,B195*'Simulador Pagos Oportunos'!$Y$76)","v":0},null,{"$f":"IF(B195<=0,0,IF('Simulador Pagos Oportunos'!$W$40=3,'Simulador Pagos Oportunos'!$J$52,IF('Simulador Pagos Oportunos'!$W$40=4,'Simulador Pagos Oportunos'!$L$52,IF('Simulador Pagos Oportunos'!$W$40=5,'Simulador Pagos Oportunos'!$N$52,IF('Simulador Pagos Oportunos'!$W$40=6,'Simulador Pagos Oportunos'!$H$52)))))","v":0},null,0,null,null,null,14,8,0,0,0,0,0.10149999999999998,null,null,0.1225,0.1225,0,0,0,0,0,0,0,{"$f":"IF(AO195=0,\"\",IF('Simulador Pagos Oportunos'!$W$40=3,AJ195,IF('Simulador Pagos Oportunos'!$W$40=4,AK195,IF('Simulador Pagos Oportunos'!$W$40=5,AL195,IF('Simulador Pagos Oportunos'!$W$40=6,AI195,AH195)))))","v":""},{"$f":"IF(AO195<=0,0,IF('Simulador Pagos Oportunos'!$Y$73=1,0,AO195*'Simulador Pagos Oportunos'!$Y$76))+IF(AO195<=0,0,IF('Simulador Pagos Oportunos'!$W$40=6,'Simulador Pagos Oportunos'!$H$52,IF('Simulador Pagos Oportunos'!$W$40=3,'Simulador Pagos Oportunos'!$J$52,IF('Simulador Pagos Oportunos'!$W$40=4,'Simulador Pagos Oportunos'!$L$52,'Simulador Pagos Oportunos'!$N$52))))","v":0},null,0,0,"",0,176]
[177,0,null,{"$f":"IF(B196+F196-D195<=0,B196+F196,IF(A196=$B$10,$F$10,IF(A196=$B$11,$F$11,IF(A196=$B$12,$F$12,IF(A196=$B$13,$F$13,IF(A196=$B$14,$F$14,IF(AND('Simulador Pagos Oportunos'!$AF$45=2,L195=0),D195*(1+Z196),IF($AP$3=2,B196*AN196,D195*(1+Z196)))))))))","v":0},null,0,null,0,null,null,null,null,null,{"$f":"IF(OR('Simulador Pagos Oportunos'!$U$65=1,'Simulador Pagos Oportunos'!$U$65=3),0,L196*'Simulador Pagos Oportunos'!$U$66*'Simulador Pagos Oportunos'!$V$64)","v":0},null,{"$f":"IF(B196=0,\"\",IF('Simulador Pagos Oportunos'!$W$40=3,AJ196,IF('Simulador Pagos Oportunos'!$W$40=4,AK196,IF('Simulador Pagos Oportunos'!$W$40=5,AL196,IF('Simulador Pagos Oportunos'!$W$40=6,AI196,AH196)))))","v":""},null,0,null,{"$f":"IF(B196<=0,0,B196*'Simulador Pagos Oportunos'!$Y$76)","v":0},null,{"$f":"IF(B196<=0,0,IF('Simulador Pagos Oportunos'!$W$40=3,'Simulador Pagos Oportunos'!$J$52,IF('Simulador Pagos Oportunos'!$W$40=4,'Simulador Pagos Oportunos'!$L$52,IF('Simulador Pagos Oportunos'!$W$40=5,'Simulador Pagos Oportunos'!$N$52,IF('Simulador Pagos Oportunos'!$W$40=6,'Simulador Pagos Oportunos'!$H$52)))))","v":0},null,0,null,null,null,14,9,0,0,0,0,0.10149999999999998,null,null,0.1225,0.1225,0,0,0,0,0,0,0,{"$f":"IF(AO196=0,\"\",IF('Simulador Pagos Oportunos'!$W$40=3,AJ196,IF('Simulador Pagos Oportunos'!$W$40=4,AK196,IF('Simulador Pagos Oportunos'!$W$40=5,AL196,IF('Simulador Pagos Oportunos'!$W$40=6,AI196,AH196)))))","v":""},{"$f":"IF(AO196<=0,0,IF('Simulador Pagos Oportunos'!$Y$73=1,0,AO196*'Simulador Pagos Oportunos'!$Y$76))+IF(AO196<=0,0,IF('Simulador Pagos Oportunos'!$W$40=6,'Simulador Pagos Oportunos'!$H$52,IF('Simulador Pagos Oportunos'!$W$40=3,'Simulador Pagos Oportunos'!$J$52,IF('Simulador Pagos Oportunos'!$W$40=4,'Simulador Pagos Oportunos'!$L$52,'Simulador Pagos Oportunos'!$N$52))))","v":0},null,0,0,"",0,177]
[178,0,null,{"$f":"IF(B197+F197-D196<=0,B197+F197,IF(A197=$B$10,$F$10,IF(A197=$B$11,$F$11,IF(A197=$B$12,$F$12,IF(A197=$B$13,$F$13,IF(A197=$B$14,$F$14,IF(AND('Simulador Pagos Oportunos'!$AF$45=2,L196=0),D196*(1+Z197),IF($AP$3=2,B197*AN197,D196*(1+Z197)))))))))","v":0},null,0,null,0,null,{"$f":"IF(B197-H197=0,0,J195)","v":0},null,null,null,{"$f":"IF(OR('Simulador Pagos Oportunos'!$U$65=1,'Simulador Pagos Oportunos'!$U$65=3),0,L197*'Simulador Pagos Oportunos'!$U$66*'Simulador Pagos Oportunos'!$V$64)","v":0},null,{"$f":"IF(B197=0,\"\",IF('Simulador Pagos Oportunos'!$W$40=3,AJ197,IF('Simulador Pagos Oportunos'!$W$40=4,AK197,IF('Simulador Pagos Oportunos'!$W$40=5,AL197,IF('Simulador Pagos Oportunos'!$W$40=6,AI197,AH197)))))","v":""},null,0,null,{"$f":"IF(B197<=0,0,B197*'Simulador Pagos Oportunos'!$Y$76)","v":0},null,{"$f":"IF(B197<=0,0,IF('Simulador Pagos Oportunos'!$W$40=3,'Simulador Pagos Oportunos'!$J$52,IF('Simulador Pagos Oportunos'!$W$40=4,'Simulador Pagos Oportunos'!$L$52,IF('Simulador Pagos Oportunos'!$W$40=5,'Simulador Pagos Oportunos'!$N$52,IF('Simulador Pagos Oportunos'!$W$40=6,'Simulador Pagos Oportunos'!$H$52)))))","v":0},null,0,null,null,null,14,10,0,0,0,0,0.10149999999999998,null,null,0.1225,0.1225,0,0,0,0,0,0,0,{"$f":"IF(AO197=0,\"\",IF('Simulador Pagos Oportunos'!$W$40=3,AJ197,IF('Simulador Pagos Oportunos'!$W$40=4,AK197,IF('Simulador Pagos Oportunos'!$W$40=5,AL197,IF('Simulador Pagos Oportunos'!$W$40=6,AI197,AH197)))))","v":""},{"$f":"IF(AO197<=0,0,IF('Simulador Pagos Oportunos'!$Y$73=1,0,AO197*'Simulador Pagos Oportunos'!$Y$76))+IF(AO197<=0,0,IF('Simulador Pagos Oportunos'!$W$40=6,'Simulador Pagos Oportunos'!$H$52,IF('Simulador Pagos Oportunos'!$W$40=3,'Simulador Pagos Oportunos'!$J$52,IF('Simulador Pagos Oportunos'!$W$40=4,'Simulador Pagos Oportunos'!$L$52,'Simulador Pagos Oportunos'!$N$52))))","v":0},null,0,0,"",0,178]
[179,0,null,{"$f":"IF(B198+F198-D197<=0,B198+F198,IF(A198=$B$10,$F$10,IF(A198=$B$11,$F$11,IF(A198=$B$12,$F$12,IF(A198=$B$13,$F$13,IF(A198=$B$14,$F$14,IF(AND('Simulador Pagos Oportunos'!$AF$45=2,L197=0),D197*(1+Z198),IF($AP$3=2,B198*AN198,D197*(1+Z198)))))))))","v":0},null,0,null,0,null,null,null,null,null,{"$f":"IF(OR('Simulador Pagos Oportunos'!$U$65=1,'Simulador Pagos Oportunos'!$U$65=3),0,L198*'Simulador Pagos Oportunos'!$U$66*'Simulador Pagos Oportunos'!$V$64)","v":0},null,{"$f":"IF(B198=0,\"\",IF('Simulador Pagos Oportunos'!$W$40=3,AJ198,IF('Simulador Pagos Oportunos'!$W$40=4,AK198,IF('Simulador Pagos Oportunos'!$W$40=5,AL198,IF('Simulador Pagos Oportunos'!$W$40=6,AI198,AH198)))))","v":""},null,0,null,{"$f":"IF(B198<=0,0,B198*'Simulador Pagos Oportunos'!$Y$76)","v":0},null,{"$f":"IF(B198<=0,0,IF('Simulador Pagos Oportunos'!$W$40=3,'Simulador Pagos Oportunos'!$J$52,IF('Simulador Pagos Oportunos'!$W$40=4,'Simulador Pagos Oportunos'!$L$52,IF('Simulador Pagos Oportunos'!$W$40=5,'Simulador Pagos Oportunos'!$N$52,IF('Simulador Pagos Oportunos'!$W$40=6,'Simulador Pagos Oportunos'!$H$52)))))","v":0},null,0,null,null,null,14,11,0,0,0,0,0.10149999999999998,null,null,0.1225,0.1225,0,0,0,0,0,0,0,{"$f":"IF(AO198=0,\"\",IF('Simulador Pagos Oportunos'!$W$40=3,AJ198,IF('Simulador Pagos Oportunos'!$W$40=4,AK198,IF('Simulador Pagos Oportunos'!$W$40=5,AL198,IF('Simulador Pagos Oportunos'!$W$40=6,AI198,AH198)))))","v":""},{"$f":"IF(AO198<=0,0,IF('Simulador Pagos Oportunos'!$Y$73=1,0,AO198*'Simulador Pagos Oportunos'!$Y$76))+IF(AO198<=0,0,IF('Simulador Pagos Oportunos'!$W$40=6,'Simulador Pagos Oportunos'!$H$52,IF('Simulador Pagos Oportunos'!$W$40=3,'Simulador Pagos Oportunos'!$J$52,IF('Simulador Pagos Oportunos'!$W$40=4,'Simulador Pagos Oportunos'!$L$52,'Simulador Pagos Oportunos'!$N$52))))","v":0},null,0,0,"",0,179]
[180,0,null,{"$f":"IF(B199+F199-D198<=0,B199+F199,IF(A199=$B$10,$F$10,IF(A199=$B$11,$F$11,IF(A199=$B$12,$F$12,IF(A199=$B$13,$F$13,IF(A199=$B$14,$F$14,IF(AND('Simulador Pagos Oportunos'!$AF$45=2,L198=0),D198*(1+Z199),IF($AP$3=2,B199*AN199,D198*(1+Z199)))))))))","v":0},null,0,null,0,null,{"$f":"IF(B199-H199=0,0,J197)","v":0},null,null,null,{"$f":"IF(OR('Simulador Pagos Oportunos'!$U$65=1,'Simulador Pagos Oportunos'!$U$65=3),0,L199*'Simulador Pagos Oportunos'!$U$66*'Simulador Pagos Oportunos'!$V$64)","v":0},null,{"$f":"IF(B199=0,\"\",IF('Simulador Pagos Oportunos'!$W$40=3,AJ199,IF('Simulador Pagos Oportunos'!$W$40=4,AK199,IF('Simulador Pagos Oportunos'!$W$40=5,AL199,IF('Simulador Pagos Oportunos'!$W$40=6,AI199,AH199)))))","v":""},null,0,null,{"$f":"IF(B199<=0,0,B199*'Simulador Pagos Oportunos'!$Y$76)","v":0},null,{"$f":"IF(B199<=0,0,IF('Simulador Pagos Oportunos'!$W$40=3,'Simulador Pagos Oportunos'!$J$52,IF('Simulador Pagos Oportunos'!$W$40=4,'Simulador Pagos Oportunos'!$L$52,IF('Simulador Pagos Oportunos'!$W$40=5,'Simulador Pagos Oportunos'!$N$52,IF('Simulador Pagos Oportunos'!$W$40=6,'Simulador Pagos Oportunos'!$H$52)))))","v":0},null,0,null,null,null,15,0,0,0,0,0,0.10149999999999998,null,null,0.1225,0.1225,0,0,0,0,0,0,0,{"$f":"IF(AO199=0,\"\",IF('Simulador Pagos Oportunos'!$W$40=3,AJ199,IF('Simulador Pagos Oportunos'!$W$40=4,AK199,IF('Simulador Pagos Oportunos'!$W$40=5,AL199,IF('Simulador Pagos Oportunos'!$W$40=6,AI199,AH199)))))","v":""},{"$f":"IF(AO199<=0,0,IF('Simulador Pagos Oportunos'!$Y$73=1,0,AO199*'Simulador Pagos Oportunos'!$Y$76))+IF(AO199<=0,0,IF('Simulador Pagos Oportunos'!$W$40=6,'Simulador Pagos Oportunos'!$H$52,IF('Simulador Pagos Oportunos'!$W$40=3,'Simulador Pagos Oportunos'!$J$52,IF('Simulador Pagos Oportunos'!$W$40=4,'Simulador Pagos Oportunos'!$L$52,'Simulador Pagos Oportunos'!$N$52))))","v":0},null,0,0,"",0,180]
[181,0,null,{"$f":"IF(B200+F200-D199<=0,B200+F200,IF(A200=$B$10,$F$10,IF(A200=$B$11,$F$11,IF(A200=$B$12,$F$12,IF(A200=$B$13,$F$13,IF(A200=$B$14,$F$14,IF(AND('Simulador Pagos Oportunos'!$AF$45=2,L199=0),D199*(1+Z200),IF($AP$3=2,B200*AN200,D199*(1+Z200)))))))))","v":0},null,0,null,0,null,null,null,null,null,{"$f":"IF(OR('Simulador Pagos Oportunos'!$U$65=1,'Simulador Pagos Oportunos'!$U$65=3),0,L200*'Simulador Pagos Oportunos'!$U$66*'Simulador Pagos Oportunos'!$V$64)","v":0},null,{"$f":"IF(B200=0,\"\",IF('Simulador Pagos Oportunos'!$W$40=3,AJ200,IF('Simulador Pagos Oportunos'!$W$40=4,AK200,IF('Simulador Pagos Oportunos'!$W$40=5,AL200,IF('Simulador Pagos Oportunos'!$W$40=6,AI200,AH200)))))","v":""},null,0,null,{"$f":"IF(B200<=0,0,B200*'Simulador Pagos Oportunos'!$Y$76)","v":0},null,{"$f":"IF(B200<=0,0,IF('Simulador Pagos Oportunos'!$W$40=3,'Simulador Pagos Oportunos'!$J$52,IF('Simulador Pagos Oportunos'!$W$40=4,'Simulador Pagos Oportunos'!$L$52,IF('Simulador Pagos Oportunos'!$W$40=5,'Simulador Pagos Oportunos'!$N$52,IF('Simulador Pagos Oportunos'!$W$40=6,'Simulador Pagos Oportunos'!$H$52)))))","v":0},null,0,null,{"$f":"IF(B200<=0,0,$Z$32)","v":0},null,15,1,0,0,0,0,{"$f":"IF(AH199=$AH$6,AH199,IF(AH199-0.25%<=$AH$6,$AH$6,AH199-0.25%))","v":9.8999999999999977E-2},null,null,null,0.1225,0,0,0,0,0,0,0,{"$f":"IF(AO200=0,\"\",IF('Simulador Pagos Oportunos'!$W$40=3,AJ200,IF('Simulador Pagos Oportunos'!$W$40=4,AK200,IF('Simulador Pagos Oportunos'!$W$40=5,AL200,IF('Simulador Pagos Oportunos'!$W$40=6,AI200,AH200)))))","v":""},{"$f":"IF(AO200<=0,0,IF('Simulador Pagos Oportunos'!$Y$73=1,0,AO200*'Simulador Pagos Oportunos'!$Y$76))+IF(AO200<=0,0,IF('Simulador Pagos Oportunos'!$W$40=6,'Simulador Pagos Oportunos'!$H$52,IF('Simulador Pagos Oportunos'!$W$40=3,'Simulador Pagos Oportunos'!$J$52,IF('Simulador Pagos Oportunos'!$W$40=4,'Simulador Pagos Oportunos'!$L$52,'Simulador Pagos Oportunos'!$N$52))))","v":0},{"$f":"IF(AO200<=0,0,$AV$32)","v":0},0,0,"",0,181]
[182,0,null,{"$f":"IF(B201+F201-D200<=0,B201+F201,IF(A201=$B$10,$F$10,IF(A201=$B$11,$F$11,IF(A201=$B$12,$F$12,IF(A201=$B$13,$F$13,IF(A201=$B$14,$F$14,IF(AND('Simulador Pagos Oportunos'!$AF$45=2,L200=0),D200*(1+Z201),IF($AP$3=2,B201*AN201,D200*(1+Z201)))))))))","v":0},null,0,null,0,null,{"$f":"IF(B201-H201=0,0,J199*(1+(3%)))","v":0},null,null,null,{"$f":"IF(OR('Simulador Pagos Oportunos'!$U$65=1,'Simulador Pagos Oportunos'!$U$65=3),0,L201*'Simulador Pagos Oportunos'!$U$66*'Simulador Pagos Oportunos'!$V$64)","v":0},null,{"$f":"IF(B201=0,\"\",IF('Simulador Pagos Oportunos'!$W$40=3,AJ201,IF('Simulador Pagos Oportunos'!$W$40=4,AK201,IF('Simulador Pagos Oportunos'!$W$40=5,AL201,IF('Simulador Pagos Oportunos'!$W$40=6,AI201,AH201)))))","v":""},null,0,null,{"$f":"IF(B201<=0,0,B201*'Simulador Pagos Oportunos'!$Y$76)","v":0},null,{"$f":"IF(B201<=0,0,IF('Simulador Pagos Oportunos'!$W$40=3,'Simulador Pagos Oportunos'!$J$52,IF('Simulador Pagos Oportunos'!$W$40=4,'Simulador Pagos Oportunos'!$L$52,IF('Simulador Pagos Oportunos'!$W$40=5,'Simulador Pagos Oportunos'!$N$52,IF('Simulador Pagos Oportunos'!$W$40=6,'Simulador Pagos Oportunos'!$H$52)))))","v":0},null,0,null,null,null,15,2,0,0,0,0,{"$f":"AH200","v":9.8999999999999977E-2},null,null,null,0.1225,0,0,0,0,0,0,0,{"$f":"IF(AO201=0,\"\",IF('Simulador Pagos Oportunos'!$W$40=3,AJ201,IF('Simulador Pagos Oportunos'!$W$40=4,AK201,IF('Simulador Pagos Oportunos'!$W$40=5,AL201,IF('Simulador Pagos Oportunos'!$W$40=6,AI201,AH201)))))","v":""},{"$f":"IF(AO201<=0,0,IF('Simulador Pagos Oportunos'!$Y$73=1,0,AO201*'Simulador Pagos Oportunos'!$Y$76))+IF(AO201<=0,0,IF('Simulador Pagos Oportunos'!$W$40=6,'Simulador Pagos Oportunos'!$H$52,IF('Simulador Pagos Oportunos'!$W$40=3,'Simulador Pagos Oportunos'!$J$52,IF('Simulador Pagos Oportunos'!$W$40=4,'Simulador Pagos Oportunos'!$L$52,'Simulador Pagos Oportunos'!$N$52))))","v":0},null,0,0,"",0,182]
[183,0,null,{"$f":"IF(B202+F202-D201<=0,B202+F202,IF(A202=$B$10,$F$10,IF(A202=$B$11,$F$11,IF(A202=$B$12,$F$12,IF(A202=$B$13,$F$13,IF(A202=$B$14,$F$14,IF(AND('Simulador Pagos Oportunos'!$AF$45=2,L201=0),D201*(1+Z202),IF($AP$3=2,B202*AN202,D201*(1+Z202)))))))))","v":0},null,0,null,0,null,null,null,null,null,{"$f":"IF(OR('Simulador Pagos Oportunos'!$U$65=1,'Simulador Pagos Oportunos'!$U$65=3),0,L202*'Simulador Pagos Oportunos'!$U$66*'Simulador Pagos Oportunos'!$V$64)","v":0},null,{"$f":"IF(B202=0,\"\",IF('Simulador Pagos Oportunos'!$W$40=3,AJ202,IF('Simulador Pagos Oportunos'!$W$40=4,AK202,IF('Simulador Pagos Oportunos'!$W$40=5,AL202,IF('Simulador Pagos Oportunos'!$W$40=6,AI202,AH202)))))","v":""},null,0,null,{"$f":"IF(B202<=0,0,B202*'Simulador Pagos Oportunos'!$Y$76)","v":0},null,{"$f":"IF(B202<=0,0,IF('Simulador Pagos Oportunos'!$W$40=3,'Simulador Pagos Oportunos'!$J$52,IF('Simulador Pagos Oportunos'!$W$40=4,'Simulador Pagos Oportunos'!$L$52,IF('Simulador Pagos Oportunos'!$W$40=5,'Simulador Pagos Oportunos'!$N$52,IF('Simulador Pagos Oportunos'!$W$40=6,'Simulador Pagos Oportunos'!$H$52)))))","v":0},null,0,null,null,null,15,3,0,0,0,0,{"$f":"AH201","v":9.8999999999999977E-2},null,null,null,0.1225,0,0,0,0,0,0,0,{"$f":"IF(AO202=0,\"\",IF('Simulador Pagos Oportunos'!$W$40=3,AJ202,IF('Simulador Pagos Oportunos'!$W$40=4,AK202,IF('Simulador Pagos Oportunos'!$W$40=5,AL202,IF('Simulador Pagos Oportunos'!$W$40=6,AI202,AH202)))))","v":""},{"$f":"IF(AO202<=0,0,IF('Simulador Pagos Oportunos'!$Y$73=1,0,AO202*'Simulador Pagos Oportunos'!$Y$76))+IF(AO202<=0,0,IF('Simulador Pagos Oportunos'!$W$40=6,'Simulador Pagos Oportunos'!$H$52,IF('Simulador Pagos Oportunos'!$W$40=3,'Simulador Pagos Oportunos'!$J$52,IF('Simulador Pagos Oportunos'!$W$40=4,'Simulador Pagos Oportunos'!$L$52,'Simulador Pagos Oportunos'!$N$52))))","v":0},null,0,0,"",0,183]
[184,0,null,{"$f":"IF(B203+F203-D202<=0,B203+F203,IF(A203=$B$10,$F$10,IF(A203=$B$11,$F$11,IF(A203=$B$12,$F$12,IF(A203=$B$13,$F$13,IF(A203=$B$14,$F$14,IF(AND('Simulador Pagos Oportunos'!$AF$45=2,L202=0),D202*(1+Z203),IF($AP$3=2,B203*AN203,D202*(1+Z203)))))))))","v":0},null,0,null,0,null,{"$f":"IF(B203-H203=0,0,J201)","v":0},null,null,null,{"$f":"IF(OR('Simulador Pagos Oportunos'!$U$65=1,'Simulador Pagos Oportunos'!$U$65=3),0,L203*'Simulador Pagos Oportunos'!$U$66*'Simulador Pagos Oportunos'!$V$64)","v":0},null,{"$f":"IF(B203=0,\"\",IF('Simulador Pagos Oportunos'!$W$40=3,AJ203,IF('Simulador Pagos Oportunos'!$W$40=4,AK203,IF('Simulador Pagos Oportunos'!$W$40=5,AL203,IF('Simulador Pagos Oportunos'!$W$40=6,AI203,AH203)))))","v":""},null,0,null,{"$f":"IF(B203<=0,0,B203*'Simulador Pagos Oportunos'!$Y$76)","v":0},null,{"$f":"IF(B203<=0,0,IF('Simulador Pagos Oportunos'!$W$40=3,'Simulador Pagos Oportunos'!$J$52,IF('Simulador Pagos Oportunos'!$W$40=4,'Simulador Pagos Oportunos'!$L$52,IF('Simulador Pagos Oportunos'!$W$40=5,'Simulador Pagos Oportunos'!$N$52,IF('Simulador Pagos Oportunos'!$W$40=6,'Simulador Pagos Oportunos'!$H$52)))))","v":0},null,0,null,null,null,15,4,0,0,0,0,9.8999999999999977E-2,null,null,null,0.1225,0,0,0,0,0,0,0,{"$f":"IF(AO203=0,\"\",IF('Simulador Pagos Oportunos'!$W$40=3,AJ203,IF('Simulador Pagos Oportunos'!$W$40=4,AK203,IF('Simulador Pagos Oportunos'!$W$40=5,AL203,IF('Simulador Pagos Oportunos'!$W$40=6,AI203,AH203)))))","v":""},{"$f":"IF(AO203<=0,0,IF('Simulador Pagos Oportunos'!$Y$73=1,0,AO203*'Simulador Pagos Oportunos'!$Y$76))+IF(AO203<=0,0,IF('Simulador Pagos Oportunos'!$W$40=6,'Simulador Pagos Oportunos'!$H$52,IF('Simulador Pagos Oportunos'!$W$40=3,'Simulador Pagos Oportunos'!$J$52,IF('Simulador Pagos Oportunos'!$W$40=4,'Simulador Pagos Oportunos'!$L$52,'Simulador Pagos Oportunos'!$N$52))))","v":0},null,0,0,"",0,184]
[185,0,null,{"$f":"IF(B204+F204-D203<=0,B204+F204,IF(A204=$B$10,$F$10,IF(A204=$B$11,$F$11,IF(A204=$B$12,$F$12,IF(A204=$B$13,$F$13,IF(A204=$B$14,$F$14,IF(AND('Simulador Pagos Oportunos'!$AF$45=2,L203=0),D203*(1+Z204),IF($AP$3=2,B204*AN204,D203*(1+Z204)))))))))","v":0},null,0,null,0,null,null,null,null,null,{"$f":"IF(OR('Simulador Pagos Oportunos'!$U$65=1,'Simulador Pagos Oportunos'!$U$65=3),0,L204*'Simulador Pagos Oportunos'!$U$66*'Simulador Pagos Oportunos'!$V$64)","v":0},null,{"$f":"IF(B204=0,\"\",IF('Simulador Pagos Oportunos'!$W$40=3,AJ204,IF('Simulador Pagos Oportunos'!$W$40=4,AK204,IF('Simulador Pagos Oportunos'!$W$40=5,AL204,IF('Simulador Pagos Oportunos'!$W$40=6,AI204,AH204)))))","v":""},null,0,null,{"$f":"IF(B204<=0,0,B204*'Simulador Pagos Oportunos'!$Y$76)","v":0},null,{"$f":"IF(B204<=0,0,IF('Simulador Pagos Oportunos'!$W$40=3,'Simulador Pagos Oportunos'!$J$52,IF('Simulador Pagos Oportunos'!$W$40=4,'Simulador Pagos Oportunos'!$L$52,IF('Simulador Pagos Oportunos'!$W$40=5,'Simulador Pagos Oportunos'!$N$52,IF('Simulador Pagos Oportunos'!$W$40=6,'Simulador Pagos Oportunos'!$H$52)))))","v":0},null,0,null,null,null,15,5,0,0,0,0,9.8999999999999977E-2,null,null,null,0.1225,0,0,0,0,0,0,0,{"$f":"IF(AO204=0,\"\",IF('Simulador Pagos Oportunos'!$W$40=3,AJ204,IF('Simulador Pagos Oportunos'!$W$40=4,AK204,IF('Simulador Pagos Oportunos'!$W$40=5,AL204,IF('Simulador Pagos Oportunos'!$W$40=6,AI204,AH204)))))","v":""},{"$f":"IF(AO204<=0,0,IF('Simulador Pagos Oportunos'!$Y$73=1,0,AO204*'Simulador Pagos Oportunos'!$Y$76))+IF(AO204<=0,0,IF('Simulador Pagos Oportunos'!$W$40=6,'Simulador Pagos Oportunos'!$H$52,IF('Simulador Pagos Oportunos'!$W$40=3,'Simulador Pagos Oportunos'!$J$52,IF('Simulador Pagos Oportunos'!$W$40=4,'Simulador Pagos Oportunos'!$L$52,'Simulador Pagos Oportunos'!$N$52))))","v":0},null,0,0,"",0,185]
[186,0,null,{"$f":"IF(B205+F205-D204<=0,B205+F205,IF(A205=$B$10,$F$10,IF(A205=$B$11,$F$11,IF(A205=$B$12,$F$12,IF(A205=$B$13,$F$13,IF(A205=$B$14,$F$14,IF(AND('Simulador Pagos Oportunos'!$AF$45=2,L204=0),D204*(1+Z205),IF($AP$3=2,B205*AN205,D204*(1+Z205)))))))))","v":0},null,0,null,0,null,{"$f":"IF(B205-H205=0,0,J203)","v":0},null,null,null,{"$f":"IF(OR('Simulador Pagos Oportunos'!$U$65=1,'Simulador Pagos Oportunos'!$U$65=3),0,L205*'Simulador Pagos Oportunos'!$U$66*'Simulador Pagos Oportunos'!$V$64)","v":0},null,{"$f":"IF(B205=0,\"\",IF('Simulador Pagos Oportunos'!$W$40=3,AJ205,IF('Simulador Pagos Oportunos'!$W$40=4,AK205,IF('Simulador Pagos Oportunos'!$W$40=5,AL205,IF('Simulador Pagos Oportunos'!$W$40=6,AI205,AH205)))))","v":""},null,0,null,{"$f":"IF(B205<=0,0,B205*'Simulador Pagos Oportunos'!$Y$76)","v":0},null,{"$f":"IF(B205<=0,0,IF('Simulador Pagos Oportunos'!$W$40=3,'Simulador Pagos Oportunos'!$J$52,IF('Simulador Pagos Oportunos'!$W$40=4,'Simulador Pagos Oportunos'!$L$52,IF('Simulador Pagos Oportunos'!$W$40=5,'Simulador Pagos Oportunos'!$N$52,IF('Simulador Pagos Oportunos'!$W$40=6,'Simulador Pagos Oportunos'!$H$52)))))","v":0},null,0,null,null,null,15,6,0,0,0,0,9.8999999999999977E-2,null,null,null,0.1225,0,0,0,0,0,0,0,{"$f":"IF(AO205=0,\"\",IF('Simulador Pagos Oportunos'!$W$40=3,AJ205,IF('Simulador Pagos Oportunos'!$W$40=4,AK205,IF('Simulador Pagos Oportunos'!$W$40=5,AL205,IF('Simulador Pagos Oportunos'!$W$40=6,AI205,AH205)))))","v":""},{"$f":"IF(AO205<=0,0,IF('Simulador Pagos Oportunos'!$Y$73=1,0,AO205*'Simulador Pagos Oportunos'!$Y$76))+IF(AO205<=0,0,IF('Simulador Pagos Oportunos'!$W$40=6,'Simulador Pagos Oportunos'!$H$52,IF('Simulador Pagos Oportunos'!$W$40=3,'Simulador Pagos Oportunos'!$J$52,IF('Simulador Pagos Oportunos'!$W$40=4,'Simulador Pagos Oportunos'!$L$52,'Simulador Pagos Oportunos'!$N$52))))","v":0},null,0,{"$f":"IFERROR(IF(AP205<=0.01,0,AX204-1),0)","v":0},"",0,186]
[187,0,null,{"$f":"IF(B206+F206-D205<=0,B206+F206,IF(A206=$B$10,$F$10,IF(A206=$B$11,$F$11,IF(A206=$B$12,$F$12,IF(A206=$B$13,$F$13,IF(A206=$B$14,$F$14,IF(AND('Simulador Pagos Oportunos'!$AF$45=2,L205=0),D205*(1+Z206),IF($AP$3=2,B206*AN206,D205*(1+Z206)))))))))","v":0},null,0,null,0,null,null,null,null,null,{"$f":"IF(OR('Simulador Pagos Oportunos'!$U$65=1,'Simulador Pagos Oportunos'!$U$65=3),0,L206*'Simulador Pagos Oportunos'!$U$66*'Simulador Pagos Oportunos'!$V$64)","v":0},null,{"$f":"IF(B206=0,\"\",IF('Simulador Pagos Oportunos'!$W$40=3,AJ206,IF('Simulador Pagos Oportunos'!$W$40=4,AK206,IF('Simulador Pagos Oportunos'!$W$40=5,AL206,IF('Simulador Pagos Oportunos'!$W$40=6,AI206,AH206)))))","v":""},null,0,null,{"$f":"IF(B206<=0,0,B206*'Simulador Pagos Oportunos'!$Y$76)","v":0},null,{"$f":"IF(B206<=0,0,IF('Simulador Pagos Oportunos'!$W$40=3,'Simulador Pagos Oportunos'!$J$52,IF('Simulador Pagos Oportunos'!$W$40=4,'Simulador Pagos Oportunos'!$L$52,IF('Simulador Pagos Oportunos'!$W$40=5,'Simulador Pagos Oportunos'!$N$52,IF('Simulador Pagos Oportunos'!$W$40=6,'Simulador Pagos Oportunos'!$H$52)))))","v":0},null,0,null,null,null,15,7,0,0,0,0,9.8999999999999977E-2,null,null,null,{"$f":"AL205","v":0.1225},0,0,0,0,0,0,0,{"$f":"IF(AO206=0,\"\",IF('Simulador Pagos Oportunos'!$W$40=3,AJ206,IF('Simulador Pagos Oportunos'!$W$40=4,AK206,IF('Simulador Pagos Oportunos'!$W$40=5,AL206,IF('Simulador Pagos Oportunos'!$W$40=6,AI206,AH206)))))","v":""},{"$f":"IF(AO206<=0,0,IF('Simulador Pagos Oportunos'!$Y$73=1,0,AO206*'Simulador Pagos Oportunos'!$Y$76))+IF(AO206<=0,0,IF('Simulador Pagos Oportunos'!$W$40=6,'Simulador Pagos Oportunos'!$H$52,IF('Simulador Pagos Oportunos'!$W$40=3,'Simulador Pagos Oportunos'!$J$52,IF('Simulador Pagos Oportunos'!$W$40=4,'Simulador Pagos Oportunos'!$L$52,'Simulador Pagos Oportunos'!$N$52))))","v":0},null,0,0,"",0,187]
[188,0,null,{"$f":"IF(B207+F207-D206<=0,B207+F207,IF(A207=$B$10,$F$10,IF(A207=$B$11,$F$11,IF(A207=$B$12,$F$12,IF(A207=$B$13,$F$13,IF(A207=$B$14,$F$14,IF(AND('Simulador Pagos Oportunos'!$AF$45=2,L206=0),D206*(1+Z207),IF($AP$3=2,B207*AN207,D206*(1+Z207)))))))))","v":0},null,0,null,0,null,{"$f":"IF(B207-H207=0,0,J205)","v":0},null,null,null,{"$f":"IF(OR('Simulador Pagos Oportunos'!$U$65=1,'Simulador Pagos Oportunos'!$U$65=3),0,L207*'Simulador Pagos Oportunos'!$U$66*'Simulador Pagos Oportunos'!$V$64)","v":0},null,{"$f":"IF(B207=0,\"\",IF('Simulador Pagos Oportunos'!$W$40=3,AJ207,IF('Simulador Pagos Oportunos'!$W$40=4,AK207,IF('Simulador Pagos Oportunos'!$W$40=5,AL207,IF('Simulador Pagos Oportunos'!$W$40=6,AI207,AH207)))))","v":""},null,0,null,{"$f":"IF(B207<=0,0,B207*'Simulador Pagos Oportunos'!$Y$76)","v":0},null,{"$f":"IF(B207<=0,0,IF('Simulador Pagos Oportunos'!$W$40=3,'Simulador Pagos Oportunos'!$J$52,IF('Simulador Pagos Oportunos'!$W$40=4,'Simulador Pagos Oportunos'!$L$52,IF('Simulador Pagos Oportunos'!$W$40=5,'Simulador Pagos Oportunos'!$N$52,IF('Simulador Pagos Oportunos'!$W$40=6,'Simulador Pagos Oportunos'!$H$52)))))","v":0},null,0,null,null,null,15,8,0,0,0,0,9.8999999999999977E-2,null,null,null,0.1225,0,0,0,0,0,0,0,{"$f":"IF(AO207=0,\"\",IF('Simulador Pagos Oportunos'!$W$40=3,AJ207,IF('Simulador Pagos Oportunos'!$W$40=4,AK207,IF('Simulador Pagos Oportunos'!$W$40=5,AL207,IF('Simulador Pagos Oportunos'!$W$40=6,AI207,AH207)))))","v":""},{"$f":"IF(AO207<=0,0,IF('Simulador Pagos Oportunos'!$Y$73=1,0,AO207*'Simulador Pagos Oportunos'!$Y$76))+IF(AO207<=0,0,IF('Simulador Pagos Oportunos'!$W$40=6,'Simulador Pagos Oportunos'!$H$52,IF('Simulador Pagos Oportunos'!$W$40=3,'Simulador Pagos Oportunos'!$J$52,IF('Simulador Pagos Oportunos'!$W$40=4,'Simulador Pagos Oportunos'!$L$52,'Simulador Pagos Oportunos'!$N$52))))","v":0},null,0,0,"",0,188]
[189,0,null,{"$f":"IF(B208+F208-D207<=0,B208+F208,IF(A208=$B$10,$F$10,IF(A208=$B$11,$F$11,IF(A208=$B$12,$F$12,IF(A208=$B$13,$F$13,IF(A208=$B$14,$F$14,IF(AND('Simulador Pagos Oportunos'!$AF$45=2,L207=0),D207*(1+Z208),IF($AP$3=2,B208*AN208,D207*(1+Z208)))))))))","v":0},null,0,null,0,null,null,null,null,null,{"$f":"IF(OR('Simulador Pagos Oportunos'!$U$65=1,'Simulador Pagos Oportunos'!$U$65=3),0,L208*'Simulador Pagos Oportunos'!$U$66*'Simulador Pagos Oportunos'!$V$64)","v":0},null,{"$f":"IF(B208=0,\"\",IF('Simulador Pagos Oportunos'!$W$40=3,AJ208,IF('Simulador Pagos Oportunos'!$W$40=4,AK208,IF('Simulador Pagos Oportunos'!$W$40=5,AL208,IF('Simulador Pagos Oportunos'!$W$40=6,AI208,AH208)))))","v":""},null,0,null,{"$f":"IF(B208<=0,0,B208*'Simulador Pagos Oportunos'!$Y$76)","v":0},null,{"$f":"IF(B208<=0,0,IF('Simulador Pagos Oportunos'!$W$40=3,'Simulador Pagos Oportunos'!$J$52,IF('Simulador Pagos Oportunos'!$W$40=4,'Simulador Pagos Oportunos'!$L$52,IF('Simulador Pagos Oportunos'!$W$40=5,'Simulador Pagos Oportunos'!$N$52,IF('Simulador Pagos Oportunos'!$W$40=6,'Simulador Pagos Oportunos'!$H$52)))))","v":0},null,0,null,null,null,15,9,0,0,0,0,9.8999999999999977E-2,null,null,null,0.1225,0,0,0,0,0,0,0,{"$f":"IF(AO208=0,\"\",IF('Simulador Pagos Oportunos'!$W$40=3,AJ208,IF('Simulador Pagos Oportunos'!$W$40=4,AK208,IF('Simulador Pagos Oportunos'!$W$40=5,AL208,IF('Simulador Pagos Oportunos'!$W$40=6,AI208,AH208)))))","v":""},{"$f":"IF(AO208<=0,0,IF('Simulador Pagos Oportunos'!$Y$73=1,0,AO208*'Simulador Pagos Oportunos'!$Y$76))+IF(AO208<=0,0,IF('Simulador Pagos Oportunos'!$W$40=6,'Simulador Pagos Oportunos'!$H$52,IF('Simulador Pagos Oportunos'!$W$40=3,'Simulador Pagos Oportunos'!$J$52,IF('Simulador Pagos Oportunos'!$W$40=4,'Simulador Pagos Oportunos'!$L$52,'Simulador Pagos Oportunos'!$N$52))))","v":0},null,0,0,"",0,189]
[190,0,null,{"$f":"IF(B209+F209-D208<=0,B209+F209,IF(A209=$B$10,$F$10,IF(A209=$B$11,$F$11,IF(A209=$B$12,$F$12,IF(A209=$B$13,$F$13,IF(A209=$B$14,$F$14,IF(AND('Simulador Pagos Oportunos'!$AF$45=2,L208=0),D208*(1+Z209),IF($AP$3=2,B209*AN209,D208*(1+Z209)))))))))","v":0},null,0,null,0,null,{"$f":"IF(B209-H209=0,0,J207)","v":0},null,null,null,{"$f":"IF(OR('Simulador Pagos Oportunos'!$U$65=1,'Simulador Pagos Oportunos'!$U$65=3),0,L209*'Simulador Pagos Oportunos'!$U$66*'Simulador Pagos Oportunos'!$V$64)","v":0},null,{"$f":"IF(B209=0,\"\",IF('Simulador Pagos Oportunos'!$W$40=3,AJ209,IF('Simulador Pagos Oportunos'!$W$40=4,AK209,IF('Simulador Pagos Oportunos'!$W$40=5,AL209,IF('Simulador Pagos Oportunos'!$W$40=6,AI209,AH209)))))","v":""},null,0,null,{"$f":"IF(B209<=0,0,B209*'Simulador Pagos Oportunos'!$Y$76)","v":0},null,{"$f":"IF(B209<=0,0,IF('Simulador Pagos Oportunos'!$W$40=3,'Simulador Pagos Oportunos'!$J$52,IF('Simulador Pagos Oportunos'!$W$40=4,'Simulador Pagos Oportunos'!$L$52,IF('Simulador Pagos Oportunos'!$W$40=5,'Simulador Pagos Oportunos'!$N$52,IF('Simulador Pagos Oportunos'!$W$40=6,'Simulador Pagos Oportunos'!$H$52)))))","v":0},null,0,null,null,null,15,10,0,0,0,0,9.8999999999999977E-2,null,null,null,0.1225,0,0,0,0,0,0,0,{"$f":"IF(AO209=0,\"\",IF('Simulador Pagos Oportunos'!$W$40=3,AJ209,IF('Simulador Pagos Oportunos'!$W$40=4,AK209,IF('Simulador Pagos Oportunos'!$W$40=5,AL209,IF('Simulador Pagos Oportunos'!$W$40=6,AI209,AH209)))))","v":""},{"$f":"IF(AO209<=0,0,IF('Simulador Pagos Oportunos'!$Y$73=1,0,AO209*'Simulador Pagos Oportunos'!$Y$76))+IF(AO209<=0,0,IF('Simulador Pagos Oportunos'!$W$40=6,'Simulador Pagos Oportunos'!$H$52,IF('Simulador Pagos Oportunos'!$W$40=3,'Simulador Pagos Oportunos'!$J$52,IF('Simulador Pagos Oportunos'!$W$40=4,'Simulador Pagos Oportunos'!$L$52,'Simulador Pagos Oportunos'!$N$52))))","v":0},null,0,0,"",0,190]
[191,0,null,{"$f":"IF(B210+F210-D209<=0,B210+F210,IF(A210=$B$10,$F$10,IF(A210=$B$11,$F$11,IF(A210=$B$12,$F$12,IF(A210=$B$13,$F$13,IF(A210=$B$14,$F$14,IF(AND('Simulador Pagos Oportunos'!$AF$45=2,L209=0),D209*(1+Z210),IF($AP$3=2,B210*AN210,D209*(1+Z210)))))))))","v":0},null,0,null,0,null,null,null,null,null,{"$f":"IF(OR('Simulador Pagos Oportunos'!$U$65=1,'Simulador Pagos Oportunos'!$U$65=3),0,L210*'Simulador Pagos Oportunos'!$U$66*'Simulador Pagos Oportunos'!$V$64)","v":0},null,{"$f":"IF(B210=0,\"\",IF('Simulador Pagos Oportunos'!$W$40=3,AJ210,IF('Simulador Pagos Oportunos'!$W$40=4,AK210,IF('Simulador Pagos Oportunos'!$W$40=5,AL210,IF('Simulador Pagos Oportunos'!$W$40=6,AI210,AH210)))))","v":""},null,0,null,{"$f":"IF(B210<=0,0,B210*'Simulador Pagos Oportunos'!$Y$76)","v":0},null,{"$f":"IF(B210<=0,0,IF('Simulador Pagos Oportunos'!$W$40=3,'Simulador Pagos Oportunos'!$J$52,IF('Simulador Pagos Oportunos'!$W$40=4,'Simulador Pagos Oportunos'!$L$52,IF('Simulador Pagos Oportunos'!$W$40=5,'Simulador Pagos Oportunos'!$N$52,IF('Simulador Pagos Oportunos'!$W$40=6,'Simulador Pagos Oportunos'!$H$52)))))","v":0},null,0,null,null,null,15,11,0,0,0,0,9.8999999999999977E-2,null,null,null,0.1225,0,0,0,0,0,0,0,{"$f":"IF(AO210=0,\"\",IF('Simulador Pagos Oportunos'!$W$40=3,AJ210,IF('Simulador Pagos Oportunos'!$W$40=4,AK210,IF('Simulador Pagos Oportunos'!$W$40=5,AL210,IF('Simulador Pagos Oportunos'!$W$40=6,AI210,AH210)))))","v":""},{"$f":"IF(AO210<=0,0,IF('Simulador Pagos Oportunos'!$Y$73=1,0,AO210*'Simulador Pagos Oportunos'!$Y$76))+IF(AO210<=0,0,IF('Simulador Pagos Oportunos'!$W$40=6,'Simulador Pagos Oportunos'!$H$52,IF('Simulador Pagos Oportunos'!$W$40=3,'Simulador Pagos Oportunos'!$J$52,IF('Simulador Pagos Oportunos'!$W$40=4,'Simulador Pagos Oportunos'!$L$52,'Simulador Pagos Oportunos'!$N$52))))","v":0},null,0,0,"",0,191]
[192,0,null,{"$f":"IF(B211+F211-D210<=0,B211+F211,IF(A211=$B$10,$F$10,IF(A211=$B$11,$F$11,IF(A211=$B$12,$F$12,IF(A211=$B$13,$F$13,IF(A211=$B$14,$F$14,IF(AND('Simulador Pagos Oportunos'!$AF$45=2,L210=0),D210*(1+Z211),IF($AP$3=2,B211*AN211,D210*(1+Z211)))))))))","v":0},null,0,null,0,null,{"$f":"IF(B211-H211=0,0,J209)","v":0},null,null,null,{"$f":"IF(OR('Simulador Pagos Oportunos'!$U$65=1,'Simulador Pagos Oportunos'!$U$65=3),0,L211*'Simulador Pagos Oportunos'!$U$66*'Simulador Pagos Oportunos'!$V$64)","v":0},null,{"$f":"IF(B211=0,\"\",IF('Simulador Pagos Oportunos'!$W$40=3,AJ211,IF('Simulador Pagos Oportunos'!$W$40=4,AK211,IF('Simulador Pagos Oportunos'!$W$40=5,AL211,IF('Simulador Pagos Oportunos'!$W$40=6,AI211,AH211)))))","v":""},null,0,null,{"$f":"IF(B211<=0,0,B211*'Simulador Pagos Oportunos'!$Y$76)","v":0},null,{"$f":"IF(B211<=0,0,IF('Simulador Pagos Oportunos'!$W$40=3,'Simulador Pagos Oportunos'!$J$52,IF('Simulador Pagos Oportunos'!$W$40=4,'Simulador Pagos Oportunos'!$L$52,IF('Simulador Pagos Oportunos'!$W$40=5,'Simulador Pagos Oportunos'!$N$52,IF('Simulador Pagos Oportunos'!$W$40=6,'Simulador Pagos Oportunos'!$H$52)))))","v":0},null,0,null,null,null,16,0,0,0,0,0,9.8999999999999977E-2,null,null,null,0.1225,0,0,0,0,0,0,0,{"$f":"IF(AO211=0,\"\",IF('Simulador Pagos Oportunos'!$W$40=3,AJ211,IF('Simulador Pagos Oportunos'!$W$40=4,AK211,IF('Simulador Pagos Oportunos'!$W$40=5,AL211,IF('Simulador Pagos Oportunos'!$W$40=6,AI211,AH211)))))","v":""},{"$f":"IF(AO211<=0,0,IF('Simulador Pagos Oportunos'!$Y$73=1,0,AO211*'Simulador Pagos Oportunos'!$Y$76))+IF(AO211<=0,0,IF('Simulador Pagos Oportunos'!$W$40=6,'Simulador Pagos Oportunos'!$H$52,IF('Simulador Pagos Oportunos'!$W$40=3,'Simulador Pagos Oportunos'!$J$52,IF('Simulador Pagos Oportunos'!$W$40=4,'Simulador Pagos Oportunos'!$L$52,'Simulador Pagos Oportunos'!$N$52))))","v":0},null,0,0,"",0,192]
[193,0,null,{"$f":"IF(B212+F212-D211<=0,B212+F212,IF(A212=$B$10,$F$10,IF(A212=$B$11,$F$11,IF(A212=$B$12,$F$12,IF(A212=$B$13,$F$13,IF(A212=$B$14,$F$14,IF(AND('Simulador Pagos Oportunos'!$AF$45=2,L211=0),D211*(1+Z212),IF($AP$3=2,B212*AN212,D211*(1+Z212)))))))))","v":0},null,0,null,0,null,null,null,null,null,{"$f":"IF(OR('Simulador Pagos Oportunos'!$U$65=1,'Simulador Pagos Oportunos'!$U$65=3),0,L212*'Simulador Pagos Oportunos'!$U$66*'Simulador Pagos Oportunos'!$V$64)","v":0},null,{"$f":"IF(B212=0,\"\",IF('Simulador Pagos Oportunos'!$W$40=3,AJ212,IF('Simulador Pagos Oportunos'!$W$40=4,AK212,IF('Simulador Pagos Oportunos'!$W$40=5,AL212,IF('Simulador Pagos Oportunos'!$W$40=6,AI212,AH212)))))","v":""},null,0,null,{"$f":"IF(B212<=0,0,B212*'Simulador Pagos Oportunos'!$Y$76)","v":0},null,{"$f":"IF(B212<=0,0,IF('Simulador Pagos Oportunos'!$W$40=3,'Simulador Pagos Oportunos'!$J$52,IF('Simulador Pagos Oportunos'!$W$40=4,'Simulador Pagos Oportunos'!$L$52,IF('Simulador Pagos Oportunos'!$W$40=5,'Simulador Pagos Oportunos'!$N$52,IF('Simulador Pagos Oportunos'!$W$40=6,'Simulador Pagos Oportunos'!$H$52)))))","v":0},null,0,null,{"$f":"IF(B212<=0,0,$Z$32)","v":0},null,16,1,0,0,0,0,{"$f":"IF(AH211=$AH$6,AH211,IF(AH211-0.25%<=$AH$6,$AH$6,AH211-0.25%))","v":9.6499999999999975E-2},null,null,null,0.1225,0,0,0,0,0,{"$f":"+AP212-AQ212","v":0},{"$f":"+AO212-AR212","v":0},{"$f":"IF(AO212=0,\"\",IF('Simulador Pagos Oportunos'!$W$40=3,AJ212,IF('Simulador Pagos Oportunos'!$W$40=4,AK212,IF('Simulador Pagos Oportunos'!$W$40=5,AL212,IF('Simulador Pagos Oportunos'!$W$40=6,AI212,AH212)))))","v":""},{"$f":"IF(AO212<=0,0,IF('Simulador Pagos Oportunos'!$Y$73=1,0,AO212*'Simulador Pagos Oportunos'!$Y$76))+IF(AO212<=0,0,IF('Simulador Pagos Oportunos'!$W$40=6,'Simulador Pagos Oportunos'!$H$52,IF('Simulador Pagos Oportunos'!$W$40=3,'Simulador Pagos Oportunos'!$J$52,IF('Simulador Pagos Oportunos'!$W$40=4,'Simulador Pagos Oportunos'!$L$52,'Simulador Pagos Oportunos'!$N$52))))","v":0},{"$f":"IF(AO212<=0,0,$AV$32)","v":0},0,0,"",0,193]
[194,{"$f":"IF(R212<0,0,IF(A213=$B$10,R212+$D$10,IF(A213=$B$11,R212+$D$11,IF(A213=$B$12,R212+$D$12,IF(A213=$B$13,R212+$D$13,IF(A213=$B$14,R212+$D$14,R212))))))","v":0},null,{"$f":"IF(B213+F213-D212<=0,B213+F213,IF(A213=$B$10,$F$10,IF(A213=$B$11,$F$11,IF(A213=$B$12,$F$12,IF(A213=$B$13,$F$13,IF(A213=$B$14,$F$14,IF(AND('Simulador Pagos Oportunos'!$AF$45=2,L212=0),D212*(1+Z213),IF($AP$3=2,B213*AN213,D212*(1+Z213)))))))))","v":0},null,{"$f":"IF(B213=0,0,P213/360*AZ213*B213)","v":0},null,0,null,{"$f":"IF(B213-H213=0,0,J211*(1+(3%)))","v":0},null,null,null,{"$f":"IF(OR('Simulador Pagos Oportunos'!$U$65=1,'Simulador Pagos Oportunos'!$U$65=3),0,L213*'Simulador Pagos Oportunos'!$U$66*'Simulador Pagos Oportunos'!$V$64)","v":0},null,{"$f":"IF(B213=0,\"\",IF('Simulador Pagos Oportunos'!$W$40=3,AJ213,IF('Simulador Pagos Oportunos'!$W$40=4,AK213,IF('Simulador Pagos Oportunos'!$W$40=5,AL213,IF('Simulador Pagos Oportunos'!$W$40=6,AI213,AH213)))))","v":""},null,{"$f":"B213-H213-J213-L213+N213","v":0},null,{"$f":"IF(B213<=0,0,B213*'Simulador Pagos Oportunos'!$Y$76)","v":0},null,{"$f":"IF(B213<=0,0,IF('Simulador Pagos Oportunos'!$W$40=3,'Simulador Pagos Oportunos'!$J$52,IF('Simulador Pagos Oportunos'!$W$40=4,'Simulador Pagos Oportunos'!$L$52,IF('Simulador Pagos Oportunos'!$W$40=5,'Simulador Pagos Oportunos'!$N$52,IF('Simulador Pagos Oportunos'!$W$40=6,'Simulador Pagos Oportunos'!$H$52)))))","v":0},null,{"$f":"IF(B213<=0,0,D213+L213+T213+V213)","v":0},null,null,null,16,2,{"$f":"+IF(R213<=0,IF(R212>0,+A213,0),0)","v":0},{"$f":"+IF(AD213>0,+AB213,0)","v":0},{"$f":"+IF(AD213>0,+AC213,0)","v":0},{"$f":"X213","v":0},{"$f":"AH212","v":9.6499999999999975E-2},null,null,null,0.1225,0,{"$f":"IFERROR(AP213/AO213,0)","v":0},0,0,{"$f":"IFERROR((AT213/360*AZ213*AO213),0)","v":0},0,0,{"$f":"IF(AO213=0,\"\",IF('Simulador Pagos Oportunos'!$W$40=3,AJ213,IF('Simulador Pagos Oportunos'!$W$40=4,AK213,IF('Simulador Pagos Oportunos'!$W$40=5,AL213,IF('Simulador Pagos Oportunos'!$W$40=6,AI213,AH213)))))","v":""},{"$f":"IF(AO213<=0,0,IF('Simulador Pagos Oportunos'!$Y$73=1,0,AO213*'Simulador Pagos Oportunos'!$Y$76))+IF(AO213<=0,0,IF('Simulador Pagos Oportunos'!$W$40=6,'Simulador Pagos Oportunos'!$H$52,IF('Simulador Pagos Oportunos'!$W$40=3,'Simulador Pagos Oportunos'!$J$52,IF('Simulador Pagos Oportunos'!$W$40=4,'Simulador Pagos Oportunos'!$L$52,'Simulador Pagos Oportunos'!$N$52))))","v":0},null,{"$f":"AQ213+AR213+AU213","v":0},0,"",{"$f":"IFERROR(DAY(DATE(YEAR(AY213),MONTH(AY213)+1,0)),0)","v":0},194]
[195,0,null,{"$f":"IF(B214+F214-D213<=0,B214+F214,IF(A214=$B$10,$F$10,IF(A214=$B$11,$F$11,IF(A214=$B$12,$F$12,IF(A214=$B$13,$F$13,IF(A214=$B$14,$F$14,IF(AND('Simulador Pagos Oportunos'!$AF$45=2,L213=0),D213*(1+Z214),IF($AP$3=2,B214*AN214,D213*(1+Z214)))))))))","v":0},null,0,null,{"$f":"D214-F214","v":0},null,null,null,null,null,{"$f":"IF(OR('Simulador Pagos Oportunos'!$U$65=1,'Simulador Pagos Oportunos'!$U$65=3),0,L214*'Simulador Pagos Oportunos'!$U$66*'Simulador Pagos Oportunos'!$V$64)","v":0},null,{"$f":"IF(B214=0,\"\",IF('Simulador Pagos Oportunos'!$W$40=3,AJ214,IF('Simulador Pagos Oportunos'!$W$40=4,AK214,IF('Simulador Pagos Oportunos'!$W$40=5,AL214,IF('Simulador Pagos Oportunos'!$W$40=6,AI214,AH214)))))","v":""},null,0,null,{"$f":"IF(B214<=0,0,B214*'Simulador Pagos Oportunos'!$Y$76)","v":0},null,{"$f":"IF(B214<=0,0,IF('Simulador Pagos Oportunos'!$W$40=3,'Simulador Pagos Oportunos'!$J$52,IF('Simulador Pagos Oportunos'!$W$40=4,'Simulador Pagos Oportunos'!$L$52,IF('Simulador Pagos Oportunos'!$W$40=5,'Simulador Pagos Oportunos'!$N$52,IF('Simulador Pagos Oportunos'!$W$40=6,'Simulador Pagos Oportunos'!$H$52)))))","v":0},null,0,null,null,null,16,3,0,0,0,0,{"$f":"AH213","v":9.6499999999999975E-2},null,null,null,0.1225,0,0,{"$f":"IF(AS213<0,0,IF(A214=$B$10,AS213+$D$10,IF(A214=$B$11,AS213+$D$11,IF(A214=$B$12,AS213+$D$12,IF(A214=$B$13,AS213+$D$13,IF(A214=$B$14,AS213+$D$14,AS213))))))","v":0},{"$f":"IF(AO214+AQ214-AP213<=0,AO214+AQ214,IF($A214=$B$10,$F$10,IF($A214=$B$11,$F$11,IF($A214=$B$12,$F$12,IF($A214=$B$13,$F$13,IF($A214=$B$14,$F$14,AP213*(1+AV214)))))))","v":0},0,0,0,{"$f":"IF(AO214=0,\"\",IF('Simulador Pagos Oportunos'!$W$40=3,AJ214,IF('Simulador Pagos Oportunos'!$W$40=4,AK214,IF('Simulador Pagos Oportunos'!$W$40=5,AL214,IF('Simulador Pagos Oportunos'!$W$40=6,AI214,AH214)))))","v":""},{"$f":"IF(AO214<=0,0,IF('Simulador Pagos Oportunos'!$Y$73=1,0,AO214*'Simulador Pagos Oportunos'!$Y$76))+IF(AO214<=0,0,IF('Simulador Pagos Oportunos'!$W$40=6,'Simulador Pagos Oportunos'!$H$52,IF('Simulador Pagos Oportunos'!$W$40=3,'Simulador Pagos Oportunos'!$J$52,IF('Simulador Pagos Oportunos'!$W$40=4,'Simulador Pagos Oportunos'!$L$52,'Simulador Pagos Oportunos'!$N$52))))","v":0},null,0,0,{"$f":"IF(AO214=0,\"\",DATE(YEAR(AY213),MONTH(AY213)+1,1))","v":""},0,195]
[196,0,null,{"$f":"IF(B215+F215-D214<=0,B215+F215,IF(A215=$B$10,$F$10,IF(A215=$B$11,$F$11,IF(A215=$B$12,$F$12,IF(A215=$B$13,$F$13,IF(A215=$B$14,$F$14,IF(AND('Simulador Pagos Oportunos'!$AF$45=2,L214=0),D214*(1+Z215),IF($AP$3=2,B215*AN215,D214*(1+Z215)))))))))","v":0},null,0,null,0,null,{"$f":"IF(B215-H215=0,0,J213)","v":0},null,null,null,{"$f":"IF(OR('Simulador Pagos Oportunos'!$U$65=1,'Simulador Pagos Oportunos'!$U$65=3),0,L215*'Simulador Pagos Oportunos'!$U$66*'Simulador Pagos Oportunos'!$V$64)","v":0},null,{"$f":"IF(B215=0,\"\",IF('Simulador Pagos Oportunos'!$W$40=3,AJ215,IF('Simulador Pagos Oportunos'!$W$40=4,AK215,IF('Simulador Pagos Oportunos'!$W$40=5,AL215,IF('Simulador Pagos Oportunos'!$W$40=6,AI215,AH215)))))","v":""},null,0,null,{"$f":"IF(B215<=0,0,B215*'Simulador Pagos Oportunos'!$Y$76)","v":0},null,{"$f":"IF(B215<=0,0,IF('Simulador Pagos Oportunos'!$W$40=3,'Simulador Pagos Oportunos'!$J$52,IF('Simulador Pagos Oportunos'!$W$40=4,'Simulador Pagos Oportunos'!$L$52,IF('Simulador Pagos Oportunos'!$W$40=5,'Simulador Pagos Oportunos'!$N$52,IF('Simulador Pagos Oportunos'!$W$40=6,'Simulador Pagos Oportunos'!$H$52)))))","v":0},null,0,null,null,null,16,4,0,0,0,0,9.6499999999999975E-2,null,null,null,0.1225,0,0,0,0,0,0,0,{"$f":"IF(AO215=0,\"\",IF('Simulador Pagos Oportunos'!$W$40=3,AJ215,IF('Simulador Pagos Oportunos'!$W$40=4,AK215,IF('Simulador Pagos Oportunos'!$W$40=5,AL215,IF('Simulador Pagos Oportunos'!$W$40=6,AI215,AH215)))))","v":""},{"$f":"IF(AO215<=0,0,IF('Simulador Pagos Oportunos'!$Y$73=1,0,AO215*'Simulador Pagos Oportunos'!$Y$76))+IF(AO215<=0,0,IF('Simulador Pagos Oportunos'!$W$40=6,'Simulador Pagos Oportunos'!$H$52,IF('Simulador Pagos Oportunos'!$W$40=3,'Simulador Pagos Oportunos'!$J$52,IF('Simulador Pagos Oportunos'!$W$40=4,'Simulador Pagos Oportunos'!$L$52,'Simulador Pagos Oportunos'!$N$52))))","v":0},null,0,0,"",0,196]
[197,0,null,{"$f":"IF(B216+F216-D215<=0,B216+F216,IF(A216=$B$10,$F$10,IF(A216=$B$11,$F$11,IF(A216=$B$12,$F$12,IF(A216=$B$13,$F$13,IF(A216=$B$14,$F$14,IF(AND('Simulador Pagos Oportunos'!$AF$45=2,L215=0),D215*(1+Z216),IF($AP$3=2,B216*AN216,D215*(1+Z216)))))))))","v":0},null,0,null,0,null,null,null,null,null,{"$f":"IF(OR('Simulador Pagos Oportunos'!$U$65=1,'Simulador Pagos Oportunos'!$U$65=3),0,L216*'Simulador Pagos Oportunos'!$U$66*'Simulador Pagos Oportunos'!$V$64)","v":0},null,{"$f":"IF(B216=0,\"\",IF('Simulador Pagos Oportunos'!$W$40=3,AJ216,IF('Simulador Pagos Oportunos'!$W$40=4,AK216,IF('Simulador Pagos Oportunos'!$W$40=5,AL216,IF('Simulador Pagos Oportunos'!$W$40=6,AI216,AH216)))))","v":""},null,0,null,{"$f":"IF(B216<=0,0,B216*'Simulador Pagos Oportunos'!$Y$76)","v":0},null,{"$f":"IF(B216<=0,0,IF('Simulador Pagos Oportunos'!$W$40=3,'Simulador Pagos Oportunos'!$J$52,IF('Simulador Pagos Oportunos'!$W$40=4,'Simulador Pagos Oportunos'!$L$52,IF('Simulador Pagos Oportunos'!$W$40=5,'Simulador Pagos Oportunos'!$N$52,IF('Simulador Pagos Oportunos'!$W$40=6,'Simulador Pagos Oportunos'!$H$52)))))","v":0},null,0,null,null,null,16,5,0,0,0,0,9.6499999999999975E-2,null,null,null,0.1225,0,0,0,0,0,0,0,{"$f":"IF(AO216=0,\"\",IF('Simulador Pagos Oportunos'!$W$40=3,AJ216,IF('Simulador Pagos Oportunos'!$W$40=4,AK216,IF('Simulador Pagos Oportunos'!$W$40=5,AL216,IF('Simulador Pagos Oportunos'!$W$40=6,AI216,AH216)))))","v":""},{"$f":"IF(AO216<=0,0,IF('Simulador Pagos Oportunos'!$Y$73=1,0,AO216*'Simulador Pagos Oportunos'!$Y$76))+IF(AO216<=0,0,IF('Simulador Pagos Oportunos'!$W$40=6,'Simulador Pagos Oportunos'!$H$52,IF('Simulador Pagos Oportunos'!$W$40=3,'Simulador Pagos Oportunos'!$J$52,IF('Simulador Pagos Oportunos'!$W$40=4,'Simulador Pagos Oportunos'!$L$52,'Simulador Pagos Oportunos'!$N$52))))","v":0},null,0,0,"",0,197]
[198,0,null,{"$f":"IF(B217+F217-D216<=0,B217+F217,IF(A217=$B$10,$F$10,IF(A217=$B$11,$F$11,IF(A217=$B$12,$F$12,IF(A217=$B$13,$F$13,IF(A217=$B$14,$F$14,IF(AND('Simulador Pagos Oportunos'!$AF$45=2,L216=0),D216*(1+Z217),IF($AP$3=2,B217*AN217,D216*(1+Z217)))))))))","v":0},null,0,null,0,null,{"$f":"IF(B217-H217=0,0,J215)","v":0},null,null,null,{"$f":"IF(OR('Simulador Pagos Oportunos'!$U$65=1,'Simulador Pagos Oportunos'!$U$65=3),0,L217*'Simulador Pagos Oportunos'!$U$66*'Simulador Pagos Oportunos'!$V$64)","v":0},null,{"$f":"IF(B217=0,\"\",IF('Simulador Pagos Oportunos'!$W$40=3,AJ217,IF('Simulador Pagos Oportunos'!$W$40=4,AK217,IF('Simulador Pagos Oportunos'!$W$40=5,AL217,IF('Simulador Pagos Oportunos'!$W$40=6,AI217,AH217)))))","v":""},null,0,null,{"$f":"IF(B217<=0,0,B217*'Simulador Pagos Oportunos'!$Y$76)","v":0},null,{"$f":"IF(B217<=0,0,IF('Simulador Pagos Oportunos'!$W$40=3,'Simulador Pagos Oportunos'!$J$52,IF('Simulador Pagos Oportunos'!$W$40=4,'Simulador Pagos Oportunos'!$L$52,IF('Simulador Pagos Oportunos'!$W$40=5,'Simulador Pagos Oportunos'!$N$52,IF('Simulador Pagos Oportunos'!$W$40=6,'Simulador Pagos Oportunos'!$H$52)))))","v":0},null,0,null,null,null,16,6,0,0,0,0,9.6499999999999975E-2,null,null,null,0.1225,0,0,0,0,0,0,0,{"$f":"IF(AO217=0,\"\",IF('Simulador Pagos Oportunos'!$W$40=3,AJ217,IF('Simulador Pagos Oportunos'!$W$40=4,AK217,IF('Simulador Pagos Oportunos'!$W$40=5,AL217,IF('Simulador Pagos Oportunos'!$W$40=6,AI217,AH217)))))","v":""},{"$f":"IF(AO217<=0,0,IF('Simulador Pagos Oportunos'!$Y$73=1,0,AO217*'Simulador Pagos Oportunos'!$Y$76))+IF(AO217<=0,0,IF('Simulador Pagos Oportunos'!$W$40=6,'Simulador Pagos Oportunos'!$H$52,IF('Simulador Pagos Oportunos'!$W$40=3,'Simulador Pagos Oportunos'!$J$52,IF('Simulador Pagos Oportunos'!$W$40=4,'Simulador Pagos Oportunos'!$L$52,'Simulador Pagos Oportunos'!$N$52))))","v":0},null,0,0,"",0,198]
[199,0,null,{"$f":"IF(B218+F218-D217<=0,B218+F218,IF(A218=$B$10,$F$10,IF(A218=$B$11,$F$11,IF(A218=$B$12,$F$12,IF(A218=$B$13,$F$13,IF(A218=$B$14,$F$14,IF(AND('Simulador Pagos Oportunos'!$AF$45=2,L217=0),D217*(1+Z218),IF($AP$3=2,B218*AN218,D217*(1+Z218)))))))))","v":0},null,0,null,0,null,null,null,null,null,{"$f":"IF(OR('Simulador Pagos Oportunos'!$U$65=1,'Simulador Pagos Oportunos'!$U$65=3),0,L218*'Simulador Pagos Oportunos'!$U$66*'Simulador Pagos Oportunos'!$V$64)","v":0},null,{"$f":"IF(B218=0,\"\",IF('Simulador Pagos Oportunos'!$W$40=3,AJ218,IF('Simulador Pagos Oportunos'!$W$40=4,AK218,IF('Simulador Pagos Oportunos'!$W$40=5,AL218,IF('Simulador Pagos Oportunos'!$W$40=6,AI218,AH218)))))","v":""},null,0,null,{"$f":"IF(B218<=0,0,B218*'Simulador Pagos Oportunos'!$Y$76)","v":0},null,{"$f":"IF(B218<=0,0,IF('Simulador Pagos Oportunos'!$W$40=3,'Simulador Pagos Oportunos'!$J$52,IF('Simulador Pagos Oportunos'!$W$40=4,'Simulador Pagos Oportunos'!$L$52,IF('Simulador Pagos Oportunos'!$W$40=5,'Simulador Pagos Oportunos'!$N$52,IF('Simulador Pagos Oportunos'!$W$40=6,'Simulador Pagos Oportunos'!$H$52)))))","v":0},null,0,null,null,null,16,7,0,0,0,0,9.6499999999999975E-2,null,null,null,0.1225,0,0,0,0,0,0,0,{"$f":"IF(AO218=0,\"\",IF('Simulador Pagos Oportunos'!$W$40=3,AJ218,IF('Simulador Pagos Oportunos'!$W$40=4,AK218,IF('Simulador Pagos Oportunos'!$W$40=5,AL218,IF('Simulador Pagos Oportunos'!$W$40=6,AI218,AH218)))))","v":""},{"$f":"IF(AO218<=0,0,IF('Simulador Pagos Oportunos'!$Y$73=1,0,AO218*'Simulador Pagos Oportunos'!$Y$76))+IF(AO218<=0,0,IF('Simulador Pagos Oportunos'!$W$40=6,'Simulador Pagos Oportunos'!$H$52,IF('Simulador Pagos Oportunos'!$W$40=3,'Simulador Pagos Oportunos'!$J$52,IF('Simulador Pagos Oportunos'!$W$40=4,'Simulador Pagos Oportunos'!$L$52,'Simulador Pagos Oportunos'!$N$52))))","v":0},null,0,0,"",0,199]
[200,0,null,{"$f":"IF(B219+F219-D218<=0,B219+F219,IF(A219=$B$10,$F$10,IF(A219=$B$11,$F$11,IF(A219=$B$12,$F$12,IF(A219=$B$13,$F$13,IF(A219=$B$14,$F$14,IF(AND('Simulador Pagos Oportunos'!$AF$45=2,L218=0),D218*(1+Z219),IF($AP$3=2,B219*AN219,D218*(1+Z219)))))))))","v":0},null,0,null,0,null,{"$f":"IF(B219-H219=0,0,J217)","v":0},null,null,null,{"$f":"IF(OR('Simulador Pagos Oportunos'!$U$65=1,'Simulador Pagos Oportunos'!$U$65=3),0,L219*'Simulador Pagos Oportunos'!$U$66*'Simulador Pagos Oportunos'!$V$64)","v":0},null,{"$f":"IF(B219=0,\"\",IF('Simulador Pagos Oportunos'!$W$40=3,AJ219,IF('Simulador Pagos Oportunos'!$W$40=4,AK219,IF('Simulador Pagos Oportunos'!$W$40=5,AL219,IF('Simulador Pagos Oportunos'!$W$40=6,AI219,AH219)))))","v":""},null,0,null,{"$f":"IF(B219<=0,0,B219*'Simulador Pagos Oportunos'!$Y$76)","v":0},null,{"$f":"IF(B219<=0,0,IF('Simulador Pagos Oportunos'!$W$40=3,'Simulador Pagos Oportunos'!$J$52,IF('Simulador Pagos Oportunos'!$W$40=4,'Simulador Pagos Oportunos'!$L$52,IF('Simulador Pagos Oportunos'!$W$40=5,'Simulador Pagos Oportunos'!$N$52,IF('Simulador Pagos Oportunos'!$W$40=6,'Simulador Pagos Oportunos'!$H$52)))))","v":0},null,0,null,null,null,16,8,0,0,0,0,9.6499999999999975E-2,null,null,null,0.1225,0,0,0,0,0,0,0,{"$f":"IF(AO219=0,\"\",IF('Simulador Pagos Oportunos'!$W$40=3,AJ219,IF('Simulador Pagos Oportunos'!$W$40=4,AK219,IF('Simulador Pagos Oportunos'!$W$40=5,AL219,IF('Simulador Pagos Oportunos'!$W$40=6,AI219,AH219)))))","v":""},{"$f":"IF(AO219<=0,0,IF('Simulador Pagos Oportunos'!$Y$73=1,0,AO219*'Simulador Pagos Oportunos'!$Y$76))+IF(AO219<=0,0,IF('Simulador Pagos Oportunos'!$W$40=6,'Simulador Pagos Oportunos'!$H$52,IF('Simulador Pagos Oportunos'!$W$40=3,'Simulador Pagos Oportunos'!$J$52,IF('Simulador Pagos Oportunos'!$W$40=4,'Simulador Pagos Oportunos'!$L$52,'Simulador Pagos Oportunos'!$N$52))))","v":0},null,0,0,"",0,200]
[201,0,null,{"$f":"IF(B220+F220-D219<=0,B220+F220,IF(A220=$B$10,$F$10,IF(A220=$B$11,$F$11,IF(A220=$B$12,$F$12,IF(A220=$B$13,$F$13,IF(A220=$B$14,$F$14,IF(AND('Simulador Pagos Oportunos'!$AF$45=2,L219=0),D219*(1+Z220),IF($AP$3=2,B220*AN220,D219*(1+Z220)))))))))","v":0},null,0,null,0,null,null,null,null,null,{"$f":"IF(OR('Simulador Pagos Oportunos'!$U$65=1,'Simulador Pagos Oportunos'!$U$65=3),0,L220*'Simulador Pagos Oportunos'!$U$66*'Simulador Pagos Oportunos'!$V$64)","v":0},null,{"$f":"IF(B220=0,\"\",IF('Simulador Pagos Oportunos'!$W$40=3,AJ220,IF('Simulador Pagos Oportunos'!$W$40=4,AK220,IF('Simulador Pagos Oportunos'!$W$40=5,AL220,IF('Simulador Pagos Oportunos'!$W$40=6,AI220,AH220)))))","v":""},null,0,null,{"$f":"IF(B220<=0,0,B220*'Simulador Pagos Oportunos'!$Y$76)","v":0},null,{"$f":"IF(B220<=0,0,IF('Simulador Pagos Oportunos'!$W$40=3,'Simulador Pagos Oportunos'!$J$52,IF('Simulador Pagos Oportunos'!$W$40=4,'Simulador Pagos Oportunos'!$L$52,IF('Simulador Pagos Oportunos'!$W$40=5,'Simulador Pagos Oportunos'!$N$52,IF('Simulador Pagos Oportunos'!$W$40=6,'Simulador Pagos Oportunos'!$H$52)))))","v":0},null,0,null,null,null,16,9,0,0,0,0,9.6499999999999975E-2,null,null,null,0.1225,0,0,0,0,0,0,0,{"$f":"IF(AO220=0,\"\",IF('Simulador Pagos Oportunos'!$W$40=3,AJ220,IF('Simulador Pagos Oportunos'!$W$40=4,AK220,IF('Simulador Pagos Oportunos'!$W$40=5,AL220,IF('Simulador Pagos Oportunos'!$W$40=6,AI220,AH220)))))","v":""},{"$f":"IF(AO220<=0,0,IF('Simulador Pagos Oportunos'!$Y$73=1,0,AO220*'Simulador Pagos Oportunos'!$Y$76))+IF(AO220<=0,0,IF('Simulador Pagos Oportunos'!$W$40=6,'Simulador Pagos Oportunos'!$H$52,IF('Simulador Pagos Oportunos'!$W$40=3,'Simulador Pagos Oportunos'!$J$52,IF('Simulador Pagos Oportunos'!$W$40=4,'Simulador Pagos Oportunos'!$L$52,'Simulador Pagos Oportunos'!$N$52))))","v":0},null,0,0,"",0,201]
[202,0,null,{"$f":"IF(B221+F221-D220<=0,B221+F221,IF(A221=$B$10,$F$10,IF(A221=$B$11,$F$11,IF(A221=$B$12,$F$12,IF(A221=$B$13,$F$13,IF(A221=$B$14,$F$14,IF(AND('Simulador Pagos Oportunos'!$AF$45=2,L220=0),D220*(1+Z221),IF($AP$3=2,B221*AN221,D220*(1+Z221)))))))))","v":0},null,0,null,0,null,{"$f":"IF(B221-H221=0,0,J219)","v":0},null,null,null,{"$f":"IF(OR('Simulador Pagos Oportunos'!$U$65=1,'Simulador Pagos Oportunos'!$U$65=3),0,L221*'Simulador Pagos Oportunos'!$U$66*'Simulador Pagos Oportunos'!$V$64)","v":0},null,{"$f":"IF(B221=0,\"\",IF('Simulador Pagos Oportunos'!$W$40=3,AJ221,IF('Simulador Pagos Oportunos'!$W$40=4,AK221,IF('Simulador Pagos Oportunos'!$W$40=5,AL221,IF('Simulador Pagos Oportunos'!$W$40=6,AI221,AH221)))))","v":""},null,0,null,{"$f":"IF(B221<=0,0,B221*'Simulador Pagos Oportunos'!$Y$76)","v":0},null,{"$f":"IF(B221<=0,0,IF('Simulador Pagos Oportunos'!$W$40=3,'Simulador Pagos Oportunos'!$J$52,IF('Simulador Pagos Oportunos'!$W$40=4,'Simulador Pagos Oportunos'!$L$52,IF('Simulador Pagos Oportunos'!$W$40=5,'Simulador Pagos Oportunos'!$N$52,IF('Simulador Pagos Oportunos'!$W$40=6,'Simulador Pagos Oportunos'!$H$52)))))","v":0},null,0,null,null,null,16,10,0,0,0,0,9.6499999999999975E-2,null,null,null,0.1225,0,0,0,0,0,0,0,{"$f":"IF(AO221=0,\"\",IF('Simulador Pagos Oportunos'!$W$40=3,AJ221,IF('Simulador Pagos Oportunos'!$W$40=4,AK221,IF('Simulador Pagos Oportunos'!$W$40=5,AL221,IF('Simulador Pagos Oportunos'!$W$40=6,AI221,AH221)))))","v":""},{"$f":"IF(AO221<=0,0,IF('Simulador Pagos Oportunos'!$Y$73=1,0,AO221*'Simulador Pagos Oportunos'!$Y$76))+IF(AO221<=0,0,IF('Simulador Pagos Oportunos'!$W$40=6,'Simulador Pagos Oportunos'!$H$52,IF('Simulador Pagos Oportunos'!$W$40=3,'Simulador Pagos Oportunos'!$J$52,IF('Simulador Pagos Oportunos'!$W$40=4,'Simulador Pagos Oportunos'!$L$52,'Simulador Pagos Oportunos'!$N$52))))","v":0},null,0,0,"",0,202]
[203,0,null,{"$f":"IF(B222+F222-D221<=0,B222+F222,IF(A222=$B$10,$F$10,IF(A222=$B$11,$F$11,IF(A222=$B$12,$F$12,IF(A222=$B$13,$F$13,IF(A222=$B$14,$F$14,IF(AND('Simulador Pagos Oportunos'!$AF$45=2,L221=0),D221*(1+Z222),IF($AP$3=2,B222*AN222,D221*(1+Z222)))))))))","v":0},null,0,null,0,null,null,null,null,null,{"$f":"IF(OR('Simulador Pagos Oportunos'!$U$65=1,'Simulador Pagos Oportunos'!$U$65=3),0,L222*'Simulador Pagos Oportunos'!$U$66*'Simulador Pagos Oportunos'!$V$64)","v":0},null,{"$f":"IF(B222=0,\"\",IF('Simulador Pagos Oportunos'!$W$40=3,AJ222,IF('Simulador Pagos Oportunos'!$W$40=4,AK222,IF('Simulador Pagos Oportunos'!$W$40=5,AL222,IF('Simulador Pagos Oportunos'!$W$40=6,AI222,AH222)))))","v":""},null,0,null,{"$f":"IF(B222<=0,0,B222*'Simulador Pagos Oportunos'!$Y$76)","v":0},null,{"$f":"IF(B222<=0,0,IF('Simulador Pagos Oportunos'!$W$40=3,'Simulador Pagos Oportunos'!$J$52,IF('Simulador Pagos Oportunos'!$W$40=4,'Simulador Pagos Oportunos'!$L$52,IF('Simulador Pagos Oportunos'!$W$40=5,'Simulador Pagos Oportunos'!$N$52,IF('Simulador Pagos Oportunos'!$W$40=6,'Simulador Pagos Oportunos'!$H$52)))))","v":0},null,0,null,null,null,16,11,0,0,0,0,9.6499999999999975E-2,null,null,null,0.1225,0,0,0,0,0,0,0,{"$f":"IF(AO222=0,\"\",IF('Simulador Pagos Oportunos'!$W$40=3,AJ222,IF('Simulador Pagos Oportunos'!$W$40=4,AK222,IF('Simulador Pagos Oportunos'!$W$40=5,AL222,IF('Simulador Pagos Oportunos'!$W$40=6,AI222,AH222)))))","v":""},{"$f":"IF(AO222<=0,0,IF('Simulador Pagos Oportunos'!$Y$73=1,0,AO222*'Simulador Pagos Oportunos'!$Y$76))+IF(AO222<=0,0,IF('Simulador Pagos Oportunos'!$W$40=6,'Simulador Pagos Oportunos'!$H$52,IF('Simulador Pagos Oportunos'!$W$40=3,'Simulador Pagos Oportunos'!$J$52,IF('Simulador Pagos Oportunos'!$W$40=4,'Simulador Pagos Oportunos'!$L$52,'Simulador Pagos Oportunos'!$N$52))))","v":0},null,0,0,"",0,203]
[204,0,null,{"$f":"IF(B223+F223-D222<=0,B223+F223,IF(A223=$B$10,$F$10,IF(A223=$B$11,$F$11,IF(A223=$B$12,$F$12,IF(A223=$B$13,$F$13,IF(A223=$B$14,$F$14,IF(AND('Simulador Pagos Oportunos'!$AF$45=2,L222=0),D222*(1+Z223),IF($AP$3=2,B223*AN223,D222*(1+Z223)))))))))","v":0},null,0,null,0,null,{"$f":"IF(B223-H223=0,0,J221)","v":0},null,null,null,{"$f":"IF(OR('Simulador Pagos Oportunos'!$U$65=1,'Simulador Pagos Oportunos'!$U$65=3),0,L223*'Simulador Pagos Oportunos'!$U$66*'Simulador Pagos Oportunos'!$V$64)","v":0},null,{"$f":"IF(B223=0,\"\",IF('Simulador Pagos Oportunos'!$W$40=3,AJ223,IF('Simulador Pagos Oportunos'!$W$40=4,AK223,IF('Simulador Pagos Oportunos'!$W$40=5,AL223,IF('Simulador Pagos Oportunos'!$W$40=6,AI223,AH223)))))","v":""},null,0,null,{"$f":"IF(B223<=0,0,B223*'Simulador Pagos Oportunos'!$Y$76)","v":0},null,{"$f":"IF(B223<=0,0,IF('Simulador Pagos Oportunos'!$W$40=3,'Simulador Pagos Oportunos'!$J$52,IF('Simulador Pagos Oportunos'!$W$40=4,'Simulador Pagos Oportunos'!$L$52,IF('Simulador Pagos Oportunos'!$W$40=5,'Simulador Pagos Oportunos'!$N$52,IF('Simulador Pagos Oportunos'!$W$40=6,'Simulador Pagos Oportunos'!$H$52)))))","v":0},null,0,null,null,null,17,0,0,0,0,0,9.6499999999999975E-2,null,null,null,0.1225,0,0,0,0,0,0,0,{"$f":"IF(AO223=0,\"\",IF('Simulador Pagos Oportunos'!$W$40=3,AJ223,IF('Simulador Pagos Oportunos'!$W$40=4,AK223,IF('Simulador Pagos Oportunos'!$W$40=5,AL223,IF('Simulador Pagos Oportunos'!$W$40=6,AI223,AH223)))))","v":""},{"$f":"IF(AO223<=0,0,IF('Simulador Pagos Oportunos'!$Y$73=1,0,AO223*'Simulador Pagos Oportunos'!$Y$76))+IF(AO223<=0,0,IF('Simulador Pagos Oportunos'!$W$40=6,'Simulador Pagos Oportunos'!$H$52,IF('Simulador Pagos Oportunos'!$W$40=3,'Simulador Pagos Oportunos'!$J$52,IF('Simulador Pagos Oportunos'!$W$40=4,'Simulador Pagos Oportunos'!$L$52,'Simulador Pagos Oportunos'!$N$52))))","v":0},null,0,0,"",0,204]
[205,0,null,{"$f":"IF(B224+F224-D223<=0,B224+F224,IF(A224=$B$10,$F$10,IF(A224=$B$11,$F$11,IF(A224=$B$12,$F$12,IF(A224=$B$13,$F$13,IF(A224=$B$14,$F$14,IF(AND('Simulador Pagos Oportunos'!$AF$45=2,L223=0),D223*(1+Z224),IF($AP$3=2,B224*AN224,D223*(1+Z224)))))))))","v":0},null,0,null,0,null,null,null,null,null,{"$f":"IF(OR('Simulador Pagos Oportunos'!$U$65=1,'Simulador Pagos Oportunos'!$U$65=3),0,L224*'Simulador Pagos Oportunos'!$U$66*'Simulador Pagos Oportunos'!$V$64)","v":0},null,{"$f":"IF(B224=0,\"\",IF('Simulador Pagos Oportunos'!$W$40=3,AJ224,IF('Simulador Pagos Oportunos'!$W$40=4,AK224,IF('Simulador Pagos Oportunos'!$W$40=5,AL224,IF('Simulador Pagos Oportunos'!$W$40=6,AI224,AH224)))))","v":""},null,0,null,{"$f":"IF(B224<=0,0,B224*'Simulador Pagos Oportunos'!$Y$76)","v":0},null,{"$f":"IF(B224<=0,0,IF('Simulador Pagos Oportunos'!$W$40=3,'Simulador Pagos Oportunos'!$J$52,IF('Simulador Pagos Oportunos'!$W$40=4,'Simulador Pagos Oportunos'!$L$52,IF('Simulador Pagos Oportunos'!$W$40=5,'Simulador Pagos Oportunos'!$N$52,IF('Simulador Pagos Oportunos'!$W$40=6,'Simulador Pagos Oportunos'!$H$52)))))","v":0},null,0,null,{"$f":"IF(B224<=0,0,$Z$32)","v":0},null,17,1,0,0,0,0,{"$f":"IF(AH223=$AH$6,AH223,IF(AH223-0.25%<=$AH$6,$AH$6,AH223-0.25%))","v":9.3999999999999972E-2},null,null,null,0.1225,0,0,0,0,0,0,0,{"$f":"IF(AO224=0,\"\",IF('Simulador Pagos Oportunos'!$W$40=3,AJ224,IF('Simulador Pagos Oportunos'!$W$40=4,AK224,IF('Simulador Pagos Oportunos'!$W$40=5,AL224,IF('Simulador Pagos Oportunos'!$W$40=6,AI224,AH224)))))","v":""},{"$f":"IF(AO224<=0,0,IF('Simulador Pagos Oportunos'!$Y$73=1,0,AO224*'Simulador Pagos Oportunos'!$Y$76))+IF(AO224<=0,0,IF('Simulador Pagos Oportunos'!$W$40=6,'Simulador Pagos Oportunos'!$H$52,IF('Simulador Pagos Oportunos'!$W$40=3,'Simulador Pagos Oportunos'!$J$52,IF('Simulador Pagos Oportunos'!$W$40=4,'Simulador Pagos Oportunos'!$L$52,'Simulador Pagos Oportunos'!$N$52))))","v":0},{"$f":"IF(AO224<=0,0,$AV$32)","v":0},0,0,"",0,205]
[206,0,null,{"$f":"IF(B225+F225-D224<=0,B225+F225,IF(A225=$B$10,$F$10,IF(A225=$B$11,$F$11,IF(A225=$B$12,$F$12,IF(A225=$B$13,$F$13,IF(A225=$B$14,$F$14,IF(AND('Simulador Pagos Oportunos'!$AF$45=2,L224=0),D224*(1+Z225),IF($AP$3=2,B225*AN225,D224*(1+Z225)))))))))","v":0},null,0,null,0,null,{"$f":"IF(B225-H225=0,0,J223*(1+(3%)))","v":0},null,null,null,{"$f":"IF(OR('Simulador Pagos Oportunos'!$U$65=1,'Simulador Pagos Oportunos'!$U$65=3),0,L225*'Simulador Pagos Oportunos'!$U$66*'Simulador Pagos Oportunos'!$V$64)","v":0},null,{"$f":"IF(B225=0,\"\",IF('Simulador Pagos Oportunos'!$W$40=3,AJ225,IF('Simulador Pagos Oportunos'!$W$40=4,AK225,IF('Simulador Pagos Oportunos'!$W$40=5,AL225,IF('Simulador Pagos Oportunos'!$W$40=6,AI225,AH225)))))","v":""},null,0,null,{"$f":"IF(B225<=0,0,B225*'Simulador Pagos Oportunos'!$Y$76)","v":0},null,{"$f":"IF(B225<=0,0,IF('Simulador Pagos Oportunos'!$W$40=3,'Simulador Pagos Oportunos'!$J$52,IF('Simulador Pagos Oportunos'!$W$40=4,'Simulador Pagos Oportunos'!$L$52,IF('Simulador Pagos Oportunos'!$W$40=5,'Simulador Pagos Oportunos'!$N$52,IF('Simulador Pagos Oportunos'!$W$40=6,'Simulador Pagos Oportunos'!$H$52)))))","v":0},null,0,null,null,null,17,2,0,0,0,0,{"$f":"AH224","v":9.3999999999999972E-2},null,null,null,0.1225,0,0,0,0,0,0,0,{"$f":"IF(AO225=0,\"\",IF('Simulador Pagos Oportunos'!$W$40=3,AJ225,IF('Simulador Pagos Oportunos'!$W$40=4,AK225,IF('Simulador Pagos Oportunos'!$W$40=5,AL225,IF('Simulador Pagos Oportunos'!$W$40=6,AI225,AH225)))))","v":""},{"$f":"IF(AO225<=0,0,IF('Simulador Pagos Oportunos'!$Y$73=1,0,AO225*'Simulador Pagos Oportunos'!$Y$76))+IF(AO225<=0,0,IF('Simulador Pagos Oportunos'!$W$40=6,'Simulador Pagos Oportunos'!$H$52,IF('Simulador Pagos Oportunos'!$W$40=3,'Simulador Pagos Oportunos'!$J$52,IF('Simulador Pagos Oportunos'!$W$40=4,'Simulador Pagos Oportunos'!$L$52,'Simulador Pagos Oportunos'!$N$52))))","v":0},null,0,0,"",0,206]
[207,0,null,{"$f":"IF(B226+F226-D225<=0,B226+F226,IF(A226=$B$10,$F$10,IF(A226=$B$11,$F$11,IF(A226=$B$12,$F$12,IF(A226=$B$13,$F$13,IF(A226=$B$14,$F$14,IF(AND('Simulador Pagos Oportunos'!$AF$45=2,L225=0),D225*(1+Z226),IF($AP$3=2,B226*AN226,D225*(1+Z226)))))))))","v":0},null,0,null,0,null,null,null,null,null,{"$f":"IF(OR('Simulador Pagos Oportunos'!$U$65=1,'Simulador Pagos Oportunos'!$U$65=3),0,L226*'Simulador Pagos Oportunos'!$U$66*'Simulador Pagos Oportunos'!$V$64)","v":0},null,{"$f":"IF(B226=0,\"\",IF('Simulador Pagos Oportunos'!$W$40=3,AJ226,IF('Simulador Pagos Oportunos'!$W$40=4,AK226,IF('Simulador Pagos Oportunos'!$W$40=5,AL226,IF('Simulador Pagos Oportunos'!$W$40=6,AI226,AH226)))))","v":""},null,0,null,{"$f":"IF(B226<=0,0,B226*'Simulador Pagos Oportunos'!$Y$76)","v":0},null,{"$f":"IF(B226<=0,0,IF('Simulador Pagos Oportunos'!$W$40=3,'Simulador Pagos Oportunos'!$J$52,IF('Simulador Pagos Oportunos'!$W$40=4,'Simulador Pagos Oportunos'!$L$52,IF('Simulador Pagos Oportunos'!$W$40=5,'Simulador Pagos Oportunos'!$N$52,IF('Simulador Pagos Oportunos'!$W$40=6,'Simulador Pagos Oportunos'!$H$52)))))","v":0},null,0,null,null,null,17,3,0,0,0,0,{"$f":"AH225","v":9.3999999999999972E-2},null,null,null,0.1225,0,0,0,0,0,0,0,{"$f":"IF(AO226=0,\"\",IF('Simulador Pagos Oportunos'!$W$40=3,AJ226,IF('Simulador Pagos Oportunos'!$W$40=4,AK226,IF('Simulador Pagos Oportunos'!$W$40=5,AL226,IF('Simulador Pagos Oportunos'!$W$40=6,AI226,AH226)))))","v":""},{"$f":"IF(AO226<=0,0,IF('Simulador Pagos Oportunos'!$Y$73=1,0,AO226*'Simulador Pagos Oportunos'!$Y$76))+IF(AO226<=0,0,IF('Simulador Pagos Oportunos'!$W$40=6,'Simulador Pagos Oportunos'!$H$52,IF('Simulador Pagos Oportunos'!$W$40=3,'Simulador Pagos Oportunos'!$J$52,IF('Simulador Pagos Oportunos'!$W$40=4,'Simulador Pagos Oportunos'!$L$52,'Simulador Pagos Oportunos'!$N$52))))","v":0},null,0,0,"",0,207]
[208,0,null,{"$f":"IF(B227+F227-D226<=0,B227+F227,IF(A227=$B$10,$F$10,IF(A227=$B$11,$F$11,IF(A227=$B$12,$F$12,IF(A227=$B$13,$F$13,IF(A227=$B$14,$F$14,IF(AND('Simulador Pagos Oportunos'!$AF$45=2,L226=0),D226*(1+Z227),IF($AP$3=2,B227*AN227,D226*(1+Z227)))))))))","v":0},null,0,null,0,null,{"$f":"IF(B227-H227=0,0,J225)","v":0},null,null,null,{"$f":"IF(OR('Simulador Pagos Oportunos'!$U$65=1,'Simulador Pagos Oportunos'!$U$65=3),0,L227*'Simulador Pagos Oportunos'!$U$66*'Simulador Pagos Oportunos'!$V$64)","v":0},null,{"$f":"IF(B227=0,\"\",IF('Simulador Pagos Oportunos'!$W$40=3,AJ227,IF('Simulador Pagos Oportunos'!$W$40=4,AK227,IF('Simulador Pagos Oportunos'!$W$40=5,AL227,IF('Simulador Pagos Oportunos'!$W$40=6,AI227,AH227)))))","v":""},null,0,null,{"$f":"IF(B227<=0,0,B227*'Simulador Pagos Oportunos'!$Y$76)","v":0},null,{"$f":"IF(B227<=0,0,IF('Simulador Pagos Oportunos'!$W$40=3,'Simulador Pagos Oportunos'!$J$52,IF('Simulador Pagos Oportunos'!$W$40=4,'Simulador Pagos Oportunos'!$L$52,IF('Simulador Pagos Oportunos'!$W$40=5,'Simulador Pagos Oportunos'!$N$52,IF('Simulador Pagos Oportunos'!$W$40=6,'Simulador Pagos Oportunos'!$H$52)))))","v":0},null,0,null,null,null,17,4,0,0,0,0,9.3999999999999972E-2,null,null,null,0.1225,0,0,0,0,0,0,0,{"$f":"IF(AO227=0,\"\",IF('Simulador Pagos Oportunos'!$W$40=3,AJ227,IF('Simulador Pagos Oportunos'!$W$40=4,AK227,IF('Simulador Pagos Oportunos'!$W$40=5,AL227,IF('Simulador Pagos Oportunos'!$W$40=6,AI227,AH227)))))","v":""},{"$f":"IF(AO227<=0,0,IF('Simulador Pagos Oportunos'!$Y$73=1,0,AO227*'Simulador Pagos Oportunos'!$Y$76))+IF(AO227<=0,0,IF('Simulador Pagos Oportunos'!$W$40=6,'Simulador Pagos Oportunos'!$H$52,IF('Simulador Pagos Oportunos'!$W$40=3,'Simulador Pagos Oportunos'!$J$52,IF('Simulador Pagos Oportunos'!$W$40=4,'Simulador Pagos Oportunos'!$L$52,'Simulador Pagos Oportunos'!$N$52))))","v":0},null,0,0,"",0,208]
[209,0,null,{"$f":"IF(B228+F228-D227<=0,B228+F228,IF(A228=$B$10,$F$10,IF(A228=$B$11,$F$11,IF(A228=$B$12,$F$12,IF(A228=$B$13,$F$13,IF(A228=$B$14,$F$14,IF(AND('Simulador Pagos Oportunos'!$AF$45=2,L227=0),D227*(1+Z228),IF($AP$3=2,B228*AN228,D227*(1+Z228)))))))))","v":0},null,0,null,0,null,null,null,null,null,{"$f":"IF(OR('Simulador Pagos Oportunos'!$U$65=1,'Simulador Pagos Oportunos'!$U$65=3),0,L228*'Simulador Pagos Oportunos'!$U$66*'Simulador Pagos Oportunos'!$V$64)","v":0},null,{"$f":"IF(B228=0,\"\",IF('Simulador Pagos Oportunos'!$W$40=3,AJ228,IF('Simulador Pagos Oportunos'!$W$40=4,AK228,IF('Simulador Pagos Oportunos'!$W$40=5,AL228,IF('Simulador Pagos Oportunos'!$W$40=6,AI228,AH228)))))","v":""},null,0,null,{"$f":"IF(B228<=0,0,B228*'Simulador Pagos Oportunos'!$Y$76)","v":0},null,{"$f":"IF(B228<=0,0,IF('Simulador Pagos Oportunos'!$W$40=3,'Simulador Pagos Oportunos'!$J$52,IF('Simulador Pagos Oportunos'!$W$40=4,'Simulador Pagos Oportunos'!$L$52,IF('Simulador Pagos Oportunos'!$W$40=5,'Simulador Pagos Oportunos'!$N$52,IF('Simulador Pagos Oportunos'!$W$40=6,'Simulador Pagos Oportunos'!$H$52)))))","v":0},null,0,null,null,null,17,5,0,0,0,0,9.3999999999999972E-2,null,null,null,0.1225,0,0,0,0,0,0,0,{"$f":"IF(AO228=0,\"\",IF('Simulador Pagos Oportunos'!$W$40=3,AJ228,IF('Simulador Pagos Oportunos'!$W$40=4,AK228,IF('Simulador Pagos Oportunos'!$W$40=5,AL228,IF('Simulador Pagos Oportunos'!$W$40=6,AI228,AH228)))))","v":""},{"$f":"IF(AO228<=0,0,IF('Simulador Pagos Oportunos'!$Y$73=1,0,AO228*'Simulador Pagos Oportunos'!$Y$76))+IF(AO228<=0,0,IF('Simulador Pagos Oportunos'!$W$40=6,'Simulador Pagos Oportunos'!$H$52,IF('Simulador Pagos Oportunos'!$W$40=3,'Simulador Pagos Oportunos'!$J$52,IF('Simulador Pagos Oportunos'!$W$40=4,'Simulador Pagos Oportunos'!$L$52,'Simulador Pagos Oportunos'!$N$52))))","v":0},null,0,0,"",0,209]
[210,0,null,{"$f":"IF(B229+F229-D228<=0,B229+F229,IF(A229=$B$10,$F$10,IF(A229=$B$11,$F$11,IF(A229=$B$12,$F$12,IF(A229=$B$13,$F$13,IF(A229=$B$14,$F$14,IF(AND('Simulador Pagos Oportunos'!$AF$45=2,L228=0),D228*(1+Z229),IF($AP$3=2,B229*AN229,D228*(1+Z229)))))))))","v":0},null,0,null,0,null,{"$f":"IF(B229-H229=0,0,J227)","v":0},null,null,null,{"$f":"IF(OR('Simulador Pagos Oportunos'!$U$65=1,'Simulador Pagos Oportunos'!$U$65=3),0,L229*'Simulador Pagos Oportunos'!$U$66*'Simulador Pagos Oportunos'!$V$64)","v":0},null,{"$f":"IF(B229=0,\"\",IF('Simulador Pagos Oportunos'!$W$40=3,AJ229,IF('Simulador Pagos Oportunos'!$W$40=4,AK229,IF('Simulador Pagos Oportunos'!$W$40=5,AL229,IF('Simulador Pagos Oportunos'!$W$40=6,AI229,AH229)))))","v":""},null,0,null,{"$f":"IF(B229<=0,0,B229*'Simulador Pagos Oportunos'!$Y$76)","v":0},null,{"$f":"IF(B229<=0,0,IF('Simulador Pagos Oportunos'!$W$40=3,'Simulador Pagos Oportunos'!$J$52,IF('Simulador Pagos Oportunos'!$W$40=4,'Simulador Pagos Oportunos'!$L$52,IF('Simulador Pagos Oportunos'!$W$40=5,'Simulador Pagos Oportunos'!$N$52,IF('Simulador Pagos Oportunos'!$W$40=6,'Simulador Pagos Oportunos'!$H$52)))))","v":0},null,0,null,null,null,17,6,0,0,0,0,9.3999999999999972E-2,null,null,null,0.1225,0,0,0,0,0,0,0,{"$f":"IF(AO229=0,\"\",IF('Simulador Pagos Oportunos'!$W$40=3,AJ229,IF('Simulador Pagos Oportunos'!$W$40=4,AK229,IF('Simulador Pagos Oportunos'!$W$40=5,AL229,IF('Simulador Pagos Oportunos'!$W$40=6,AI229,AH229)))))","v":""},{"$f":"IF(AO229<=0,0,IF('Simulador Pagos Oportunos'!$Y$73=1,0,AO229*'Simulador Pagos Oportunos'!$Y$76))+IF(AO229<=0,0,IF('Simulador Pagos Oportunos'!$W$40=6,'Simulador Pagos Oportunos'!$H$52,IF('Simulador Pagos Oportunos'!$W$40=3,'Simulador Pagos Oportunos'!$J$52,IF('Simulador Pagos Oportunos'!$W$40=4,'Simulador Pagos Oportunos'!$L$52,'Simulador Pagos Oportunos'!$N$52))))","v":0},null,0,0,"",0,210]
[211,0,null,{"$f":"IF(B230+F230-D229<=0,B230+F230,IF(A230=$B$10,$F$10,IF(A230=$B$11,$F$11,IF(A230=$B$12,$F$12,IF(A230=$B$13,$F$13,IF(A230=$B$14,$F$14,IF(AND('Simulador Pagos Oportunos'!$AF$45=2,L229=0),D229*(1+Z230),IF($AP$3=2,B230*AN230,D229*(1+Z230)))))))))","v":0},null,0,null,0,null,null,null,null,null,{"$f":"IF(OR('Simulador Pagos Oportunos'!$U$65=1,'Simulador Pagos Oportunos'!$U$65=3),0,L230*'Simulador Pagos Oportunos'!$U$66*'Simulador Pagos Oportunos'!$V$64)","v":0},null,{"$f":"IF(B230=0,\"\",IF('Simulador Pagos Oportunos'!$W$40=3,AJ230,IF('Simulador Pagos Oportunos'!$W$40=4,AK230,IF('Simulador Pagos Oportunos'!$W$40=5,AL230,IF('Simulador Pagos Oportunos'!$W$40=6,AI230,AH230)))))","v":""},null,0,null,{"$f":"IF(B230<=0,0,B230*'Simulador Pagos Oportunos'!$Y$76)","v":0},null,{"$f":"IF(B230<=0,0,IF('Simulador Pagos Oportunos'!$W$40=3,'Simulador Pagos Oportunos'!$J$52,IF('Simulador Pagos Oportunos'!$W$40=4,'Simulador Pagos Oportunos'!$L$52,IF('Simulador Pagos Oportunos'!$W$40=5,'Simulador Pagos Oportunos'!$N$52,IF('Simulador Pagos Oportunos'!$W$40=6,'Simulador Pagos Oportunos'!$H$52)))))","v":0},null,0,null,null,null,17,7,0,0,0,0,9.3999999999999972E-2,null,null,null,0.1225,0,0,0,0,0,0,0,{"$f":"IF(AO230=0,\"\",IF('Simulador Pagos Oportunos'!$W$40=3,AJ230,IF('Simulador Pagos Oportunos'!$W$40=4,AK230,IF('Simulador Pagos Oportunos'!$W$40=5,AL230,IF('Simulador Pagos Oportunos'!$W$40=6,AI230,AH230)))))","v":""},{"$f":"IF(AO230<=0,0,IF('Simulador Pagos Oportunos'!$Y$73=1,0,AO230*'Simulador Pagos Oportunos'!$Y$76))+IF(AO230<=0,0,IF('Simulador Pagos Oportunos'!$W$40=6,'Simulador Pagos Oportunos'!$H$52,IF('Simulador Pagos Oportunos'!$W$40=3,'Simulador Pagos Oportunos'!$J$52,IF('Simulador Pagos Oportunos'!$W$40=4,'Simulador Pagos Oportunos'!$L$52,'Simulador Pagos Oportunos'!$N$52))))","v":0},null,0,0,"",0,211]
[212,0,null,{"$f":"IF(B231+F231-D230<=0,B231+F231,IF(A231=$B$10,$F$10,IF(A231=$B$11,$F$11,IF(A231=$B$12,$F$12,IF(A231=$B$13,$F$13,IF(A231=$B$14,$F$14,IF(AND('Simulador Pagos Oportunos'!$AF$45=2,L230=0),D230*(1+Z231),IF($AP$3=2,B231*AN231,D230*(1+Z231)))))))))","v":0},null,0,null,0,null,{"$f":"IF(B231-H231=0,0,J229)","v":0},null,null,null,{"$f":"IF(OR('Simulador Pagos Oportunos'!$U$65=1,'Simulador Pagos Oportunos'!$U$65=3),0,L231*'Simulador Pagos Oportunos'!$U$66*'Simulador Pagos Oportunos'!$V$64)","v":0},null,{"$f":"IF(B231=0,\"\",IF('Simulador Pagos Oportunos'!$W$40=3,AJ231,IF('Simulador Pagos Oportunos'!$W$40=4,AK231,IF('Simulador Pagos Oportunos'!$W$40=5,AL231,IF('Simulador Pagos Oportunos'!$W$40=6,AI231,AH231)))))","v":""},null,0,null,{"$f":"IF(B231<=0,0,B231*'Simulador Pagos Oportunos'!$Y$76)","v":0},null,{"$f":"IF(B231<=0,0,IF('Simulador Pagos Oportunos'!$W$40=3,'Simulador Pagos Oportunos'!$J$52,IF('Simulador Pagos Oportunos'!$W$40=4,'Simulador Pagos Oportunos'!$L$52,IF('Simulador Pagos Oportunos'!$W$40=5,'Simulador Pagos Oportunos'!$N$52,IF('Simulador Pagos Oportunos'!$W$40=6,'Simulador Pagos Oportunos'!$H$52)))))","v":0},null,0,null,null,null,17,8,0,0,0,0,9.3999999999999972E-2,null,null,null,0.1225,0,0,0,0,0,0,0,{"$f":"IF(AO231=0,\"\",IF('Simulador Pagos Oportunos'!$W$40=3,AJ231,IF('Simulador Pagos Oportunos'!$W$40=4,AK231,IF('Simulador Pagos Oportunos'!$W$40=5,AL231,IF('Simulador Pagos Oportunos'!$W$40=6,AI231,AH231)))))","v":""},{"$f":"IF(AO231<=0,0,IF('Simulador Pagos Oportunos'!$Y$73=1,0,AO231*'Simulador Pagos Oportunos'!$Y$76))+IF(AO231<=0,0,IF('Simulador Pagos Oportunos'!$W$40=6,'Simulador Pagos Oportunos'!$H$52,IF('Simulador Pagos Oportunos'!$W$40=3,'Simulador Pagos Oportunos'!$J$52,IF('Simulador Pagos Oportunos'!$W$40=4,'Simulador Pagos Oportunos'!$L$52,'Simulador Pagos Oportunos'!$N$52))))","v":0},null,0,0,"",0,212]
[213,0,null,{"$f":"IF(B232+F232-D231<=0,B232+F232,IF(A232=$B$10,$F$10,IF(A232=$B$11,$F$11,IF(A232=$B$12,$F$12,IF(A232=$B$13,$F$13,IF(A232=$B$14,$F$14,IF(AND('Simulador Pagos Oportunos'!$AF$45=2,L231=0),D231*(1+Z232),IF($AP$3=2,B232*AN232,D231*(1+Z232)))))))))","v":0},null,0,null,0,null,null,null,null,null,{"$f":"IF(OR('Simulador Pagos Oportunos'!$U$65=1,'Simulador Pagos Oportunos'!$U$65=3),0,L232*'Simulador Pagos Oportunos'!$U$66*'Simulador Pagos Oportunos'!$V$64)","v":0},null,{"$f":"IF(B232=0,\"\",IF('Simulador Pagos Oportunos'!$W$40=3,AJ232,IF('Simulador Pagos Oportunos'!$W$40=4,AK232,IF('Simulador Pagos Oportunos'!$W$40=5,AL232,IF('Simulador Pagos Oportunos'!$W$40=6,AI232,AH232)))))","v":""},null,0,null,{"$f":"IF(B232<=0,0,B232*'Simulador Pagos Oportunos'!$Y$76)","v":0},null,{"$f":"IF(B232<=0,0,IF('Simulador Pagos Oportunos'!$W$40=3,'Simulador Pagos Oportunos'!$J$52,IF('Simulador Pagos Oportunos'!$W$40=4,'Simulador Pagos Oportunos'!$L$52,IF('Simulador Pagos Oportunos'!$W$40=5,'Simulador Pagos Oportunos'!$N$52,IF('Simulador Pagos Oportunos'!$W$40=6,'Simulador Pagos Oportunos'!$H$52)))))","v":0},null,0,null,null,null,17,9,0,0,0,0,9.3999999999999972E-2,null,null,null,0.1225,0,0,0,0,0,0,0,{"$f":"IF(AO232=0,\"\",IF('Simulador Pagos Oportunos'!$W$40=3,AJ232,IF('Simulador Pagos Oportunos'!$W$40=4,AK232,IF('Simulador Pagos Oportunos'!$W$40=5,AL232,IF('Simulador Pagos Oportunos'!$W$40=6,AI232,AH232)))))","v":""},{"$f":"IF(AO232<=0,0,IF('Simulador Pagos Oportunos'!$Y$73=1,0,AO232*'Simulador Pagos Oportunos'!$Y$76))+IF(AO232<=0,0,IF('Simulador Pagos Oportunos'!$W$40=6,'Simulador Pagos Oportunos'!$H$52,IF('Simulador Pagos Oportunos'!$W$40=3,'Simulador Pagos Oportunos'!$J$52,IF('Simulador Pagos Oportunos'!$W$40=4,'Simulador Pagos Oportunos'!$L$52,'Simulador Pagos Oportunos'!$N$52))))","v":0},null,0,0,"",0,213]
[214,0,null,{"$f":"IF(B233+F233-D232<=0,B233+F233,IF(A233=$B$10,$F$10,IF(A233=$B$11,$F$11,IF(A233=$B$12,$F$12,IF(A233=$B$13,$F$13,IF(A233=$B$14,$F$14,IF(AND('Simulador Pagos Oportunos'!$AF$45=2,L232=0),D232*(1+Z233),IF($AP$3=2,B233*AN233,D232*(1+Z233)))))))))","v":0},null,0,null,0,null,{"$f":"IF(B233-H233=0,0,J231)","v":0},null,null,null,{"$f":"IF(OR('Simulador Pagos Oportunos'!$U$65=1,'Simulador Pagos Oportunos'!$U$65=3),0,L233*'Simulador Pagos Oportunos'!$U$66*'Simulador Pagos Oportunos'!$V$64)","v":0},null,{"$f":"IF(B233=0,\"\",IF('Simulador Pagos Oportunos'!$W$40=3,AJ233,IF('Simulador Pagos Oportunos'!$W$40=4,AK233,IF('Simulador Pagos Oportunos'!$W$40=5,AL233,IF('Simulador Pagos Oportunos'!$W$40=6,AI233,AH233)))))","v":""},null,0,null,{"$f":"IF(B233<=0,0,B233*'Simulador Pagos Oportunos'!$Y$76)","v":0},null,{"$f":"IF(B233<=0,0,IF('Simulador Pagos Oportunos'!$W$40=3,'Simulador Pagos Oportunos'!$J$52,IF('Simulador Pagos Oportunos'!$W$40=4,'Simulador Pagos Oportunos'!$L$52,IF('Simulador Pagos Oportunos'!$W$40=5,'Simulador Pagos Oportunos'!$N$52,IF('Simulador Pagos Oportunos'!$W$40=6,'Simulador Pagos Oportunos'!$H$52)))))","v":0},null,0,null,null,null,17,10,0,0,0,0,9.3999999999999972E-2,null,null,null,0.1225,0,0,0,0,0,0,0,{"$f":"IF(AO233=0,\"\",IF('Simulador Pagos Oportunos'!$W$40=3,AJ233,IF('Simulador Pagos Oportunos'!$W$40=4,AK233,IF('Simulador Pagos Oportunos'!$W$40=5,AL233,IF('Simulador Pagos Oportunos'!$W$40=6,AI233,AH233)))))","v":""},{"$f":"IF(AO233<=0,0,IF('Simulador Pagos Oportunos'!$Y$73=1,0,AO233*'Simulador Pagos Oportunos'!$Y$76))+IF(AO233<=0,0,IF('Simulador Pagos Oportunos'!$W$40=6,'Simulador Pagos Oportunos'!$H$52,IF('Simulador Pagos Oportunos'!$W$40=3,'Simulador Pagos Oportunos'!$J$52,IF('Simulador Pagos Oportunos'!$W$40=4,'Simulador Pagos Oportunos'!$L$52,'Simulador Pagos Oportunos'!$N$52))))","v":0},null,0,0,"",0,214]
[215,0,null,{"$f":"IF(B234+F234-D233<=0,B234+F234,IF(A234=$B$10,$F$10,IF(A234=$B$11,$F$11,IF(A234=$B$12,$F$12,IF(A234=$B$13,$F$13,IF(A234=$B$14,$F$14,IF(AND('Simulador Pagos Oportunos'!$AF$45=2,L233=0),D233*(1+Z234),IF($AP$3=2,B234*AN234,D233*(1+Z234)))))))))","v":0},null,0,null,0,null,null,null,null,null,{"$f":"IF(OR('Simulador Pagos Oportunos'!$U$65=1,'Simulador Pagos Oportunos'!$U$65=3),0,L234*'Simulador Pagos Oportunos'!$U$66*'Simulador Pagos Oportunos'!$V$64)","v":0},null,{"$f":"IF(B234=0,\"\",IF('Simulador Pagos Oportunos'!$W$40=3,AJ234,IF('Simulador Pagos Oportunos'!$W$40=4,AK234,IF('Simulador Pagos Oportunos'!$W$40=5,AL234,IF('Simulador Pagos Oportunos'!$W$40=6,AI234,AH234)))))","v":""},null,0,null,{"$f":"IF(B234<=0,0,B234*'Simulador Pagos Oportunos'!$Y$76)","v":0},null,{"$f":"IF(B234<=0,0,IF('Simulador Pagos Oportunos'!$W$40=3,'Simulador Pagos Oportunos'!$J$52,IF('Simulador Pagos Oportunos'!$W$40=4,'Simulador Pagos Oportunos'!$L$52,IF('Simulador Pagos Oportunos'!$W$40=5,'Simulador Pagos Oportunos'!$N$52,IF('Simulador Pagos Oportunos'!$W$40=6,'Simulador Pagos Oportunos'!$H$52)))))","v":0},null,0,null,null,null,17,11,0,0,0,0,9.3999999999999972E-2,null,null,null,0.1225,0,0,0,0,0,0,0,{"$f":"IF(AO234=0,\"\",IF('Simulador Pagos Oportunos'!$W$40=3,AJ234,IF('Simulador Pagos Oportunos'!$W$40=4,AK234,IF('Simulador Pagos Oportunos'!$W$40=5,AL234,IF('Simulador Pagos Oportunos'!$W$40=6,AI234,AH234)))))","v":""},{"$f":"IF(AO234<=0,0,IF('Simulador Pagos Oportunos'!$Y$73=1,0,AO234*'Simulador Pagos Oportunos'!$Y$76))+IF(AO234<=0,0,IF('Simulador Pagos Oportunos'!$W$40=6,'Simulador Pagos Oportunos'!$H$52,IF('Simulador Pagos Oportunos'!$W$40=3,'Simulador Pagos Oportunos'!$J$52,IF('Simulador Pagos Oportunos'!$W$40=4,'Simulador Pagos Oportunos'!$L$52,'Simulador Pagos Oportunos'!$N$52))))","v":0},null,0,0,"",0,215]
[216,0,null,{"$f":"IF(B235+F235-D234<=0,B235+F235,IF(A235=$B$10,$F$10,IF(A235=$B$11,$F$11,IF(A235=$B$12,$F$12,IF(A235=$B$13,$F$13,IF(A235=$B$14,$F$14,IF(AND('Simulador Pagos Oportunos'!$AF$45=2,L234=0),D234*(1+Z235),IF($AP$3=2,B235*AN235,D234*(1+Z235)))))))))","v":0},null,0,null,0,null,{"$f":"IF(B235-H235=0,0,J233)","v":0},null,null,null,{"$f":"IF(OR('Simulador Pagos Oportunos'!$U$65=1,'Simulador Pagos Oportunos'!$U$65=3),0,L235*'Simulador Pagos Oportunos'!$U$66*'Simulador Pagos Oportunos'!$V$64)","v":0},null,{"$f":"IF(B235=0,\"\",IF('Simulador Pagos Oportunos'!$W$40=3,AJ235,IF('Simulador Pagos Oportunos'!$W$40=4,AK235,IF('Simulador Pagos Oportunos'!$W$40=5,AL235,IF('Simulador Pagos Oportunos'!$W$40=6,AI235,AH235)))))","v":""},null,0,null,{"$f":"IF(B235<=0,0,B235*'Simulador Pagos Oportunos'!$Y$76)","v":0},null,{"$f":"IF(B235<=0,0,IF('Simulador Pagos Oportunos'!$W$40=3,'Simulador Pagos Oportunos'!$J$52,IF('Simulador Pagos Oportunos'!$W$40=4,'Simulador Pagos Oportunos'!$L$52,IF('Simulador Pagos Oportunos'!$W$40=5,'Simulador Pagos Oportunos'!$N$52,IF('Simulador Pagos Oportunos'!$W$40=6,'Simulador Pagos Oportunos'!$H$52)))))","v":0},null,0,null,null,null,18,0,0,0,0,0,9.3999999999999972E-2,null,null,null,0.1225,0,0,0,0,0,0,0,{"$f":"IF(AO235=0,\"\",IF('Simulador Pagos Oportunos'!$W$40=3,AJ235,IF('Simulador Pagos Oportunos'!$W$40=4,AK235,IF('Simulador Pagos Oportunos'!$W$40=5,AL235,IF('Simulador Pagos Oportunos'!$W$40=6,AI235,AH235)))))","v":""},{"$f":"IF(AO235<=0,0,IF('Simulador Pagos Oportunos'!$Y$73=1,0,AO235*'Simulador Pagos Oportunos'!$Y$76))+IF(AO235<=0,0,IF('Simulador Pagos Oportunos'!$W$40=6,'Simulador Pagos Oportunos'!$H$52,IF('Simulador Pagos Oportunos'!$W$40=3,'Simulador Pagos Oportunos'!$J$52,IF('Simulador Pagos Oportunos'!$W$40=4,'Simulador Pagos Oportunos'!$L$52,'Simulador Pagos Oportunos'!$N$52))))","v":0},null,0,0,"",0,216]
[217,0,null,{"$f":"IF(B236+F236-D235<=0,B236+F236,IF(A236=$B$10,$F$10,IF(A236=$B$11,$F$11,IF(A236=$B$12,$F$12,IF(A236=$B$13,$F$13,IF(A236=$B$14,$F$14,IF(AND('Simulador Pagos Oportunos'!$AF$45=2,L235=0),D235*(1+Z236),IF($AP$3=2,B236*AN236,D235*(1+Z236)))))))))","v":0},null,0,null,0,null,null,null,null,null,{"$f":"IF(OR('Simulador Pagos Oportunos'!$U$65=1,'Simulador Pagos Oportunos'!$U$65=3),0,L236*'Simulador Pagos Oportunos'!$U$66*'Simulador Pagos Oportunos'!$V$64)","v":0},null,{"$f":"IF(B236=0,\"\",IF('Simulador Pagos Oportunos'!$W$40=3,AJ236,IF('Simulador Pagos Oportunos'!$W$40=4,AK236,IF('Simulador Pagos Oportunos'!$W$40=5,AL236,IF('Simulador Pagos Oportunos'!$W$40=6,AI236,AH236)))))","v":""},null,0,null,{"$f":"IF(B236<=0,0,B236*'Simulador Pagos Oportunos'!$Y$76)","v":0},null,{"$f":"IF(B236<=0,0,IF('Simulador Pagos Oportunos'!$W$40=3,'Simulador Pagos Oportunos'!$J$52,IF('Simulador Pagos Oportunos'!$W$40=4,'Simulador Pagos Oportunos'!$L$52,IF('Simulador Pagos Oportunos'!$W$40=5,'Simulador Pagos Oportunos'!$N$52,IF('Simulador Pagos Oportunos'!$W$40=6,'Simulador Pagos Oportunos'!$H$52)))))","v":0},null,0,null,{"$f":"IF(B236<=0,0,$Z$32)","v":0},null,18,1,0,0,0,0,{"$f":"IF(AH235=$AH$6,AH235,IF(AH235-0.25%<=$AH$6,$AH$6,AH235-0.25%))","v":9.149999999999997E-2},null,null,null,0.1225,0,0,0,0,0,0,0,{"$f":"IF(AO236=0,\"\",IF('Simulador Pagos Oportunos'!$W$40=3,AJ236,IF('Simulador Pagos Oportunos'!$W$40=4,AK236,IF('Simulador Pagos Oportunos'!$W$40=5,AL236,IF('Simulador Pagos Oportunos'!$W$40=6,AI236,AH236)))))","v":""},{"$f":"IF(AO236<=0,0,IF('Simulador Pagos Oportunos'!$Y$73=1,0,AO236*'Simulador Pagos Oportunos'!$Y$76))+IF(AO236<=0,0,IF('Simulador Pagos Oportunos'!$W$40=6,'Simulador Pagos Oportunos'!$H$52,IF('Simulador Pagos Oportunos'!$W$40=3,'Simulador Pagos Oportunos'!$J$52,IF('Simulador Pagos Oportunos'!$W$40=4,'Simulador Pagos Oportunos'!$L$52,'Simulador Pagos Oportunos'!$N$52))))","v":0},{"$f":"IF(AO236<=0,0,$AV$32)","v":0},0,0,"",0,217]
[218,0,null,{"$f":"IF(B237+F237-D236<=0,B237+F237,IF(A237=$B$10,$F$10,IF(A237=$B$11,$F$11,IF(A237=$B$12,$F$12,IF(A237=$B$13,$F$13,IF(A237=$B$14,$F$14,IF(AND('Simulador Pagos Oportunos'!$AF$45=2,L236=0),D236*(1+Z237),IF($AP$3=2,B237*AN237,D236*(1+Z237)))))))))","v":0},null,0,null,0,null,{"$f":"IF(B237-H237=0,0,J235*(1+(3%)))","v":0},null,null,null,{"$f":"IF(OR('Simulador Pagos Oportunos'!$U$65=1,'Simulador Pagos Oportunos'!$U$65=3),0,L237*'Simulador Pagos Oportunos'!$U$66*'Simulador Pagos Oportunos'!$V$64)","v":0},null,{"$f":"IF(B237=0,\"\",IF('Simulador Pagos Oportunos'!$W$40=3,AJ237,IF('Simulador Pagos Oportunos'!$W$40=4,AK237,IF('Simulador Pagos Oportunos'!$W$40=5,AL237,IF('Simulador Pagos Oportunos'!$W$40=6,AI237,AH237)))))","v":""},null,0,null,{"$f":"IF(B237<=0,0,B237*'Simulador Pagos Oportunos'!$Y$76)","v":0},null,{"$f":"IF(B237<=0,0,IF('Simulador Pagos Oportunos'!$W$40=3,'Simulador Pagos Oportunos'!$J$52,IF('Simulador Pagos Oportunos'!$W$40=4,'Simulador Pagos Oportunos'!$L$52,IF('Simulador Pagos Oportunos'!$W$40=5,'Simulador Pagos Oportunos'!$N$52,IF('Simulador Pagos Oportunos'!$W$40=6,'Simulador Pagos Oportunos'!$H$52)))))","v":0},null,0,null,null,null,18,2,0,0,0,0,{"$f":"AH236","v":9.149999999999997E-2},null,null,null,0.1225,0,0,0,0,0,0,0,{"$f":"IF(AO237=0,\"\",IF('Simulador Pagos Oportunos'!$W$40=3,AJ237,IF('Simulador Pagos Oportunos'!$W$40=4,AK237,IF('Simulador Pagos Oportunos'!$W$40=5,AL237,IF('Simulador Pagos Oportunos'!$W$40=6,AI237,AH237)))))","v":""},{"$f":"IF(AO237<=0,0,IF('Simulador Pagos Oportunos'!$Y$73=1,0,AO237*'Simulador Pagos Oportunos'!$Y$76))+IF(AO237<=0,0,IF('Simulador Pagos Oportunos'!$W$40=6,'Simulador Pagos Oportunos'!$H$52,IF('Simulador Pagos Oportunos'!$W$40=3,'Simulador Pagos Oportunos'!$J$52,IF('Simulador Pagos Oportunos'!$W$40=4,'Simulador Pagos Oportunos'!$L$52,'Simulador Pagos Oportunos'!$N$52))))","v":0},null,0,0,"",0,218]
[219,0,null,{"$f":"IF(B238+F238-D237<=0,B238+F238,IF(A238=$B$10,$F$10,IF(A238=$B$11,$F$11,IF(A238=$B$12,$F$12,IF(A238=$B$13,$F$13,IF(A238=$B$14,$F$14,IF(AND('Simulador Pagos Oportunos'!$AF$45=2,L237=0),D237*(1+Z238),IF($AP$3=2,B238*AN238,D237*(1+Z238)))))))))","v":0},null,0,null,0,null,null,null,null,null,{"$f":"IF(OR('Simulador Pagos Oportunos'!$U$65=1,'Simulador Pagos Oportunos'!$U$65=3),0,L238*'Simulador Pagos Oportunos'!$U$66*'Simulador Pagos Oportunos'!$V$64)","v":0},null,{"$f":"IF(B238=0,\"\",IF('Simulador Pagos Oportunos'!$W$40=3,AJ238,IF('Simulador Pagos Oportunos'!$W$40=4,AK238,IF('Simulador Pagos Oportunos'!$W$40=5,AL238,IF('Simulador Pagos Oportunos'!$W$40=6,AI238,AH238)))))","v":""},null,0,null,{"$f":"IF(B238<=0,0,B238*'Simulador Pagos Oportunos'!$Y$76)","v":0},null,{"$f":"IF(B238<=0,0,IF('Simulador Pagos Oportunos'!$W$40=3,'Simulador Pagos Oportunos'!$J$52,IF('Simulador Pagos Oportunos'!$W$40=4,'Simulador Pagos Oportunos'!$L$52,IF('Simulador Pagos Oportunos'!$W$40=5,'Simulador Pagos Oportunos'!$N$52,IF('Simulador Pagos Oportunos'!$W$40=6,'Simulador Pagos Oportunos'!$H$52)))))","v":0},null,0,null,null,null,18,3,0,0,0,0,{"$f":"AH237","v":9.149999999999997E-2},null,null,null,0.1225,0,0,0,0,0,0,0,{"$f":"IF(AO238=0,\"\",IF('Simulador Pagos Oportunos'!$W$40=3,AJ238,IF('Simulador Pagos Oportunos'!$W$40=4,AK238,IF('Simulador Pagos Oportunos'!$W$40=5,AL238,IF('Simulador Pagos Oportunos'!$W$40=6,AI238,AH238)))))","v":""},{"$f":"IF(AO238<=0,0,IF('Simulador Pagos Oportunos'!$Y$73=1,0,AO238*'Simulador Pagos Oportunos'!$Y$76))+IF(AO238<=0,0,IF('Simulador Pagos Oportunos'!$W$40=6,'Simulador Pagos Oportunos'!$H$52,IF('Simulador Pagos Oportunos'!$W$40=3,'Simulador Pagos Oportunos'!$J$52,IF('Simulador Pagos Oportunos'!$W$40=4,'Simulador Pagos Oportunos'!$L$52,'Simulador Pagos Oportunos'!$N$52))))","v":0},null,0,0,"",0,219]
[220,0,null,{"$f":"IF(B239+F239-D238<=0,B239+F239,IF(A239=$B$10,$F$10,IF(A239=$B$11,$F$11,IF(A239=$B$12,$F$12,IF(A239=$B$13,$F$13,IF(A239=$B$14,$F$14,IF(AND('Simulador Pagos Oportunos'!$AF$45=2,L238=0),D238*(1+Z239),IF($AP$3=2,B239*AN239,D238*(1+Z239)))))))))","v":0},null,0,null,0,null,{"$f":"IF(B239-H239=0,0,J237)","v":0},null,null,null,{"$f":"IF(OR('Simulador Pagos Oportunos'!$U$65=1,'Simulador Pagos Oportunos'!$U$65=3),0,L239*'Simulador Pagos Oportunos'!$U$66*'Simulador Pagos Oportunos'!$V$64)","v":0},null,{"$f":"IF(B239=0,\"\",IF('Simulador Pagos Oportunos'!$W$40=3,AJ239,IF('Simulador Pagos Oportunos'!$W$40=4,AK239,IF('Simulador Pagos Oportunos'!$W$40=5,AL239,IF('Simulador Pagos Oportunos'!$W$40=6,AI239,AH239)))))","v":""},null,0,null,{"$f":"IF(B239<=0,0,B239*'Simulador Pagos Oportunos'!$Y$76)","v":0},null,{"$f":"IF(B239<=0,0,IF('Simulador Pagos Oportunos'!$W$40=3,'Simulador Pagos Oportunos'!$J$52,IF('Simulador Pagos Oportunos'!$W$40=4,'Simulador Pagos Oportunos'!$L$52,IF('Simulador Pagos Oportunos'!$W$40=5,'Simulador Pagos Oportunos'!$N$52,IF('Simulador Pagos Oportunos'!$W$40=6,'Simulador Pagos Oportunos'!$H$52)))))","v":0},null,0,null,null,null,18,4,0,0,0,0,9.149999999999997E-2,null,null,null,0.1225,0,0,0,0,0,0,0,{"$f":"IF(AO239=0,\"\",IF('Simulador Pagos Oportunos'!$W$40=3,AJ239,IF('Simulador Pagos Oportunos'!$W$40=4,AK239,IF('Simulador Pagos Oportunos'!$W$40=5,AL239,IF('Simulador Pagos Oportunos'!$W$40=6,AI239,AH239)))))","v":""},{"$f":"IF(AO239<=0,0,IF('Simulador Pagos Oportunos'!$Y$73=1,0,AO239*'Simulador Pagos Oportunos'!$Y$76))+IF(AO239<=0,0,IF('Simulador Pagos Oportunos'!$W$40=6,'Simulador Pagos Oportunos'!$H$52,IF('Simulador Pagos Oportunos'!$W$40=3,'Simulador Pagos Oportunos'!$J$52,IF('Simulador Pagos Oportunos'!$W$40=4,'Simulador Pagos Oportunos'!$L$52,'Simulador Pagos Oportunos'!$N$52))))","v":0},null,0,0,"",0,220]
[221,0,null,{"$f":"IF(B240+F240-D239<=0,B240+F240,IF(A240=$B$10,$F$10,IF(A240=$B$11,$F$11,IF(A240=$B$12,$F$12,IF(A240=$B$13,$F$13,IF(A240=$B$14,$F$14,IF(AND('Simulador Pagos Oportunos'!$AF$45=2,L239=0),D239*(1+Z240),IF($AP$3=2,B240*AN240,D239*(1+Z240)))))))))","v":0},null,0,null,0,null,null,null,null,null,{"$f":"IF(OR('Simulador Pagos Oportunos'!$U$65=1,'Simulador Pagos Oportunos'!$U$65=3),0,L240*'Simulador Pagos Oportunos'!$U$66*'Simulador Pagos Oportunos'!$V$64)","v":0},null,{"$f":"IF(B240=0,\"\",IF('Simulador Pagos Oportunos'!$W$40=3,AJ240,IF('Simulador Pagos Oportunos'!$W$40=4,AK240,IF('Simulador Pagos Oportunos'!$W$40=5,AL240,IF('Simulador Pagos Oportunos'!$W$40=6,AI240,AH240)))))","v":""},null,0,null,{"$f":"IF(B240<=0,0,B240*'Simulador Pagos Oportunos'!$Y$76)","v":0},null,{"$f":"IF(B240<=0,0,IF('Simulador Pagos Oportunos'!$W$40=3,'Simulador Pagos Oportunos'!$J$52,IF('Simulador Pagos Oportunos'!$W$40=4,'Simulador Pagos Oportunos'!$L$52,IF('Simulador Pagos Oportunos'!$W$40=5,'Simulador Pagos Oportunos'!$N$52,IF('Simulador Pagos Oportunos'!$W$40=6,'Simulador Pagos Oportunos'!$H$52)))))","v":0},null,0,null,null,null,18,5,0,0,0,0,9.149999999999997E-2,null,null,null,0.1225,0,0,0,0,0,0,0,{"$f":"IF(AO240=0,\"\",IF('Simulador Pagos Oportunos'!$W$40=3,AJ240,IF('Simulador Pagos Oportunos'!$W$40=4,AK240,IF('Simulador Pagos Oportunos'!$W$40=5,AL240,IF('Simulador Pagos Oportunos'!$W$40=6,AI240,AH240)))))","v":""},{"$f":"IF(AO240<=0,0,IF('Simulador Pagos Oportunos'!$Y$73=1,0,AO240*'Simulador Pagos Oportunos'!$Y$76))+IF(AO240<=0,0,IF('Simulador Pagos Oportunos'!$W$40=6,'Simulador Pagos Oportunos'!$H$52,IF('Simulador Pagos Oportunos'!$W$40=3,'Simulador Pagos Oportunos'!$J$52,IF('Simulador Pagos Oportunos'!$W$40=4,'Simulador Pagos Oportunos'!$L$52,'Simulador Pagos Oportunos'!$N$52))))","v":0},null,0,0,"",0,221]
[222,0,null,{"$f":"IF(B241+F241-D240<=0,B241+F241,IF(A241=$B$10,$F$10,IF(A241=$B$11,$F$11,IF(A241=$B$12,$F$12,IF(A241=$B$13,$F$13,IF(A241=$B$14,$F$14,IF(AND('Simulador Pagos Oportunos'!$AF$45=2,L240=0),D240*(1+Z241),IF($AP$3=2,B241*AN241,D240*(1+Z241)))))))))","v":0},null,0,null,0,null,{"$f":"IF(B241-H241=0,0,J239)","v":0},null,null,null,{"$f":"IF(OR('Simulador Pagos Oportunos'!$U$65=1,'Simulador Pagos Oportunos'!$U$65=3),0,L241*'Simulador Pagos Oportunos'!$U$66*'Simulador Pagos Oportunos'!$V$64)","v":0},null,{"$f":"IF(B241=0,\"\",IF('Simulador Pagos Oportunos'!$W$40=3,AJ241,IF('Simulador Pagos Oportunos'!$W$40=4,AK241,IF('Simulador Pagos Oportunos'!$W$40=5,AL241,IF('Simulador Pagos Oportunos'!$W$40=6,AI241,AH241)))))","v":""},null,0,null,{"$f":"IF(B241<=0,0,B241*'Simulador Pagos Oportunos'!$Y$76)","v":0},null,{"$f":"IF(B241<=0,0,IF('Simulador Pagos Oportunos'!$W$40=3,'Simulador Pagos Oportunos'!$J$52,IF('Simulador Pagos Oportunos'!$W$40=4,'Simulador Pagos Oportunos'!$L$52,IF('Simulador Pagos Oportunos'!$W$40=5,'Simulador Pagos Oportunos'!$N$52,IF('Simulador Pagos Oportunos'!$W$40=6,'Simulador Pagos Oportunos'!$H$52)))))","v":0},null,0,null,null,null,18,6,0,0,0,0,9.149999999999997E-2,null,null,null,0.1225,0,0,0,0,0,0,0,{"$f":"IF(AO241=0,\"\",IF('Simulador Pagos Oportunos'!$W$40=3,AJ241,IF('Simulador Pagos Oportunos'!$W$40=4,AK241,IF('Simulador Pagos Oportunos'!$W$40=5,AL241,IF('Simulador Pagos Oportunos'!$W$40=6,AI241,AH241)))))","v":""},{"$f":"IF(AO241<=0,0,IF('Simulador Pagos Oportunos'!$Y$73=1,0,AO241*'Simulador Pagos Oportunos'!$Y$76))+IF(AO241<=0,0,IF('Simulador Pagos Oportunos'!$W$40=6,'Simulador Pagos Oportunos'!$H$52,IF('Simulador Pagos Oportunos'!$W$40=3,'Simulador Pagos Oportunos'!$J$52,IF('Simulador Pagos Oportunos'!$W$40=4,'Simulador Pagos Oportunos'!$L$52,'Simulador Pagos Oportunos'!$N$52))))","v":0},null,0,0,"",0,222]
[223,0,null,{"$f":"IF(B242+F242-D241<=0,B242+F242,IF(A242=$B$10,$F$10,IF(A242=$B$11,$F$11,IF(A242=$B$12,$F$12,IF(A242=$B$13,$F$13,IF(A242=$B$14,$F$14,IF(AND('Simulador Pagos Oportunos'!$AF$45=2,L241=0),D241*(1+Z242),IF($AP$3=2,B242*AN242,D241*(1+Z242)))))))))","v":0},null,0,null,0,null,null,null,null,null,{"$f":"IF(OR('Simulador Pagos Oportunos'!$U$65=1,'Simulador Pagos Oportunos'!$U$65=3),0,L242*'Simulador Pagos Oportunos'!$U$66*'Simulador Pagos Oportunos'!$V$64)","v":0},null,{"$f":"IF(B242=0,\"\",IF('Simulador Pagos Oportunos'!$W$40=3,AJ242,IF('Simulador Pagos Oportunos'!$W$40=4,AK242,IF('Simulador Pagos Oportunos'!$W$40=5,AL242,IF('Simulador Pagos Oportunos'!$W$40=6,AI242,AH242)))))","v":""},null,0,null,{"$f":"IF(B242<=0,0,B242*'Simulador Pagos Oportunos'!$Y$76)","v":0},null,{"$f":"IF(B242<=0,0,IF('Simulador Pagos Oportunos'!$W$40=3,'Simulador Pagos Oportunos'!$J$52,IF('Simulador Pagos Oportunos'!$W$40=4,'Simulador Pagos Oportunos'!$L$52,IF('Simulador Pagos Oportunos'!$W$40=5,'Simulador Pagos Oportunos'!$N$52,IF('Simulador Pagos Oportunos'!$W$40=6,'Simulador Pagos Oportunos'!$H$52)))))","v":0},null,0,null,null,null,18,7,0,0,0,0,9.149999999999997E-2,null,null,null,0.1225,0,0,0,0,0,0,0,{"$f":"IF(AO242=0,\"\",IF('Simulador Pagos Oportunos'!$W$40=3,AJ242,IF('Simulador Pagos Oportunos'!$W$40=4,AK242,IF('Simulador Pagos Oportunos'!$W$40=5,AL242,IF('Simulador Pagos Oportunos'!$W$40=6,AI242,AH242)))))","v":""},{"$f":"IF(AO242<=0,0,IF('Simulador Pagos Oportunos'!$Y$73=1,0,AO242*'Simulador Pagos Oportunos'!$Y$76))+IF(AO242<=0,0,IF('Simulador Pagos Oportunos'!$W$40=6,'Simulador Pagos Oportunos'!$H$52,IF('Simulador Pagos Oportunos'!$W$40=3,'Simulador Pagos Oportunos'!$J$52,IF('Simulador Pagos Oportunos'!$W$40=4,'Simulador Pagos Oportunos'!$L$52,'Simulador Pagos Oportunos'!$N$52))))","v":0},null,0,0,"",0,223]
[224,0,null,{"$f":"IF(B243+F243-D242<=0,B243+F243,IF(A243=$B$10,$F$10,IF(A243=$B$11,$F$11,IF(A243=$B$12,$F$12,IF(A243=$B$13,$F$13,IF(A243=$B$14,$F$14,IF(AND('Simulador Pagos Oportunos'!$AF$45=2,L242=0),D242*(1+Z243),IF($AP$3=2,B243*AN243,D242*(1+Z243)))))))))","v":0},null,0,null,0,null,{"$f":"IF(B243-H243=0,0,J241)","v":0},null,null,null,{"$f":"IF(OR('Simulador Pagos Oportunos'!$U$65=1,'Simulador Pagos Oportunos'!$U$65=3),0,L243*'Simulador Pagos Oportunos'!$U$66*'Simulador Pagos Oportunos'!$V$64)","v":0},null,{"$f":"IF(B243=0,\"\",IF('Simulador Pagos Oportunos'!$W$40=3,AJ243,IF('Simulador Pagos Oportunos'!$W$40=4,AK243,IF('Simulador Pagos Oportunos'!$W$40=5,AL243,IF('Simulador Pagos Oportunos'!$W$40=6,AI243,AH243)))))","v":""},null,0,null,{"$f":"IF(B243<=0,0,B243*'Simulador Pagos Oportunos'!$Y$76)","v":0},null,{"$f":"IF(B243<=0,0,IF('Simulador Pagos Oportunos'!$W$40=3,'Simulador Pagos Oportunos'!$J$52,IF('Simulador Pagos Oportunos'!$W$40=4,'Simulador Pagos Oportunos'!$L$52,IF('Simulador Pagos Oportunos'!$W$40=5,'Simulador Pagos Oportunos'!$N$52,IF('Simulador Pagos Oportunos'!$W$40=6,'Simulador Pagos Oportunos'!$H$52)))))","v":0},null,0,null,null,null,18,8,0,0,0,0,9.149999999999997E-2,null,null,null,0.1225,0,0,0,0,0,0,0,{"$f":"IF(AO243=0,\"\",IF('Simulador Pagos Oportunos'!$W$40=3,AJ243,IF('Simulador Pagos Oportunos'!$W$40=4,AK243,IF('Simulador Pagos Oportunos'!$W$40=5,AL243,IF('Simulador Pagos Oportunos'!$W$40=6,AI243,AH243)))))","v":""},{"$f":"IF(AO243<=0,0,IF('Simulador Pagos Oportunos'!$Y$73=1,0,AO243*'Simulador Pagos Oportunos'!$Y$76))+IF(AO243<=0,0,IF('Simulador Pagos Oportunos'!$W$40=6,'Simulador Pagos Oportunos'!$H$52,IF('Simulador Pagos Oportunos'!$W$40=3,'Simulador Pagos Oportunos'!$J$52,IF('Simulador Pagos Oportunos'!$W$40=4,'Simulador Pagos Oportunos'!$L$52,'Simulador Pagos Oportunos'!$N$52))))","v":0},null,0,0,"",0,224]
[225,0,null,{"$f":"IF(B244+F244-D243<=0,B244+F244,IF(A244=$B$10,$F$10,IF(A244=$B$11,$F$11,IF(A244=$B$12,$F$12,IF(A244=$B$13,$F$13,IF(A244=$B$14,$F$14,IF(AND('Simulador Pagos Oportunos'!$AF$45=2,L243=0),D243*(1+Z244),IF($AP$3=2,B244*AN244,D243*(1+Z244)))))))))","v":0},null,0,null,0,null,null,null,null,null,{"$f":"IF(OR('Simulador Pagos Oportunos'!$U$65=1,'Simulador Pagos Oportunos'!$U$65=3),0,L244*'Simulador Pagos Oportunos'!$U$66*'Simulador Pagos Oportunos'!$V$64)","v":0},null,{"$f":"IF(B244=0,\"\",IF('Simulador Pagos Oportunos'!$W$40=3,AJ244,IF('Simulador Pagos Oportunos'!$W$40=4,AK244,IF('Simulador Pagos Oportunos'!$W$40=5,AL244,IF('Simulador Pagos Oportunos'!$W$40=6,AI244,AH244)))))","v":""},null,0,null,{"$f":"IF(B244<=0,0,B244*'Simulador Pagos Oportunos'!$Y$76)","v":0},null,{"$f":"IF(B244<=0,0,IF('Simulador Pagos Oportunos'!$W$40=3,'Simulador Pagos Oportunos'!$J$52,IF('Simulador Pagos Oportunos'!$W$40=4,'Simulador Pagos Oportunos'!$L$52,IF('Simulador Pagos Oportunos'!$W$40=5,'Simulador Pagos Oportunos'!$N$52,IF('Simulador Pagos Oportunos'!$W$40=6,'Simulador Pagos Oportunos'!$H$52)))))","v":0},null,0,null,null,null,18,9,0,0,0,0,9.149999999999997E-2,null,null,null,0.1225,0,0,0,0,0,0,0,{"$f":"IF(AO244=0,\"\",IF('Simulador Pagos Oportunos'!$W$40=3,AJ244,IF('Simulador Pagos Oportunos'!$W$40=4,AK244,IF('Simulador Pagos Oportunos'!$W$40=5,AL244,IF('Simulador Pagos Oportunos'!$W$40=6,AI244,AH244)))))","v":""},{"$f":"IF(AO244<=0,0,IF('Simulador Pagos Oportunos'!$Y$73=1,0,AO244*'Simulador Pagos Oportunos'!$Y$76))+IF(AO244<=0,0,IF('Simulador Pagos Oportunos'!$W$40=6,'Simulador Pagos Oportunos'!$H$52,IF('Simulador Pagos Oportunos'!$W$40=3,'Simulador Pagos Oportunos'!$J$52,IF('Simulador Pagos Oportunos'!$W$40=4,'Simulador Pagos Oportunos'!$L$52,'Simulador Pagos Oportunos'!$N$52))))","v":0},null,0,0,"",0,225]
[226,0,null,{"$f":"IF(B245+F245-D244<=0,B245+F245,IF(A245=$B$10,$F$10,IF(A245=$B$11,$F$11,IF(A245=$B$12,$F$12,IF(A245=$B$13,$F$13,IF(A245=$B$14,$F$14,IF(AND('Simulador Pagos Oportunos'!$AF$45=2,L244=0),D244*(1+Z245),IF($AP$3=2,B245*AN245,D244*(1+Z245)))))))))","v":0},null,0,null,0,null,{"$f":"IF(B245-H245=0,0,J243)","v":0},null,null,null,{"$f":"IF(OR('Simulador Pagos Oportunos'!$U$65=1,'Simulador Pagos Oportunos'!$U$65=3),0,L245*'Simulador Pagos Oportunos'!$U$66*'Simulador Pagos Oportunos'!$V$64)","v":0},null,{"$f":"IF(B245=0,\"\",IF('Simulador Pagos Oportunos'!$W$40=3,AJ245,IF('Simulador Pagos Oportunos'!$W$40=4,AK245,IF('Simulador Pagos Oportunos'!$W$40=5,AL245,IF('Simulador Pagos Oportunos'!$W$40=6,AI245,AH245)))))","v":""},null,0,null,{"$f":"IF(B245<=0,0,B245*'Simulador Pagos Oportunos'!$Y$76)","v":0},null,{"$f":"IF(B245<=0,0,IF('Simulador Pagos Oportunos'!$W$40=3,'Simulador Pagos Oportunos'!$J$52,IF('Simulador Pagos Oportunos'!$W$40=4,'Simulador Pagos Oportunos'!$L$52,IF('Simulador Pagos Oportunos'!$W$40=5,'Simulador Pagos Oportunos'!$N$52,IF('Simulador Pagos Oportunos'!$W$40=6,'Simulador Pagos Oportunos'!$H$52)))))","v":0},null,0,null,null,null,18,10,0,0,0,0,9.149999999999997E-2,null,null,null,0.1225,0,0,0,0,0,0,0,{"$f":"IF(AO245=0,\"\",IF('Simulador Pagos Oportunos'!$W$40=3,AJ245,IF('Simulador Pagos Oportunos'!$W$40=4,AK245,IF('Simulador Pagos Oportunos'!$W$40=5,AL245,IF('Simulador Pagos Oportunos'!$W$40=6,AI245,AH245)))))","v":""},{"$f":"IF(AO245<=0,0,IF('Simulador Pagos Oportunos'!$Y$73=1,0,AO245*'Simulador Pagos Oportunos'!$Y$76))+IF(AO245<=0,0,IF('Simulador Pagos Oportunos'!$W$40=6,'Simulador Pagos Oportunos'!$H$52,IF('Simulador Pagos Oportunos'!$W$40=3,'Simulador Pagos Oportunos'!$J$52,IF('Simulador Pagos Oportunos'!$W$40=4,'Simulador Pagos Oportunos'!$L$52,'Simulador Pagos Oportunos'!$N$52))))","v":0},null,0,0,"",0,226]
[227,0,null,{"$f":"IF(B246+F246-D245<=0,B246+F246,IF(A246=$B$10,$F$10,IF(A246=$B$11,$F$11,IF(A246=$B$12,$F$12,IF(A246=$B$13,$F$13,IF(A246=$B$14,$F$14,IF(AND('Simulador Pagos Oportunos'!$AF$45=2,L245=0),D245*(1+Z246),IF($AP$3=2,B246*AN246,D245*(1+Z246)))))))))","v":0},null,0,null,0,null,null,null,null,null,{"$f":"IF(OR('Simulador Pagos Oportunos'!$U$65=1,'Simulador Pagos Oportunos'!$U$65=3),0,L246*'Simulador Pagos Oportunos'!$U$66*'Simulador Pagos Oportunos'!$V$64)","v":0},null,{"$f":"IF(B246=0,\"\",IF('Simulador Pagos Oportunos'!$W$40=3,AJ246,IF('Simulador Pagos Oportunos'!$W$40=4,AK246,IF('Simulador Pagos Oportunos'!$W$40=5,AL246,IF('Simulador Pagos Oportunos'!$W$40=6,AI246,AH246)))))","v":""},null,0,null,{"$f":"IF(B246<=0,0,B246*'Simulador Pagos Oportunos'!$Y$76)","v":0},null,{"$f":"IF(B246<=0,0,IF('Simulador Pagos Oportunos'!$W$40=3,'Simulador Pagos Oportunos'!$J$52,IF('Simulador Pagos Oportunos'!$W$40=4,'Simulador Pagos Oportunos'!$L$52,IF('Simulador Pagos Oportunos'!$W$40=5,'Simulador Pagos Oportunos'!$N$52,IF('Simulador Pagos Oportunos'!$W$40=6,'Simulador Pagos Oportunos'!$H$52)))))","v":0},null,0,null,null,null,18,11,0,0,0,0,9.149999999999997E-2,null,null,null,0.1225,0,0,0,0,0,0,0,{"$f":"IF(AO246=0,\"\",IF('Simulador Pagos Oportunos'!$W$40=3,AJ246,IF('Simulador Pagos Oportunos'!$W$40=4,AK246,IF('Simulador Pagos Oportunos'!$W$40=5,AL246,IF('Simulador Pagos Oportunos'!$W$40=6,AI246,AH246)))))","v":""},{"$f":"IF(AO246<=0,0,IF('Simulador Pagos Oportunos'!$Y$73=1,0,AO246*'Simulador Pagos Oportunos'!$Y$76))+IF(AO246<=0,0,IF('Simulador Pagos Oportunos'!$W$40=6,'Simulador Pagos Oportunos'!$H$52,IF('Simulador Pagos Oportunos'!$W$40=3,'Simulador Pagos Oportunos'!$J$52,IF('Simulador Pagos Oportunos'!$W$40=4,'Simulador Pagos Oportunos'!$L$52,'Simulador Pagos Oportunos'!$N$52))))","v":0},null,0,0,"",0,227]
[228,0,null,{"$f":"IF(B247+F247-D246<=0,B247+F247,IF(A247=$B$10,$F$10,IF(A247=$B$11,$F$11,IF(A247=$B$12,$F$12,IF(A247=$B$13,$F$13,IF(A247=$B$14,$F$14,IF(AND('Simulador Pagos Oportunos'!$AF$45=2,L246=0),D246*(1+Z247),IF($AP$3=2,B247*AN247,D246*(1+Z247)))))))))","v":0},null,0,null,0,null,{"$f":"IF(B247-H247=0,0,J245)","v":0},null,null,null,{"$f":"IF(OR('Simulador Pagos Oportunos'!$U$65=1,'Simulador Pagos Oportunos'!$U$65=3),0,L247*'Simulador Pagos Oportunos'!$U$66*'Simulador Pagos Oportunos'!$V$64)","v":0},null,{"$f":"IF(B247=0,\"\",IF('Simulador Pagos Oportunos'!$W$40=3,AJ247,IF('Simulador Pagos Oportunos'!$W$40=4,AK247,IF('Simulador Pagos Oportunos'!$W$40=5,AL247,IF('Simulador Pagos Oportunos'!$W$40=6,AI247,AH247)))))","v":""},null,0,null,{"$f":"IF(B247<=0,0,B247*'Simulador Pagos Oportunos'!$Y$76)","v":0},null,{"$f":"IF(B247<=0,0,IF('Simulador Pagos Oportunos'!$W$40=3,'Simulador Pagos Oportunos'!$J$52,IF('Simulador Pagos Oportunos'!$W$40=4,'Simulador Pagos Oportunos'!$L$52,IF('Simulador Pagos Oportunos'!$W$40=5,'Simulador Pagos Oportunos'!$N$52,IF('Simulador Pagos Oportunos'!$W$40=6,'Simulador Pagos Oportunos'!$H$52)))))","v":0},null,0,null,null,null,19,0,0,0,0,0,9.149999999999997E-2,null,null,null,0.1225,0,0,0,0,0,0,0,{"$f":"IF(AO247=0,\"\",IF('Simulador Pagos Oportunos'!$W$40=3,AJ247,IF('Simulador Pagos Oportunos'!$W$40=4,AK247,IF('Simulador Pagos Oportunos'!$W$40=5,AL247,IF('Simulador Pagos Oportunos'!$W$40=6,AI247,AH247)))))","v":""},{"$f":"IF(AO247<=0,0,IF('Simulador Pagos Oportunos'!$Y$73=1,0,AO247*'Simulador Pagos Oportunos'!$Y$76))+IF(AO247<=0,0,IF('Simulador Pagos Oportunos'!$W$40=6,'Simulador Pagos Oportunos'!$H$52,IF('Simulador Pagos Oportunos'!$W$40=3,'Simulador Pagos Oportunos'!$J$52,IF('Simulador Pagos Oportunos'!$W$40=4,'Simulador Pagos Oportunos'!$L$52,'Simulador Pagos Oportunos'!$N$52))))","v":0},null,0,0,"",0,228]
[229,0,null,{"$f":"IF(B248+F248-D247<=0,B248+F248,IF(A248=$B$10,$F$10,IF(A248=$B$11,$F$11,IF(A248=$B$12,$F$12,IF(A248=$B$13,$F$13,IF(A248=$B$14,$F$14,IF(AND('Simulador Pagos Oportunos'!$AF$45=2,L247=0),D247*(1+Z248),IF($AP$3=2,B248*AN248,D247*(1+Z248)))))))))","v":0},null,0,null,0,null,null,null,null,null,{"$f":"IF(OR('Simulador Pagos Oportunos'!$U$65=1,'Simulador Pagos Oportunos'!$U$65=3),0,L248*'Simulador Pagos Oportunos'!$U$66*'Simulador Pagos Oportunos'!$V$64)","v":0},null,{"$f":"IF(B248=0,\"\",IF('Simulador Pagos Oportunos'!$W$40=3,AJ248,IF('Simulador Pagos Oportunos'!$W$40=4,AK248,IF('Simulador Pagos Oportunos'!$W$40=5,AL248,IF('Simulador Pagos Oportunos'!$W$40=6,AI248,AH248)))))","v":""},null,0,null,{"$f":"IF(B248<=0,0,B248*'Simulador Pagos Oportunos'!$Y$76)","v":0},null,{"$f":"IF(B248<=0,0,IF('Simulador Pagos Oportunos'!$W$40=3,'Simulador Pagos Oportunos'!$J$52,IF('Simulador Pagos Oportunos'!$W$40=4,'Simulador Pagos Oportunos'!$L$52,IF('Simulador Pagos Oportunos'!$W$40=5,'Simulador Pagos Oportunos'!$N$52,IF('Simulador Pagos Oportunos'!$W$40=6,'Simulador Pagos Oportunos'!$H$52)))))","v":0},null,0,null,{"$f":"IF(B248<=0,0,$Z$32)","v":0},null,19,1,0,0,0,0,{"$f":"IF(AH247=$AH$6,AH247,IF(AH247-0.25%<=$AH$6,$AH$6,AH247-0.25%))","v":8.8999999999999968E-2},null,null,null,0.1225,0,0,0,0,0,0,0,{"$f":"IF(AO248=0,\"\",IF('Simulador Pagos Oportunos'!$W$40=3,AJ248,IF('Simulador Pagos Oportunos'!$W$40=4,AK248,IF('Simulador Pagos Oportunos'!$W$40=5,AL248,IF('Simulador Pagos Oportunos'!$W$40=6,AI248,AH248)))))","v":""},{"$f":"IF(AO248<=0,0,IF('Simulador Pagos Oportunos'!$Y$73=1,0,AO248*'Simulador Pagos Oportunos'!$Y$76))+IF(AO248<=0,0,IF('Simulador Pagos Oportunos'!$W$40=6,'Simulador Pagos Oportunos'!$H$52,IF('Simulador Pagos Oportunos'!$W$40=3,'Simulador Pagos Oportunos'!$J$52,IF('Simulador Pagos Oportunos'!$W$40=4,'Simulador Pagos Oportunos'!$L$52,'Simulador Pagos Oportunos'!$N$52))))","v":0},{"$f":"IF(AO248<=0,0,$AV$32)","v":0},0,0,"",0,229]
[230,0,null,{"$f":"IF(B249+F249-D248<=0,B249+F249,IF(A249=$B$10,$F$10,IF(A249=$B$11,$F$11,IF(A249=$B$12,$F$12,IF(A249=$B$13,$F$13,IF(A249=$B$14,$F$14,IF(AND('Simulador Pagos Oportunos'!$AF$45=2,L248=0),D248*(1+Z249),IF($AP$3=2,B249*AN249,D248*(1+Z249)))))))))","v":0},null,0,null,0,null,{"$f":"IF(B249-H249=0,0,J247*(1+(3%)))","v":0},null,null,null,{"$f":"IF(OR('Simulador Pagos Oportunos'!$U$65=1,'Simulador Pagos Oportunos'!$U$65=3),0,L249*'Simulador Pagos Oportunos'!$U$66*'Simulador Pagos Oportunos'!$V$64)","v":0},null,{"$f":"IF(B249=0,\"\",IF('Simulador Pagos Oportunos'!$W$40=3,AJ249,IF('Simulador Pagos Oportunos'!$W$40=4,AK249,IF('Simulador Pagos Oportunos'!$W$40=5,AL249,IF('Simulador Pagos Oportunos'!$W$40=6,AI249,AH249)))))","v":""},null,0,null,{"$f":"IF(B249<=0,0,B249*'Simulador Pagos Oportunos'!$Y$76)","v":0},null,{"$f":"IF(B249<=0,0,IF('Simulador Pagos Oportunos'!$W$40=3,'Simulador Pagos Oportunos'!$J$52,IF('Simulador Pagos Oportunos'!$W$40=4,'Simulador Pagos Oportunos'!$L$52,IF('Simulador Pagos Oportunos'!$W$40=5,'Simulador Pagos Oportunos'!$N$52,IF('Simulador Pagos Oportunos'!$W$40=6,'Simulador Pagos Oportunos'!$H$52)))))","v":0},null,0,null,null,null,19,2,0,0,0,0,{"$f":"AH248","v":8.8999999999999968E-2},null,null,null,0.1225,0,0,0,0,0,0,0,{"$f":"IF(AO249=0,\"\",IF('Simulador Pagos Oportunos'!$W$40=3,AJ249,IF('Simulador Pagos Oportunos'!$W$40=4,AK249,IF('Simulador Pagos Oportunos'!$W$40=5,AL249,IF('Simulador Pagos Oportunos'!$W$40=6,AI249,AH249)))))","v":""},{"$f":"IF(AO249<=0,0,IF('Simulador Pagos Oportunos'!$Y$73=1,0,AO249*'Simulador Pagos Oportunos'!$Y$76))+IF(AO249<=0,0,IF('Simulador Pagos Oportunos'!$W$40=6,'Simulador Pagos Oportunos'!$H$52,IF('Simulador Pagos Oportunos'!$W$40=3,'Simulador Pagos Oportunos'!$J$52,IF('Simulador Pagos Oportunos'!$W$40=4,'Simulador Pagos Oportunos'!$L$52,'Simulador Pagos Oportunos'!$N$52))))","v":0},null,0,0,"",0,230]
[231,0,null,{"$f":"IF(B250+F250-D249<=0,B250+F250,IF(A250=$B$10,$F$10,IF(A250=$B$11,$F$11,IF(A250=$B$12,$F$12,IF(A250=$B$13,$F$13,IF(A250=$B$14,$F$14,IF(AND('Simulador Pagos Oportunos'!$AF$45=2,L249=0),D249*(1+Z250),IF($AP$3=2,B250*AN250,D249*(1+Z250)))))))))","v":0},null,0,null,0,null,null,null,null,null,{"$f":"IF(OR('Simulador Pagos Oportunos'!$U$65=1,'Simulador Pagos Oportunos'!$U$65=3),0,L250*'Simulador Pagos Oportunos'!$U$66*'Simulador Pagos Oportunos'!$V$64)","v":0},null,{"$f":"IF(B250=0,\"\",IF('Simulador Pagos Oportunos'!$W$40=3,AJ250,IF('Simulador Pagos Oportunos'!$W$40=4,AK250,IF('Simulador Pagos Oportunos'!$W$40=5,AL250,IF('Simulador Pagos Oportunos'!$W$40=6,AI250,AH250)))))","v":""},null,0,null,{"$f":"IF(B250<=0,0,B250*'Simulador Pagos Oportunos'!$Y$76)","v":0},null,{"$f":"IF(B250<=0,0,IF('Simulador Pagos Oportunos'!$W$40=3,'Simulador Pagos Oportunos'!$J$52,IF('Simulador Pagos Oportunos'!$W$40=4,'Simulador Pagos Oportunos'!$L$52,IF('Simulador Pagos Oportunos'!$W$40=5,'Simulador Pagos Oportunos'!$N$52,IF('Simulador Pagos Oportunos'!$W$40=6,'Simulador Pagos Oportunos'!$H$52)))))","v":0},null,0,null,null,null,19,3,0,0,0,0,{"$f":"AH249","v":8.8999999999999968E-2},null,null,null,0.1225,0,0,0,0,0,0,0,{"$f":"IF(AO250=0,\"\",IF('Simulador Pagos Oportunos'!$W$40=3,AJ250,IF('Simulador Pagos Oportunos'!$W$40=4,AK250,IF('Simulador Pagos Oportunos'!$W$40=5,AL250,IF('Simulador Pagos Oportunos'!$W$40=6,AI250,AH250)))))","v":""},{"$f":"IF(AO250<=0,0,IF('Simulador Pagos Oportunos'!$Y$73=1,0,AO250*'Simulador Pagos Oportunos'!$Y$76))+IF(AO250<=0,0,IF('Simulador Pagos Oportunos'!$W$40=6,'Simulador Pagos Oportunos'!$H$52,IF('Simulador Pagos Oportunos'!$W$40=3,'Simulador Pagos Oportunos'!$J$52,IF('Simulador Pagos Oportunos'!$W$40=4,'Simulador Pagos Oportunos'!$L$52,'Simulador Pagos Oportunos'!$N$52))))","v":0},null,0,0,"",0,231]
[232,0,null,{"$f":"IF(B251+F251-D250<=0,B251+F251,IF(A251=$B$10,$F$10,IF(A251=$B$11,$F$11,IF(A251=$B$12,$F$12,IF(A251=$B$13,$F$13,IF(A251=$B$14,$F$14,IF(AND('Simulador Pagos Oportunos'!$AF$45=2,L250=0),D250*(1+Z251),IF($AP$3=2,B251*AN251,D250*(1+Z251)))))))))","v":0},null,0,null,0,null,{"$f":"IF(B251-H251=0,0,J249)","v":0},null,null,null,{"$f":"IF(OR('Simulador Pagos Oportunos'!$U$65=1,'Simulador Pagos Oportunos'!$U$65=3),0,L251*'Simulador Pagos Oportunos'!$U$66*'Simulador Pagos Oportunos'!$V$64)","v":0},null,{"$f":"IF(B251=0,\"\",IF('Simulador Pagos Oportunos'!$W$40=3,AJ251,IF('Simulador Pagos Oportunos'!$W$40=4,AK251,IF('Simulador Pagos Oportunos'!$W$40=5,AL251,IF('Simulador Pagos Oportunos'!$W$40=6,AI251,AH251)))))","v":""},null,0,null,{"$f":"IF(B251<=0,0,B251*'Simulador Pagos Oportunos'!$Y$76)","v":0},null,{"$f":"IF(B251<=0,0,IF('Simulador Pagos Oportunos'!$W$40=3,'Simulador Pagos Oportunos'!$J$52,IF('Simulador Pagos Oportunos'!$W$40=4,'Simulador Pagos Oportunos'!$L$52,IF('Simulador Pagos Oportunos'!$W$40=5,'Simulador Pagos Oportunos'!$N$52,IF('Simulador Pagos Oportunos'!$W$40=6,'Simulador Pagos Oportunos'!$H$52)))))","v":0},null,0,null,null,null,19,4,0,0,0,0,8.8999999999999968E-2,null,null,null,0.1225,0,0,0,0,0,0,0,{"$f":"IF(AO251=0,\"\",IF('Simulador Pagos Oportunos'!$W$40=3,AJ251,IF('Simulador Pagos Oportunos'!$W$40=4,AK251,IF('Simulador Pagos Oportunos'!$W$40=5,AL251,IF('Simulador Pagos Oportunos'!$W$40=6,AI251,AH251)))))","v":""},{"$f":"IF(AO251<=0,0,IF('Simulador Pagos Oportunos'!$Y$73=1,0,AO251*'Simulador Pagos Oportunos'!$Y$76))+IF(AO251<=0,0,IF('Simulador Pagos Oportunos'!$W$40=6,'Simulador Pagos Oportunos'!$H$52,IF('Simulador Pagos Oportunos'!$W$40=3,'Simulador Pagos Oportunos'!$J$52,IF('Simulador Pagos Oportunos'!$W$40=4,'Simulador Pagos Oportunos'!$L$52,'Simulador Pagos Oportunos'!$N$52))))","v":0},null,0,0,"",0,232]
[233,0,null,{"$f":"IF(B252+F252-D251<=0,B252+F252,IF(A252=$B$10,$F$10,IF(A252=$B$11,$F$11,IF(A252=$B$12,$F$12,IF(A252=$B$13,$F$13,IF(A252=$B$14,$F$14,IF(AND('Simulador Pagos Oportunos'!$AF$45=2,L251=0),D251*(1+Z252),IF($AP$3=2,B252*AN252,D251*(1+Z252)))))))))","v":0},null,0,null,0,null,null,null,null,null,{"$f":"IF(OR('Simulador Pagos Oportunos'!$U$65=1,'Simulador Pagos Oportunos'!$U$65=3),0,L252*'Simulador Pagos Oportunos'!$U$66*'Simulador Pagos Oportunos'!$V$64)","v":0},null,{"$f":"IF(B252=0,\"\",IF('Simulador Pagos Oportunos'!$W$40=3,AJ252,IF('Simulador Pagos Oportunos'!$W$40=4,AK252,IF('Simulador Pagos Oportunos'!$W$40=5,AL252,IF('Simulador Pagos Oportunos'!$W$40=6,AI252,AH252)))))","v":""},null,0,null,{"$f":"IF(B252<=0,0,B252*'Simulador Pagos Oportunos'!$Y$76)","v":0},null,{"$f":"IF(B252<=0,0,IF('Simulador Pagos Oportunos'!$W$40=3,'Simulador Pagos Oportunos'!$J$52,IF('Simulador Pagos Oportunos'!$W$40=4,'Simulador Pagos Oportunos'!$L$52,IF('Simulador Pagos Oportunos'!$W$40=5,'Simulador Pagos Oportunos'!$N$52,IF('Simulador Pagos Oportunos'!$W$40=6,'Simulador Pagos Oportunos'!$H$52)))))","v":0},null,0,null,null,null,19,5,0,0,0,0,8.8999999999999968E-2,null,null,null,0.1225,0,0,0,0,0,0,0,{"$f":"IF(AO252=0,\"\",IF('Simulador Pagos Oportunos'!$W$40=3,AJ252,IF('Simulador Pagos Oportunos'!$W$40=4,AK252,IF('Simulador Pagos Oportunos'!$W$40=5,AL252,IF('Simulador Pagos Oportunos'!$W$40=6,AI252,AH252)))))","v":""},{"$f":"IF(AO252<=0,0,IF('Simulador Pagos Oportunos'!$Y$73=1,0,AO252*'Simulador Pagos Oportunos'!$Y$76))+IF(AO252<=0,0,IF('Simulador Pagos Oportunos'!$W$40=6,'Simulador Pagos Oportunos'!$H$52,IF('Simulador Pagos Oportunos'!$W$40=3,'Simulador Pagos Oportunos'!$J$52,IF('Simulador Pagos Oportunos'!$W$40=4,'Simulador Pagos Oportunos'!$L$52,'Simulador Pagos Oportunos'!$N$52))))","v":0},null,0,0,"",0,233]
[234,0,null,{"$f":"IF(B253+F253-D252<=0,B253+F253,IF(A253=$B$10,$F$10,IF(A253=$B$11,$F$11,IF(A253=$B$12,$F$12,IF(A253=$B$13,$F$13,IF(A253=$B$14,$F$14,IF(AND('Simulador Pagos Oportunos'!$AF$45=2,L252=0),D252*(1+Z253),IF($AP$3=2,B253*AN253,D252*(1+Z253)))))))))","v":0},null,0,null,0,null,{"$f":"IF(B253-H253=0,0,J251)","v":0},null,null,null,{"$f":"IF(OR('Simulador Pagos Oportunos'!$U$65=1,'Simulador Pagos Oportunos'!$U$65=3),0,L253*'Simulador Pagos Oportunos'!$U$66*'Simulador Pagos Oportunos'!$V$64)","v":0},null,{"$f":"IF(B253=0,\"\",IF('Simulador Pagos Oportunos'!$W$40=3,AJ253,IF('Simulador Pagos Oportunos'!$W$40=4,AK253,IF('Simulador Pagos Oportunos'!$W$40=5,AL253,IF('Simulador Pagos Oportunos'!$W$40=6,AI253,AH253)))))","v":""},null,0,null,{"$f":"IF(B253<=0,0,B253*'Simulador Pagos Oportunos'!$Y$76)","v":0},null,{"$f":"IF(B253<=0,0,IF('Simulador Pagos Oportunos'!$W$40=3,'Simulador Pagos Oportunos'!$J$52,IF('Simulador Pagos Oportunos'!$W$40=4,'Simulador Pagos Oportunos'!$L$52,IF('Simulador Pagos Oportunos'!$W$40=5,'Simulador Pagos Oportunos'!$N$52,IF('Simulador Pagos Oportunos'!$W$40=6,'Simulador Pagos Oportunos'!$H$52)))))","v":0},null,0,null,null,null,19,6,0,0,0,0,8.8999999999999968E-2,null,null,null,0.1225,0,0,0,0,0,0,0,{"$f":"IF(AO253=0,\"\",IF('Simulador Pagos Oportunos'!$W$40=3,AJ253,IF('Simulador Pagos Oportunos'!$W$40=4,AK253,IF('Simulador Pagos Oportunos'!$W$40=5,AL253,IF('Simulador Pagos Oportunos'!$W$40=6,AI253,AH253)))))","v":""},{"$f":"IF(AO253<=0,0,IF('Simulador Pagos Oportunos'!$Y$73=1,0,AO253*'Simulador Pagos Oportunos'!$Y$76))+IF(AO253<=0,0,IF('Simulador Pagos Oportunos'!$W$40=6,'Simulador Pagos Oportunos'!$H$52,IF('Simulador Pagos Oportunos'!$W$40=3,'Simulador Pagos Oportunos'!$J$52,IF('Simulador Pagos Oportunos'!$W$40=4,'Simulador Pagos Oportunos'!$L$52,'Simulador Pagos Oportunos'!$N$52))))","v":0},null,0,0,"",0,234]
[235,0,null,{"$f":"IF(B254+F254-D253<=0,B254+F254,IF(A254=$B$10,$F$10,IF(A254=$B$11,$F$11,IF(A254=$B$12,$F$12,IF(A254=$B$13,$F$13,IF(A254=$B$14,$F$14,IF(AND('Simulador Pagos Oportunos'!$AF$45=2,L253=0),D253*(1+Z254),IF($AP$3=2,B254*AN254,D253*(1+Z254)))))))))","v":0},null,0,null,0,null,null,null,null,null,{"$f":"IF(OR('Simulador Pagos Oportunos'!$U$65=1,'Simulador Pagos Oportunos'!$U$65=3),0,L254*'Simulador Pagos Oportunos'!$U$66*'Simulador Pagos Oportunos'!$V$64)","v":0},null,{"$f":"IF(B254=0,\"\",IF('Simulador Pagos Oportunos'!$W$40=3,AJ254,IF('Simulador Pagos Oportunos'!$W$40=4,AK254,IF('Simulador Pagos Oportunos'!$W$40=5,AL254,IF('Simulador Pagos Oportunos'!$W$40=6,AI254,AH254)))))","v":""},null,0,null,{"$f":"IF(B254<=0,0,B254*'Simulador Pagos Oportunos'!$Y$76)","v":0},null,{"$f":"IF(B254<=0,0,IF('Simulador Pagos Oportunos'!$W$40=3,'Simulador Pagos Oportunos'!$J$52,IF('Simulador Pagos Oportunos'!$W$40=4,'Simulador Pagos Oportunos'!$L$52,IF('Simulador Pagos Oportunos'!$W$40=5,'Simulador Pagos Oportunos'!$N$52,IF('Simulador Pagos Oportunos'!$W$40=6,'Simulador Pagos Oportunos'!$H$52)))))","v":0},null,0,null,null,null,19,7,0,0,0,0,8.8999999999999968E-2,null,null,null,0.1225,0,0,0,0,0,0,0,{"$f":"IF(AO254=0,\"\",IF('Simulador Pagos Oportunos'!$W$40=3,AJ254,IF('Simulador Pagos Oportunos'!$W$40=4,AK254,IF('Simulador Pagos Oportunos'!$W$40=5,AL254,IF('Simulador Pagos Oportunos'!$W$40=6,AI254,AH254)))))","v":""},{"$f":"IF(AO254<=0,0,IF('Simulador Pagos Oportunos'!$Y$73=1,0,AO254*'Simulador Pagos Oportunos'!$Y$76))+IF(AO254<=0,0,IF('Simulador Pagos Oportunos'!$W$40=6,'Simulador Pagos Oportunos'!$H$52,IF('Simulador Pagos Oportunos'!$W$40=3,'Simulador Pagos Oportunos'!$J$52,IF('Simulador Pagos Oportunos'!$W$40=4,'Simulador Pagos Oportunos'!$L$52,'Simulador Pagos Oportunos'!$N$52))))","v":0},null,0,0,"",0,235]
[236,0,null,{"$f":"IF(B255+F255-D254<=0,B255+F255,IF(A255=$B$10,$F$10,IF(A255=$B$11,$F$11,IF(A255=$B$12,$F$12,IF(A255=$B$13,$F$13,IF(A255=$B$14,$F$14,IF(AND('Simulador Pagos Oportunos'!$AF$45=2,L254=0),D254*(1+Z255),IF($AP$3=2,B255*AN255,D254*(1+Z255)))))))))","v":0},null,0,null,0,null,{"$f":"IF(B255-H255=0,0,J253)","v":0},null,null,null,{"$f":"IF(OR('Simulador Pagos Oportunos'!$U$65=1,'Simulador Pagos Oportunos'!$U$65=3),0,L255*'Simulador Pagos Oportunos'!$U$66*'Simulador Pagos Oportunos'!$V$64)","v":0},null,{"$f":"IF(B255=0,\"\",IF('Simulador Pagos Oportunos'!$W$40=3,AJ255,IF('Simulador Pagos Oportunos'!$W$40=4,AK255,IF('Simulador Pagos Oportunos'!$W$40=5,AL255,IF('Simulador Pagos Oportunos'!$W$40=6,AI255,AH255)))))","v":""},null,0,null,{"$f":"IF(B255<=0,0,B255*'Simulador Pagos Oportunos'!$Y$76)","v":0},null,{"$f":"IF(B255<=0,0,IF('Simulador Pagos Oportunos'!$W$40=3,'Simulador Pagos Oportunos'!$J$52,IF('Simulador Pagos Oportunos'!$W$40=4,'Simulador Pagos Oportunos'!$L$52,IF('Simulador Pagos Oportunos'!$W$40=5,'Simulador Pagos Oportunos'!$N$52,IF('Simulador Pagos Oportunos'!$W$40=6,'Simulador Pagos Oportunos'!$H$52)))))","v":0},null,0,null,null,null,19,8,0,0,0,0,8.8999999999999968E-2,null,null,null,0.1225,0,0,0,0,0,0,0,{"$f":"IF(AO255=0,\"\",IF('Simulador Pagos Oportunos'!$W$40=3,AJ255,IF('Simulador Pagos Oportunos'!$W$40=4,AK255,IF('Simulador Pagos Oportunos'!$W$40=5,AL255,IF('Simulador Pagos Oportunos'!$W$40=6,AI255,AH255)))))","v":""},{"$f":"IF(AO255<=0,0,IF('Simulador Pagos Oportunos'!$Y$73=1,0,AO255*'Simulador Pagos Oportunos'!$Y$76))+IF(AO255<=0,0,IF('Simulador Pagos Oportunos'!$W$40=6,'Simulador Pagos Oportunos'!$H$52,IF('Simulador Pagos Oportunos'!$W$40=3,'Simulador Pagos Oportunos'!$J$52,IF('Simulador Pagos Oportunos'!$W$40=4,'Simulador Pagos Oportunos'!$L$52,'Simulador Pagos Oportunos'!$N$52))))","v":0},null,0,0,"",0,236]
[237,0,null,{"$f":"IF(B256+F256-D255<=0,B256+F256,IF(A256=$B$10,$F$10,IF(A256=$B$11,$F$11,IF(A256=$B$12,$F$12,IF(A256=$B$13,$F$13,IF(A256=$B$14,$F$14,IF(AND('Simulador Pagos Oportunos'!$AF$45=2,L255=0),D255*(1+Z256),IF($AP$3=2,B256*AN256,D255*(1+Z256)))))))))","v":0},null,0,null,0,null,null,null,null,null,{"$f":"IF(OR('Simulador Pagos Oportunos'!$U$65=1,'Simulador Pagos Oportunos'!$U$65=3),0,L256*'Simulador Pagos Oportunos'!$U$66*'Simulador Pagos Oportunos'!$V$64)","v":0},null,{"$f":"IF(B256=0,\"\",IF('Simulador Pagos Oportunos'!$W$40=3,AJ256,IF('Simulador Pagos Oportunos'!$W$40=4,AK256,IF('Simulador Pagos Oportunos'!$W$40=5,AL256,IF('Simulador Pagos Oportunos'!$W$40=6,AI256,AH256)))))","v":""},null,0,null,{"$f":"IF(B256<=0,0,B256*'Simulador Pagos Oportunos'!$Y$76)","v":0},null,{"$f":"IF(B256<=0,0,IF('Simulador Pagos Oportunos'!$W$40=3,'Simulador Pagos Oportunos'!$J$52,IF('Simulador Pagos Oportunos'!$W$40=4,'Simulador Pagos Oportunos'!$L$52,IF('Simulador Pagos Oportunos'!$W$40=5,'Simulador Pagos Oportunos'!$N$52,IF('Simulador Pagos Oportunos'!$W$40=6,'Simulador Pagos Oportunos'!$H$52)))))","v":0},null,0,null,null,null,19,9,0,0,0,0,8.8999999999999968E-2,null,null,null,0.1225,0,0,0,0,0,0,0,{"$f":"IF(AO256=0,\"\",IF('Simulador Pagos Oportunos'!$W$40=3,AJ256,IF('Simulador Pagos Oportunos'!$W$40=4,AK256,IF('Simulador Pagos Oportunos'!$W$40=5,AL256,IF('Simulador Pagos Oportunos'!$W$40=6,AI256,AH256)))))","v":""},{"$f":"IF(AO256<=0,0,IF('Simulador Pagos Oportunos'!$Y$73=1,0,AO256*'Simulador Pagos Oportunos'!$Y$76))+IF(AO256<=0,0,IF('Simulador Pagos Oportunos'!$W$40=6,'Simulador Pagos Oportunos'!$H$52,IF('Simulador Pagos Oportunos'!$W$40=3,'Simulador Pagos Oportunos'!$J$52,IF('Simulador Pagos Oportunos'!$W$40=4,'Simulador Pagos Oportunos'!$L$52,'Simulador Pagos Oportunos'!$N$52))))","v":0},null,0,0,"",0,237]
[238,0,null,{"$f":"IF(B257+F257-D256<=0,B257+F257,IF(A257=$B$10,$F$10,IF(A257=$B$11,$F$11,IF(A257=$B$12,$F$12,IF(A257=$B$13,$F$13,IF(A257=$B$14,$F$14,IF(AND('Simulador Pagos Oportunos'!$AF$45=2,L256=0),D256*(1+Z257),IF($AP$3=2,B257*AN257,D256*(1+Z257)))))))))","v":0},null,0,null,0,null,{"$f":"IF(B257-H257=0,0,J255)","v":0},null,null,null,{"$f":"IF(OR('Simulador Pagos Oportunos'!$U$65=1,'Simulador Pagos Oportunos'!$U$65=3),0,L257*'Simulador Pagos Oportunos'!$U$66*'Simulador Pagos Oportunos'!$V$64)","v":0},null,{"$f":"IF(B257=0,\"\",IF('Simulador Pagos Oportunos'!$W$40=3,AJ257,IF('Simulador Pagos Oportunos'!$W$40=4,AK257,IF('Simulador Pagos Oportunos'!$W$40=5,AL257,IF('Simulador Pagos Oportunos'!$W$40=6,AI257,AH257)))))","v":""},null,0,null,{"$f":"IF(B257<=0,0,B257*'Simulador Pagos Oportunos'!$Y$76)","v":0},null,{"$f":"IF(B257<=0,0,IF('Simulador Pagos Oportunos'!$W$40=3,'Simulador Pagos Oportunos'!$J$52,IF('Simulador Pagos Oportunos'!$W$40=4,'Simulador Pagos Oportunos'!$L$52,IF('Simulador Pagos Oportunos'!$W$40=5,'Simulador Pagos Oportunos'!$N$52,IF('Simulador Pagos Oportunos'!$W$40=6,'Simulador Pagos Oportunos'!$H$52)))))","v":0},null,0,null,null,null,19,10,0,0,0,0,8.8999999999999968E-2,null,null,null,0.1225,0,0,0,0,0,0,0,{"$f":"IF(AO257=0,\"\",IF('Simulador Pagos Oportunos'!$W$40=3,AJ257,IF('Simulador Pagos Oportunos'!$W$40=4,AK257,IF('Simulador Pagos Oportunos'!$W$40=5,AL257,IF('Simulador Pagos Oportunos'!$W$40=6,AI257,AH257)))))","v":""},{"$f":"IF(AO257<=0,0,IF('Simulador Pagos Oportunos'!$Y$73=1,0,AO257*'Simulador Pagos Oportunos'!$Y$76))+IF(AO257<=0,0,IF('Simulador Pagos Oportunos'!$W$40=6,'Simulador Pagos Oportunos'!$H$52,IF('Simulador Pagos Oportunos'!$W$40=3,'Simulador Pagos Oportunos'!$J$52,IF('Simulador Pagos Oportunos'!$W$40=4,'Simulador Pagos Oportunos'!$L$52,'Simulador Pagos Oportunos'!$N$52))))","v":0},null,0,0,"",0,238]
[239,0,null,{"$f":"IF(B258+F258-D257<=0,B258+F258,IF(A258=$B$10,$F$10,IF(A258=$B$11,$F$11,IF(A258=$B$12,$F$12,IF(A258=$B$13,$F$13,IF(A258=$B$14,$F$14,IF(AND('Simulador Pagos Oportunos'!$AF$45=2,L257=0),D257*(1+Z258),IF($AP$3=2,B258*AN258,D257*(1+Z258)))))))))","v":0},null,0,null,0,null,null,null,null,null,{"$f":"IF(OR('Simulador Pagos Oportunos'!$U$65=1,'Simulador Pagos Oportunos'!$U$65=3),0,L258*'Simulador Pagos Oportunos'!$U$66*'Simulador Pagos Oportunos'!$V$64)","v":0},null,{"$f":"IF(B258=0,\"\",IF('Simulador Pagos Oportunos'!$W$40=3,AJ258,IF('Simulador Pagos Oportunos'!$W$40=4,AK258,IF('Simulador Pagos Oportunos'!$W$40=5,AL258,IF('Simulador Pagos Oportunos'!$W$40=6,AI258,AH258)))))","v":""},null,0,null,{"$f":"IF(B258<=0,0,B258*'Simulador Pagos Oportunos'!$Y$76)","v":0},null,{"$f":"IF(B258<=0,0,IF('Simulador Pagos Oportunos'!$W$40=3,'Simulador Pagos Oportunos'!$J$52,IF('Simulador Pagos Oportunos'!$W$40=4,'Simulador Pagos Oportunos'!$L$52,IF('Simulador Pagos Oportunos'!$W$40=5,'Simulador Pagos Oportunos'!$N$52,IF('Simulador Pagos Oportunos'!$W$40=6,'Simulador Pagos Oportunos'!$H$52)))))","v":0},null,0,null,null,null,19,11,0,0,0,0,8.8999999999999968E-2,null,null,null,0.1225,0,0,0,0,0,0,0,{"$f":"IF(AO258=0,\"\",IF('Simulador Pagos Oportunos'!$W$40=3,AJ258,IF('Simulador Pagos Oportunos'!$W$40=4,AK258,IF('Simulador Pagos Oportunos'!$W$40=5,AL258,IF('Simulador Pagos Oportunos'!$W$40=6,AI258,AH258)))))","v":""},{"$f":"IF(AO258<=0,0,IF('Simulador Pagos Oportunos'!$Y$73=1,0,AO258*'Simulador Pagos Oportunos'!$Y$76))+IF(AO258<=0,0,IF('Simulador Pagos Oportunos'!$W$40=6,'Simulador Pagos Oportunos'!$H$52,IF('Simulador Pagos Oportunos'!$W$40=3,'Simulador Pagos Oportunos'!$J$52,IF('Simulador Pagos Oportunos'!$W$40=4,'Simulador Pagos Oportunos'!$L$52,'Simulador Pagos Oportunos'!$N$52))))","v":0},null,0,0,"",0,239]
[240,0,null,{"$f":"IF(B259+F259-D258<=0,B259+F259,IF(A259=$B$10,$F$10,IF(A259=$B$11,$F$11,IF(A259=$B$12,$F$12,IF(A259=$B$13,$F$13,IF(A259=$B$14,$F$14,IF(AND('Simulador Pagos Oportunos'!$AF$45=2,L258=0),D258*(1+Z259),IF($AP$3=2,B259*AN259,D258*(1+Z259)))))))))","v":0},null,0,null,0,null,{"$f":"IF(B259-H259=0,0,J257)","v":0},null,null,null,{"$f":"IF(OR('Simulador Pagos Oportunos'!$U$65=1,'Simulador Pagos Oportunos'!$U$65=3),0,L259*'Simulador Pagos Oportunos'!$U$66*'Simulador Pagos Oportunos'!$V$64)","v":0},null,{"$f":"IF(B259=0,\"\",IF('Simulador Pagos Oportunos'!$W$40=3,AJ259,IF('Simulador Pagos Oportunos'!$W$40=4,AK259,IF('Simulador Pagos Oportunos'!$W$40=5,AL259,IF('Simulador Pagos Oportunos'!$W$40=6,AI259,AH259)))))","v":""},null,0,null,{"$f":"IF(B259<=0,0,B259*'Simulador Pagos Oportunos'!$Y$76)","v":0},null,{"$f":"IF(B259<=0,0,IF('Simulador Pagos Oportunos'!$W$40=3,'Simulador Pagos Oportunos'!$J$52,IF('Simulador Pagos Oportunos'!$W$40=4,'Simulador Pagos Oportunos'!$L$52,IF('Simulador Pagos Oportunos'!$W$40=5,'Simulador Pagos Oportunos'!$N$52,IF('Simulador Pagos Oportunos'!$W$40=6,'Simulador Pagos Oportunos'!$H$52)))))","v":0},null,0,null,null,null,20,0,0,0,0,0,8.8999999999999968E-2,null,null,null,0.1225,0,0,0,0,0,0,0,{"$f":"IF(AO259=0,\"\",IF('Simulador Pagos Oportunos'!$W$40=3,AJ259,IF('Simulador Pagos Oportunos'!$W$40=4,AK259,IF('Simulador Pagos Oportunos'!$W$40=5,AL259,IF('Simulador Pagos Oportunos'!$W$40=6,AI259,AH259)))))","v":""},{"$f":"IF(AO259<=0,0,IF('Simulador Pagos Oportunos'!$Y$73=1,0,AO259*'Simulador Pagos Oportunos'!$Y$76))+IF(AO259<=0,0,IF('Simulador Pagos Oportunos'!$W$40=6,'Simulador Pagos Oportunos'!$H$52,IF('Simulador Pagos Oportunos'!$W$40=3,'Simulador Pagos Oportunos'!$J$52,IF('Simulador Pagos Oportunos'!$W$40=4,'Simulador Pagos Oportunos'!$L$52,'Simulador Pagos Oportunos'!$N$52))))","v":0},null,0,0,"",0,240]
[null,null,null,{"$f":"IF(B260+F260-D259<=0,B260+F260,IF(A260=$B$10,$F$10,IF(A260=$B$11,$F$11,IF(A260=$B$12,$F$12,IF(A260=$B$13,$F$13,IF(A260=$B$14,$F$14,IF(AND('Simulador Pagos Oportunos'!$AF$45=2,L259=0),D259*(1+Z260),IF($AP$3=2,B260*AN260,D259*(1+Z260)))))))))","v":0},null,0,null,"Amortización (b)",null,null,null,"Prepagos a capital (c)",null,null,null,null,null,null,null,"Seguro de \nvida y desempleo (d)",null,"Seguro de daños \n(e)",null,"Pago Mensual (a+b+c+d+e)"]
[null,null,null,{"$f":"SUM(D20:D259)","v":0},null,{"$f":"SUM(F20:F259)","v":0},null,{"$f":"SUM(H20:H259)","v":0},null,null,null,{"$f":"SUM(L20:L259)","v":0},null,null,null,null,null,null,null,{"$f":"SUM(T20:T259)","v":0},null,{"$f":"SUM(V20:V259)","v":0},null,{"$f":"SUM(X20:X259)","v":0}]
[]
[null,null,null,null,null,null,null,null,null,null,null,null,null,null,null,null,null,null,null,null,null,null,null,{"$f":"SUM(X20:X260)","v":0}]

{"sheet":"Carat_cont_PO","index":8,"n_rows":46,"n_cols":4,"rows_kept":46,"cut":false,"hidden":false,"merged":[[19,1,19,3],[20,0,20,3],[21,0,21,1],[21,2,21,3],[22,0,22,1],[17,0,19,0],[18,1,18,3],[17,1,17,3],[1,0,1,3],[6,1,6,3],[7,0,7,3],[8,0,8,3],[16,1,16,3],[11,1,14,1],[45,0,45,3],[37,0,37,3],[38,0,38,3],[39,0,39,3],[40,0,40,3],[43,0,43,3],[44,0,44,3],[41,0,41,3],[27,0,27,3],[22,2,22,3],[42,0,42,3],[23,0,23,3],[24,0,24,3],[25,0,25,3],[26,0,26,3],[35,0,35,3],[36,0,36,3],[32,2,34,3],[28,0,28,3]]}
[]
["Carátula de Crédito "]
[null,null,null,"Nombre del Acreditado y/o Coacreditado:"]
[null,null,null,{"$f":"IF('Simulador Pagos Oportunos'!C13=\"\",\"\",'Simulador Pagos Oportunos'!C13)","v":""}]
[null,null,null,"Número de Crédito:"]
[]
["Nombre comercial del producto:",{"$f":"\"CREDICONSTRUCCION PAGOS OPORTUNOS\"&\" \"&A18","v":"CREDICONSTRUCCION PAGOS OPORTUNOS 20 años"}]
[]
["Tipo de Crédito: Crédito Hipotecario "]
["CAT","TASA DE INTERES","MONTO O LINEA DE","MONTO TOTAL A PAGAR O"]
["(Costo Anual Total)","ANUAL ORDINARIA","CRÉDITO","MINIMO A PAGAR"]
[{"$f":"'Tabla Pagos Oportunos'!$M$13","v":0},{"$f":"IF('Simulador Pagos Oportunos'!C23=0,0,'Simulador Pagos Oportunos'!$AC$77)","v":0},{"$f":"'Simulador Pagos Oportunos'!$AC$78","v":0},{"$f":"IFERROR(SUM('Tabla Pagos Oportunos'!X20:X259),0)","v":0}]
["Sin IVA",null,null,"Moneda en"]
["Para fines",null,null,"Pesos"]
["informativos y de",null,null,"Mexicanos "]
["comparación","Tasa Fija"]
["PLAZO DEL CRÉDITO:","Fecha Límite de pago:"]
[{"$f":"LOWER('Simulador Pagos Oportunos'!$AC$76)","v":"20 años"},{"$f":"IF(AND(DAY('Simulador Pagos Oportunos'!E10)>=3,DAY('Simulador Pagos Oportunos'!E10)<=16),\"Si tu fecha de corte es el día 3, tu fecha de pago es el día 3 de cada mes.\",\"Si tu fecha de corte es el día 17, tu fecha de pago es el día 17 de cada mes.\")","v":"Si tu fecha de corte es el día 17, tu fecha de pago es el día 17 de cada mes."}]
[null,"Fecha de corte:"]
[null,{"$f":"IF(AND(DAY('Simulador Pagos Oportunos'!E10)>=3,DAY('Simulador Pagos Oportunos'!E10)<=16),\"Si tu fecha de disposición es entre el dia 3 y 16, tu fecha de corte será el día 3 de cada mes.\",\"Si tu fecha de disposición es entre el día 17 y 2, tu fecha de corte será el día 17 de cada mes.\")","v":"Si tu fecha de disposición es entre el día 17 y 2, tu fecha de corte será el día 17 de cada mes."}]
["COMISIONES RELEVANTES"]
[{"$f":"\"Apertura: \"&TEXT('Tabla Pagos Oportunos'!$AN$3,\"$###,###.00\")","v":"Apertura: $.00"},null,"Cobranza: $500.00 más IVA por pago tardío "]
[{"$f":"\"Prepago: \"&IF('Simulador Pagos Oportunos'!$U$65=1,\"0% \",\"3% \")&\"más IVA sobre el monto anticipado\"","v":"Prepago: 0% más IVA sobre el monto anticipado"},null,"Para otras comisiones consulte la cláusula décimo tercera"]
["ADVERTENCIAS"]
[]
["Incumplir tus obligaciones te puede generar comisiones e intereses moratorios. "]
["Contratar créditos que excedan tu capacidad de pago afecta tu historial crediticio. "]
["El avalista, obligado solidario o coacreditado responderá como obligado principal por el total del pago frente a la Institución Financiera. "]
["SEGUROS"]
["Seguros Obligatorios:","Aseguradora:","Cláusulas:"]
[]
["Vida y Desempleo","Cardif México Seguros de Vida,          S.A. de C.V.","Vigésima Cuarta"]
[null,null,"Scotiabank Inverlat le ofrece al acreditado y/o coacreditado, la posibilidad de contratar a nombre de este (os) último(s) los seguros establecidos en la cláusula vigésima cuarta. Lo anterior sin perjuicio del derecho innegable que el cliente tiene de contratarlos a través de terceros."]
["Daños y Responsabilidad Civil","Cardif México Seguros Generales, S.A. de C.V."]
[]
["ESTADO DE CUENTA"]
["Envío a Domicilio ü              Consulta vía Internet ___            Envío por Correo Electrónico ___"]
["Aclaraciones y reclamaciones:"]
["Unidad Especializada de Aclaraciones:"]
["Domicilio: Río Usumacinta S/N, esq. con Fernando Montes de Oca, Col. La Presita, Municipio de Cuautitlán Izcalli, Estado de México, C.P. 54763"]
["Teléfono: (55) 5123 0990"]
["Correo electrónico: une@scotiabank.com.mx"]
["Página de Internet: www.scotiabank.com.mx "]
[{"$f":"\"Registro de Contratos de Adhesión Núm:  \"&IF('Simulador Pagos Oportunos'!C23=0,\"\",IFERROR(VLOOKUP('Simulador Pagos Oportunos'!AF45&\"-2-1\",RECAS!$A$3:$D$6,4,0),\"Revisa los datos ingresados\"))","v":"Registro de Contratos de Adhesión Núm:  "}]
["Comisión Nacional para la Protección y Defensa de los Usuarios de Servicios Financieros (CONDUSEF):"]
["Teléfono: 800 999 8080 y (55) 5340 0999. Página de Internet. www.condusef.gob.mx "]

{"sheet":"RECAS","index":9,"n_rows":6,"n_cols":8,"rows_kept":6,"cut":false,"hidden":false,"merged":[[0,1,0,4]]}
[null,"RELACIÓN RECAS"]
["Clave","No.","Nombre","RECA","Fecha de expedición","Tipo Crédito","Esquema","Mancomunado"]
[{"$f":"F3&\"-\"&G3&\"-\"&H3","v":"1-2-1"},13,"Construcción Pagos Oportunos","0319-138-007468/27-00065-0124","2024-01-15",1,2,1]
[{"$f":"F4&\"-\"&G4&\"-\"&H4","v":"2-2-1"},14,"Construcción Con Apoyo Pagos Oportunos","0319-138-007469/27-00066-0124","2024-01-15",2,2,1]
[{"$f":"F5&\"-\"&G5&\"-\"&H5","v":"1-1-1"},15,"Construcción Valora","0319-138-007470/27-00067-0124","2024-01-15",1,1,1]
[{"$f":"F6&\"-\"&G6&\"-\"&H6","v":"2-1-1"},16,"Construcción Con Apoyo Valora","0319-138-007471/26-00068-0124","2024-01-15",2,1,1]